BEGIN:VCALENDAR
METHOD:PUBLISH
VERSION:2.0
PRODID:-//NW Council//Meetings//EN
BEGIN:VEVENT
SUMMARY:RTF PAC Meeting
DESCRIPTION: Within a week of the meeting, you should be able to view the agenda and how to participate. https://www.nwcouncil.org/meeting/rtf-pac-meeting-november-17-2016
X-ALT-DESC: Within a week of the meeting, you should be able to view the agenda and how to participate. <a href="https://www.nwcouncil.org/meeting/rtf-pac-meeting-november-17-2016">https://www.nwcouncil.org/meeting/rtf-pac-meeting-november-17-2016</a>
DTSTART;VALUE=DATE:20161117
DTEND;VALUE=DATE:20161117
LOCATION:851 SW 6th Avenue, #1100, Portland,  Oregon
ORGANIZER:NW Council
DTSTAMP:20260422T011827.367673Z
UID:meeting-32
STATUS:CONFIRMED
END:VEVENT
END:VCALENDAR