BEGIN:VCALENDAR
METHOD:PUBLISH
VERSION:2.0
PRODID:-//NW Council//Meetings//EN
BEGIN:VEVENT
SUMMARY:RTF Policy Advisory Committee Meeting
DESCRIPTION: Within a week of the meeting, you should be able to view the agenda and how to participate. https://www.nwcouncil.org/meeting/rtf-policy-advisory-committee-meeting-september-11-2019
X-ALT-DESC: Within a week of the meeting, you should be able to view the agenda and how to participate. <a href="https://www.nwcouncil.org/meeting/rtf-policy-advisory-committee-meeting-september-11-2019">https://www.nwcouncil.org/meeting/rtf-policy-advisory-committee-meeting-september-11-2019</a>
DTSTART:20190911T163000Z
DTEND:20190911T190000Z
LOCATION:851 SW 6th Avenue, Suite 1100, Portland , Oregon
ORGANIZER:NW Council
DTSTAMP:20260422T012344.385685Z
UID:meeting-611
STATUS:CONFIRMED
END:VEVENT
END:VCALENDAR