BEGIN:VCALENDAR
METHOD:PUBLISH
VERSION:2.0
PRODID:-//NW Council//Meetings//EN
BEGIN:VEVENT
SUMMARY:RTF Policy Advisory Committee:  Natural Gas Working Group
DESCRIPTION: Within a week of the meeting, you should be able to view the agenda and how to participate. https://www.nwcouncil.org/meeting/rtf-policy-advisory-committee-natural-gas-working-group-2024-04-11
X-ALT-DESC: Within a week of the meeting, you should be able to view the agenda and how to participate. <a href="https://www.nwcouncil.org/meeting/rtf-policy-advisory-committee-natural-gas-working-group-2024-04-11">https://www.nwcouncil.org/meeting/rtf-policy-advisory-committee-natural-gas-working-group-2024-04-11</a>
DTSTART:20240411T200000Z
DTEND:20240411T210000Z
LOCATION:Webinar
ORGANIZER:NW Council
DTSTAMP:20260422T012507.982208Z
UID:meeting-1740
STATUS:CONFIRMED
END:VEVENT
END:VCALENDAR