BEGIN:VCALENDAR
METHOD:PUBLISH
VERSION:2.0
PRODID:-//NW Council//Meetings//EN
BEGIN:VEVENT
SUMMARY:RTF Policy Advisory Committee: Primary Research Working Group
DESCRIPTION: Within a week of the meeting, you should be able to view the agenda and how to participate. https://www.nwcouncil.org/meeting/rtf-policy-advisory-committee-primary-research-working-group-2024-04-16
X-ALT-DESC: Within a week of the meeting, you should be able to view the agenda and how to participate. <a href="https://www.nwcouncil.org/meeting/rtf-policy-advisory-committee-primary-research-working-group-2024-04-16">https://www.nwcouncil.org/meeting/rtf-policy-advisory-committee-primary-research-working-group-2024-04-16</a>
DTSTART:20240416T210000Z
DTEND:20240416T220000Z
LOCATION:Webinar
ORGANIZER:NW Council
DTSTAMP:20260422T012320.444931Z
UID:meeting-1741
STATUS:CONFIRMED
END:VEVENT
END:VCALENDAR