BEGIN:VCALENDAR
METHOD:PUBLISH
VERSION:2.0
PRODID:-//NW Council//Meetings//EN
BEGIN:VEVENT
SUMMARY:RTF Policy Advisory Committee: Primary Research Working Group
DESCRIPTION: Within a week of the meeting, you should be able to view the agenda and how to participate. https://www.nwcouncil.org/meeting/rtf-policy-advisory-committee-primary-research-working-group-2024-04-25
X-ALT-DESC: Within a week of the meeting, you should be able to view the agenda and how to participate. <a href="https://www.nwcouncil.org/meeting/rtf-policy-advisory-committee-primary-research-working-group-2024-04-25">https://www.nwcouncil.org/meeting/rtf-policy-advisory-committee-primary-research-working-group-2024-04-25</a>
DTSTART:20240425T160000Z
DTEND:20240425T170000Z
LOCATION:Webinar
ORGANIZER:NW Council
DTSTAMP:20260422T012319.978920Z
UID:meeting-1742
STATUS:CONFIRMED
END:VEVENT
END:VCALENDAR