BEGIN:VCALENDAR
METHOD:PUBLISH
VERSION:2.0
PRODID:-//NW Council//Meetings//EN
BEGIN:VEVENT
SUMMARY:RTF Policy Advisory Committee Q4
DESCRIPTION: Within a week of the meeting, you should be able to view the agenda and how to participate. https://www.nwcouncil.org/meeting/rtf-policy-advisory-committee-q4-2024-12-04
X-ALT-DESC: Within a week of the meeting, you should be able to view the agenda and how to participate. <a href="https://www.nwcouncil.org/meeting/rtf-policy-advisory-committee-q4-2024-12-04">https://www.nwcouncil.org/meeting/rtf-policy-advisory-committee-q4-2024-12-04</a>
DTSTART:20241204T210000Z
DTEND:20241205T000000Z
LOCATION:Webinar
ORGANIZER:NW Council
DTSTAMP:20260421T014408.323439Z
UID:meeting-1766
STATUS:CONFIRMED
END:VEVENT
END:VCALENDAR