BEGIN:VCALENDAR
METHOD:PUBLISH
VERSION:2.0
PRODID:-//NW Council//Meetings//EN
BEGIN:VEVENT
SUMMARY:System Analysis Advisory Committee
DESCRIPTION: Within a week of the meeting, you should be able to view the agenda and how to participate. https://www.nwcouncil.org/meeting/system-analysis-advisory-committee-2022-08-31
X-ALT-DESC: Within a week of the meeting, you should be able to view the agenda and how to participate. <a href="https://www.nwcouncil.org/meeting/system-analysis-advisory-committee-2022-08-31">https://www.nwcouncil.org/meeting/system-analysis-advisory-committee-2022-08-31</a>
DTSTART:20220831T160000Z
DTEND:20220831T190000Z
LOCATION:Webinar
ORGANIZER:NW Council
DTSTAMP:20260422T011821.886971Z
UID:meeting-1600
STATUS:CONFIRMED
END:VEVENT
END:VCALENDAR