BEGIN:VCALENDAR
METHOD:PUBLISH
VERSION:2.0
PRODID:-//NW Council//Meetings//EN
BEGIN:VEVENT
SUMMARY:System Analysis Advisory Committee
DESCRIPTION: Within a week of the meeting, you should be able to view the agenda and how to participate. https://www.nwcouncil.org/meeting/system-analysis-advisory-committee-2026-05-06
X-ALT-DESC: Within a week of the meeting, you should be able to view the agenda and how to participate. <a href="https://www.nwcouncil.org/meeting/system-analysis-advisory-committee-2026-05-06">https://www.nwcouncil.org/meeting/system-analysis-advisory-committee-2026-05-06</a>
DTSTART:20260506T160000Z
DTEND:20260506T193000Z
LOCATION:Webinar
ORGANIZER:NW Council
DTSTAMP:20260422T185211.285538Z
UID:meeting-1926
STATUS:CONFIRMED
END:VEVENT
END:VCALENDAR