BEGIN:VCALENDAR
METHOD:PUBLISH
VERSION:2.0
PRODID:-//NW Council//Meetings//EN
BEGIN:VEVENT
SUMMARY:System Analysis Advisory Committee - Modeling Techniques and Assumptions (AURORA)
DESCRIPTION: Within a week of the meeting, you should be able to view the agenda and how to participate. https://www.nwcouncil.org/meeting/system-analysis-advisory-committee-modeling-techniques-and-assumptions-aurora-april-11-2019
X-ALT-DESC: Within a week of the meeting, you should be able to view the agenda and how to participate. <a href="https://www.nwcouncil.org/meeting/system-analysis-advisory-committee-modeling-techniques-and-assumptions-aurora-april-11-2019">https://www.nwcouncil.org/meeting/system-analysis-advisory-committee-modeling-techniques-and-assumptions-aurora-april-11-2019</a>
DTSTART:20190411T163000Z
DTEND:20190411T220000Z
LOCATION:Webinar
ORGANIZER:NW Council
DTSTAMP:20260422T012129.688280Z
UID:meeting-620
STATUS:CONFIRMED
END:VEVENT
END:VCALENDAR