BEGIN:VCALENDAR
METHOD:PUBLISH
VERSION:2.0
PRODID:-//NW Council//Meetings//EN
BEGIN:VEVENT
SUMMARY:Toxics Workgroup Meeting
DESCRIPTION: Within a week of the meeting, you should be able to view the agenda and how to participate. https://www.nwcouncil.org/meeting/toxics-workgroup-meeting-june-23-2016
X-ALT-DESC: Within a week of the meeting, you should be able to view the agenda and how to participate. <a href="https://www.nwcouncil.org/meeting/toxics-workgroup-meeting-june-23-2016">https://www.nwcouncil.org/meeting/toxics-workgroup-meeting-june-23-2016</a>
DTSTART;VALUE=DATE:20160623
DTEND;VALUE=DATE:20160623
LOCATION:851 SW Sixth Ave., Suite 1100, Portland,  OR
ORGANIZER:NW Council
DTSTAMP:20260422T011924.402183Z
UID:meeting-114
STATUS:CONFIRMED
END:VEVENT
END:VCALENDAR