{"text_format":"1","workbook":"xlsx","n_sheets":25,"sheets":["Overview","LOG","MLIST","FILES","APPLIC","BASE","FEAS","STOCK","TURN","ACHIEV","RAMP","CHAR","Climate Zone","CODE","Floor","Vars","Labels","Lookup","EUI","CBSA Heat Type Data 2014","CBSA Data 2014 New cohort","BPA Taxonomy","Forecast Data","Sheet1","Sheet2"],"not_rendered":{"charts":4,"images":1,"macros":1,"external_links":36,"defined_names":37,"comments":11,"pivot_tables":9},"unopened":[],"bounds":{"document_bytes":16777216,"sheet_cells":100000,"rows_first":2000,"rows_last":500,"rows_between":2000,"halvings":0,"cell_chars":16384,"cell_head_chars":4096},"cells_cut":0,"cells_raw":0,"read":"whole","date_system":"1900"}

{"sheet":"Overview","index":0,"n_rows":98,"n_cols":2,"rows_kept":98,"cut":false,"hidden":false,"merged":[]}
["ComMaster Overview"]
["Version Date"]
[]
[]
[]
[]
[]
[]
[]
[]
[]
[]
[]
[]
[]
[]
[]
[]
[]
[]
[]
[]
[]
[]
[]
[]
[]
[]
[]
[]
[]
[]
[]
[]
[]
[]
[]
[]
[]
[]
[]
[]
[]
[]
[]
[]
[]
[]
[]
[]
[]
[]
[]
[]
[]
[]
[]
[]
[]
[]
[]
[]
[]
[]
[]
[]
[]
[]
[]
[]
[]
[]
[]
[]
[]
[]
[]
[]
[]
[]
[]
["Sheet Name","Contents"]
["Overview","Overview of model structure"]
["Update Log","Update Log:  Log for updates to Draft 6th Plan Assessment "]
["MLIST","Master List of measure bundles"]
["FILES","List and links to measure-level files. Plus housekeeping and administrative functions."]
["APPLIC","Applicability factor for the measure bundle.  Fraction of stock the measure applies to."]
["BASE","Baseline penetration of measure bundles.  Estimated fraction of stock where the measure is already in place."]
["STOCK","Vintage cohort for measure bundles."]
["TURN","Turnover rate for stock to which measure applies."]
["ACHIEVE","Achievable rate of acquisition for measure bundles by year"]
["CODE","Tables developed to estimate regional baseline penetration for various elements of energy codes by jurisdiction"]
["CHAR","Key characteristics for stock by vintage cohort and building subtype.  Used to develop regional application of measures. "]
["FLOOR","Floor area forecast summary used to develop data in CHAR"]
["VARS","List of variables and definitions used in the CHAR tab and elsewhere in the files."]
["Labels","Map of building types labels from different sources."]
["Lookup","Lookup table for vintage cohort"]
["EUI","Reference EUI from various sources including CBECS & CBSA.  "]

{"sheet":"LOG","index":1,"n_rows":43,"n_cols":6,"rows_kept":43,"cut":false,"hidden":false,"merged":[]}
[]
["Com_Master Revision Log"]
[null,"Item","Description","Who","When","Note"]
[null,{"$f":"ROW()-ROW($B$3)","v":1},"Eliminate old STOCK tab"]
[null,{"$f":"ROW()-ROW($B$3)","v":2},"Revise FEAS tab - move second block from APPLIC to FEAS","KS","2019-08-09","Cut and pasted from APPLIC to FEAS - seemed to work ok. The links followed correctly."]
[null,3,"Revisit CHAR tab/matrix - Change to EXISTING vs. New"]
[null,4,"Move ramp rates from ACHIEV tab to RAMP tab and align rows","KS","2019-08-12"]
[null,5,"Fix row offset error in sheet TURN","CG","2019-11-05","Done manually"]
[null,6,"Kevin check data in TURN for cooking equipment. ","KS"]
[null,7,"Think about getting rid of TURN and putting data in native measure workbooks","CG",null,"Good Idea.  But need to fix all workbooks that use TURN.  Tricky."]
[null,8,"Added column in \"FILES\" to report cumulative savings 2027","CG","2019-11-05","Made dynamic date"]
[null,9,"Added new Ramp Rate Curve","CG","2019-11-05","LO80Fast"]
[null,10,"Check and update if needed RAMPS - some ld shapes in there sync with RES"]
[null,11,"Clean up old and useless sheets"]
[null,12,"Update CHAR with data from CBSA 2019 on fuel shares "]
[null,13,"Update CHAR on floor area splits per 2021P units forecast"]
[]
[]
[]
[]
[]
[]
[]
[]
["Measure workbook build checklist"]
[null,"Item","Description","Who","When","Note"]
[null,null,"Update measure name in Com_Master MLIST (green) tab and all yellow tabs"]
[null,null,"Verify the MAX is working correctly"]
[null,null,"Run ProCost"]
[null,null,"Update cost data to 2016$"]
[null,null,"Check the leftover new SF is being added to Retro"]
[null,null,"Customize the ForRPM tab - column headings must be exact"]
[null,null,"--Make sure there is a TRC BC ratio column"]
[null,null,"--Make sure the column between shape has zero values (not blank)"]
[null,null,"--make sure the sum of the shapes matches the measure savings"]
[null,null,"--make sure there are two peak columns"]
[]
[]
[]
["Measure naming rules of Thumb"]
[null,null,"Different name if it has different savings, cost or life"]
[null,null,"Retro, NR, or New not needed in the name, but separate row in ForRPM needed"]
[null,null,"By building type?"]

{"sheet":"MLIST","index":2,"n_rows":260,"n_cols":35,"rows_kept":260,"cut":false,"hidden":false,"merged":[]}
["MLIST","Master Measure List, Bundled Measures"]
[null,"It all starts here…"]
[]
[1,2,3,4,5,6,7]
[]
[]
[]
[]
[]
[null,null,null,null,null,null,null,null,null,"Measure Sources and Stauts"]
["End Use  (BPA Taxonomy)","Base Measure Name","VCohort","Measure Index Name","Unit of Savings","Measure Bundle Description","Number of Measures in Bundle","Descriptive Name","Segment","Savings Sources","2021P Technical Savings (aMW)","Baseline","Baseline Saturation","Baseline Notes","Cost Source","Cost Notes","New from 7P","6P Vintage","Status","Status notes","Category","TAP_Name","Measure bundle Count"]
["Compressed Air","Compressors","New",{"$f":"CONCATENATE(B12,\"-\",C12)","v":"Compressors-New"},null,"Upgrade CS or VS compressors",null,null,"Some",null,null,null,null,null,null,null,null,null,null,null,"Compressed Air System Controls",null,1,null,null,null,null,null,null,null,null,null,null,null,"Compressed Air"]
["Compressed Air","Compressors","NR","Compressors-NR",null,"Upgrade CS or VS compressors",null,null,"Some",null,null,null,null,null,null,null,null,null,null,null,"Compressed Air System Improvements",null,{"$f":"IF(B13=B12,W12,W12+1)","v":1},null,null,null,null,null,null,null,null,null,null,null,"Electronics"]
["Electronics","Laptop","NR","Laptop-NR","Count","ENERGY STAR Laptops",null,"ENERGY STAR Laptops","All",null,null,null,null,null,null,null,null,null,null,null,"Computer Technologies",null,{"$f":"IF(B14=#REF!,#REF!,#REF!+1)","v":{"$error":"#REF!"}},null,null,null,null,null,null,null,null,null,null,null,"HVAC"]
["Electronics","PowerStrips","Retro","PowerStrips-Retro","Count","Smart Plug Power Strips",null,"Smart Plug Power Strips","All",null,null,null,null,null,null,null,null,null,null,null,"Plug Load ",null,{"$f":"IF(B15=B14,W14,W14+1)","v":{"$error":"#REF!"}},null,null,null,null,null,null,null,null,null,null,null,"Lighting"]
["Electronics","PowerStrips","New",{"$f":"CONCATENATE(B16,\"-\",C16)","v":"PowerStrips-New"},"Count","Smart Plug Power Strips"]
["Electronics","Data Centers","NR","Data Centers-NR","Count","Data Centers; Virtualization, efficient servers, network gear, power supplies, and other measures at NR ",null,"Data Centers","All",null,null,null,null,null,null,null,null,null,null,null,"Computer Technologies",null,{"$f":"IF(B17=B15,W15,W15+1)","v":{"$error":"#REF!"}},null,null,null,null,null,null,null,null,null,null,null,"Refrigeration"]
["Electronics","Desktop-WA","NR","Desktop-WA-NR","Count","Desktop computers in WA (state standard applies)",null,null,"All",null,null,null,null,null,null,null,null,null,null,null,"Computer Technologies",null,{"$error":"#REF!"},null,null,null,null,null,null,null,null,null,null,null,"Water Heating"]
["Electronics","Desktop","NR","Desktop-NR","Count","Commercial Computer Desktop",null,"ENERGY STAR Desktop","All",null,null,null,null,null,null,null,null,null,null,null,"Computer Technologies",null,{"$error":"#REF!"}]
["Electronics","Laptop-WA","NR","Laptop-WA-NR","Count","Laptop computers in WA (state standard applies)"]
["Food Preparation","Pre-Rinse Spray Valve","Retro","Pre-Rinse Spray Valve-Retro","Count","Low-flow pre-rinse spray valves for restaurant kitchens, cafeterias, and food-serving",null,"Pre-Rinse Spray Valve","Some",null,null,null,null,null,null,null,null,null,null,null,"Water Using Devices",null,{"$f":"IF(B21=B19,W19,W19+1)","v":{"$error":"#REF!"}}]
["Food Preparation","Steamer","NR","Steamer-NR","Count","Efficient cooking equipment such as hot food holders, steamers and ovens",null,"Cooking Equipment","All",null,null,null,null,null,null,null,null,null,null,null,"Cooking",null,{"$error":"#REF!"}]
["Food Preparation","Combo Oven","NR",{"$f":"CONCATENATE(B23,\"-\",C23)","v":"Combo Oven-NR"},"Count","Efficient cooking equipment such as hot food holders, steamers and ovens"]
["Food Preparation","HFHC","NR","HFHC-NR","Count","Efficient cooking equipment such as hot food holders, steamers and ovens"]
["Food Preparation","Convection Oven","NR","Convection Oven-NR","Count","Efficient cooking equipment such as hot food holders, steamers and ovens"]
["Food Preparation","Fryer","NR","Fryer-NR","Count","Efficient cooking equipment such as hot food holders, steamers and ovens"]
["Food Preparation","Griddle","NR","Griddle-NR","Count","Efficient cooking equipment such as hot food holders, steamers and ovens"]
["Food Preparation","Overwrapper","NR",{"$f":"CONCATENATE(B28,\"-\",C28)","v":"Overwrapper-NR"},"Count","Over-wrapper (primarily found in grocery stores)"]
["HVAC","DHP","New","DHP-New","kWh per KSF BT","Ductless Heat Pump",null,"Ductless Heat Pump","All",null,null,null,null,null,null,null,null,null,null,null,"HVAC System Improvements",null,{"$f":"IF(B29=B22,W22,W22+1)","v":{"$error":"#REF!"}}]
["HVAC","DHP","Retro","DHP-Retro","kWh per KSF BT","Ductless Heat Pump",null,"Ductless Heat Pump","All",null,null,null,null,null,null,null,null,null,null,null,"HVAC System Improvements",null,{"$error":"#REF!"}]
["HVAC","Glass","New","Glass-New","kWh per KSF BT","Windows and glazing more efficiecnt that code or standard practice",null,"Windows","All",null,null,null,null,null,null,null,null,null,null,null,"Envelope",null,{"$error":"#REF!"}]
["HVAC","Glass","NR","Glass-NR","kWh per KSF BT","Windows and glazing more efficiecnt that code or standard practice",null,"Windows","All",null,null,null,null,null,null,null,null,null,null,null,"Envelope",null,{"$error":"#REF!"}]
["HVAC","ARC","New","ARC-New","kWh per KSF BT","Suite of measures and control strategies for buildings served by package roof top HVAC units",null,"Advanced Rooftop Controller","Most",null,null,null,null,null,null,null,null,null,null,null,"HVAC System Improvements",null,{"$f":"IF(B33=#REF!,#REF!,#REF!+1)","v":{"$error":"#REF!"}}]
["HVAC","ARC","NR","ARC-NR","kWh per KSF BT","Suite of measures and control strategies for buildings served by package roof top HVAC units",null,"Advanced Rooftop Controller","Most",null,null,null,null,null,null,null,null,null,null,null,"HVAC System Improvements",null,{"$error":"#REF!"}]
["HVAC","ARC","Retro","ARC-Retro","kWh per KSF BT","Suite of measures and control strategies for buildings served by package roof top HVAC units",null,"Advanced Rooftop Controller","Most",null,null,null,null,null,null,null,null,null,null,null,"HVAC System Improvements",null,{"$error":"#REF!"}]
["HVAC","Chiller-Upgrade","New","Chiller-Upgrade-New","kWh per KSF BT","Higher efficiency chiller plant",null,"Variable Speed Chiller","Some",null,null,null,null,null,null,null,null,null,null,null,"Envelope",null,{"$error":"#REF!"}]
["HVAC","Chiller-Upgrade","NR","Chiller-Upgrade-NR","kWh per KSF BT","Higher efficiency chiller plant",null,"Variable Speed Chiller","Some",null,null,null,null,null,null,null,null,null,null,null,"Envelope",null,{"$error":"#REF!"}]
["HVAC","Chiller-System","Retro","Chiller-System-Retro","kWh per KSF BT","Various upgrades and tuneups to the chiller system",null,"Chiller System Retrofit","Some"]
["HVAC","Fans","Retro","Fans-Retro","Count","Fans",null,null,"All",null,null,null,null,null,null,null,null,null,null,null,"Whole Bldg/Meter Level System Improvements",null,{"$f":"IF(B39=#REF!,#REF!,#REF!+1)","v":{"$error":"#REF!"}}]
["HVAC","Fans","NR","Fans-NR","Count","Fans"]
["HVAC","Fans","New","Fans-New","Count","Fans"]
["HVAC","VHE-DOAS","NR","VHE-DOAS-NR","kWh per KSF BT"]
["HVAC","VHE-DOAS","New","VHE-DOAS-New","kWh per KSF BT"]
["HVAC",null,"NR","-NR",null,null,null,null,"all"]
["HVAC","Commercial EM","New","Commercial EM-New","kWh per KSF BT","Energy Management in New Buildings",null,"SEM in New buildings","all",null,null,null,null,null,null,null,null,null,null,null,"HVAC System Improvements",null,{"$f":"IF(B45=B39,W39,W39+1)","v":{"$error":"#REF!"}}]
["HVAC","Commercial EM","Retro","Commercial EM-Retro","kWh per KSF BT","Energy Management in Existing Buildings",null,"SEM in Existing Buildings","all",null,null,null,null,null,null,null,null,null,null,null,"HVAC System Improvements",null,{"$error":"#REF!"}]
["HVAC","Economizer","Retro","Economizer-Retro","kWh per KSF BT","Economizer Improvements",null,"Economizer maintenance and repair","Some",null,null,null,null,null,null,null,null,null,null,null,"HVAC System Improvements",null,{"$error":"#REF!"}]
["HVAC","Demand Control Ventilation","New","Demand Control Ventilation-New","kWh per KSF BT","Fan control strategies, DCV and Fleet Strategy DOAS with heat recovery in simple HVAC systems",null,"Demand Control Ventilation","All",null,null,null,null,null,null,null,null,null,null,null,"HVAC System Controls",null,{"$error":"#REF!"}]
["HVAC","Demand Control Ventilation","NR","Demand Control Ventilation-NR","kWh per KSF BT","Fan control strategies, DCV and Fleet Strategy DOAS with heat recovery in simple HVAC systems",null,"Demand Control Ventilation","All",null,null,null,null,null,null,null,null,null,null,null,"HVAC System Controls",null,{"$error":"#REF!"}]
["HVAC","Demand Control Ventilation","Retro","Demand Control Ventilation-Retro","kWh per KSF BT","Fan control strategies, DCV and Fleet Strategy DOAS with heat recovery in simple HVAC systems",null,"Demand Control Ventilation","All",null,null,null,null,null,null,null,null,null,null,null,"HVAC System Controls",null,{"$error":"#REF!"}]
["HVAC","DCV-Lab Hood","Retro","DCV-Lab Hood-Retro","Count","Effiicient fume hoods in labs",null,"Premium Fume Hood","Some",null,null,null,null,null,null,null,null,null,null,null,"Pumps and Fans",null,{"$error":"#REF!"}]
["HVAC","DCV-Kitchen","Retro","DCV-Kitchen-Retro","Count","Demand control ventilation systems for large restaurant hoods",null,"DCV Restaurant Hood","Restaurant",null,null,null,null,null,null,null,null,null,null,null,"Pumps and Fans",null,{"$error":"#REF!"}]
["HVAC","DCV-Parking Garage","Retro","DCV-Parking Garage-Retro","kWh per kSF BT","Demand control ventilation systems for parking garages",null,"DCV Parking Garage","All",null,null,null,null,null,null,null,null,null,null,null,"Pumps and Fans",null,{"$error":"#REF!"}]
["HVAC","Weatherization - School","Retro",{"$f":"CONCATENATE(B54,\"-\",C54)","v":"Weatherization - School-Retro"},"kWh per KSF BT","School building weatherization",null,"Weatherization - School","K-12",null,null,null,null,null,null,null,null,null,null,null,"Envelope",null,{"$error":"#REF!"}]
["HVAC","Energy Recovery Ventilator","NR","Energy Recovery Ventilator-NR","Count","Heat Recovery Ventilation",null,"Heat Recovery Ventilation","All",null,null,null,null,null,null,null,null,null,null,null,"Computer Technologies",null,{"$error":"#REF!"}]
["HVAC","AC Heat Recovery for Water Heating","NR","AC Heat Recovery for Water Heating-NR","Count","AC Heat Recovery for Water Heating",null,"AC Heat Recovery for Water Heating","All",null,null,null,null,null,null,null,null,null,null,null,"Heat Recovery",null,{"$error":"#REF!"}]
["HVAC","Room Occupancy Sensors in Lodging","Retro","Room Occupancy Sensors in Lodging-Retro","Count","Room Occupancy Sensors in Lodging",null,"Room Occupancy Sensors in Lodging","Lodging",null,null,null,null,null,null,null,null,null,null,null,"Whole Bldg/Meter Level System Improvements",null,{"$error":"#REF!"}]
["HVAC","Pool Blankets","Retro","Pool Blankets-Retro","Count","Pool Blankets",null,"Pool Blankets","Some",null,null,null,null,null,null,null,null,null,null,null,"Pool System Improvements",null,{"$f":"IF(B58=#REF!,#REF!,#REF!+1)","v":{"$error":"#REF!"}}]
["HVAC","ConnectedThermostats","New",{"$f":"CONCATENATE(B59,\"-\",C59)","v":"ConnectedThermostats-New"},"kWh per KSF BT","Web-Enabled Thermostats",null,"Web-Enabled Thermostats","Some",null,null,null,null,null,null,null,null,null,null,null,"HVAC System Controls",null,{"$f":"IF(B59=B57,W57,W57+1)","v":{"$error":"#REF!"}}]
["HVAC","ConnectedThermostats","Retro","ConnectedThermostats-Retro","kWh per KSF BT","Web-Enabled Thermostats",null,"Web-Enabled Thermostats","Some",null,null,null,null,null,null,null,null,null,null,null,"HVAC System Controls",null,{"$f":"IF(B60=B58,W58,W58+1)","v":{"$error":"#REF!"}}]
["HVAC","CircPumps","NR","CircPumps-NR","Count","Circulation Pump ECM and drive",null,"Circulation Pump ECM and drive","Some",null,null,null,null,null,null,null,null,null,null,null,"HVAC System Controls",null,{"$error":"#REF!"}]
["HVAC","Circpumps","New","Circpumps-New","Count","Circulation Pump ECM and drive",null,"Circ Pump ECM and drive","Some",null,null,null,null,null,null,null,null,null,null,null,"Pumps and Fans",null,{"$error":"#REF!"}]
["HVAC","VRF-DOAS","New","VRF-DOAS-New","kWh per KSF BT","Variable Refrigerant Flow",null,{"$f":"F63","v":"Variable Refrigerant Flow"},"Some",null,null,null,null,null,null,null,null,null,null,null,"HVAC System Improvements",null,{"$error":"#REF!"}]
["HVAC","VRF-DOAS","NR","VRF-DOAS-NR","kWh per KSF BT","Variable Refrigerant Flow",null,{"$f":"F64","v":"Variable Refrigerant Flow"},"Some",null,null,null,null,null,null,null,null,null,null,null,"Envelope",null,{"$error":"#REF!"}]
["HVAC","Evaporator Roof Top HVAC","Retro","Evaporator Roof Top HVAC-Retro","kWh per KSF BT","Evaporator Roof Top HVAC",null,"Evaporator Roof Top HVAC","Some",null,null,null,null,null,null,null,null,null,null,null,"HVAC System Improvements",null,{"$error":"#REF!"}]
["HVAC","HeatPumps","NR","HeatPumps-NR","kWh per KSF BT"]
["HVAC","HeatPumps","New","HeatPumps-New","kWh per KSF BT"]
["HVAC","VCHP","NR","VCHP-NR"]
["HVAC","VCHP","New","VCHP-New"]
["HVAC","UnitaryAC","NR","UnitaryAC-NR"]
["HVAC","UnitaryAC","New","UnitaryAC-New"]
["HVAC","Com-PTAC","NR","Com-PTAC-NR"]
["HVAC","Com-PTAC","New","Com-PTAC-New"]
["HVAC","COM-PTHP","NR","COM-PTHP-NR"]
["HVAC","COM-PTHP","New","COM-PTHP-New"]
["HVAC","COM-PTHP","Retro","COM-PTHP-Retro"]
["HVAC","Com-DOAS","New","Com-DOAS-New"]
["HVAC","Com-DOAS","Retro","Com-DOAS-Retro"]
["HVAC","Secondary Glazing Systems","Retro","Secondary Glazing Systems-Retro","kWh per KSF BT","Secondary Glazing Systems",null,"Secondary Glazing Systems","All",null,null,null,null,null,null,null,null,null,null,null,"Envelope",null,{"$f":"IF(B79=B65,W65,W65+1)","v":{"$error":"#REF!"}}]
["Lighting","LPD Package","New","LPD Package-New","kWh per KSF BT","Lamp, ballast and fixture improvements to lighting power density",null,"Lighting Power Density","All",null,null,null,null,null,null,null,null,null,null,null,"Lamps/Ballasts/Fixtures",null,{"$error":"#REF!"}]
["Lighting","LPD Package","NR","LPD Package-NR","kWh per KSF BT","Lamp, ballast and fixture improvements to lighting power density",null,"Lighting Power Density","All",null,null,null,null,null,null,null,null,null,null,null,"Lamps/Ballasts/Fixtures",null,{"$error":"#REF!"}]
["Lighting","LPD Package","Retro","LPD Package-Retro","kWh per KSF BT","Lamp, ballast and fixture improvements to lighting power density",null,"Lighting Power Density","All",null,null,null,null,null,null,null,null,null,null,null,"Lamps/Ballasts/Fixtures",null,{"$error":"#REF!"}]
["Lighting","Top Daylighting","New","Top Daylighting-New","kWh per KSF BT","Skylights with lighting controls",null,"Daylighting with Skylights","All",null,null,null,null,null,null,null,null,null,null,null,"Lighting Controls",null,{"$error":"#REF!"}]
["Lighting","Perimeter Daylighting Controls Advanced","New","Perimeter Daylighting Controls Advanced-New","kWh per KSF BT","Perimeter daylighting controls",null,"Daylighting with Windows","All",null,null,null,null,null,null,null,null,null,null,null,"Lighting Controls",null,{"$error":"#REF!"}]
["Lighting","Perimeter Daylighting Controls Advanced","NR","Perimeter Daylighting Controls Advanced-NR","kWh per KSF BT","Perimeter daylighting controls",null,"Daylighting with Windows","All",null,null,null,null,null,null,null,null,null,null,null,"Lighting Controls",null,{"$error":"#REF!"}]
["Lighting","Lighting Controls Interior","New","Lighting Controls Interior-New","kWh per KSF BT","Occupancy controls for lighting areas not required by code such as warehouse aisle, classrooms",null,"Lighting Controls Interior","All",null,null,null,null,null,null,null,null,null,null,null,"Lighting Controls",null,{"$error":"#REF!"}]
["Lighting","Lighting Controls Interior","NR","Lighting Controls Interior-NR","kWh per KSF BT","Occupancy controls for lighting areas not required by code such as warehouse aisle, classrooms",null,"Lighting Controls Interior","All",null,null,null,null,null,null,null,null,null,null,null,"Lighting Controls",null,{"$error":"#REF!"}]
["Lighting","Exterior Building Lighting","New","Exterior Building Lighting-New","kWh per KSF BT","Effiicient façade, walkway, area and decorative exterior lighting, such as LED",null,"Exterior Building Lighting","All",null,null,null,null,null,null,null,null,null,null,null,"Lamps/Ballasts/Fixtures",null,{"$error":"#REF!"}]
["Lighting","Exterior Building Lighting","NR","Exterior Building Lighting-NR","kWh per KSF BT","Effiicient façade, walkway, area and decorative exterior lighting, such as LED",null,"Exterior Building Lighting","All",null,null,null,null,null,null,null,null,null,null,null,"Lamps/Ballasts/Fixtures",null,{"$error":"#REF!"}]
["Lighting","Street and Roadway Lighting","New","Street and Roadway Lighting-New","Count","Efficient street and roadway lighting, LED and induction",null,"Street and Roadway Lighting","Non-Building",null,null,null,null,null,null,null,null,null,null,null,"Lamps/Ballasts/Fixtures",null,{"$error":"#REF!"}]
["Lighting","Street and Roadway Lighting","Retro","Street and Roadway Lighting-Retro","Count","Efficient street and roadway lighting, LED and induction",null,"Street and Roadway Lighting","Non-Building",null,null,null,null,null,null,null,null,null,null,null,"Lamps/Ballasts/Fixtures",null,{"$error":"#REF!"}]
["Lighting","Parking Garage Lighting","New","Parking Garage Lighting-New","kWh per KSF","Efficient parking garage lighting with controls",null,"Parking Garage Lighting","All",null,null,null,null,null,null,null,null,null,null,null,"Lamps/Ballasts/Fixtures","Lamps/Ballasts/Fixtures w/Controls",{"$error":"#REF!"}]
["Lighting","Parking Garage Lighting","Retro","Parking Garage Lighting-Retro","kWh per KSF","Efficient parking garage lighting with controls",null,"Parking Garage Lighting","All",null,null,null,null,null,null,null,null,null,null,null,"Lamps/Ballasts/Fixtures","Lamps/Ballasts/Fixtures w/Controls",{"$error":"#REF!"}]
["Lighting","Bi-Level Stairwell Lighting","NR","Bi-Level Stairwell Lighting-NR","kWh per KSF BT","Bi-Level occupancy sensor control on stairwell ",null,"Bi-Level Stairwell","All",null,null,null,null,null,null,null,null,null,null,null,"Lighting Controls",null,{"$error":"#REF!"}]
["Lighting","Low Power LF Lamps","NR",{"$f":"CONCATENATE(B95,\"-\",C95)","v":"Low Power LF Lamps-NR"},"lamp","Shift mix of 32W, 28W and 25W lamps towards low watt lamps",null,"High Performance Low Power Fluorescent Lamps","All",null,null,null,null,null,null,null,null,null,null,null,"Lamps/Ballasts/Fixtures",null,{"$error":"#REF!"}]
["Lighting","LEC Exit Sign","New",{"$f":"CONCATENATE(B96,\"-\",C96)","v":"LEC Exit Sign-New"},"sign","Light Emiting Capacitor Exit Sign",null,"LEC Exit Sign","All",null,null,null,null,null,null,null,null,null,null,null,null,null,{"$error":"#REF!"}]
["Lighting","LEC Exit Sign","NR",{"$f":"CONCATENATE(B97,\"-\",C97)","v":"LEC Exit Sign-NR"},"sign","Light Emiting Capacitor Exit Sign",null,"LEC Exit Sign","All",null,null,null,null,null,null,null,null,null,null,null,null,null,{"$error":"#REF!"}]
["Refrigeration","Commercial Ice Maker","NR","Commercial Ice Maker-NR","count",null,null,null,"All",null,null,null,null,null,null,null,null,null,null,null,"Motors",null,{"$error":"#REF!"}]
["Refrigeration","Commercial Beverage Vending Machine","NR","Commercial Beverage Vending Machine-NR","Count",null,null,null,"All",null,null,null,null,null,null,null,null,null,null,null,"Motors",null,{"$error":"#REF!"}]
["Motors/Drives","Clean Water PUmps","Retro","Clean Water PUmps-Retro","Count",null,null,null,"Some",null,null,null,null,null,null,null,null,null,null,null,"Pool System Improvements",null,{"$f":"IF(B100=B99,W99,W99+1)","v":{"$error":"#REF!"}}]
["Electronics","Servers & Power Supplies","NR","Servers & Power Supplies-NR","Count","Stand-alone estimate for servers and power supplies in embedded data centers",null,null,"All",null,null,null,null,null,null,null,null,null,null,null,"Motors",null,{"$error":"#REF!"}]
["Process Loads","Elevators","Retro","Elevators-Retro",null,null,null,null,null,null,null,null,null,null,null,null,null,null,null,null,"Motors",null,{"$error":"#REF!"}]
["Motors/Drives","Clean Water Pumps","NR",{"$f":"CONCATENATE(B103,\"-\",C103)","v":"Clean Water Pumps-NR"},"Count"]
["Motors/Drives","Clean Water Pumps","New","Clean Water Pumps-New","Count"]
["Process Loads","EBHeaterControl","Retro",{"$f":"CONCATENATE(B105,\"-\",C105)","v":"EBHeaterControl-Retro"},"Count","Engine Generator Block Heaters (for standby generators)",null,"Engine Generator Block Heaters","All",null,null,null,null,null,null,null,null,null,null,null,"Process Loads System Controls",null,{"$f":"IF(B105=#REF!,#REF!,#REF!+1)","v":{"$error":"#REF!"}}]
["Refrigeration","GroceryRefrigeration","NR","GroceryRefrigeration-NR"]
["Refrigeration","GroceryRefrigeration","Retro","GroceryRefrigeration-Retro","kWh per KSF BT","Grocery store refrigeration measures",null,"Grocery Refrigeration Bundle","Grocery",null,null,null,null,null,null,null,null,null,null,null,"Refrigeration System Improvements",null,{"$f":"IF(B107=B105,W105,W105+1)","v":{"$error":"#REF!"}}]
["Refrigeration","GroceryRefrigeration","New","GroceryRefrigeration-New"]
["Refrigeration","Packaged Refrigeration Equipment","New","Packaged Refrigeration Equipment-New","Count","Efficient refrigerators and freezers, beverage merchandizers, ice makers and vending machines",null,"Packaged Refrigeration Equipment","Grocery",null,null,null,null,null,null,null,null,null,null,null,"Packaged Refrigeration",null,{"$f":"IF(B109=B107,W107,W107+1)","v":{"$error":"#REF!"}}]
["Refrigeration","Refrig-Freezer","NR","Refrig-Freezer-NR","Count","Commercial Energy STAR 4.0 Refrigerators and Freezers per RTF",null,"Appliances - Com Refrigerators and Freezers","All",null,null,null,null,null,null,null,null,null,null,null,"Refrigeration System Improvements",null,{"$error":"#REF!"}]
["Refrigeration","Refrig-Freezer","New","Refrig-Freezer-New","Count",null,null,null,"All",null,null,null,null,null,null,null,null,null,null,null,"Refrigeration System Improvements",null,{"$error":"#REF!"}]
["Refrigeration","Water Cooler Controls","NR","Water Cooler Controls-NR","Count","Water Cooler Controls",null,"Water Cooler Controls","Some",null,null,null,null,null,null,null,null,null,null,null,"Refrigeration System Controls",null,{"$error":"#REF!"}]
["Water Heating","HPWH ResType","New","HPWH ResType-New","Count","Residential size HPWH in commercial buildings",null,"Heat Pump Water Heater - small size","All",null,null,null,null,null,null,null,null,null,null,null,"Water Heaters",null,{"$error":"#REF!"}]
["Water Heating","HPWH ResType","NR","HPWH ResType-NR","Count","Residential size HPWH in commercial buildings",null,"Heat Pump Water Heater - small size","All",null,null,null,null,null,null,null,null,null,null,null,"Water Heaters",null,{"$error":"#REF!"}]
["Water Heating","Washer","New","Washer-New","Count","Efficient (Energy STAR) clothes washers in commercial buildings",null,"Appliances - Clothes Washers"]
["Water Heating","Washer","NR","Washer-NR","Count","Efficient (Energy STAR) clothes washers in commercial buildings",null,"Appliances - Clothes Washers","Some",null,null,null,null,null,null,null,null,null,null,null,"Water Using Devices",null,{"$f":"IF(B116=B114,W114,W114+1)","v":{"$error":"#REF!"}}]
["Water Heating","Showerheads","NR","Showerheads-NR","Count","Efficient showerheads",null,"DHW - Showerheads","Some",null,null,null,null,null,null,null,null,null,null,null,"Water Using Devices",null,{"$error":"#REF!"}]
["Water Heating","Showerheads","Retro","Showerheads-Retro","Count",null,null,null,"All",null,null,null,null,null,null,null,null,null,null,null,"Water Using Devices",null,{"$error":"#REF!"}]
[]
[]
[]
[]
[]
[]
[]
[]
[]
[]
[]
[]
[]
[]
[]
[]
[]
[]
[]
[]
[]
["BPA Taxonomy EndUse_Name","Category_Name","TAP_Name"]
["Compressed Air","Compressed Air System Controls","Compressed Air Control Improvements (non-VFD)"]
["Electronics","Compressed Air System Improvements","Compressed Air Control Improvements (VFD)"]
["Food Preparation","Computer Technologies","Compressed Air System Compressor Improvements (non-VFD)"]
["HVAC","Cooking","Compressed Air System Compressor Improvements (VFD)"]
["Lighting","Delamping","Compressed Air System Demand Side Improvements"]
["Motors/Drives","Elevators","Compressed Air System Dryer Improvements"]
["Process Loads","Envelope","Compressed Air System Regulation Improvements"]
["Refrigeration","Escalators","Compressed Air System Storage Improvements"]
["Water Heating","Heat Recovery","Compressed Air System Supply Side Improvements"]
["Whole Bldg/Meter Level","HVAC System Controls","Compressors"]
[null,"HVAC System Improvements","Heat Recovery Improvements"]
[null,"Lamps/Ballasts/Fixtures","Network Computer Power Management"]
[null,"Lighting Controls","Power Supplies"]
[null,"Motors","Server Virtualization/Load Reduction"]
[null,"Motors/Drives Controls","Servers"]
[null,"Packaged Refrigeration","Power Strips"]
[null,"Plug Load ","Cooking Equipment"]
[null,"Pool System Improvements","Electric Combination Ovens"]
[null,"Process Loads System Controls","Electric Commercial Steam Cookers"]
[null,"Process Loads System Improvements","Electric Convection Ovens"]
[null,"Pumps and Fans","Electric Fryers"]
[null,"Refrigeration System Controls","Hot Food Holding Cabinets"]
[null,"Refrigeration System Improvements","Air Sealing"]
[null,"Signs and Signals","Insulation "]
[null,"System Efficiency Improvements","Windows"]
[null,"Water Heaters","Humidification/Dehumidification Improvements"]
[null,"Water Heating Controls","Energy Management Systems/System Controls"]
[null,"Water Using Devices","HVAC Control Improvements (non-VFD)"]
[null,"Whole Bldg/Meter Level System Improvements","HVAC Control Improvements (VFD)"]
[null,null,"Pneumatic to DDC Control Improvements"]
[null,null,"Thermostats"]
[null,null,"Air-Source Heat Pumps"]
[null,null,"Building Commissioning Improvements"]
[null,null,"Centrifugal Chiller Improvements"]
[null,null,"Duct Insulation"]
[null,null,"Ductless Heat Pumps"]
[null,null,"Economizer System Improvements"]
[null,null,"Interactive HVAC System Improvements"]
[null,null,"Reciprocating Chiller Improvements"]
[null,null,"Rooftop Units"]
[null,null,"Rotary Screw Chiller Improvements"]
[null,null,"Scroll Chiller Improvements"]
[null,null,"Storage Tank Insulation Improvements"]
[null,null,"Variable Refrigerant Flow System Improvements"]
[null,null,"Ventilation System Improvements"]
[null,null,"Water-Source Heat Pumps"]
[null,null,"Delamping"]
[null,null,"Lamps/Ballasts"]
[null,null,"Lamps/Ballasts w/Controls"]
[null,null,"Lamps/Ballasts w/Delamping"]
[null,null,"Lamps/Ballasts w/Delamping and Controls"]
[null,null,"Lamps/Ballasts/Fixtures"]
[null,null,"Lamps/Ballasts/Fixtures w/Controls"]
[null,null,"Lamps/Ballasts/Fixtures w/Delamping"]
[null,null,"Lamps/Ballasts/Fixtures w/Delamping and Controls"]
[null,null,"Control Panels"]
[null,null,"Daylighting"]
[null,null,"Occupancy Sensors"]
[null,null,"Photocells"]
[null,null,"Timers"]
[null,null,"LED Exit Signs"]
[null,null,"LED Traffic Signals"]
[null,null,"Motor Rewind"]
[null,null,"Motors"]
[null,null,"Electronically Commutated Motor (ECM)"]
[null,null,"Motors/Drives Control Improvements (non-VFD)"]
[null,null,"Motors/Drives Control Improvements (VFD)"]
[null,null,"Motors/Drives Installation on Fan System"]
[null,null,"Motors/Drives Installation on Vacuum Pumps"]
[null,null,"Elevators"]
[null,null,"Escalators"]
[null,null,"Process Loads Control Improvements (non-VFD)"]
[null,null,"Process Loads Control Improvements (VFD)"]
[null,null,"Interactive Process Loads System Improvements"]
[null,null,"Centrifugal Pump System Improvements"]
[null,null,"Fan System Improvements"]
[null,null,"Pump System Improvements"]
[null,null,"Turbine Pump System Improvements"]
[null,null,"Vacuum Pump System Improvements"]
[null,null,"Freezer Decommissioning"]
[null,null,"Freezers"]
[null,null,"Ice Makers"]
[null,null,"Packaged Refrigeration System Improvements"]
[null,null,"Refrigerator Decommissioning"]
[null,null,"Refrigerators"]
[null,null,"Vending Machines"]
[null,null,"Condensor Fan System Improvements"]
[null,null,"Evaporator Coil Fan System Improvements"]
[null,null,"Evaporator Fan System Improvements"]
[null,null,"Defrost Control Improvements"]
[null,null,"Multiplex "]
[null,null,"Refrigeration Control Improvements (non-VFD)"]
[null,null,"Refrigeration Control Improvements (VFD)"]
[null,null,"Auto Closers"]
[null,null,"Case Lighting"]
[null,null,"Case Lighting Delamping"]
[null,null,"Cases"]
[null,null,"Chiller Improvements"]
[null,null,"Condensors"]
[null,null,"Doors"]
[null,null,"Gasket Replacement"]
[null,null,"Insulation"]
[null,null,"Interactive Refrigeration System Improvements"]
[null,null,"Motion Sensors"]
[null,null,"Multiplex"]
[null,null,"Night Covers"]
[null,null,"Strip Curtains"]
[null,null,"Suction Line Insulation"]
[null,null,"Pool Blankets"]
[null,null,"Pool System Improvements"]
[null,null,"Water Heaters"]
[null,null,"Water Heating Control Improvements (non-VFD)"]
[null,null,"Water Heating Control Improvements (VFD)"]
[null,null,"Aerators"]
[null,null,"Clothes Washers"]
[null,null,"Dishwashers"]
[null,null,"Pre Rinse Spray Valves"]
[null,null,"Showerheads"]
[null,null,"Interactive Whole Bldg/Meter Level System Improvements"]
[null,null,"Small Office Package"]

{"sheet":"FILES","index":3,"n_rows":219,"n_cols":35,"rows_kept":219,"cut":false,"hidden":false,"merged":[]}
["FILES","Map to Supporting Files"]
[]
[null,null,null,null,null,null,null,"Report Year","Report Year"]
[null,null,null,null,null,null,null,2041,2027]
[]
[null,null,null,null,null,null,"Total Commercial Technical Achievable Potential thus far:",{"$f":"SUM(H12:H121)","v":1309.2998240088004},{"$f":"SUM(I12:I121)","v":244.32533051698593}]
[]
[]
[]
[null,1,2,3,4,5,6,7,8,9,10,11,12,13,14,15,16,17,18,19,20,21,22,23,24,25,26,27]
["End-Use","Measure Index Name","File Link","Supply Curve Worksheet","Lost Opp","Descriptive Name","Most Recent Substantive Update","Cumulative Technically  Achievable Savings in 2041 in MWa","Cumulative Technically  Achievable Savings in 2027 in MWa","aMW in New Building Non Plug Load","Comparable Estimate for 7th Plan (Pasted Values)","Final Check for Draft Plan",null,null,"Analyst","Comments Reviewed & Updates Complete","Run ProCost with Final Inputs (Gas)","Check/Repair RPM Links","SC Curve to Auto High/Low Forecast","SC Curve measure references linked to MList","Check Linked Files and Range Names.  Correct link to ComMaster","Load Shapes Updated","Draft Plan Elect Shape","Draft Plan Gas Shape","New Electric Shape","New Gas Shape"]
[{"$f":"MLIST!A12","v":"Compressed Air"},{"$f":"MLIST!D12","v":"Compressors-New"},"Com-AirComp-2021P_V7.xlsx",null,null,{"$f":"MLIST!H12","v":0},null,{"$f":"'[3]SC-NEW'!$C$10","v":1.6913903501199252}]
[{"$f":"MLIST!A13","v":"Compressed Air"},{"$f":"MLIST!D13","v":"Compressors-NR"},"Com-AirComp-2021P_V7.xlsx",null,null,{"$f":"MLIST!H13","v":0},null,{"$f":"'[3]SC-NR'!$C$10","v":8.1024916590086384}]
[{"$f":"MLIST!A14","v":"Electronics"},{"$f":"MLIST!D14","v":"Laptop-NR"},"Com-Computers-2021P_V3.xlsx",null,null,{"$f":"MLIST!H14","v":"ENERGY STAR Laptops"},null,{"$f":"[4]forRPM!$AF$6","v":0}]
[{"$f":"MLIST!A15","v":"Electronics"},{"$f":"MLIST!D15","v":"PowerStrips-Retro"},"Com-PowerStrips_2021P_V1.xlsm",null,null,{"$f":"MLIST!H15","v":"Smart Plug Power Strips"},null,{"$f":"'[5]SC New'!$C$10","v":2.4619939284049042},{"$f":"'[5]SC New'!$J$156","v":0.18570620893097342}]
[{"$f":"MLIST!A16","v":"Electronics"},{"$f":"MLIST!D16","v":"PowerStrips-New"},"Com-PowerStrips_2021P_V1.xlsm",null,null,{"$f":"MLIST!H16","v":0},null,{"$f":"'[5]SC Retro'!$C$10","v":18.11133186295968},{"$f":"'[5]SC Retro'!$J$156","v":4.9785371054390586}]
[{"$f":"MLIST!A17","v":"Electronics"},{"$f":"MLIST!D17","v":"Data Centers-NR"},"Com-Servers&PowerSupply-2021P_V8.xlsx",null,null,{"$f":"MLIST!H17","v":"Data Centers"},null,{"$f":"'[6]SC-NR Servers&PS'!Y$128","v":49.549926334557505},{"$f":"'[6]SC-NR Servers&PS'!$P$127","v":9.8489242762186322}]
[{"$f":"MLIST!A18","v":"Electronics"},{"$f":"MLIST!D18","v":"Desktop-WA-NR"},"Com-Computers-2021P_V3.xlsx",null,null,{"$f":"MLIST!H18","v":0},null,{"$f":"[4]forRPM!$AF$3","v":6.284665903717209}]
[{"$f":"MLIST!A19","v":"Electronics"},{"$f":"MLIST!D19","v":"Desktop-NR"},"Com-Computers-2021P_V3.xlsx",null,null,{"$f":"MLIST!H19","v":"ENERGY STAR Desktop"},null,{"$f":"[4]forRPM!$AF$4","v":0.44585201504548272}]
[{"$f":"MLIST!A20","v":"Electronics"},{"$f":"MLIST!D20","v":"Laptop-WA-NR"},"Com-Computers-2021P_V3.xlsx",null,null,{"$f":"MLIST!H20","v":0},null,{"$f":"[4]forRPM!$AF$5","v":0.44585201504548272}]
[{"$f":"MLIST!A21","v":"Food Preparation"},{"$f":"MLIST!D21","v":"Pre-Rinse Spray Valve-Retro"},"COM-PreRinseSpray-2021P_V1.xlsm",null,null,{"$f":"MLIST!H21","v":"Pre-Rinse Spray Valve"},null,{"$f":"'[7]SC-Retro'!$C$10","v":0.91019937228839731}]
[{"$f":"MLIST!A22","v":"Food Preparation"},{"$f":"MLIST!D22","v":"Steamer-NR"},"Com-Cooking-2021P_V2.xlsm",null,null,{"$f":"MLIST!B22","v":"Steamer"},null,{"$f":"VLOOKUP(F22,'[8]SC-NR'!D$60:AB$66,23,FALSE)","v":7.7406815582914454},{"$f":"VLOOKUP(F22,'[8]SC-NR'!D$60:Y$66,($I$4-2020),FALSE)","v":0.61928650607082003}]
[{"$f":"MLIST!A23","v":"Food Preparation"},{"$f":"MLIST!D23","v":"Combo Oven-NR"},"Com-Cooking-2021P_V2.xlsm",null,null,{"$f":"MLIST!B23","v":"Combo Oven"},null,{"$f":"VLOOKUP(F23,'[8]SC-NR'!D$60:AB$66,23,FALSE)","v":7.6864097732590082},{"$f":"VLOOKUP(F23,'[8]SC-NR'!D$60:Y$66,($I$4-2020),FALSE)","v":0.40115817893759115}]
[{"$f":"MLIST!A24","v":"Food Preparation"},{"$f":"MLIST!D24","v":"HFHC-NR"},"Com-Cooking-2021P_V2.xlsm",null,null,{"$f":"MLIST!B24","v":"HFHC"},null,{"$f":"VLOOKUP(F24,'[8]SC-NR'!D$60:AB$66,23,FALSE)","v":6.0572227979524342},{"$f":"VLOOKUP(F24,'[8]SC-NR'!D$60:Y$66,($I$4-2020),FALSE)","v":0.21885920783994423}]
[{"$f":"MLIST!A25","v":"Food Preparation"},{"$f":"MLIST!D25","v":"Convection Oven-NR"},"Com-Cooking-2021P_V2.xlsm",null,null,{"$f":"MLIST!B25","v":"Convection Oven"},null,{"$f":"VLOOKUP(F25,'[8]SC-NR'!D$60:AB$66,23,FALSE)","v":1.9058291224654205},{"$f":"VLOOKUP(F25,'[8]SC-NR'!D$60:Y$66,($I$4-2020),FALSE)","v":9.4231256193010787E-2}]
[{"$f":"MLIST!A26","v":"Food Preparation"},{"$f":"MLIST!D26","v":"Fryer-NR"},"Com-Cooking-2021P_V2.xlsm",null,null,{"$f":"MLIST!B26","v":"Fryer"},null,{"$f":"VLOOKUP(F26,'[8]SC-NR'!D$60:AB$66,23,FALSE)","v":0.41455863117881908},{"$f":"VLOOKUP(F26,'[8]SC-NR'!D$60:Y$66,($I$4-2020),FALSE)","v":4.26425185094811E-2}]
[{"$f":"MLIST!A27","v":"Food Preparation"},{"$f":"MLIST!D27","v":"Griddle-NR"},"Com-Cooking-2021P_V2.xlsm",null,null,{"$f":"MLIST!B27","v":"Griddle"},null,{"$f":"VLOOKUP(F27,'[8]SC-NR'!D$60:AB$66,23,FALSE)","v":3.0444355240066256},{"$f":"VLOOKUP(F27,'[8]SC-NR'!D$60:Y$66,($I$4-2020),FALSE)","v":9.5334512215492995E-2}]
[{"$f":"MLIST!A28","v":"Food Preparation"},{"$f":"MLIST!D28","v":"Overwrapper-NR"},"Com-Cooking-2021P_V2.xlsm",null,null,{"$f":"MLIST!B28","v":"Overwrapper"},null,{"$f":"VLOOKUP(F28,'[8]SC-NR'!D$60:AB$66,23,FALSE)","v":2.0007328642164928},{"$f":"VLOOKUP(F28,'[8]SC-NR'!D$60:Y$66,($I$4-2020),FALSE)","v":7.5181973214882389E-2}]
[{"$f":"MLIST!A29","v":"HVAC"},{"$f":"MLIST!D29","v":"DHP-New"},"Com-DHP-2021P_v1.xlsm",null,null,{"$f":"MLIST!H29","v":"Ductless Heat Pump"},null,{"$f":"'[9]SC New'!$C$10","v":2.1577299716369405},{"$f":"'[9]SC New'!$J$156","v":0.22946256990759012}]
[{"$f":"MLIST!A30","v":"HVAC"},{"$f":"MLIST!D30","v":"DHP-Retro"},"Com-DHP-2021P_v1.xlsm",null,null,{"$f":"MLIST!H30","v":"Ductless Heat Pump"},null,{"$f":"'[9]SC Retro'!$C$10","v":26.820617192324473},{"$f":"'[9]SC Retro'!$J$156","v":18.416371731525967}]
[{"$f":"MLIST!A31","v":"HVAC"},{"$f":"MLIST!D31","v":"Glass-New"},null,null,null,{"$f":"MLIST!H31","v":"Windows"}]
[{"$f":"MLIST!A32","v":"HVAC"},{"$f":"MLIST!D32","v":"Glass-NR"},null,null,null,{"$f":"MLIST!H32","v":"Windows"}]
[{"$f":"MLIST!A33","v":"HVAC"},{"$f":"MLIST!D33","v":"ARC-New"},null,null,null,{"$f":"MLIST!H33","v":"Advanced Rooftop Controller"}]
[{"$f":"MLIST!A34","v":"HVAC"},{"$f":"MLIST!D34","v":"ARC-NR"},null,null,null,{"$f":"MLIST!H34","v":"Advanced Rooftop Controller"}]
[{"$f":"MLIST!A35","v":"HVAC"},{"$f":"MLIST!D35","v":"ARC-Retro"},"Com-ARC-2021P_V3.xlsm",null,null,{"$f":"MLIST!H35","v":"Advanced Rooftop Controller"},null,{"$f":"'[10]SC Retro'!$C$10","v":23.041901856992141}]
[{"$f":"MLIST!A36","v":"HVAC"},{"$f":"MLIST!D36","v":"Chiller-Upgrade-New"},"Com-Chiller-2021P_V1.xlsm",null,null,{"$f":"MLIST!H36","v":"Variable Speed Chiller"},null,{"$f":"'[11]SC New'!$C$10","v":3.2548373133302007}]
[{"$f":"MLIST!A37","v":"HVAC"},{"$f":"MLIST!D37","v":"Chiller-Upgrade-NR"},"Com-Chiller-2021P_V1.xlsm",null,null,{"$f":"MLIST!H37","v":"Variable Speed Chiller"},null,{"$f":"'[11]SC NR'!$C$10","v":6.6012574951664433}]
[{"$f":"MLIST!A38","v":"HVAC"},{"$f":"MLIST!D38","v":"Chiller-System-Retro"},"Com-Chiller-2021P_V1.xlsm",null,null,{"$f":"MLIST!H38","v":"Chiller System Retrofit"},null,{"$f":"'[11]SC Retro'!$C$10","v":11.979544606435926}]
[{"$f":"MLIST!A39","v":"HVAC"},{"$f":"MLIST!D39","v":"Fans-Retro"},"COM-Fans-2021P_V7.xlsm",null,null,{"$f":"MLIST!H39","v":0},null,{"$f":"'[12]SC Retro'!$C$10","v":44.92072960633773},{"$f":"'[12]SC Retro'!$J$156","v":12.594526764560264}]
[{"$f":"MLIST!A40","v":"HVAC"},{"$f":"MLIST!D40","v":"Fans-NR"},"COM-Fans-2021P_V7.xlsm",null,null,null,null,{"$f":"'[13]SC-NR'!$C$10","v":87.785591996453888},{"$f":"'[13]SC-NR'!$J$193","v":0}]
[{"$f":"MLIST!A41","v":"HVAC"},{"$f":"MLIST!D41","v":"Fans-New"},"COM-Fans-2021P_V7.xlsm",null,null,null,null,{"$f":"'[13]SC-New'!$C$10","v":32.328729469780555},{"$f":"'[13]SC-New'!$J$192","v":0}]
[{"$f":"MLIST!A42","v":"HVAC"},{"$f":"MLIST!D42","v":"VHE-DOAS-NR"},"Com-VHE-DOAS-2021P_V1.xlsm"]
[{"$f":"MLIST!A43","v":"HVAC"},{"$f":"MLIST!D43","v":"VHE-DOAS-New"},"Com-VHE-DOAS-2021P_V1.xlsm",null,null,null,null,{"$f":"'[14]SC New'!$C$10","v":13.427648086230709}]
[{"$f":"MLIST!A44","v":"HVAC"},{"$f":"MLIST!D44","v":"-NR"},null,null,null,null,null,{"$f":"'[13]SC-Retro'!$C$10","v":1.3639903456802993}]
[{"$f":"MLIST!A45","v":"HVAC"},{"$f":"MLIST!D45","v":"Commercial EM-New"},null,null,null,{"$f":"MLIST!H45","v":"SEM in New buildings"}]
[{"$f":"MLIST!A46","v":"HVAC"},{"$f":"MLIST!D46","v":"Commercial EM-Retro"},null,null,null,{"$f":"MLIST!H46","v":"SEM in Existing Buildings"}]
[{"$f":"MLIST!A47","v":"HVAC"},null,null,null,null,{"$f":"MLIST!H47","v":"Economizer maintenance and repair"}]
[{"$f":"MLIST!A48","v":"HVAC"},{"$f":"MLIST!D48","v":"Demand Control Ventilation-New"},null,null,null,{"$f":"MLIST!H48","v":"Demand Control Ventilation"}]
[{"$f":"MLIST!A49","v":"HVAC"},{"$f":"MLIST!D49","v":"Demand Control Ventilation-NR"},null,null,null,{"$f":"MLIST!H49","v":"Demand Control Ventilation"}]
[{"$f":"MLIST!A50","v":"HVAC"},{"$f":"MLIST!D50","v":"Demand Control Ventilation-Retro"},null,null,null,{"$f":"MLIST!H50","v":"Demand Control Ventilation"}]
[{"$f":"MLIST!A51","v":"HVAC"},{"$f":"MLIST!D51","v":"DCV-Lab Hood-Retro"},"Com-DCV-2021P_V1.xlsm",null,null,{"$f":"MLIST!H51","v":"Premium Fume Hood"}]
[{"$f":"MLIST!A52","v":"HVAC"},{"$f":"MLIST!D52","v":"DCV-Kitchen-Retro"},"Com-DCV-2021P_V1.xlsm",null,null,{"$f":"MLIST!H52","v":"DCV Restaurant Hood"}]
[{"$f":"MLIST!A53","v":"HVAC"},{"$f":"MLIST!D53","v":"DCV-Parking Garage-Retro"},"Com-DCV-2021P_V1.xlsm",null,null,{"$f":"MLIST!H53","v":"DCV Parking Garage"}]
[{"$f":"MLIST!A54","v":"HVAC"},null,null,null,null,{"$f":"MLIST!H54","v":"Weatherization - School"}]
[{"$f":"MLIST!A55","v":"HVAC"},null,null,null,null,{"$f":"MLIST!H55","v":"Heat Recovery Ventilation"}]
[{"$f":"MLIST!A56","v":"HVAC"},{"$f":"MLIST!D56","v":"AC Heat Recovery for Water Heating-NR"},null,null,null,{"$f":"MLIST!H56","v":"AC Heat Recovery for Water Heating"}]
[{"$f":"MLIST!A57","v":"HVAC"},null,null,null,null,{"$f":"MLIST!H57","v":"Room Occupancy Sensors in Lodging"}]
[{"$f":"MLIST!A58","v":"HVAC"},null,null,null,null,{"$f":"MLIST!H58","v":"Pool Blankets"},null,null,null,null,null,null,null,null,null,null,null,null,null,null,null,null,null,null,null,null,null,null,null,null,null,null,"C-LOff-Lgt-LPD Int-All-All-C","Commercial-large Office-Heat","C-LOff-HVAC-ER-All-All-C"]
[{"$f":"MLIST!A59","v":"HVAC"},{"$f":"MLIST!D59","v":"ConnectedThermostats-New"},"Com-ConnectedThermostats-2021P_V2.xlsm",null,null,{"$f":"MLIST!H59","v":"Web-Enabled Thermostats"},null,{"$f":"'[15]SC New'!$C$10","v":2.5091486991302654},{"$f":"'[15]SC Retro'!$J$156","v":7.6234392283907315},null,null,null,null,null,null,null,null,null,null,null,null,null,null,null,null,null,null,null,null,null,null,null,"C-SOff-Lgt-LPD Int-All-All-C","Commercial-Small Office-Heat","C-SOff-HVAC-ER-All-All-C"]
[{"$f":"MLIST!A60","v":"HVAC"},{"$f":"MLIST!D60","v":"ConnectedThermostats-Retro"},"Com-ConnectedThermostats-2021P_V2.xlsm",null,null,{"$f":"MLIST!H60","v":"Web-Enabled Thermostats"},null,{"$f":"'[15]SC Retro'!$C$10","v":10.906751080783746},{"$f":"'[15]SC Retro'!$J$156","v":7.6234392283907315},null,null,null,null,null,null,null,null,null,null,null,null,null,null,null,null,null,null,null,null,null,null,null,"C-SOff-Lgt-LPD Int-All-All-C","Commercial-Small Office-Heat","C-SOff-HVAC-ER-All-All-C"]
[{"$f":"MLIST!A61","v":"HVAC"},{"$f":"MLIST!D61","v":"CircPumps-NR"},"COM-CircPumps-2021P_V4.xlsm",null,null,{"$f":"MLIST!H61","v":"Circulation Pump ECM and drive"},null,{"$f":"'[16]SC-NR'!$C$10","v":8.6862821820868472},null,null,null,null,null,null,null,null,null,null,null,null,null,null,null,null,null,null,null,null,null,null,null,null,"C-Ret-Lgt-LPD Int-All-All-C","Commercial-Retail-Heat","C-Ret-HVAC-ER-All-All-C"]
[{"$f":"MLIST!A62","v":"HVAC"},{"$f":"MLIST!D62","v":"Circpumps-New"},"COM-CircPumps-2021P_V4.xlsm",null,null,{"$f":"MLIST!H62","v":"Circ Pump ECM and drive"},null,{"$f":"'[16]SC-New'!$C$10","v":6.8590022704305387},null,null,null,null,null,null,null,null,null,null,null,null,null,null,null,null,null,null,null,null,null,null,null,null,"C-K12-Lgt-LPD Int-All-All-C","Commercial-School-Heat","C-Sch-HVAC-ER-All-All-C"]
[{"$f":"MLIST!A63","v":"HVAC"},{"$f":"MLIST!D63","v":"VRF-DOAS-New"},"Com-VRF-DOAS-2021P_V1.xlsm",null,null,{"$f":"MLIST!H63","v":"Variable Refrigerant Flow"},null,{"$f":"'[17]SC New'!$C$10","v":2.1559032672467113},null,null,null,null,null,null,null,null,null,null,null,null,null,null,null,null,null,null,null,null,null,null,null,null,"C-Unv-Lgt-LPD Int-All-All-C","Commercial-college-Heat","C-Unv-HVAC-ER-All-All-C"]
[{"$f":"MLIST!A64","v":"HVAC"},{"$f":"MLIST!D64","v":"VRF-DOAS-NR"},"Com-VRF-DOAS-2021P_V1.xlsm",null,null,{"$f":"MLIST!H64","v":"Variable Refrigerant Flow"},null,null,null,null,null,null,null,null,null,null,null,null,null,null,null,null,null,null,null,null,null,null,null,null,null,null,"C-War-Lgt-LPD Int-All-All-C","Commercial-not-refrig-warehouse-Heat","C-War-HVAC-ER-All-All-C"]
[{"$f":"MLIST!A65","v":"HVAC"},null,null,null,null,{"$f":"MLIST!H65","v":"Evaporator Roof Top HVAC"},null,null,null,null,null,null,null,null,null,null,null,null,null,null,null,null,null,null,null,null,null,null,null,null,null,null,"C-Gro-Lgt-LPD Int-All-All-C","Commercial-Grocery-Heat","C-Gro-HVAC-ER-All-All-C"]
[{"$f":"MLIST!A66","v":"HVAC"},{"$f":"MLIST!D66","v":"HeatPumps-NR"},"Com-HeatPumps-2021P_V2.xlsm",null,null,"Heat Pump Upgrade",null,{"$f":"'[18]SC NR'!$C$10","v":5.3900325860101592},{"$f":"'[18]SC NR'!$J$179","v":0.51136992243697166}]
[{"$f":"MLIST!A67","v":"HVAC"},{"$f":"MLIST!D67","v":"HeatPumps-New"},"Com-HeatPumps-2021P_V2.xlsm",null,null,"Heat Pump Upgrade",null,{"$f":"'[18]SC New'!$C$10","v":0.88728296835199028},{"$f":"'[18]SC New'!$J$156","v":6.6879429467868262E-2}]
[{"$f":"MLIST!A68","v":"HVAC"},{"$f":"MLIST!D68","v":"VCHP-NR"}]
[{"$f":"MLIST!A69","v":"HVAC"},{"$f":"MLIST!D69","v":"VCHP-New"}]
[{"$f":"MLIST!A70","v":"HVAC"},{"$f":"MLIST!D70","v":"UnitaryAC-NR"},"Com-UnitaryAC-2021P_V1.xlsm",null,null,null,null,{"$f":"'[19]SC NR'!$C$10","v":41.880434497289812}]
[{"$f":"MLIST!A71","v":"HVAC"},{"$f":"MLIST!D71","v":"UnitaryAC-New"},"Com-UnitaryAC-2021P_V1.xlsm",null,null,null,null,{"$f":"'[19]SC New'!$C$10","v":10.106498950450051}]
[{"$f":"MLIST!A72","v":"HVAC"}]
[{"$f":"MLIST!A73","v":"HVAC"}]
[{"$f":"MLIST!A74","v":"HVAC"},{"$f":"MLIST!D74","v":"COM-PTHP-NR"},"Com-PTHP-2021P_V1.xlsm",null,null,null,null,{"$f":"'[20]SC NR'!$C$10","v":4.4647525855636978}]
[{"$f":"MLIST!A75","v":"HVAC"},{"$f":"MLIST!D75","v":"COM-PTHP-New"},"Com-PTHP-2021P_V1.xlsm",null,null,null,null,{"$f":"'[20]SC New'!$C$10","v":0.93694582150673467}]
[{"$f":"MLIST!A76","v":"HVAC"},{"$f":"MLIST!D76","v":"COM-PTHP-Retro"},"Com-PTHP-2021P_V1.xlsm",null,null,null,null,{"$f":"'[20]SC Retro'!$C$10","v":15.743931820962034}]
[{"$f":"MLIST!A77","v":"HVAC"}]
[{"$f":"MLIST!A78","v":"HVAC"}]
[{"$f":"MLIST!A79","v":"HVAC"},{"$f":"MLIST!D79","v":"Secondary Glazing Systems-Retro"},"Com-WindowsReto-2021P_V8.xlsx",null,null,{"$f":"MLIST!H79","v":"Secondary Glazing Systems"},"2019-11-24",{"$f":"INDEX('[21]SC-Retro SGS'!$E$284:$Y$284,MATCH(H$4,Year,FALSE))","v":6.2732359185676875E-3},{"$f":"INDEX('[21]SC-Retro SGS'!$E$284:$Y$284,MATCH(I$4,Year,FALSE))","v":1.4309437936940299E-2},null,null,null,null,null,null,null,null,null,null,null,null,null,null,null,null,null,null,null,null,null,null,null,"C-Res-Lgt-LPD Int-All-All-C","Commercial-Resturant-Heat","C-Res-HVAC-ER-All-All-C"]
[{"$f":"MLIST!A80","v":"Lighting"},{"$f":"MLIST!D80","v":"LPD Package-New"},"Com-LightingInterior-2021P_V7.xlsm",null,null,{"$f":"MLIST!H80","v":"Lighting Power Density"},"2020-03-09",{"$f":"INDEX('[22]SC-New'!$E$145:$X$145,MATCH(H$4,Year,FALSE))","v":64.898182969013348},{"$f":"INDEX('[22]SC-New'!$E$145:$X$145,MATCH(I$4,Year,FALSE))","v":13.331406643115702},null,null,null,null,null,null,null,null,null,null,null,null,null,null,null,null,null,null,null,null,null,null,null,"C-Lod-Lgt-LPD Int-All-All-C","Commercial-Lodging-Heat","C-Lod-HVAC-ER-All-All-C"]
[{"$f":"MLIST!A81","v":"Lighting"},{"$f":"MLIST!D81","v":"LPD Package-NR"},"Com-LightingInterior-2021P_V7.xlsm",null,null,{"$f":"MLIST!H81","v":"Lighting Power Density"},"2020-03-09",{"$f":"INDEX('[22]SC-NR'!$E$209:$X$209,MATCH(H$4,Year,FALSE))","v":242.29722415773827},{"$f":"INDEX('[22]SC-NR'!$E$209:$X$209,MATCH(I$4,Year,FALSE))","v":73.696205365041664},null,null,null,null,null,null,null,null,null,null,null,null,null,null,null,null,null,null,null,null,null,null,null,"C-Hos-Lgt-LPD Int-All-All-C","Commercial-Healthcare-Heat","C-Hea-HVAC-ER-All-All-C"]
[{"$f":"MLIST!A82","v":"Lighting"},{"$f":"MLIST!D82","v":"LPD Package-Retro"},"Com-LightingInterior-2021P_V7.xlsm",null,null,{"$f":"MLIST!H82","v":"Lighting Power Density"},"2020-03-09",{"$f":"INDEX('[22]SC-Retro'!$E$210:$X$210,MATCH(H$4,Year,FALSE))","v":60.927344249165728},{"$f":"INDEX('[22]SC-Retro'!$E$210:$X$210,MATCH(I$4,Year,FALSE))","v":39.248205232330115},null,null,null,null,null,null,null,null,null,null,null,null,null,null,null,null,null,null,null,null,null,null,null,"C-Oth-Lgt-LPD Int-All-All-C","Commercial-Misc. Com-Heat","C-Misc-HVAC-ER-All-All-C"]
[{"$f":"MLIST!A83","v":"Lighting"},{"$f":"MLIST!D83","v":"Top Daylighting-New"},null,null,null,{"$f":"MLIST!H83","v":"Daylighting with Skylights"},null,null,null,null,null,null,null,null,null,null,null,null,null,null,null,null,null,null,null,null,null,null,null,null,null,null,"C-All-Lgt-LPD Int-All-All-E","Commercial-All Com-Heat","C-All-HVAC-ER-All-All-C"]
[{"$f":"MLIST!A84","v":"Lighting"},{"$f":"MLIST!D84","v":"Perimeter Daylighting Controls Advanced-New"},null,null,null,{"$f":"MLIST!H84","v":"Daylighting with Windows"}]
[{"$f":"MLIST!A85","v":"Lighting"},{"$f":"MLIST!D85","v":"Perimeter Daylighting Controls Advanced-NR"},null,null,null,{"$f":"MLIST!H85","v":"Daylighting with Windows"},null,null,null,null,null,null,null,null,null,null,null,null,null,null,null,null,null,null,null,null,null,null,null,null,null,null,"Lighting Controls - Electric","Lighting Controls - Gas"]
[{"$f":"MLIST!A86","v":"Lighting"},{"$f":"MLIST!D86","v":"Lighting Controls Interior-New"},"Com-InteriorLightingControls-2021P_V10.xlsx",null,null,{"$f":"MLIST!H86","v":"Lighting Controls Interior"},"2019-11-22",8.0554975073532358,0.86242429622583361,null,null,null,null,null,null,null,null,null,null,null,null,null,null,null,null,null,null,null,null,null,null,null,"C-LOff-Lgt-LPD Int-All-All-C","Commercial-large Office-Heat","C-LOff-HVAC-ER-All-All-C"]
[{"$f":"MLIST!A87","v":"Lighting"},{"$f":"MLIST!D87","v":"Lighting Controls Interior-NR"},"Com-InteriorLightingControls-2021P_V10.xlsx",null,null,{"$f":"MLIST!H87","v":"Lighting Controls Interior"},"2019-11-22",null,null,null,null,null,null,null,null,null,null,null,null,null,null,null,null,null,null,null,null,null,null,null,null,null,"C-SOff-Lgt-LPD Int-All-All-C","Commercial-Small Office-Heat","C-SOff-HVAC-ER-All-All-C"]
[{"$f":"MLIST!A88","v":"Lighting"},{"$f":"MLIST!D88","v":"Exterior Building Lighting-New"},"Com-ExteriorLighting-2021P_V3.xlsm",null,null,{"$f":"MLIST!H88","v":"Exterior Building Lighting"},"2019-11-12",{"$f":"INDEX('[23]SC-New'!$E$150:$X$150,1,MATCH(H$4,Year,FALSE))","v":6.9615217900665938},{"$f":"INDEX('[23]SC-New'!$E$150:$X$150,1,MATCH(I$4,Year,FALSE))","v":1.557075271309879},null,null,null,null,null,null,null,null,null,null,null,null,null,null,null,null,null,null,null,null,null,null,null,"C-Ret-Lgt-LPD Int-All-All-C","Commercial-Retail-Heat","C-Ret-HVAC-ER-All-All-C"]
[{"$f":"MLIST!A89","v":"Lighting"},{"$f":"MLIST!D89","v":"Exterior Building Lighting-NR"},"Com-ExteriorLighting-2021P_V3.xlsm",null,null,{"$f":"MLIST!H89","v":"Exterior Building Lighting"},"2019-11-12",{"$f":"INDEX('[23]SC-NR'!$E$204:$X$204,1,MATCH(H$4,Year,FALSE))","v":26.643491612278751},{"$f":"INDEX('[23]SC-NR'!$E$204:$X$204,1,MATCH(I$4,Year,FALSE))","v":26.643491612278751},null,null,null,null,null,null,null,null,null,null,null,null,null,null,null,null,null,null,null,null,null,null,null,"C-K12-Lgt-LPD Int-All-All-C","Commercial-School-Heat","C-Sch-HVAC-ER-All-All-C"]
[{"$f":"MLIST!A90","v":"Lighting"},{"$f":"MLIST!D90","v":"Street and Roadway Lighting-New"},"Com-Streetlight-2021P_V10.xlsx",null,null,{"$f":"MLIST!H90","v":"Street and Roadway Lighting"},"2019-11-17",{"$f":"INDEX('[24]SC-New'!$D$131:$Y$131,1,MATCH(H$4,Year,FALSE))","v":0.13644890484920502},{"$f":"INDEX('[24]SC-New'!$D$131:$Y$131,1,MATCH(I$4,Year,FALSE))","v":3.4889313871404648E-2},null,null,null,null,null,null,null,null,null,null,null,null,null,null,null,null,null,null,null,null,null,null,null,"C-Unv-Lgt-LPD Int-All-All-C","Commercial-college-Heat","C-Unv-HVAC-ER-All-All-C"]
[{"$f":"MLIST!A91","v":"Lighting"},{"$f":"MLIST!D91","v":"Street and Roadway Lighting-Retro"},"Com-Streetlight-2021P_V10.xlsx",null,null,{"$f":"MLIST!H91","v":"Street and Roadway Lighting"},"2019-11-17",{"$f":"INDEX('[24]SC-NR'!$E$156:$Y$156,1,MATCH(H$4,Year,FALSE))","v":16.344003775733633},{"$f":"INDEX('[24]SC-NR'!$E$156:$Y$156,1,MATCH(I$4,Year,FALSE))","v":4.5031715058144473},null,null,null,null,null,null,null,null,null,null,null,null,null,null,null,null,null,null,null,null,null,null,null,"C-War-Lgt-LPD Int-All-All-C","Commercial-not-refrig-warehouse-Heat","C-War-HVAC-ER-All-All-C"]
[{"$f":"MLIST!A92","v":"Lighting"},{"$f":"MLIST!D92","v":"Parking Garage Lighting-New"},"Com-ParkingGarageLighting-2021P_V9.xlsx",null,null,{"$f":"MLIST!H92","v":"Parking Garage Lighting"},"2021-11-19",null,null,null,null,null,null,null,null,null,null,null,null,null,null,null,null,null,null,null,null,null,null,null,null,null,"C-Gro-Lgt-LPD Int-All-All-C","Commercial-Grocery-Heat","C-Gro-HVAC-ER-All-All-C"]
[{"$f":"MLIST!A93","v":"Lighting"},{"$f":"MLIST!D93","v":"Parking Garage Lighting-Retro"},"Com-ParkingGarageLighting-2021P_V9.xlsx",null,null,{"$f":"MLIST!H93","v":"Parking Garage Lighting"},"2021-11-19",{"$f":"INDEX('[25]SC-Retro'!$E$151:$Y$151,1,MATCH(H$4,Year,FALSE))","v":4.2123054754840519},{"$f":"INDEX('[25]SC-Retro'!$E$151:$Y$151,1,MATCH(I$4,Year,FALSE))","v":4.2123054754840519},null,null,null,null,null,null,null,null,null,null,null,null,null,null,null,null,null,null,null,null,null,null,null,"C-Res-Lgt-LPD Int-All-All-C","Commercial-Resturant-Heat","C-Res-HVAC-ER-All-All-C"]
[{"$f":"MLIST!A94","v":"Lighting"},{"$f":"MLIST!D94","v":"Bi-Level Stairwell Lighting-NR"},"Com-Bi-Level Stairwell-2021P_V5.xlsx",null,null,{"$f":"MLIST!H94","v":"Bi-Level Stairwell"},"2019-11-21",{"$f":"INDEX('[26]SC-NR'!$E$162:$X$162,MATCH(H$4,Year,FALSE))","v":7.4371021758534601},{"$f":"INDEX('[26]SC-NR'!$E$162:$X$162,MATCH(I$4,Year,FALSE))","v":1.5071604261093072},null,null,null,null,null,null,null,null,null,null,null,null,null,null,null,null,null,null,null,null,null,null,null,"C-Lod-Lgt-LPD Int-All-All-C","Commercial-Lodging-Heat","C-Lod-HVAC-ER-All-All-C"]
[{"$f":"MLIST!A95","v":"Lighting"},{"$f":"MLIST!D95","v":"Low Power LF Lamps-NR"},null,null,null,"High Perf Low Power Fluorescent Lamp PPA",null,null,null,null,null,null,null,null,null,null,null,null,null,null,null,null,null,null,null,null,null,null,null,null,null,null,"C-Hos-Lgt-LPD Int-All-All-C","Commercial-Healthcare-Heat","C-Hea-HVAC-ER-All-All-C"]
[{"$f":"MLIST!A96","v":"Lighting"},{"$f":"MLIST!D96","v":"LEC Exit Sign-New"},"Com-ExitSign-2021P_V3.xlsx",null,null,"Light Emitting Capacitor Exit Sign ","2019-11-22",{"$f":"INDEX('[27]SC-New'!$D$134:$Y$134,1,MATCH(H$4,Year,FALSE))","v":4.7056221029950152},{"$f":"INDEX('[27]SC-New'!$D$134:$Y$134,1,MATCH(I$4,Year,FALSE))","v":0.54865213906960775},null,null,null,null,null,null,null,null,null,null,null,null,null,null,null,null,null,null,null,null,null,null,null,"C-Oth-Lgt-LPD Int-All-All-C","Commercial-Misc. Com-Heat","C-Misc-HVAC-ER-All-All-C"]
[{"$f":"MLIST!A97","v":"Lighting"},{"$f":"MLIST!D97","v":"LEC Exit Sign-NR"},"Com-ExitSign-2021P_V3.xlsx",null,null,"Light Emitting Capacitor Exit Sign ","2019-11-22",{"$f":"INDEX('[27]SC-NR'!$E$165:$Y$165,1,MATCH(H$4,Year,FALSE))","v":27.755014291784928},{"$f":"INDEX('[27]SC-NR'!$E$165:$Y$165,1,MATCH(I$4,Year,FALSE))","v":11.93839917816187},null,null,null,null,null,null,null,null,null,null,null,null,null,null,null,null,null,null,null,null,null,null,null,null,null,"C-All-HVAC-ER-All-All-C"]
[{"$f":"MLIST!A98","v":"Refrigeration"},{"$f":"MLIST!D98","v":"Commercial Ice Maker-NR"},"Com-IceAndVending-2021P_V1.xlsm",null,null,{"$f":"MLIST!H98","v":0},null,{"$f":"'[28]SC-NR'!$Y$60","v":3.8864064302381101}]
[{"$f":"MLIST!A99","v":"Refrigeration"},{"$f":"MLIST!D99","v":"Commercial Beverage Vending Machine-NR"},"Com-IceAndVending-2021P_V1.xlsm",null,null,{"$f":"MLIST!H99","v":0},null,{"$f":"'[28]SC-NR'!$Y$61","v":10.227127670940501}]
[{"$f":"MLIST!A100","v":"Motors/Drives"},{"$f":"MLIST!D100","v":"Clean Water PUmps-Retro"},"COM-PUMPS-2021P_V7xlsm",null,null,{"$f":"MLIST!H100","v":0},null,{"$f":"'[29]SC-Retro'!$C$10","v":34.716523241037123}]
[{"$f":"MLIST!A101","v":"Electronics"},{"$f":"MLIST!D101","v":"Servers & Power Supplies-NR"},null,null,null,{"$f":"MLIST!H101","v":0},null,{"$f":"'[30]SC-Retro'!$C$10","v":1.1671429246641358}]
[{"$f":"MLIST!A102","v":"Process Loads"},{"$f":"MLIST!D102","v":"Elevators-Retro"},"Com-Elevator-2021P_V1.xlsx",null,null,{"$f":"MLIST!H102","v":0}]
[{"$f":"MLIST!A103","v":"Motors/Drives"},{"$f":"MLIST!D103","v":"Clean Water Pumps-NR"},"COM-PUMPS-2021P_V7xlsm",null,null,"Clean Water Pumps upgrade to VS",null,{"$f":"'[29]SC-NR'!$C$10","v":48.235487872259405}]
[{"$f":"MLIST!A104","v":"Motors/Drives"},{"$f":"MLIST!D104","v":"Clean Water Pumps-New"},"COM-PUMPS-2021P_V7xlsm",null,null,"Clean Water Pumps upgrade to VS",null,{"$f":"'[29]SC-NEW'!$C$10","v":12.223316612557571}]
[{"$f":"MLIST!A105","v":"Process Loads"},{"$f":"MLIST!D105","v":"EBHeaterControl-Retro"},"Com-EngBlockHeatCtrl_V1.xlsm",null,null,{"$f":"MLIST!H105","v":"Engine Generator Block Heaters"},null,{"$f":"'[31]SC Retro'!$C$10","v":23.772225223928213}]
[{"$f":"MLIST!A106","v":"Refrigeration"},{"$f":"MLIST!D106","v":"GroceryRefrigeration-NR"},"Com-Refrigeration-2021P_V6.xlsm",null,null,null,null,{"$f":"'[32]SC NR'!$C$10","v":50.224484281302921}]
[{"$f":"MLIST!A107","v":"Refrigeration"},{"$f":"MLIST!D107","v":"GroceryRefrigeration-Retro"},"Com-Refrigeration-2021P_V6.xlsm",null,null,{"$f":"MLIST!H107","v":"Grocery Refrigeration Bundle"},null,{"$f":"'[32]SC Retro'!$C$10","v":147.03989033748692}]
[{"$f":"MLIST!A108","v":"Refrigeration"},{"$f":"MLIST!D108","v":"GroceryRefrigeration-New"},"Com-Refrigeration-2021P_V6.xlsm",null,null,null,null,{"$f":"'[32]SC New'!$C$10","v":7.9022293537115367}]
[{"$f":"MLIST!A109","v":"Refrigeration"}]
[{"$f":"MLIST!A110","v":"Refrigeration"},{"$f":"MLIST!D110","v":"Refrig-Freezer-NR"},"Com-Refrig-Freeze_2021P_V1.xlsm",null,null,{"$f":"MLIST!H110","v":"Appliances - Com Refrigerators and Freezers"},null,{"$f":"'[33]SC-NR'!$C$10","v":6.0126830310129771}]
[{"$f":"MLIST!A111","v":"Refrigeration"}]
[{"$f":"MLIST!A112","v":"Refrigeration"},{"$f":"MLIST!D112","v":"Water Cooler Controls-NR"},"Com-WaterCooler-2021P_V6.xlsx",null,null,{"$f":"MLIST!H112","v":"Water Cooler Controls"},"2019-11-23",{"$f":"INDEX('[34]SC-NR'!$E$143:$Y$143,1,MATCH(H$4,Year,FALSE))","v":12.449156398726798},{"$f":"INDEX('[34]SC-NR'!$E$143:$Y$143,1,MATCH(I$4,Year,FALSE))","v":2.6022840019863347}]
[{"$f":"MLIST!A113","v":"Water Heating"},{"$f":"MLIST!D113","v":"HPWH ResType-New"},null,null,null,{"$f":"MLIST!H113","v":"Heat Pump Water Heater - small size"}]
[{"$f":"MLIST!A114","v":"Water Heating"},{"$f":"MLIST!D114","v":"HPWH ResType-NR"},null,null,null,{"$f":"MLIST!H114","v":"Heat Pump Water Heater - small size"}]
[{"$f":"MLIST!A115","v":"Water Heating"},{"$f":"MLIST!D115","v":"Washer-New"},"Com-Washer-2021P_V1.xlsm",null,null,{"$f":"MLIST!H115","v":"Appliances - Clothes Washers"}]
[{"$f":"MLIST!A116","v":"Water Heating"},{"$f":"MLIST!D116","v":"Washer-NR"},"Com-Washer-2021P_V1.xlsm",null,null,{"$f":"MLIST!H116","v":"Appliances - Clothes Washers"}]
[{"$f":"MLIST!A117","v":"Water Heating"},{"$f":"MLIST!D117","v":"Showerheads-NR"},"Com-Showerheads-2021P_V1.xlsm",null,null,{"$f":"MLIST!H117","v":"DHW - Showerheads"}]
[{"$f":"MLIST!A118","v":"Water Heating"},{"$f":"MLIST!D118","v":"Showerheads-Retro"},null,null,null,{"$f":"MLIST!H118","v":0}]
[]
[]
[]
[]
[]
[]
[]
[]
[]
[]
[]
[]
[]
[]
[null,null,null,null,null,null,"Compressed Air",{"$f":"SUMIF($A$12:$A$118,G133,$H$12:$H$119)","v":9.7938820091285628}]
[null,null,null,null,null,null,"Electronics",{"$f":"SUMIF($A$12:$A$118,G134,$H$12:$H$119)","v":78.466764984394416}]
[null,null,null,null,null,null,"Food Preparation",29.760069643658646]
[null,null,null,null,null,null,"HVAC",364.21581790610043]
[null,null,null,null,null,null,"Lighting",470.37375901231616]
[null,null,null,null,null,null,"Refrigeration",237.74197750341975]
[null,null,null,null,null,null,"Motors/Drives",95.175327725854089]
[null,null,null,null,null,null,"Process Loads",23.772225223928213]
[null,null,null,null,null,null,"Water Heating",0]
[null,null,null,null,null,null,null,{"$f":"SUM(H133:H141)","v":1309.2998240088002}]
[]
[]
[]
[]
[]
[]
[]
[]
[]
[]
[]
[]
[]
[]
[]
[]
[]
[]
[]
[]
[]
[]
[]
[]
[]
[]
[]
[]
[]
[]
[]
[]
["Potential","Measure","Category"]
[5.6094908293315062E-4,"DHP-New","DHP",null,null,"Ductless Heat Pump",null,5.6094908293315062E-4]
[18.772562810327432,"DHP-Retro","DHP",null,null,"Ductless Heat Pump",null,18.772562810327432]
[23.041901856992141,"ARC-Retro","ARC",null,null,"Advanced Rooftop Controller",null,23.041901856992141]
[2.5298240768321461,"Chiller-Upgrade-New","Chiller-Upgrade",null,null,"Variable Speed Chiller",null,2.5298240768321461]
[5.1308309881559131,"Chiller-Upgrade-NR","Chiller-Upgrade",null,null,"Variable Speed Chiller",null,5.1308309881559131]
[13.204377259345415,"Chiller-System-Retro","Chiller-System",null,null,"Chiller System Retrofit",null,13.204377259345415]
[45.298459200639222,"Commercial EM-Retro","Commercial EM",null,null,"Commercial Energy Management For Complex systems",null,45.298459200639222]
[95.712858634793022,"Fans-NR","Fans",null,null,null,null,95.712858634793022]
[25.455804335213909,"Fans-New","Fans",null,null,null,null,25.455804335213909]
[53.21051727494131,"VHE-DOAS-Retro","VHE-DOAS",null,null,null,null,53.21051727494131]
[22.742342254569941,"VHE-DOAS-New","fixed",null,null,null,null,22.742342254569941]
[31.138565478651664,"Fans-Retro","Fans",null,null,null,null,31.138565478651664]
[2.002930450270179,"ConnectedThermostats-New","ConnectedThermostats",null,null,"Web-Enabled Thermostats",null,2.002930450270179]
[11.75829390902363,"ConnectedThermostats-Retro","ConnectedThermostats",null,null,"Web-Enabled Thermostats",null,11.75829390902363]
[9.0431370383042395,"CircPumps-NR","in water heating",null,null,"Circulation Pump ECM and drive",null,9.0431370383042395,null,null,"Row Labels","Sum of Potential"]
[7.2624633638142235,"Circpumps-New","in water heating",null,null,"Circ Pump ECM and drive",null,7.2624633638142235,null,null,"ARC",23.041901856992141,null,29.133444012503304,"ARC"]
[11.903411977734599,"VRF-DOAS-New","new",null,null,"Variable Refrigerant Flow",null,11.903411977734599,null,null,"Chiller-System",13.204377259345415,null,13.20437725934541,"Chiller-System"]
[18.988223738316087,"VRF-DOAS-Retro","new",null,null,"Variable Refrigerant Flow",null,18.988223738316087,null,null,"Chiller-Upgrade",7.6606550649880596,null,7.6606550649880596,"Chiller-Upgrade"]
[10.780065172020318,"HeatPumps-NR","HeatPumps",null,null,"Heat Pump Upgrade",null,10.780065172020318,null,null,"Commercial EM",45.298459200639222,null,45.298459200639208,"Commercial EM"]
[1.9358901127679791,"HeatPumps-New","HeatPumps",null,null,"Heat Pump Upgrade",null,1.9358901127679791,null,null,"Com-PTHP",17.409418210073657,null,16.514598721830211,"Com-PTHP"]
[25.08676917033814,"UnitaryAC-NR","UnitaryAC",null,null,null,null,25.08676917033814,null,null,"ConnectedThermostats",13.761224359293809,null,15.966855320930268,"ConnectedThermostats"]
[5.554346435110828,"UnitaryAC-New","UnitaryAC",null,null,null,null,5.554346435110828,null,null,"DHP",18.773123759410364,null,18.773123759410336,"DHP"]
[0.89488238971971001,"COM-PTHP-NR","Com-PTHP",null,null,null,null,0.89488238971971001,null,null,"Fans",152.30722844865861,null,152.30722844865855,"Fans"]
[0.91632469781417092,"COM-PTHP-New","Com-PTHP",null,null,null,null,0.91632469781417092,null,null,"HeatPumps",12.715955284788297,null,11.83998270800222,"HeatPumps"]
[15.598211122539777,"COM-PTHP-Retro","Com-PTHP",null,null,null,null,15.598211122539777,null,null,"UnitaryAC",30.641115605448967,null,13.696761286374157,"UnitaryAC"]
[36.425476132438,"Secondary Glazing Systems-Retro",null,null,null,null,null,0.31103662156260486,null,null,"VHE-DOAS",53.21051727494131,null,53.210517274941274,"VHE-DOAS"]
[null,null,null,null,null,null,null,16.334733193515657,null,null,"(blank)",106.36505450517708]
[null,null,null,null,null,"Secondary Glazing Systems",43793,36.425476132438,null,null,"Grand Total",494.38903082975696]
[{"$f":"SUBTOTAL(9,A176:A203)-A186-A201-A192-A193","v":404.32957672669835}]
[]
[]
[]
[152.30722844865855,"Fans"]
[53.210517274941274,"VHE-DOAS","Missing new - FIXED"]
[45.298459200639208,"Commercial EM"]
[29.133444012503304,"ARC"]
[18.773123759410336,"DHP"]
[16.514598721830211,"Com-PTHP"]
[15.966855320930268,"ConnectedThermostats"]
[13.696761286374157,"UnitaryAC","Missing some - old file"]
[13.20437725934541,"Chiller-System"]
[11.83998270800222,"HeatPumps"]
[7.6606550649880596,"Chiller-Upgrade"]
[{"$f":"SUBTOTAL(9,A208:A218)","v":377.60600305762301}]

{"sheet":"APPLIC","index":4,"n_rows":121,"n_cols":42,"rows_kept":121,"cut":false,"hidden":false,"merged":[[9,2,9,4],[9,5,9,8],[9,12,9,13],[9,16,9,17],[9,9,9,10]]}
["APPLIC","Fraction of floorspace that measure is applicable to.",null,{"$f":"CELL(\"filename\")","v":"Q:\\Eighth Plan\\Conservation Analysis\\Global EE Inputs\\Units Forecasts\\[2021P Forecasts.xlsx]Ind Forecast (Base Case)"}]
[]
["Note that some measures have the applicability built into the workbook."]
[]
[]
[null,null,null,null,null,null,null,null,null,null,null,null,null,null,null,null,null,null,null,null,{"$f":"COLUMN()-1","v":20},{"$f":"COLUMN()-1","v":21},{"$f":"COLUMN()-1","v":22}]
[null,{"$f":"COLUMN()-1","v":1},2,3,4,5,6,7,8,9,10,11,12,13,14,15,16,17,18,19,20]
[]
[]
[null,null,"Office",null,null,"Retail",null,null,null,"School",null,"Warehouse","Grocery",null,"Restaurant","Lodging","Health",null,"Assembly","Other"]
["End Use","Measure Index Name",{"$f":"OFFSET(Labels!$D$4,A7,0)","v":"Large Off"},{"$f":"OFFSET(Labels!$D$4,B7,0)","v":"Medium Off"},{"$f":"OFFSET(Labels!$D$4,C7,0)","v":"Small Off"},{"$f":"OFFSET(Labels!$D$4,D7,0)","v":"Xlarge Ret"},{"$f":"OFFSET(Labels!$D$4,E7,0)","v":"Large Ret"},{"$f":"OFFSET(Labels!$D$4,F7,0)","v":"Medium Ret"},{"$f":"OFFSET(Labels!$D$4,G7,0)","v":"Small Ret"},{"$f":"OFFSET(Labels!$D$4,H7,0)","v":"School K-12"},{"$f":"OFFSET(Labels!$D$4,I7,0)","v":"University"},{"$f":"OFFSET(Labels!$D$4,J7,0)","v":"Warehouse"},{"$f":"OFFSET(Labels!$D$4,K7,0)","v":"Supermarket"},{"$f":"OFFSET(Labels!$D$4,L7,0)","v":"MiniMart"},{"$f":"OFFSET(Labels!$D$4,M7,0)","v":"Restaurant"},{"$f":"OFFSET(Labels!$D$4,N7,0)","v":"Lodging"},{"$f":"OFFSET(Labels!$D$4,O7,0)","v":"Hospital"},{"$f":"OFFSET(Labels!$D$4,P7,0)","v":"Residential Care"},{"$f":"OFFSET(Labels!$D$4,Q7,0)","v":"Assembly"},{"$f":"OFFSET(Labels!$D$4,R7,0)","v":"Other"},"Non-Building Stock","Source"]
[{"$f":"MLIST!A12","v":"Compressed Air"},{"$f":"MLIST!D12","v":"Compressors-New"},{"$f":"FEAS!C12*(1-BASE!C12)","v":0.01},{"$f":"FEAS!D12*(1-BASE!D12)","v":0.01},{"$f":"FEAS!E12*(1-BASE!E12)","v":0.01},{"$f":"FEAS!F12*(1-BASE!F12)","v":0.01},{"$f":"FEAS!G12*(1-BASE!G12)","v":0.01},{"$f":"FEAS!H12*(1-BASE!H12)","v":0.01},{"$f":"FEAS!I12*(1-BASE!I12)","v":0.01},{"$f":"FEAS!J12*(1-BASE!J12)","v":0.01},{"$f":"FEAS!K12*(1-BASE!K12)","v":0.01},{"$f":"FEAS!L12*(1-BASE!L12)","v":0.01},{"$f":"FEAS!M12*(1-BASE!M12)","v":0.01},{"$f":"FEAS!N12*(1-BASE!N12)","v":0.01},{"$f":"FEAS!O12*(1-BASE!O12)","v":0.01},{"$f":"FEAS!P12*(1-BASE!P12)","v":0.01},{"$f":"FEAS!Q12*(1-BASE!Q12)","v":0.01},{"$f":"FEAS!R12*(1-BASE!R12)","v":0.01},{"$f":"FEAS!S12*(1-BASE!S12)","v":0.01},{"$f":"FEAS!T12*(1-BASE!T12)","v":0.01}]
[{"$f":"MLIST!A13","v":"Compressed Air"},{"$f":"MLIST!D13","v":"Compressors-NR"},{"$f":"FEAS!C13*(1-C$12)*(1-BASE!C13)","v":9.9000000000000008E-3},{"$f":"FEAS!D13*(1-D$12)*(1-BASE!D13)","v":9.9000000000000008E-3},{"$f":"FEAS!E13*(1-E$12)*(1-BASE!E13)","v":9.9000000000000008E-3},{"$f":"FEAS!F13*(1-F$12)*(1-BASE!F13)","v":9.9000000000000008E-3},{"$f":"FEAS!G13*(1-G$12)*(1-BASE!G13)","v":9.9000000000000008E-3},{"$f":"FEAS!H13*(1-H$12)*(1-BASE!H13)","v":9.9000000000000008E-3},{"$f":"FEAS!I13*(1-I$12)*(1-BASE!I13)","v":9.9000000000000008E-3},{"$f":"FEAS!J13*(1-J$12)*(1-BASE!J13)","v":9.9000000000000008E-3},{"$f":"FEAS!K13*(1-K$12)*(1-BASE!K13)","v":9.9000000000000008E-3},{"$f":"FEAS!L13*(1-L$12)*(1-BASE!L13)","v":9.9000000000000008E-3},{"$f":"FEAS!M13*(1-M$12)*(1-BASE!M13)","v":9.9000000000000008E-3},{"$f":"FEAS!N13*(1-N$12)*(1-BASE!N13)","v":9.9000000000000008E-3},{"$f":"FEAS!O13*(1-O$12)*(1-BASE!O13)","v":9.9000000000000008E-3},{"$f":"FEAS!P13*(1-P$12)*(1-BASE!P13)","v":9.9000000000000008E-3},{"$f":"FEAS!Q13*(1-Q$12)*(1-BASE!Q13)","v":9.9000000000000008E-3},{"$f":"FEAS!R13*(1-R$12)*(1-BASE!R13)","v":9.9000000000000008E-3},{"$f":"FEAS!S13*(1-S$12)*(1-BASE!S13)","v":9.9000000000000008E-3},{"$f":"FEAS!T13*(1-T$12)*(1-BASE!T13)","v":9.9000000000000008E-3}]
[{"$f":"MLIST!A14","v":"Electronics"},{"$f":"MLIST!D14","v":"Laptop-NR"},{"$f":"FEAS!C14*(1-BASE!C14)","v":1},{"$f":"FEAS!D14*(1-BASE!D14)","v":1},{"$f":"FEAS!E14*(1-BASE!E14)","v":1},{"$f":"FEAS!F14*(1-BASE!F14)","v":1},{"$f":"FEAS!G14*(1-BASE!G14)","v":1},{"$f":"FEAS!H14*(1-BASE!H14)","v":1},{"$f":"FEAS!I14*(1-BASE!I14)","v":1},{"$f":"FEAS!J14*(1-BASE!J14)","v":1},{"$f":"FEAS!K14*(1-BASE!K14)","v":1},{"$f":"FEAS!L14*(1-BASE!L14)","v":1},{"$f":"FEAS!M14*(1-BASE!M14)","v":1},{"$f":"FEAS!N14*(1-BASE!N14)","v":1},{"$f":"FEAS!O14*(1-BASE!O14)","v":1},{"$f":"FEAS!P14*(1-BASE!P14)","v":1},{"$f":"FEAS!Q14*(1-BASE!Q14)","v":1},{"$f":"FEAS!R14*(1-BASE!R14)","v":1},{"$f":"FEAS!S14*(1-BASE!S14)","v":1},{"$f":"FEAS!T14*(1-BASE!T14)","v":1},{"$f":"FEAS!U14*(1-BASE!U14)","v":9.9999999999999978E-2}]
[{"$f":"MLIST!A15","v":"Electronics"},{"$f":"MLIST!D15","v":"PowerStrips-Retro"},{"$f":"FEAS!C15*(1-BASE!C15)","v":0.75},{"$f":"FEAS!D15*(1-BASE!D15)","v":0.75},{"$f":"FEAS!E15*(1-BASE!E15)","v":0.75},{"$f":"FEAS!F15*(1-BASE!F15)","v":0.75},{"$f":"FEAS!G15*(1-BASE!G15)","v":0.75},{"$f":"FEAS!H15*(1-BASE!H15)","v":0.75},{"$f":"FEAS!I15*(1-BASE!I15)","v":0.75},{"$f":"FEAS!J15*(1-BASE!J15)","v":0.75},{"$f":"FEAS!K15*(1-BASE!K15)","v":0.75},{"$f":"FEAS!L15*(1-BASE!L15)","v":0.75},{"$f":"FEAS!M15*(1-BASE!M15)","v":0.75},{"$f":"FEAS!N15*(1-BASE!N15)","v":0.75},{"$f":"FEAS!O15*(1-BASE!O15)","v":0.75},{"$f":"FEAS!P15*(1-BASE!P15)","v":0.75},{"$f":"FEAS!Q15*(1-BASE!Q15)","v":0.75},{"$f":"FEAS!R15*(1-BASE!R15)","v":0.75},{"$f":"FEAS!S15*(1-BASE!S15)","v":0.75},{"$f":"FEAS!T15*(1-BASE!T15)","v":0.75},null,"75% is an estimate that assumes there are barriers for 25%"]
[{"$f":"MLIST!A16","v":"Electronics"},{"$f":"MLIST!D16","v":"PowerStrips-New"},{"$f":"FEAS!C16*(1-BASE!C16)","v":0.75},{"$f":"FEAS!D16*(1-BASE!D16)","v":0.75},{"$f":"FEAS!E16*(1-BASE!E16)","v":0.75},{"$f":"FEAS!F16*(1-BASE!F16)","v":0.75},{"$f":"FEAS!G16*(1-BASE!G16)","v":0.75},{"$f":"FEAS!H16*(1-BASE!H16)","v":0.75},{"$f":"FEAS!I16*(1-BASE!I16)","v":0.75},{"$f":"FEAS!J16*(1-BASE!J16)","v":0.75},{"$f":"FEAS!K16*(1-BASE!K16)","v":0.75},{"$f":"FEAS!L16*(1-BASE!L16)","v":0.75},{"$f":"FEAS!M16*(1-BASE!M16)","v":0.75},{"$f":"FEAS!N16*(1-BASE!N16)","v":0.75},{"$f":"FEAS!O16*(1-BASE!O16)","v":0.75},{"$f":"FEAS!P16*(1-BASE!P16)","v":0.75},{"$f":"FEAS!Q16*(1-BASE!Q16)","v":0.75},{"$f":"FEAS!R16*(1-BASE!R16)","v":0.75},{"$f":"FEAS!S16*(1-BASE!S16)","v":0.75},{"$f":"FEAS!T16*(1-BASE!T16)","v":0.75}]
[{"$f":"MLIST!A17","v":"Electronics"},{"$f":"MLIST!D17","v":"Data Centers-NR"},{"$f":"FEAS!C17*(1-BASE!C17)","v":0.01},{"$f":"FEAS!D17*(1-BASE!D17)","v":0.01},{"$f":"FEAS!E17*(1-BASE!E17)","v":0.01},{"$f":"FEAS!F17*(1-BASE!F17)","v":0.01},{"$f":"FEAS!G17*(1-BASE!G17)","v":0.01},{"$f":"FEAS!H17*(1-BASE!H17)","v":0.01},{"$f":"FEAS!I17*(1-BASE!I17)","v":0.01},{"$f":"FEAS!J17*(1-BASE!J17)","v":0.01},{"$f":"FEAS!K17*(1-BASE!K17)","v":0.01},{"$f":"FEAS!L17*(1-BASE!L17)","v":0.01},{"$f":"FEAS!M17*(1-BASE!M17)","v":0.01},{"$f":"FEAS!N17*(1-BASE!N17)","v":0.01},{"$f":"FEAS!O17*(1-BASE!O17)","v":0.01},{"$f":"FEAS!P17*(1-BASE!P17)","v":0.01},{"$f":"FEAS!Q17*(1-BASE!Q17)","v":0.01},{"$f":"FEAS!R17*(1-BASE!R17)","v":0.01},{"$f":"FEAS!S17*(1-BASE!S17)","v":0.01},{"$f":"FEAS!T17*(1-BASE!T17)","v":0.01},{"$f":"FEAS!U17*(1-BASE!U17)","v":0.8}]
[{"$f":"MLIST!A18","v":"Electronics"},{"$f":"MLIST!D18","v":"Desktop-WA-NR"},{"$f":"FEAS!C18*(1-BASE!C18)","v":1},{"$f":"FEAS!D18*(1-BASE!D18)","v":1},{"$f":"FEAS!E18*(1-BASE!E18)","v":1},{"$f":"FEAS!F18*(1-BASE!F18)","v":1},{"$f":"FEAS!G18*(1-BASE!G18)","v":1},{"$f":"FEAS!H18*(1-BASE!H18)","v":1},{"$f":"FEAS!I18*(1-BASE!I18)","v":1},{"$f":"FEAS!J18*(1-BASE!J18)","v":1},{"$f":"FEAS!K18*(1-BASE!K18)","v":1},{"$f":"FEAS!L18*(1-BASE!L18)","v":1},{"$f":"FEAS!M18*(1-BASE!M18)","v":1},{"$f":"FEAS!N18*(1-BASE!N18)","v":1},{"$f":"FEAS!O18*(1-BASE!O18)","v":1},{"$f":"FEAS!P18*(1-BASE!P18)","v":1},{"$f":"FEAS!Q18*(1-BASE!Q18)","v":1},{"$f":"FEAS!R18*(1-BASE!R18)","v":1},{"$f":"FEAS!S18*(1-BASE!S18)","v":1},{"$f":"FEAS!T18*(1-BASE!T18)","v":1},{"$f":"FEAS!U18*(1-BASE!U18)","v":0.44999999999999996}]
[{"$f":"MLIST!A19","v":"Electronics"},{"$f":"MLIST!D19","v":"Desktop-NR"},{"$f":"FEAS!C19*(1-BASE!C19)","v":1},{"$f":"FEAS!D19*(1-BASE!D19)","v":1},{"$f":"FEAS!E19*(1-BASE!E19)","v":1},{"$f":"FEAS!F19*(1-BASE!F19)","v":1},{"$f":"FEAS!G19*(1-BASE!G19)","v":1},{"$f":"FEAS!H19*(1-BASE!H19)","v":1},{"$f":"FEAS!I19*(1-BASE!I19)","v":1},{"$f":"FEAS!J19*(1-BASE!J19)","v":1},{"$f":"FEAS!K19*(1-BASE!K19)","v":1},{"$f":"FEAS!L19*(1-BASE!L19)","v":1},{"$f":"FEAS!M19*(1-BASE!M19)","v":1},{"$f":"FEAS!N19*(1-BASE!N19)","v":1},{"$f":"FEAS!O19*(1-BASE!O19)","v":1},{"$f":"FEAS!P19*(1-BASE!P19)","v":1},{"$f":"FEAS!Q19*(1-BASE!Q19)","v":1},{"$f":"FEAS!R19*(1-BASE!R19)","v":1},{"$f":"FEAS!S19*(1-BASE!S19)","v":1},{"$f":"FEAS!T19*(1-BASE!T19)","v":1},{"$f":"FEAS!U19*(1-BASE!U19)","v":0.25}]
[{"$f":"MLIST!A20","v":"Electronics"},{"$f":"MLIST!D20","v":"Laptop-WA-NR"},{"$f":"FEAS!C20*(1-BASE!C20)","v":1},{"$f":"FEAS!D20*(1-BASE!D20)","v":1},{"$f":"FEAS!E20*(1-BASE!E20)","v":1},{"$f":"FEAS!F20*(1-BASE!F20)","v":1},{"$f":"FEAS!G20*(1-BASE!G20)","v":1},{"$f":"FEAS!H20*(1-BASE!H20)","v":1},{"$f":"FEAS!I20*(1-BASE!I20)","v":1},{"$f":"FEAS!J20*(1-BASE!J20)","v":1},{"$f":"FEAS!K20*(1-BASE!K20)","v":1},{"$f":"FEAS!L20*(1-BASE!L20)","v":1},{"$f":"FEAS!M20*(1-BASE!M20)","v":1},{"$f":"FEAS!N20*(1-BASE!N20)","v":1},{"$f":"FEAS!O20*(1-BASE!O20)","v":1},{"$f":"FEAS!P20*(1-BASE!P20)","v":1},{"$f":"FEAS!Q20*(1-BASE!Q20)","v":1},{"$f":"FEAS!R20*(1-BASE!R20)","v":1},{"$f":"FEAS!S20*(1-BASE!S20)","v":1},{"$f":"FEAS!T20*(1-BASE!T20)","v":1},{"$f":"FEAS!U20*(1-BASE!U20)","v":0.25}]
[{"$f":"MLIST!A21","v":"Food Preparation"},{"$f":"MLIST!D21","v":"Pre-Rinse Spray Valve-Retro"},{"$f":"FEAS!C21*(1-BASE!C21)","v":0},{"$f":"FEAS!D21*(1-BASE!D21)","v":0},{"$f":"FEAS!E21*(1-BASE!E21)","v":0},{"$f":"FEAS!F21*(1-BASE!F21)","v":0},{"$f":"FEAS!G21*(1-BASE!G21)","v":0},{"$f":"FEAS!H21*(1-BASE!H21)","v":0},{"$f":"FEAS!I21*(1-BASE!I21)","v":0},{"$f":"FEAS!J21*(1-BASE!J21)","v":0},{"$f":"FEAS!K21*(1-BASE!K21)","v":0},{"$f":"FEAS!L21*(1-BASE!L21)","v":0},{"$f":"FEAS!M21*(1-BASE!M21)","v":0},{"$f":"FEAS!N21*(1-BASE!N21)","v":0},{"$f":"FEAS!O21*(1-BASE!O21)","v":0},{"$f":"FEAS!P21*(1-BASE!P21)","v":0},{"$f":"FEAS!Q21*(1-BASE!Q21)","v":0},{"$f":"FEAS!R21*(1-BASE!R21)","v":0},{"$f":"FEAS!S21*(1-BASE!S21)","v":0},{"$f":"FEAS!T21*(1-BASE!T21)","v":0},{"$f":"FEAS!U21*(1-BASE!U21)","v":0.86}]
[{"$f":"MLIST!A22","v":"Food Preparation"},{"$f":"MLIST!D22","v":"Steamer-NR"},{"$f":"FEAS!C22*(1-BASE!C22)","v":0},{"$f":"FEAS!D22*(1-BASE!D22)","v":0},{"$f":"FEAS!E22*(1-BASE!E22)","v":0},{"$f":"FEAS!F22*(1-BASE!F22)","v":0},{"$f":"FEAS!G22*(1-BASE!G22)","v":0},{"$f":"FEAS!H22*(1-BASE!H22)","v":0},{"$f":"FEAS!I22*(1-BASE!I22)","v":0},{"$f":"FEAS!J22*(1-BASE!J22)","v":0},{"$f":"FEAS!K22*(1-BASE!K22)","v":0},{"$f":"FEAS!L22*(1-BASE!L22)","v":0},{"$f":"FEAS!M22*(1-BASE!M22)","v":0},{"$f":"FEAS!N22*(1-BASE!N22)","v":0},{"$f":"FEAS!O22*(1-BASE!O22)","v":0},{"$f":"FEAS!P22*(1-BASE!P22)","v":0},{"$f":"FEAS!Q22*(1-BASE!Q22)","v":0},{"$f":"FEAS!R22*(1-BASE!R22)","v":0},{"$f":"FEAS!S22*(1-BASE!S22)","v":0},{"$f":"FEAS!T22*(1-BASE!T22)","v":0},{"$f":"FEAS!U22*(1-BASE!U22)","v":0}]
[{"$f":"MLIST!A23","v":"Food Preparation"},{"$f":"MLIST!D23","v":"Combo Oven-NR"},{"$f":"FEAS!C23*(1-BASE!C23)","v":0},{"$f":"FEAS!D23*(1-BASE!D23)","v":0},{"$f":"FEAS!E23*(1-BASE!E23)","v":0},{"$f":"FEAS!F23*(1-BASE!F23)","v":0},{"$f":"FEAS!G23*(1-BASE!G23)","v":0},{"$f":"FEAS!H23*(1-BASE!H23)","v":0},{"$f":"FEAS!I23*(1-BASE!I23)","v":0},{"$f":"FEAS!J23*(1-BASE!J23)","v":0},{"$f":"FEAS!K23*(1-BASE!K23)","v":0},{"$f":"FEAS!L23*(1-BASE!L23)","v":0},{"$f":"FEAS!M23*(1-BASE!M23)","v":0},{"$f":"FEAS!N23*(1-BASE!N23)","v":0},{"$f":"FEAS!O23*(1-BASE!O23)","v":0},{"$f":"FEAS!P23*(1-BASE!P23)","v":0},{"$f":"FEAS!Q23*(1-BASE!Q23)","v":0},{"$f":"FEAS!R23*(1-BASE!R23)","v":0},{"$f":"FEAS!S23*(1-BASE!S23)","v":0},{"$f":"FEAS!T23*(1-BASE!T23)","v":0},{"$f":"FEAS!U23*(1-BASE!U23)","v":0}]
[{"$f":"MLIST!A24","v":"Food Preparation"},{"$f":"MLIST!D24","v":"HFHC-NR"},{"$f":"FEAS!C24*(1-BASE!C24)","v":0},{"$f":"FEAS!D24*(1-BASE!D24)","v":0},{"$f":"FEAS!E24*(1-BASE!E24)","v":0},{"$f":"FEAS!F24*(1-BASE!F24)","v":0},{"$f":"FEAS!G24*(1-BASE!G24)","v":0},{"$f":"FEAS!H24*(1-BASE!H24)","v":0},{"$f":"FEAS!I24*(1-BASE!I24)","v":0},{"$f":"FEAS!J24*(1-BASE!J24)","v":0},{"$f":"FEAS!K24*(1-BASE!K24)","v":0},{"$f":"FEAS!L24*(1-BASE!L24)","v":0},{"$f":"FEAS!M24*(1-BASE!M24)","v":0},{"$f":"FEAS!N24*(1-BASE!N24)","v":0},{"$f":"FEAS!O24*(1-BASE!O24)","v":0},{"$f":"FEAS!P24*(1-BASE!P24)","v":0},{"$f":"FEAS!Q24*(1-BASE!Q24)","v":0},{"$f":"FEAS!R24*(1-BASE!R24)","v":0},{"$f":"FEAS!S24*(1-BASE!S24)","v":0},{"$f":"FEAS!T24*(1-BASE!T24)","v":0},{"$f":"FEAS!U24*(1-BASE!U24)","v":0}]
[{"$f":"MLIST!A25","v":"Food Preparation"},{"$f":"MLIST!D25","v":"Convection Oven-NR"},{"$f":"FEAS!C25*(1-BASE!C25)","v":0},{"$f":"FEAS!D25*(1-BASE!D25)","v":0},{"$f":"FEAS!E25*(1-BASE!E25)","v":0},{"$f":"FEAS!F25*(1-BASE!F25)","v":0},{"$f":"FEAS!G25*(1-BASE!G25)","v":0},{"$f":"FEAS!H25*(1-BASE!H25)","v":0},{"$f":"FEAS!I25*(1-BASE!I25)","v":0},{"$f":"FEAS!J25*(1-BASE!J25)","v":0},{"$f":"FEAS!K25*(1-BASE!K25)","v":0},{"$f":"FEAS!L25*(1-BASE!L25)","v":0},{"$f":"FEAS!M25*(1-BASE!M25)","v":0},{"$f":"FEAS!N25*(1-BASE!N25)","v":0},{"$f":"FEAS!O25*(1-BASE!O25)","v":0},{"$f":"FEAS!P25*(1-BASE!P25)","v":0},{"$f":"FEAS!Q25*(1-BASE!Q25)","v":0},{"$f":"FEAS!R25*(1-BASE!R25)","v":0},{"$f":"FEAS!S25*(1-BASE!S25)","v":0},{"$f":"FEAS!T25*(1-BASE!T25)","v":0},{"$f":"FEAS!U25*(1-BASE!U25)","v":0}]
[{"$f":"MLIST!A26","v":"Food Preparation"},{"$f":"MLIST!D26","v":"Fryer-NR"},{"$f":"FEAS!C26*(1-BASE!C26)","v":0},{"$f":"FEAS!D26*(1-BASE!D26)","v":0},{"$f":"FEAS!E26*(1-BASE!E26)","v":0},{"$f":"FEAS!F26*(1-BASE!F26)","v":0},{"$f":"FEAS!G26*(1-BASE!G26)","v":0},{"$f":"FEAS!H26*(1-BASE!H26)","v":0},{"$f":"FEAS!I26*(1-BASE!I26)","v":0},{"$f":"FEAS!J26*(1-BASE!J26)","v":0},{"$f":"FEAS!K26*(1-BASE!K26)","v":0},{"$f":"FEAS!L26*(1-BASE!L26)","v":0},{"$f":"FEAS!M26*(1-BASE!M26)","v":0},{"$f":"FEAS!N26*(1-BASE!N26)","v":0},{"$f":"FEAS!O26*(1-BASE!O26)","v":0},{"$f":"FEAS!P26*(1-BASE!P26)","v":0},{"$f":"FEAS!Q26*(1-BASE!Q26)","v":0},{"$f":"FEAS!R26*(1-BASE!R26)","v":0},{"$f":"FEAS!S26*(1-BASE!S26)","v":0},{"$f":"FEAS!T26*(1-BASE!T26)","v":0},{"$f":"FEAS!U26*(1-BASE!U26)","v":0}]
[{"$f":"MLIST!A27","v":"Food Preparation"},{"$f":"MLIST!D27","v":"Griddle-NR"},{"$f":"FEAS!C27*(1-BASE!C27)","v":0},{"$f":"FEAS!D27*(1-BASE!D27)","v":0},{"$f":"FEAS!E27*(1-BASE!E27)","v":0},{"$f":"FEAS!F27*(1-BASE!F27)","v":0},{"$f":"FEAS!G27*(1-BASE!G27)","v":0},{"$f":"FEAS!H27*(1-BASE!H27)","v":0},{"$f":"FEAS!I27*(1-BASE!I27)","v":0},{"$f":"FEAS!J27*(1-BASE!J27)","v":0},{"$f":"FEAS!K27*(1-BASE!K27)","v":0},{"$f":"FEAS!L27*(1-BASE!L27)","v":0},{"$f":"FEAS!M27*(1-BASE!M27)","v":0},{"$f":"FEAS!N27*(1-BASE!N27)","v":0},{"$f":"FEAS!O27*(1-BASE!O27)","v":0},{"$f":"FEAS!P27*(1-BASE!P27)","v":0},{"$f":"FEAS!Q27*(1-BASE!Q27)","v":0},{"$f":"FEAS!R27*(1-BASE!R27)","v":0},{"$f":"FEAS!S27*(1-BASE!S27)","v":0},{"$f":"FEAS!T27*(1-BASE!T27)","v":0},{"$f":"FEAS!U27*(1-BASE!U27)","v":0}]
[{"$f":"MLIST!A28","v":"Food Preparation"},{"$f":"MLIST!D28","v":"Overwrapper-NR"},{"$f":"FEAS!C28*(1-BASE!C28)","v":0},{"$f":"FEAS!D28*(1-BASE!D28)","v":0},{"$f":"FEAS!E28*(1-BASE!E28)","v":0},{"$f":"FEAS!F28*(1-BASE!F28)","v":0},{"$f":"FEAS!G28*(1-BASE!G28)","v":0},{"$f":"FEAS!H28*(1-BASE!H28)","v":0},{"$f":"FEAS!I28*(1-BASE!I28)","v":0},{"$f":"FEAS!J28*(1-BASE!J28)","v":0},{"$f":"FEAS!K28*(1-BASE!K28)","v":0},{"$f":"FEAS!L28*(1-BASE!L28)","v":0},{"$f":"FEAS!M28*(1-BASE!M28)","v":0},{"$f":"FEAS!N28*(1-BASE!N28)","v":0},{"$f":"FEAS!O28*(1-BASE!O28)","v":0},{"$f":"FEAS!P28*(1-BASE!P28)","v":0},{"$f":"FEAS!Q28*(1-BASE!Q28)","v":0},{"$f":"FEAS!R28*(1-BASE!R28)","v":0},{"$f":"FEAS!S28*(1-BASE!S28)","v":0},{"$f":"FEAS!T28*(1-BASE!T28)","v":0},{"$f":"FEAS!U28*(1-BASE!U28)","v":0}]
[{"$f":"MLIST!A29","v":"HVAC"},{"$f":"MLIST!D29","v":"DHP-New"},{"$f":"FEAS!C29*(1-BASE!C29)","v":0},{"$f":"FEAS!D29*(1-BASE!D29)","v":0},{"$f":"E30","v":0.20993859971201817},0,0,0,0.22094961775441127,3.681042831755117E-4,0,1.0181166373796188E-3,0,0.1774139958426586,2.68748929881307E-2,4.5085990919976641E-3,0,6.7491985575253254E-5,1.1934171460365696E-3,7.1006668618335831E-3]
[{"$f":"MLIST!A30","v":"HVAC"},{"$f":"MLIST!D30","v":"DHP-Retro"},{"$f":"FEAS!C30*(1-BASE!C30)","v":0},{"$f":"FEAS!D30*(1-BASE!D30)","v":0},{"$f":"FEAS!E30*(1-BASE!E30)","v":0.20993859971201817},{"$f":"FEAS!F30*(1-BASE!F30)","v":0},{"$f":"FEAS!G30*(1-BASE!G30)","v":0},{"$f":"FEAS!H30*(1-BASE!H30)","v":0},{"$f":"FEAS!I30*(1-BASE!I30)","v":0.22094961775441127},{"$f":"FEAS!J30*(1-BASE!J30)","v":3.681042831755117E-4},{"$f":"FEAS!K30*(1-BASE!K30)","v":0},{"$f":"FEAS!L30*(1-BASE!L30)","v":1.0181166373796188E-3},{"$f":"FEAS!M30*(1-BASE!M30)","v":0},{"$f":"FEAS!N30*(1-BASE!N30)","v":0.1774139958426586},{"$f":"FEAS!O30*(1-BASE!O30)","v":2.68748929881307E-2},{"$f":"FEAS!P30*(1-BASE!P30)","v":4.5085990919976641E-3},{"$f":"FEAS!Q30*(1-BASE!Q30)","v":0},{"$f":"FEAS!R30*(1-BASE!R30)","v":6.7491985575253254E-5},{"$f":"FEAS!S30*(1-BASE!S30)","v":1.1934171460365696E-3},{"$f":"FEAS!T30*(1-BASE!T30)","v":7.1006668618335831E-3}]
[{"$f":"MLIST!A31","v":"HVAC"},{"$f":"MLIST!D31","v":"Glass-New"},{"$f":"FEAS!C31*(1-BASE!C31)","v":0},{"$f":"FEAS!D31*(1-BASE!D31)","v":0},{"$f":"FEAS!E31*(1-BASE!E31)","v":0},{"$f":"FEAS!F31*(1-BASE!F31)","v":0},{"$f":"FEAS!G31*(1-BASE!G31)","v":0},{"$f":"FEAS!H31*(1-BASE!H31)","v":0},{"$f":"FEAS!I31*(1-BASE!I31)","v":0},{"$f":"FEAS!J31*(1-BASE!J31)","v":0},{"$f":"FEAS!K31*(1-BASE!K31)","v":0},{"$f":"FEAS!L31*(1-BASE!L31)","v":0},{"$f":"FEAS!M31*(1-BASE!M31)","v":0},{"$f":"FEAS!N31*(1-BASE!N31)","v":0},{"$f":"FEAS!O31*(1-BASE!O31)","v":0},{"$f":"FEAS!P31*(1-BASE!P31)","v":0},{"$f":"FEAS!Q31*(1-BASE!Q31)","v":0},{"$f":"FEAS!R31*(1-BASE!R31)","v":0},{"$f":"FEAS!S31*(1-BASE!S31)","v":0},{"$f":"FEAS!T31*(1-BASE!T31)","v":0}]
[{"$f":"MLIST!A32","v":"HVAC"},{"$f":"MLIST!D32","v":"Glass-NR"},{"$f":"FEAS!C32*(1-BASE!C32)","v":0},{"$f":"FEAS!D32*(1-BASE!D32)","v":0},{"$f":"FEAS!E32*(1-BASE!E32)","v":0},{"$f":"FEAS!F32*(1-BASE!F32)","v":0},{"$f":"FEAS!G32*(1-BASE!G32)","v":0},{"$f":"FEAS!H32*(1-BASE!H32)","v":0},{"$f":"FEAS!I32*(1-BASE!I32)","v":0},{"$f":"FEAS!J32*(1-BASE!J32)","v":0},{"$f":"FEAS!K32*(1-BASE!K32)","v":0},{"$f":"FEAS!L32*(1-BASE!L32)","v":0},{"$f":"FEAS!M32*(1-BASE!M32)","v":0},{"$f":"FEAS!N32*(1-BASE!N32)","v":0},{"$f":"FEAS!O32*(1-BASE!O32)","v":0},{"$f":"FEAS!P32*(1-BASE!P32)","v":0},{"$f":"FEAS!Q32*(1-BASE!Q32)","v":0},{"$f":"FEAS!R32*(1-BASE!R32)","v":0},{"$f":"FEAS!S32*(1-BASE!S32)","v":0},{"$f":"FEAS!T32*(1-BASE!T32)","v":0}]
[{"$f":"MLIST!A33","v":"HVAC"},{"$f":"MLIST!D33","v":"ARC-New"},{"$f":"FEAS!C33*(1-BASE!C33)","v":1.8926754028141333E-3},{"$f":"FEAS!D33*(1-BASE!D33)","v":0.1471496529024249},{"$f":"FEAS!E33*(1-BASE!E33)","v":0.13240689963870345},{"$f":"FEAS!F33*(1-BASE!F33)","v":7.888545633245158E-4},{"$f":"FEAS!G33*(1-BASE!G33)","v":0},{"$f":"FEAS!H33*(1-BASE!H33)","v":6.2554762465474312E-3},{"$f":"FEAS!I33*(1-BASE!I33)","v":7.7972222723667939E-2},{"$f":"FEAS!J33*(1-BASE!J33)","v":7.2961445252611393E-3},{"$f":"FEAS!K33*(1-BASE!K33)","v":0},{"$f":"FEAS!L33*(1-BASE!L33)","v":5.9002849272469775E-3},{"$f":"FEAS!M33*(1-BASE!M33)","v":1.4003390062578076E-2},{"$f":"FEAS!N33*(1-BASE!N33)","v":9.0386504994478853E-2},{"$f":"FEAS!O33*(1-BASE!O33)","v":5.5947017267791804E-2},{"$f":"FEAS!P33*(1-BASE!P33)","v":6.2676890911127076E-2},{"$f":"FEAS!Q33*(1-BASE!Q33)","v":0},{"$f":"FEAS!R33*(1-BASE!R33)","v":2.152551646759162E-2},{"$f":"FEAS!S33*(1-BASE!S33)","v":1.9689628232810039E-2},{"$f":"FEAS!T33*(1-BASE!T33)","v":1.5450247629297083E-2}]
[{"$f":"MLIST!A34","v":"HVAC"},{"$f":"MLIST!D34","v":"ARC-NR"},{"$f":"FEAS!C34*(1-BASE!C34)","v":0.95},{"$f":"FEAS!D34*(1-BASE!D34)","v":0.95},{"$f":"FEAS!E34*(1-BASE!E34)","v":0.95},{"$f":"FEAS!F34*(1-BASE!F34)","v":0.95},{"$f":"FEAS!G34*(1-BASE!G34)","v":0.95},{"$f":"FEAS!H34*(1-BASE!H34)","v":0.95},{"$f":"FEAS!I34*(1-BASE!I34)","v":0.95},{"$f":"FEAS!J34*(1-BASE!J34)","v":0.95},{"$f":"FEAS!K34*(1-BASE!K34)","v":0.95},{"$f":"FEAS!L34*(1-BASE!L34)","v":0.95},{"$f":"FEAS!M34*(1-BASE!M34)","v":0.95},{"$f":"FEAS!N34*(1-BASE!N34)","v":0.95},{"$f":"FEAS!O34*(1-BASE!O34)","v":0.95},{"$f":"FEAS!P34*(1-BASE!P34)","v":0.95},{"$f":"FEAS!Q34*(1-BASE!Q34)","v":0.95},{"$f":"FEAS!R34*(1-BASE!R34)","v":0.95},{"$f":"FEAS!S34*(1-BASE!S34)","v":0.95},{"$f":"FEAS!T34*(1-BASE!T34)","v":0.95}]
[{"$f":"MLIST!A35","v":"HVAC"},{"$f":"MLIST!D35","v":"ARC-Retro"},{"$f":"FEAS!C35*(1-BASE!C35)","v":5.9657075331244772E-2},{"$f":"FEAS!D35*(1-BASE!D35)","v":0.41979695813466034},{"$f":"FEAS!E35*(1-BASE!E35)","v":0.22893532950746645},{"$f":"FEAS!F35*(1-BASE!F35)","v":0.6146642444750684},{"$f":"FEAS!G35*(1-BASE!G35)","v":0.54209388723463203},{"$f":"FEAS!H35*(1-BASE!H35)","v":0.31953358572674878},{"$f":"FEAS!I35*(1-BASE!I35)","v":0.19529221711030417},{"$f":"FEAS!J35*(1-BASE!J35)","v":0.11230866677341698},{"$f":"FEAS!K35*(1-BASE!K35)","v":0.10749999999999998},{"$f":"FEAS!L35*(1-BASE!L35)","v":5.314425823977946E-2},{"$f":"FEAS!M35*(1-BASE!M35)","v":0.44258665295315303},{"$f":"FEAS!N35*(1-BASE!N35)","v":0.62620222567182793},{"$f":"FEAS!O35*(1-BASE!O35)","v":0.77243750182085646},{"$f":"FEAS!P35*(1-BASE!P35)","v":8.8968152189568425E-2},{"$f":"FEAS!Q35*(1-BASE!Q35)","v":0.13749999999999998},{"$f":"FEAS!R35*(1-BASE!R35)","v":0.14307280234537562},{"$f":"FEAS!S35*(1-BASE!S35)","v":0.24525021208938691},{"$f":"FEAS!T35*(1-BASE!T35)","v":9.4235260659140119E-2}]
[{"$f":"MLIST!A36","v":"HVAC"},{"$f":"MLIST!D36","v":"Chiller-Upgrade-New"},{"$f":"FEAS!C36*(1-BASE!C36)","v":0.85572036365088233},{"$f":"FEAS!D36*(1-BASE!D36)","v":0.12610469486296982},{"$f":"FEAS!E36*(1-BASE!E36)","v":1.0324683806626768E-2},{"$f":"FEAS!F36*(1-BASE!F36)","v":1.6995278460937915E-2},{"$f":"FEAS!G36*(1-BASE!G36)","v":0},{"$f":"FEAS!H36*(1-BASE!H36)","v":1.9888271057014548E-2},{"$f":"FEAS!I36*(1-BASE!I36)","v":0},{"$f":"FEAS!J36*(1-BASE!J36)","v":0.27382235381318148},{"$f":"FEAS!K36*(1-BASE!K36)","v":0.25290331601975768},{"$f":"FEAS!L36*(1-BASE!L36)","v":3.196963892883715E-3},{"$f":"FEAS!M36*(1-BASE!M36)","v":2.178440909180045E-2},{"$f":"FEAS!N36*(1-BASE!N36)","v":0},{"$f":"FEAS!O36*(1-BASE!O36)","v":0},{"$f":"FEAS!P36*(1-BASE!P36)","v":0.24610953172354536},{"$f":"FEAS!Q36*(1-BASE!Q36)","v":0.67994104697042934},{"$f":"FEAS!R36*(1-BASE!R36)","v":0.12900210241673482},{"$f":"FEAS!S36*(1-BASE!S36)","v":0.18358545444147778},{"$f":"FEAS!T36*(1-BASE!T36)","v":0.22085103279684754}]
[{"$f":"MLIST!A37","v":"HVAC"},{"$f":"MLIST!D37","v":"Chiller-Upgrade-NR"},{"$f":"FEAS!C37*(1-BASE!C37)","v":0.90326038385370899},{"$f":"FEAS!D37*(1-BASE!D37)","v":0.13311051124424592},{"$f":"FEAS!E37*(1-BASE!E37)","v":1.0898277351439367E-2},{"$f":"FEAS!F37*(1-BASE!F37)","v":1.7939460597656689E-2},{"$f":"FEAS!G37*(1-BASE!G37)","v":0},{"$f":"FEAS!H37*(1-BASE!H37)","v":2.0993175004626465E-2},{"$f":"FEAS!I37*(1-BASE!I37)","v":0},{"$f":"FEAS!J37*(1-BASE!J37)","v":0.28903470680280263},{"$f":"FEAS!K37*(1-BASE!K37)","v":0.26695350024307751},{"$f":"FEAS!L37*(1-BASE!L37)","v":3.3745729980439211E-3},{"$f":"FEAS!M37*(1-BASE!M37)","v":2.2994654041344917E-2},{"$f":"FEAS!N37*(1-BASE!N37)","v":0},{"$f":"FEAS!O37*(1-BASE!O37)","v":0},{"$f":"FEAS!P37*(1-BASE!P37)","v":0.25978228348596449},{"$f":"FEAS!Q37*(1-BASE!Q37)","v":0.71771554957989758},{"$f":"FEAS!R37*(1-BASE!R37)","v":0.13616888588433118},{"$f":"FEAS!S37*(1-BASE!S37)","v":0.19378464635489318},{"$f":"FEAS!T37*(1-BASE!T37)","v":0.23312053461889462}]
[{"$f":"MLIST!A38","v":"HVAC"},{"$f":"MLIST!D38","v":"Chiller-System-Retro"},{"$f":"FEAS!C38*(1-BASE!C38)","v":0.90326038385370899},{"$f":"FEAS!D38*(1-BASE!D38)","v":0.13311051124424592},{"$f":"FEAS!E38*(1-BASE!E38)","v":1.0898277351439367E-2},{"$f":"FEAS!F38*(1-BASE!F38)","v":1.7939460597656689E-2},{"$f":"FEAS!G38*(1-BASE!G38)","v":0},{"$f":"FEAS!H38*(1-BASE!H38)","v":2.0993175004626465E-2},{"$f":"FEAS!I38*(1-BASE!I38)","v":0},{"$f":"FEAS!J38*(1-BASE!J38)","v":0.28903470680280263},{"$f":"FEAS!K38*(1-BASE!K38)","v":0.26695350024307751},{"$f":"FEAS!L38*(1-BASE!L38)","v":3.3745729980439211E-3},{"$f":"FEAS!M38*(1-BASE!M38)","v":2.2994654041344917E-2},{"$f":"FEAS!N38*(1-BASE!N38)","v":0},{"$f":"FEAS!O38*(1-BASE!O38)","v":0},{"$f":"FEAS!P38*(1-BASE!P38)","v":0.25978228348596449},{"$f":"FEAS!Q38*(1-BASE!Q38)","v":0.71771554957989758},{"$f":"FEAS!R38*(1-BASE!R38)","v":0.13616888588433118},{"$f":"FEAS!S38*(1-BASE!S38)","v":0.19378464635489318},{"$f":"FEAS!T38*(1-BASE!T38)","v":0.23312053461889462}]
[{"$f":"MLIST!A39","v":"HVAC"},{"$f":"MLIST!D39","v":"Fans-Retro"},{"$f":"FEAS!C40*(1-BASE!C39)","v":1},{"$f":"FEAS!D39*(1-BASE!D39)","v":1},{"$f":"FEAS!E39*(1-BASE!E39)","v":1},{"$f":"FEAS!F39*(1-BASE!F39)","v":1},{"$f":"FEAS!G39*(1-BASE!G39)","v":1},{"$f":"FEAS!H39*(1-BASE!H39)","v":1},{"$f":"FEAS!I39*(1-BASE!I39)","v":1},{"$f":"FEAS!J39*(1-BASE!J39)","v":1},{"$f":"FEAS!K39*(1-BASE!K39)","v":1},{"$f":"FEAS!L39*(1-BASE!L39)","v":1},{"$f":"FEAS!M39*(1-BASE!M39)","v":1},{"$f":"FEAS!N39*(1-BASE!N39)","v":1},{"$f":"FEAS!O39*(1-BASE!O39)","v":1},{"$f":"FEAS!P39*(1-BASE!P39)","v":1},{"$f":"FEAS!Q39*(1-BASE!Q39)","v":1},{"$f":"FEAS!R39*(1-BASE!R39)","v":1},{"$f":"FEAS!S39*(1-BASE!S39)","v":1},{"$f":"FEAS!T39*(1-BASE!T39)","v":1}]
[{"$f":"MLIST!A40","v":"HVAC"},{"$f":"MLIST!D40","v":"Fans-NR"},{"$f":"FEAS!C41*(1-BASE!C40)","v":1},{"$f":"FEAS!D40*(1-BASE!D40)","v":1},{"$f":"FEAS!E40*(1-BASE!E40)","v":1},{"$f":"FEAS!F40*(1-BASE!F40)","v":1},{"$f":"FEAS!G40*(1-BASE!G40)","v":1},{"$f":"FEAS!H40*(1-BASE!H40)","v":1},{"$f":"FEAS!I40*(1-BASE!I40)","v":1},{"$f":"FEAS!J40*(1-BASE!J40)","v":1},{"$f":"FEAS!K40*(1-BASE!K40)","v":1},{"$f":"FEAS!L40*(1-BASE!L40)","v":1},{"$f":"FEAS!M40*(1-BASE!M40)","v":1},{"$f":"FEAS!N40*(1-BASE!N40)","v":1},{"$f":"FEAS!O40*(1-BASE!O40)","v":1},{"$f":"FEAS!P40*(1-BASE!P40)","v":1},{"$f":"FEAS!Q40*(1-BASE!Q40)","v":1},{"$f":"FEAS!R40*(1-BASE!R40)","v":1},{"$f":"FEAS!S40*(1-BASE!S40)","v":1},{"$f":"FEAS!T40*(1-BASE!T40)","v":1}]
[{"$f":"MLIST!A41","v":"HVAC"},{"$f":"MLIST!D41","v":"Fans-New"},{"$f":"FEAS!C41*(1-BASE!C41)","v":1},{"$f":"FEAS!D41*(1-BASE!D41)","v":1},{"$f":"FEAS!E41*(1-BASE!E41)","v":1},{"$f":"FEAS!F41*(1-BASE!F41)","v":1},{"$f":"FEAS!G41*(1-BASE!G41)","v":1},{"$f":"FEAS!H41*(1-BASE!H41)","v":1},{"$f":"FEAS!I41*(1-BASE!I41)","v":1},{"$f":"FEAS!J41*(1-BASE!J41)","v":1},{"$f":"FEAS!K41*(1-BASE!K41)","v":1},{"$f":"FEAS!L41*(1-BASE!L41)","v":1},{"$f":"FEAS!M41*(1-BASE!M41)","v":1},{"$f":"FEAS!N41*(1-BASE!N41)","v":1},{"$f":"FEAS!O41*(1-BASE!O41)","v":1},{"$f":"FEAS!P41*(1-BASE!P41)","v":1},{"$f":"FEAS!Q41*(1-BASE!Q41)","v":1},{"$f":"FEAS!R41*(1-BASE!R41)","v":1},{"$f":"FEAS!S41*(1-BASE!S41)","v":1},{"$f":"FEAS!T41*(1-BASE!T41)","v":1}]
[{"$f":"MLIST!A42","v":"HVAC"},{"$f":"MLIST!D42","v":"VHE-DOAS-NR"},{"$f":"FEAS!C42*(1-BASE!C42)","v":0},{"$f":"FEAS!D42*(1-BASE!D42)","v":0.31116799555198416},{"$f":"FEAS!E42*(1-BASE!E42)","v":0.10078956592697434},{"$f":"FEAS!F42*(1-BASE!F42)","v":0},{"$f":"FEAS!G42*(1-BASE!G42)","v":0},{"$f":"FEAS!H42*(1-BASE!H42)","v":0.22404956203404489},{"$f":"FEAS!I42*(1-BASE!I42)","v":2.0929207427793917E-2},{"$f":"FEAS!J42*(1-BASE!J42)","v":0.11880489623903835},{"$f":"FEAS!K42*(1-BASE!K42)","v":3.2500000000000001E-2},{"$f":"FEAS!L42*(1-BASE!L42)","v":0},{"$f":"FEAS!M42*(1-BASE!M42)","v":0},{"$f":"FEAS!N42*(1-BASE!N42)","v":0},{"$f":"FEAS!O42*(1-BASE!O42)","v":0},{"$f":"FEAS!P42*(1-BASE!P42)","v":8.1144239743357799E-2},{"$f":"FEAS!Q42*(1-BASE!Q42)","v":0},{"$f":"FEAS!R42*(1-BASE!R42)","v":0.11228235653132591},{"$f":"FEAS!S42*(1-BASE!S42)","v":8.0176638022840835E-2},{"$f":"FEAS!T42*(1-BASE!T42)","v":8.0362480593906466E-2}]
[{"$f":"MLIST!A43","v":"HVAC"},{"$f":"MLIST!D43","v":"VHE-DOAS-New"},{"$f":"FEAS!C43*(1-BASE!C43)","v":0},{"$f":"FEAS!D43*(1-BASE!D43)","v":0.31116799555198416},{"$f":"FEAS!E43*(1-BASE!E43)","v":0.10078956592697434},{"$f":"FEAS!F43*(1-BASE!F43)","v":0},{"$f":"FEAS!G43*(1-BASE!G43)","v":0},{"$f":"FEAS!H43*(1-BASE!H43)","v":0.22404956203404489},{"$f":"FEAS!I43*(1-BASE!I43)","v":2.0929207427793917E-2},{"$f":"FEAS!J43*(1-BASE!J43)","v":0.11880489623903835},{"$f":"FEAS!K43*(1-BASE!K43)","v":3.2500000000000001E-2},{"$f":"FEAS!L43*(1-BASE!L43)","v":0},{"$f":"FEAS!M43*(1-BASE!M43)","v":0},{"$f":"FEAS!N43*(1-BASE!N43)","v":0},{"$f":"FEAS!O43*(1-BASE!O43)","v":0},{"$f":"FEAS!P43*(1-BASE!P43)","v":8.1144239743357799E-2},{"$f":"FEAS!Q43*(1-BASE!Q43)","v":0},{"$f":"FEAS!R43*(1-BASE!R43)","v":0.11228235653132591},{"$f":"FEAS!S43*(1-BASE!S43)","v":8.0176638022840835E-2},{"$f":"FEAS!T43*(1-BASE!T43)","v":8.0362480593906466E-2}]
[{"$f":"MLIST!A44","v":"HVAC"},{"$f":"MLIST!D44","v":"-NR"},{"$f":"FEAS!C44*(1-BASE!C44)","v":0},{"$f":"FEAS!D44*(1-BASE!D44)","v":0},{"$f":"FEAS!E44*(1-BASE!E44)","v":0},{"$f":"FEAS!F44*(1-BASE!F44)","v":0},{"$f":"FEAS!G44*(1-BASE!G44)","v":0},{"$f":"FEAS!H44*(1-BASE!H44)","v":0},{"$f":"FEAS!I44*(1-BASE!I44)","v":0},{"$f":"FEAS!J44*(1-BASE!J44)","v":0},{"$f":"FEAS!K44*(1-BASE!K44)","v":0},{"$f":"FEAS!L44*(1-BASE!L44)","v":0},{"$f":"FEAS!M44*(1-BASE!M44)","v":0},{"$f":"FEAS!N44*(1-BASE!N44)","v":0},{"$f":"FEAS!O44*(1-BASE!O44)","v":0},{"$f":"FEAS!P44*(1-BASE!P44)","v":0},{"$f":"FEAS!Q44*(1-BASE!Q44)","v":0},{"$f":"FEAS!R44*(1-BASE!R44)","v":0},{"$f":"FEAS!S44*(1-BASE!S44)","v":0},{"$f":"FEAS!T44*(1-BASE!T44)","v":0}]
[{"$f":"MLIST!A45","v":"HVAC"},{"$f":"MLIST!D45","v":"Commercial EM-New"},{"$f":"FEAS!C45*(1-BASE!C45)","v":0.47678610428665413},{"$f":"FEAS!D45*(1-BASE!D45)","v":8.440818977717264E-2},{"$f":"FEAS!E45*(1-BASE!E45)","v":0},{"$f":"FEAS!F45*(1-BASE!F45)","v":3.6254517907906306E-2},{"$f":"FEAS!G45*(1-BASE!G45)","v":0.24421640012744142},{"$f":"FEAS!H45*(1-BASE!H45)","v":2.322845861759068E-2},{"$f":"FEAS!I45*(1-BASE!I45)","v":0},{"$f":"FEAS!J45*(1-BASE!J45)","v":0.27799049791787089},{"$f":"FEAS!K45*(1-BASE!K45)","v":0.74646514169088507},{"$f":"FEAS!L45*(1-BASE!L45)","v":0},{"$f":"FEAS!M45*(1-BASE!M45)","v":6.4398612033683633E-2},{"$f":"FEAS!N45*(1-BASE!N45)","v":0},{"$f":"FEAS!O45*(1-BASE!O45)","v":2.0682018583571212E-2},{"$f":"FEAS!P45*(1-BASE!P45)","v":7.142024589522987E-2},{"$f":"FEAS!Q45*(1-BASE!Q45)","v":0.81926108919299323},{"$f":"FEAS!R45*(1-BASE!R45)","v":6.9649323615351061E-2},{"$f":"FEAS!S45*(1-BASE!S45)","v":0},{"$f":"FEAS!T45*(1-BASE!T45)","v":0}]
[{"$f":"MLIST!A46","v":"HVAC"},{"$f":"MLIST!D46","v":"Commercial EM-Retro"},{"$f":"FEAS!C46*(1-BASE!C46)","v":0.47678610428665413},{"$f":"FEAS!D46*(1-BASE!D46)","v":8.440818977717264E-2},{"$f":"FEAS!E46*(1-BASE!E46)","v":0},{"$f":"FEAS!F46*(1-BASE!F46)","v":3.6254517907906306E-2},{"$f":"FEAS!G46*(1-BASE!G46)","v":0.24421640012744142},{"$f":"FEAS!H46*(1-BASE!H46)","v":2.322845861759068E-2},{"$f":"FEAS!I46*(1-BASE!I46)","v":0},{"$f":"FEAS!J46*(1-BASE!J46)","v":0.27799049791787089},{"$f":"FEAS!K46*(1-BASE!K46)","v":0.74646514169088507},{"$f":"FEAS!L46*(1-BASE!L46)","v":0},{"$f":"FEAS!M46*(1-BASE!M46)","v":6.4398612033683633E-2},{"$f":"FEAS!N46*(1-BASE!N46)","v":0},{"$f":"FEAS!O46*(1-BASE!O46)","v":2.0682018583571212E-2},{"$f":"FEAS!P46*(1-BASE!P46)","v":7.142024589522987E-2},{"$f":"FEAS!Q46*(1-BASE!Q46)","v":0.81926108919299323},{"$f":"FEAS!R46*(1-BASE!R46)","v":6.9649323615351061E-2},{"$f":"FEAS!S46*(1-BASE!S46)","v":0},{"$f":"FEAS!T46*(1-BASE!T46)","v":0}]
[{"$f":"MLIST!A47","v":"HVAC"},{"$f":"MLIST!D47","v":"Economizer-Retro"},{"$f":"FEAS!C47*(1-BASE!C47)","v":0.37773742662640791},{"$f":"FEAS!D47*(1-BASE!D47)","v":0.23826646440482974},{"$f":"FEAS!E47*(1-BASE!E47)","v":5.5518884697354179E-2},{"$f":"FEAS!F47*(1-BASE!F47)","v":0.35309381104934129},{"$f":"FEAS!G47*(1-BASE!G47)","v":0.19907568268653997},{"$f":"FEAS!H47*(1-BASE!H47)","v":0.15513670187653161},{"$f":"FEAS!I47*(1-BASE!I47)","v":1.0197910929940514E-2},{"$f":"FEAS!J47*(1-BASE!J47)","v":0.28088324172086482},{"$f":"FEAS!K47*(1-BASE!K47)","v":0.28088324172086482},{"$f":"FEAS!L47*(1-BASE!L47)","v":0.11124903795477889},{"$f":"FEAS!M47*(1-BASE!M47)","v":0.31360984414443888},{"$f":"FEAS!N47*(1-BASE!N47)","v":0.15264480663133839},{"$f":"FEAS!O47*(1-BASE!O47)","v":0.24652213025227437},{"$f":"FEAS!P47*(1-BASE!P47)","v":7.8175735111402314E-2},{"$f":"FEAS!Q47*(1-BASE!Q47)","v":0.34124133606352913},{"$f":"FEAS!R47*(1-BASE!R47)","v":5.9048454739110051E-2},{"$f":"FEAS!S47*(1-BASE!S47)","v":0.29894926354357898},{"$f":"FEAS!T47*(1-BASE!T47)","v":0.31491070071894045}]
[{"$f":"MLIST!A48","v":"HVAC"},{"$f":"MLIST!D48","v":"Demand Control Ventilation-New"},{"$f":"FEAS!C48*(1-BASE!C48)","v":0},{"$f":"FEAS!D48*(1-BASE!D48)","v":0},{"$f":"FEAS!E48*(1-BASE!E48)","v":0},{"$f":"FEAS!F48*(1-BASE!F48)","v":0},{"$f":"FEAS!G48*(1-BASE!G48)","v":0},{"$f":"FEAS!H48*(1-BASE!H48)","v":0},{"$f":"FEAS!I48*(1-BASE!I48)","v":0},{"$f":"FEAS!J48*(1-BASE!J48)","v":0},{"$f":"FEAS!K48*(1-BASE!K48)","v":0},{"$f":"FEAS!L48*(1-BASE!L48)","v":0},{"$f":"FEAS!M48*(1-BASE!M48)","v":0},{"$f":"FEAS!N48*(1-BASE!N48)","v":0},{"$f":"FEAS!O48*(1-BASE!O48)","v":0},{"$f":"FEAS!P48*(1-BASE!P48)","v":0},{"$f":"FEAS!Q48*(1-BASE!Q48)","v":0},{"$f":"FEAS!R48*(1-BASE!R48)","v":0},{"$f":"FEAS!S48*(1-BASE!S48)","v":0},{"$f":"FEAS!T48*(1-BASE!T48)","v":0}]
[{"$f":"MLIST!A49","v":"HVAC"},{"$f":"MLIST!D49","v":"Demand Control Ventilation-NR"},{"$f":"FEAS!C49*(1-BASE!C49)","v":0},{"$f":"FEAS!D49*(1-BASE!D49)","v":0},{"$f":"FEAS!E49*(1-BASE!E49)","v":0},{"$f":"FEAS!F49*(1-BASE!F49)","v":0},{"$f":"FEAS!G49*(1-BASE!G49)","v":0},{"$f":"FEAS!H49*(1-BASE!H49)","v":0},{"$f":"FEAS!I49*(1-BASE!I49)","v":0},{"$f":"FEAS!J49*(1-BASE!J49)","v":0},{"$f":"FEAS!K49*(1-BASE!K49)","v":0},{"$f":"FEAS!L49*(1-BASE!L49)","v":0},{"$f":"FEAS!M49*(1-BASE!M49)","v":0},{"$f":"FEAS!N49*(1-BASE!N49)","v":0},{"$f":"FEAS!O49*(1-BASE!O49)","v":0},{"$f":"FEAS!P49*(1-BASE!P49)","v":0},{"$f":"FEAS!Q49*(1-BASE!Q49)","v":0},{"$f":"FEAS!R49*(1-BASE!R49)","v":0},{"$f":"FEAS!S49*(1-BASE!S49)","v":0},{"$f":"FEAS!T49*(1-BASE!T49)","v":0}]
[{"$f":"MLIST!A50","v":"HVAC"},{"$f":"MLIST!D50","v":"Demand Control Ventilation-Retro"},{"$f":"FEAS!C50*(1-BASE!C50)","v":0.10326972741610822},{"$f":"FEAS!D50*(1-BASE!D50)","v":0.62207382538606792},{"$f":"FEAS!E50*(1-BASE!E50)","v":0.71764122486097937},{"$f":"FEAS!F50*(1-BASE!F50)","v":0.64936643170170361},{"$f":"FEAS!G50*(1-BASE!G50)","v":0.3754791340852166},{"$f":"FEAS!H50*(1-BASE!H50)","v":0.51861578363233451},{"$f":"FEAS!I50*(1-BASE!I50)","v":0.4224831216091387},{"$f":"FEAS!J50*(1-BASE!J50)","v":0.32307857163168779},{"$f":"FEAS!K50*(1-BASE!K50)","v":0.19213044434378573},{"$f":"FEAS!L50*(1-BASE!L50)","v":0.21144946069810441},{"$f":"FEAS!M50*(1-BASE!M50)","v":0.43390558040018462},{"$f":"FEAS!N50*(1-BASE!N50)","v":0.57499869036077145},{"$f":"FEAS!O50*(1-BASE!O50)","v":0.45018285377424883},{"$f":"FEAS!P50*(1-BASE!P50)","v":0.24208313482049432},{"$f":"FEAS!Q50*(1-BASE!Q50)","v":0.12663145344947355},{"$f":"FEAS!R50*(1-BASE!R50)","v":0.3226231781527627},{"$f":"FEAS!S50*(1-BASE!S50)","v":0.47074543668218816},{"$f":"FEAS!T50*(1-BASE!T50)","v":0.34671695238562511}]
[{"$f":"MLIST!A51","v":"HVAC"},{"$f":"MLIST!D51","v":"DCV-Lab Hood-Retro"},{"$f":"FEAS!C51*(1-BASE!C51)","v":0},{"$f":"FEAS!D51*(1-BASE!D51)","v":0},{"$f":"FEAS!E51*(1-BASE!E51)","v":0},{"$f":"FEAS!F51*(1-BASE!F51)","v":0},{"$f":"FEAS!G51*(1-BASE!G51)","v":0},{"$f":"FEAS!H51*(1-BASE!H51)","v":0},{"$f":"FEAS!I51*(1-BASE!I51)","v":0},{"$f":"FEAS!J51*(1-BASE!J51)","v":0},{"$f":"FEAS!K51*(1-BASE!K51)","v":0},{"$f":"FEAS!L51*(1-BASE!L51)","v":0},{"$f":"FEAS!M51*(1-BASE!M51)","v":0},{"$f":"FEAS!N51*(1-BASE!N51)","v":0},{"$f":"FEAS!O51*(1-BASE!O51)","v":0},{"$f":"FEAS!P51*(1-BASE!P51)","v":0},{"$f":"FEAS!Q51*(1-BASE!Q51)","v":0},{"$f":"FEAS!R51*(1-BASE!R51)","v":0},{"$f":"FEAS!S51*(1-BASE!S51)","v":0},{"$f":"FEAS!T51*(1-BASE!T51)","v":0},{"$f":"FEAS!U51*(1-BASE!U51)","v":0.7}]
[{"$f":"MLIST!A52","v":"HVAC"},{"$f":"MLIST!D52","v":"DCV-Kitchen-Retro"},{"$f":"FEAS!C52*(1-BASE!C52)","v":0},{"$f":"FEAS!D52*(1-BASE!D52)","v":0},{"$f":"FEAS!E52*(1-BASE!E52)","v":0},{"$f":"FEAS!F52*(1-BASE!F52)","v":0},{"$f":"FEAS!G52*(1-BASE!G52)","v":0},{"$f":"FEAS!H52*(1-BASE!H52)","v":0},{"$f":"FEAS!I52*(1-BASE!I52)","v":0},{"$f":"FEAS!J52*(1-BASE!J52)","v":0},{"$f":"FEAS!K52*(1-BASE!K52)","v":0},{"$f":"FEAS!L52*(1-BASE!L52)","v":0},{"$f":"FEAS!M52*(1-BASE!M52)","v":0},{"$f":"FEAS!N52*(1-BASE!N52)","v":0},{"$f":"FEAS!O52*(1-BASE!O52)","v":0},{"$f":"FEAS!P52*(1-BASE!P52)","v":0},{"$f":"FEAS!Q52*(1-BASE!Q52)","v":0},{"$f":"FEAS!R52*(1-BASE!R52)","v":0},{"$f":"FEAS!S52*(1-BASE!S52)","v":0},{"$f":"FEAS!T52*(1-BASE!T52)","v":0},{"$f":"FEAS!U52*(1-BASE!U52)","v":0.4}]
[{"$f":"MLIST!A53","v":"HVAC"},{"$f":"MLIST!D53","v":"DCV-Parking Garage-Retro"},{"$f":"FEAS!C53*(1-BASE!C53)","v":0},{"$f":"FEAS!D53*(1-BASE!D53)","v":0},{"$f":"FEAS!E53*(1-BASE!E53)","v":0},{"$f":"FEAS!F53*(1-BASE!F53)","v":0},{"$f":"FEAS!G53*(1-BASE!G53)","v":0},{"$f":"FEAS!H53*(1-BASE!H53)","v":0},{"$f":"FEAS!I53*(1-BASE!I53)","v":0},{"$f":"FEAS!J53*(1-BASE!J53)","v":0},{"$f":"FEAS!K53*(1-BASE!K53)","v":0},{"$f":"FEAS!L53*(1-BASE!L53)","v":0},{"$f":"FEAS!M53*(1-BASE!M53)","v":0},{"$f":"FEAS!N53*(1-BASE!N53)","v":0},{"$f":"FEAS!O53*(1-BASE!O53)","v":0},{"$f":"FEAS!P53*(1-BASE!P53)","v":0},{"$f":"FEAS!Q53*(1-BASE!Q53)","v":0},{"$f":"FEAS!R53*(1-BASE!R53)","v":0},{"$f":"FEAS!S53*(1-BASE!S53)","v":0},{"$f":"FEAS!T53*(1-BASE!T53)","v":0},{"$f":"FEAS!U53*(1-BASE!U53)","v":0.65}]
[{"$f":"MLIST!A54","v":"HVAC"},{"$f":"MLIST!D54","v":"Weatherization - School-Retro"},{"$f":"FEAS!C54*(1-BASE!C54)","v":0.01},{"$f":"FEAS!D54*(1-BASE!D54)","v":0.01},{"$f":"FEAS!E54*(1-BASE!E54)","v":0.01},{"$f":"FEAS!F54*(1-BASE!F54)","v":0.01},{"$f":"FEAS!G54*(1-BASE!G54)","v":0.01},{"$f":"FEAS!H54*(1-BASE!H54)","v":0.01},{"$f":"FEAS!I54*(1-BASE!I54)","v":0.01},{"$f":"FEAS!J54*(1-BASE!J54)","v":0.01},{"$f":"FEAS!K54*(1-BASE!K54)","v":0.01},{"$f":"FEAS!L54*(1-BASE!L54)","v":0.01},{"$f":"FEAS!M54*(1-BASE!M54)","v":0.01},{"$f":"FEAS!N54*(1-BASE!N54)","v":0.01},{"$f":"FEAS!O54*(1-BASE!O54)","v":0.01},{"$f":"FEAS!P54*(1-BASE!P54)","v":0.01},{"$f":"FEAS!Q54*(1-BASE!Q54)","v":0.01},{"$f":"FEAS!R54*(1-BASE!R54)","v":0.01},{"$f":"FEAS!S54*(1-BASE!S54)","v":0.01},{"$f":"FEAS!T54*(1-BASE!T54)","v":0.01}]
[{"$f":"MLIST!A55","v":"HVAC"},{"$f":"MLIST!D55","v":"Energy Recovery Ventilator-NR"},{"$f":"FEAS!C55*(1-BASE!C55)","v":0.01},{"$f":"FEAS!D55*(1-BASE!D55)","v":0.01},{"$f":"FEAS!E55*(1-BASE!E55)","v":0.01},{"$f":"FEAS!F55*(1-BASE!F55)","v":0.01},{"$f":"FEAS!G55*(1-BASE!G55)","v":0.01},{"$f":"FEAS!H55*(1-BASE!H55)","v":0.01},{"$f":"FEAS!I55*(1-BASE!I55)","v":0.01},{"$f":"FEAS!J55*(1-BASE!J55)","v":0.01},{"$f":"FEAS!K55*(1-BASE!K55)","v":0.01},{"$f":"FEAS!L55*(1-BASE!L55)","v":0.01},{"$f":"FEAS!M55*(1-BASE!M55)","v":0.01},{"$f":"FEAS!N55*(1-BASE!N55)","v":0.01},{"$f":"FEAS!O55*(1-BASE!O55)","v":0.01},{"$f":"FEAS!P55*(1-BASE!P55)","v":0.01},{"$f":"FEAS!Q55*(1-BASE!Q55)","v":0.01},{"$f":"FEAS!R55*(1-BASE!R55)","v":0.01},{"$f":"FEAS!S55*(1-BASE!S55)","v":0.01},{"$f":"FEAS!T55*(1-BASE!T55)","v":0.01},{"$f":"FEAS!U55*(1-BASE!U55)","v":9.9999999999999978E-2}]
[{"$f":"MLIST!A56","v":"HVAC"},{"$f":"MLIST!D56","v":"AC Heat Recovery for Water Heating-NR"},{"$f":"FEAS!C56*(1-BASE!C56)","v":0.01},{"$f":"FEAS!D56*(1-BASE!D56)","v":0.01},{"$f":"FEAS!E56*(1-BASE!E56)","v":0.01},{"$f":"FEAS!F56*(1-BASE!F56)","v":0.01},{"$f":"FEAS!G56*(1-BASE!G56)","v":0.01},{"$f":"FEAS!H56*(1-BASE!H56)","v":0.01},{"$f":"FEAS!I56*(1-BASE!I56)","v":0.01},{"$f":"FEAS!J56*(1-BASE!J56)","v":0.01},{"$f":"FEAS!K56*(1-BASE!K56)","v":0.01},{"$f":"FEAS!L56*(1-BASE!L56)","v":0.01},{"$f":"FEAS!M56*(1-BASE!M56)","v":0.01},{"$f":"FEAS!N56*(1-BASE!N56)","v":0.01},{"$f":"FEAS!O56*(1-BASE!O56)","v":0.01},{"$f":"FEAS!P56*(1-BASE!P56)","v":0.01},{"$f":"FEAS!Q56*(1-BASE!Q56)","v":0.01},{"$f":"FEAS!R56*(1-BASE!R56)","v":0.01},{"$f":"FEAS!S56*(1-BASE!S56)","v":0.01},{"$f":"FEAS!T56*(1-BASE!T56)","v":0.01}]
[{"$f":"MLIST!A57","v":"HVAC"},{"$f":"MLIST!D57","v":"Room Occupancy Sensors in Lodging-Retro"},{"$f":"FEAS!C57*(1-BASE!C57)","v":0.01},{"$f":"FEAS!D57*(1-BASE!D57)","v":0.01},{"$f":"FEAS!E57*(1-BASE!E57)","v":0.01},{"$f":"FEAS!F57*(1-BASE!F57)","v":0.01},{"$f":"FEAS!G57*(1-BASE!G57)","v":0.01},{"$f":"FEAS!H57*(1-BASE!H57)","v":0.01},{"$f":"FEAS!I57*(1-BASE!I57)","v":0.01},{"$f":"FEAS!J57*(1-BASE!J57)","v":0.01},{"$f":"FEAS!K57*(1-BASE!K57)","v":0.01},{"$f":"FEAS!L57*(1-BASE!L57)","v":0.01},{"$f":"FEAS!M57*(1-BASE!M57)","v":0.01},{"$f":"FEAS!N57*(1-BASE!N57)","v":0.01},{"$f":"FEAS!O57*(1-BASE!O57)","v":0.01},{"$f":"FEAS!P57*(1-BASE!P57)","v":0.01},{"$f":"FEAS!Q57*(1-BASE!Q57)","v":0.01},{"$f":"FEAS!R57*(1-BASE!R57)","v":0.01},{"$f":"FEAS!S57*(1-BASE!S57)","v":0.01},{"$f":"FEAS!T57*(1-BASE!T57)","v":0.01}]
[{"$f":"MLIST!A58","v":"HVAC"},{"$f":"MLIST!D58","v":"Pool Blankets-Retro"},{"$f":"FEAS!C58*(1-BASE!C58)","v":0.01},{"$f":"FEAS!D58*(1-BASE!D58)","v":0.01},{"$f":"FEAS!E58*(1-BASE!E58)","v":0.01},{"$f":"FEAS!F58*(1-BASE!F58)","v":0.01},{"$f":"FEAS!G58*(1-BASE!G58)","v":0.01},{"$f":"FEAS!H58*(1-BASE!H58)","v":0.01},{"$f":"FEAS!I58*(1-BASE!I58)","v":0.01},{"$f":"FEAS!J58*(1-BASE!J58)","v":0.01},{"$f":"FEAS!K58*(1-BASE!K58)","v":0.01},{"$f":"FEAS!L58*(1-BASE!L58)","v":0.01},{"$f":"FEAS!M58*(1-BASE!M58)","v":0.01},{"$f":"FEAS!N58*(1-BASE!N58)","v":0.01},{"$f":"FEAS!O58*(1-BASE!O58)","v":0.01},{"$f":"FEAS!P58*(1-BASE!P58)","v":0.01},{"$f":"FEAS!Q58*(1-BASE!Q58)","v":0.01},{"$f":"FEAS!R58*(1-BASE!R58)","v":0.01},{"$f":"FEAS!S58*(1-BASE!S58)","v":0.01},{"$f":"FEAS!T58*(1-BASE!T58)","v":0.01}]
[{"$f":"MLIST!A59","v":"HVAC"},{"$f":"MLIST!D59","v":"ConnectedThermostats-New"},{"$f":"FEAS!C59*(1-BASE!C59)","v":0},{"$f":"FEAS!D59*(1-BASE!D59)","v":0.17938317057580522},{"$f":"FEAS!E59*(1-BASE!E59)","v":0.41648300516970066},{"$f":"FEAS!F59*(1-BASE!F59)","v":0},{"$f":"FEAS!G59*(1-BASE!G59)","v":0},{"$f":"FEAS!H59*(1-BASE!H59)","v":0.20847404612231232},{"$f":"FEAS!I59*(1-BASE!I59)","v":0.24401291771146721},{"$f":"FEAS!J59*(1-BASE!J59)","v":0.17693217700243605},{"$f":"FEAS!K59*(1-BASE!K59)","v":0},{"$f":"FEAS!L59*(1-BASE!L59)","v":0.13306451945390713},{"$f":"FEAS!M59*(1-BASE!M59)","v":0.13444513737551542},{"$f":"FEAS!N59*(1-BASE!N59)","v":0.33854180381147619},{"$f":"FEAS!O59*(1-BASE!O59)","v":9.528077527378731E-2},{"$f":"FEAS!P59*(1-BASE!P59)","v":0},{"$f":"FEAS!Q59*(1-BASE!Q59)","v":0},{"$f":"FEAS!R59*(1-BASE!R59)","v":6.7560162947598909E-2},{"$f":"FEAS!S59*(1-BASE!S59)","v":0.18439377993518563},{"$f":"FEAS!T59*(1-BASE!T59)","v":0.14367233353608369}]
[{"$f":"MLIST!A60","v":"HVAC"},{"$f":"MLIST!D60","v":"ConnectedThermostats-Retro"},{"$f":"FEAS!C60*(1-BASE!C60)","v":0},{"$f":"FEAS!D60*(1-BASE!D60)","v":0.17938317057580522},{"$f":"FEAS!E60*(1-BASE!E60)","v":0.41648300516970066},{"$f":"FEAS!F60*(1-BASE!F60)","v":0},{"$f":"FEAS!G60*(1-BASE!G60)","v":0},{"$f":"FEAS!H60*(1-BASE!H60)","v":0.20847404612231232},{"$f":"FEAS!I60*(1-BASE!I60)","v":0.24401291771146721},{"$f":"FEAS!J60*(1-BASE!J60)","v":0.17693217700243605},{"$f":"FEAS!K60*(1-BASE!K60)","v":0},{"$f":"FEAS!L60*(1-BASE!L60)","v":0.13306451945390713},{"$f":"FEAS!M60*(1-BASE!M60)","v":0.13444513737551542},{"$f":"FEAS!N60*(1-BASE!N60)","v":0.33854180381147619},{"$f":"FEAS!O60*(1-BASE!O60)","v":9.528077527378731E-2},{"$f":"FEAS!P60*(1-BASE!P60)","v":0},{"$f":"FEAS!Q60*(1-BASE!Q60)","v":0},{"$f":"FEAS!R60*(1-BASE!R60)","v":6.7560162947598909E-2},{"$f":"FEAS!S60*(1-BASE!S60)","v":0.18439377993518563},{"$f":"FEAS!T60*(1-BASE!T60)","v":0.14367233353608369}]
[{"$f":"MLIST!A61","v":"HVAC"},{"$f":"MLIST!D61","v":"CircPumps-NR"},{"$f":"FEAS!C61*(1-BASE!C61)","v":1},{"$f":"FEAS!D61*(1-BASE!D61)","v":1},{"$f":"FEAS!E61*(1-BASE!E61)","v":1},{"$f":"FEAS!F61*(1-BASE!F61)","v":1},{"$f":"FEAS!G61*(1-BASE!G61)","v":1},{"$f":"FEAS!H61*(1-BASE!H61)","v":1},{"$f":"FEAS!I61*(1-BASE!I61)","v":1},{"$f":"FEAS!J61*(1-BASE!J61)","v":1},{"$f":"FEAS!K61*(1-BASE!K61)","v":1},{"$f":"FEAS!L61*(1-BASE!L61)","v":1},{"$f":"FEAS!M61*(1-BASE!M61)","v":1},{"$f":"FEAS!N61*(1-BASE!N61)","v":1},{"$f":"FEAS!O61*(1-BASE!O61)","v":1},{"$f":"FEAS!P61*(1-BASE!P61)","v":1},{"$f":"FEAS!Q61*(1-BASE!Q61)","v":1},{"$f":"FEAS!R61*(1-BASE!R61)","v":1},{"$f":"FEAS!S61*(1-BASE!S61)","v":1},{"$f":"FEAS!T61*(1-BASE!T61)","v":1}]
[{"$f":"MLIST!A62","v":"HVAC"},{"$f":"MLIST!D62","v":"Circpumps-New"},{"$f":"FEAS!C62*(1-BASE!C62)","v":1},{"$f":"FEAS!D62*(1-BASE!D62)","v":1},{"$f":"FEAS!E62*(1-BASE!E62)","v":1},{"$f":"FEAS!F62*(1-BASE!F62)","v":1},{"$f":"FEAS!G62*(1-BASE!G62)","v":1},{"$f":"FEAS!H62*(1-BASE!H62)","v":1},{"$f":"FEAS!I62*(1-BASE!I62)","v":1},{"$f":"FEAS!J62*(1-BASE!J62)","v":1},{"$f":"FEAS!K62*(1-BASE!K62)","v":1},{"$f":"FEAS!L62*(1-BASE!L62)","v":1},{"$f":"FEAS!M62*(1-BASE!M62)","v":1},{"$f":"FEAS!N62*(1-BASE!N62)","v":1},{"$f":"FEAS!O62*(1-BASE!O62)","v":1},{"$f":"FEAS!P62*(1-BASE!P62)","v":1},{"$f":"FEAS!Q62*(1-BASE!Q62)","v":1},{"$f":"FEAS!R62*(1-BASE!R62)","v":1},{"$f":"FEAS!S62*(1-BASE!S62)","v":1},{"$f":"FEAS!T62*(1-BASE!T62)","v":1}]
[{"$f":"MLIST!A63","v":"HVAC"},{"$f":"MLIST!D63","v":"VRF-DOAS-New"},{"$f":"FEAS!C63*(1-BASE!C63)","v":4.802E-2},{"$f":"FEAS!D63*(1-BASE!D63)","v":0.76832},{"$f":"FEAS!E63*(1-BASE!E63)","v":0.76832},{"$f":"FEAS!F63*(1-BASE!F63)","v":0.24009999999999998},{"$f":"FEAS!G63*(1-BASE!G63)","v":0.24009999999999998},{"$f":"FEAS!H63*(1-BASE!H63)","v":0.24009999999999998},{"$f":"FEAS!I63*(1-BASE!I63)","v":0.24009999999999998},{"$f":"FEAS!J63*(1-BASE!J63)","v":0.76832},{"$f":"FEAS!K63*(1-BASE!K63)","v":0.76832},{"$f":"FEAS!L63*(1-BASE!L63)","v":9.6039999999999997E-3},{"$f":"FEAS!M63*(1-BASE!M63)","v":4.802E-2},{"$f":"FEAS!N63*(1-BASE!N63)","v":4.802E-2},{"$f":"FEAS!O63*(1-BASE!O63)","v":0.24009999999999998},{"$f":"FEAS!P63*(1-BASE!P63)","v":0.67227999999999988},{"$f":"FEAS!Q63*(1-BASE!Q63)","v":4.802E-2},{"$f":"FEAS!R63*(1-BASE!R63)","v":0.76832},{"$f":"FEAS!S63*(1-BASE!S63)","v":0.24009999999999998},{"$f":"FEAS!T63*(1-BASE!T63)","v":0.76832}]
[{"$f":"MLIST!A64","v":"HVAC"},{"$f":"MLIST!D64","v":"VRF-DOAS-NR"},{"$f":"FEAS!C64*(1-BASE!C64)","v":2.4323749809317022E-2},{"$f":"FEAS!D64*(1-BASE!D64)","v":6.8106499466087669E-2},{"$f":"FEAS!E64*(1-BASE!E64)","v":6.8106499466087669E-2},{"$f":"FEAS!F64*(1-BASE!F64)","v":4.8510000000000003E-3},{"$f":"FEAS!G64*(1-BASE!G64)","v":6.7914000000000002E-2},{"$f":"FEAS!H64*(1-BASE!H64)","v":6.7914000000000002E-2},{"$f":"FEAS!I64*(1-BASE!I64)","v":2.4255000000000002E-2},{"$f":"FEAS!J64*(1-BASE!J64)","v":2.4255000000000002E-2},{"$f":"FEAS!K64*(1-BASE!K64)","v":2.4255000000000002E-2},{"$f":"FEAS!L64*(1-BASE!L64)","v":2.4255000000000002E-2},{"$f":"FEAS!M64*(1-BASE!M64)","v":6.7914000000000002E-2},{"$f":"FEAS!N64*(1-BASE!N64)","v":6.7914000000000002E-2},{"$f":"FEAS!O64*(1-BASE!O64)","v":9.7019999999999995E-4},{"$f":"FEAS!P64*(1-BASE!P64)","v":4.8510000000000003E-3},{"$f":"FEAS!Q64*(1-BASE!Q64)","v":4.8510000000000003E-3},{"$f":"FEAS!R64*(1-BASE!R64)","v":2.4255000000000002E-2},{"$f":"FEAS!S64*(1-BASE!S64)","v":6.7914000000000002E-2},{"$f":"FEAS!T64*(1-BASE!T64)","v":4.8510000000000003E-3}]
[{"$f":"MLIST!A65","v":"HVAC"},{"$f":"MLIST!D65","v":"Evaporator Roof Top HVAC-Retro"},{"$f":"FEAS!C65*(1-BASE!C65)","v":0.01},{"$f":"FEAS!D65*(1-BASE!D65)","v":0.01},{"$f":"FEAS!E65*(1-BASE!E65)","v":0.01},{"$f":"FEAS!F65*(1-BASE!F65)","v":0.01},{"$f":"FEAS!G65*(1-BASE!G65)","v":0.01},{"$f":"FEAS!H65*(1-BASE!H65)","v":0.01},{"$f":"FEAS!I65*(1-BASE!I65)","v":0.01},{"$f":"FEAS!J65*(1-BASE!J65)","v":0.01},{"$f":"FEAS!K65*(1-BASE!K65)","v":0.01},{"$f":"FEAS!L65*(1-BASE!L65)","v":0.01},{"$f":"FEAS!M65*(1-BASE!M65)","v":0.01},{"$f":"FEAS!N65*(1-BASE!N65)","v":0.01},{"$f":"FEAS!O65*(1-BASE!O65)","v":0.01},{"$f":"FEAS!P65*(1-BASE!P65)","v":0.01},{"$f":"FEAS!Q65*(1-BASE!Q65)","v":0.01},{"$f":"FEAS!R65*(1-BASE!R65)","v":0.01},{"$f":"FEAS!S65*(1-BASE!S65)","v":0.01},{"$f":"FEAS!T65*(1-BASE!T65)","v":0.01}]
[{"$f":"MLIST!A66","v":"HVAC"},{"$f":"MLIST!D66","v":"HeatPumps-NR"},{"$f":"FEAS!C66*(1-BASE!C66)","v":3.6542560397981705E-2},{"$f":"FEAS!D66*(1-BASE!D66)","v":0.39519655394669206},{"$f":"FEAS!E66*(1-BASE!E66)","v":0.37995245427726915},{"$f":"FEAS!F66*(1-BASE!F66)","v":2.1709738456819512E-2},{"$f":"FEAS!G66*(1-BASE!G66)","v":0},{"$f":"FEAS!H66*(1-BASE!H66)","v":0.11197000079898092},{"$f":"FEAS!I66*(1-BASE!I66)","v":8.8679289208082199E-2},{"$f":"FEAS!J66*(1-BASE!J66)","v":3.5103173051232145E-2},{"$f":"FEAS!K66*(1-BASE!K66)","v":0.1},{"$f":"FEAS!L66*(1-BASE!L66)","v":5.9990063463919597E-3},{"$f":"FEAS!M66*(1-BASE!M66)","v":0.23814777977096271},{"$f":"FEAS!N66*(1-BASE!N66)","v":0.26655838381224639},{"$f":"FEAS!O66*(1-BASE!O66)","v":0.16388373357277711},{"$f":"FEAS!P66*(1-BASE!P66)","v":6.8811252317806673E-2},{"$f":"FEAS!Q66*(1-BASE!Q66)","v":0.1},{"$f":"FEAS!R66*(1-BASE!R66)","v":8.2098541325971358E-2},{"$f":"FEAS!S66*(1-BASE!S66)","v":9.3541742456918472E-2},{"$f":"FEAS!T66*(1-BASE!T66)","v":5.2598504059634316E-2}]
[{"$f":"MLIST!A67","v":"HVAC"},{"$f":"MLIST!D67","v":"HeatPumps-New"},{"$f":"FEAS!C67*(1-BASE!C67)","v":3.6542560397981705E-2},{"$f":"FEAS!D67*(1-BASE!D67)","v":0.39519655394669206},{"$f":"FEAS!E67*(1-BASE!E67)","v":0.37995245427726915},{"$f":"FEAS!F67*(1-BASE!F67)","v":2.1709738456819512E-2},{"$f":"FEAS!G67*(1-BASE!G67)","v":0},{"$f":"FEAS!H67*(1-BASE!H67)","v":0.11197000079898092},{"$f":"FEAS!I67*(1-BASE!I67)","v":8.8679289208082199E-2},{"$f":"FEAS!J67*(1-BASE!J67)","v":3.5103173051232145E-2},{"$f":"FEAS!K67*(1-BASE!K67)","v":0.1},{"$f":"FEAS!L67*(1-BASE!L67)","v":5.9990063463919597E-3},{"$f":"FEAS!M67*(1-BASE!M67)","v":0.23814777977096271},{"$f":"FEAS!N67*(1-BASE!N67)","v":0.26655838381224639},{"$f":"FEAS!O67*(1-BASE!O67)","v":0.16388373357277711},{"$f":"FEAS!P67*(1-BASE!P67)","v":6.8811252317806673E-2},{"$f":"FEAS!Q67*(1-BASE!Q67)","v":0.1},{"$f":"FEAS!R67*(1-BASE!R67)","v":8.2098541325971358E-2},{"$f":"FEAS!S67*(1-BASE!S67)","v":9.3541742456918472E-2},{"$f":"FEAS!T67*(1-BASE!T67)","v":5.2598504059634316E-2}]
[{"$f":"MLIST!A68","v":"HVAC"},{"$f":"MLIST!D68","v":"VCHP-NR"},{"$f":"FEAS!C68*(1-BASE!C68)","v":0.26364565595175282},{"$f":"FEAS!D68*(1-BASE!D68)","v":0.25312006634825812},{"$f":"FEAS!E68*(1-BASE!E68)","v":0.36288564632500747},{"$f":"FEAS!F68*(1-BASE!F68)","v":4.9701415337257152E-2},{"$f":"FEAS!G68*(1-BASE!G68)","v":0},{"$f":"FEAS!H68*(1-BASE!H68)","v":7.7831481142329989E-2},{"$f":"FEAS!I68*(1-BASE!I68)","v":0.19199233568050422},{"$f":"FEAS!J68*(1-BASE!J68)","v":7.4298620207873131E-2},{"$f":"FEAS!K68*(1-BASE!K68)","v":0.1},{"$f":"FEAS!L68*(1-BASE!L68)","v":7.113276907723072E-2},{"$f":"FEAS!M68*(1-BASE!M68)","v":7.2284687717319038E-2},{"$f":"FEAS!N68*(1-BASE!N68)","v":0.32449115371706461},{"$f":"FEAS!O68*(1-BASE!O68)","v":0.11198727289083449},{"$f":"FEAS!P68*(1-BASE!P68)","v":0.44650645169983255},{"$f":"FEAS!Q68*(1-BASE!Q68)","v":0.01},{"$f":"FEAS!R68*(1-BASE!R68)","v":0.38014933407842694},{"$f":"FEAS!S68*(1-BASE!S68)","v":0.1028479692416142},{"$f":"FEAS!T68*(1-BASE!T68)","v":0.20807631585447675}]
[{"$f":"MLIST!A69","v":"HVAC"},{"$f":"MLIST!D69","v":"VCHP-New"},{"$f":"FEAS!C69*(1-BASE!C69)","v":9.7482075021135345E-2},{"$f":"FEAS!D69*(1-BASE!D69)","v":1.1773370213799438E-2},{"$f":"FEAS!E69*(1-BASE!E69)","v":0.27766868679299217},{"$f":"FEAS!F69*(1-BASE!F69)","v":0.17520850471119245},{"$f":"FEAS!G69*(1-BASE!G69)","v":0.14925310343027248},{"$f":"FEAS!H69*(1-BASE!H69)","v":1.4175601781502387E-2},{"$f":"FEAS!I69*(1-BASE!I69)","v":0.35300035327299167},{"$f":"FEAS!J69*(1-BASE!J69)","v":0.24622982334029381},{"$f":"FEAS!K69*(1-BASE!K69)","v":0.1107585528664846},{"$f":"FEAS!L69*(1-BASE!L69)","v":0.17520850471119245},{"$f":"FEAS!M69*(1-BASE!M69)","v":0.1000635519914288},{"$f":"FEAS!N69*(1-BASE!N69)","v":3.7919073269764856E-3},{"$f":"FEAS!O69*(1-BASE!O69)","v":6.1118576387195395E-2},{"$f":"FEAS!P69*(1-BASE!P69)","v":0.12040568596637012},{"$f":"FEAS!Q69*(1-BASE!Q69)","v":0.15495929331387026},{"$f":"FEAS!R69*(1-BASE!R69)","v":8.6344757210899958E-3},{"$f":"FEAS!S69*(1-BASE!S69)","v":8.6344757210899958E-3},{"$f":"FEAS!T69*(1-BASE!T69)","v":8.1325185384101065E-2}]
[{"$f":"MLIST!A70","v":"HVAC"},{"$f":"MLIST!D70","v":"UnitaryAC-NR"},{"$f":"FEAS!C70*(1-BASE!C70)","v":0.26624385916553811},{"$f":"FEAS!D70*(1-BASE!D70)","v":0.43519156607653653},{"$f":"FEAS!E70*(1-BASE!E70)","v":0.35473293447171728},{"$f":"FEAS!F70*(1-BASE!F70)","v":0.77197238164502857},{"$f":"FEAS!G70*(1-BASE!G70)","v":0.67487179177300938},{"$f":"FEAS!H70*(1-BASE!H70)","v":0.494925841974245},{"$f":"FEAS!I70*(1-BASE!I70)","v":0.18674608473958551},{"$f":"FEAS!J70*(1-BASE!J70)","v":0.19650955817279386},{"$f":"FEAS!K70*(1-BASE!K70)","v":0.19650955817279386},{"$f":"FEAS!L70*(1-BASE!L70)","v":0.12465486606766073},{"$f":"FEAS!M70*(1-BASE!M70)","v":0.60870776861896103},{"$f":"FEAS!N70*(1-BASE!N70)","v":0.46915237489938888},{"$f":"FEAS!O70*(1-BASE!O70)","v":0.68441730730450012},{"$f":"FEAS!P70*(1-BASE!P70)","v":0.14200665568682208},{"$f":"FEAS!Q70*(1-BASE!Q70)","v":0.25757988694126943},{"$f":"FEAS!R70*(1-BASE!R70)","v":0.25757988694126943},{"$f":"FEAS!S70*(1-BASE!S70)","v":0.41705608164212787},{"$f":"FEAS!T70*(1-BASE!T70)","v":0.35128148031006357}]
[{"$f":"MLIST!A71","v":"HVAC"},{"$f":"MLIST!D71","v":"UnitaryAC-New"},{"$f":"FEAS!C71*(1-BASE!C71)","v":0.26624385916553811},{"$f":"FEAS!D71*(1-BASE!D71)","v":0.43519156607653653},{"$f":"FEAS!E71*(1-BASE!E71)","v":0.35473293447171728},{"$f":"FEAS!F71*(1-BASE!F71)","v":0.77197238164502857},{"$f":"FEAS!G71*(1-BASE!G71)","v":0.67487179177300938},{"$f":"FEAS!H71*(1-BASE!H71)","v":0.494925841974245},{"$f":"FEAS!I71*(1-BASE!I71)","v":0.18674608473958551},{"$f":"FEAS!J71*(1-BASE!J71)","v":0.19650955817279386},{"$f":"FEAS!K71*(1-BASE!K71)","v":0.19650955817279386},{"$f":"FEAS!L71*(1-BASE!L71)","v":0.12465486606766073},{"$f":"FEAS!M71*(1-BASE!M71)","v":0.60870776861896103},{"$f":"FEAS!N71*(1-BASE!N71)","v":0.46915237489938888},{"$f":"FEAS!O71*(1-BASE!O71)","v":0.68441730730450012},{"$f":"FEAS!P71*(1-BASE!P71)","v":0.14200665568682208},{"$f":"FEAS!Q71*(1-BASE!Q71)","v":0.25757988694126943},{"$f":"FEAS!R71*(1-BASE!R71)","v":0.25757988694126943},{"$f":"FEAS!S71*(1-BASE!S71)","v":0.41705608164212787},{"$f":"FEAS!T71*(1-BASE!T71)","v":0.35128148031006357}]
[{"$f":"MLIST!A72","v":"HVAC"},{"$f":"MLIST!D72","v":"Com-PTAC-NR"},{"$f":"FEAS!C72*(1-BASE!C72)","v":1.9333996890933829E-2},{"$f":"FEAS!D72*(1-BASE!D72)","v":5.3861440196833539E-2},{"$f":"FEAS!E72*(1-BASE!E72)","v":8.6010656588559956E-2},{"$f":"FEAS!F72*(1-BASE!F72)","v":0},{"$f":"FEAS!G72*(1-BASE!G72)","v":0},{"$f":"FEAS!H72*(1-BASE!H72)","v":0},{"$f":"FEAS!I72*(1-BASE!I72)","v":7.32964353133988E-2},{"$f":"FEAS!J72*(1-BASE!J72)","v":1.826494903702312E-2},{"$f":"FEAS!K72*(1-BASE!K72)","v":3.6143194640296514E-2},{"$f":"FEAS!L72*(1-BASE!L72)","v":2.6734392952639609E-2},{"$f":"FEAS!M72*(1-BASE!M72)","v":0},{"$f":"FEAS!N72*(1-BASE!N72)","v":9.210142821469031E-3},{"$f":"FEAS!O72*(1-BASE!O72)","v":1.5177943813346721E-2},{"$f":"FEAS!P72*(1-BASE!P72)","v":0.40589713156992602},{"$f":"FEAS!Q72*(1-BASE!Q72)","v":0.26944205053410558},{"$f":"FEAS!R72*(1-BASE!R72)","v":0.22335856423270647},{"$f":"FEAS!S72*(1-BASE!S72)","v":2.622234876020315E-2},{"$f":"FEAS!T72*(1-BASE!T72)","v":6.7662974847022286E-2}]
[{"$f":"MLIST!A73","v":"HVAC"},{"$f":"MLIST!D73","v":"Com-PTAC-New"},{"$f":"FEAS!C73*(1-BASE!C73)","v":1.9333996890933829E-2},{"$f":"FEAS!D73*(1-BASE!D73)","v":5.3861440196833539E-2},{"$f":"FEAS!E73*(1-BASE!E73)","v":8.6010656588559956E-2},{"$f":"FEAS!F73*(1-BASE!F73)","v":0},{"$f":"FEAS!G73*(1-BASE!G73)","v":0},{"$f":"FEAS!H73*(1-BASE!H73)","v":0},{"$f":"FEAS!I73*(1-BASE!I73)","v":7.32964353133988E-2},{"$f":"FEAS!J73*(1-BASE!J73)","v":1.826494903702312E-2},{"$f":"FEAS!K73*(1-BASE!K73)","v":3.6143194640296514E-2},{"$f":"FEAS!L73*(1-BASE!L73)","v":2.6734392952639609E-2},{"$f":"FEAS!M73*(1-BASE!M73)","v":0},{"$f":"FEAS!N73*(1-BASE!N73)","v":9.210142821469031E-3},{"$f":"FEAS!O73*(1-BASE!O73)","v":1.5177943813346721E-2},{"$f":"FEAS!P73*(1-BASE!P73)","v":0.40589713156992602},{"$f":"FEAS!Q73*(1-BASE!Q73)","v":0.26944205053410558},{"$f":"FEAS!R73*(1-BASE!R73)","v":0.22335856423270647},{"$f":"FEAS!S73*(1-BASE!S73)","v":2.622234876020315E-2},{"$f":"FEAS!T73*(1-BASE!T73)","v":6.7662974847022286E-2}]
[{"$f":"MLIST!A74","v":"HVAC"},{"$f":"MLIST!D74","v":"COM-PTHP-NR"},{"$f":"FEAS!C74*(1-BASE!C74)","v":1.9333996890933829E-2},{"$f":"FEAS!D74*(1-BASE!D74)","v":5.3861440196833539E-2},{"$f":"FEAS!E74*(1-BASE!E74)","v":8.6010656588559956E-2},{"$f":"FEAS!F74*(1-BASE!F74)","v":0},{"$f":"FEAS!G74*(1-BASE!G74)","v":0},{"$f":"FEAS!H74*(1-BASE!H74)","v":0},{"$f":"FEAS!I74*(1-BASE!I74)","v":7.32964353133988E-2},{"$f":"FEAS!J74*(1-BASE!J74)","v":1.826494903702312E-2},{"$f":"FEAS!K74*(1-BASE!K74)","v":3.6143194640296514E-2},{"$f":"FEAS!L74*(1-BASE!L74)","v":2.6734392952639609E-2},{"$f":"FEAS!M74*(1-BASE!M74)","v":0},{"$f":"FEAS!N74*(1-BASE!N74)","v":9.210142821469031E-3},{"$f":"FEAS!O74*(1-BASE!O74)","v":1.5177943813346721E-2},{"$f":"FEAS!P74*(1-BASE!P74)","v":0.40589713156992602},{"$f":"FEAS!Q74*(1-BASE!Q74)","v":0.26944205053410558},{"$f":"FEAS!R74*(1-BASE!R74)","v":0.22335856423270647},{"$f":"FEAS!S74*(1-BASE!S74)","v":2.622234876020315E-2},{"$f":"FEAS!T74*(1-BASE!T74)","v":6.7662974847022286E-2}]
[{"$f":"MLIST!A75","v":"HVAC"},{"$f":"MLIST!D75","v":"COM-PTHP-New"},{"$f":"FEAS!C75*(1-BASE!C75)","v":1.9333996890933829E-2},{"$f":"FEAS!D75*(1-BASE!D75)","v":5.3861440196833539E-2},{"$f":"FEAS!E75*(1-BASE!E75)","v":8.6010656588559956E-2},{"$f":"FEAS!F75*(1-BASE!F75)","v":0},{"$f":"FEAS!G75*(1-BASE!G75)","v":0},{"$f":"FEAS!H75*(1-BASE!H75)","v":0},{"$f":"FEAS!I75*(1-BASE!I75)","v":7.32964353133988E-2},{"$f":"FEAS!J75*(1-BASE!J75)","v":1.826494903702312E-2},{"$f":"FEAS!K75*(1-BASE!K75)","v":3.6143194640296514E-2},{"$f":"FEAS!L75*(1-BASE!L75)","v":2.6734392952639609E-2},{"$f":"FEAS!M75*(1-BASE!M75)","v":0},{"$f":"FEAS!N75*(1-BASE!N75)","v":9.210142821469031E-3},{"$f":"FEAS!O75*(1-BASE!O75)","v":1.5177943813346721E-2},{"$f":"FEAS!P75*(1-BASE!P75)","v":0.40589713156992602},{"$f":"FEAS!Q75*(1-BASE!Q75)","v":0.26944205053410558},{"$f":"FEAS!R75*(1-BASE!R75)","v":0.22335856423270647},{"$f":"FEAS!S75*(1-BASE!S75)","v":2.622234876020315E-2},{"$f":"FEAS!T75*(1-BASE!T75)","v":6.7662974847022286E-2}]
[{"$f":"MLIST!A76","v":"HVAC"},{"$f":"MLIST!D76","v":"COM-PTHP-Retro"},{"$f":"FEAS!C76*(1-BASE!C76)","v":3.8667993781867659E-2},{"$f":"FEAS!D76*(1-BASE!D76)","v":0.10772288039366708},{"$f":"FEAS!E76*(1-BASE!E76)","v":0.17202131317711991},{"$f":"FEAS!F76*(1-BASE!F76)","v":0},{"$f":"FEAS!G76*(1-BASE!G76)","v":0},{"$f":"FEAS!H76*(1-BASE!H76)","v":0},{"$f":"FEAS!I76*(1-BASE!I76)","v":0.1465928706267976},{"$f":"FEAS!J76*(1-BASE!J76)","v":3.652989807404624E-2},{"$f":"FEAS!K76*(1-BASE!K76)","v":7.2286389280593027E-2},{"$f":"FEAS!L76*(1-BASE!L76)","v":5.3468785905279217E-2},{"$f":"FEAS!M76*(1-BASE!M76)","v":0},{"$f":"FEAS!N76*(1-BASE!N76)","v":1.8420285642938062E-2},{"$f":"FEAS!O76*(1-BASE!O76)","v":3.0355887626693442E-2},{"$f":"FEAS!P76*(1-BASE!P76)","v":0.81179426313985203},{"$f":"FEAS!Q76*(1-BASE!Q76)","v":0.53888410106821116},{"$f":"FEAS!R76*(1-BASE!R76)","v":0.44671712846541295},{"$f":"FEAS!S76*(1-BASE!S76)","v":5.24446975204063E-2},{"$f":"FEAS!T76*(1-BASE!T76)","v":0.13532594969404457}]
[{"$f":"MLIST!A77","v":"HVAC"},{"$f":"MLIST!D77","v":"Com-DOAS-New"},{"$f":"FEAS!C77*(1-BASE!C77)","v":0.26364565595175282},{"$f":"FEAS!D77*(1-BASE!D77)","v":0.25312006634825812},{"$f":"FEAS!E77*(1-BASE!E77)","v":0.36288564632500747},{"$f":"FEAS!F77*(1-BASE!F77)","v":4.9701415337257152E-2},{"$f":"FEAS!G77*(1-BASE!G77)","v":0},{"$f":"FEAS!H77*(1-BASE!H77)","v":7.7831481142329989E-2},{"$f":"FEAS!I77*(1-BASE!I77)","v":0.19199233568050422},{"$f":"FEAS!J77*(1-BASE!J77)","v":7.4298620207873131E-2},{"$f":"FEAS!K77*(1-BASE!K77)","v":0.1},{"$f":"FEAS!L77*(1-BASE!L77)","v":7.113276907723072E-2},{"$f":"FEAS!M77*(1-BASE!M77)","v":7.2284687717319038E-2},{"$f":"FEAS!N77*(1-BASE!N77)","v":0.32449115371706461},{"$f":"FEAS!O77*(1-BASE!O77)","v":0.11198727289083449},{"$f":"FEAS!P77*(1-BASE!P77)","v":0.44650645169983255},{"$f":"FEAS!Q77*(1-BASE!Q77)","v":0.01},{"$f":"FEAS!R77*(1-BASE!R77)","v":0.38014933407842694},{"$f":"FEAS!S77*(1-BASE!S77)","v":0.1028479692416142},{"$f":"FEAS!T77*(1-BASE!T77)","v":0.20807631585447675}]
[{"$f":"MLIST!A78","v":"HVAC"},{"$f":"MLIST!D78","v":"Com-DOAS-Retro"},{"$f":"FEAS!C78*(1-BASE!C78)","v":0.26364565595175282},{"$f":"FEAS!D78*(1-BASE!D78)","v":0.25312006634825812},{"$f":"FEAS!E78*(1-BASE!E78)","v":0.36288564632500747},{"$f":"FEAS!F78*(1-BASE!F78)","v":4.9701415337257152E-2},{"$f":"FEAS!G78*(1-BASE!G78)","v":0},{"$f":"FEAS!H78*(1-BASE!H78)","v":7.7831481142329989E-2},{"$f":"FEAS!I78*(1-BASE!I78)","v":0.19199233568050422},{"$f":"FEAS!J78*(1-BASE!J78)","v":7.4298620207873131E-2},{"$f":"FEAS!K78*(1-BASE!K78)","v":0.1},{"$f":"FEAS!L78*(1-BASE!L78)","v":7.113276907723072E-2},{"$f":"FEAS!M78*(1-BASE!M78)","v":7.2284687717319038E-2},{"$f":"FEAS!N78*(1-BASE!N78)","v":0.32449115371706461},{"$f":"FEAS!O78*(1-BASE!O78)","v":0.11198727289083449},{"$f":"FEAS!P78*(1-BASE!P78)","v":0.44650645169983255},{"$f":"FEAS!Q78*(1-BASE!Q78)","v":0.01},{"$f":"FEAS!R78*(1-BASE!R78)","v":0.38014933407842694},{"$f":"FEAS!S78*(1-BASE!S78)","v":0.1028479692416142},{"$f":"FEAS!T78*(1-BASE!T78)","v":0.20807631585447675}]
[{"$f":"MLIST!A79","v":"HVAC"},{"$f":"MLIST!D79","v":"Secondary Glazing Systems-Retro"},{"$f":"FEAS!C79*(1-BASE!C79)","v":0},{"$f":"FEAS!D79*(1-BASE!D79)","v":0},{"$f":"FEAS!E79*(1-BASE!E79)","v":0},{"$f":"FEAS!F79*(1-BASE!F79)","v":0},{"$f":"FEAS!G79*(1-BASE!G79)","v":0},{"$f":"FEAS!H79*(1-BASE!H79)","v":0},{"$f":"FEAS!I79*(1-BASE!I79)","v":0},{"$f":"FEAS!J79*(1-BASE!J79)","v":0},{"$f":"FEAS!K79*(1-BASE!K79)","v":0},{"$f":"FEAS!L79*(1-BASE!L79)","v":0},{"$f":"FEAS!M79*(1-BASE!M79)","v":0},{"$f":"FEAS!N79*(1-BASE!N79)","v":0},{"$f":"FEAS!O79*(1-BASE!O79)","v":0},{"$f":"FEAS!P79*(1-BASE!P79)","v":0},{"$f":"FEAS!Q79*(1-BASE!Q79)","v":0},{"$f":"FEAS!R79*(1-BASE!R79)","v":0},{"$f":"FEAS!S79*(1-BASE!S79)","v":0},{"$f":"FEAS!T79*(1-BASE!T79)","v":0}]
[{"$f":"MLIST!A80","v":"Lighting"},{"$f":"MLIST!D80","v":"LPD Package-New"},{"$f":"FEAS!C80*(1-BASE!C80)","v":0},{"$f":"FEAS!D80*(1-BASE!D80)","v":0},{"$f":"FEAS!E80*(1-BASE!E80)","v":0},{"$f":"FEAS!F80*(1-BASE!F80)","v":0},{"$f":"FEAS!G80*(1-BASE!G80)","v":0},{"$f":"FEAS!H80*(1-BASE!H80)","v":0},{"$f":"FEAS!I80*(1-BASE!I80)","v":0},{"$f":"FEAS!J80*(1-BASE!J80)","v":0},{"$f":"FEAS!K80*(1-BASE!K80)","v":0},{"$f":"FEAS!L80*(1-BASE!L80)","v":0},{"$f":"FEAS!M80*(1-BASE!M80)","v":0},{"$f":"FEAS!N80*(1-BASE!N80)","v":0},{"$f":"FEAS!O80*(1-BASE!O80)","v":0},{"$f":"FEAS!P80*(1-BASE!P80)","v":0},{"$f":"FEAS!Q80*(1-BASE!Q80)","v":0},{"$f":"FEAS!R80*(1-BASE!R80)","v":0},{"$f":"FEAS!S80*(1-BASE!S80)","v":0},{"$f":"FEAS!T80*(1-BASE!T80)","v":0}]
[{"$f":"MLIST!A81","v":"Lighting"},{"$f":"MLIST!D81","v":"LPD Package-NR"},{"$f":"FEAS!C81*(1-BASE!C81)","v":0},{"$f":"FEAS!D81*(1-BASE!D81)","v":0},{"$f":"FEAS!E81*(1-BASE!E81)","v":0},{"$f":"FEAS!F81*(1-BASE!F81)","v":0},{"$f":"FEAS!G81*(1-BASE!G81)","v":0},{"$f":"FEAS!H81*(1-BASE!H81)","v":0},{"$f":"FEAS!I81*(1-BASE!I81)","v":0},{"$f":"FEAS!J81*(1-BASE!J81)","v":0},{"$f":"FEAS!K81*(1-BASE!K81)","v":0},{"$f":"FEAS!L81*(1-BASE!L81)","v":0},{"$f":"FEAS!M81*(1-BASE!M81)","v":0},{"$f":"FEAS!N81*(1-BASE!N81)","v":0},{"$f":"FEAS!O81*(1-BASE!O81)","v":0},{"$f":"FEAS!P81*(1-BASE!P81)","v":0},{"$f":"FEAS!Q81*(1-BASE!Q81)","v":0},{"$f":"FEAS!R81*(1-BASE!R81)","v":0},{"$f":"FEAS!S81*(1-BASE!S81)","v":0},{"$f":"FEAS!T81*(1-BASE!T81)","v":0}]
[{"$f":"MLIST!A82","v":"Lighting"},{"$f":"MLIST!D82","v":"LPD Package-Retro"},{"$f":"FEAS!C82*(1-BASE!C82)","v":0},{"$f":"FEAS!D82*(1-BASE!D82)","v":0},{"$f":"FEAS!E82*(1-BASE!E82)","v":0},{"$f":"FEAS!F82*(1-BASE!F82)","v":0},{"$f":"FEAS!G82*(1-BASE!G82)","v":0},{"$f":"FEAS!H82*(1-BASE!H82)","v":0},{"$f":"FEAS!I82*(1-BASE!I82)","v":0},{"$f":"FEAS!J82*(1-BASE!J82)","v":0},{"$f":"FEAS!K82*(1-BASE!K82)","v":0},{"$f":"FEAS!L82*(1-BASE!L82)","v":0},{"$f":"FEAS!M82*(1-BASE!M82)","v":0},{"$f":"FEAS!N82*(1-BASE!N82)","v":0},{"$f":"FEAS!O82*(1-BASE!O82)","v":0},{"$f":"FEAS!P82*(1-BASE!P82)","v":0},{"$f":"FEAS!Q82*(1-BASE!Q82)","v":0},{"$f":"FEAS!R82*(1-BASE!R82)","v":0},{"$f":"FEAS!S82*(1-BASE!S82)","v":0},{"$f":"FEAS!T82*(1-BASE!T82)","v":0}]
[{"$f":"MLIST!A83","v":"Lighting"},{"$f":"MLIST!D83","v":"Top Daylighting-New"},{"$f":"FEAS!C83*(1-BASE!C83)","v":0},{"$f":"FEAS!D83*(1-BASE!D83)","v":0},{"$f":"FEAS!E83*(1-BASE!E83)","v":0},{"$f":"FEAS!F83*(1-BASE!F83)","v":0},{"$f":"FEAS!G83*(1-BASE!G83)","v":0},{"$f":"FEAS!H83*(1-BASE!H83)","v":0},{"$f":"FEAS!I83*(1-BASE!I83)","v":0},{"$f":"FEAS!J83*(1-BASE!J83)","v":0},{"$f":"FEAS!K83*(1-BASE!K83)","v":0},{"$f":"FEAS!L83*(1-BASE!L83)","v":0},{"$f":"FEAS!M83*(1-BASE!M83)","v":0},{"$f":"FEAS!N83*(1-BASE!N83)","v":0},{"$f":"FEAS!O83*(1-BASE!O83)","v":0},{"$f":"FEAS!P83*(1-BASE!P83)","v":0},{"$f":"FEAS!Q83*(1-BASE!Q83)","v":0},{"$f":"FEAS!R83*(1-BASE!R83)","v":0},{"$f":"FEAS!S83*(1-BASE!S83)","v":0},{"$f":"FEAS!T83*(1-BASE!T83)","v":0}]
[{"$f":"MLIST!A84","v":"Lighting"},{"$f":"MLIST!D84","v":"Perimeter Daylighting Controls Advanced-New"},{"$f":"FEAS!C84*(1-BASE!C84)","v":0},{"$f":"FEAS!D84*(1-BASE!D84)","v":0},{"$f":"FEAS!E84*(1-BASE!E84)","v":0},{"$f":"FEAS!F84*(1-BASE!F84)","v":0},{"$f":"FEAS!G84*(1-BASE!G84)","v":0},{"$f":"FEAS!H84*(1-BASE!H84)","v":0},{"$f":"FEAS!I84*(1-BASE!I84)","v":0},{"$f":"FEAS!J84*(1-BASE!J84)","v":0},{"$f":"FEAS!K84*(1-BASE!K84)","v":0},{"$f":"FEAS!L84*(1-BASE!L84)","v":0},{"$f":"FEAS!M84*(1-BASE!M84)","v":0},{"$f":"FEAS!N84*(1-BASE!N84)","v":0},{"$f":"FEAS!O84*(1-BASE!O84)","v":0},{"$f":"FEAS!P84*(1-BASE!P84)","v":0},{"$f":"FEAS!Q84*(1-BASE!Q84)","v":0},{"$f":"FEAS!R84*(1-BASE!R84)","v":0},{"$f":"FEAS!S84*(1-BASE!S84)","v":0},{"$f":"FEAS!T84*(1-BASE!T84)","v":0}]
[{"$f":"MLIST!A85","v":"Lighting"},{"$f":"MLIST!D85","v":"Perimeter Daylighting Controls Advanced-NR"},{"$f":"FEAS!C85*(1-BASE!C85)","v":0},{"$f":"FEAS!D85*(1-BASE!D85)","v":0},{"$f":"FEAS!E85*(1-BASE!E85)","v":0},{"$f":"FEAS!F85*(1-BASE!F85)","v":0},{"$f":"FEAS!G85*(1-BASE!G85)","v":0},{"$f":"FEAS!H85*(1-BASE!H85)","v":0},{"$f":"FEAS!I85*(1-BASE!I85)","v":0},{"$f":"FEAS!J85*(1-BASE!J85)","v":0},{"$f":"FEAS!K85*(1-BASE!K85)","v":0},{"$f":"FEAS!L85*(1-BASE!L85)","v":0},{"$f":"FEAS!M85*(1-BASE!M85)","v":0},{"$f":"FEAS!N85*(1-BASE!N85)","v":0},{"$f":"FEAS!O85*(1-BASE!O85)","v":0},{"$f":"FEAS!P85*(1-BASE!P85)","v":0},{"$f":"FEAS!Q85*(1-BASE!Q85)","v":0},{"$f":"FEAS!R85*(1-BASE!R85)","v":0},{"$f":"FEAS!S85*(1-BASE!S85)","v":0},{"$f":"FEAS!T85*(1-BASE!T85)","v":0}]
[{"$f":"MLIST!A86","v":"Lighting"},{"$f":"MLIST!D86","v":"Lighting Controls Interior-New"},{"$f":"FEAS!C86*(1-BASE!C86)","v":0},{"$f":"FEAS!D86*(1-BASE!D86)","v":0},{"$f":"FEAS!E86*(1-BASE!E86)","v":0},{"$f":"FEAS!F86*(1-BASE!F86)","v":0},{"$f":"FEAS!G86*(1-BASE!G86)","v":0},{"$f":"FEAS!H86*(1-BASE!H86)","v":0},{"$f":"FEAS!I86*(1-BASE!I86)","v":0},{"$f":"FEAS!J86*(1-BASE!J86)","v":0},{"$f":"FEAS!K86*(1-BASE!K86)","v":0},{"$f":"FEAS!L86*(1-BASE!L86)","v":0},{"$f":"FEAS!M86*(1-BASE!M86)","v":0},{"$f":"FEAS!N86*(1-BASE!N86)","v":0},{"$f":"FEAS!O86*(1-BASE!O86)","v":0},{"$f":"FEAS!P86*(1-BASE!P86)","v":0},{"$f":"FEAS!Q86*(1-BASE!Q86)","v":0},{"$f":"FEAS!R86*(1-BASE!R86)","v":0},{"$f":"FEAS!S86*(1-BASE!S86)","v":0},{"$f":"FEAS!T86*(1-BASE!T86)","v":0}]
[{"$f":"MLIST!A87","v":"Lighting"},{"$f":"MLIST!D87","v":"Lighting Controls Interior-NR"},{"$f":"FEAS!C87*(1-BASE!C87)","v":0},{"$f":"FEAS!D87*(1-BASE!D87)","v":0},{"$f":"FEAS!E87*(1-BASE!E87)","v":0},{"$f":"FEAS!F87*(1-BASE!F87)","v":0},{"$f":"FEAS!G87*(1-BASE!G87)","v":0},{"$f":"FEAS!H87*(1-BASE!H87)","v":0},{"$f":"FEAS!I87*(1-BASE!I87)","v":0},{"$f":"FEAS!J87*(1-BASE!J87)","v":0},{"$f":"FEAS!K87*(1-BASE!K87)","v":0},{"$f":"FEAS!L87*(1-BASE!L87)","v":0},{"$f":"FEAS!M87*(1-BASE!M87)","v":0},{"$f":"FEAS!N87*(1-BASE!N87)","v":0},{"$f":"FEAS!O87*(1-BASE!O87)","v":0},{"$f":"FEAS!P87*(1-BASE!P87)","v":0},{"$f":"FEAS!Q87*(1-BASE!Q87)","v":0},{"$f":"FEAS!R87*(1-BASE!R87)","v":0},{"$f":"FEAS!S87*(1-BASE!S87)","v":0},{"$f":"FEAS!T87*(1-BASE!T87)","v":0}]
[{"$f":"MLIST!A88","v":"Lighting"},{"$f":"MLIST!D88","v":"Exterior Building Lighting-New"},{"$f":"FEAS!C88*(1-BASE!C88)","v":0},{"$f":"FEAS!D88*(1-BASE!D88)","v":0},{"$f":"FEAS!E88*(1-BASE!E88)","v":0},{"$f":"FEAS!F88*(1-BASE!F88)","v":0},{"$f":"FEAS!G88*(1-BASE!G88)","v":0},{"$f":"FEAS!H88*(1-BASE!H88)","v":0},{"$f":"FEAS!I88*(1-BASE!I88)","v":0},{"$f":"FEAS!J88*(1-BASE!J88)","v":0},{"$f":"FEAS!K88*(1-BASE!K88)","v":0},{"$f":"FEAS!L88*(1-BASE!L88)","v":0},{"$f":"FEAS!M88*(1-BASE!M88)","v":0},{"$f":"FEAS!N88*(1-BASE!N88)","v":0},{"$f":"FEAS!O88*(1-BASE!O88)","v":0},{"$f":"FEAS!P88*(1-BASE!P88)","v":0},{"$f":"FEAS!Q88*(1-BASE!Q88)","v":0},{"$f":"FEAS!R88*(1-BASE!R88)","v":0},{"$f":"FEAS!S88*(1-BASE!S88)","v":0},{"$f":"FEAS!T88*(1-BASE!T88)","v":0}]
[{"$f":"MLIST!A89","v":"Lighting"},{"$f":"MLIST!D89","v":"Exterior Building Lighting-NR"},{"$f":"FEAS!C89*(1-BASE!C89)","v":0},{"$f":"FEAS!D89*(1-BASE!D89)","v":0},{"$f":"FEAS!E89*(1-BASE!E89)","v":0},{"$f":"FEAS!F89*(1-BASE!F89)","v":0},{"$f":"FEAS!G89*(1-BASE!G89)","v":0},{"$f":"FEAS!H89*(1-BASE!H89)","v":0},{"$f":"FEAS!I89*(1-BASE!I89)","v":0},{"$f":"FEAS!J89*(1-BASE!J89)","v":0},{"$f":"FEAS!K89*(1-BASE!K89)","v":0},{"$f":"FEAS!L89*(1-BASE!L89)","v":0},{"$f":"FEAS!M89*(1-BASE!M89)","v":0},{"$f":"FEAS!N89*(1-BASE!N89)","v":0},{"$f":"FEAS!O89*(1-BASE!O89)","v":0},{"$f":"FEAS!P89*(1-BASE!P89)","v":0},{"$f":"FEAS!Q89*(1-BASE!Q89)","v":0},{"$f":"FEAS!R89*(1-BASE!R89)","v":0},{"$f":"FEAS!S89*(1-BASE!S89)","v":0},{"$f":"FEAS!T89*(1-BASE!T89)","v":0}]
[{"$f":"MLIST!A90","v":"Lighting"},{"$f":"MLIST!D90","v":"Street and Roadway Lighting-New"},{"$f":"FEAS!C90*(1-BASE!C90)","v":0},{"$f":"FEAS!D90*(1-BASE!D90)","v":0},{"$f":"FEAS!E90*(1-BASE!E90)","v":0},{"$f":"FEAS!F90*(1-BASE!F90)","v":0},{"$f":"FEAS!G90*(1-BASE!G90)","v":0},{"$f":"FEAS!H90*(1-BASE!H90)","v":0},{"$f":"FEAS!I90*(1-BASE!I90)","v":0},{"$f":"FEAS!J90*(1-BASE!J90)","v":0},{"$f":"FEAS!K90*(1-BASE!K90)","v":0},{"$f":"FEAS!L90*(1-BASE!L90)","v":0},{"$f":"FEAS!M90*(1-BASE!M90)","v":0},{"$f":"FEAS!N90*(1-BASE!N90)","v":0},{"$f":"FEAS!O90*(1-BASE!O90)","v":0},{"$f":"FEAS!P90*(1-BASE!P90)","v":0},{"$f":"FEAS!Q90*(1-BASE!Q90)","v":0},{"$f":"FEAS!R90*(1-BASE!R90)","v":0},{"$f":"FEAS!S90*(1-BASE!S90)","v":0},{"$f":"FEAS!T90*(1-BASE!T90)","v":0},{"$f":"1-BASE!U90","v":0.6}]
[{"$f":"MLIST!A91","v":"Lighting"},{"$f":"MLIST!D91","v":"Street and Roadway Lighting-Retro"},{"$f":"FEAS!C91*(1-BASE!C91)","v":0},{"$f":"FEAS!D91*(1-BASE!D91)","v":0},{"$f":"FEAS!E91*(1-BASE!E91)","v":0},{"$f":"FEAS!F91*(1-BASE!F91)","v":0},{"$f":"FEAS!G91*(1-BASE!G91)","v":0},{"$f":"FEAS!H91*(1-BASE!H91)","v":0},{"$f":"FEAS!I91*(1-BASE!I91)","v":0},{"$f":"FEAS!J91*(1-BASE!J91)","v":0},{"$f":"FEAS!K91*(1-BASE!K91)","v":0},{"$f":"FEAS!L91*(1-BASE!L91)","v":0},{"$f":"FEAS!M91*(1-BASE!M91)","v":0},{"$f":"FEAS!N91*(1-BASE!N91)","v":0},{"$f":"FEAS!O91*(1-BASE!O91)","v":0},{"$f":"FEAS!P91*(1-BASE!P91)","v":0},{"$f":"FEAS!Q91*(1-BASE!Q91)","v":0},{"$f":"FEAS!R91*(1-BASE!R91)","v":0},{"$f":"FEAS!S91*(1-BASE!S91)","v":0},{"$f":"FEAS!T91*(1-BASE!T91)","v":0},0.5]
[{"$f":"MLIST!A92","v":"Lighting"},{"$f":"MLIST!D92","v":"Parking Garage Lighting-New"},{"$f":"FEAS!C92*(1-BASE!C92)","v":0},{"$f":"FEAS!D92*(1-BASE!D92)","v":0},{"$f":"FEAS!E92*(1-BASE!E92)","v":0},{"$f":"FEAS!F92*(1-BASE!F92)","v":0},{"$f":"FEAS!G92*(1-BASE!G92)","v":0},{"$f":"FEAS!H92*(1-BASE!H92)","v":0},{"$f":"FEAS!I92*(1-BASE!I92)","v":0},{"$f":"FEAS!J92*(1-BASE!J92)","v":0},{"$f":"FEAS!K92*(1-BASE!K92)","v":0},{"$f":"FEAS!L92*(1-BASE!L92)","v":0},{"$f":"FEAS!M92*(1-BASE!M92)","v":0},{"$f":"FEAS!N92*(1-BASE!N92)","v":0},{"$f":"FEAS!O92*(1-BASE!O92)","v":0},{"$f":"FEAS!P92*(1-BASE!P92)","v":0},{"$f":"FEAS!Q92*(1-BASE!Q92)","v":0},{"$f":"FEAS!R92*(1-BASE!R92)","v":0},{"$f":"FEAS!S92*(1-BASE!S92)","v":0},{"$f":"FEAS!T92*(1-BASE!T92)","v":0}]
[{"$f":"MLIST!A93","v":"Lighting"},{"$f":"MLIST!D93","v":"Parking Garage Lighting-Retro"},{"$f":"FEAS!C93*(1-BASE!C93)","v":0},{"$f":"FEAS!D93*(1-BASE!D93)","v":0},{"$f":"FEAS!E93*(1-BASE!E93)","v":0},{"$f":"FEAS!F93*(1-BASE!F93)","v":0},{"$f":"FEAS!G93*(1-BASE!G93)","v":0},{"$f":"FEAS!H93*(1-BASE!H93)","v":0},{"$f":"FEAS!I93*(1-BASE!I93)","v":0},{"$f":"FEAS!J93*(1-BASE!J93)","v":0},{"$f":"FEAS!K93*(1-BASE!K93)","v":0},{"$f":"FEAS!L93*(1-BASE!L93)","v":0},{"$f":"FEAS!M93*(1-BASE!M93)","v":0},{"$f":"FEAS!N93*(1-BASE!N93)","v":0},{"$f":"FEAS!O93*(1-BASE!O93)","v":0},{"$f":"FEAS!P93*(1-BASE!P93)","v":0},{"$f":"FEAS!Q93*(1-BASE!Q93)","v":0},{"$f":"FEAS!R93*(1-BASE!R93)","v":0},{"$f":"FEAS!S93*(1-BASE!S93)","v":0},{"$f":"FEAS!T93*(1-BASE!T93)","v":0}]
[{"$f":"MLIST!A94","v":"Lighting"},{"$f":"MLIST!D94","v":"Bi-Level Stairwell Lighting-NR"},{"$f":"FEAS!C94*(1-BASE!C94)","v":0.01},{"$f":"FEAS!D94*(1-BASE!D94)","v":0.01},{"$f":"FEAS!E94*(1-BASE!E94)","v":0.01},{"$f":"FEAS!F94*(1-BASE!F94)","v":0.01},{"$f":"FEAS!G94*(1-BASE!G94)","v":0.01},{"$f":"FEAS!H94*(1-BASE!H94)","v":0.01},{"$f":"FEAS!I94*(1-BASE!I94)","v":0.01},{"$f":"FEAS!J94*(1-BASE!J94)","v":0.01},{"$f":"FEAS!K94*(1-BASE!K94)","v":0.01},{"$f":"FEAS!L94*(1-BASE!L94)","v":0.01},{"$f":"FEAS!M94*(1-BASE!M94)","v":0.01},{"$f":"FEAS!N94*(1-BASE!N94)","v":0.01},{"$f":"FEAS!O94*(1-BASE!O94)","v":0.01},{"$f":"FEAS!P94*(1-BASE!P94)","v":0.01},{"$f":"FEAS!Q94*(1-BASE!Q94)","v":0.01},{"$f":"FEAS!R94*(1-BASE!R94)","v":0.01},{"$f":"FEAS!S94*(1-BASE!S94)","v":0.01},{"$f":"FEAS!T94*(1-BASE!T94)","v":0.01}]
[{"$f":"MLIST!A95","v":"Lighting"},{"$f":"MLIST!D95","v":"Low Power LF Lamps-NR"},{"$f":"FEAS!C95*(1-BASE!C95)","v":1},{"$f":"FEAS!D95*(1-BASE!D95)","v":1},{"$f":"FEAS!E95*(1-BASE!E95)","v":1},{"$f":"FEAS!F95*(1-BASE!F95)","v":1},{"$f":"FEAS!G95*(1-BASE!G95)","v":1},{"$f":"FEAS!H95*(1-BASE!H95)","v":1},{"$f":"FEAS!I95*(1-BASE!I95)","v":1},{"$f":"FEAS!J95*(1-BASE!J95)","v":1},{"$f":"FEAS!K95*(1-BASE!K95)","v":1},{"$f":"FEAS!L95*(1-BASE!L95)","v":1},{"$f":"FEAS!M95*(1-BASE!M95)","v":1},{"$f":"FEAS!N95*(1-BASE!N95)","v":1},{"$f":"FEAS!O95*(1-BASE!O95)","v":1},{"$f":"FEAS!P95*(1-BASE!P95)","v":1},{"$f":"FEAS!Q95*(1-BASE!Q95)","v":1},{"$f":"FEAS!R95*(1-BASE!R95)","v":1},{"$f":"FEAS!S95*(1-BASE!S95)","v":1},{"$f":"FEAS!T95*(1-BASE!T95)","v":1}]
[{"$f":"MLIST!A96","v":"Lighting"},{"$f":"MLIST!D96","v":"LEC Exit Sign-New"}]
[{"$f":"MLIST!A97","v":"Lighting"},{"$f":"MLIST!D97","v":"LEC Exit Sign-NR"}]
[{"$f":"MLIST!A98","v":"Refrigeration"},{"$f":"MLIST!D98","v":"Commercial Ice Maker-NR"},{"$f":"FEAS!C98*(1-BASE!C98)","v":1},{"$f":"FEAS!D98*(1-BASE!D98)","v":1},{"$f":"FEAS!E98*(1-BASE!E98)","v":1},{"$f":"FEAS!F98*(1-BASE!F98)","v":1},{"$f":"FEAS!G98*(1-BASE!G98)","v":1},{"$f":"FEAS!H98*(1-BASE!H98)","v":1},{"$f":"FEAS!I98*(1-BASE!I98)","v":1},{"$f":"FEAS!J98*(1-BASE!J98)","v":1},{"$f":"FEAS!K98*(1-BASE!K98)","v":1},{"$f":"FEAS!L98*(1-BASE!L98)","v":1},{"$f":"FEAS!M98*(1-BASE!M98)","v":1},{"$f":"FEAS!N98*(1-BASE!N98)","v":1},{"$f":"FEAS!O98*(1-BASE!O98)","v":1},{"$f":"FEAS!P98*(1-BASE!P98)","v":1},{"$f":"FEAS!Q98*(1-BASE!Q98)","v":1},{"$f":"FEAS!R98*(1-BASE!R98)","v":1},{"$f":"FEAS!S98*(1-BASE!S98)","v":1},{"$f":"FEAS!T98*(1-BASE!T98)","v":1}]
[{"$f":"MLIST!A99","v":"Refrigeration"},{"$f":"MLIST!D99","v":"Commercial Beverage Vending Machine-NR"},{"$f":"FEAS!C99*(1-BASE!C99)","v":1},{"$f":"FEAS!D99*(1-BASE!D99)","v":1},{"$f":"FEAS!E99*(1-BASE!E99)","v":1},{"$f":"FEAS!F99*(1-BASE!F99)","v":1},{"$f":"FEAS!G99*(1-BASE!G99)","v":1},{"$f":"FEAS!H99*(1-BASE!H99)","v":1},{"$f":"FEAS!I99*(1-BASE!I99)","v":1},{"$f":"FEAS!J99*(1-BASE!J99)","v":1},{"$f":"FEAS!K99*(1-BASE!K99)","v":1},{"$f":"FEAS!L99*(1-BASE!L99)","v":1},{"$f":"FEAS!M99*(1-BASE!M99)","v":1},{"$f":"FEAS!N99*(1-BASE!N99)","v":1},{"$f":"FEAS!O99*(1-BASE!O99)","v":1},{"$f":"FEAS!P99*(1-BASE!P99)","v":1},{"$f":"FEAS!Q99*(1-BASE!Q99)","v":1},{"$f":"FEAS!R99*(1-BASE!R99)","v":1},{"$f":"FEAS!S99*(1-BASE!S99)","v":1},{"$f":"FEAS!T99*(1-BASE!T99)","v":1}]
[{"$f":"MLIST!A100","v":"Motors/Drives"},{"$f":"MLIST!D100","v":"Clean Water PUmps-Retro"},{"$f":"FEAS!C100*(1-BASE!C100)","v":1},{"$f":"FEAS!D100*(1-BASE!D100)","v":1},{"$f":"FEAS!E100*(1-BASE!E100)","v":1},{"$f":"FEAS!F100*(1-BASE!F100)","v":1},{"$f":"FEAS!G100*(1-BASE!G100)","v":1},{"$f":"FEAS!H100*(1-BASE!H100)","v":1},{"$f":"FEAS!I100*(1-BASE!I100)","v":1},{"$f":"FEAS!J100*(1-BASE!J100)","v":1},{"$f":"FEAS!K100*(1-BASE!K100)","v":1},{"$f":"FEAS!L100*(1-BASE!L100)","v":1},{"$f":"FEAS!M100*(1-BASE!M100)","v":1},{"$f":"FEAS!N100*(1-BASE!N100)","v":1},{"$f":"FEAS!O100*(1-BASE!O100)","v":1},{"$f":"FEAS!P100*(1-BASE!P100)","v":1},{"$f":"FEAS!Q100*(1-BASE!Q100)","v":1},{"$f":"FEAS!R100*(1-BASE!R100)","v":1},{"$f":"FEAS!S100*(1-BASE!S100)","v":1},{"$f":"FEAS!T100*(1-BASE!T100)","v":1}]
[{"$f":"MLIST!A101","v":"Electronics"},{"$f":"MLIST!D101","v":"Servers & Power Supplies-NR"},{"$f":"FEAS!C101*(1-BASE!C101)","v":0.01},{"$f":"FEAS!D101*(1-BASE!D101)","v":0.01},{"$f":"FEAS!E101*(1-BASE!E101)","v":0.01},{"$f":"FEAS!F101*(1-BASE!F101)","v":0.01},{"$f":"FEAS!G101*(1-BASE!G101)","v":0.01},{"$f":"FEAS!H101*(1-BASE!H101)","v":0.01},{"$f":"FEAS!I101*(1-BASE!I101)","v":0.01},{"$f":"FEAS!J101*(1-BASE!J101)","v":0.01},{"$f":"FEAS!K101*(1-BASE!K101)","v":0.01},{"$f":"FEAS!L101*(1-BASE!L101)","v":0.01},{"$f":"FEAS!M101*(1-BASE!M101)","v":0.01},{"$f":"FEAS!N101*(1-BASE!N101)","v":0.01},{"$f":"FEAS!O101*(1-BASE!O101)","v":0.01},{"$f":"FEAS!P101*(1-BASE!P101)","v":0.01},{"$f":"FEAS!Q101*(1-BASE!Q101)","v":0.01},{"$f":"FEAS!R101*(1-BASE!R101)","v":0.01},{"$f":"FEAS!S101*(1-BASE!S101)","v":0.01},{"$f":"FEAS!T101*(1-BASE!T101)","v":0.01}]
[{"$f":"MLIST!A102","v":"Process Loads"},{"$f":"MLIST!D102","v":"Elevators-Retro"},{"$f":"FEAS!C102*(1-BASE!C102)","v":0.01},{"$f":"FEAS!D102*(1-BASE!D102)","v":0.01},{"$f":"FEAS!E102*(1-BASE!E102)","v":0.01},{"$f":"FEAS!F102*(1-BASE!F102)","v":0.01},{"$f":"FEAS!G102*(1-BASE!G102)","v":0.01},{"$f":"FEAS!H102*(1-BASE!H102)","v":0.01},{"$f":"FEAS!I102*(1-BASE!I102)","v":0.01},{"$f":"FEAS!J102*(1-BASE!J102)","v":0.01},{"$f":"FEAS!K102*(1-BASE!K102)","v":0.01},{"$f":"FEAS!L102*(1-BASE!L102)","v":0.01},{"$f":"FEAS!M102*(1-BASE!M102)","v":0.01},{"$f":"FEAS!N102*(1-BASE!N102)","v":0.01},{"$f":"FEAS!O102*(1-BASE!O102)","v":0.01},{"$f":"FEAS!P102*(1-BASE!P102)","v":0.01},{"$f":"FEAS!Q102*(1-BASE!Q102)","v":0.01},{"$f":"FEAS!R102*(1-BASE!R102)","v":0.01},{"$f":"FEAS!S102*(1-BASE!S102)","v":0.01},{"$f":"FEAS!T102*(1-BASE!T102)","v":0.01}]
[{"$f":"MLIST!A103","v":"Motors/Drives"},{"$f":"MLIST!D103","v":"Clean Water Pumps-NR"},{"$f":"FEAS!C103*(1-BASE!C103)","v":1},{"$f":"FEAS!D103*(1-BASE!D103)","v":1},{"$f":"FEAS!E103*(1-BASE!E103)","v":1},{"$f":"FEAS!F103*(1-BASE!F103)","v":1},{"$f":"FEAS!G103*(1-BASE!G103)","v":1},{"$f":"FEAS!H103*(1-BASE!H103)","v":1},{"$f":"FEAS!I103*(1-BASE!I103)","v":1},{"$f":"FEAS!J103*(1-BASE!J103)","v":1},{"$f":"FEAS!K103*(1-BASE!K103)","v":1},{"$f":"FEAS!L103*(1-BASE!L103)","v":1},{"$f":"FEAS!M103*(1-BASE!M103)","v":1},{"$f":"FEAS!N103*(1-BASE!N103)","v":1},{"$f":"FEAS!O103*(1-BASE!O103)","v":1},{"$f":"FEAS!P103*(1-BASE!P103)","v":1},{"$f":"FEAS!Q103*(1-BASE!Q103)","v":1},{"$f":"FEAS!R103*(1-BASE!R103)","v":1},{"$f":"FEAS!S103*(1-BASE!S103)","v":1},{"$f":"FEAS!T103*(1-BASE!T103)","v":1}]
[{"$f":"MLIST!A104","v":"Motors/Drives"},{"$f":"MLIST!D104","v":"Clean Water Pumps-New"},{"$f":"FEAS!C104*(1-BASE!C104)","v":1},{"$f":"FEAS!D104*(1-BASE!D104)","v":1},{"$f":"FEAS!E104*(1-BASE!E104)","v":1},{"$f":"FEAS!F104*(1-BASE!F104)","v":1},{"$f":"FEAS!G104*(1-BASE!G104)","v":1},{"$f":"FEAS!H104*(1-BASE!H104)","v":1},{"$f":"FEAS!I104*(1-BASE!I104)","v":1},{"$f":"FEAS!J104*(1-BASE!J104)","v":1},{"$f":"FEAS!K104*(1-BASE!K104)","v":1},{"$f":"FEAS!L104*(1-BASE!L104)","v":1},{"$f":"FEAS!M104*(1-BASE!M104)","v":1},{"$f":"FEAS!N104*(1-BASE!N104)","v":1},{"$f":"FEAS!O104*(1-BASE!O104)","v":1},{"$f":"FEAS!P104*(1-BASE!P104)","v":1},{"$f":"FEAS!Q104*(1-BASE!Q104)","v":1},{"$f":"FEAS!R104*(1-BASE!R104)","v":1},{"$f":"FEAS!S104*(1-BASE!S104)","v":1},{"$f":"FEAS!T104*(1-BASE!T104)","v":1}]
[{"$f":"MLIST!A105","v":"Process Loads"},{"$f":"MLIST!D105","v":"EBHeaterControl-Retro"},{"$f":"FEAS!C105*(1-BASE!C105)","v":0},{"$f":"FEAS!D105*(1-BASE!D105)","v":0},{"$f":"FEAS!E105*(1-BASE!E105)","v":0},{"$f":"FEAS!F105*(1-BASE!F105)","v":0},{"$f":"FEAS!G105*(1-BASE!G105)","v":0},{"$f":"FEAS!H105*(1-BASE!H105)","v":0},{"$f":"FEAS!I105*(1-BASE!I105)","v":0},{"$f":"FEAS!J105*(1-BASE!J105)","v":0},{"$f":"FEAS!K105*(1-BASE!K105)","v":0},{"$f":"FEAS!L105*(1-BASE!L105)","v":0},{"$f":"FEAS!M105*(1-BASE!M105)","v":0},{"$f":"FEAS!N105*(1-BASE!N105)","v":0},{"$f":"FEAS!O105*(1-BASE!O105)","v":0},{"$f":"FEAS!P105*(1-BASE!P105)","v":0},{"$f":"FEAS!Q105*(1-BASE!Q105)","v":0},{"$f":"FEAS!R105*(1-BASE!R105)","v":0},{"$f":"FEAS!S105*(1-BASE!S105)","v":0},{"$f":"FEAS!T105*(1-BASE!T105)","v":0}]
[{"$f":"MLIST!A106","v":"Refrigeration"},{"$f":"MLIST!D106","v":"GroceryRefrigeration-NR"},{"$f":"FEAS!C106*(1-BASE!C106)","v":0.01},{"$f":"FEAS!D106*(1-BASE!D106)","v":0.01},{"$f":"FEAS!E106*(1-BASE!E106)","v":0.01},{"$f":"FEAS!F106*(1-BASE!F106)","v":0.01},{"$f":"FEAS!G106*(1-BASE!G106)","v":0.01},{"$f":"FEAS!H106*(1-BASE!H106)","v":0.01},{"$f":"FEAS!I106*(1-BASE!I106)","v":0.01},{"$f":"FEAS!J106*(1-BASE!J106)","v":0.01},{"$f":"FEAS!K106*(1-BASE!K106)","v":0.01},{"$f":"FEAS!L106*(1-BASE!L106)","v":0.01},{"$f":"FEAS!M106*(1-BASE!M106)","v":0.01},{"$f":"FEAS!N106*(1-BASE!N106)","v":0.01},{"$f":"FEAS!O106*(1-BASE!O106)","v":0.01},{"$f":"FEAS!P106*(1-BASE!P106)","v":0.01},{"$f":"FEAS!Q106*(1-BASE!Q106)","v":0.01},{"$f":"FEAS!R106*(1-BASE!R106)","v":0.01},{"$f":"FEAS!S106*(1-BASE!S106)","v":0.01},{"$f":"FEAS!T106*(1-BASE!T106)","v":0.01}]
[{"$f":"MLIST!A107","v":"Refrigeration"},{"$f":"MLIST!D107","v":"GroceryRefrigeration-Retro"},{"$f":"FEAS!C107*(1-BASE!C107)","v":1},{"$f":"FEAS!D107*(1-BASE!D107)","v":1},{"$f":"FEAS!E107*(1-BASE!E107)","v":1},{"$f":"FEAS!F107*(1-BASE!F107)","v":1},{"$f":"FEAS!G107*(1-BASE!G107)","v":1},{"$f":"FEAS!H107*(1-BASE!H107)","v":1},{"$f":"FEAS!I107*(1-BASE!I107)","v":1},{"$f":"FEAS!J107*(1-BASE!J107)","v":1},{"$f":"FEAS!K107*(1-BASE!K107)","v":1},{"$f":"FEAS!L107*(1-BASE!L107)","v":1},{"$f":"FEAS!M107*(1-BASE!M107)","v":1},{"$f":"FEAS!N107*(1-BASE!N107)","v":1},{"$f":"FEAS!O107*(1-BASE!O107)","v":1},{"$f":"FEAS!P107*(1-BASE!P107)","v":1},{"$f":"FEAS!Q107*(1-BASE!Q107)","v":1},{"$f":"FEAS!R107*(1-BASE!R107)","v":1},{"$f":"FEAS!S107*(1-BASE!S107)","v":1},{"$f":"FEAS!T107*(1-BASE!T107)","v":1},{"$f":"FEAS!U107*(1-BASE!U107)","v":1}]
[{"$f":"MLIST!A108","v":"Refrigeration"},{"$f":"MLIST!D108","v":"GroceryRefrigeration-New"},{"$f":"FEAS!C108*(1-BASE!C108)","v":1},{"$f":"FEAS!D108*(1-BASE!D108)","v":1},{"$f":"FEAS!E108*(1-BASE!E108)","v":1},{"$f":"FEAS!F108*(1-BASE!F108)","v":1},{"$f":"FEAS!G108*(1-BASE!G108)","v":1},{"$f":"FEAS!H108*(1-BASE!H108)","v":1},{"$f":"FEAS!I108*(1-BASE!I108)","v":1},{"$f":"FEAS!J108*(1-BASE!J108)","v":1},{"$f":"FEAS!K108*(1-BASE!K108)","v":1},{"$f":"FEAS!L108*(1-BASE!L108)","v":1},{"$f":"FEAS!M108*(1-BASE!M108)","v":1},{"$f":"FEAS!N108*(1-BASE!N108)","v":1},{"$f":"FEAS!O108*(1-BASE!O108)","v":1},{"$f":"FEAS!P108*(1-BASE!P108)","v":1},{"$f":"FEAS!Q108*(1-BASE!Q108)","v":1},{"$f":"FEAS!R108*(1-BASE!R108)","v":1},{"$f":"FEAS!S108*(1-BASE!S108)","v":1},{"$f":"FEAS!T108*(1-BASE!T108)","v":1}]
[{"$f":"MLIST!A109","v":"Refrigeration"},{"$f":"MLIST!D109","v":"Packaged Refrigeration Equipment-New"},{"$f":"FEAS!C109*(1-BASE!C109)","v":0},{"$f":"FEAS!D109*(1-BASE!D109)","v":0},{"$f":"FEAS!E109*(1-BASE!E109)","v":0},{"$f":"FEAS!F109*(1-BASE!F109)","v":0},{"$f":"FEAS!G109*(1-BASE!G109)","v":0},{"$f":"FEAS!H109*(1-BASE!H109)","v":0},{"$f":"FEAS!I109*(1-BASE!I109)","v":0},{"$f":"FEAS!J109*(1-BASE!J109)","v":0},{"$f":"FEAS!K109*(1-BASE!K109)","v":0},{"$f":"FEAS!L109*(1-BASE!L109)","v":0},{"$f":"FEAS!M109*(1-BASE!M109)","v":0},{"$f":"FEAS!N109*(1-BASE!N109)","v":0},{"$f":"FEAS!O109*(1-BASE!O109)","v":0},{"$f":"FEAS!P109*(1-BASE!P109)","v":0},{"$f":"FEAS!Q109*(1-BASE!Q109)","v":0},{"$f":"FEAS!R109*(1-BASE!R109)","v":0},{"$f":"FEAS!S109*(1-BASE!S109)","v":0},{"$f":"FEAS!T109*(1-BASE!T109)","v":0},{"$f":"FEAS!U109*(1-BASE!U109)","v":0}]
[{"$f":"MLIST!A110","v":"Refrigeration"},{"$f":"MLIST!D110","v":"Refrig-Freezer-NR"},{"$f":"FEAS!C110*(1-BASE!C110)","v":0.01},{"$f":"FEAS!D110*(1-BASE!D110)","v":0.01},{"$f":"FEAS!E110*(1-BASE!E110)","v":0.01},{"$f":"FEAS!F110*(1-BASE!F110)","v":0.01},{"$f":"FEAS!G110*(1-BASE!G110)","v":0.01},{"$f":"FEAS!H110*(1-BASE!H110)","v":0.01},{"$f":"FEAS!I110*(1-BASE!I110)","v":0.01},{"$f":"FEAS!J110*(1-BASE!J110)","v":0.01},{"$f":"FEAS!K110*(1-BASE!K110)","v":0.01},{"$f":"FEAS!L110*(1-BASE!L110)","v":0.01},{"$f":"FEAS!M110*(1-BASE!M110)","v":0.01},{"$f":"FEAS!N110*(1-BASE!N110)","v":0.01},{"$f":"FEAS!O110*(1-BASE!O110)","v":0.01},{"$f":"FEAS!P110*(1-BASE!P110)","v":0.01},{"$f":"FEAS!Q110*(1-BASE!Q110)","v":0.01},{"$f":"FEAS!R110*(1-BASE!R110)","v":0.01},{"$f":"FEAS!S110*(1-BASE!S110)","v":0.01},{"$f":"FEAS!T110*(1-BASE!T110)","v":0.01},{"$f":"FEAS!U110*(1-BASE!U110)","v":{"$error":"#VALUE!"}}]
[{"$f":"MLIST!A111","v":"Refrigeration"},{"$f":"MLIST!D111","v":"Refrig-Freezer-New"},{"$f":"FEAS!C111*(1-BASE!C111)","v":0.01},{"$f":"FEAS!D111*(1-BASE!D111)","v":0.01},{"$f":"FEAS!E111*(1-BASE!E111)","v":0.01},{"$f":"FEAS!F111*(1-BASE!F111)","v":0.01},{"$f":"FEAS!G111*(1-BASE!G111)","v":0.01},{"$f":"FEAS!H111*(1-BASE!H111)","v":0.01},{"$f":"FEAS!I111*(1-BASE!I111)","v":0.01},{"$f":"FEAS!J111*(1-BASE!J111)","v":0.01},{"$f":"FEAS!K111*(1-BASE!K111)","v":0.01},{"$f":"FEAS!L111*(1-BASE!L111)","v":0.01},{"$f":"FEAS!M111*(1-BASE!M111)","v":0.01},{"$f":"FEAS!N111*(1-BASE!N111)","v":0.01},{"$f":"FEAS!O111*(1-BASE!O111)","v":0.01},{"$f":"FEAS!P111*(1-BASE!P111)","v":0.01},{"$f":"FEAS!Q111*(1-BASE!Q111)","v":0.01},{"$f":"FEAS!R111*(1-BASE!R111)","v":0.01},{"$f":"FEAS!S111*(1-BASE!S111)","v":0.01},{"$f":"FEAS!T111*(1-BASE!T111)","v":0.01},{"$f":"FEAS!U111*(1-BASE!U111)","v":{"$error":"#VALUE!"}}]
[{"$f":"MLIST!A112","v":"Refrigeration"},{"$f":"MLIST!D112","v":"Water Cooler Controls-NR"},{"$f":"FEAS!C112*(1-BASE!C112)","v":0},{"$f":"FEAS!D112*(1-BASE!D112)","v":0},{"$f":"FEAS!E112*(1-BASE!E112)","v":0},{"$f":"FEAS!F112*(1-BASE!F112)","v":0},{"$f":"FEAS!G112*(1-BASE!G112)","v":0},{"$f":"FEAS!H112*(1-BASE!H112)","v":0},{"$f":"FEAS!I112*(1-BASE!I112)","v":0},{"$f":"FEAS!J112*(1-BASE!J112)","v":0},{"$f":"FEAS!K112*(1-BASE!K112)","v":0},{"$f":"FEAS!L112*(1-BASE!L112)","v":0},{"$f":"FEAS!M112*(1-BASE!M112)","v":0},{"$f":"FEAS!N112*(1-BASE!N112)","v":0},{"$f":"FEAS!O112*(1-BASE!O112)","v":0},{"$f":"FEAS!P112*(1-BASE!P112)","v":0},{"$f":"FEAS!Q112*(1-BASE!Q112)","v":0},{"$f":"FEAS!R112*(1-BASE!R112)","v":0},{"$f":"FEAS!S112*(1-BASE!S112)","v":0},{"$f":"FEAS!T112*(1-BASE!T112)","v":0},{"$f":"FEAS!U112*(1-BASE!U112)","v":0}]
[{"$f":"MLIST!A113","v":"Water Heating"},{"$f":"MLIST!D113","v":"HPWH ResType-New"},{"$f":"FEAS!C113*(1-BASE!C113)","v":1},{"$f":"FEAS!D113*(1-BASE!D113)","v":1},{"$f":"FEAS!E113*(1-BASE!E113)","v":1},{"$f":"FEAS!F113*(1-BASE!F113)","v":1},{"$f":"FEAS!G113*(1-BASE!G113)","v":1},{"$f":"FEAS!H113*(1-BASE!H113)","v":1},{"$f":"FEAS!I113*(1-BASE!I113)","v":1},{"$f":"FEAS!J113*(1-BASE!J113)","v":1},{"$f":"FEAS!K113*(1-BASE!K113)","v":1},{"$f":"FEAS!L113*(1-BASE!L113)","v":1},{"$f":"FEAS!M113*(1-BASE!M113)","v":1},{"$f":"FEAS!N113*(1-BASE!N113)","v":1},{"$f":"FEAS!O113*(1-BASE!O113)","v":1},{"$f":"FEAS!P113*(1-BASE!P113)","v":1},{"$f":"FEAS!Q113*(1-BASE!Q113)","v":1},{"$f":"FEAS!R113*(1-BASE!R113)","v":1},{"$f":"FEAS!S113*(1-BASE!S113)","v":1},{"$f":"FEAS!T113*(1-BASE!T113)","v":1},{"$f":"FEAS!U113*(1-BASE!U113)","v":0}]
[{"$f":"MLIST!A114","v":"Water Heating"},{"$f":"MLIST!D114","v":"HPWH ResType-NR"},{"$f":"FEAS!C114*(1-BASE!C114)","v":1},{"$f":"FEAS!D114*(1-BASE!D114)","v":1},{"$f":"FEAS!E114*(1-BASE!E114)","v":1},{"$f":"FEAS!F114*(1-BASE!F114)","v":1},{"$f":"FEAS!G114*(1-BASE!G114)","v":1},{"$f":"FEAS!H114*(1-BASE!H114)","v":1},{"$f":"FEAS!I114*(1-BASE!I114)","v":1},{"$f":"FEAS!J114*(1-BASE!J114)","v":1},{"$f":"FEAS!K114*(1-BASE!K114)","v":1},{"$f":"FEAS!L114*(1-BASE!L114)","v":1},{"$f":"FEAS!M114*(1-BASE!M114)","v":1},{"$f":"FEAS!N114*(1-BASE!N114)","v":1},{"$f":"FEAS!O114*(1-BASE!O114)","v":1},{"$f":"FEAS!P114*(1-BASE!P114)","v":1},{"$f":"FEAS!Q114*(1-BASE!Q114)","v":1},{"$f":"FEAS!R114*(1-BASE!R114)","v":1},{"$f":"FEAS!S114*(1-BASE!S114)","v":1},{"$f":"FEAS!T114*(1-BASE!T114)","v":1},{"$f":"FEAS!U114*(1-BASE!U114)","v":{"$error":"#VALUE!"}}]
[{"$f":"MLIST!A115","v":"Water Heating"},{"$f":"MLIST!D115","v":"Washer-New"},{"$f":"FEAS!C115*(1-BASE!C115)","v":1},{"$f":"FEAS!D115*(1-BASE!D115)","v":1},{"$f":"FEAS!E115*(1-BASE!E115)","v":1},{"$f":"FEAS!F115*(1-BASE!F115)","v":1},{"$f":"FEAS!G115*(1-BASE!G115)","v":1},{"$f":"FEAS!H115*(1-BASE!H115)","v":1},{"$f":"FEAS!I115*(1-BASE!I115)","v":1},{"$f":"FEAS!J115*(1-BASE!J115)","v":1},{"$f":"FEAS!K115*(1-BASE!K115)","v":1},{"$f":"FEAS!L115*(1-BASE!L115)","v":1},{"$f":"FEAS!M115*(1-BASE!M115)","v":1},{"$f":"FEAS!N115*(1-BASE!N115)","v":1},{"$f":"FEAS!O115*(1-BASE!O115)","v":1},{"$f":"FEAS!P115*(1-BASE!P115)","v":1},{"$f":"FEAS!Q115*(1-BASE!Q115)","v":1},{"$f":"FEAS!R115*(1-BASE!R115)","v":1},{"$f":"FEAS!S115*(1-BASE!S115)","v":1},{"$f":"FEAS!T115*(1-BASE!T115)","v":1},{"$f":"FEAS!U115*(1-BASE!U115)","v":{"$error":"#VALUE!"}}]
[{"$f":"MLIST!A116","v":"Water Heating"},{"$f":"MLIST!D116","v":"Washer-NR"},{"$f":"FEAS!C116*(1-BASE!C116)","v":0},{"$f":"FEAS!D116*(1-BASE!D116)","v":0},{"$f":"FEAS!E116*(1-BASE!E116)","v":0},{"$f":"FEAS!F116*(1-BASE!F116)","v":0},{"$f":"FEAS!G116*(1-BASE!G116)","v":0},{"$f":"FEAS!H116*(1-BASE!H116)","v":0},{"$f":"FEAS!I116*(1-BASE!I116)","v":0},{"$f":"FEAS!J116*(1-BASE!J116)","v":0},{"$f":"FEAS!K116*(1-BASE!K116)","v":0},{"$f":"FEAS!L116*(1-BASE!L116)","v":0},{"$f":"FEAS!M116*(1-BASE!M116)","v":0},{"$f":"FEAS!N116*(1-BASE!N116)","v":0},{"$f":"FEAS!O116*(1-BASE!O116)","v":0},{"$f":"FEAS!P116*(1-BASE!P116)","v":0},{"$f":"FEAS!Q116*(1-BASE!Q116)","v":0},{"$f":"FEAS!R116*(1-BASE!R116)","v":0},{"$f":"FEAS!S116*(1-BASE!S116)","v":0},{"$f":"FEAS!T116*(1-BASE!T116)","v":0},{"$f":"FEAS!U116*(1-BASE!U116)","v":{"$error":"#VALUE!"}}]
[{"$f":"MLIST!A117","v":"Water Heating"},{"$f":"MLIST!D117","v":"Showerheads-NR"},{"$f":"FEAS!C117*(1-BASE!C117)","v":0},{"$f":"FEAS!D117*(1-BASE!D117)","v":0},{"$f":"FEAS!E117*(1-BASE!E117)","v":0},{"$f":"FEAS!F117*(1-BASE!F117)","v":0},{"$f":"FEAS!G117*(1-BASE!G117)","v":0},{"$f":"FEAS!H117*(1-BASE!H117)","v":0},{"$f":"FEAS!I117*(1-BASE!I117)","v":0},{"$f":"FEAS!J117*(1-BASE!J117)","v":0},{"$f":"FEAS!K117*(1-BASE!K117)","v":0},{"$f":"FEAS!L117*(1-BASE!L117)","v":0},{"$f":"FEAS!M117*(1-BASE!M117)","v":0},{"$f":"FEAS!N117*(1-BASE!N117)","v":0},{"$f":"FEAS!O117*(1-BASE!O117)","v":0},{"$f":"FEAS!P117*(1-BASE!P117)","v":0},{"$f":"FEAS!Q117*(1-BASE!Q117)","v":0},{"$f":"FEAS!R117*(1-BASE!R117)","v":0},{"$f":"FEAS!S117*(1-BASE!S117)","v":0},{"$f":"FEAS!T117*(1-BASE!T117)","v":0},{"$f":"FEAS!U117*(1-BASE!U117)","v":{"$error":"#VALUE!"}}]
[{"$f":"MLIST!A118","v":"Water Heating"},{"$f":"MLIST!D118","v":"Showerheads-Retro"},{"$f":"FEAS!C118*(1-BASE!C118)","v":0.01},{"$f":"FEAS!D118*(1-BASE!D118)","v":0.01},{"$f":"FEAS!E118*(1-BASE!E118)","v":0.01},{"$f":"FEAS!F118*(1-BASE!F118)","v":0.01},{"$f":"FEAS!G118*(1-BASE!G118)","v":0.01},{"$f":"FEAS!H118*(1-BASE!H118)","v":0.01},{"$f":"FEAS!I118*(1-BASE!I118)","v":0.01},{"$f":"FEAS!J118*(1-BASE!J118)","v":0.01},{"$f":"FEAS!K118*(1-BASE!K118)","v":0.01},{"$f":"FEAS!L118*(1-BASE!L118)","v":0.01},{"$f":"FEAS!M118*(1-BASE!M118)","v":0.01},{"$f":"FEAS!N118*(1-BASE!N118)","v":0.01},{"$f":"FEAS!O118*(1-BASE!O118)","v":0.01},{"$f":"FEAS!P118*(1-BASE!P118)","v":0.01},{"$f":"FEAS!Q118*(1-BASE!Q118)","v":0.01},{"$f":"FEAS!R118*(1-BASE!R118)","v":0.01},{"$f":"FEAS!S118*(1-BASE!S118)","v":0.01},{"$f":"FEAS!T118*(1-BASE!T118)","v":0.01},{"$f":"FEAS!U118*(1-BASE!U118)","v":{"$error":"#VALUE!"}}]
[{"$f":"MLIST!A119","v":0},{"$f":"MLIST!D119","v":0},{"$f":"FEAS!C119*(1-BASE!C119)","v":0.75},{"$f":"FEAS!D119*(1-BASE!D119)","v":0.75},{"$f":"FEAS!E119*(1-BASE!E119)","v":0.75},{"$f":"FEAS!F119*(1-BASE!F119)","v":0.75},{"$f":"FEAS!G119*(1-BASE!G119)","v":0.75},{"$f":"FEAS!H119*(1-BASE!H119)","v":0.75},{"$f":"FEAS!I119*(1-BASE!I119)","v":0.75},{"$f":"FEAS!J119*(1-BASE!J119)","v":0.75},{"$f":"FEAS!K119*(1-BASE!K119)","v":0.75},{"$f":"FEAS!L119*(1-BASE!L119)","v":0.75},{"$f":"FEAS!M119*(1-BASE!M119)","v":0.75},{"$f":"FEAS!N119*(1-BASE!N119)","v":0.75},{"$f":"FEAS!O119*(1-BASE!O119)","v":0.75},{"$f":"FEAS!P119*(1-BASE!P119)","v":0.75},{"$f":"FEAS!Q119*(1-BASE!Q119)","v":0.75},{"$f":"FEAS!R119*(1-BASE!R119)","v":0.75},{"$f":"FEAS!S119*(1-BASE!S119)","v":0.75},{"$f":"FEAS!T119*(1-BASE!T119)","v":0.75},{"$f":"FEAS!U119*(1-BASE!U119)","v":{"$error":"#VALUE!"}}]
[{"$f":"MLIST!A120","v":0},{"$f":"MLIST!D120","v":0},{"$f":"FEAS!C120*(1-BASE!C120)","v":0.75},{"$f":"FEAS!D120*(1-BASE!D120)","v":0.75},{"$f":"FEAS!E120*(1-BASE!E120)","v":0.75},{"$f":"FEAS!F120*(1-BASE!F120)","v":0.75},{"$f":"FEAS!G120*(1-BASE!G120)","v":0.75},{"$f":"FEAS!H120*(1-BASE!H120)","v":0.75},{"$f":"FEAS!I120*(1-BASE!I120)","v":0.75},{"$f":"FEAS!J120*(1-BASE!J120)","v":0.75},{"$f":"FEAS!K120*(1-BASE!K120)","v":0.75},{"$f":"FEAS!L120*(1-BASE!L120)","v":0.75},{"$f":"FEAS!M120*(1-BASE!M120)","v":0.75},{"$f":"FEAS!N120*(1-BASE!N120)","v":0.75},{"$f":"FEAS!O120*(1-BASE!O120)","v":0.75},{"$f":"FEAS!P120*(1-BASE!P120)","v":0.75},{"$f":"FEAS!Q120*(1-BASE!Q120)","v":0.75},{"$f":"FEAS!R120*(1-BASE!R120)","v":0.75},{"$f":"FEAS!S120*(1-BASE!S120)","v":0.75},{"$f":"FEAS!T120*(1-BASE!T120)","v":0.75},{"$f":"FEAS!U121*(1-BASE!U120)","v":{"$error":"#VALUE!"}}]
["Whole Bldg/Meter Level","Ultra Low Energy Building-New",0,0,0,0,0,0,0,0,0,0,0,0,0,0,0,0,0,0,null,null,null,0,0,0,0,0,0,0,0,0,0,0,0,0,0,0,0,0,0,0]

{"sheet":"BASE","index":5,"n_rows":121,"n_cols":23,"rows_kept":121,"cut":false,"hidden":false,"merged":[[9,16,9,17],[9,2,9,4],[9,5,9,8],[9,9,9,10],[9,12,9,13]]}
["BASE","Baseline fraction of floorspace that is assumed to adopt measure in forecast."]
[]
[]
[]
[]
[]
[null,null,2,{"$f":"C7+1","v":3},{"$f":"D7+1","v":4},5,6,7,8,9,10,11,12,13,14,15,16,17,18,19,20]
[]
[]
[null,null,{"$f":"APPLIC!C10","v":"Office"},null,null,"Retail",null,null,null,"School",null,"Warehouse","Grocery",null,"Restaurant","Lodging","Health",null,{"$f":"S11","v":"Assembly"},{"$f":"T11","v":"Other"}]
["MEAS ID","Measure Index Name",{"$f":"APPLIC!C11","v":"Large Off"},{"$f":"APPLIC!D11","v":"Medium Off"},{"$f":"APPLIC!E11","v":"Small Off"},{"$f":"APPLIC!F11","v":"Xlarge Ret"},{"$f":"APPLIC!G11","v":"Large Ret"},{"$f":"APPLIC!H11","v":"Medium Ret"},{"$f":"APPLIC!I11","v":"Small Ret"},{"$f":"APPLIC!J11","v":"School K-12"},{"$f":"APPLIC!K11","v":"University"},{"$f":"APPLIC!L11","v":"Warehouse"},{"$f":"APPLIC!M11","v":"Supermarket"},{"$f":"APPLIC!N11","v":"MiniMart"},{"$f":"APPLIC!O11","v":"Restaurant"},{"$f":"APPLIC!P11","v":"Lodging"},{"$f":"APPLIC!Q11","v":"Hospital"},{"$f":"APPLIC!R11","v":"Residential Care"},{"$f":"APPLIC!S11","v":"Assembly"},{"$f":"APPLIC!T11","v":"Other"},"Non-Building Stock","Source","Lookup Value"]
[null,{"$f":"MLIST!D12","v":"Compressors-New"},0,0,0,0,0,0,0,0,0,0,0,0,0,0,0,0,0,0,""]
[null,{"$f":"MLIST!D13","v":"Compressors-NR"},0,0,0,0,0,0,0,0,0,0,0,0,0,0,0,0,0,0,""]
[null,{"$f":"MLIST!D14","v":"Laptop-NR"},0,0,0,0,0,0,0,0,0,0,0,0,0,0,0,0,0,0,0.9,"NEEA Sales data"]
[null,{"$f":"MLIST!D15","v":"PowerStrips-Retro"},0,0,0,0,0,0,0,0,0,0,0,0,0,0,0,0,0,0]
[null,{"$f":"MLIST!D16","v":"PowerStrips-New"},0,0,0,0,0,0,0,0,0,0,0,0,0,0,0,0,0,0]
[null,{"$f":"MLIST!D17","v":"Data Centers-NR"},0,0,0,0,0,0,0,0,0,0,0,0,0,0,0,0,0,0,0.2,"ESTAR Server 9% (+), Virtualization 20%"]
[null,{"$f":"MLIST!D18","v":"Desktop-WA-NR"},0,0,0,0,0,0,0,0,0,0,0,0,0,0,0,0,0,0,0.55000000000000004,"ENERGY STAR USD Summary Report _2013"]
[null,{"$f":"MLIST!D19","v":"Desktop-NR"},0,0,0,0,0,0,0,0,0,0,0,0,0,0,0,0,0,0,0.75,"NEEA Sales data"]
[null,{"$f":"MLIST!D20","v":"Laptop-WA-NR"},0,0,0,0,0,0,0,0,0,0,0,0,0,0,0,0,0,0,0.75]
[null,{"$f":"MLIST!D21","v":"Pre-Rinse Spray Valve-Retro"},0,0,0,0,0,0,0,0,0,0,0,0,0,0,0,0,0,0,0.14000000000000001,"6 going on 7 plus CBSA"]
[null,{"$f":"MLIST!D22","v":"Steamer-NR"},0,0,0,0,0,0,0,0,0,0,0,0,0,0,0,0,0,0,0.39,"EPA Energy Star 2011"]
[null,{"$f":"MLIST!D23","v":"Combo Oven-NR"},0,0,0,0,0,0,0,0,0,0,0,0,0,0,0,0,0,0]
[null,{"$f":"MLIST!D24","v":"HFHC-NR"},0,0,0,0,0,0,0,0,0,0,0,0,0,0,0,0,0,0]
[null,{"$f":"MLIST!D25","v":"Convection Oven-NR"},0,0,0,0,0,0,0,0,0,0,0,0,0,0,0,0,0,0]
[null,{"$f":"MLIST!D26","v":"Fryer-NR"},0,0,0,0,0,0,0,0,0,0,0,0,0,0,0,0,0,0]
[null,{"$f":"MLIST!D27","v":"Griddle-NR"},0,0,0,0,0,0,0,0,0,0,0,0,0,0,0,0,0,0]
[null,{"$f":"MLIST!D28","v":"Overwrapper-NR"},0,0,0,0,0,0,0,0,0,0,0,0,0,0,0,0,0,0]
[null,{"$f":"MLIST!D29","v":"DHP-New"},0,0,0,0,0,0,0,0,0,0,0,0,0,0,0,0,0,0,0]
[null,{"$f":"MLIST!D30","v":"DHP-Retro"},0,0,0,0,0,0,0,0,0,0,0,0,0,0,0,0,0,0,0]
[null,{"$f":"MLIST!D31","v":"Glass-New"},0.30399999999999999,0.21039999999999998,0.21760000000000002,0.38244,0.38183,0.21683000000000002,0.45624999999999999,0.1434,0.20800000000000002,0.47244999999999998,0.21212000000000003,0.22062000000000004,0.225000056,0.25224999999999997,0.19740000000000002,0.25850000000000001,0.2,0.23139999999999999,0]
[null,{"$f":"MLIST!D32","v":"Glass-NR"},0.30399999999999999,0.21039999999999998,0.21760000000000002,0.38244,0.38183,0.21683000000000002,0.45624999999999999,0.1434,0.20800000000000002,0.47244999999999998,0.21212000000000003,0.22062000000000004,0.225000056,0.25224999999999997,0.19740000000000002,0.25850000000000001,0.2,0.23139999999999999,0]
[null,{"$f":"MLIST!D33","v":"ARC-New"},0,0,0,0,0,0,0,0,0,0,0,0,0,0,0,0,0,0,0,"Assume 10% more in new than exising"]
[null,{"$f":"MLIST!D34","v":"ARC-NR"},0.05,0.05,0.05,0.05,0.05,0.05,0.05,0.05,0.05,0.05,0.05,0.05,0.05,0.05,0.05,0.05,0.05,0.05,0]
[null,{"$f":"MLIST!D35","v":"ARC-Retro"},0,0,0,0,0,0,0,0,0,0,0,0,0,0,0,0,0,0,0]
[null,{"$f":"MLIST!D36","v":"Chiller-Upgrade-New"},0.1,0.1,0.1,0.1,0.1,0.1,0.1,0.1,0.1,0.1,0.1,0.1,0.1,0.1,0.1,0.1,0.1,0.1,0]
[null,{"$f":"MLIST!D37","v":"Chiller-Upgrade-NR"},0.05,0.05,0.05,0.05,0.05,0.05,0.05,0.05,0.05,0.05,0.05,0.05,0.05,0.05,0.05,0.05,0.05,0.05,0]
[null,{"$f":"MLIST!D38","v":"Chiller-System-Retro"},0.05,0.05,0.05,0.05,0.05,0.05,0.05,0.05,0.05,0.05,0.05,0.05,0.05,0.05,0.05,0.05,0.05,0.05,0]
[null,{"$f":"MLIST!D39","v":"Fans-Retro"},0,0,0,0,0,0,0,0,0,0,0,0,0,0,0,0,0,0,"","Accounting for Achievments - See Com-EM workbook"]
[null,{"$f":"MLIST!D40","v":"Fans-NR"},0,0,0,0,0,0,0,0,0,0,0,0,0,0,0,0,0,0]
[null,{"$f":"MLIST!D41","v":"Fans-New"},0,0,0,0,0,0,0,0,0,0,0,0,0,0,0,0,0,0]
[null,{"$f":"MLIST!D42","v":"VHE-DOAS-NR"},0,0,0,0,0,0,0,0,0,0,0,0,0,0,0,0,0,0]
[null,{"$f":"MLIST!D43","v":"VHE-DOAS-New"},0,0,0,0,0,0,0,0,0,0,0,0,0,0,0,0,0,0]
[null,{"$f":"MLIST!D44","v":"-NR"},0,0,0,0,0,0,0,0,0,0,0,0,0,0,0,0,0,0]
[null,{"$f":"MLIST!D45","v":"Commercial EM-New"},0.04,0.04,0.04,0.04,0.04,0.04,0.04,0.04,0.04,0.04,0.04,0.04,0.04,0.04,0.04,0.04,0.04,0.04,0]
[null,{"$f":"MLIST!D46","v":"Commercial EM-Retro"},0.04,0.04,0.04,0.04,0.04,0.04,0.04,0.04,0.04,0.04,0.04,0.04,0.04,0.04,0.04,0.04,0.04,0.04,0]
[null,{"$f":"MLIST!D47","v":"Economizer-Retro"},0.4,0.25,0.25,0.4,0.25,0.25,0.25,0.4,0.4,0.25,0.4,0.25,0.25,0.25,0.4,0.25,0.25,0.25,0]
[null,{"$f":"MLIST!D48","v":"Demand Control Ventilation-New"},0,0,0,0.2,0,0,0,0,0,0,0,0,0,0,0,0,0,0,0]
[null,{"$f":"MLIST!D49","v":"Demand Control Ventilation-NR"},0,0,0,0,0,0,0,0,0,0,0,0,0,0,0,0,0,0,0]
[null,{"$f":"MLIST!D50","v":"Demand Control Ventilation-Retro"},0.29417841433623887,0.16600530238180544,2.3737663898859066E-2,0.22300715162221316,0.19741792645695339,4.2740762746028386E-2,1.3597214573254024E-2,0.3265989178858158,0.13622896031789924,0.12181229468805803,1.5043119467328166E-2,0.13718952244125024,0.13714113159081304,3.8125362646436782E-2,0.13622896031789924,9.2381299117502383E-2,0.22458868903269982,0.27868917229328594,0]
[null,{"$f":"MLIST!D51","v":"DCV-Lab Hood-Retro"},0,0,0,0,0,0,0,0,0,0,0,0,0,0,0,0,0,0,0.3,null,0.29417841433623887]
[null,{"$f":"MLIST!D52","v":"DCV-Kitchen-Retro"},0,0,0,0,0,0,0,0,0,0,0,0,0,0,0,0,0,0,0.6,null,0.16600530238180544]
[null,{"$f":"MLIST!D53","v":"DCV-Parking Garage-Retro"},0,0,0,0,0,0,0,0,0,0,0,0,0,0,0,0,0,0,0.35,null,2.3737663898859066E-2]
[null,{"$f":"MLIST!D54","v":"Weatherization - School-Retro"},0,0,0,0,0,0,0,0,0,0,0,0,0,0,0,0,0,0,"",null,0.22300715162221316]
[null,{"$f":"MLIST!D55","v":"Energy Recovery Ventilator-NR"},0,0,0,0,0,0,0,0,0,0,0,0,0,0,0,0,0,0,0.9,"NEEA Sales data",0.19741792645695339]
[null,{"$f":"MLIST!D56","v":"AC Heat Recovery for Water Heating-NR"},0,0,0,0,0,0,0,0,0,0,0,0,0,0,0,0,0,0,"",null,4.2740762746028386E-2]
[null,{"$f":"MLIST!D57","v":"Room Occupancy Sensors in Lodging-Retro"},0,0,0,0,0,0,0,0,0,0,0,0,0,0,0,0,0,0,"",null,1.3597214573254024E-2]
[null,{"$f":"MLIST!D58","v":"Pool Blankets-Retro"},0,0,0,0,0,0,0,0,0,0,0,0,0,0,0,0,0,0,"",null,0.12181229468805803]
[null,{"$f":"MLIST!D59","v":"ConnectedThermostats-New"},0,0,0,0,0,0,0,0,0,0,0,0,0,0,0,0,0,0,"",null,1.5043119467328166E-2]
[null,{"$f":"MLIST!D60","v":"ConnectedThermostats-Retro"},0,0,0,0,0,0,0,0,0,0,0,0,0,0,0,0,0,0,"",null,1.5043119467328166E-2]
[null,{"$f":"MLIST!D61","v":"CircPumps-NR"},0,0,0,0,0,0,0,0,0,0,0,0,0,0,0,0,0,0,"",null,0.13718952244125024]
[null,{"$f":"MLIST!D62","v":"Circpumps-New"},0,0,0,0,0,0,0,0,0,0,0,0,0,0,0,0,0,0,"",null,0.13714113159081304]
[null,{"$f":"MLIST!D63","v":"VRF-DOAS-New"},0.02,0.02,0.02,0.02,0.02,0.02,0.02,0.02,0.02,0.02,0.02,0.02,0.02,0.02,0.02,0.02,0.02,0.02,"","US saturation 2%",3.8125362646436782E-2]
[null,{"$f":"MLIST!D64","v":"VRF-DOAS-NR"},0.02,0.02,0.02,0.02,0.02,0.02,0.02,0.02,0.02,0.02,0.02,0.02,0.02,0.02,0.02,0.02,0.02,0.02,"",null,0.13622896031789924]
[null,{"$f":"MLIST!D65","v":"Evaporator Roof Top HVAC-Retro"},0,0,0,0,0,0,0,0,0,0,0,0,0,0,0,0,0,0,"",null,9.2381299117502383E-2]
[null,{"$f":"MLIST!D66","v":"HeatPumps-NR"},0,0,0,0,0,0,0,0,0,0,0,0,0,0,0,0,0,0,"",null,9.2381299117502383E-2]
[null,{"$f":"MLIST!D67","v":"HeatPumps-New"},0,0,0,0,0,0,0,0,0,0,0,0,0,0,0,0,0,0,"",null,9.2381299117502383E-2]
[null,{"$f":"MLIST!D68","v":"VCHP-NR"},0,0,0,0,0,0,0,0,0,0,0,0,0,0,0,0,0,0,"",null,9.2381299117502383E-2]
[null,{"$f":"MLIST!D69","v":"VCHP-New"},0,0,0,0,0,0,0,0,0,0,0,0,0,0,0,0,0,0,"",null,9.2381299117502383E-2]
[null,{"$f":"MLIST!D70","v":"UnitaryAC-NR"},0,0,0,0,0,0,0,0,0,0,0,0,0,0,0,0,0,0,"",null,9.2381299117502383E-2]
[null,{"$f":"MLIST!D71","v":"UnitaryAC-New"},0,0,0,0,0,0,0,0,0,0,0,0,0,0,0,0,0,0,"",null,9.2381299117502383E-2]
[null,{"$f":"MLIST!D72","v":"Com-PTAC-NR"},0.5,0.5,0.5,0.5,0.5,0.5,0.5,0.5,0.5,0.5,0.5,0.5,0.5,0.5,0.5,0.5,0.5,0.5,"Assume 50/50 split between PTAC and PTHP",null,9.2381299117502383E-2]
[null,{"$f":"MLIST!D73","v":"Com-PTAC-New"},0.5,0.5,0.5,0.5,0.5,0.5,0.5,0.5,0.5,0.5,0.5,0.5,0.5,0.5,0.5,0.5,0.5,0.5,"Assume 50/50 split between PTAC and PTHP",null,9.2381299117502383E-2]
[null,{"$f":"MLIST!D74","v":"COM-PTHP-NR"},0.5,0.5,0.5,0.5,0.5,0.5,0.5,0.5,0.5,0.5,0.5,0.5,0.5,0.5,0.5,0.5,0.5,0.5,"Assume 50/50 split between PTAC and PTHP"]
[null,{"$f":"MLIST!D75","v":"COM-PTHP-New"},0.5,0.5,0.5,0.5,0.5,0.5,0.5,0.5,0.5,0.5,0.5,0.5,0.5,0.5,0.5,0.5,0.5,0.5,"Assume 50/50 split between PTAC and PTHP"]
[null,{"$f":"MLIST!D76","v":"COM-PTHP-Retro"},0,0,0,0,0,0,0,0,0,0,0,0,0,0,0,0,0,0]
[null,{"$f":"MLIST!D77","v":"Com-DOAS-New"},0,0,0,0,0,0,0,0,0,0,0,0,0,0,0,0,0,0,null,null,9.2381299117502383E-2]
[null,{"$f":"MLIST!D78","v":"Com-DOAS-Retro"},0,0,0,0,0,0,0,0,0,0,0,0,0,0,0,0,0,0,null,null,9.2381299117502383E-2]
[null,{"$f":"MLIST!D79","v":"Secondary Glazing Systems-Retro"},0,0,0,0,0,0,0,0,0,0,0,0,0,0,0,0,0,0,0,"Baseline saturation in measure workbook.  Multiple measures",0.22458868903269982]
[null,{"$f":"MLIST!D80","v":"LPD Package-New"},0,0,0,0,0,0,0,0,0,0,0,0,0,0,0,0,0,0,0,"Baseline saturation in measure workbook.  Multiple measures",0.27868917229328594]
[null,{"$f":"MLIST!D81","v":"LPD Package-NR"},0,0,0,0,0,0,0,0,0,0,0,0,0,0,0,0,0,0,0,"Baseline saturation in measure workbook.  Multiple measures",0.22300715162221316]
[null,{"$f":"MLIST!D82","v":"LPD Package-Retro"},0,0,0,0,0,0,0,0,0,0,0,0,0,0,0,0,0,0,0,"Baseline saturation in measure workbook.  Multiple measures",0.3265989178858158]
[null,{"$f":"MLIST!D83","v":"Top Daylighting-New"},0,0.02,0.03,0.3,0.1,0,0,0.2,0.1,0.1,0.1,0,0,0,0,0.02,0,0.02,0,null,0.12181229468805803]
[null,{"$f":"MLIST!D84","v":"Perimeter Daylighting Controls Advanced-New"},0.2,0.2,0.1,0,0,0,0,0.7,0.2,0,0,0,0,0,0,0.05,0.05,0.05,0,null,0.17488641186800052]
[null,{"$f":"MLIST!D85","v":"Perimeter Daylighting Controls Advanced-NR"},0.1,0.1,0.05,0,0,0,0,0.3,0.2,0,0,0,0,0,0,0.05,0.05,0.05,0]
[null,{"$f":"MLIST!D86","v":"Lighting Controls Interior-New"},0.1,0.05,0.03,0.7,0.5,0.3,0.5,0.2,0.2,0.2,0.7,0.5,0.05,0.05,0.2,0.2,0.1,0.1,0]
[null,{"$f":"MLIST!D87","v":"Lighting Controls Interior-NR"},0.1,0.05,0.03,0.5,0.3,0.2,0.3,0.2,0.2,0.1,0.5,0.3,0.05,0.05,0.1,0.1,0.1,0.1,0]
[null,{"$f":"MLIST!D88","v":"Exterior Building Lighting-New"},0,0,0,0,0,0,0,0,0,0,0,0,0,0,0,0,0,0,0,"Baseline saturation in measure workbook.  Source (DOE 2014)"]
[null,{"$f":"MLIST!D89","v":"Exterior Building Lighting-NR"},0,0,0,0,0,0,0,0,0,0,0,0,0,0,0,0,0,0,0,"Baseline saturation in measure workbook.  Source (DOE 2014)"]
[null,{"$f":"MLIST!D90","v":"Street and Roadway Lighting-New"},0,0,0,0,0,0,0,0,0,0,0,0,0,0,0,0,0,0,0.4,"Baseline saturation in measure workbook.  Source (DOE 2014)"]
[null,{"$f":"MLIST!D91","v":"Street and Roadway Lighting-Retro"},0,0,0,0,0,0,0,0,0,0,0,0,0,0,0,0,0,0,0,"Baseline saturation in measure workbook.  Source (DOE 2014)"]
[null,{"$f":"MLIST!D92","v":"Parking Garage Lighting-New"},0.2,0.2,0.2,0.2,0.2,0.2,0.2,0.2,0.2,0.2,0.2,0.2,0.2,0.2,0.2,0.2,0.2,0.2]
[null,{"$f":"MLIST!D93","v":"Parking Garage Lighting-Retro"},0.01,0.01,0.01,0.01,0.01,0.01,0.01,0.01,0.01,0.01,0.01,0.01,0.01,0.01,0.01,0.01,0.01,0.01,0.01]
[null,{"$f":"MLIST!D94","v":"Bi-Level Stairwell Lighting-NR"},0,0,0,0,0,0,0,0,0,0,0,0,0,0,0,0,0,0,""]
[null,{"$f":"MLIST!D95","v":"Low Power LF Lamps-NR"},0,0,0,0,0,0,0,0,0,0,0,0,0,0,0,0,0,0,null,"In workbook. Uses market average mix of lpow watt from sales data"]
[null,{"$f":"MLIST!D96","v":"LEC Exit Sign-New"}]
[null,{"$f":"MLIST!D97","v":"LEC Exit Sign-NR"}]
[null,{"$f":"MLIST!D98","v":"Commercial Ice Maker-NR"},0,0,0,0,0,0,0,0,0,0,0,0,0,0,0,0,0,0,0]
[null,{"$f":"MLIST!D99","v":"Commercial Beverage Vending Machine-NR"},0,0,0,0,0,0,0,0,0,0,0,0,0,0,0,0,0,0,0]
[null,{"$f":"MLIST!D100","v":"Clean Water PUmps-Retro"},0,0,0,0,0,0,0,0,0,0,0,0,0,0,0,0,0,0,""]
[null,{"$f":"MLIST!D101","v":"Servers & Power Supplies-NR"},0,0,0,0,0,0,0,0,0,0,0,0,0,0,0,0,0,0,""]
[null,{"$f":"MLIST!D102","v":"Elevators-Retro"},0,0,0,0,0,0,0,0,0,0,0,0,0,0,0,0,0,0,""]
[null,{"$f":"MLIST!D103","v":"Clean Water Pumps-NR"},0,0,0,0,0,0,0,0,0,0,0,0,0,0,0,0,0,0]
[null,{"$f":"MLIST!D104","v":"Clean Water Pumps-New"},0,0,0,0,0,0,0,0,0,0,0,0,0,0,0,0,0,0]
[null,{"$f":"MLIST!D105","v":"EBHeaterControl-Retro"},0,0,0,0,0,0,0,0,0,0,0,0,0,0,0,0,0,0,""]
[null,{"$f":"MLIST!D106","v":"GroceryRefrigeration-NR"},0,0,0,0,0,0,0,0,0,0,0,0,0,0,0,0,0,0]
[null,{"$f":"MLIST!D107","v":"GroceryRefrigeration-Retro"},0,0,0,0,0,0,0,0,0,0,0,0,0,0,0,0,0,0,0]
[null,{"$f":"MLIST!D108","v":"GroceryRefrigeration-New"},0,0,0,0,0,0,0,0,0,0,0,0,0,0,0,0,0,0]
[null,{"$f":"MLIST!D109","v":"Packaged Refrigeration Equipment-New"},0,0,0,0,0,0,0,0,0,0,0,0,0,0,0,0,0,0,0.05]
[null,{"$f":"MLIST!D110","v":"Refrig-Freezer-NR"},0,0,0,0,0,0,0,0,0,0,0,0,0,0,0,0,0,0,""]
[null,{"$f":"MLIST!D111","v":"Refrig-Freezer-New"},0,0,0,0,0,0,0,0,0,0,0,0,0,0,0,0,0,0,""]
[null,{"$f":"MLIST!D112","v":"Water Cooler Controls-NR"},0,0,0,0,0,0,0,0,0,0,0,0,0,0,0,0,0,0,0,"Baseline saturation in measure workbook.  Multiple measures"]
[null,{"$f":"MLIST!D113","v":"HPWH ResType-New"},0,0,0,0,0,0,0,0,0,0,0,0,0,0,0,0,0,0,0.1]
[null,{"$f":"MLIST!D114","v":"HPWH ResType-NR"},0,0,0,0,0,0,0,0,0,0,0,0,0,0,0,0,0,0,""]
[null,{"$f":"MLIST!D115","v":"Washer-New"},0,0,0,0,0,0,0,0,0,0,0,0,0,0,0,0,0,0,""]
[null,{"$f":"MLIST!D116","v":"Washer-NR"},0,0,0,0,0,0,0,0,0,0,0,0,0,0,0,0,0,0,""]
[null,{"$f":"MLIST!D117","v":"Showerheads-NR"},0.2,0.2,0.2,0.2,0.2,0.2,0.2,0.2,0.2,0.2,0.2,0.2,0.2,0.2,0.2,0.2,0.2,0.2,""]
[null,{"$f":"MLIST!D118","v":"Showerheads-Retro"},0,0,0,0,0,0,0,0,0,0,0,0,0,0,0,0,0,0,""]
[null,{"$f":"MLIST!D119","v":0},0,0,0,0,0,0,0,0,0,0,0,0,0,0,0,0,0,0,""]
[null,{"$f":"MLIST!D120","v":0},0,0,0,0,0,0,0,0,0,0,0,0,0,0,0,0,0,0,""]
[null,{"$f":"MLIST!D121","v":0},0.08,0.04,0,0.08,0,0,0.02,0.3,0.15,0,0,0,0,0.02,0.1,0.05,0.02,0.02,0]

{"sheet":"FEAS","index":6,"n_rows":121,"n_cols":32,"rows_kept":121,"cut":false,"hidden":false,"merged":[[6,2,6,20],[9,2,9,4],[9,5,9,8],[9,9,9,10],[9,12,9,13],[9,16,9,17]]}
["FEAS"]
[]
[]
[]
[null,null,1,{"$f":"C5+1","v":2},3,4,5,6,7,8,9,10,11,12,13,14,15,16,17,18,19]
[null,null,{"$f":"COLUMN()-1","v":2},3,4,5,6,7,8,9,10,11,12,13,14,15,16,17,18,19,20]
[null,{"$f":"COLUMN()-1","v":1},"Factor One:  Technical Achievability"]
[]
[]
[null,null,{"$f":"APPLIC!C10","v":"Office"},{"$f":"APPLIC!D10","v":0},{"$f":"APPLIC!E10","v":0},{"$f":"APPLIC!F10","v":"Retail"},{"$f":"APPLIC!G10","v":0},{"$f":"APPLIC!H10","v":0},{"$f":"APPLIC!I10","v":0},{"$f":"APPLIC!J10","v":"School"},{"$f":"APPLIC!K10","v":0},{"$f":"APPLIC!L10","v":"Warehouse"},{"$f":"APPLIC!M10","v":"Grocery"},{"$f":"APPLIC!N10","v":0},{"$f":"APPLIC!O10","v":"Restaurant"},{"$f":"APPLIC!P10","v":"Lodging"},{"$f":"APPLIC!Q10","v":"Health"},{"$f":"APPLIC!R10","v":0},{"$f":"APPLIC!S10","v":"Assembly"},{"$f":"APPLIC!T10","v":"Other"},{"$f":"APPLIC!U10","v":0}]
["End Use","Measure Index Name",{"$f":"APPLIC!C11","v":"Large Off"},{"$f":"APPLIC!D11","v":"Medium Off"},{"$f":"APPLIC!E11","v":"Small Off"},{"$f":"APPLIC!F11","v":"Xlarge Ret"},{"$f":"APPLIC!G11","v":"Large Ret"},{"$f":"APPLIC!H11","v":"Medium Ret"},{"$f":"APPLIC!I11","v":"Small Ret"},{"$f":"APPLIC!J11","v":"School K-12"},{"$f":"APPLIC!K11","v":"University"},{"$f":"APPLIC!L11","v":"Warehouse"},{"$f":"APPLIC!M11","v":"Supermarket"},{"$f":"APPLIC!N11","v":"MiniMart"},{"$f":"APPLIC!O11","v":"Restaurant"},{"$f":"APPLIC!P11","v":"Lodging"},{"$f":"APPLIC!Q11","v":"Hospital"},{"$f":"APPLIC!R11","v":"Residential Care"},{"$f":"APPLIC!S11","v":"Assembly"},{"$f":"APPLIC!T11","v":"Other"},{"$f":"APPLIC!U11","v":"Non-Building Stock"},"Source",null,null,null,null,"New Construction","Assumption:  Either VRF + Lighting is applied to new buildings, OR the Ultra Low Energy Building Measure is applies.  Use these to eliminate overlap"]
[{"$f":"MLIST!A12","v":"Compressed Air"},{"$f":"MLIST!D12","v":"Compressors-New"},0.01,0.01,0.01,0.01,0.01,0.01,0.01,0.01,0.01,0.01,0.01,0.01,0.01,0.01,0.01,0.01,0.01,0.01,0.01,null,null,null,null,null,"Applicability Matrix",null,"VRF","Lighting",null,"ULEB"]
[{"$f":"MLIST!A13","v":"Compressed Air"},{"$f":"MLIST!D13","v":"Compressors-NR"},0.01,0.01,0.01,0.01,0.01,0.01,0.01,0.01,0.01,0.01,0.01,0.01,0.01,0.01,0.01,0.01,0.01,0.01,0.01,null,null,null,null,null,null,"Large Off",0.05,null,null,{"$f":"1-AC13","v":0.95}]
[{"$f":"MLIST!A14","v":"Electronics"},{"$f":"MLIST!D14","v":"Laptop-NR"},1,1,1,1,1,1,1,1,1,1,1,1,1,1,1,1,1,1,1,null,null,null,null,null,null,"Small Off",0.8,null,null,{"$f":"1-AC14","v":0.19999999999999996}]
[{"$f":"MLIST!A15","v":"Electronics"},{"$f":"MLIST!D15","v":"PowerStrips-Retro"},0.75,0.75,0.75,0.75,0.75,0.75,0.75,0.75,0.75,0.75,0.75,0.75,0.75,0.75,0.75,0.75,0.75,0.75,1,null,null,null,null,null,null,"Xlarge Ret",0.25,null,null,0.75]
[{"$f":"MLIST!A16","v":"Electronics"},{"$f":"MLIST!D16","v":"PowerStrips-New"},0.75,0.75,0.75,0.75,0.75,0.75,0.75,0.75,0.75,0.75,0.75,0.75,0.75,0.75,0.75,0.75,0.75,0.75]
[{"$f":"MLIST!A17","v":"Electronics"},{"$f":"MLIST!D17","v":"Data Centers-NR"},0.01,0.01,0.01,0.01,0.01,0.01,0.01,0.01,0.01,0.01,0.01,0.01,0.01,0.01,0.01,0.01,0.01,0.01,1,null,null,null,null,null,null,"Large Ret",0.25,null,null,0.75]
[{"$f":"MLIST!A18","v":"Electronics"},{"$f":"MLIST!D18","v":"Desktop-WA-NR"},1,1,1,1,1,1,1,1,1,1,1,1,1,1,1,1,1,1,1,null,null,null,null,null,null,"Medium Ret",0.25,null,null,0.75]
[{"$f":"MLIST!A19","v":"Electronics"},{"$f":"MLIST!D19","v":"Desktop-NR"},1,1,1,1,1,1,1,1,1,1,1,1,1,1,1,1,1,1,1,null,null,null,null,null,null,"Small Ret",0.25,null,null,0.75]
[{"$f":"MLIST!A20","v":"Electronics"},{"$f":"MLIST!D20","v":"Laptop-WA-NR"},1,1,1,1,1,1,1,1,1,1,1,1,1,1,1,1,1,1,1]
[{"$f":"MLIST!A21","v":"Food Preparation"},{"$f":"MLIST!D21","v":"Pre-Rinse Spray Valve-Retro"},0,0,0,0,0,0,0,0,0,0,0,0,0,0,0,0,0,0,1,null,null,null,null,null,null,"School K-12",0.8,null,null,0.19999999999999996]
[{"$f":"MLIST!A22","v":"Food Preparation"},{"$f":"MLIST!D22","v":"Steamer-NR"},0,0,0,0,0,0,0,0,0,0,0,0,0,0,0,0,0,0,null,null,null,null,null,null,null,"University",0.8,null,null,0.19999999999999996]
[{"$f":"MLIST!A23","v":"Food Preparation"},{"$f":"MLIST!D23","v":"Combo Oven-NR"},0,0,0,0,0,0,0,0,0,0,0,0,0,0,0,0,0,0]
[{"$f":"MLIST!A24","v":"Food Preparation"},{"$f":"MLIST!D24","v":"HFHC-NR"},0,0,0,0,0,0,0,0,0,0,0,0,0,0,0,0,0,0]
[{"$f":"MLIST!A25","v":"Food Preparation"},{"$f":"MLIST!D25","v":"Convection Oven-NR"},0,0,0,0,0,0,0,0,0,0,0,0,0,0,0,0,0,0]
[{"$f":"MLIST!A26","v":"Food Preparation"},{"$f":"MLIST!D26","v":"Fryer-NR"},0,0,0,0,0,0,0,0,0,0,0,0,0,0,0,0,0,0]
[{"$f":"MLIST!A27","v":"Food Preparation"},{"$f":"MLIST!D27","v":"Griddle-NR"},0,0,0,0,0,0,0,0,0,0,0,0,0,0,0,0,0,0]
[{"$f":"MLIST!A28","v":"Food Preparation"},{"$f":"MLIST!D28","v":"Overwrapper-NR"},0,0,0,0,0,0,0,0,0,0,0,0,0,0,0,0,0,0]
[{"$f":"MLIST!A29","v":"HVAC"},{"$f":"MLIST!D29","v":"DHP-New"},{"$f":"C30","v":0},{"$f":"D30","v":0},0.20993859971201817,0,0,0,0.22094961775441127,3.681042831755117E-4,0,1.0181166373796188E-3,0,0.1774139958426586,2.68748929881307E-2,4.5085990919976641E-3,0,6.7491985575253254E-5,1.1934171460365696E-3,7.1006668618335831E-3,0,null,null,null,null,null,null,"Warehouse",0.01,null,null,0.99]
[{"$f":"MLIST!A30","v":"HVAC"},{"$f":"MLIST!D30","v":"DHP-Retro"},{"$f":"CHAR!C107","v":0},{"$f":"CHAR!D107","v":0},{"$f":"CHAR!E107","v":0.20993859971201817},{"$f":"CHAR!F107","v":0},{"$f":"CHAR!G107","v":0},{"$f":"CHAR!H107","v":0},{"$f":"CHAR!I107","v":0.22094961775441127},{"$f":"CHAR!J107","v":3.681042831755117E-4},{"$f":"CHAR!K107","v":0},{"$f":"CHAR!L107","v":1.0181166373796188E-3},{"$f":"CHAR!M107","v":0},{"$f":"CHAR!N107","v":0.1774139958426586},{"$f":"CHAR!O107","v":2.68748929881307E-2},{"$f":"CHAR!P107","v":4.5085990919976641E-3},{"$f":"CHAR!Q107","v":0},{"$f":"CHAR!R107","v":6.7491985575253254E-5},{"$f":"CHAR!S107","v":1.1934171460365696E-3},{"$f":"CHAR!T107","v":7.1006668618335831E-3},0,null,null,null,null,null,null,"Supermarket",0.05,null,null,0.95]
[{"$f":"MLIST!A31","v":"HVAC"},{"$f":"MLIST!D31","v":"Glass-New"},0,0,0,0,0,0,0,0,0,0,0,0,0,0,0,0,0,0,0,null,null,null,null,null,null,"MiniMart",0.05,null,null,0.95]
[{"$f":"MLIST!A32","v":"HVAC"},{"$f":"MLIST!D32","v":"Glass-NR"},0,0,0,0,0,0,0,0,0,0,0,0,0,0,0,0,0,0,0,null,null,null,null,null,null,"Restaurant",0.25,null,null,0.75]
[{"$f":"MLIST!A33","v":"HVAC"},{"$f":"MLIST!D33","v":"ARC-New"},{"$f":"CHAR!C57","v":1.8926754028141333E-3},{"$f":"CHAR!D57","v":0.1471496529024249},{"$f":"CHAR!E57","v":0.13240689963870345},{"$f":"CHAR!F57","v":7.888545633245158E-4},{"$f":"CHAR!G57","v":0},{"$f":"CHAR!H57","v":6.2554762465474312E-3},{"$f":"CHAR!I57","v":7.7972222723667939E-2},{"$f":"CHAR!J57","v":7.2961445252611393E-3},{"$f":"CHAR!K57","v":0},{"$f":"CHAR!L57","v":5.9002849272469775E-3},{"$f":"CHAR!M57","v":1.4003390062578076E-2},{"$f":"CHAR!N57","v":9.0386504994478853E-2},{"$f":"CHAR!O57","v":5.5947017267791804E-2},{"$f":"CHAR!P57","v":6.2676890911127076E-2},{"$f":"CHAR!Q57","v":0},{"$f":"CHAR!R57","v":2.152551646759162E-2},{"$f":"CHAR!S57","v":1.9689628232810039E-2},{"$f":"CHAR!T57","v":1.5450247629297083E-2},0,"Assume same as retro",null,null,null,null,null,"Hospital",0.05,null,null,0.95]
[{"$f":"MLIST!A34","v":"HVAC"},{"$f":"MLIST!D34","v":"ARC-NR"},1,1,1,1,1,1,1,1,1,1,1,1,1,1,1,1,1,1,0,null,null,null,null,null,null,"Residential Care",0.8,null,null,0.19999999999999996]
[{"$f":"MLIST!A35","v":"HVAC"},{"$f":"MLIST!D35","v":"ARC-Retro"},{"$f":"CHAR!C104","v":5.9657075331244772E-2},{"$f":"CHAR!D104","v":0.41979695813466034},{"$f":"CHAR!E104","v":0.22893532950746645},{"$f":"CHAR!F104","v":0.6146642444750684},{"$f":"CHAR!G104","v":0.54209388723463203},{"$f":"CHAR!H104","v":0.31953358572674878},{"$f":"CHAR!I104","v":0.19529221711030417},{"$f":"CHAR!J104","v":0.11230866677341698},{"$f":"CHAR!K104","v":0.10749999999999998},{"$f":"CHAR!L104","v":5.314425823977946E-2},{"$f":"CHAR!M104","v":0.44258665295315303},{"$f":"CHAR!N104","v":0.62620222567182793},{"$f":"CHAR!O104","v":0.77243750182085646},{"$f":"CHAR!P104","v":8.8968152189568425E-2},{"$f":"CHAR!Q104","v":0.13749999999999998},{"$f":"CHAR!R104","v":0.14307280234537562},{"$f":"CHAR!S104","v":0.24525021208938691},{"$f":"CHAR!T104","v":9.4235260659140119E-2},0,"Share of rooftop systems with correct control type",null,null,null,null,null,"Assembly",0.25,null,null,0.75]
[{"$f":"MLIST!A36","v":"HVAC"},{"$f":"MLIST!D36","v":"Chiller-Upgrade-New"},0.95080040405653587,0.14011632762552204,1.1471870896251965E-2,1.8883642734375462E-2,0,2.2098078952238386E-2,0,0.30424705979242384,0.2810036844663974,3.5521821032041276E-3,2.4204898990889387E-2,0,0,0.27345503524838372,0.75549005218936593,0.14333566935192757,0.20398383826830863,0.24539003644094171,0,null,null,null,null,null,null,"Other",0.8,null,null,0.19999999999999996]
[{"$f":"MLIST!A37","v":"HVAC"},{"$f":"MLIST!D37","v":"Chiller-Upgrade-NR"},0.95080040405653587,0.14011632762552204,1.1471870896251965E-2,1.8883642734375462E-2,0,2.2098078952238386E-2,0,0.30424705979242384,0.2810036844663974,3.5521821032041276E-3,2.4204898990889387E-2,0,0,0.27345503524838372,0.75549005218936593,0.14333566935192757,0.20398383826830863,0.24539003644094171,0,"CBSA/CADMUS"]
[{"$f":"MLIST!A38","v":"HVAC"},{"$f":"MLIST!D38","v":"Chiller-System-Retro"},0.95080040405653587,0.14011632762552204,1.1471870896251965E-2,1.8883642734375462E-2,0,2.2098078952238386E-2,0,0.30424705979242384,0.2810036844663974,3.5521821032041276E-3,2.4204898990889387E-2,0,0,0.27345503524838372,0.75549005218936593,0.14333566935192757,0.20398383826830863,0.24539003644094171,0]
[{"$f":"MLIST!A39","v":"HVAC"},{"$f":"MLIST!D39","v":"Fans-Retro"},1,1,1,1,1,1,1,1,1,1,1,1,1,1,1,1,1,1,0.01,null,null,null,null,null,null,{"$f":"30%*0.33","v":9.9000000000000005E-2}]
[{"$f":"MLIST!A40","v":"HVAC"},{"$f":"MLIST!D40","v":"Fans-NR"},1,1,1,1,1,1,1,1,1,1,1,1,1,1,1,1,1,1]
[{"$f":"MLIST!A41","v":"HVAC"},{"$f":"MLIST!D41","v":"Fans-New"},1,1,1,1,1,1,1,1,1,1,1,1,1,1,1,1,1,1]
[{"$f":"MLIST!A42","v":"HVAC"},{"$f":"MLIST!D42","v":"VHE-DOAS-NR"},{"$f":"CHAR!C109","v":0},{"$f":"CHAR!D109","v":0.31116799555198416},{"$f":"CHAR!E109","v":0.10078956592697434},{"$f":"CHAR!F109","v":0},{"$f":"CHAR!G109","v":0},{"$f":"CHAR!H109","v":0.22404956203404489},{"$f":"CHAR!I109","v":2.0929207427793917E-2},{"$f":"CHAR!J109","v":0.11880489623903835},{"$f":"CHAR!K109","v":3.2500000000000001E-2},{"$f":"CHAR!L109","v":0},{"$f":"CHAR!M109","v":0},{"$f":"CHAR!N109","v":0},{"$f":"CHAR!O109","v":0},{"$f":"CHAR!P109","v":8.1144239743357799E-2},{"$f":"CHAR!Q109","v":0},{"$f":"CHAR!R109","v":0.11228235653132591},{"$f":"CHAR!S109","v":8.0176638022840835E-2},{"$f":"CHAR!T109","v":8.0362480593906466E-2},null,"The NEEA report only covers retail office, and schools"]
[{"$f":"MLIST!A43","v":"HVAC"},{"$f":"MLIST!D43","v":"VHE-DOAS-New"},{"$f":"C42","v":0},{"$f":"D42","v":0.31116799555198416},0.10078956592697434,0,0,0.22404956203404489,2.0929207427793917E-2,0.11880489623903835,3.2500000000000001E-2,0,0,0,0,8.1144239743357799E-2,0,0.11228235653132591,8.0176638022840835E-2,8.0362480593906466E-2]
[{"$f":"MLIST!A44","v":"HVAC"},{"$f":"MLIST!D44","v":"-NR"},0,{"$f":"C44","v":0},{"$f":"D44","v":0},0,0,0,0,0,0,0,0,0,0,0,0,0,0,0]
[{"$f":"MLIST!A45","v":"HVAC"},{"$f":"MLIST!D45","v":"Commercial EM-New"},{"$f":"C46","v":0.49665219196526472},{"$f":"D46","v":8.792519768455484E-2},0,3.7765122820735735E-2,0.25439208346608483,2.4196311059990292E-2,0,0.28957343533111551,0.77756785592800526,0,6.708188753508712E-2,0,2.1543769357886679E-2,7.4396089474197777E-2,0.85339696790936803,7.2551378765990687E-2,0,0,0,null,null,null,null,null,"Large Off",4.9500000000000004E-3]
[{"$f":"MLIST!A46","v":"HVAC"},{"$f":"MLIST!D46","v":"Commercial EM-Retro"},{"$f":"CHAR!C$106","v":0.49665219196526472},{"$f":"CHAR!D$106","v":8.792519768455484E-2},{"$f":"CHAR!E$106","v":0},{"$f":"CHAR!F$106","v":3.7765122820735735E-2},{"$f":"CHAR!G$106","v":0.25439208346608483},{"$f":"CHAR!H$106","v":2.4196311059990292E-2},{"$f":"CHAR!I$106","v":0},{"$f":"CHAR!J$106","v":0.28957343533111551},{"$f":"CHAR!K$106","v":0.77756785592800526},{"$f":"CHAR!L$106","v":0},{"$f":"CHAR!M$106","v":6.708188753508712E-2},{"$f":"CHAR!N$106","v":0},{"$f":"CHAR!O$106","v":2.1543769357886679E-2},{"$f":"CHAR!P$106","v":7.4396089474197777E-2},{"$f":"CHAR!Q$106","v":0.85339696790936803},{"$f":"CHAR!R$106","v":7.2551378765990687E-2},{"$f":"CHAR!S$106","v":0},{"$f":"CHAR!T$106","v":0},0,null,null,null,null,null,"Medium Off",6.93E-2]
[{"$f":"MLIST!A47","v":"HVAC"},{"$f":"MLIST!D47","v":"Economizer-Retro"},{"$f":"CHAR!C89","v":0.62956237771067991},{"$f":"CHAR!D89","v":0.31768861920643965},{"$f":"CHAR!E89","v":7.4025179596472243E-2},{"$f":"CHAR!F89","v":0.58848968508223554},{"$f":"CHAR!G89","v":0.26543424358205331},{"$f":"CHAR!H89","v":0.20684893583537547},{"$f":"CHAR!I89","v":1.359721457325402E-2},{"$f":"CHAR!J89","v":0.46813873620144136},{"$f":"CHAR!K89","v":0.46813873620144136},{"$f":"CHAR!L89","v":0.14833205060637186},{"$f":"CHAR!M89","v":0.52268307357406485},{"$f":"CHAR!N89","v":0.20352640884178452},{"$f":"CHAR!O89","v":0.32869617366969917},{"$f":"CHAR!P89","v":0.10423431348186975},{"$f":"CHAR!Q89","v":0.56873556010588189},{"$f":"CHAR!R89","v":7.8731272985480064E-2},{"$f":"CHAR!S89","v":0.39859901805810533},{"$f":"CHAR!T89","v":0.41988093429192064},0,null,null,null,null,null,"Small Off",6.93E-2]
[{"$f":"MLIST!A48","v":"HVAC"},{"$f":"MLIST!D48","v":"Demand Control Ventilation-New"},0,0,0,0,0,0,0,0,0,0,0,0,0,0,0,0,0,0,0,null,null,null,null,null,"Xlarge Ret",2.4750000000000001E-2]
[{"$f":"MLIST!A49","v":"HVAC"},{"$f":"MLIST!D49","v":"Demand Control Ventilation-NR"},0,0,0,0,0,0,0,0,0,0,0,0,0,0,0,0,0,0,0,null,null,null,null,null,"Large Ret",2.4750000000000001E-2]
[{"$f":"MLIST!A50","v":"HVAC"},{"$f":"MLIST!D50","v":"Demand Control Ventilation-Retro"},0.14631137601011796,0.74589661920231454,0.73509055744892704,0.83574312563810227,0.46783892446991926,0.54177151125755074,0.42830690246516329,0.47977138768081973,0.22243214407199474,0.240779345257396,0.44053256439563659,0.66642525249308782,0.5217340520637288,0.25167846767074081,0.14660303209063197,0.35546114005701851,0.60709126888405673,0.4806762065224407,0.48959810561636635,"From CBSA",null,null,null,null,"Medium Ret",2.4750000000000001E-2]
[{"$f":"MLIST!A51","v":"HVAC"},{"$f":"MLIST!D51","v":"DCV-Lab Hood-Retro"},0,0,0,0,0,0,0,0,0,0,0,0,0,0,0,0,0,0,1,null,null,null,null,null,"Small Ret",2.4750000000000001E-2]
[{"$f":"MLIST!A52","v":"HVAC"},{"$f":"MLIST!D52","v":"DCV-Kitchen-Retro"},0,0,0,0,0,0,0,0,0,0,0,0,0,0,0,0,0,0,1,null,null,null,null,null,"School K-12",6.93E-2]
[{"$f":"MLIST!A53","v":"HVAC"},{"$f":"MLIST!D53","v":"DCV-Parking Garage-Retro"},0,0,0,0,0,0,0,0,0,0,0,0,0,0,0,0,0,0,1,null,null,null,null,null,"University",6.93E-2]
[{"$f":"MLIST!A54","v":"HVAC"},{"$f":"MLIST!D54","v":"Weatherization - School-Retro"},0.01,0.01,0.01,0.01,0.01,0.01,0.01,0.01,0.01,0.01,0.01,0.01,0.01,0.01,0.01,0.01,0.01,0.01,0.01,null,null,null,null,null,"Warehouse",9.8999999999999999E-4]
[{"$f":"MLIST!A55","v":"HVAC"},{"$f":"MLIST!D55","v":"Energy Recovery Ventilator-NR"},0.01,0.01,0.01,0.01,0.01,0.01,0.01,0.01,0.01,0.01,0.01,0.01,0.01,0.01,0.01,0.01,0.01,0.01,1,null,null,null,null,null,"Supermarket",4.9500000000000004E-3]
[{"$f":"MLIST!A56","v":"HVAC"},{"$f":"MLIST!D56","v":"AC Heat Recovery for Water Heating-NR"},0.01,0.01,0.01,0.01,0.01,0.01,0.01,0.01,0.01,0.01,0.01,0.01,0.01,0.01,0.01,0.01,0.01,0.01,0.01,null,null,null,null,null,"MiniMart",4.9500000000000004E-3]
[{"$f":"MLIST!A57","v":"HVAC"},{"$f":"MLIST!D57","v":"Room Occupancy Sensors in Lodging-Retro"},0.01,0.01,0.01,0.01,0.01,0.01,0.01,0.01,0.01,0.01,0.01,0.01,0.01,0.01,0.01,0.01,0.01,0.01,0.01,null,null,null,null,null,"Restaurant",2.4750000000000001E-2]
[{"$f":"MLIST!A58","v":"HVAC"},{"$f":"MLIST!D58","v":"Pool Blankets-Retro"},0.01,0.01,0.01,0.01,0.01,0.01,0.01,0.01,0.01,0.01,0.01,0.01,0.01,0.01,0.01,0.01,0.01,0.01,0.01,null,null,null,null,null,"Residential Care",6.93E-2]
[{"$f":"MLIST!A59","v":"HVAC"},{"$f":"MLIST!D59","v":"ConnectedThermostats-New"},{"$f":"CHAR!C105","v":0},{"$f":"CHAR!D105","v":0.17938317057580522},{"$f":"CHAR!E105","v":0.41648300516970066},{"$f":"CHAR!F105","v":0},{"$f":"CHAR!G105","v":0},{"$f":"CHAR!H105","v":0.20847404612231232},{"$f":"CHAR!I105","v":0.24401291771146721},{"$f":"CHAR!J105","v":0.17693217700243605},{"$f":"CHAR!K105","v":0},{"$f":"CHAR!L105","v":0.13306451945390713},{"$f":"CHAR!M105","v":0.13444513737551542},{"$f":"CHAR!N105","v":0.33854180381147619},{"$f":"CHAR!O105","v":9.528077527378731E-2},{"$f":"CHAR!P105","v":0},{"$f":"CHAR!Q105","v":0},{"$f":"CHAR!R105","v":6.7560162947598909E-2},{"$f":"CHAR!S105","v":0.18439377993518563},{"$f":"CHAR!T105","v":0.14367233353608369},null,null,null,null,null,null,"Assembly",2.4750000000000001E-2]
[{"$f":"MLIST!A60","v":"HVAC"},{"$f":"MLIST!D60","v":"ConnectedThermostats-Retro"},{"$f":"CHAR!C105","v":0},{"$f":"CHAR!D105","v":0.17938317057580522},{"$f":"CHAR!E105","v":0.41648300516970066},{"$f":"CHAR!F105","v":0},{"$f":"CHAR!G105","v":0},{"$f":"CHAR!H105","v":0.20847404612231232},{"$f":"CHAR!I105","v":0.24401291771146721},{"$f":"CHAR!J105","v":0.17693217700243605},{"$f":"CHAR!K105","v":0},{"$f":"CHAR!L105","v":0.13306451945390713},{"$f":"CHAR!M105","v":0.13444513737551542},{"$f":"CHAR!N105","v":0.33854180381147619},{"$f":"CHAR!O105","v":9.528077527378731E-2},{"$f":"CHAR!P105","v":0},{"$f":"CHAR!Q105","v":0},{"$f":"CHAR!R105","v":6.7560162947598909E-2},{"$f":"CHAR!S105","v":0.18439377993518563},{"$f":"CHAR!T105","v":0.14367233353608369},null,null,null,null,null,null,"Assembly",2.4750000000000001E-2]
[{"$f":"MLIST!A61","v":"HVAC"},{"$f":"MLIST!D61","v":"CircPumps-NR"},1,1,1,1,1,1,1,1,1,1,1,1,1,1,1,1,1,1,1,"These are handled in the CircPump workbooks",null,null,null,null,"Other",6.93E-2]
[{"$f":"MLIST!A62","v":"HVAC"},{"$f":"MLIST!D62","v":"Circpumps-New"},1,1,1,1,1,1,1,1,1,1,1,1,1,1,1,1,1,1,1,"These are handled in the CircPump workbooks"]
[{"$f":"MLIST!A63","v":"HVAC"},{"$f":"MLIST!D63","v":"VRF-DOAS-New"},{"$f":"CHAR!C54","v":4.9000000000000002E-2},{"$f":"CHAR!D54","v":0.78400000000000003},{"$f":"CHAR!E54","v":0.78400000000000003},{"$f":"CHAR!F54","v":0.245},{"$f":"CHAR!G54","v":0.245},{"$f":"CHAR!H54","v":0.245},{"$f":"CHAR!I54","v":0.245},{"$f":"CHAR!J54","v":0.78400000000000003},{"$f":"CHAR!K54","v":0.78400000000000003},{"$f":"CHAR!L54","v":9.7999999999999997E-3},{"$f":"CHAR!M54","v":4.9000000000000002E-2},{"$f":"CHAR!N54","v":4.9000000000000002E-2},{"$f":"CHAR!O54","v":0.245},{"$f":"CHAR!P54","v":0.68599999999999994},{"$f":"CHAR!Q54","v":4.9000000000000002E-2},{"$f":"CHAR!R54","v":0.78400000000000003},{"$f":"CHAR!S54","v":0.245},{"$f":"CHAR!T54","v":0.78400000000000003},0]
[{"$f":"MLIST!A64","v":"HVAC"},{"$f":"MLIST!D64","v":"VRF-DOAS-NR"},{"$f":"CHAR!C102","v":2.4820152866650024E-2},{"$f":"CHAR!D102","v":6.9496428026620066E-2},{"$f":"CHAR!E102","v":6.9496428026620066E-2},{"$f":"CHAR!F102","v":4.9500000000000004E-3},{"$f":"CHAR!G102","v":6.93E-2},{"$f":"CHAR!H102","v":6.93E-2},{"$f":"CHAR!I102","v":2.4750000000000001E-2},{"$f":"CHAR!J102","v":2.4750000000000001E-2},{"$f":"CHAR!K102","v":2.4750000000000001E-2},{"$f":"CHAR!L102","v":2.4750000000000001E-2},{"$f":"CHAR!M102","v":6.93E-2},{"$f":"CHAR!N102","v":6.93E-2},{"$f":"CHAR!O102","v":9.8999999999999999E-4},{"$f":"CHAR!P102","v":4.9500000000000004E-3},{"$f":"CHAR!Q102","v":4.9500000000000004E-3},{"$f":"CHAR!R102","v":2.4750000000000001E-2},{"$f":"CHAR!S102","v":6.93E-2},{"$f":"CHAR!T102","v":4.9500000000000004E-3},0.01]
[{"$f":"MLIST!A65","v":"HVAC"},{"$f":"MLIST!D65","v":"Evaporator Roof Top HVAC-Retro"},0.01,0.01,0.01,0.01,0.01,0.01,0.01,0.01,0.01,0.01,0.01,0.01,0.01,0.01,0.01,0.01,0.01,0.01,0.01]
[{"$f":"MLIST!A66","v":"HVAC"},{"$f":"MLIST!D66","v":"HeatPumps-NR"},{"$f":"CHAR!C110","v":3.6542560397981705E-2},{"$f":"CHAR!D110","v":0.39519655394669206},{"$f":"CHAR!E110","v":0.37995245427726915},{"$f":"CHAR!F110","v":2.1709738456819512E-2},{"$f":"CHAR!G110","v":0},{"$f":"CHAR!H110","v":0.11197000079898092},{"$f":"CHAR!I110","v":8.8679289208082199E-2},{"$f":"CHAR!J110","v":3.5103173051232145E-2},{"$f":"CHAR!K110","v":0.1},{"$f":"CHAR!L110","v":5.9990063463919597E-3},{"$f":"CHAR!M110","v":0.23814777977096271},{"$f":"CHAR!N110","v":0.26655838381224639},{"$f":"CHAR!O110","v":0.16388373357277711},{"$f":"CHAR!P110","v":6.8811252317806673E-2},{"$f":"CHAR!Q110","v":0.1},{"$f":"CHAR!R110","v":8.2098541325971358E-2},{"$f":"CHAR!S110","v":9.3541742456918472E-2},{"$f":"CHAR!T110","v":5.2598504059634316E-2},0.01]
[{"$f":"MLIST!A67","v":"HVAC"},{"$f":"MLIST!D67","v":"HeatPumps-New"},{"$f":"CHAR!C110","v":3.6542560397981705E-2},{"$f":"CHAR!D110","v":0.39519655394669206},{"$f":"CHAR!E110","v":0.37995245427726915},{"$f":"CHAR!F110","v":2.1709738456819512E-2},{"$f":"CHAR!G110","v":0},{"$f":"CHAR!H110","v":0.11197000079898092},{"$f":"CHAR!I110","v":8.8679289208082199E-2},{"$f":"CHAR!J110","v":3.5103173051232145E-2},{"$f":"CHAR!K110","v":0.1},{"$f":"CHAR!L110","v":5.9990063463919597E-3},{"$f":"CHAR!M110","v":0.23814777977096271},{"$f":"CHAR!N110","v":0.26655838381224639},{"$f":"CHAR!O110","v":0.16388373357277711},{"$f":"CHAR!P110","v":6.8811252317806673E-2},{"$f":"CHAR!Q110","v":0.1},{"$f":"CHAR!R110","v":8.2098541325971358E-2},{"$f":"CHAR!S110","v":9.3541742456918472E-2},{"$f":"CHAR!T110","v":5.2598504059634316E-2},0.01]
[{"$f":"MLIST!A68","v":"HVAC"},{"$f":"MLIST!D68","v":"VCHP-NR"},{"$f":"CHAR!C69","v":0.26364565595175282},{"$f":"CHAR!D69","v":0.25312006634825812},{"$f":"CHAR!E69","v":0.36288564632500747},{"$f":"CHAR!F69","v":4.9701415337257152E-2},{"$f":"CHAR!G69","v":0},{"$f":"CHAR!H69","v":7.7831481142329989E-2},{"$f":"CHAR!I69","v":0.19199233568050422},{"$f":"CHAR!J69","v":7.4298620207873131E-2},{"$f":"CHAR!K69","v":0.1},{"$f":"CHAR!L69","v":7.113276907723072E-2},{"$f":"CHAR!M69","v":7.2284687717319038E-2},{"$f":"CHAR!N69","v":0.32449115371706461},{"$f":"CHAR!O69","v":0.11198727289083449},{"$f":"CHAR!P69","v":0.44650645169983255},{"$f":"CHAR!Q69","v":0.01},{"$f":"CHAR!R69","v":0.38014933407842694},{"$f":"CHAR!S69","v":0.1028479692416142},{"$f":"CHAR!T69","v":0.20807631585447675},0.01]
[{"$f":"MLIST!A69","v":"HVAC"},{"$f":"MLIST!D69","v":"VCHP-New"},{"$f":"CHAR!C21","v":9.7482075021135345E-2},{"$f":"CHAR!D21","v":1.1773370213799438E-2},{"$f":"CHAR!E21","v":0.27766868679299217},{"$f":"CHAR!F21","v":0.17520850471119245},{"$f":"CHAR!G21","v":0.14925310343027248},{"$f":"CHAR!H21","v":1.4175601781502387E-2},{"$f":"CHAR!I21","v":0.35300035327299167},{"$f":"CHAR!J21","v":0.24622982334029381},{"$f":"CHAR!K21","v":0.1107585528664846},{"$f":"CHAR!L21","v":0.17520850471119245},{"$f":"CHAR!M21","v":0.1000635519914288},{"$f":"CHAR!N21","v":3.7919073269764856E-3},{"$f":"CHAR!O21","v":6.1118576387195395E-2},{"$f":"CHAR!P21","v":0.12040568596637012},{"$f":"CHAR!Q21","v":0.15495929331387026},{"$f":"CHAR!R21","v":8.6344757210899958E-3},{"$f":"CHAR!S21","v":8.6344757210899958E-3},{"$f":"CHAR!T21","v":8.1325185384101065E-2},0.01]
[{"$f":"MLIST!A70","v":"HVAC"},{"$f":"MLIST!D70","v":"UnitaryAC-NR"},{"$f":"CHAR!C108","v":0.26624385916553811},{"$f":"CHAR!D108","v":0.43519156607653653},{"$f":"CHAR!E108","v":0.35473293447171728},{"$f":"CHAR!F108","v":0.77197238164502857},{"$f":"CHAR!G108","v":0.67487179177300938},{"$f":"CHAR!H108","v":0.494925841974245},{"$f":"CHAR!I108","v":0.18674608473958551},{"$f":"CHAR!J108","v":0.19650955817279386},{"$f":"CHAR!K108","v":0.19650955817279386},{"$f":"CHAR!L108","v":0.12465486606766073},{"$f":"CHAR!M108","v":0.60870776861896103},{"$f":"CHAR!N108","v":0.46915237489938888},{"$f":"CHAR!O108","v":0.68441730730450012},{"$f":"CHAR!P108","v":0.14200665568682208},{"$f":"CHAR!Q108","v":0.25757988694126943},{"$f":"CHAR!R108","v":0.25757988694126943},{"$f":"CHAR!S108","v":0.41705608164212787},{"$f":"CHAR!T108","v":0.35128148031006357},0.01]
[{"$f":"MLIST!A71","v":"HVAC"},{"$f":"MLIST!D71","v":"UnitaryAC-New"},{"$f":"C70","v":0.26624385916553811},{"$f":"D70","v":0.43519156607653653},0.35473293447171728,0.77197238164502857,0.67487179177300938,0.494925841974245,0.18674608473958551,0.19650955817279386,0.19650955817279386,0.12465486606766073,0.60870776861896103,0.46915237489938888,0.68441730730450012,0.14200665568682208,0.25757988694126943,0.25757988694126943,0.41705608164212787,0.35128148031006357,0.01]
[{"$f":"MLIST!A72","v":"HVAC"},{"$f":"MLIST!D72","v":"Com-PTAC-NR"},{"$f":"CHAR!C103","v":3.8667993781867659E-2},{"$f":"CHAR!D103","v":0.10772288039366708},{"$f":"CHAR!E103","v":0.17202131317711991},{"$f":"CHAR!F103","v":0},{"$f":"CHAR!G103","v":0},{"$f":"CHAR!H103","v":0},{"$f":"CHAR!I103","v":0.1465928706267976},{"$f":"CHAR!J103","v":3.652989807404624E-2},{"$f":"CHAR!K103","v":7.2286389280593027E-2},{"$f":"CHAR!L103","v":5.3468785905279217E-2},{"$f":"CHAR!M103","v":0},{"$f":"CHAR!N103","v":1.8420285642938062E-2},{"$f":"CHAR!O103","v":3.0355887626693442E-2},{"$f":"CHAR!P103","v":0.81179426313985203},{"$f":"CHAR!Q103","v":0.53888410106821116},{"$f":"CHAR!R103","v":0.44671712846541295},{"$f":"CHAR!S103","v":5.24446975204063E-2},{"$f":"CHAR!T103","v":0.13532594969404457},0.01]
[{"$f":"MLIST!A73","v":"HVAC"},{"$f":"MLIST!D73","v":"Com-PTAC-New"},{"$f":"C$72","v":3.8667993781867659E-2},{"$f":"D$72","v":0.10772288039366708},0.17202131317711991,0,0,0,0.1465928706267976,3.652989807404624E-2,7.2286389280593027E-2,5.3468785905279217E-2,0,1.8420285642938062E-2,3.0355887626693442E-2,0.81179426313985203,0.53888410106821116,0.44671712846541295,5.24446975204063E-2,0.13532594969404457,0.01]
[{"$f":"MLIST!A74","v":"HVAC"},{"$f":"MLIST!D74","v":"COM-PTHP-NR"},{"$f":"C$72","v":3.8667993781867659E-2},0.10772288039366708,0.17202131317711991,0,0,0,0.1465928706267976,3.652989807404624E-2,7.2286389280593027E-2,5.3468785905279217E-2,0,1.8420285642938062E-2,3.0355887626693442E-2,0.81179426313985203,0.53888410106821116,0.44671712846541295,5.24446975204063E-2,0.13532594969404457,0.01]
[{"$f":"MLIST!A75","v":"HVAC"},{"$f":"MLIST!D75","v":"COM-PTHP-New"},3.8667993781867659E-2,0.10772288039366708,0.17202131317711991,0,0,0,0.1465928706267976,3.652989807404624E-2,7.2286389280593027E-2,5.3468785905279217E-2,0,1.8420285642938062E-2,3.0355887626693442E-2,0.81179426313985203,0.53888410106821116,0.44671712846541295,5.24446975204063E-2,0.13532594969404457,0.01]
[{"$f":"MLIST!A76","v":"HVAC"},{"$f":"MLIST!D76","v":"COM-PTHP-Retro"},3.8667993781867659E-2,0.10772288039366708,0.17202131317711991,0,0,0,0.1465928706267976,3.652989807404624E-2,7.2286389280593027E-2,5.3468785905279217E-2,0,1.8420285642938062E-2,3.0355887626693442E-2,0.81179426313985203,0.53888410106821116,0.44671712846541295,5.24446975204063E-2,0.13532594969404457,0.01]
[{"$f":"MLIST!A77","v":"HVAC"},{"$f":"MLIST!D77","v":"Com-DOAS-New"},0.26364565595175282,0.25312006634825812,0.36288564632500747,4.9701415337257152E-2,0,7.7831481142329989E-2,0.19199233568050422,7.4298620207873131E-2,0.1,7.113276907723072E-2,7.2284687717319038E-2,0.32449115371706461,0.11198727289083449,0.44650645169983255,0.01,0.38014933407842694,0.1028479692416142,0.20807631585447675,0.01]
[{"$f":"MLIST!A78","v":"HVAC"},{"$f":"MLIST!D78","v":"Com-DOAS-Retro"},0.26364565595175282,0.25312006634825812,0.36288564632500747,4.9701415337257152E-2,0,7.7831481142329989E-2,0.19199233568050422,7.4298620207873131E-2,0.1,7.113276907723072E-2,7.2284687717319038E-2,0.32449115371706461,0.11198727289083449,0.44650645169983255,0.01,0.38014933407842694,0.1028479692416142,0.20807631585447675,0.01]
[{"$f":"MLIST!A79","v":"HVAC"},{"$f":"MLIST!D79","v":"Secondary Glazing Systems-Retro"},0,0,0,0,0,0,0,0,0,0,0,0,0,0,0,0,0,0,0,"Technical Achievability in measure workbook.  Multiple measures"]
[{"$f":"MLIST!A80","v":"Lighting"},{"$f":"MLIST!D80","v":"LPD Package-New"},0,0,0,0,0,0,0,0,0,0,0,0,0,0,0,0,0,0,0,"Technical Achievability in measure workbook.  Multiple measures"]
[{"$f":"MLIST!A81","v":"Lighting"},{"$f":"MLIST!D81","v":"LPD Package-NR"},0,0,0,0,0,0,0,0,0,0,0,0,0,0,0,0,0,0,0,"Technical Achievability in measure workbook.  Multiple measures"]
[{"$f":"MLIST!A82","v":"Lighting"},{"$f":"MLIST!D82","v":"LPD Package-Retro"},0,0,0,0,0,0,0,0,0,0,0,0,0,0,0,0,0,0,0,"Technical Achievability in measure workbook.  Multiple measures"]
[{"$f":"MLIST!A83","v":"Lighting"},{"$f":"MLIST!D83","v":"Top Daylighting-New"},0,0,0,0,0,0,0,0,0,0,0,0,0,0,0,0,0,0,0]
[{"$f":"MLIST!A84","v":"Lighting"},{"$f":"MLIST!D84","v":"Perimeter Daylighting Controls Advanced-New"},0,0,0,0,0,0,0,0,0,0,0,0,0,0,0,0,0,0,0]
[{"$f":"MLIST!A85","v":"Lighting"},{"$f":"MLIST!D85","v":"Perimeter Daylighting Controls Advanced-NR"},0,0,0,0,0,0,0,0,0,0,0,0,0,0,0,0,0,0,0]
[{"$f":"MLIST!A86","v":"Lighting"},{"$f":"MLIST!D86","v":"Lighting Controls Interior-New"},0,0,0,0,0,0,0,0,0,0,0,0,0,0,0,0,0,0,0]
[{"$f":"MLIST!A87","v":"Lighting"},{"$f":"MLIST!D87","v":"Lighting Controls Interior-NR"},0,0,0,0,0,0,0,0,0,0,0,0,0,0,0,0,0,0,0]
[{"$f":"MLIST!A88","v":"Lighting"},{"$f":"MLIST!D88","v":"Exterior Building Lighting-New"},0,0,0,0,0,0,0,0,0,0,0,0,0,0,0,0,0,0,0,"Technical Achievability in measure workbook.  Multiple measures"]
[{"$f":"MLIST!A89","v":"Lighting"},{"$f":"MLIST!D89","v":"Exterior Building Lighting-NR"},0,0,0,0,0,0,0,0,0,0,0,0,0,0,0,0,0,0,0,"Technical Achievability in measure workbook.  Multiple measures"]
[{"$f":"MLIST!A90","v":"Lighting"},{"$f":"MLIST!D90","v":"Street and Roadway Lighting-New"},0,0,0,0,0,0,0,0,0,0,0,0,0,0,0,0,0,0,0,"Technical Achievability in measure workbook.  Multiple measures"]
[{"$f":"MLIST!A91","v":"Lighting"},{"$f":"MLIST!D91","v":"Street and Roadway Lighting-Retro"},0,0,0,0,0,0,0,0,0,0,0,0,0,0,0,0,0,0,0,"Technical Achievability in measure workbook.  Multiple measures"]
[{"$f":"MLIST!A92","v":"Lighting"},{"$f":"MLIST!D92","v":"Parking Garage Lighting-New"},0,0,0,0,0,0,0,0,0,0,0,0,0,0,0,0,0,0,0]
[{"$f":"MLIST!A93","v":"Lighting"},{"$f":"MLIST!D93","v":"Parking Garage Lighting-Retro"},0,0,0,0,0,0,0,0,0,0,0,0,0,0,0,0,0,0,0,"Technical Achievability in measure workbook.  Multiple measures"]
[{"$f":"MLIST!A95","v":"Lighting"},{"$f":"MLIST!D95","v":"Low Power LF Lamps-NR"},0.01,0.01,0.01,0.01,0.01,0.01,0.01,0.01,0.01,0.01,0.01,0.01,0.01,0.01,0.01,0.01,0.01,0.01,0.01]
[{"$f":"MLIST!A96","v":"Lighting"},{"$f":"MLIST!D96","v":"LEC Exit Sign-New"},1,1,1,1,1,1,1,1,1,1,1,1,1,1,1,1,1,1]
[{"$f":"MLIST!A97","v":"Lighting"},{"$f":"MLIST!D97","v":"LEC Exit Sign-NR"}]
[{"$f":"MLIST!A94","v":"Lighting"},{"$f":"MLIST!D94","v":"Bi-Level Stairwell Lighting-NR"}]
[{"$f":"MLIST!A98","v":"Refrigeration"},{"$f":"MLIST!D98","v":"Commercial Ice Maker-NR"},1,1,1,1,1,1,1,1,1,1,1,1,1,1,1,1,1,1,0,"Applicability built into savings values; see measure workbook"]
[{"$f":"MLIST!A99","v":"Refrigeration"},{"$f":"MLIST!D99","v":"Commercial Beverage Vending Machine-NR"},1,1,1,1,1,1,1,1,1,1,1,1,1,1,1,1,1,1,0]
[{"$f":"MLIST!A100","v":"Motors/Drives"},{"$f":"MLIST!D100","v":"Clean Water PUmps-Retro"},1,1,1,1,1,1,1,1,1,1,1,1,1,1,1,1,1,1,1]
[{"$f":"MLIST!A101","v":"Electronics"},{"$f":"MLIST!D101","v":"Servers & Power Supplies-NR"},0.01,0.01,0.01,0.01,0.01,0.01,0.01,0.01,0.01,0.01,0.01,0.01,0.01,0.01,0.01,0.01,0.01,0.01,0.01]
[{"$f":"MLIST!A102","v":"Process Loads"},{"$f":"MLIST!D102","v":"Elevators-Retro"},0.01,0.01,0.01,0.01,0.01,0.01,0.01,0.01,0.01,0.01,0.01,0.01,0.01,0.01,0.01,0.01,0.01,0.01,0.01]
[{"$f":"MLIST!A103","v":"Motors/Drives"},{"$f":"MLIST!D103","v":"Clean Water Pumps-NR"},1,1,1,1,1,1,1,1,1,1,1,1,1,1,1,1,1,1,1]
[{"$f":"MLIST!A104","v":"Motors/Drives"},{"$f":"MLIST!D104","v":"Clean Water Pumps-New"},1,1,1,1,1,1,1,1,1,1,1,1,1,1,1,1,1,1,1]
[{"$f":"MLIST!A105","v":"Process Loads"},{"$f":"MLIST!D105","v":"EBHeaterControl-Retro"},0,0,0,0,0,0,0,0,0,0,0,0,0,0,0,0,0,0,0]
[{"$f":"MLIST!A106","v":"Refrigeration"},"GroceryRefrigeration",0.01,0.01,0.01,0.01,0.01,0.01,0.01,0.01,0.01,0.01,0.01,0.01,0.01,0.01,0.01,0.01,0.01,0.01,0.01]
[{"$f":"MLIST!A107","v":"Refrigeration"},{"$f":"MLIST!D107","v":"GroceryRefrigeration-Retro"},1,1,1,1,1,1,1,1,1,1,1,1,1,1,1,1,1,1,1]
[{"$f":"MLIST!A108","v":"Refrigeration"},{"$f":"MLIST!D108","v":"GroceryRefrigeration-New"},1,1,1,1,1,1,1,1,1,1,1,1,1,1,1,1,1,1,1]
[{"$f":"MLIST!A109","v":"Refrigeration"},{"$f":"MLIST!D109","v":"Packaged Refrigeration Equipment-New"},0,0,0,0,0,0,0,0,0,0,0,0,0,0,0,0,0,0,0]
[{"$f":"MLIST!A110","v":"Refrigeration"},{"$f":"MLIST!D110","v":"Refrig-Freezer-NR"},0.01,0.01,0.01,0.01,0.01,0.01,0.01,0.01,0.01,0.01,0.01,0.01,0.01,0.01,0.01,0.01,0.01,0.01,0.01]
[{"$f":"MLIST!A111","v":"Refrigeration"},{"$f":"MLIST!D111","v":"Refrig-Freezer-New"},0.01,0.01,0.01,0.01,0.01,0.01,0.01,0.01,0.01,0.01,0.01,0.01,0.01,0.01,0.01,0.01,0.01,0.01,0.01]
[{"$f":"MLIST!A112","v":"Refrigeration"},{"$f":"MLIST!D112","v":"Water Cooler Controls-NR"},0,0,0,0,0,0,0,0,0,0,0,0,0,0,0,0,0,0,0,"Technical Achievability in measure workbook.  Multiple measures"]
[{"$f":"MLIST!A113","v":"Water Heating"},{"$f":"MLIST!D113","v":"HPWH ResType-New"},1,1,1,1,1,1,1,1,1,1,1,1,1,1,1,1,1,1,0,"Applicability handled in the measure workbook"]
[{"$f":"MLIST!A114","v":"Water Heating"},{"$f":"MLIST!D114","v":"HPWH ResType-NR"},1,1,1,1,1,1,1,1,1,1,1,1,1,1,1,1,1,1,0,"Applicability handled in the measure workbook"]
[{"$f":"MLIST!A115","v":"Water Heating"},{"$f":"MLIST!D115","v":"Washer-New"},1,1,1,1,1,1,1,1,1,1,1,1,1,1,1,1,1,1,1]
[{"$f":"MLIST!A116","v":"Water Heating"},{"$f":"MLIST!D116","v":"Washer-NR"},0,0,0,0,0,0,0,0,0,0,0,0,0,0,0,0,0,0,0]
[{"$f":"MLIST!A117","v":"Water Heating"},{"$f":"MLIST!D117","v":"Showerheads-NR"},0,0,0,0,0,0,0,0,0,0,0,0,0,0,0,0,0,0,0]
[{"$f":"MLIST!A118","v":"Water Heating"},{"$f":"MLIST!D118","v":"Showerheads-Retro"},0.01,0.01,0.01,0.01,0.01,0.01,0.01,0.01,0.01,0.01,0.01,0.01,0.01,0.01,0.01,0.01,0.01,0.01,0.01]
[{"$f":"MLIST!A119","v":0},{"$f":"MLIST!D119","v":0},0.75,0.75,0.75,0.75,0.75,0.75,0.75,0.75,0.75,0.75,0.75,0.75,0.75,0.75,0.75,0.75,0.75,0.75,0]
[{"$f":"MLIST!A120","v":0},{"$f":"MLIST!D120","v":0},0.75,0.75,0.75,0.75,0.75,0.75,0.75,0.75,0.75,0.75,0.75,0.75,0.75,0.75,0.75,0.75,0.75,0.75,0]
[{"$f":"MLIST!A121","v":0},{"$f":"MLIST!D121","v":0},0,0,0,0,0,0,0,0,0,0,0,0,0,0,0,0,0,0,0]

{"sheet":"STOCK","index":7,"n_rows":121,"n_cols":25,"rows_kept":121,"cut":false,"hidden":false,"merged":[[9,16,9,17],[9,2,9,4],[9,5,9,8],[9,9,9,10],[9,12,9,13]]}
["STOCK","Vintage Cohort for floorspace stock to which measure characteristics are applicable"]
[]
[]
[null,"This tab is a carryover from previous plans. Not sure how much it is being used.  Changed PRE2013 to \"Existing\" and Post2013 to \"New\""]
[]
[]
[]
[]
[]
[null,null,"Office",null,null,"Retail",null,null,null,"School",null,"Warehouse","Grocery",null,"Restaurant","Lodging","Health",null,{"$f":"S11","v":"Assembly"},{"$f":"T11","v":"Other"}]
["M BUNDLE ID","Measure Index Name",{"$f":"BASE!C11","v":"Large Off"},{"$f":"BASE!D11","v":"Medium Off"},{"$f":"BASE!E11","v":"Small Off"},{"$f":"BASE!F11","v":"Xlarge Ret"},{"$f":"BASE!G11","v":"Large Ret"},{"$f":"BASE!H11","v":"Medium Ret"},{"$f":"BASE!I11","v":"Small Ret"},{"$f":"BASE!J11","v":"School K-12"},{"$f":"BASE!K11","v":"University"},{"$f":"BASE!L11","v":"Warehouse"},{"$f":"BASE!M11","v":"Supermarket"},{"$f":"BASE!N11","v":"MiniMart"},{"$f":"BASE!O11","v":"Restaurant"},{"$f":"BASE!P11","v":"Lodging"},{"$f":"BASE!Q11","v":"Hospital"},{"$f":"BASE!R11","v":"Residential Care"},{"$f":"APPLIC!S11","v":"Assembly"},{"$f":"APPLIC!T11","v":"Other"},"Non-Building Stock"]
[null,{"$f":"MLIST!D12","v":"Compressors-New"},{"$f":"$W12","v":"Existing"},"Existing","Existing","Existing","Existing","Existing","Existing","Existing","Existing","Existing",{"$f":"$W12","v":"Existing"},"Existing","Existing","Existing","Existing","Existing","Existing","Existing",null,null,"Existing",{"$f":"MLIST!C12","v":"New"},{"$f":"IF(X12=\"Retro\",\"_PRE2013\",\"POST2013\")","v":"POST2013"}]
[null,{"$f":"MLIST!D13","v":"Compressors-NR"},"Existing","Existing","Existing","Existing","Existing","Existing","Existing","Existing","Existing","Existing","Existing","Existing","Existing","Existing","Existing","Existing","Existing","Existing",null,null,"Existing",{"$f":"MLIST!C13","v":"NR"},{"$f":"IF(X13=\"Retro\",\"_PRE2013\",\"POST2013\")","v":"POST2013"}]
[null,{"$f":"MLIST!D14","v":"Laptop-NR"},"Existing","Existing","Existing","Existing","Existing","Existing","Existing","Existing","Existing","Existing","Existing","Existing","Existing","Existing","Existing","Existing","Existing","Existing",null,null,"Existing",{"$f":"MLIST!C14","v":"NR"},"POST2013"]
[null,{"$f":"MLIST!D15","v":"PowerStrips-Retro"},"Existing","Existing","Existing","Existing","Existing","Existing","Existing","Existing","Existing","Existing","Existing","Existing","Existing","Existing","Existing","Existing","Existing","Existing",null,null,"Existing",{"$f":"MLIST!C15","v":"Retro"},"_PRE2013"]
[null,{"$f":"MLIST!D16","v":"PowerStrips-New"},"New","New","New","New","New","New","New","New","New","New","New","New","New","New","New","New","New","New"]
[null,{"$f":"MLIST!D17","v":"Data Centers-NR"},"Existing","Existing","Existing","Existing","Existing","Existing","Existing","Existing","Existing","Existing","Existing","Existing","Existing","Existing","Existing","Existing","Existing","Existing",null,null,"Existing",{"$f":"MLIST!C17","v":"NR"},"POST2013"]
[null,{"$f":"MLIST!D18","v":"Desktop-WA-NR"},{"$f":"$W18","v":"Existing"},"Existing","Existing","Existing","Existing","Existing",{"$f":"$W18","v":"Existing"},"Existing","Existing","Existing","Existing","Existing","Existing","Existing","Existing","Existing","Existing","Existing",null,null,"Existing",{"$f":"MLIST!C18","v":"NR"},"POST2013"]
[null,{"$f":"MLIST!D19","v":"Desktop-NR"},{"$f":"$W19","v":"Existing"},"Existing","Existing","Existing","Existing","Existing","Existing","Existing","Existing","Existing","Existing","Existing","Existing","Existing","Existing","Existing","Existing","Existing",null,null,"Existing",{"$f":"MLIST!C19","v":"NR"},"POST2013"]
[null,{"$f":"MLIST!D20","v":"Laptop-WA-NR"},"Existing","Existing","Existing","Existing","Existing","Existing","Existing","Existing","Existing","Existing","Existing","Existing","Existing","Existing","Existing","Existing",{"$f":"$W20","v":"Existing"},"Existing",null,null,"Existing",{"$f":"MLIST!C20","v":"NR"}]
[null,{"$f":"MLIST!D21","v":"Pre-Rinse Spray Valve-Retro"},"Existing","Existing","Existing","Existing","Existing","Existing","Existing","Existing","Existing","Existing","Existing","Existing","Existing","Existing","Existing","Existing","Existing","Existing",null,null,"Existing",{"$f":"MLIST!C21","v":"Retro"},"_PRE2013"]
[null,{"$f":"MLIST!D22","v":"Steamer-NR"},"New","New","New","New","New","New","New","New","New","New","New","New","New","New","New","New","New","New",null,null,"New",{"$f":"MLIST!C22","v":"NR"},"POST2013"]
[null,{"$f":"MLIST!D23","v":"Combo Oven-NR"},"New","New","New","New","New","New","New","New","New","New","New","New","New","New","New","New",{"$f":"$W23","v":"New"},"New",null,null,"New",{"$f":"MLIST!C23","v":"NR"},{"$f":"IF(X23=\"Retro\",\"_PRE2013\",\"POST2013\")","v":"POST2013"}]
[null,{"$f":"MLIST!D24","v":"HFHC-NR"},"New","New","New","New","New","New","New","New","New","New","New","New","New","New","New","New","New","New",null,null,"New",{"$f":"MLIST!C24","v":"NR"},"POST2013"]
[null,{"$f":"MLIST!D25","v":"Convection Oven-NR"},"New","New","New","New","New","New","New","New","New","New","New","New","New","New","New","New","New","New",null,null,"New",{"$f":"MLIST!C25","v":"NR"},"POST2013"]
[null,{"$f":"MLIST!D26","v":"Fryer-NR"},"New","New","New","New","New","New","New","New","New","New","New","New","New","New","New","New","New","New",null,null,"New",{"$f":"MLIST!C26","v":"NR"},"POST2013"]
[null,{"$f":"MLIST!D27","v":"Griddle-NR"},"New","New","New","New","New","New","New","New","New","New","New","New","New","New","New","New","New","New",null,null,"New",{"$f":"MLIST!C27","v":"NR"},"POST2013"]
[null,{"$f":"MLIST!D28","v":"Overwrapper-NR"},"New","New","New","New","New","New","New","New","New","New","New","New","New","New","New","New","New","New",null,null,"New",{"$f":"MLIST!C28","v":"NR"},"POST2013"]
[null,{"$f":"MLIST!D29","v":"DHP-New"},"New","New","New","New","New","New","New","New","New","New","New","New","New","New","New","New","New","New",null,null,"New",{"$f":"MLIST!C29","v":"New"},"POST2013"]
[null,{"$f":"MLIST!D30","v":"DHP-Retro"},"New","New","New","New","New","New","New","New","New","New","New","New","New","New","New","New","New","New",null,null,"New",{"$f":"MLIST!C30","v":"Retro"},"_PRE2013"]
[null,{"$f":"MLIST!D31","v":"Glass-New"},"New","New","New","New","New","New","New","New","New","New","New","New","New","New","New","New","New","New",null,null,"New",{"$f":"MLIST!C31","v":"New"},"POST2013"]
[null,{"$f":"MLIST!D32","v":"Glass-NR"},"New","New","New","New","New","New","New","New","New","New","New","New","New","New","New","New","New","New",null,null,"New",{"$f":"MLIST!C32","v":"NR"},"POST2013"]
[null,{"$f":"MLIST!D33","v":"ARC-New"},"New","New","New","New","New","New","New","New","New","New","New","New","New","New","New","New","New","New",null,null,"New",{"$f":"MLIST!C33","v":"New"},"POST2013"]
[null,{"$f":"MLIST!D34","v":"ARC-NR"},"New","New","New","New","New","New","New","New","New","New","New","New","New","New","New","New","New","New",null,null,"New",{"$f":"MLIST!C34","v":"NR"},"POST2013"]
[null,{"$f":"MLIST!D35","v":"ARC-Retro"},"Existing","Existing","Existing","Existing","Existing","Existing","Existing","Existing","Existing","Existing","Existing","Existing","Existing","Existing","Existing","Existing","Existing","Existing",null,null,"Existing",{"$f":"MLIST!C35","v":"Retro"},"_PRE2013"]
[null,{"$f":"MLIST!D36","v":"Chiller-Upgrade-New"},"New","New","New","New","New","New","New","New","New","New","New","New","New","New","New","New","New","New",null,null,"New",{"$f":"MLIST!C36","v":"New"},"POST2013"]
[null,{"$f":"MLIST!D37","v":"Chiller-Upgrade-NR"},"New","New","New","New","New","New","New","New","New","New","New","New","New","New","New","New","New","New",null,null,"New",{"$f":"MLIST!C37","v":"NR"},"POST2013"]
[null,{"$f":"MLIST!D38","v":"Chiller-System-Retro"},"New","New","New","New","New","New","New","New","New","New","New","New","New","New","New","New",{"$f":"$W38","v":"New"},"New",null,null,"New",{"$f":"MLIST!C38","v":"Retro"},"_PRE2013"]
[null,{"$f":"MLIST!D39","v":"Fans-Retro"},"Existing",{"$f":"$W39","v":"Existing"},"Existing","Existing","Existing","Existing","Existing","Existing","Existing","Existing","Existing","Existing","Existing","Existing","Existing","Existing","Existing","Existing",null,null,"Existing",{"$f":"MLIST!C39","v":"Retro"},"_PRE2013"]
[null,{"$f":"MLIST!D40","v":"Fans-NR"}]
[null,{"$f":"MLIST!D41","v":"Fans-New"}]
[null,{"$f":"MLIST!D42","v":"VHE-DOAS-NR"},"Existing","Existing","Existing","Existing","Existing","Existing","Existing","Existing","Existing","Existing","Existing","Existing","Existing","Existing","Existing","Existing",{"$f":"$W42","v":"Existing"},"Existing",null,null,"Existing","Retro","_PRE2013"]
[null,{"$f":"MLIST!D43","v":"VHE-DOAS-New"},"New","New","New","New","New","New","New","New","New","New","New","New","New","New","New","New","New","New",null,null,"New","NR","POST2013"]
[null,{"$f":"MLIST!D44","v":"-NR"},"New","New","New","New","New","New","New","New","New","New","New","New","New","New","New","New","New","New",null,null,"New","NEw","POST2013"]
[null,{"$f":"MLIST!D45","v":"Commercial EM-New"},"New","New","New","New","New","New","New","New","New","New","New","New","New","New","New","New","New","New",null,null,"New",{"$f":"MLIST!C45","v":"New"},"POST2013"]
[null,{"$f":"MLIST!D46","v":"Commercial EM-Retro"},"New","New","New","New","New","New","New","New","New","New","New","New","New","New","New","New","New","New",null,null,"New",{"$f":"MLIST!C46","v":"Retro"},"_PRE2013"]
[null,{"$f":"MLIST!D47","v":"Economizer-Retro"},"New","New","New","New","New","New","New","New","New","New","New","New","New","New","New","New","New","New",null,null,"New",{"$f":"MLIST!C47","v":"Retro"},"_PRE2013"]
[null,{"$f":"MLIST!D48","v":"Demand Control Ventilation-New"},"New","New","New","New","New","New","New","New","New","New","New","New","New","New","New","New","New","New",null,null,"New",{"$f":"MLIST!C48","v":"New"},"POST2013"]
[null,{"$f":"MLIST!D49","v":"Demand Control Ventilation-NR"},"New","New","New","New","New","New","New","New","New","New","New","New","New","New","New","New","New","New",null,null,"New",{"$f":"MLIST!C49","v":"NR"},"POST2013"]
[null,{"$f":"MLIST!D50","v":"Demand Control Ventilation-Retro"},"Existing","Existing","Existing","Existing","Existing","Existing","Existing","Existing","Existing","Existing","Existing","Existing","Existing","Existing","Existing","Existing","Existing","Existing",null,null,"Existing",{"$f":"MLIST!C50","v":"Retro"},"_PRE2013"]
[null,{"$f":"MLIST!D51","v":"DCV-Lab Hood-Retro"},"New","New","New","New","New","New","New","New","New","New","New","New","New","New","New","New","New","New",null,null,"New",{"$f":"MLIST!C51","v":"Retro"},"_PRE2013"]
[null,{"$f":"MLIST!D52","v":"DCV-Kitchen-Retro"},"Existing","Existing","Existing","Existing","Existing","Existing","Existing","Existing","Existing","Existing","Existing","Existing","Existing","Existing","Existing","Existing","Existing","Existing",null,null,"Existing",{"$f":"MLIST!C52","v":"Retro"},"_PRE2013"]
[null,{"$f":"MLIST!D53","v":"DCV-Parking Garage-Retro"},"Existing","Existing","Existing","Existing","Existing","Existing","Existing","Existing","Existing","Existing","Existing","Existing","Existing","Existing","Existing","Existing","Existing","Existing",null,null,"Existing",{"$f":"MLIST!C53","v":"Retro"},"_PRE2013"]
[null,{"$f":"MLIST!D54","v":"Weatherization - School-Retro"},"Existing","Existing","Existing","Existing","Existing","Existing","Existing","Existing","Existing","Existing","Existing","Existing","Existing","Existing","Existing","Existing","Existing","Existing",null,null,"Existing",{"$f":"MLIST!C54","v":"Retro"},"_PRE2013"]
[null,{"$f":"MLIST!D55","v":"Energy Recovery Ventilator-NR"},"New","New","New","New","New","New","New","New","New","New","New","New","New","New","New","New","New","New",null,null,"New",{"$f":"MLIST!C55","v":"NR"},"POST2013"]
[null,{"$f":"MLIST!D56","v":"AC Heat Recovery for Water Heating-NR"},"New","New","New","New","New","New","New","New","New","New","New","New","New","New","New","New","New","New",null,null,"New",{"$f":"MLIST!C56","v":"NR"},"POST2013"]
[null,{"$f":"MLIST!D57","v":"Room Occupancy Sensors in Lodging-Retro"},"Existing","Existing","Existing","Existing","Existing","Existing","Existing","Existing","Existing","Existing","Existing","Existing","Existing","Existing","Existing","Existing","Existing","Existing",null,null,"Existing",{"$f":"MLIST!C57","v":"Retro"},"_PRE2013"]
[null,{"$f":"MLIST!D58","v":"Pool Blankets-Retro"},{"$f":"$W58","v":"Existing"},{"$f":"$W58","v":"Existing"},"Existing","Existing","Existing","Existing","Existing","Existing","Existing","Existing","Existing","Existing","Existing","Existing","Existing","Existing","Existing","Existing",null,null,"Existing",{"$f":"MLIST!C58","v":"Retro"},"_PRE2013"]
[null,{"$f":"MLIST!D59","v":"ConnectedThermostats-New"},"Existing","Existing","Existing","Existing","Existing","Existing","Existing","Existing","Existing","Existing","Existing","Existing","Existing","Existing","Existing","Existing","Existing","Existing",null,null,"Existing",{"$f":"MLIST!C59","v":"New"},{"$f":"IF(X59=\"Retro\",\"_PRE2013\",\"POST2013\")","v":"POST2013"}]
[null,{"$f":"MLIST!D60","v":"ConnectedThermostats-Retro"},"Existing","Existing","Existing","Existing","Existing","Existing","Existing","Existing","Existing","Existing","Existing","Existing","Existing","Existing","Existing","Existing","Existing","Existing",null,null,"Existing",{"$f":"MLIST!C60","v":"Retro"},"_PRE2013"]
[null,{"$f":"MLIST!D61","v":"CircPumps-NR"},"NR","NR","NR","NR","NR","NR","NR","NR","NR","NR","NR","NR","NR","NR","NR","NR","NR","NR",null,null,"NR",{"$f":"MLIST!C61","v":"NR"},"POST2013"]
[null,{"$f":"MLIST!D62","v":"Circpumps-New"},"New","New","New","New","New","New","New","New","New","New","New","New","New","New","New","New","New","New",null,null,"New",{"$f":"MLIST!C62","v":"New"},"POST2013"]
[null,{"$f":"MLIST!D63","v":"VRF-DOAS-New"},"Existing","Existing","Existing","Existing","Existing","Existing","Existing","Existing","Existing","Existing","Existing","Existing","Existing","Existing","Existing","Existing","Existing","Existing",null,null,"Existing",{"$f":"MLIST!C63","v":"New"},"POST2013"]
[null,{"$f":"MLIST!D64","v":"VRF-DOAS-NR"},"Existing","Existing","Existing","Existing","Existing","Existing","Existing","Existing","Existing","Existing","Existing","Existing","Existing","Existing","Existing","Existing","Existing","Existing",null,null,"Existing",{"$f":"MLIST!C64","v":"NR"},"POST2013"]
[null,{"$f":"MLIST!D65","v":"Evaporator Roof Top HVAC-Retro"},"Existing","Existing","Existing","Existing","Existing","Existing","Existing","Existing","Existing","Existing","Existing","Existing","Existing","Existing","Existing","Existing","Existing","Existing",null,null,"Existing",{"$f":"MLIST!C65","v":"Retro"},"_PRE2013"]
[null,{"$f":"MLIST!D66","v":"HeatPumps-NR"},"Existing","Existing","Existing","Existing","Existing","Existing","Existing","Existing","Existing","Existing","Existing","Existing","Existing","Existing","Existing","Existing","Existing","Existing",null,null,"Existing",{"$f":"MLIST!C66","v":"NR"},{"$f":"IF(X66=\"Retro\",\"_PRE2013\",\"POST2013\")","v":"POST2013"}]
[null,{"$f":"MLIST!D67","v":"HeatPumps-New"},"Existing","Existing","Existing","Existing","Existing","Existing","Existing","Existing","Existing","Existing","Existing","Existing","Existing","Existing","Existing","Existing","Existing","Existing",null,null,"Existing",{"$f":"MLIST!C67","v":"New"},"POST2013"]
[null,{"$f":"MLIST!D68","v":"VCHP-NR"},"Existing","Existing","Existing","Existing","Existing","Existing","Existing","Existing","Existing","Existing","Existing","Existing","Existing","Existing","Existing","Existing","Existing","Existing",null,null,"Existing",{"$f":"MLIST!C68","v":"NR"},{"$f":"IF(X68=\"Retro\",\"_PRE2013\",\"POST2013\")","v":"POST2013"}]
[null,{"$f":"MLIST!D69","v":"VCHP-New"},"Existing","Existing","Existing","Existing","Existing","Existing","Existing","Existing","Existing","Existing","Existing","Existing","Existing","Existing","Existing","Existing",{"$f":"$W69","v":"Existing"},"Existing",null,null,"Existing",{"$f":"MLIST!C69","v":"New"},"POST2013"]
[null,{"$f":"MLIST!D70","v":"UnitaryAC-NR"},"Existing","Existing","Existing","Existing","Existing","Existing","Existing","Existing","Existing","Existing","Existing","Existing","Existing","Existing","Existing","Existing","Existing","Existing",null,null,"Existing",{"$f":"MLIST!C70","v":"NR"},"POST2013"]
[null,{"$f":"MLIST!D71","v":"UnitaryAC-New"},"Existing","Existing","Existing","Existing","Existing","Existing","Existing","Existing","Existing","Existing","Existing","Existing","Existing","Existing","Existing","Existing","Existing","Existing",null,null,"Existing",{"$f":"MLIST!C71","v":"New"},"POST2013"]
[null,{"$f":"MLIST!D72","v":"Com-PTAC-NR"},"Existing","Existing","Existing","Existing","Existing","Existing","Existing","Existing","Existing","Existing","Existing","Existing","Existing","Existing","Existing","Existing","Existing","Existing",null,null,"Existing",{"$f":"MLIST!C72","v":"NR"},{"$f":"IF(X72=\"Retro\",\"_PRE2013\",\"POST2013\")","v":"POST2013"}]
[null,{"$f":"MLIST!D73","v":"Com-PTAC-New"},"Existing","Existing","Existing","Existing","Existing","Existing","Existing","Existing","Existing","Existing","Existing","Existing","Existing","Existing","Existing","Existing","Existing","Existing",null,null,"Existing",{"$f":"MLIST!C73","v":"New"},"POST2013"]
[null,"COM-PTHP","NR",0]
[null,"COM-PTHP","New",0]
[null,"COM-PTHP","Retro",0]
[null,{"$f":"MLIST!D77","v":"Com-DOAS-New"},"Existing","Existing","Existing","Existing","Existing","Existing","Existing","Existing","Existing","Existing","Existing","Existing","Existing","Existing","Existing","Existing","Existing","Existing",null,null,"Existing",{"$f":"MLIST!C77","v":"New"},"POST2013"]
[null,{"$f":"MLIST!D78","v":"Com-DOAS-Retro"},"Existing","Existing","Existing","Existing","Existing","Existing","Existing","Existing","Existing","Existing","Existing","Existing","Existing","Existing","Existing","Existing","Existing","Existing",null,null,"Existing",{"$f":"MLIST!C78","v":"Retro"},"_PRE2013"]
[null,{"$f":"MLIST!D79","v":"Secondary Glazing Systems-Retro"},"Existing","Existing","Existing","Existing","Existing","Existing","Existing","Existing","Existing","Existing","Existing","Existing","Existing","Existing","Existing","Existing","Existing","Existing",null,null,"Existing",{"$f":"MLIST!C79","v":"Retro"},"_PRE2013"]
[null,{"$f":"MLIST!D80","v":"LPD Package-New"},"New","New","New","New","New","New","New","New","New","New","New","New","New","New","New","New","New","New",null,null,"New",{"$f":"MLIST!C80","v":"New"},"POST2013"]
[null,{"$f":"MLIST!D81","v":"LPD Package-NR"},"Existing","Existing","Existing","Existing","Existing","Existing","Existing","Existing","Existing","Existing","Existing","Existing","Existing","Existing","Existing","Existing","Existing","Existing",null,null,"Existing",{"$f":"MLIST!C81","v":"NR"},"_PRE2013"]
[null,{"$f":"MLIST!D82","v":"LPD Package-Retro"},"Existing","Existing","Existing","Existing","Existing","Existing",{"$f":"$W82","v":"Existing"},"Existing","Existing","Existing","Existing","Existing","Existing","Existing","Existing","Existing","Existing","Existing",null,null,"Existing",{"$f":"MLIST!C82","v":"Retro"},"_PRE2013"]
[null,{"$f":"MLIST!D83","v":"Top Daylighting-New"},"New","New","New","New","New","New","New","New","New","New","New","New","New","New","New","New","New","New",null,null,"New",{"$f":"MLIST!C83","v":"New"},"POST2013"]
[null,{"$f":"MLIST!D84","v":"Perimeter Daylighting Controls Advanced-New"},"New","New","New","New","New","New","New","New","New","New","New","New","New","New","New","New","New","New",null,null,"New",{"$f":"MLIST!C84","v":"New"},"POST2013"]
[null,{"$f":"MLIST!D85","v":"Perimeter Daylighting Controls Advanced-NR"},"New","New","New","New","New","New","New","New","New","New","New","New","New","New","New","New","New","New",null,null,"New",{"$f":"MLIST!C85","v":"NR"},"POST2013"]
[null,{"$f":"MLIST!D86","v":"Lighting Controls Interior-New"},"New",{"$f":"$W86","v":"New"},"New","New","New","New","New","New","New","New","New","New","New","New","New","New","New","New",null,null,"New",{"$f":"MLIST!C86","v":"New"},"POST2013"]
[null,{"$f":"MLIST!D87","v":"Lighting Controls Interior-NR"},"Existing","Existing","Existing","Existing","Existing","Existing","Existing","Existing","Existing","Existing","Existing","Existing","Existing","Existing","Existing","Existing","Existing","Existing",null,null,"Existing",{"$f":"MLIST!C87","v":"NR"},"_PRE2013"]
[null,{"$f":"MLIST!D88","v":"Exterior Building Lighting-New"},"New","New",{"$f":"$W88","v":"New"},"New","New","New","New","New","New","New","New","New","New","New","New","New",{"$f":"$W88","v":"New"},"New",null,null,"New",{"$f":"MLIST!C88","v":"New"},"POST2013"]
[null,{"$f":"MLIST!D89","v":"Exterior Building Lighting-NR"},"New","New","New","New","New","New","New","New","New","New","New","New","New","New","New","New","New","New",null,null,"New",{"$f":"MLIST!C89","v":"NR"},"POST2013"]
[null,{"$f":"MLIST!D90","v":"Street and Roadway Lighting-New"},"New","New","New","New","New","New","New","New","New","New","New","New","New","New","New","New","New","New",null,null,"New",{"$f":"MLIST!C90","v":"New"},"POST2013"]
[null,{"$f":"MLIST!D91","v":"Street and Roadway Lighting-Retro"},"New","New","New","New","New","New","New","New","New","New","New","New","New","New","New","New","New","New",null,null,"New",{"$f":"MLIST!C91","v":"Retro"},"_PRE2013"]
[null,{"$f":"MLIST!D92","v":"Parking Garage Lighting-New"},"New","New","New","New","New","New","New","New","New","New","New","New","New","New","New","New","New","New",null,null,"New",{"$f":"MLIST!C92","v":"New"},"POST2013"]
[null,{"$f":"MLIST!D93","v":"Parking Garage Lighting-Retro"},"New","New","New","New","New","New","New","New","New","New","New","New","New","New","New","New","New","New",null,null,"New",{"$f":"MLIST!C93","v":"Retro"},"_PRE2013"]
[null,{"$f":"MLIST!D95","v":"Low Power LF Lamps-NR"},{"$f":"$W94","v":"Existing"},{"$f":"$W94","v":"Existing"},null,null,null,null,null,null,null,null,null,null,null,null,null,null,null,null,null,null,"Existing","Retro",{"$f":"IF(X94=\"Retro\",\"_PRE2013\",\"POST2013\")","v":"_PRE2013"}]
[null,{"$f":"MLIST!D96","v":"LEC Exit Sign-New"},{"$f":"$W95","v":"New"},"New",null,null,null,null,null,null,null,null,null,null,null,null,null,null,null,null,null,null,"New",{"$f":"MLIST!C95","v":"NR"},{"$f":"IF(X95=\"Retro\",\"_PRE2013\",\"POST2013\")","v":"POST2013"}]
[null,{"$f":"MLIST!D97","v":"LEC Exit Sign-NR"},"New","New",null,null,null,null,null,null,null,null,null,null,null,null,null,null,null,null,null,null,"New",{"$f":"MLIST!C96","v":"New"},"POST2013"]
[null,{"$f":"MLIST!D94","v":"Bi-Level Stairwell Lighting-NR"},"Existing","Existing","Existing","Existing","Existing","Existing","Existing","Existing","Existing","Existing","Existing","Existing","Existing","Existing","Existing","Existing","Existing","Existing",null,null,"Existing",{"$f":"MLIST!C94","v":"NR"},"POST2013"]
[null,{"$f":"MLIST!D98","v":"Commercial Ice Maker-NR"},"New","New","New","New","New","New","New","New","New","New","New","New","New","New","New","New","New","New",null,null,"New",{"$f":"MLIST!C98","v":"NR"},"POST2013"]
[null,{"$f":"MLIST!D99","v":"Commercial Beverage Vending Machine-NR"},"New","New","New","New","New","New","New","New","New","New","New","New","New","New","New","New","New","New",null,null,"New",{"$f":"MLIST!C99","v":"NR"},"POST2013"]
[null,{"$f":"MLIST!D100","v":"Clean Water PUmps-Retro"},"Existing","Existing","Existing","Existing","Existing","Existing","Existing","Existing","Existing","Existing","Existing","Existing","Existing","Existing","Existing","Existing","Existing","Existing",null,null,"Existing",{"$f":"MLIST!C100","v":"Retro"},"_PRE2013"]
[null,{"$f":"MLIST!D101","v":"Servers & Power Supplies-NR"},"Existing",{"$f":"$W101","v":"Existing"},"Existing","Existing","Existing","Existing","Existing","Existing","Existing","Existing","Existing","Existing","Existing","Existing","Existing","Existing","Existing","Existing",null,null,"Existing",{"$f":"MLIST!C101","v":"NR"},"POST2013"]
[null,{"$f":"MLIST!D102","v":"Elevators-Retro"},"New","New","New","New","New","New","New","New","New","New","New","New","New","New","New","New","New","New",null,null,"New",{"$f":"MLIST!C102","v":"Retro"},{"$f":"IF(X102=\"Retro\",\"_PRE2013\",\"POST2013\")","v":"_PRE2013"}]
[null,{"$f":"MLIST!D103","v":"Clean Water Pumps-NR"},"Existing","Existing","Existing","Existing","Existing","Existing","Existing","Existing","Existing","Existing","Existing","Existing","Existing","Existing","Existing","Existing","Existing","Existing",null,null,"Existing",{"$f":"MLIST!C103","v":"NR"}]
[null,{"$f":"MLIST!D104","v":"Clean Water Pumps-New"},"New","New",{"$f":"$W104","v":"New"},"New","New","New","New","New","New","New","New","New","New","New","New","New","New",{"$f":"$W104","v":"New"},null,null,"New",{"$f":"MLIST!C104","v":"New"}]
[null,{"$f":"MLIST!D105","v":"EBHeaterControl-Retro"},"Existing",{"$f":"$W105","v":"Existing"},"Existing","Existing","Existing","Existing","Existing","Existing","Existing","Existing","Existing","Existing","Existing","Existing","Existing","Existing","Existing","Existing",null,null,"Existing",{"$f":"MLIST!C105","v":"Retro"},"_PRE2013"]
[null,"GroceryRefrigeration","NR",{"$f":"$W106","v":"NR"},"NR","NR","NR","NR","NR","NR","NR","NR","NR","NR","NR","NR","NR","NR","NR","NR",null,null,"NR"]
[null,{"$f":"MLIST!D107","v":"GroceryRefrigeration-Retro"},"Existing","Existing","Existing","Existing","Existing","Existing","Existing","Existing","Existing","Existing","Existing","Existing","Existing","Existing","Existing","Existing","Existing","Existing",null,null,"Existing",{"$f":"MLIST!C107","v":"Retro"},"_PRE2013"]
[null,{"$f":"MLIST!D108","v":"GroceryRefrigeration-New"},"New","New","New","New","New","New","New","New","New","New","New","New","New","New","New","New","New","New",null,null,"New"]
[null,{"$f":"MLIST!D109","v":"Packaged Refrigeration Equipment-New"},"New","New","New","New","New","New","New","New","New","New","New","New","New","New","New","New","New","New",null,null,"New",{"$f":"MLIST!C109","v":"New"},"POST2013"]
[null,{"$f":"MLIST!D110","v":"Refrig-Freezer-NR"},{"$f":"$W110","v":"New"},"New","New","New","New","New","New","New","New","New","New","New","New","New","New","New","New","New",null,null,"New",{"$f":"MLIST!C110","v":"NR"},"POST2013"]
[null,{"$f":"MLIST!D111","v":"Refrig-Freezer-New"},"New","New","New","New","New","New","New","New","New","New","New","New","New","New","New","New","New","New",null,null,"New",{"$f":"MLIST!C111","v":"New"},"POST2013"]
[null,{"$f":"MLIST!D112","v":"Water Cooler Controls-NR"},"Existing","Existing","Existing","Existing","Existing","Existing","Existing","Existing","Existing","Existing","Existing","Existing","Existing","Existing","Existing","Existing","Existing","Existing",null,null,"Existing",{"$f":"MLIST!C112","v":"NR"},"POST2013"]
[null,{"$f":"MLIST!D113","v":"HPWH ResType-New"},"New","New","New","New","New","New","New","New","New","New","New","New","New","New","New","New","New","New",null,null,"New",{"$f":"MLIST!C113","v":"New"},"POST2013"]
[null,{"$f":"MLIST!D114","v":"HPWH ResType-NR"},"Existing","Existing","Existing","Existing","Existing","Existing","Existing","Existing","Existing","Existing","Existing","Existing","Existing","Existing","Existing","Existing","Existing","Existing",null,null,"Existing",{"$f":"MLIST!C114","v":"NR"},"POST2013"]
[]
[null,{"$f":"MLIST!D116","v":"Washer-NR"},"New","New","New","New","New","New","New","New","New","New","New","New","New","New","New","New","New","New",null,null,"New",{"$f":"MLIST!C116","v":"NR"},"POST2013"]
[null,{"$f":"MLIST!D117","v":"Showerheads-NR"},"Existing","Existing","Existing","Existing","Existing","Existing","Existing","Existing","Existing","Existing","Existing","Existing","Existing","Existing","Existing","Existing","Existing","Existing",null,null,"Existing",{"$f":"MLIST!C117","v":"NR"},"POST2013"]
[null,{"$f":"MLIST!D118","v":"Showerheads-Retro"},"New","New","New","New","New","New","New","New","New","New","New","New","New","New","New","New","New","New",null,null,"New",{"$f":"MLIST!C118","v":"Retro"},"_PRE2013"]
[null,{"$f":"MLIST!D119","v":0},"Existing","Existing","Existing","Existing","Existing","Existing","Existing","Existing","Existing","Existing","Existing","Existing","Existing","Existing","Existing","Existing","Existing","Existing",null,null,"Existing",{"$f":"MLIST!C119","v":0},"POST2013"]
[null,{"$f":"MLIST!D120","v":0},"Existing","Existing","Existing","Existing","Existing","Existing","Existing","Existing","Existing","Existing","Existing","Existing","Existing","Existing","Existing","Existing","Existing","Existing",null,null,"Existing",{"$f":"MLIST!C120","v":0},"POST2013"]
[null,{"$f":"MLIST!D121","v":0},"New","New","New","New","New","New","New","New","New","New","New","New","New","New","New","New","New","New",null,null,"New",{"$f":"MLIST!C121","v":0},"POST2013"]

{"sheet":"TURN","index":8,"n_rows":118,"n_cols":24,"rows_kept":118,"cut":false,"hidden":false,"merged":[[9,16,9,17],[9,2,9,4],[9,5,9,8],[9,9,9,10],[9,12,9,13]]}
["TURN","Natural Replacement (NR) Rate, Fraction of Applicable Measure-Specific Equipment in Existing Stock that is Replaced Annually, making the measure applicable at incremental costs and savings similar to New applications."]
[{"$f":"COLUMN()","v":1},{"$f":"COLUMN()","v":2},{"$f":"COLUMN()","v":3},{"$f":"COLUMN()","v":4},{"$f":"COLUMN()","v":5},{"$f":"COLUMN()","v":6},{"$f":"COLUMN()","v":7},{"$f":"COLUMN()","v":8},{"$f":"COLUMN()","v":9},{"$f":"COLUMN()","v":10},{"$f":"COLUMN()","v":11},{"$f":"COLUMN()","v":12},{"$f":"COLUMN()","v":13},{"$f":"COLUMN()","v":14},{"$f":"COLUMN()","v":15},{"$f":"COLUMN()","v":16},{"$f":"COLUMN()","v":17},{"$f":"COLUMN()","v":18},{"$f":"COLUMN()","v":19},{"$f":"COLUMN()","v":20},{"$f":"COLUMN()","v":21}]
[]
[]
[]
[null,null,9.8038930715819123E-2,3.7094552182218354E-2,4.9774121993604342E-2,3.1396327237948343E-2,8.55266690350346E-2,2.138166725875865E-2,4.3766932928330525E-2,8.3853412491418464E-2,4.2141169617000644E-2,0.11799710043643995,2.2208271374431737E-2,6.4736032390295978E-3,1.6943332979230619E-2,6.0427862079633812E-2,2.2329160937237736E-2,4.7923902033829471E-2,7.1648877860301358E-2,0.14107410559973257]
[]
[]
[]
[null,null,"Office",null,null,"Retail",null,null,null,"School",null,"Warehouse","Grocery",null,"Restaurant","Lodging","Health",null,{"$f":"S11","v":"Assembly"},{"$f":"T11","v":"Other"},"Non-Building Applications"]
["M BUNDLE ID","Measure Index Name",{"$f":"APPLIC!C11","v":"Large Off"},{"$f":"APPLIC!D11","v":"Medium Off"},{"$f":"APPLIC!E11","v":"Small Off"},{"$f":"APPLIC!F11","v":"Xlarge Ret"},{"$f":"APPLIC!G11","v":"Large Ret"},{"$f":"APPLIC!H11","v":"Medium Ret"},{"$f":"APPLIC!I11","v":"Small Ret"},{"$f":"APPLIC!J11","v":"School K-12"},{"$f":"APPLIC!K11","v":"University"},{"$f":"APPLIC!L11","v":"Warehouse"},{"$f":"APPLIC!M11","v":"Supermarket"},{"$f":"APPLIC!N11","v":"MiniMart"},{"$f":"APPLIC!O11","v":"Restaurant"},{"$f":"APPLIC!P11","v":"Lodging"},{"$f":"APPLIC!Q11","v":"Hospital"},{"$f":"APPLIC!R11","v":"Residential Care"},{"$f":"APPLIC!S11","v":"Assembly"},{"$f":"APPLIC!T11","v":"Other"},{"$f":"APPLIC!U11","v":"Non-Building Stock"},"Data Source"]
[null,{"$f":"MLIST!D12","v":"Compressors-New"}]
[{"$f":"SUMPRODUCT(C6:T6,C13:T13)","v":0},{"$f":"MLIST!D13","v":"Compressors-NR"}]
[null,{"$f":"MLIST!D14","v":"Laptop-NR"},null,null,null,null,null,null,null,null,null,null,null,null,null,null,null,null,null,null,{"$f":"1/4","v":0.25}]
[null,{"$f":"MLIST!D15","v":"PowerStrips-Retro"},null,null,null,null,null,null,null,null,null,null,null,null,null,null,null,null,null,null,0.2]
[null,{"$f":"MLIST!D16","v":"PowerStrips-New"},null,null,null,null,null,null,null,null,null,null,null,null,null,null,null,null,null,null,0.2]
[null,{"$f":"MLIST!D17","v":"Data Centers-NR"},null,null,null,null,null,null,null,null,null,null,null,null,null,null,null,null,null,null,0.2]
[null,{"$f":"MLIST!D18","v":"Desktop-WA-NR"},null,null,null,null,null,null,null,null,null,null,null,null,null,null,null,null,null,null,{"$f":"1/5","v":0.2}]
[null,{"$f":"MLIST!D19","v":"Desktop-NR"},null,null,null,null,null,null,null,null,null,null,null,null,null,null,null,null,null,null,{"$f":"1/5","v":0.2}]
[null,{"$f":"MLIST!D20","v":"Laptop-WA-NR"},null,null,null,null,null,null,null,null,null,null,null,null,null,null,null,null,null,null,{"$f":"1/4","v":0.25}]
[null,{"$f":"MLIST!D21","v":"Pre-Rinse Spray Valve-Retro"},null,null,null,null,null,null,null,null,null,null,null,null,null,null,null,null,null,null,0.2]
[null,{"$f":"MLIST!D22","v":"Steamer-NR"},null,null,null,null,null,null,null,null,null,null,null,null,null,null,null,null,null,null,{"$f":"1/X23","v":0.1388888888888889},null,"Cooking-Steamer",7.2]
[null,{"$f":"MLIST!D23","v":"Combo Oven-NR"},null,null,null,null,null,null,null,null,null,null,null,null,null,null,null,null,null,null,{"$f":"1/X26","v":0.1388888888888889},null,"Steamer Water Treatment",7.2]
[null,{"$f":"MLIST!D24","v":"HFHC-NR"},null,null,null,null,null,null,null,null,null,null,null,null,null,null,null,null,null,null,{"$f":"1/X28","v":9.6153846153846145E-2},null,"Cooking-Convection Oven",7.6]
[null,{"$f":"MLIST!D25","v":"Convection Oven-NR"},null,null,null,null,null,null,null,null,null,null,null,null,null,null,null,null,null,null,{"$f":"1/X24","v":0.13157894736842105},null,"Cooking-Fryer",5.6]
[null,{"$f":"MLIST!D26","v":"Fryer-NR"},null,null,null,null,null,null,null,null,null,null,null,null,null,null,null,null,null,null,{"$f":"1/X25","v":0.17857142857142858},null,"Cooking-ComboOven",7.2]
[null,{"$f":"MLIST!D27","v":"Griddle-NR"},null,null,null,null,null,null,null,null,null,null,null,null,null,null,null,null,null,null,{"$f":"1/X29","v":8.3333333333333329E-2},null,"Combo Oven Water Treatment",7.2]
[null,{"$f":"MLIST!D28","v":"Overwrapper-NR"},null,null,null,null,null,null,null,null,null,null,null,null,null,null,null,null,null,null,{"$f":"1/X30","v":0.1},null,"Cooking-HFHC",10.4]
[null,{"$f":"MLIST!D29","v":"DHP-New"},{"$f":"1/30","v":3.3333333333333333E-2},{"$f":"1/25","v":0.04},{"$f":"1/20","v":0.05},0.05,0.05,0.05,{"$f":"1/30","v":3.3333333333333333E-2},3.3333333333333333E-2,3.3333333333333333E-2,{"$f":"1/20","v":0.05},{"$f":"1/20","v":0.05},{"$f":"1/20","v":0.05},0.05,0.05,{"$f":"1/25","v":0.04},0.04,0.04,0.04,null,"20, 25 or 30 year equipment life","Cooking-Griddle",12]
[null,{"$f":"MLIST!D30","v":"DHP-Retro"},{"$f":"1/30","v":3.3333333333333333E-2},{"$f":"1/25","v":0.04},0.05,0.05,0.05,0.05,3.3333333333333333E-2,3.3333333333333333E-2,3.3333333333333333E-2,{"$f":"1/20","v":0.05},{"$f":"1/20","v":0.05},0.05,0.05,0.05,0.04,0.04,0.04,0.04,null,"20, 25 or 30 year equipment life","Machine Savings",10]
[null,{"$f":"MLIST!D31","v":"Glass-New"},null,null,null,null,null,null,null,null,null,null,null,null,null,null,null,null,null,null,null,null,"Heating Savings",10]
[null,{"$f":"MLIST!D32","v":"Glass-NR"},{"$f":"1/40","v":2.5000000000000001E-2},{"$f":"1/40","v":2.5000000000000001E-2},2.5000000000000001E-2,2.5000000000000001E-2,2.5000000000000001E-2,2.5000000000000001E-2,2.5000000000000001E-2,2.5000000000000001E-2,2.5000000000000001E-2,2.5000000000000001E-2,2.5000000000000001E-2,2.5000000000000001E-2,2.5000000000000001E-2,2.5000000000000001E-2,2.5000000000000001E-2,2.5000000000000001E-2,2.5000000000000001E-2,2.5000000000000001E-2,2.5000000000000001E-2,"40 years","Cooling Savings",10]
[null,{"$f":"MLIST!D33","v":"ARC-New"},{"$f":"1/15","v":6.6666666666666666E-2},{"$f":"1/15","v":6.6666666666666666E-2},6.6666666666666666E-2,6.6666666666666666E-2,6.6666666666666666E-2,6.6666666666666666E-2,6.6666666666666666E-2,6.6666666666666666E-2,6.6666666666666666E-2,6.6666666666666666E-2,6.6666666666666666E-2,6.6666666666666666E-2,6.6666666666666666E-2,6.6666666666666666E-2,6.6666666666666666E-2,6.6666666666666666E-2,6.6666666666666666E-2,6.6666666666666666E-2]
[null,{"$f":"MLIST!D34","v":"ARC-NR"}]
[null,{"$f":"MLIST!D35","v":"ARC-Retro"},{"$f":"1/15","v":6.6666666666666666E-2},6.6666666666666666E-2,6.6666666666666666E-2,6.6666666666666666E-2,6.6666666666666666E-2,6.6666666666666666E-2,6.6666666666666666E-2,6.6666666666666666E-2,6.6666666666666666E-2,6.6666666666666666E-2,6.6666666666666666E-2,6.6666666666666666E-2,6.6666666666666666E-2,6.6666666666666666E-2,6.6666666666666666E-2,6.6666666666666666E-2,6.6666666666666666E-2,6.6666666666666666E-2]
[null,{"$f":"MLIST!D36","v":"Chiller-Upgrade-New"}]
[null,{"$f":"MLIST!D37","v":"Chiller-Upgrade-NR"}]
[null,{"$f":"MLIST!D38","v":"Chiller-System-Retro"}]
[null,{"$f":"MLIST!D39","v":"Fans-Retro"},0.15,0.15,0.15,0.15,0.15,0.15,0.15,0.15,0.15,0.15,0.15,0.15,0.15,0.15,0.15,0.15,0.15,0.15]
[null,{"$f":"MLIST!D40","v":"Fans-NR"}]
[null,{"$f":"MLIST!D41","v":"Fans-New"}]
[null,{"$f":"MLIST!D42","v":"VHE-DOAS-NR"}]
[null,{"$f":"MLIST!D43","v":"VHE-DOAS-New"}]
[null,{"$f":"MLIST!D44","v":"-NR"}]
[null,{"$f":"MLIST!D45","v":"Commercial EM-New"}]
[null,{"$f":"MLIST!D46","v":"Commercial EM-Retro"}]
[null,{"$f":"MLIST!D47","v":"Economizer-Retro"}]
[null,{"$f":"MLIST!D48","v":"Demand Control Ventilation-New"}]
[null,{"$f":"MLIST!D49","v":"Demand Control Ventilation-NR"}]
[null,{"$f":"MLIST!D50","v":"Demand Control Ventilation-Retro"}]
[null,{"$f":"MLIST!D51","v":"DCV-Lab Hood-Retro"},0.06,0.06,0.06,0.06,0.06,0.06,0.06,0.06,0.06,0.06,0.06,0.06,0.06,0.06,0.06,0.06,0.06,0.06,0.06]
[null,{"$f":"MLIST!D52","v":"DCV-Kitchen-Retro"}]
[null,{"$f":"MLIST!D53","v":"DCV-Parking Garage-Retro"}]
[null,{"$f":"MLIST!D54","v":"Weatherization - School-Retro"}]
[null,{"$f":"MLIST!D55","v":"Energy Recovery Ventilator-NR"},null,null,null,null,null,null,null,null,null,null,null,null,null,null,null,null,null,null,{"$f":"1/4","v":0.25}]
[null,{"$f":"MLIST!D56","v":"AC Heat Recovery for Water Heating-NR"}]
[null,{"$f":"MLIST!D57","v":"Room Occupancy Sensors in Lodging-Retro"}]
[null,{"$f":"MLIST!D58","v":"Pool Blankets-Retro"}]
[null,{"$f":"MLIST!D59","v":"ConnectedThermostats-New"}]
[null,{"$f":"MLIST!D60","v":"ConnectedThermostats-Retro"}]
[null,{"$f":"MLIST!D61","v":"CircPumps-NR"}]
[null,{"$f":"MLIST!D62","v":"Circpumps-New"}]
[null,{"$f":"MLIST!D63","v":"VRF-DOAS-New"}]
[null,{"$f":"MLIST!D64","v":"VRF-DOAS-NR"}]
[null,{"$f":"MLIST!D65","v":"Evaporator Roof Top HVAC-Retro"}]
[null,{"$f":"MLIST!D66","v":"HeatPumps-NR"}]
[null,{"$f":"MLIST!D67","v":"HeatPumps-New"}]
[null,{"$f":"MLIST!D68","v":"VCHP-NR"}]
[null,{"$f":"MLIST!D69","v":"VCHP-New"}]
[null,{"$f":"MLIST!D70","v":"UnitaryAC-NR"}]
[null,{"$f":"MLIST!D71","v":"UnitaryAC-New"}]
[null,{"$f":"MLIST!D72","v":"Com-PTAC-NR"}]
[null,{"$f":"MLIST!D73","v":"Com-PTAC-New"}]
[null,{"$f":"MLIST!D74","v":"COM-PTHP-NR"}]
[null,{"$f":"MLIST!D75","v":"COM-PTHP-New"}]
[null,{"$f":"MLIST!D76","v":"COM-PTHP-Retro"}]
[null,{"$f":"MLIST!D77","v":"Com-DOAS-New"}]
[null,{"$f":"MLIST!D78","v":"Com-DOAS-Retro"}]
[null,{"$f":"MLIST!D79","v":"Secondary Glazing Systems-Retro"}]
[null,{"$f":"MLIST!D80","v":"LPD Package-New"}]
[null,{"$f":"MLIST!D81","v":"LPD Package-NR"}]
[null,{"$f":"MLIST!D82","v":"LPD Package-Retro"}]
[null,{"$f":"MLIST!D83","v":"Top Daylighting-New"}]
[null,{"$f":"MLIST!D84","v":"Perimeter Daylighting Controls Advanced-New"}]
[null,{"$f":"MLIST!D85","v":"Perimeter Daylighting Controls Advanced-NR"}]
[null,{"$f":"MLIST!D86","v":"Lighting Controls Interior-New"}]
[null,{"$f":"MLIST!D87","v":"Lighting Controls Interior-NR"},0.06,0.06,0.06,0.06,0.06,0.06,0.06,0.06,0.06,0.06,0.06,0.06,0.06,0.06,0.06,0.06,0.06,0.06,null,"Fixture or Ballast Replacement Cycle"]
[null,{"$f":"MLIST!D88","v":"Exterior Building Lighting-New"},null,null,null,null,null,null,null,null,null,null,null,null,null,null,null,null,null,null,{"$f":"1/5","v":0.2},"8-Year Cycle for new Exterior based on CP mix LED/HID"]
[null,{"$f":"MLIST!D89","v":"Exterior Building Lighting-NR"},null,null,null,null,null,null,null,null,null,null,null,null,null,null,null,null,null,null,{"$f":"1/5","v":0.2},"8-Year Cycle for new Exterior based on CP mix LED/HID"]
[null,{"$f":"MLIST!D90","v":"Street and Roadway Lighting-New"},null,null,null,null,null,null,null,null,null,null,null,null,null,null,null,null,null,null,{"$f":"1/5","v":0.2},"Five year cycle for streetlight relamp (DOE & Tariffs for HPS)"]
[null,{"$f":"MLIST!D91","v":"Street and Roadway Lighting-Retro"},null,null,null,null,null,null,null,null,null,null,null,null,null,null,null,null,null,null,{"$f":"1/5","v":0.2},"Five year cycle for streetlight relamp (DOE & Tariffs for HPS)"]
[null,{"$f":"MLIST!D92","v":"Parking Garage Lighting-New"},null,null,null,null,null,null,null,null,null,null,null,null,null,null,null,null,null,null,0.2,"5-year cycle (lamp cycle) for luminiares requiring bucket truck.  "]
[null,{"$f":"MLIST!D93","v":"Parking Garage Lighting-Retro"},0,0,0,0,0,0,0,0,0,0,0,0,0,0,0,0,0,0,0.2,"5-year cycle (lamp cycle) for luminiares requiring bucket truck.  "]
[null,{"$f":"MLIST!D94","v":"Bi-Level Stairwell Lighting-NR"},0,0,0,0,0,0,0,0,0,0,0,0,0,0,0,0,0,0]
[null,{"$f":"MLIST!D95","v":"Low Power LF Lamps-NR"}]
[null,{"$f":"MLIST!D96","v":"LEC Exit Sign-New"}]
[null,{"$f":"MLIST!D97","v":"LEC Exit Sign-NR"}]
[null,{"$f":"MLIST!D98","v":"Commercial Ice Maker-NR"}]
[null,{"$f":"MLIST!D99","v":"Commercial Beverage Vending Machine-NR"}]
[null,{"$f":"MLIST!D100","v":"Clean Water PUmps-Retro"}]
[null,{"$f":"MLIST!D101","v":"Servers & Power Supplies-NR"}]
[null,{"$f":"MLIST!D102","v":"Elevators-Retro"}]
[null,{"$f":"MLIST!D103","v":"Clean Water Pumps-NR"}]
[null,{"$f":"MLIST!D104","v":"Clean Water Pumps-New"}]
[null,{"$f":"MLIST!D105","v":"EBHeaterControl-Retro"}]
[null,"GroceryRefrigeration"]
[null,{"$f":"MLIST!D107","v":"GroceryRefrigeration-Retro"}]
[null,{"$f":"MLIST!D108","v":"GroceryRefrigeration-New"}]
[null,{"$f":"MLIST!D109","v":"Packaged Refrigeration Equipment-New"}]
[null,{"$f":"MLIST!D110","v":"Refrig-Freezer-NR"},null,null,null,null,null,null,null,null,null,null,null,null,null,null,null,null,null,null,{"$f":"1/10","v":0.1}]
[null,{"$f":"MLIST!D111","v":"Refrig-Freezer-New"},null,null,null,null,null,null,null,null,null,null,null,null,null,null,null,null,null,null,{"$f":"1/10","v":0.1}]
[null,{"$f":"MLIST!D112","v":"Water Cooler Controls-NR"}]
[null,{"$f":"MLIST!D113","v":"HPWH ResType-New"},null,null,null,null,null,null,null,null,null,null,null,null,null,null,null,null,null,null,7.6923076923076927E-2,"From HPWH Residential"]
[null,{"$f":"MLIST!D114","v":"HPWH ResType-NR"}]
[null,{"$f":"MLIST!D115","v":"Washer-New"}]
[null,{"$f":"MLIST!D116","v":"Washer-NR"}]
[null,{"$f":"MLIST!D117","v":"Showerheads-NR"}]
[null,{"$f":"MLIST!D118","v":"Showerheads-Retro"}]

{"sheet":"ACHIEV","index":9,"n_rows":137,"n_cols":24,"rows_kept":137,"cut":false,"hidden":false,"merged":[]}
["ACHIEV","Connects ramp rates to Measure Index.  Max achievable rate is entered into the last column"]
[{"$f":"FILES!H4","v":2041}]
[]
[]
[]
[]
[]
[null,1,2,3,4,5,6,7,8,9,10,11,12,13,14,15,16,17,18,19,20,21,22,23]
[]
[]
["End Use","Measure Index Name","Ramp",{"$f":"ACHIEV!A2-20+1","v":2022},{"$f":"D11+1","v":2023},{"$f":"E11+1","v":2024},2025,2026,2027,2028,2029,2030,2031,2032,2033,2034,2035,2036,2037,2038,2039,2040,2041,"MAX"]
[{"$f":"MLIST!A12","v":"Compressed Air"},{"$f":"MLIST!D12","v":"Compressors-New"},"LOEven20",{"$f":"IF(ISBLANK($C12),\"\",VLOOKUP($C12,RAMP!$C$1:$X$20,D$11-$D$11+2,FALSE))","v":0.05},{"$f":"IF(ISBLANK($C12),\"\",VLOOKUP($C12,RAMP!$C$1:$X$20,E$11-$D$11+2,FALSE))","v":0.1},{"$f":"IF(ISBLANK($C12),\"\",VLOOKUP($C12,RAMP!$C$1:$X$20,F$11-$D$11+2,FALSE))","v":0.15000000000000002},{"$f":"IF(ISBLANK($C12),\"\",VLOOKUP($C12,RAMP!$C$1:$X$20,G$11-$D$11+2,FALSE))","v":0.2},{"$f":"IF(ISBLANK($C12),\"\",VLOOKUP($C12,RAMP!$C$1:$X$20,H$11-$D$11+2,FALSE))","v":0.25},{"$f":"IF(ISBLANK($C12),\"\",VLOOKUP($C12,RAMP!$C$1:$X$20,I$11-$D$11+2,FALSE))","v":0.3},{"$f":"IF(ISBLANK($C12),\"\",VLOOKUP($C12,RAMP!$C$1:$X$20,J$11-$D$11+2,FALSE))","v":0.35},{"$f":"IF(ISBLANK($C12),\"\",VLOOKUP($C12,RAMP!$C$1:$X$20,K$11-$D$11+2,FALSE))","v":0.39999999999999997},{"$f":"IF(ISBLANK($C12),\"\",VLOOKUP($C12,RAMP!$C$1:$X$20,L$11-$D$11+2,FALSE))","v":0.44999999999999996},{"$f":"IF(ISBLANK($C12),\"\",VLOOKUP($C12,RAMP!$C$1:$X$20,M$11-$D$11+2,FALSE))","v":0.49999999999999994},{"$f":"IF(ISBLANK($C12),\"\",VLOOKUP($C12,RAMP!$C$1:$X$20,N$11-$D$11+2,FALSE))","v":0.54999999999999993},{"$f":"IF(ISBLANK($C12),\"\",VLOOKUP($C12,RAMP!$C$1:$X$20,O$11-$D$11+2,FALSE))","v":0.6},{"$f":"IF(ISBLANK($C12),\"\",VLOOKUP($C12,RAMP!$C$1:$X$20,P$11-$D$11+2,FALSE))","v":0.65},{"$f":"IF(ISBLANK($C12),\"\",VLOOKUP($C12,RAMP!$C$1:$X$20,Q$11-$D$11+2,FALSE))","v":0.70000000000000007},{"$f":"IF(ISBLANK($C12),\"\",VLOOKUP($C12,RAMP!$C$1:$X$20,R$11-$D$11+2,FALSE))","v":0.75000000000000011},{"$f":"IF(ISBLANK($C12),\"\",VLOOKUP($C12,RAMP!$C$1:$X$20,S$11-$D$11+2,FALSE))","v":0.80000000000000016},{"$f":"IF(ISBLANK($C12),\"\",VLOOKUP($C12,RAMP!$C$1:$X$20,T$11-$D$11+2,FALSE))","v":0.8500000000000002},{"$f":"IF(ISBLANK($C12),\"\",VLOOKUP($C12,RAMP!$C$1:$X$20,U$11-$D$11+2,FALSE))","v":0.90000000000000024},{"$f":"IF(ISBLANK($C12),\"\",VLOOKUP($C12,RAMP!$C$1:$X$20,V$11-$D$11+2,FALSE))","v":0.95000000000000029},{"$f":"IF(ISBLANK($C12),\"\",VLOOKUP($C12,RAMP!$C$1:$X$20,W$11-$D$11+2,FALSE))","v":1.0000000000000002},0.85]
[{"$f":"MLIST!A13","v":"Compressed Air"},{"$f":"MLIST!D13","v":"Compressors-NR"},"LOEven20",{"$f":"IF(ISBLANK($C13),\"\",VLOOKUP($C13,RAMP!$C$1:$X$20,D$11-$D$11+2,FALSE))","v":0.05},{"$f":"IF(ISBLANK($C13),\"\",VLOOKUP($C13,RAMP!$C$1:$X$20,E$11-$D$11+2,FALSE))","v":0.1},{"$f":"IF(ISBLANK($C13),\"\",VLOOKUP($C13,RAMP!$C$1:$X$20,F$11-$D$11+2,FALSE))","v":0.15000000000000002},{"$f":"IF(ISBLANK($C13),\"\",VLOOKUP($C13,RAMP!$C$1:$X$20,G$11-$D$11+2,FALSE))","v":0.2},{"$f":"IF(ISBLANK($C13),\"\",VLOOKUP($C13,RAMP!$C$1:$X$20,H$11-$D$11+2,FALSE))","v":0.25},{"$f":"IF(ISBLANK($C13),\"\",VLOOKUP($C13,RAMP!$C$1:$X$20,I$11-$D$11+2,FALSE))","v":0.3},{"$f":"IF(ISBLANK($C13),\"\",VLOOKUP($C13,RAMP!$C$1:$X$20,J$11-$D$11+2,FALSE))","v":0.35},{"$f":"IF(ISBLANK($C13),\"\",VLOOKUP($C13,RAMP!$C$1:$X$20,K$11-$D$11+2,FALSE))","v":0.39999999999999997},{"$f":"IF(ISBLANK($C13),\"\",VLOOKUP($C13,RAMP!$C$1:$X$20,L$11-$D$11+2,FALSE))","v":0.44999999999999996},{"$f":"IF(ISBLANK($C13),\"\",VLOOKUP($C13,RAMP!$C$1:$X$20,M$11-$D$11+2,FALSE))","v":0.49999999999999994},{"$f":"IF(ISBLANK($C13),\"\",VLOOKUP($C13,RAMP!$C$1:$X$20,N$11-$D$11+2,FALSE))","v":0.54999999999999993},{"$f":"IF(ISBLANK($C13),\"\",VLOOKUP($C13,RAMP!$C$1:$X$20,O$11-$D$11+2,FALSE))","v":0.6},{"$f":"IF(ISBLANK($C13),\"\",VLOOKUP($C13,RAMP!$C$1:$X$20,P$11-$D$11+2,FALSE))","v":0.65},{"$f":"IF(ISBLANK($C13),\"\",VLOOKUP($C13,RAMP!$C$1:$X$20,Q$11-$D$11+2,FALSE))","v":0.70000000000000007},{"$f":"IF(ISBLANK($C13),\"\",VLOOKUP($C13,RAMP!$C$1:$X$20,R$11-$D$11+2,FALSE))","v":0.75000000000000011},{"$f":"IF(ISBLANK($C13),\"\",VLOOKUP($C13,RAMP!$C$1:$X$20,S$11-$D$11+2,FALSE))","v":0.80000000000000016},{"$f":"IF(ISBLANK($C13),\"\",VLOOKUP($C13,RAMP!$C$1:$X$20,T$11-$D$11+2,FALSE))","v":0.8500000000000002},{"$f":"IF(ISBLANK($C13),\"\",VLOOKUP($C13,RAMP!$C$1:$X$20,U$11-$D$11+2,FALSE))","v":0.90000000000000024},{"$f":"IF(ISBLANK($C13),\"\",VLOOKUP($C13,RAMP!$C$1:$X$20,V$11-$D$11+2,FALSE))","v":0.95000000000000029},{"$f":"IF(ISBLANK($C13),\"\",VLOOKUP($C13,RAMP!$C$1:$X$20,W$11-$D$11+2,FALSE))","v":1.0000000000000002},0.85]
[{"$f":"MLIST!A14","v":"Electronics"},{"$f":"MLIST!D14","v":"Laptop-NR"},"LO50Fast",{"$f":"IF(ISBLANK($C14),\"\",VLOOKUP($C14,RAMP!$C$1:$X$20,D$11-$D$11+2,FALSE))","v":0.45},{"$f":"IF(ISBLANK($C14),\"\",VLOOKUP($C14,RAMP!$C$1:$X$20,E$11-$D$11+2,FALSE))","v":0.66},{"$f":"IF(ISBLANK($C14),\"\",VLOOKUP($C14,RAMP!$C$1:$X$20,F$11-$D$11+2,FALSE))","v":0.8},{"$f":"IF(ISBLANK($C14),\"\",VLOOKUP($C14,RAMP!$C$1:$X$20,G$11-$D$11+2,FALSE))","v":0.89},{"$f":"IF(ISBLANK($C14),\"\",VLOOKUP($C14,RAMP!$C$1:$X$20,H$11-$D$11+2,FALSE))","v":0.94954036260972652},{"$f":"IF(ISBLANK($C14),\"\",VLOOKUP($C14,RAMP!$C$1:$X$20,I$11-$D$11+2,FALSE))","v":0.97931054391458994},{"$f":"IF(ISBLANK($C14),\"\",VLOOKUP($C14,RAMP!$C$1:$X$20,J$11-$D$11+2,FALSE))","v":0.99254173560564019},{"$f":"IF(ISBLANK($C14),\"\",VLOOKUP($C14,RAMP!$C$1:$X$20,K$11-$D$11+2,FALSE))","v":0.99783421228206048},{"$f":"IF(ISBLANK($C14),\"\",VLOOKUP($C14,RAMP!$C$1:$X$20,L$11-$D$11+2,FALSE))","v":0.99975874925530417},{"$f":"IF(ISBLANK($C14),\"\",VLOOKUP($C14,RAMP!$C$1:$X$20,M$11-$D$11+2,FALSE))","v":1},{"$f":"IF(ISBLANK($C14),\"\",VLOOKUP($C14,RAMP!$C$1:$X$20,N$11-$D$11+2,FALSE))","v":1},{"$f":"IF(ISBLANK($C14),\"\",VLOOKUP($C14,RAMP!$C$1:$X$20,O$11-$D$11+2,FALSE))","v":1},{"$f":"IF(ISBLANK($C14),\"\",VLOOKUP($C14,RAMP!$C$1:$X$20,P$11-$D$11+2,FALSE))","v":1},{"$f":"IF(ISBLANK($C14),\"\",VLOOKUP($C14,RAMP!$C$1:$X$20,Q$11-$D$11+2,FALSE))","v":1},{"$f":"IF(ISBLANK($C14),\"\",VLOOKUP($C14,RAMP!$C$1:$X$20,R$11-$D$11+2,FALSE))","v":1},{"$f":"IF(ISBLANK($C14),\"\",VLOOKUP($C14,RAMP!$C$1:$X$20,S$11-$D$11+2,FALSE))","v":1},{"$f":"IF(ISBLANK($C14),\"\",VLOOKUP($C14,RAMP!$C$1:$X$20,T$11-$D$11+2,FALSE))","v":1},{"$f":"IF(ISBLANK($C14),\"\",VLOOKUP($C14,RAMP!$C$1:$X$20,U$11-$D$11+2,FALSE))","v":1},{"$f":"IF(ISBLANK($C14),\"\",VLOOKUP($C14,RAMP!$C$1:$X$20,V$11-$D$11+2,FALSE))","v":1},{"$f":"IF(ISBLANK($C14),\"\",VLOOKUP($C14,RAMP!$C$1:$X$20,W$11-$D$11+2,FALSE))","v":1},1]
[{"$f":"MLIST!A15","v":"Electronics"},{"$f":"MLIST!D15","v":"PowerStrips-Retro"},"RetroEven20",{"$f":"IF(ISBLANK($C15),\"\",VLOOKUP($C15,RAMP!$C$1:$X$20,D$11-$D$11+2,FALSE))","v":0.05},{"$f":"IF(ISBLANK($C15),\"\",VLOOKUP($C15,RAMP!$C$1:$X$20,E$11-$D$11+2,FALSE))","v":0.05},{"$f":"IF(ISBLANK($C15),\"\",VLOOKUP($C15,RAMP!$C$1:$X$20,F$11-$D$11+2,FALSE))","v":0.05},{"$f":"IF(ISBLANK($C15),\"\",VLOOKUP($C15,RAMP!$C$1:$X$20,G$11-$D$11+2,FALSE))","v":0.05},{"$f":"IF(ISBLANK($C15),\"\",VLOOKUP($C15,RAMP!$C$1:$X$20,H$11-$D$11+2,FALSE))","v":0.05},{"$f":"IF(ISBLANK($C15),\"\",VLOOKUP($C15,RAMP!$C$1:$X$20,I$11-$D$11+2,FALSE))","v":0.05},{"$f":"IF(ISBLANK($C15),\"\",VLOOKUP($C15,RAMP!$C$1:$X$20,J$11-$D$11+2,FALSE))","v":0.05},{"$f":"IF(ISBLANK($C15),\"\",VLOOKUP($C15,RAMP!$C$1:$X$20,K$11-$D$11+2,FALSE))","v":0.05},{"$f":"IF(ISBLANK($C15),\"\",VLOOKUP($C15,RAMP!$C$1:$X$20,L$11-$D$11+2,FALSE))","v":0.05},{"$f":"IF(ISBLANK($C15),\"\",VLOOKUP($C15,RAMP!$C$1:$X$20,M$11-$D$11+2,FALSE))","v":0.05},{"$f":"IF(ISBLANK($C15),\"\",VLOOKUP($C15,RAMP!$C$1:$X$20,N$11-$D$11+2,FALSE))","v":0.05},{"$f":"IF(ISBLANK($C15),\"\",VLOOKUP($C15,RAMP!$C$1:$X$20,O$11-$D$11+2,FALSE))","v":0.05},{"$f":"IF(ISBLANK($C15),\"\",VLOOKUP($C15,RAMP!$C$1:$X$20,P$11-$D$11+2,FALSE))","v":0.05},{"$f":"IF(ISBLANK($C15),\"\",VLOOKUP($C15,RAMP!$C$1:$X$20,Q$11-$D$11+2,FALSE))","v":0.05},{"$f":"IF(ISBLANK($C15),\"\",VLOOKUP($C15,RAMP!$C$1:$X$20,R$11-$D$11+2,FALSE))","v":0.05},{"$f":"IF(ISBLANK($C15),\"\",VLOOKUP($C15,RAMP!$C$1:$X$20,S$11-$D$11+2,FALSE))","v":0.05},{"$f":"IF(ISBLANK($C15),\"\",VLOOKUP($C15,RAMP!$C$1:$X$20,T$11-$D$11+2,FALSE))","v":0.05},{"$f":"IF(ISBLANK($C15),\"\",VLOOKUP($C15,RAMP!$C$1:$X$20,U$11-$D$11+2,FALSE))","v":0.05},{"$f":"IF(ISBLANK($C15),\"\",VLOOKUP($C15,RAMP!$C$1:$X$20,V$11-$D$11+2,FALSE))","v":0.05},{"$f":"IF(ISBLANK($C15),\"\",VLOOKUP($C15,RAMP!$C$1:$X$20,W$11-$D$11+2,FALSE))","v":0.05},0.85]
[{"$f":"MLIST!A16","v":"Electronics"},{"$f":"MLIST!D16","v":"PowerStrips-New"},"LOEven20",{"$f":"IF(ISBLANK($C16),\"\",VLOOKUP($C16,RAMP!$C$1:$X$20,D$11-$D$11+2,FALSE))","v":0.05},{"$f":"IF(ISBLANK($C16),\"\",VLOOKUP($C16,RAMP!$C$1:$X$20,E$11-$D$11+2,FALSE))","v":0.1},{"$f":"IF(ISBLANK($C16),\"\",VLOOKUP($C16,RAMP!$C$1:$X$20,F$11-$D$11+2,FALSE))","v":0.15000000000000002},{"$f":"IF(ISBLANK($C16),\"\",VLOOKUP($C16,RAMP!$C$1:$X$20,G$11-$D$11+2,FALSE))","v":0.2},{"$f":"IF(ISBLANK($C16),\"\",VLOOKUP($C16,RAMP!$C$1:$X$20,H$11-$D$11+2,FALSE))","v":0.25},{"$f":"IF(ISBLANK($C16),\"\",VLOOKUP($C16,RAMP!$C$1:$X$20,I$11-$D$11+2,FALSE))","v":0.3},{"$f":"IF(ISBLANK($C16),\"\",VLOOKUP($C16,RAMP!$C$1:$X$20,J$11-$D$11+2,FALSE))","v":0.35},{"$f":"IF(ISBLANK($C16),\"\",VLOOKUP($C16,RAMP!$C$1:$X$20,K$11-$D$11+2,FALSE))","v":0.39999999999999997},{"$f":"IF(ISBLANK($C16),\"\",VLOOKUP($C16,RAMP!$C$1:$X$20,L$11-$D$11+2,FALSE))","v":0.44999999999999996},{"$f":"IF(ISBLANK($C16),\"\",VLOOKUP($C16,RAMP!$C$1:$X$20,M$11-$D$11+2,FALSE))","v":0.49999999999999994},{"$f":"IF(ISBLANK($C16),\"\",VLOOKUP($C16,RAMP!$C$1:$X$20,N$11-$D$11+2,FALSE))","v":0.54999999999999993},{"$f":"IF(ISBLANK($C16),\"\",VLOOKUP($C16,RAMP!$C$1:$X$20,O$11-$D$11+2,FALSE))","v":0.6},{"$f":"IF(ISBLANK($C16),\"\",VLOOKUP($C16,RAMP!$C$1:$X$20,P$11-$D$11+2,FALSE))","v":0.65},{"$f":"IF(ISBLANK($C16),\"\",VLOOKUP($C16,RAMP!$C$1:$X$20,Q$11-$D$11+2,FALSE))","v":0.70000000000000007},{"$f":"IF(ISBLANK($C16),\"\",VLOOKUP($C16,RAMP!$C$1:$X$20,R$11-$D$11+2,FALSE))","v":0.75000000000000011},{"$f":"IF(ISBLANK($C16),\"\",VLOOKUP($C16,RAMP!$C$1:$X$20,S$11-$D$11+2,FALSE))","v":0.80000000000000016},{"$f":"IF(ISBLANK($C16),\"\",VLOOKUP($C16,RAMP!$C$1:$X$20,T$11-$D$11+2,FALSE))","v":0.8500000000000002},{"$f":"IF(ISBLANK($C16),\"\",VLOOKUP($C16,RAMP!$C$1:$X$20,U$11-$D$11+2,FALSE))","v":0.90000000000000024},{"$f":"IF(ISBLANK($C16),\"\",VLOOKUP($C16,RAMP!$C$1:$X$20,V$11-$D$11+2,FALSE))","v":0.95000000000000029},{"$f":"IF(ISBLANK($C16),\"\",VLOOKUP($C16,RAMP!$C$1:$X$20,W$11-$D$11+2,FALSE))","v":1.0000000000000002},0.85]
[{"$f":"MLIST!A17","v":"Electronics"},{"$f":"MLIST!D17","v":"Data Centers-NR"},"LOEven20",{"$f":"IF(ISBLANK($C17),\"\",VLOOKUP($C17,RAMP!$C$1:$X$20,D$11-$D$11+2,FALSE))","v":0.05},{"$f":"IF(ISBLANK($C17),\"\",VLOOKUP($C17,RAMP!$C$1:$X$20,E$11-$D$11+2,FALSE))","v":0.1},{"$f":"IF(ISBLANK($C17),\"\",VLOOKUP($C17,RAMP!$C$1:$X$20,F$11-$D$11+2,FALSE))","v":0.15000000000000002},{"$f":"IF(ISBLANK($C17),\"\",VLOOKUP($C17,RAMP!$C$1:$X$20,G$11-$D$11+2,FALSE))","v":0.2},{"$f":"IF(ISBLANK($C17),\"\",VLOOKUP($C17,RAMP!$C$1:$X$20,H$11-$D$11+2,FALSE))","v":0.25},{"$f":"IF(ISBLANK($C17),\"\",VLOOKUP($C17,RAMP!$C$1:$X$20,I$11-$D$11+2,FALSE))","v":0.3},{"$f":"IF(ISBLANK($C17),\"\",VLOOKUP($C17,RAMP!$C$1:$X$20,J$11-$D$11+2,FALSE))","v":0.35},{"$f":"IF(ISBLANK($C17),\"\",VLOOKUP($C17,RAMP!$C$1:$X$20,K$11-$D$11+2,FALSE))","v":0.39999999999999997},{"$f":"IF(ISBLANK($C17),\"\",VLOOKUP($C17,RAMP!$C$1:$X$20,L$11-$D$11+2,FALSE))","v":0.44999999999999996},{"$f":"IF(ISBLANK($C17),\"\",VLOOKUP($C17,RAMP!$C$1:$X$20,M$11-$D$11+2,FALSE))","v":0.49999999999999994},{"$f":"IF(ISBLANK($C17),\"\",VLOOKUP($C17,RAMP!$C$1:$X$20,N$11-$D$11+2,FALSE))","v":0.54999999999999993},{"$f":"IF(ISBLANK($C17),\"\",VLOOKUP($C17,RAMP!$C$1:$X$20,O$11-$D$11+2,FALSE))","v":0.6},{"$f":"IF(ISBLANK($C17),\"\",VLOOKUP($C17,RAMP!$C$1:$X$20,P$11-$D$11+2,FALSE))","v":0.65},{"$f":"IF(ISBLANK($C17),\"\",VLOOKUP($C17,RAMP!$C$1:$X$20,Q$11-$D$11+2,FALSE))","v":0.70000000000000007},{"$f":"IF(ISBLANK($C17),\"\",VLOOKUP($C17,RAMP!$C$1:$X$20,R$11-$D$11+2,FALSE))","v":0.75000000000000011},{"$f":"IF(ISBLANK($C17),\"\",VLOOKUP($C17,RAMP!$C$1:$X$20,S$11-$D$11+2,FALSE))","v":0.80000000000000016},{"$f":"IF(ISBLANK($C17),\"\",VLOOKUP($C17,RAMP!$C$1:$X$20,T$11-$D$11+2,FALSE))","v":0.8500000000000002},{"$f":"IF(ISBLANK($C17),\"\",VLOOKUP($C17,RAMP!$C$1:$X$20,U$11-$D$11+2,FALSE))","v":0.90000000000000024},{"$f":"IF(ISBLANK($C17),\"\",VLOOKUP($C17,RAMP!$C$1:$X$20,V$11-$D$11+2,FALSE))","v":0.95000000000000029},{"$f":"IF(ISBLANK($C17),\"\",VLOOKUP($C17,RAMP!$C$1:$X$20,W$11-$D$11+2,FALSE))","v":1.0000000000000002},0.85]
[{"$f":"MLIST!A18","v":"Electronics"},{"$f":"MLIST!D18","v":"Desktop-WA-NR"},"LO50Fast",{"$f":"IF(ISBLANK($C18),\"\",VLOOKUP($C18,RAMP!$C$1:$X$20,D$11-$D$11+2,FALSE))","v":0.45},{"$f":"IF(ISBLANK($C18),\"\",VLOOKUP($C18,RAMP!$C$1:$X$20,E$11-$D$11+2,FALSE))","v":0.66},{"$f":"IF(ISBLANK($C18),\"\",VLOOKUP($C18,RAMP!$C$1:$X$20,F$11-$D$11+2,FALSE))","v":0.8},{"$f":"IF(ISBLANK($C18),\"\",VLOOKUP($C18,RAMP!$C$1:$X$20,G$11-$D$11+2,FALSE))","v":0.89},{"$f":"IF(ISBLANK($C18),\"\",VLOOKUP($C18,RAMP!$C$1:$X$20,H$11-$D$11+2,FALSE))","v":0.94954036260972652},{"$f":"IF(ISBLANK($C18),\"\",VLOOKUP($C18,RAMP!$C$1:$X$20,I$11-$D$11+2,FALSE))","v":0.97931054391458994},{"$f":"IF(ISBLANK($C18),\"\",VLOOKUP($C18,RAMP!$C$1:$X$20,J$11-$D$11+2,FALSE))","v":0.99254173560564019},{"$f":"IF(ISBLANK($C18),\"\",VLOOKUP($C18,RAMP!$C$1:$X$20,K$11-$D$11+2,FALSE))","v":0.99783421228206048},{"$f":"IF(ISBLANK($C18),\"\",VLOOKUP($C18,RAMP!$C$1:$X$20,L$11-$D$11+2,FALSE))","v":0.99975874925530417},{"$f":"IF(ISBLANK($C18),\"\",VLOOKUP($C18,RAMP!$C$1:$X$20,M$11-$D$11+2,FALSE))","v":1},{"$f":"IF(ISBLANK($C18),\"\",VLOOKUP($C18,RAMP!$C$1:$X$20,N$11-$D$11+2,FALSE))","v":1},{"$f":"IF(ISBLANK($C18),\"\",VLOOKUP($C18,RAMP!$C$1:$X$20,O$11-$D$11+2,FALSE))","v":1},{"$f":"IF(ISBLANK($C18),\"\",VLOOKUP($C18,RAMP!$C$1:$X$20,P$11-$D$11+2,FALSE))","v":1},{"$f":"IF(ISBLANK($C18),\"\",VLOOKUP($C18,RAMP!$C$1:$X$20,Q$11-$D$11+2,FALSE))","v":1},{"$f":"IF(ISBLANK($C18),\"\",VLOOKUP($C18,RAMP!$C$1:$X$20,R$11-$D$11+2,FALSE))","v":1},{"$f":"IF(ISBLANK($C18),\"\",VLOOKUP($C18,RAMP!$C$1:$X$20,S$11-$D$11+2,FALSE))","v":1},{"$f":"IF(ISBLANK($C18),\"\",VLOOKUP($C18,RAMP!$C$1:$X$20,T$11-$D$11+2,FALSE))","v":1},{"$f":"IF(ISBLANK($C18),\"\",VLOOKUP($C18,RAMP!$C$1:$X$20,U$11-$D$11+2,FALSE))","v":1},{"$f":"IF(ISBLANK($C18),\"\",VLOOKUP($C18,RAMP!$C$1:$X$20,V$11-$D$11+2,FALSE))","v":1},{"$f":"IF(ISBLANK($C18),\"\",VLOOKUP($C18,RAMP!$C$1:$X$20,W$11-$D$11+2,FALSE))","v":1},1]
[{"$f":"MLIST!A19","v":"Electronics"},{"$f":"MLIST!D19","v":"Desktop-NR"},"LO50Fast",{"$f":"IF(ISBLANK($C19),\"\",VLOOKUP($C19,RAMP!$C$1:$X$20,D$11-$D$11+2,FALSE))","v":0.45},{"$f":"IF(ISBLANK($C19),\"\",VLOOKUP($C19,RAMP!$C$1:$X$20,E$11-$D$11+2,FALSE))","v":0.66},{"$f":"IF(ISBLANK($C19),\"\",VLOOKUP($C19,RAMP!$C$1:$X$20,F$11-$D$11+2,FALSE))","v":0.8},{"$f":"IF(ISBLANK($C19),\"\",VLOOKUP($C19,RAMP!$C$1:$X$20,G$11-$D$11+2,FALSE))","v":0.89},{"$f":"IF(ISBLANK($C19),\"\",VLOOKUP($C19,RAMP!$C$1:$X$20,H$11-$D$11+2,FALSE))","v":0.94954036260972652},{"$f":"IF(ISBLANK($C19),\"\",VLOOKUP($C19,RAMP!$C$1:$X$20,I$11-$D$11+2,FALSE))","v":0.97931054391458994},{"$f":"IF(ISBLANK($C19),\"\",VLOOKUP($C19,RAMP!$C$1:$X$20,J$11-$D$11+2,FALSE))","v":0.99254173560564019},{"$f":"IF(ISBLANK($C19),\"\",VLOOKUP($C19,RAMP!$C$1:$X$20,K$11-$D$11+2,FALSE))","v":0.99783421228206048},{"$f":"IF(ISBLANK($C19),\"\",VLOOKUP($C19,RAMP!$C$1:$X$20,L$11-$D$11+2,FALSE))","v":0.99975874925530417},{"$f":"IF(ISBLANK($C19),\"\",VLOOKUP($C19,RAMP!$C$1:$X$20,M$11-$D$11+2,FALSE))","v":1},{"$f":"IF(ISBLANK($C19),\"\",VLOOKUP($C19,RAMP!$C$1:$X$20,N$11-$D$11+2,FALSE))","v":1},{"$f":"IF(ISBLANK($C19),\"\",VLOOKUP($C19,RAMP!$C$1:$X$20,O$11-$D$11+2,FALSE))","v":1},{"$f":"IF(ISBLANK($C19),\"\",VLOOKUP($C19,RAMP!$C$1:$X$20,P$11-$D$11+2,FALSE))","v":1},{"$f":"IF(ISBLANK($C19),\"\",VLOOKUP($C19,RAMP!$C$1:$X$20,Q$11-$D$11+2,FALSE))","v":1},{"$f":"IF(ISBLANK($C19),\"\",VLOOKUP($C19,RAMP!$C$1:$X$20,R$11-$D$11+2,FALSE))","v":1},{"$f":"IF(ISBLANK($C19),\"\",VLOOKUP($C19,RAMP!$C$1:$X$20,S$11-$D$11+2,FALSE))","v":1},{"$f":"IF(ISBLANK($C19),\"\",VLOOKUP($C19,RAMP!$C$1:$X$20,T$11-$D$11+2,FALSE))","v":1},{"$f":"IF(ISBLANK($C19),\"\",VLOOKUP($C19,RAMP!$C$1:$X$20,U$11-$D$11+2,FALSE))","v":1},{"$f":"IF(ISBLANK($C19),\"\",VLOOKUP($C19,RAMP!$C$1:$X$20,V$11-$D$11+2,FALSE))","v":1},{"$f":"IF(ISBLANK($C19),\"\",VLOOKUP($C19,RAMP!$C$1:$X$20,W$11-$D$11+2,FALSE))","v":1},1]
[{"$f":"MLIST!A20","v":"Electronics"},{"$f":"MLIST!D20","v":"Laptop-WA-NR"},"LO50Fast",{"$f":"IF(ISBLANK($C20),\"\",VLOOKUP($C20,RAMP!$C$1:$X$20,D$11-$D$11+2,FALSE))","v":0.45},{"$f":"IF(ISBLANK($C20),\"\",VLOOKUP($C20,RAMP!$C$1:$X$20,E$11-$D$11+2,FALSE))","v":0.66},{"$f":"IF(ISBLANK($C20),\"\",VLOOKUP($C20,RAMP!$C$1:$X$20,F$11-$D$11+2,FALSE))","v":0.8},{"$f":"IF(ISBLANK($C20),\"\",VLOOKUP($C20,RAMP!$C$1:$X$20,G$11-$D$11+2,FALSE))","v":0.89},{"$f":"IF(ISBLANK($C20),\"\",VLOOKUP($C20,RAMP!$C$1:$X$20,H$11-$D$11+2,FALSE))","v":0.94954036260972652},{"$f":"IF(ISBLANK($C20),\"\",VLOOKUP($C20,RAMP!$C$1:$X$20,I$11-$D$11+2,FALSE))","v":0.97931054391458994},{"$f":"IF(ISBLANK($C20),\"\",VLOOKUP($C20,RAMP!$C$1:$X$20,J$11-$D$11+2,FALSE))","v":0.99254173560564019},{"$f":"IF(ISBLANK($C20),\"\",VLOOKUP($C20,RAMP!$C$1:$X$20,K$11-$D$11+2,FALSE))","v":0.99783421228206048},{"$f":"IF(ISBLANK($C20),\"\",VLOOKUP($C20,RAMP!$C$1:$X$20,L$11-$D$11+2,FALSE))","v":0.99975874925530417},{"$f":"IF(ISBLANK($C20),\"\",VLOOKUP($C20,RAMP!$C$1:$X$20,M$11-$D$11+2,FALSE))","v":1},{"$f":"IF(ISBLANK($C20),\"\",VLOOKUP($C20,RAMP!$C$1:$X$20,N$11-$D$11+2,FALSE))","v":1},{"$f":"IF(ISBLANK($C20),\"\",VLOOKUP($C20,RAMP!$C$1:$X$20,O$11-$D$11+2,FALSE))","v":1},{"$f":"IF(ISBLANK($C20),\"\",VLOOKUP($C20,RAMP!$C$1:$X$20,P$11-$D$11+2,FALSE))","v":1},{"$f":"IF(ISBLANK($C20),\"\",VLOOKUP($C20,RAMP!$C$1:$X$20,Q$11-$D$11+2,FALSE))","v":1},{"$f":"IF(ISBLANK($C20),\"\",VLOOKUP($C20,RAMP!$C$1:$X$20,R$11-$D$11+2,FALSE))","v":1},{"$f":"IF(ISBLANK($C20),\"\",VLOOKUP($C20,RAMP!$C$1:$X$20,S$11-$D$11+2,FALSE))","v":1},{"$f":"IF(ISBLANK($C20),\"\",VLOOKUP($C20,RAMP!$C$1:$X$20,T$11-$D$11+2,FALSE))","v":1},{"$f":"IF(ISBLANK($C20),\"\",VLOOKUP($C20,RAMP!$C$1:$X$20,U$11-$D$11+2,FALSE))","v":1},{"$f":"IF(ISBLANK($C20),\"\",VLOOKUP($C20,RAMP!$C$1:$X$20,V$11-$D$11+2,FALSE))","v":1},{"$f":"IF(ISBLANK($C20),\"\",VLOOKUP($C20,RAMP!$C$1:$X$20,W$11-$D$11+2,FALSE))","v":1},1]
[{"$f":"MLIST!A21","v":"Food Preparation"},{"$f":"MLIST!D21","v":"Pre-Rinse Spray Valve-Retro"},"Retro12Med",{"$f":"IF(ISBLANK($C21),\"\",VLOOKUP($C21,RAMP!$C$1:$X$20,D$11-$D$11+2,FALSE))","v":0.10937459468255628},{"$f":"IF(ISBLANK($C21),\"\",VLOOKUP($C21,RAMP!$C$1:$X$20,E$11-$D$11+2,FALSE))","v":0.10937459468255628},{"$f":"IF(ISBLANK($C21),\"\",VLOOKUP($C21,RAMP!$C$1:$X$20,F$11-$D$11+2,FALSE))","v":0.10937459468255628},{"$f":"IF(ISBLANK($C21),\"\",VLOOKUP($C21,RAMP!$C$1:$X$20,G$11-$D$11+2,FALSE))","v":0.10937459468255628},{"$f":"IF(ISBLANK($C21),\"\",VLOOKUP($C21,RAMP!$C$1:$X$20,H$11-$D$11+2,FALSE))","v":0.10937459468255628},{"$f":"IF(ISBLANK($C21),\"\",VLOOKUP($C21,RAMP!$C$1:$X$20,I$11-$D$11+2,FALSE))","v":9.8437135214300656E-2},{"$f":"IF(ISBLANK($C21),\"\",VLOOKUP($C21,RAMP!$C$1:$X$20,J$11-$D$11+2,FALSE))","v":7.874970817144053E-2},{"$f":"IF(ISBLANK($C21),\"\",VLOOKUP($C21,RAMP!$C$1:$X$20,K$11-$D$11+2,FALSE))","v":6.2999766537152418E-2},{"$f":"IF(ISBLANK($C21),\"\",VLOOKUP($C21,RAMP!$C$1:$X$20,L$11-$D$11+2,FALSE))","v":5.0399813229721938E-2},{"$f":"IF(ISBLANK($C21),\"\",VLOOKUP($C21,RAMP!$C$1:$X$20,M$11-$D$11+2,FALSE))","v":4.0319850583777551E-2},{"$f":"IF(ISBLANK($C21),\"\",VLOOKUP($C21,RAMP!$C$1:$X$20,N$11-$D$11+2,FALSE))","v":3.225588046702204E-2},{"$f":"IF(ISBLANK($C21),\"\",VLOOKUP($C21,RAMP!$C$1:$X$20,O$11-$D$11+2,FALSE))","v":2.5804704373617631E-2},{"$f":"IF(ISBLANK($C21),\"\",VLOOKUP($C21,RAMP!$C$1:$X$20,P$11-$D$11+2,FALSE))","v":2.0643763498894106E-2},{"$f":"IF(ISBLANK($C21),\"\",VLOOKUP($C21,RAMP!$C$1:$X$20,Q$11-$D$11+2,FALSE))","v":1.6515010799115284E-2},{"$f":"IF(ISBLANK($C21),\"\",VLOOKUP($C21,RAMP!$C$1:$X$20,R$11-$D$11+2,FALSE))","v":1.3212008639292228E-2},{"$f":"IF(ISBLANK($C21),\"\",VLOOKUP($C21,RAMP!$C$1:$X$20,S$11-$D$11+2,FALSE))","v":1.0569606911433781E-2},{"$f":"IF(ISBLANK($C21),\"\",VLOOKUP($C21,RAMP!$C$1:$X$20,T$11-$D$11+2,FALSE))","v":7.2092823794611682E-5},{"$f":"IF(ISBLANK($C21),\"\",VLOOKUP($C21,RAMP!$C$1:$X$20,U$11-$D$11+2,FALSE))","v":2.5747437069512102E-5},{"$f":"IF(ISBLANK($C21),\"\",VLOOKUP($C21,RAMP!$C$1:$X$20,V$11-$D$11+2,FALSE))","v":8.7775353646568632E-6},{"$f":"IF(ISBLANK($C21),\"\",VLOOKUP($C21,RAMP!$C$1:$X$20,W$11-$D$11+2,FALSE))","v":2.8622397928446119E-6},0.85]
[{"$f":"MLIST!A22","v":"Food Preparation"},{"$f":"MLIST!D22","v":"Steamer-NR"},"LO12Med",{"$f":"IF(ISBLANK($C22),\"\",VLOOKUP($C22,RAMP!$C$1:$X$20,D$11-$D$11+2,FALSE))","v":0.10937459468255628},{"$f":"IF(ISBLANK($C22),\"\",VLOOKUP($C22,RAMP!$C$1:$X$20,E$11-$D$11+2,FALSE))","v":0.21874918936511256},{"$f":"IF(ISBLANK($C22),\"\",VLOOKUP($C22,RAMP!$C$1:$X$20,F$11-$D$11+2,FALSE))","v":0.32812378404766884},{"$f":"IF(ISBLANK($C22),\"\",VLOOKUP($C22,RAMP!$C$1:$X$20,G$11-$D$11+2,FALSE))","v":0.43749837873022512},{"$f":"IF(ISBLANK($C22),\"\",VLOOKUP($C22,RAMP!$C$1:$X$20,H$11-$D$11+2,FALSE))","v":0.5468729734127814},{"$f":"IF(ISBLANK($C22),\"\",VLOOKUP($C22,RAMP!$C$1:$X$20,I$11-$D$11+2,FALSE))","v":0.64531010862708205},{"$f":"IF(ISBLANK($C22),\"\",VLOOKUP($C22,RAMP!$C$1:$X$20,J$11-$D$11+2,FALSE))","v":0.7240598167985226},{"$f":"IF(ISBLANK($C22),\"\",VLOOKUP($C22,RAMP!$C$1:$X$20,K$11-$D$11+2,FALSE))","v":0.78705958333567505},{"$f":"IF(ISBLANK($C22),\"\",VLOOKUP($C22,RAMP!$C$1:$X$20,L$11-$D$11+2,FALSE))","v":0.83745939656539703},{"$f":"IF(ISBLANK($C22),\"\",VLOOKUP($C22,RAMP!$C$1:$X$20,M$11-$D$11+2,FALSE))","v":0.87777924714917455},{"$f":"IF(ISBLANK($C22),\"\",VLOOKUP($C22,RAMP!$C$1:$X$20,N$11-$D$11+2,FALSE))","v":0.91003512761619654},{"$f":"IF(ISBLANK($C22),\"\",VLOOKUP($C22,RAMP!$C$1:$X$20,O$11-$D$11+2,FALSE))","v":0.93583983198981413},{"$f":"IF(ISBLANK($C22),\"\",VLOOKUP($C22,RAMP!$C$1:$X$20,P$11-$D$11+2,FALSE))","v":0.9564835954887082},{"$f":"IF(ISBLANK($C22),\"\",VLOOKUP($C22,RAMP!$C$1:$X$20,Q$11-$D$11+2,FALSE))","v":0.97299860628782353},{"$f":"IF(ISBLANK($C22),\"\",VLOOKUP($C22,RAMP!$C$1:$X$20,R$11-$D$11+2,FALSE))","v":0.9862106149271157},{"$f":"IF(ISBLANK($C22),\"\",VLOOKUP($C22,RAMP!$C$1:$X$20,S$11-$D$11+2,FALSE))","v":0.99678022183854953},{"$f":"IF(ISBLANK($C22),\"\",VLOOKUP($C22,RAMP!$C$1:$X$20,T$11-$D$11+2,FALSE))","v":0.99685231466234414},{"$f":"IF(ISBLANK($C22),\"\",VLOOKUP($C22,RAMP!$C$1:$X$20,U$11-$D$11+2,FALSE))","v":0.99687806209941365},{"$f":"IF(ISBLANK($C22),\"\",VLOOKUP($C22,RAMP!$C$1:$X$20,V$11-$D$11+2,FALSE))","v":0.99688683963477831},{"$f":"IF(ISBLANK($C22),\"\",VLOOKUP($C22,RAMP!$C$1:$X$20,W$11-$D$11+2,FALSE))","v":0.99688970187457115},0.85]
[{"$f":"MLIST!A23","v":"Food Preparation"},{"$f":"MLIST!D23","v":"Combo Oven-NR"},"LO5Med",{"$f":"IF(ISBLANK($C23),\"\",VLOOKUP($C23,RAMP!$C$1:$X$20,D$11-$D$11+2,FALSE))","v":4.2999999999999997E-2},{"$f":"IF(ISBLANK($C23),\"\",VLOOKUP($C23,RAMP!$C$1:$X$20,E$11-$D$11+2,FALSE))","v":9.5797142280278316E-2},{"$f":"IF(ISBLANK($C23),\"\",VLOOKUP($C23,RAMP!$C$1:$X$20,F$11-$D$11+2,FALSE))","v":0.16040539374775648},{"$f":"IF(ISBLANK($C23),\"\",VLOOKUP($C23,RAMP!$C$1:$X$20,G$11-$D$11+2,FALSE))","v":0.23540539374775649},{"$f":"IF(ISBLANK($C23),\"\",VLOOKUP($C23,RAMP!$C$1:$X$20,H$11-$D$11+2,FALSE))","v":0.32095239121809005},{"$f":"IF(ISBLANK($C23),\"\",VLOOKUP($C23,RAMP!$C$1:$X$20,I$11-$D$11+2,FALSE))","v":0.42096711425629652},{"$f":"IF(ISBLANK($C23),\"\",VLOOKUP($C23,RAMP!$C$1:$X$20,J$11-$D$11+2,FALSE))","v":0.53068481860864725},{"$f":"IF(ISBLANK($C23),\"\",VLOOKUP($C23,RAMP!$C$1:$X$20,K$11-$D$11+2,FALSE))","v":0.642769203728351},{"$f":"IF(ISBLANK($C23),\"\",VLOOKUP($C23,RAMP!$C$1:$X$20,L$11-$D$11+2,FALSE))","v":0.74839528535557953},{"$f":"IF(ISBLANK($C23),\"\",VLOOKUP($C23,RAMP!$C$1:$X$20,M$11-$D$11+2,FALSE))","v":0.83918984935345187},{"$f":"IF(ISBLANK($C23),\"\",VLOOKUP($C23,RAMP!$C$1:$X$20,N$11-$D$11+2,FALSE))","v":0.90945051634530116},{"$f":"IF(ISBLANK($C23),\"\",VLOOKUP($C23,RAMP!$C$1:$X$20,O$11-$D$11+2,FALSE))","v":0.9576688767502457},{"$f":"IF(ISBLANK($C23),\"\",VLOOKUP($C23,RAMP!$C$1:$X$20,P$11-$D$11+2,FALSE))","v":0.9865231113648858},{"$f":"IF(ISBLANK($C23),\"\",VLOOKUP($C23,RAMP!$C$1:$X$20,Q$11-$D$11+2,FALSE))","v":1},{"$f":"IF(ISBLANK($C23),\"\",VLOOKUP($C23,RAMP!$C$1:$X$20,R$11-$D$11+2,FALSE))","v":1},{"$f":"IF(ISBLANK($C23),\"\",VLOOKUP($C23,RAMP!$C$1:$X$20,S$11-$D$11+2,FALSE))","v":1},{"$f":"IF(ISBLANK($C23),\"\",VLOOKUP($C23,RAMP!$C$1:$X$20,T$11-$D$11+2,FALSE))","v":1},{"$f":"IF(ISBLANK($C23),\"\",VLOOKUP($C23,RAMP!$C$1:$X$20,U$11-$D$11+2,FALSE))","v":1},{"$f":"IF(ISBLANK($C23),\"\",VLOOKUP($C23,RAMP!$C$1:$X$20,V$11-$D$11+2,FALSE))","v":1},{"$f":"IF(ISBLANK($C23),\"\",VLOOKUP($C23,RAMP!$C$1:$X$20,W$11-$D$11+2,FALSE))","v":1},0.85]
[{"$f":"MLIST!A24","v":"Food Preparation"},{"$f":"MLIST!D24","v":"HFHC-NR"},"LO5Med",{"$f":"IF(ISBLANK($C24),\"\",VLOOKUP($C24,RAMP!$C$1:$X$20,D$11-$D$11+2,FALSE))","v":4.2999999999999997E-2},{"$f":"IF(ISBLANK($C24),\"\",VLOOKUP($C24,RAMP!$C$1:$X$20,E$11-$D$11+2,FALSE))","v":9.5797142280278316E-2},{"$f":"IF(ISBLANK($C24),\"\",VLOOKUP($C24,RAMP!$C$1:$X$20,F$11-$D$11+2,FALSE))","v":0.16040539374775648},{"$f":"IF(ISBLANK($C24),\"\",VLOOKUP($C24,RAMP!$C$1:$X$20,G$11-$D$11+2,FALSE))","v":0.23540539374775649},{"$f":"IF(ISBLANK($C24),\"\",VLOOKUP($C24,RAMP!$C$1:$X$20,H$11-$D$11+2,FALSE))","v":0.32095239121809005},{"$f":"IF(ISBLANK($C24),\"\",VLOOKUP($C24,RAMP!$C$1:$X$20,I$11-$D$11+2,FALSE))","v":0.42096711425629652},{"$f":"IF(ISBLANK($C24),\"\",VLOOKUP($C24,RAMP!$C$1:$X$20,J$11-$D$11+2,FALSE))","v":0.53068481860864725},{"$f":"IF(ISBLANK($C24),\"\",VLOOKUP($C24,RAMP!$C$1:$X$20,K$11-$D$11+2,FALSE))","v":0.642769203728351},{"$f":"IF(ISBLANK($C24),\"\",VLOOKUP($C24,RAMP!$C$1:$X$20,L$11-$D$11+2,FALSE))","v":0.74839528535557953},{"$f":"IF(ISBLANK($C24),\"\",VLOOKUP($C24,RAMP!$C$1:$X$20,M$11-$D$11+2,FALSE))","v":0.83918984935345187},{"$f":"IF(ISBLANK($C24),\"\",VLOOKUP($C24,RAMP!$C$1:$X$20,N$11-$D$11+2,FALSE))","v":0.90945051634530116},{"$f":"IF(ISBLANK($C24),\"\",VLOOKUP($C24,RAMP!$C$1:$X$20,O$11-$D$11+2,FALSE))","v":0.9576688767502457},{"$f":"IF(ISBLANK($C24),\"\",VLOOKUP($C24,RAMP!$C$1:$X$20,P$11-$D$11+2,FALSE))","v":0.9865231113648858},{"$f":"IF(ISBLANK($C24),\"\",VLOOKUP($C24,RAMP!$C$1:$X$20,Q$11-$D$11+2,FALSE))","v":1},{"$f":"IF(ISBLANK($C24),\"\",VLOOKUP($C24,RAMP!$C$1:$X$20,R$11-$D$11+2,FALSE))","v":1},{"$f":"IF(ISBLANK($C24),\"\",VLOOKUP($C24,RAMP!$C$1:$X$20,S$11-$D$11+2,FALSE))","v":1},{"$f":"IF(ISBLANK($C24),\"\",VLOOKUP($C24,RAMP!$C$1:$X$20,T$11-$D$11+2,FALSE))","v":1},{"$f":"IF(ISBLANK($C24),\"\",VLOOKUP($C24,RAMP!$C$1:$X$20,U$11-$D$11+2,FALSE))","v":1},{"$f":"IF(ISBLANK($C24),\"\",VLOOKUP($C24,RAMP!$C$1:$X$20,V$11-$D$11+2,FALSE))","v":1},{"$f":"IF(ISBLANK($C24),\"\",VLOOKUP($C24,RAMP!$C$1:$X$20,W$11-$D$11+2,FALSE))","v":1},0.85]
[{"$f":"MLIST!A25","v":"Food Preparation"},{"$f":"MLIST!D25","v":"Convection Oven-NR"},"LO5Med",{"$f":"IF(ISBLANK($C25),\"\",VLOOKUP($C25,RAMP!$C$1:$X$20,D$11-$D$11+2,FALSE))","v":4.2999999999999997E-2},{"$f":"IF(ISBLANK($C25),\"\",VLOOKUP($C25,RAMP!$C$1:$X$20,E$11-$D$11+2,FALSE))","v":9.5797142280278316E-2},{"$f":"IF(ISBLANK($C25),\"\",VLOOKUP($C25,RAMP!$C$1:$X$20,F$11-$D$11+2,FALSE))","v":0.16040539374775648},{"$f":"IF(ISBLANK($C25),\"\",VLOOKUP($C25,RAMP!$C$1:$X$20,G$11-$D$11+2,FALSE))","v":0.23540539374775649},{"$f":"IF(ISBLANK($C25),\"\",VLOOKUP($C25,RAMP!$C$1:$X$20,H$11-$D$11+2,FALSE))","v":0.32095239121809005},{"$f":"IF(ISBLANK($C25),\"\",VLOOKUP($C25,RAMP!$C$1:$X$20,I$11-$D$11+2,FALSE))","v":0.42096711425629652},{"$f":"IF(ISBLANK($C25),\"\",VLOOKUP($C25,RAMP!$C$1:$X$20,J$11-$D$11+2,FALSE))","v":0.53068481860864725},{"$f":"IF(ISBLANK($C25),\"\",VLOOKUP($C25,RAMP!$C$1:$X$20,K$11-$D$11+2,FALSE))","v":0.642769203728351},{"$f":"IF(ISBLANK($C25),\"\",VLOOKUP($C25,RAMP!$C$1:$X$20,L$11-$D$11+2,FALSE))","v":0.74839528535557953},{"$f":"IF(ISBLANK($C25),\"\",VLOOKUP($C25,RAMP!$C$1:$X$20,M$11-$D$11+2,FALSE))","v":0.83918984935345187},{"$f":"IF(ISBLANK($C25),\"\",VLOOKUP($C25,RAMP!$C$1:$X$20,N$11-$D$11+2,FALSE))","v":0.90945051634530116},{"$f":"IF(ISBLANK($C25),\"\",VLOOKUP($C25,RAMP!$C$1:$X$20,O$11-$D$11+2,FALSE))","v":0.9576688767502457},{"$f":"IF(ISBLANK($C25),\"\",VLOOKUP($C25,RAMP!$C$1:$X$20,P$11-$D$11+2,FALSE))","v":0.9865231113648858},{"$f":"IF(ISBLANK($C25),\"\",VLOOKUP($C25,RAMP!$C$1:$X$20,Q$11-$D$11+2,FALSE))","v":1},{"$f":"IF(ISBLANK($C25),\"\",VLOOKUP($C25,RAMP!$C$1:$X$20,R$11-$D$11+2,FALSE))","v":1},{"$f":"IF(ISBLANK($C25),\"\",VLOOKUP($C25,RAMP!$C$1:$X$20,S$11-$D$11+2,FALSE))","v":1},{"$f":"IF(ISBLANK($C25),\"\",VLOOKUP($C25,RAMP!$C$1:$X$20,T$11-$D$11+2,FALSE))","v":1},{"$f":"IF(ISBLANK($C25),\"\",VLOOKUP($C25,RAMP!$C$1:$X$20,U$11-$D$11+2,FALSE))","v":1},{"$f":"IF(ISBLANK($C25),\"\",VLOOKUP($C25,RAMP!$C$1:$X$20,V$11-$D$11+2,FALSE))","v":1},{"$f":"IF(ISBLANK($C25),\"\",VLOOKUP($C25,RAMP!$C$1:$X$20,W$11-$D$11+2,FALSE))","v":1},0.85]
[{"$f":"MLIST!A26","v":"Food Preparation"},{"$f":"MLIST!D26","v":"Fryer-NR"},"LO12Med",{"$f":"IF(ISBLANK($C26),\"\",VLOOKUP($C26,RAMP!$C$1:$X$20,D$11-$D$11+2,FALSE))","v":0.10937459468255628},{"$f":"IF(ISBLANK($C26),\"\",VLOOKUP($C26,RAMP!$C$1:$X$20,E$11-$D$11+2,FALSE))","v":0.21874918936511256},{"$f":"IF(ISBLANK($C26),\"\",VLOOKUP($C26,RAMP!$C$1:$X$20,F$11-$D$11+2,FALSE))","v":0.32812378404766884},{"$f":"IF(ISBLANK($C26),\"\",VLOOKUP($C26,RAMP!$C$1:$X$20,G$11-$D$11+2,FALSE))","v":0.43749837873022512},{"$f":"IF(ISBLANK($C26),\"\",VLOOKUP($C26,RAMP!$C$1:$X$20,H$11-$D$11+2,FALSE))","v":0.5468729734127814},{"$f":"IF(ISBLANK($C26),\"\",VLOOKUP($C26,RAMP!$C$1:$X$20,I$11-$D$11+2,FALSE))","v":0.64531010862708205},{"$f":"IF(ISBLANK($C26),\"\",VLOOKUP($C26,RAMP!$C$1:$X$20,J$11-$D$11+2,FALSE))","v":0.7240598167985226},{"$f":"IF(ISBLANK($C26),\"\",VLOOKUP($C26,RAMP!$C$1:$X$20,K$11-$D$11+2,FALSE))","v":0.78705958333567505},{"$f":"IF(ISBLANK($C26),\"\",VLOOKUP($C26,RAMP!$C$1:$X$20,L$11-$D$11+2,FALSE))","v":0.83745939656539703},{"$f":"IF(ISBLANK($C26),\"\",VLOOKUP($C26,RAMP!$C$1:$X$20,M$11-$D$11+2,FALSE))","v":0.87777924714917455},{"$f":"IF(ISBLANK($C26),\"\",VLOOKUP($C26,RAMP!$C$1:$X$20,N$11-$D$11+2,FALSE))","v":0.91003512761619654},{"$f":"IF(ISBLANK($C26),\"\",VLOOKUP($C26,RAMP!$C$1:$X$20,O$11-$D$11+2,FALSE))","v":0.93583983198981413},{"$f":"IF(ISBLANK($C26),\"\",VLOOKUP($C26,RAMP!$C$1:$X$20,P$11-$D$11+2,FALSE))","v":0.9564835954887082},{"$f":"IF(ISBLANK($C26),\"\",VLOOKUP($C26,RAMP!$C$1:$X$20,Q$11-$D$11+2,FALSE))","v":0.97299860628782353},{"$f":"IF(ISBLANK($C26),\"\",VLOOKUP($C26,RAMP!$C$1:$X$20,R$11-$D$11+2,FALSE))","v":0.9862106149271157},{"$f":"IF(ISBLANK($C26),\"\",VLOOKUP($C26,RAMP!$C$1:$X$20,S$11-$D$11+2,FALSE))","v":0.99678022183854953},{"$f":"IF(ISBLANK($C26),\"\",VLOOKUP($C26,RAMP!$C$1:$X$20,T$11-$D$11+2,FALSE))","v":0.99685231466234414},{"$f":"IF(ISBLANK($C26),\"\",VLOOKUP($C26,RAMP!$C$1:$X$20,U$11-$D$11+2,FALSE))","v":0.99687806209941365},{"$f":"IF(ISBLANK($C26),\"\",VLOOKUP($C26,RAMP!$C$1:$X$20,V$11-$D$11+2,FALSE))","v":0.99688683963477831},{"$f":"IF(ISBLANK($C26),\"\",VLOOKUP($C26,RAMP!$C$1:$X$20,W$11-$D$11+2,FALSE))","v":0.99688970187457115},0.85]
[{"$f":"MLIST!A27","v":"Food Preparation"},{"$f":"MLIST!D27","v":"Griddle-NR"},"LO5Med",{"$f":"IF(ISBLANK($C27),\"\",VLOOKUP($C27,RAMP!$C$1:$X$20,D$11-$D$11+2,FALSE))","v":4.2999999999999997E-2},{"$f":"IF(ISBLANK($C27),\"\",VLOOKUP($C27,RAMP!$C$1:$X$20,E$11-$D$11+2,FALSE))","v":9.5797142280278316E-2},{"$f":"IF(ISBLANK($C27),\"\",VLOOKUP($C27,RAMP!$C$1:$X$20,F$11-$D$11+2,FALSE))","v":0.16040539374775648},{"$f":"IF(ISBLANK($C27),\"\",VLOOKUP($C27,RAMP!$C$1:$X$20,G$11-$D$11+2,FALSE))","v":0.23540539374775649},{"$f":"IF(ISBLANK($C27),\"\",VLOOKUP($C27,RAMP!$C$1:$X$20,H$11-$D$11+2,FALSE))","v":0.32095239121809005},{"$f":"IF(ISBLANK($C27),\"\",VLOOKUP($C27,RAMP!$C$1:$X$20,I$11-$D$11+2,FALSE))","v":0.42096711425629652},{"$f":"IF(ISBLANK($C27),\"\",VLOOKUP($C27,RAMP!$C$1:$X$20,J$11-$D$11+2,FALSE))","v":0.53068481860864725},{"$f":"IF(ISBLANK($C27),\"\",VLOOKUP($C27,RAMP!$C$1:$X$20,K$11-$D$11+2,FALSE))","v":0.642769203728351},{"$f":"IF(ISBLANK($C27),\"\",VLOOKUP($C27,RAMP!$C$1:$X$20,L$11-$D$11+2,FALSE))","v":0.74839528535557953},{"$f":"IF(ISBLANK($C27),\"\",VLOOKUP($C27,RAMP!$C$1:$X$20,M$11-$D$11+2,FALSE))","v":0.83918984935345187},{"$f":"IF(ISBLANK($C27),\"\",VLOOKUP($C27,RAMP!$C$1:$X$20,N$11-$D$11+2,FALSE))","v":0.90945051634530116},{"$f":"IF(ISBLANK($C27),\"\",VLOOKUP($C27,RAMP!$C$1:$X$20,O$11-$D$11+2,FALSE))","v":0.9576688767502457},{"$f":"IF(ISBLANK($C27),\"\",VLOOKUP($C27,RAMP!$C$1:$X$20,P$11-$D$11+2,FALSE))","v":0.9865231113648858},{"$f":"IF(ISBLANK($C27),\"\",VLOOKUP($C27,RAMP!$C$1:$X$20,Q$11-$D$11+2,FALSE))","v":1},{"$f":"IF(ISBLANK($C27),\"\",VLOOKUP($C27,RAMP!$C$1:$X$20,R$11-$D$11+2,FALSE))","v":1},{"$f":"IF(ISBLANK($C27),\"\",VLOOKUP($C27,RAMP!$C$1:$X$20,S$11-$D$11+2,FALSE))","v":1},{"$f":"IF(ISBLANK($C27),\"\",VLOOKUP($C27,RAMP!$C$1:$X$20,T$11-$D$11+2,FALSE))","v":1},{"$f":"IF(ISBLANK($C27),\"\",VLOOKUP($C27,RAMP!$C$1:$X$20,U$11-$D$11+2,FALSE))","v":1},{"$f":"IF(ISBLANK($C27),\"\",VLOOKUP($C27,RAMP!$C$1:$X$20,V$11-$D$11+2,FALSE))","v":1},{"$f":"IF(ISBLANK($C27),\"\",VLOOKUP($C27,RAMP!$C$1:$X$20,W$11-$D$11+2,FALSE))","v":1},0.85]
[{"$f":"MLIST!A28","v":"Food Preparation"},{"$f":"MLIST!D28","v":"Overwrapper-NR"},"LO5Med",{"$f":"IF(ISBLANK($C28),\"\",VLOOKUP($C28,RAMP!$C$1:$X$20,D$11-$D$11+2,FALSE))","v":4.2999999999999997E-2},{"$f":"IF(ISBLANK($C28),\"\",VLOOKUP($C28,RAMP!$C$1:$X$20,E$11-$D$11+2,FALSE))","v":9.5797142280278316E-2},{"$f":"IF(ISBLANK($C28),\"\",VLOOKUP($C28,RAMP!$C$1:$X$20,F$11-$D$11+2,FALSE))","v":0.16040539374775648},{"$f":"IF(ISBLANK($C28),\"\",VLOOKUP($C28,RAMP!$C$1:$X$20,G$11-$D$11+2,FALSE))","v":0.23540539374775649},{"$f":"IF(ISBLANK($C28),\"\",VLOOKUP($C28,RAMP!$C$1:$X$20,H$11-$D$11+2,FALSE))","v":0.32095239121809005},{"$f":"IF(ISBLANK($C28),\"\",VLOOKUP($C28,RAMP!$C$1:$X$20,I$11-$D$11+2,FALSE))","v":0.42096711425629652},{"$f":"IF(ISBLANK($C28),\"\",VLOOKUP($C28,RAMP!$C$1:$X$20,J$11-$D$11+2,FALSE))","v":0.53068481860864725},{"$f":"IF(ISBLANK($C28),\"\",VLOOKUP($C28,RAMP!$C$1:$X$20,K$11-$D$11+2,FALSE))","v":0.642769203728351},{"$f":"IF(ISBLANK($C28),\"\",VLOOKUP($C28,RAMP!$C$1:$X$20,L$11-$D$11+2,FALSE))","v":0.74839528535557953},{"$f":"IF(ISBLANK($C28),\"\",VLOOKUP($C28,RAMP!$C$1:$X$20,M$11-$D$11+2,FALSE))","v":0.83918984935345187},{"$f":"IF(ISBLANK($C28),\"\",VLOOKUP($C28,RAMP!$C$1:$X$20,N$11-$D$11+2,FALSE))","v":0.90945051634530116},{"$f":"IF(ISBLANK($C28),\"\",VLOOKUP($C28,RAMP!$C$1:$X$20,O$11-$D$11+2,FALSE))","v":0.9576688767502457},{"$f":"IF(ISBLANK($C28),\"\",VLOOKUP($C28,RAMP!$C$1:$X$20,P$11-$D$11+2,FALSE))","v":0.9865231113648858},{"$f":"IF(ISBLANK($C28),\"\",VLOOKUP($C28,RAMP!$C$1:$X$20,Q$11-$D$11+2,FALSE))","v":1},{"$f":"IF(ISBLANK($C28),\"\",VLOOKUP($C28,RAMP!$C$1:$X$20,R$11-$D$11+2,FALSE))","v":1},{"$f":"IF(ISBLANK($C28),\"\",VLOOKUP($C28,RAMP!$C$1:$X$20,S$11-$D$11+2,FALSE))","v":1},{"$f":"IF(ISBLANK($C28),\"\",VLOOKUP($C28,RAMP!$C$1:$X$20,T$11-$D$11+2,FALSE))","v":1},{"$f":"IF(ISBLANK($C28),\"\",VLOOKUP($C28,RAMP!$C$1:$X$20,U$11-$D$11+2,FALSE))","v":1},{"$f":"IF(ISBLANK($C28),\"\",VLOOKUP($C28,RAMP!$C$1:$X$20,V$11-$D$11+2,FALSE))","v":1},{"$f":"IF(ISBLANK($C28),\"\",VLOOKUP($C28,RAMP!$C$1:$X$20,W$11-$D$11+2,FALSE))","v":1},0.85]
[{"$f":"MLIST!A29","v":"HVAC"},{"$f":"MLIST!D29","v":"DHP-New"},"LO12Med",{"$f":"IF(ISBLANK($C29),\"\",VLOOKUP($C29,RAMP!$C$1:$X$20,D$11-$D$11+2,FALSE))","v":0.10937459468255628},{"$f":"IF(ISBLANK($C29),\"\",VLOOKUP($C29,RAMP!$C$1:$X$20,E$11-$D$11+2,FALSE))","v":0.21874918936511256},{"$f":"IF(ISBLANK($C29),\"\",VLOOKUP($C29,RAMP!$C$1:$X$20,F$11-$D$11+2,FALSE))","v":0.32812378404766884},{"$f":"IF(ISBLANK($C29),\"\",VLOOKUP($C29,RAMP!$C$1:$X$20,G$11-$D$11+2,FALSE))","v":0.43749837873022512},{"$f":"IF(ISBLANK($C29),\"\",VLOOKUP($C29,RAMP!$C$1:$X$20,H$11-$D$11+2,FALSE))","v":0.5468729734127814},{"$f":"IF(ISBLANK($C29),\"\",VLOOKUP($C29,RAMP!$C$1:$X$20,I$11-$D$11+2,FALSE))","v":0.64531010862708205},{"$f":"IF(ISBLANK($C29),\"\",VLOOKUP($C29,RAMP!$C$1:$X$20,J$11-$D$11+2,FALSE))","v":0.7240598167985226},{"$f":"IF(ISBLANK($C29),\"\",VLOOKUP($C29,RAMP!$C$1:$X$20,K$11-$D$11+2,FALSE))","v":0.78705958333567505},{"$f":"IF(ISBLANK($C29),\"\",VLOOKUP($C29,RAMP!$C$1:$X$20,L$11-$D$11+2,FALSE))","v":0.83745939656539703},{"$f":"IF(ISBLANK($C29),\"\",VLOOKUP($C29,RAMP!$C$1:$X$20,M$11-$D$11+2,FALSE))","v":0.87777924714917455},{"$f":"IF(ISBLANK($C29),\"\",VLOOKUP($C29,RAMP!$C$1:$X$20,N$11-$D$11+2,FALSE))","v":0.91003512761619654},{"$f":"IF(ISBLANK($C29),\"\",VLOOKUP($C29,RAMP!$C$1:$X$20,O$11-$D$11+2,FALSE))","v":0.93583983198981413},{"$f":"IF(ISBLANK($C29),\"\",VLOOKUP($C29,RAMP!$C$1:$X$20,P$11-$D$11+2,FALSE))","v":0.9564835954887082},{"$f":"IF(ISBLANK($C29),\"\",VLOOKUP($C29,RAMP!$C$1:$X$20,Q$11-$D$11+2,FALSE))","v":0.97299860628782353},{"$f":"IF(ISBLANK($C29),\"\",VLOOKUP($C29,RAMP!$C$1:$X$20,R$11-$D$11+2,FALSE))","v":0.9862106149271157},{"$f":"IF(ISBLANK($C29),\"\",VLOOKUP($C29,RAMP!$C$1:$X$20,S$11-$D$11+2,FALSE))","v":0.99678022183854953},{"$f":"IF(ISBLANK($C29),\"\",VLOOKUP($C29,RAMP!$C$1:$X$20,T$11-$D$11+2,FALSE))","v":0.99685231466234414},{"$f":"IF(ISBLANK($C29),\"\",VLOOKUP($C29,RAMP!$C$1:$X$20,U$11-$D$11+2,FALSE))","v":0.99687806209941365},{"$f":"IF(ISBLANK($C29),\"\",VLOOKUP($C29,RAMP!$C$1:$X$20,V$11-$D$11+2,FALSE))","v":0.99688683963477831},{"$f":"IF(ISBLANK($C29),\"\",VLOOKUP($C29,RAMP!$C$1:$X$20,W$11-$D$11+2,FALSE))","v":0.99688970187457115},0.85]
[{"$f":"MLIST!A30","v":"HVAC"},{"$f":"MLIST!D30","v":"DHP-Retro"},"Retro12Med",{"$f":"IF(ISBLANK($C30),\"\",VLOOKUP($C30,RAMP!$C$1:$X$20,D$11-$D$11+2,FALSE))","v":0.10937459468255628},{"$f":"IF(ISBLANK($C30),\"\",VLOOKUP($C30,RAMP!$C$1:$X$20,E$11-$D$11+2,FALSE))","v":0.10937459468255628},{"$f":"IF(ISBLANK($C30),\"\",VLOOKUP($C30,RAMP!$C$1:$X$20,F$11-$D$11+2,FALSE))","v":0.10937459468255628},{"$f":"IF(ISBLANK($C30),\"\",VLOOKUP($C30,RAMP!$C$1:$X$20,G$11-$D$11+2,FALSE))","v":0.10937459468255628},{"$f":"IF(ISBLANK($C30),\"\",VLOOKUP($C30,RAMP!$C$1:$X$20,H$11-$D$11+2,FALSE))","v":0.10937459468255628},{"$f":"IF(ISBLANK($C30),\"\",VLOOKUP($C30,RAMP!$C$1:$X$20,I$11-$D$11+2,FALSE))","v":9.8437135214300656E-2},{"$f":"IF(ISBLANK($C30),\"\",VLOOKUP($C30,RAMP!$C$1:$X$20,J$11-$D$11+2,FALSE))","v":7.874970817144053E-2},{"$f":"IF(ISBLANK($C30),\"\",VLOOKUP($C30,RAMP!$C$1:$X$20,K$11-$D$11+2,FALSE))","v":6.2999766537152418E-2},{"$f":"IF(ISBLANK($C30),\"\",VLOOKUP($C30,RAMP!$C$1:$X$20,L$11-$D$11+2,FALSE))","v":5.0399813229721938E-2},{"$f":"IF(ISBLANK($C30),\"\",VLOOKUP($C30,RAMP!$C$1:$X$20,M$11-$D$11+2,FALSE))","v":4.0319850583777551E-2},{"$f":"IF(ISBLANK($C30),\"\",VLOOKUP($C30,RAMP!$C$1:$X$20,N$11-$D$11+2,FALSE))","v":3.225588046702204E-2},{"$f":"IF(ISBLANK($C30),\"\",VLOOKUP($C30,RAMP!$C$1:$X$20,O$11-$D$11+2,FALSE))","v":2.5804704373617631E-2},{"$f":"IF(ISBLANK($C30),\"\",VLOOKUP($C30,RAMP!$C$1:$X$20,P$11-$D$11+2,FALSE))","v":2.0643763498894106E-2},{"$f":"IF(ISBLANK($C30),\"\",VLOOKUP($C30,RAMP!$C$1:$X$20,Q$11-$D$11+2,FALSE))","v":1.6515010799115284E-2},{"$f":"IF(ISBLANK($C30),\"\",VLOOKUP($C30,RAMP!$C$1:$X$20,R$11-$D$11+2,FALSE))","v":1.3212008639292228E-2},{"$f":"IF(ISBLANK($C30),\"\",VLOOKUP($C30,RAMP!$C$1:$X$20,S$11-$D$11+2,FALSE))","v":1.0569606911433781E-2},{"$f":"IF(ISBLANK($C30),\"\",VLOOKUP($C30,RAMP!$C$1:$X$20,T$11-$D$11+2,FALSE))","v":7.2092823794611682E-5},{"$f":"IF(ISBLANK($C30),\"\",VLOOKUP($C30,RAMP!$C$1:$X$20,U$11-$D$11+2,FALSE))","v":2.5747437069512102E-5},{"$f":"IF(ISBLANK($C30),\"\",VLOOKUP($C30,RAMP!$C$1:$X$20,V$11-$D$11+2,FALSE))","v":8.7775353646568632E-6},{"$f":"IF(ISBLANK($C30),\"\",VLOOKUP($C30,RAMP!$C$1:$X$20,W$11-$D$11+2,FALSE))","v":2.8622397928446119E-6},0.85]
[{"$f":"MLIST!A31","v":"HVAC"},{"$f":"MLIST!D31","v":"Glass-New"},"LO1Slow",{"$f":"IF(ISBLANK($C31),\"\",VLOOKUP($C31,RAMP!$C$1:$X$20,D$11-$D$11+2,FALSE))","v":5.0000000000000001E-3},{"$f":"IF(ISBLANK($C31),\"\",VLOOKUP($C31,RAMP!$C$1:$X$20,E$11-$D$11+2,FALSE))","v":7.6904586297764643E-3},{"$f":"IF(ISBLANK($C31),\"\",VLOOKUP($C31,RAMP!$C$1:$X$20,F$11-$D$11+2,FALSE))","v":1.6792013047419844E-2},{"$f":"IF(ISBLANK($C31),\"\",VLOOKUP($C31,RAMP!$C$1:$X$20,G$11-$D$11+2,FALSE))","v":3.15969387774655E-2},{"$f":"IF(ISBLANK($C31),\"\",VLOOKUP($C31,RAMP!$C$1:$X$20,H$11-$D$11+2,FALSE))","v":5.406874819795171E-2},{"$f":"IF(ISBLANK($C31),\"\",VLOOKUP($C31,RAMP!$C$1:$X$20,I$11-$D$11+2,FALSE))","v":8.6253181011834101E-2},{"$f":"IF(ISBLANK($C31),\"\",VLOOKUP($C31,RAMP!$C$1:$X$20,J$11-$D$11+2,FALSE))","v":0.1300328481838382},{"$f":"IF(ISBLANK($C31),\"\",VLOOKUP($C31,RAMP!$C$1:$X$20,K$11-$D$11+2,FALSE))","v":0.18678710893858319},{"$f":"IF(ISBLANK($C31),\"\",VLOOKUP($C31,RAMP!$C$1:$X$20,L$11-$D$11+2,FALSE))","v":0.2569823480072907},{"$f":"IF(ISBLANK($C31),\"\",VLOOKUP($C31,RAMP!$C$1:$X$20,M$11-$D$11+2,FALSE))","v":0.33975920985004748},{"$f":"IF(ISBLANK($C31),\"\",VLOOKUP($C31,RAMP!$C$1:$X$20,N$11-$D$11+2,FALSE))","v":0.43262946935754232},{"$f":"IF(ISBLANK($C31),\"\",VLOOKUP($C31,RAMP!$C$1:$X$20,O$11-$D$11+2,FALSE))","v":0.53142594003645804},{"$f":"IF(ISBLANK($C31),\"\",VLOOKUP($C31,RAMP!$C$1:$X$20,P$11-$D$11+2,FALSE))","v":0.63063487292644704},{"$f":"IF(ISBLANK($C31),\"\",VLOOKUP($C31,RAMP!$C$1:$X$20,Q$11-$D$11+2,FALSE))","v":0.7241560234206913},{"$f":"IF(ISBLANK($C31),\"\",VLOOKUP($C31,RAMP!$C$1:$X$20,R$11-$D$11+2,FALSE))","v":0.80638203131755359},{"$f":"IF(ISBLANK($C31),\"\",VLOOKUP($C31,RAMP!$C$1:$X$20,S$11-$D$11+2,FALSE))","v":0.87331559734491926},{"$f":"IF(ISBLANK($C31),\"\",VLOOKUP($C31,RAMP!$C$1:$X$20,T$11-$D$11+2,FALSE))","v":0.92334516248836807},{"$f":"IF(ISBLANK($C31),\"\",VLOOKUP($C31,RAMP!$C$1:$X$20,U$11-$D$11+2,FALSE))","v":0.96},{"$f":"IF(ISBLANK($C31),\"\",VLOOKUP($C31,RAMP!$C$1:$X$20,V$11-$D$11+2,FALSE))","v":0.98},{"$f":"IF(ISBLANK($C31),\"\",VLOOKUP($C31,RAMP!$C$1:$X$20,W$11-$D$11+2,FALSE))","v":0.996},0.95]
[{"$f":"MLIST!A32","v":"HVAC"},{"$f":"MLIST!D32","v":"Glass-NR"},"LO1Slow",{"$f":"IF(ISBLANK($C32),\"\",VLOOKUP($C32,RAMP!$C$1:$X$20,D$11-$D$11+2,FALSE))","v":5.0000000000000001E-3},{"$f":"IF(ISBLANK($C32),\"\",VLOOKUP($C32,RAMP!$C$1:$X$20,E$11-$D$11+2,FALSE))","v":7.6904586297764643E-3},{"$f":"IF(ISBLANK($C32),\"\",VLOOKUP($C32,RAMP!$C$1:$X$20,F$11-$D$11+2,FALSE))","v":1.6792013047419844E-2},{"$f":"IF(ISBLANK($C32),\"\",VLOOKUP($C32,RAMP!$C$1:$X$20,G$11-$D$11+2,FALSE))","v":3.15969387774655E-2},{"$f":"IF(ISBLANK($C32),\"\",VLOOKUP($C32,RAMP!$C$1:$X$20,H$11-$D$11+2,FALSE))","v":5.406874819795171E-2},{"$f":"IF(ISBLANK($C32),\"\",VLOOKUP($C32,RAMP!$C$1:$X$20,I$11-$D$11+2,FALSE))","v":8.6253181011834101E-2},{"$f":"IF(ISBLANK($C32),\"\",VLOOKUP($C32,RAMP!$C$1:$X$20,J$11-$D$11+2,FALSE))","v":0.1300328481838382},{"$f":"IF(ISBLANK($C32),\"\",VLOOKUP($C32,RAMP!$C$1:$X$20,K$11-$D$11+2,FALSE))","v":0.18678710893858319},{"$f":"IF(ISBLANK($C32),\"\",VLOOKUP($C32,RAMP!$C$1:$X$20,L$11-$D$11+2,FALSE))","v":0.2569823480072907},{"$f":"IF(ISBLANK($C32),\"\",VLOOKUP($C32,RAMP!$C$1:$X$20,M$11-$D$11+2,FALSE))","v":0.33975920985004748},{"$f":"IF(ISBLANK($C32),\"\",VLOOKUP($C32,RAMP!$C$1:$X$20,N$11-$D$11+2,FALSE))","v":0.43262946935754232},{"$f":"IF(ISBLANK($C32),\"\",VLOOKUP($C32,RAMP!$C$1:$X$20,O$11-$D$11+2,FALSE))","v":0.53142594003645804},{"$f":"IF(ISBLANK($C32),\"\",VLOOKUP($C32,RAMP!$C$1:$X$20,P$11-$D$11+2,FALSE))","v":0.63063487292644704},{"$f":"IF(ISBLANK($C32),\"\",VLOOKUP($C32,RAMP!$C$1:$X$20,Q$11-$D$11+2,FALSE))","v":0.7241560234206913},{"$f":"IF(ISBLANK($C32),\"\",VLOOKUP($C32,RAMP!$C$1:$X$20,R$11-$D$11+2,FALSE))","v":0.80638203131755359},{"$f":"IF(ISBLANK($C32),\"\",VLOOKUP($C32,RAMP!$C$1:$X$20,S$11-$D$11+2,FALSE))","v":0.87331559734491926},{"$f":"IF(ISBLANK($C32),\"\",VLOOKUP($C32,RAMP!$C$1:$X$20,T$11-$D$11+2,FALSE))","v":0.92334516248836807},{"$f":"IF(ISBLANK($C32),\"\",VLOOKUP($C32,RAMP!$C$1:$X$20,U$11-$D$11+2,FALSE))","v":0.96},{"$f":"IF(ISBLANK($C32),\"\",VLOOKUP($C32,RAMP!$C$1:$X$20,V$11-$D$11+2,FALSE))","v":0.98},{"$f":"IF(ISBLANK($C32),\"\",VLOOKUP($C32,RAMP!$C$1:$X$20,W$11-$D$11+2,FALSE))","v":0.996},0.95]
[{"$f":"MLIST!A33","v":"HVAC"},{"$f":"MLIST!D33","v":"ARC-New"},"LO3Slow",{"$f":"IF(ISBLANK($C33),\"\",VLOOKUP($C33,RAMP!$C$1:$X$20,D$11-$D$11+2,FALSE))","v":5.5320496977002724E-3},{"$f":"IF(ISBLANK($C33),\"\",VLOOKUP($C33,RAMP!$C$1:$X$20,E$11-$D$11+2,FALSE))","v":1.4227918344261844E-2},{"$f":"IF(ISBLANK($C33),\"\",VLOOKUP($C33,RAMP!$C$1:$X$20,F$11-$D$11+2,FALSE))","v":3.1619655637384989E-2},{"$f":"IF(ISBLANK($C33),\"\",VLOOKUP($C33,RAMP!$C$1:$X$20,G$11-$D$11+2,FALSE))","v":6.2055195900350503E-2},{"$f":"IF(ISBLANK($C33),\"\",VLOOKUP($C33,RAMP!$C$1:$X$20,H$11-$D$11+2,FALSE))","v":0.10939936964274129},{"$f":"IF(ISBLANK($C33),\"\",VLOOKUP($C33,RAMP!$C$1:$X$20,I$11-$D$11+2,FALSE))","v":0.17568121288208835},{"$f":"IF(ISBLANK($C33),\"\",VLOOKUP($C33,RAMP!$C$1:$X$20,J$11-$D$11+2,FALSE))","v":0.26003992245943919},{"$f":"IF(ISBLANK($C33),\"\",VLOOKUP($C33,RAMP!$C$1:$X$20,K$11-$D$11+2,FALSE))","v":0.3584584169663485},{"$f":"IF(ISBLANK($C33),\"\",VLOOKUP($C33,RAMP!$C$1:$X$20,L$11-$D$11+2,FALSE))","v":0.46444756489686617},{"$f":"IF(ISBLANK($C33),\"\",VLOOKUP($C33,RAMP!$C$1:$X$20,M$11-$D$11+2,FALSE))","v":0.57043671282738384},{"$f":"IF(ISBLANK($C33),\"\",VLOOKUP($C33,RAMP!$C$1:$X$20,N$11-$D$11+2,FALSE))","v":0.66935991756253377},{"$f":"IF(ISBLANK($C33),\"\",VLOOKUP($C33,RAMP!$C$1:$X$20,O$11-$D$11+2,FALSE))","v":0.75591772170578986},{"$f":"IF(ISBLANK($C33),\"\",VLOOKUP($C33,RAMP!$C$1:$X$20,P$11-$D$11+2,FALSE))","v":0.82720061923553012},{"$f":"IF(ISBLANK($C33),\"\",VLOOKUP($C33,RAMP!$C$1:$X$20,Q$11-$D$11+2,FALSE))","v":0.88264287286977261},{"$f":"IF(ISBLANK($C33),\"\",VLOOKUP($C33,RAMP!$C$1:$X$20,R$11-$D$11+2,FALSE))","v":0.92349505975816193},{"$f":"IF(ISBLANK($C33),\"\",VLOOKUP($C33,RAMP!$C$1:$X$20,S$11-$D$11+2,FALSE))","v":0.95209159058003434},{"$f":"IF(ISBLANK($C33),\"\",VLOOKUP($C33,RAMP!$C$1:$X$20,T$11-$D$11+2,FALSE))","v":0.97115594446128262},{"$f":"IF(ISBLANK($C33),\"\",VLOOKUP($C33,RAMP!$C$1:$X$20,U$11-$D$11+2,FALSE))","v":0.98328780602207699},{"$f":"IF(ISBLANK($C33),\"\",VLOOKUP($C33,RAMP!$C$1:$X$20,V$11-$D$11+2,FALSE))","v":0.99067241740690848},{"$f":"IF(ISBLANK($C33),\"\",VLOOKUP($C33,RAMP!$C$1:$X$20,W$11-$D$11+2,FALSE))","v":0.996},0.95]
[{"$f":"MLIST!A34","v":"HVAC"},{"$f":"MLIST!D34","v":"ARC-NR"},"LO3Slow",{"$f":"IF(ISBLANK($C34),\"\",VLOOKUP($C34,RAMP!$C$1:$X$20,D$11-$D$11+2,FALSE))","v":5.5320496977002724E-3},{"$f":"IF(ISBLANK($C34),\"\",VLOOKUP($C34,RAMP!$C$1:$X$20,E$11-$D$11+2,FALSE))","v":1.4227918344261844E-2},{"$f":"IF(ISBLANK($C34),\"\",VLOOKUP($C34,RAMP!$C$1:$X$20,F$11-$D$11+2,FALSE))","v":3.1619655637384989E-2},{"$f":"IF(ISBLANK($C34),\"\",VLOOKUP($C34,RAMP!$C$1:$X$20,G$11-$D$11+2,FALSE))","v":6.2055195900350503E-2},{"$f":"IF(ISBLANK($C34),\"\",VLOOKUP($C34,RAMP!$C$1:$X$20,H$11-$D$11+2,FALSE))","v":0.10939936964274129},{"$f":"IF(ISBLANK($C34),\"\",VLOOKUP($C34,RAMP!$C$1:$X$20,I$11-$D$11+2,FALSE))","v":0.17568121288208835},{"$f":"IF(ISBLANK($C34),\"\",VLOOKUP($C34,RAMP!$C$1:$X$20,J$11-$D$11+2,FALSE))","v":0.26003992245943919},{"$f":"IF(ISBLANK($C34),\"\",VLOOKUP($C34,RAMP!$C$1:$X$20,K$11-$D$11+2,FALSE))","v":0.3584584169663485},{"$f":"IF(ISBLANK($C34),\"\",VLOOKUP($C34,RAMP!$C$1:$X$20,L$11-$D$11+2,FALSE))","v":0.46444756489686617},{"$f":"IF(ISBLANK($C34),\"\",VLOOKUP($C34,RAMP!$C$1:$X$20,M$11-$D$11+2,FALSE))","v":0.57043671282738384},{"$f":"IF(ISBLANK($C34),\"\",VLOOKUP($C34,RAMP!$C$1:$X$20,N$11-$D$11+2,FALSE))","v":0.66935991756253377},{"$f":"IF(ISBLANK($C34),\"\",VLOOKUP($C34,RAMP!$C$1:$X$20,O$11-$D$11+2,FALSE))","v":0.75591772170578986},{"$f":"IF(ISBLANK($C34),\"\",VLOOKUP($C34,RAMP!$C$1:$X$20,P$11-$D$11+2,FALSE))","v":0.82720061923553012},{"$f":"IF(ISBLANK($C34),\"\",VLOOKUP($C34,RAMP!$C$1:$X$20,Q$11-$D$11+2,FALSE))","v":0.88264287286977261},{"$f":"IF(ISBLANK($C34),\"\",VLOOKUP($C34,RAMP!$C$1:$X$20,R$11-$D$11+2,FALSE))","v":0.92349505975816193},{"$f":"IF(ISBLANK($C34),\"\",VLOOKUP($C34,RAMP!$C$1:$X$20,S$11-$D$11+2,FALSE))","v":0.95209159058003434},{"$f":"IF(ISBLANK($C34),\"\",VLOOKUP($C34,RAMP!$C$1:$X$20,T$11-$D$11+2,FALSE))","v":0.97115594446128262},{"$f":"IF(ISBLANK($C34),\"\",VLOOKUP($C34,RAMP!$C$1:$X$20,U$11-$D$11+2,FALSE))","v":0.98328780602207699},{"$f":"IF(ISBLANK($C34),\"\",VLOOKUP($C34,RAMP!$C$1:$X$20,V$11-$D$11+2,FALSE))","v":0.99067241740690848},{"$f":"IF(ISBLANK($C34),\"\",VLOOKUP($C34,RAMP!$C$1:$X$20,W$11-$D$11+2,FALSE))","v":0.996},0.85]
[{"$f":"MLIST!A35","v":"HVAC"},{"$f":"MLIST!D35","v":"ARC-Retro"},"Retro5Med",{"$f":"IF(ISBLANK($C35),\"\",VLOOKUP($C35,RAMP!$C$1:$X$20,D$11-$D$11+2,FALSE))","v":4.2999999999999997E-2},{"$f":"IF(ISBLANK($C35),\"\",VLOOKUP($C35,RAMP!$C$1:$X$20,E$11-$D$11+2,FALSE))","v":5.279714228027832E-2},{"$f":"IF(ISBLANK($C35),\"\",VLOOKUP($C35,RAMP!$C$1:$X$20,F$11-$D$11+2,FALSE))","v":6.4608251467478173E-2},{"$f":"IF(ISBLANK($C35),\"\",VLOOKUP($C35,RAMP!$C$1:$X$20,G$11-$D$11+2,FALSE))","v":7.4999999999999997E-2},{"$f":"IF(ISBLANK($C35),\"\",VLOOKUP($C35,RAMP!$C$1:$X$20,H$11-$D$11+2,FALSE))","v":8.5546997470333563E-2},{"$f":"IF(ISBLANK($C35),\"\",VLOOKUP($C35,RAMP!$C$1:$X$20,I$11-$D$11+2,FALSE))","v":0.10001472303820647},{"$f":"IF(ISBLANK($C35),\"\",VLOOKUP($C35,RAMP!$C$1:$X$20,J$11-$D$11+2,FALSE))","v":0.10971770435235073},{"$f":"IF(ISBLANK($C35),\"\",VLOOKUP($C35,RAMP!$C$1:$X$20,K$11-$D$11+2,FALSE))","v":0.11208438511970376},{"$f":"IF(ISBLANK($C35),\"\",VLOOKUP($C35,RAMP!$C$1:$X$20,L$11-$D$11+2,FALSE))","v":0.10562608162722853},{"$f":"IF(ISBLANK($C35),\"\",VLOOKUP($C35,RAMP!$C$1:$X$20,M$11-$D$11+2,FALSE))","v":9.0794563997872335E-2},{"$f":"IF(ISBLANK($C35),\"\",VLOOKUP($C35,RAMP!$C$1:$X$20,N$11-$D$11+2,FALSE))","v":7.0260666991849297E-2},{"$f":"IF(ISBLANK($C35),\"\",VLOOKUP($C35,RAMP!$C$1:$X$20,O$11-$D$11+2,FALSE))","v":4.65E-2},{"$f":"IF(ISBLANK($C35),\"\",VLOOKUP($C35,RAMP!$C$1:$X$20,P$11-$D$11+2,FALSE))","v":2.7E-2},{"$f":"IF(ISBLANK($C35),\"\",VLOOKUP($C35,RAMP!$C$1:$X$20,Q$11-$D$11+2,FALSE))","v":1.2999999999999999E-2},{"$f":"IF(ISBLANK($C35),\"\",VLOOKUP($C35,RAMP!$C$1:$X$20,R$11-$D$11+2,FALSE))","v":5.4999999999999997E-3},{"$f":"IF(ISBLANK($C35),\"\",VLOOKUP($C35,RAMP!$C$1:$X$20,S$11-$D$11+2,FALSE))","v":2E-3},{"$f":"IF(ISBLANK($C35),\"\",VLOOKUP($C35,RAMP!$C$1:$X$20,T$11-$D$11+2,FALSE))","v":6.2471001963848583E-4},{"$f":"IF(ISBLANK($C35),\"\",VLOOKUP($C35,RAMP!$C$1:$X$20,U$11-$D$11+2,FALSE))","v":1.3615841889635938E-4},{"$f":"IF(ISBLANK($C35),\"\",VLOOKUP($C35,RAMP!$C$1:$X$20,V$11-$D$11+2,FALSE))","v":2.2380636622298944E-5},{"$f":"IF(ISBLANK($C35),\"\",VLOOKUP($C35,RAMP!$C$1:$X$20,W$11-$D$11+2,FALSE))","v":2.68643837586513E-6},0.85]
[{"$f":"MLIST!A36","v":"HVAC"},{"$f":"MLIST!D36","v":"Chiller-Upgrade-New"},"LOEven20",{"$f":"IF(ISBLANK($C36),\"\",VLOOKUP($C36,RAMP!$C$1:$X$20,D$11-$D$11+2,FALSE))","v":0.05},{"$f":"IF(ISBLANK($C36),\"\",VLOOKUP($C36,RAMP!$C$1:$X$20,E$11-$D$11+2,FALSE))","v":0.1},{"$f":"IF(ISBLANK($C36),\"\",VLOOKUP($C36,RAMP!$C$1:$X$20,F$11-$D$11+2,FALSE))","v":0.15000000000000002},{"$f":"IF(ISBLANK($C36),\"\",VLOOKUP($C36,RAMP!$C$1:$X$20,G$11-$D$11+2,FALSE))","v":0.2},{"$f":"IF(ISBLANK($C36),\"\",VLOOKUP($C36,RAMP!$C$1:$X$20,H$11-$D$11+2,FALSE))","v":0.25},{"$f":"IF(ISBLANK($C36),\"\",VLOOKUP($C36,RAMP!$C$1:$X$20,I$11-$D$11+2,FALSE))","v":0.3},{"$f":"IF(ISBLANK($C36),\"\",VLOOKUP($C36,RAMP!$C$1:$X$20,J$11-$D$11+2,FALSE))","v":0.35},{"$f":"IF(ISBLANK($C36),\"\",VLOOKUP($C36,RAMP!$C$1:$X$20,K$11-$D$11+2,FALSE))","v":0.39999999999999997},{"$f":"IF(ISBLANK($C36),\"\",VLOOKUP($C36,RAMP!$C$1:$X$20,L$11-$D$11+2,FALSE))","v":0.44999999999999996},{"$f":"IF(ISBLANK($C36),\"\",VLOOKUP($C36,RAMP!$C$1:$X$20,M$11-$D$11+2,FALSE))","v":0.49999999999999994},{"$f":"IF(ISBLANK($C36),\"\",VLOOKUP($C36,RAMP!$C$1:$X$20,N$11-$D$11+2,FALSE))","v":0.54999999999999993},{"$f":"IF(ISBLANK($C36),\"\",VLOOKUP($C36,RAMP!$C$1:$X$20,O$11-$D$11+2,FALSE))","v":0.6},{"$f":"IF(ISBLANK($C36),\"\",VLOOKUP($C36,RAMP!$C$1:$X$20,P$11-$D$11+2,FALSE))","v":0.65},{"$f":"IF(ISBLANK($C36),\"\",VLOOKUP($C36,RAMP!$C$1:$X$20,Q$11-$D$11+2,FALSE))","v":0.70000000000000007},{"$f":"IF(ISBLANK($C36),\"\",VLOOKUP($C36,RAMP!$C$1:$X$20,R$11-$D$11+2,FALSE))","v":0.75000000000000011},{"$f":"IF(ISBLANK($C36),\"\",VLOOKUP($C36,RAMP!$C$1:$X$20,S$11-$D$11+2,FALSE))","v":0.80000000000000016},{"$f":"IF(ISBLANK($C36),\"\",VLOOKUP($C36,RAMP!$C$1:$X$20,T$11-$D$11+2,FALSE))","v":0.8500000000000002},{"$f":"IF(ISBLANK($C36),\"\",VLOOKUP($C36,RAMP!$C$1:$X$20,U$11-$D$11+2,FALSE))","v":0.90000000000000024},{"$f":"IF(ISBLANK($C36),\"\",VLOOKUP($C36,RAMP!$C$1:$X$20,V$11-$D$11+2,FALSE))","v":0.95000000000000029},{"$f":"IF(ISBLANK($C36),\"\",VLOOKUP($C36,RAMP!$C$1:$X$20,W$11-$D$11+2,FALSE))","v":1.0000000000000002},0.85]
[{"$f":"MLIST!A37","v":"HVAC"},{"$f":"MLIST!D37","v":"Chiller-Upgrade-NR"},"LOEven20",{"$f":"IF(ISBLANK($C37),\"\",VLOOKUP($C37,RAMP!$C$1:$X$20,D$11-$D$11+2,FALSE))","v":0.05},{"$f":"IF(ISBLANK($C37),\"\",VLOOKUP($C37,RAMP!$C$1:$X$20,E$11-$D$11+2,FALSE))","v":0.1},{"$f":"IF(ISBLANK($C37),\"\",VLOOKUP($C37,RAMP!$C$1:$X$20,F$11-$D$11+2,FALSE))","v":0.15000000000000002},{"$f":"IF(ISBLANK($C37),\"\",VLOOKUP($C37,RAMP!$C$1:$X$20,G$11-$D$11+2,FALSE))","v":0.2},{"$f":"IF(ISBLANK($C37),\"\",VLOOKUP($C37,RAMP!$C$1:$X$20,H$11-$D$11+2,FALSE))","v":0.25},{"$f":"IF(ISBLANK($C37),\"\",VLOOKUP($C37,RAMP!$C$1:$X$20,I$11-$D$11+2,FALSE))","v":0.3},{"$f":"IF(ISBLANK($C37),\"\",VLOOKUP($C37,RAMP!$C$1:$X$20,J$11-$D$11+2,FALSE))","v":0.35},{"$f":"IF(ISBLANK($C37),\"\",VLOOKUP($C37,RAMP!$C$1:$X$20,K$11-$D$11+2,FALSE))","v":0.39999999999999997},{"$f":"IF(ISBLANK($C37),\"\",VLOOKUP($C37,RAMP!$C$1:$X$20,L$11-$D$11+2,FALSE))","v":0.44999999999999996},{"$f":"IF(ISBLANK($C37),\"\",VLOOKUP($C37,RAMP!$C$1:$X$20,M$11-$D$11+2,FALSE))","v":0.49999999999999994},{"$f":"IF(ISBLANK($C37),\"\",VLOOKUP($C37,RAMP!$C$1:$X$20,N$11-$D$11+2,FALSE))","v":0.54999999999999993},{"$f":"IF(ISBLANK($C37),\"\",VLOOKUP($C37,RAMP!$C$1:$X$20,O$11-$D$11+2,FALSE))","v":0.6},{"$f":"IF(ISBLANK($C37),\"\",VLOOKUP($C37,RAMP!$C$1:$X$20,P$11-$D$11+2,FALSE))","v":0.65},{"$f":"IF(ISBLANK($C37),\"\",VLOOKUP($C37,RAMP!$C$1:$X$20,Q$11-$D$11+2,FALSE))","v":0.70000000000000007},{"$f":"IF(ISBLANK($C37),\"\",VLOOKUP($C37,RAMP!$C$1:$X$20,R$11-$D$11+2,FALSE))","v":0.75000000000000011},{"$f":"IF(ISBLANK($C37),\"\",VLOOKUP($C37,RAMP!$C$1:$X$20,S$11-$D$11+2,FALSE))","v":0.80000000000000016},{"$f":"IF(ISBLANK($C37),\"\",VLOOKUP($C37,RAMP!$C$1:$X$20,T$11-$D$11+2,FALSE))","v":0.8500000000000002},{"$f":"IF(ISBLANK($C37),\"\",VLOOKUP($C37,RAMP!$C$1:$X$20,U$11-$D$11+2,FALSE))","v":0.90000000000000024},{"$f":"IF(ISBLANK($C37),\"\",VLOOKUP($C37,RAMP!$C$1:$X$20,V$11-$D$11+2,FALSE))","v":0.95000000000000029},{"$f":"IF(ISBLANK($C37),\"\",VLOOKUP($C37,RAMP!$C$1:$X$20,W$11-$D$11+2,FALSE))","v":1.0000000000000002},0.85]
[{"$f":"MLIST!A38","v":"HVAC"},{"$f":"MLIST!D38","v":"Chiller-System-Retro"},"Retro12Med",{"$f":"IF(ISBLANK($C38),\"\",VLOOKUP($C38,RAMP!$C$1:$X$20,D$11-$D$11+2,FALSE))","v":0.10937459468255628},{"$f":"IF(ISBLANK($C38),\"\",VLOOKUP($C38,RAMP!$C$1:$X$20,E$11-$D$11+2,FALSE))","v":0.10937459468255628},{"$f":"IF(ISBLANK($C38),\"\",VLOOKUP($C38,RAMP!$C$1:$X$20,F$11-$D$11+2,FALSE))","v":0.10937459468255628},{"$f":"IF(ISBLANK($C38),\"\",VLOOKUP($C38,RAMP!$C$1:$X$20,G$11-$D$11+2,FALSE))","v":0.10937459468255628},{"$f":"IF(ISBLANK($C38),\"\",VLOOKUP($C38,RAMP!$C$1:$X$20,H$11-$D$11+2,FALSE))","v":0.10937459468255628},{"$f":"IF(ISBLANK($C38),\"\",VLOOKUP($C38,RAMP!$C$1:$X$20,I$11-$D$11+2,FALSE))","v":9.8437135214300656E-2},{"$f":"IF(ISBLANK($C38),\"\",VLOOKUP($C38,RAMP!$C$1:$X$20,J$11-$D$11+2,FALSE))","v":7.874970817144053E-2},{"$f":"IF(ISBLANK($C38),\"\",VLOOKUP($C38,RAMP!$C$1:$X$20,K$11-$D$11+2,FALSE))","v":6.2999766537152418E-2},{"$f":"IF(ISBLANK($C38),\"\",VLOOKUP($C38,RAMP!$C$1:$X$20,L$11-$D$11+2,FALSE))","v":5.0399813229721938E-2},{"$f":"IF(ISBLANK($C38),\"\",VLOOKUP($C38,RAMP!$C$1:$X$20,M$11-$D$11+2,FALSE))","v":4.0319850583777551E-2},{"$f":"IF(ISBLANK($C38),\"\",VLOOKUP($C38,RAMP!$C$1:$X$20,N$11-$D$11+2,FALSE))","v":3.225588046702204E-2},{"$f":"IF(ISBLANK($C38),\"\",VLOOKUP($C38,RAMP!$C$1:$X$20,O$11-$D$11+2,FALSE))","v":2.5804704373617631E-2},{"$f":"IF(ISBLANK($C38),\"\",VLOOKUP($C38,RAMP!$C$1:$X$20,P$11-$D$11+2,FALSE))","v":2.0643763498894106E-2},{"$f":"IF(ISBLANK($C38),\"\",VLOOKUP($C38,RAMP!$C$1:$X$20,Q$11-$D$11+2,FALSE))","v":1.6515010799115284E-2},{"$f":"IF(ISBLANK($C38),\"\",VLOOKUP($C38,RAMP!$C$1:$X$20,R$11-$D$11+2,FALSE))","v":1.3212008639292228E-2},{"$f":"IF(ISBLANK($C38),\"\",VLOOKUP($C38,RAMP!$C$1:$X$20,S$11-$D$11+2,FALSE))","v":1.0569606911433781E-2},{"$f":"IF(ISBLANK($C38),\"\",VLOOKUP($C38,RAMP!$C$1:$X$20,T$11-$D$11+2,FALSE))","v":7.2092823794611682E-5},{"$f":"IF(ISBLANK($C38),\"\",VLOOKUP($C38,RAMP!$C$1:$X$20,U$11-$D$11+2,FALSE))","v":2.5747437069512102E-5},{"$f":"IF(ISBLANK($C38),\"\",VLOOKUP($C38,RAMP!$C$1:$X$20,V$11-$D$11+2,FALSE))","v":8.7775353646568632E-6},{"$f":"IF(ISBLANK($C38),\"\",VLOOKUP($C38,RAMP!$C$1:$X$20,W$11-$D$11+2,FALSE))","v":2.8622397928446119E-6},0.85]
[{"$f":"MLIST!A39","v":"HVAC"},{"$f":"MLIST!D39","v":"Fans-Retro"},"RetroEven20",{"$f":"IF(ISBLANK($C39),\"\",VLOOKUP($C39,RAMP!$C$1:$X$20,D$11-$D$11+2,FALSE))","v":0.05},{"$f":"IF(ISBLANK($C39),\"\",VLOOKUP($C39,RAMP!$C$1:$X$20,E$11-$D$11+2,FALSE))","v":0.05},{"$f":"IF(ISBLANK($C39),\"\",VLOOKUP($C39,RAMP!$C$1:$X$20,F$11-$D$11+2,FALSE))","v":0.05},{"$f":"IF(ISBLANK($C39),\"\",VLOOKUP($C39,RAMP!$C$1:$X$20,G$11-$D$11+2,FALSE))","v":0.05},{"$f":"IF(ISBLANK($C39),\"\",VLOOKUP($C39,RAMP!$C$1:$X$20,H$11-$D$11+2,FALSE))","v":0.05},{"$f":"IF(ISBLANK($C39),\"\",VLOOKUP($C39,RAMP!$C$1:$X$20,I$11-$D$11+2,FALSE))","v":0.05},{"$f":"IF(ISBLANK($C39),\"\",VLOOKUP($C39,RAMP!$C$1:$X$20,J$11-$D$11+2,FALSE))","v":0.05},{"$f":"IF(ISBLANK($C39),\"\",VLOOKUP($C39,RAMP!$C$1:$X$20,K$11-$D$11+2,FALSE))","v":0.05},{"$f":"IF(ISBLANK($C39),\"\",VLOOKUP($C39,RAMP!$C$1:$X$20,L$11-$D$11+2,FALSE))","v":0.05},{"$f":"IF(ISBLANK($C39),\"\",VLOOKUP($C39,RAMP!$C$1:$X$20,M$11-$D$11+2,FALSE))","v":0.05},{"$f":"IF(ISBLANK($C39),\"\",VLOOKUP($C39,RAMP!$C$1:$X$20,N$11-$D$11+2,FALSE))","v":0.05},{"$f":"IF(ISBLANK($C39),\"\",VLOOKUP($C39,RAMP!$C$1:$X$20,O$11-$D$11+2,FALSE))","v":0.05},{"$f":"IF(ISBLANK($C39),\"\",VLOOKUP($C39,RAMP!$C$1:$X$20,P$11-$D$11+2,FALSE))","v":0.05},{"$f":"IF(ISBLANK($C39),\"\",VLOOKUP($C39,RAMP!$C$1:$X$20,Q$11-$D$11+2,FALSE))","v":0.05},{"$f":"IF(ISBLANK($C39),\"\",VLOOKUP($C39,RAMP!$C$1:$X$20,R$11-$D$11+2,FALSE))","v":0.05},{"$f":"IF(ISBLANK($C39),\"\",VLOOKUP($C39,RAMP!$C$1:$X$20,S$11-$D$11+2,FALSE))","v":0.05},{"$f":"IF(ISBLANK($C39),\"\",VLOOKUP($C39,RAMP!$C$1:$X$20,T$11-$D$11+2,FALSE))","v":0.05},{"$f":"IF(ISBLANK($C39),\"\",VLOOKUP($C39,RAMP!$C$1:$X$20,U$11-$D$11+2,FALSE))","v":0.05},{"$f":"IF(ISBLANK($C39),\"\",VLOOKUP($C39,RAMP!$C$1:$X$20,V$11-$D$11+2,FALSE))","v":0.05},{"$f":"IF(ISBLANK($C39),\"\",VLOOKUP($C39,RAMP!$C$1:$X$20,W$11-$D$11+2,FALSE))","v":0.05},0.85]
[{"$f":"MLIST!A40","v":"HVAC"},{"$f":"MLIST!D40","v":"Fans-NR"},"LO5Med",{"$f":"IF(ISBLANK($C40),\"\",VLOOKUP($C40,RAMP!$C$1:$X$20,D$11-$D$11+2,FALSE))","v":4.2999999999999997E-2},{"$f":"IF(ISBLANK($C40),\"\",VLOOKUP($C40,RAMP!$C$1:$X$20,E$11-$D$11+2,FALSE))","v":9.5797142280278316E-2},{"$f":"IF(ISBLANK($C40),\"\",VLOOKUP($C40,RAMP!$C$1:$X$20,F$11-$D$11+2,FALSE))","v":0.16040539374775648},{"$f":"IF(ISBLANK($C40),\"\",VLOOKUP($C40,RAMP!$C$1:$X$20,G$11-$D$11+2,FALSE))","v":0.23540539374775649},{"$f":"IF(ISBLANK($C40),\"\",VLOOKUP($C40,RAMP!$C$1:$X$20,H$11-$D$11+2,FALSE))","v":0.32095239121809005},{"$f":"IF(ISBLANK($C40),\"\",VLOOKUP($C40,RAMP!$C$1:$X$20,I$11-$D$11+2,FALSE))","v":0.42096711425629652},{"$f":"IF(ISBLANK($C40),\"\",VLOOKUP($C40,RAMP!$C$1:$X$20,J$11-$D$11+2,FALSE))","v":0.53068481860864725},{"$f":"IF(ISBLANK($C40),\"\",VLOOKUP($C40,RAMP!$C$1:$X$20,K$11-$D$11+2,FALSE))","v":0.642769203728351},{"$f":"IF(ISBLANK($C40),\"\",VLOOKUP($C40,RAMP!$C$1:$X$20,L$11-$D$11+2,FALSE))","v":0.74839528535557953},{"$f":"IF(ISBLANK($C40),\"\",VLOOKUP($C40,RAMP!$C$1:$X$20,M$11-$D$11+2,FALSE))","v":0.83918984935345187},{"$f":"IF(ISBLANK($C40),\"\",VLOOKUP($C40,RAMP!$C$1:$X$20,N$11-$D$11+2,FALSE))","v":0.90945051634530116},{"$f":"IF(ISBLANK($C40),\"\",VLOOKUP($C40,RAMP!$C$1:$X$20,O$11-$D$11+2,FALSE))","v":0.9576688767502457},{"$f":"IF(ISBLANK($C40),\"\",VLOOKUP($C40,RAMP!$C$1:$X$20,P$11-$D$11+2,FALSE))","v":0.9865231113648858},{"$f":"IF(ISBLANK($C40),\"\",VLOOKUP($C40,RAMP!$C$1:$X$20,Q$11-$D$11+2,FALSE))","v":1},{"$f":"IF(ISBLANK($C40),\"\",VLOOKUP($C40,RAMP!$C$1:$X$20,R$11-$D$11+2,FALSE))","v":1},{"$f":"IF(ISBLANK($C40),\"\",VLOOKUP($C40,RAMP!$C$1:$X$20,S$11-$D$11+2,FALSE))","v":1},{"$f":"IF(ISBLANK($C40),\"\",VLOOKUP($C40,RAMP!$C$1:$X$20,T$11-$D$11+2,FALSE))","v":1},{"$f":"IF(ISBLANK($C40),\"\",VLOOKUP($C40,RAMP!$C$1:$X$20,U$11-$D$11+2,FALSE))","v":1},{"$f":"IF(ISBLANK($C40),\"\",VLOOKUP($C40,RAMP!$C$1:$X$20,V$11-$D$11+2,FALSE))","v":1},{"$f":"IF(ISBLANK($C40),\"\",VLOOKUP($C40,RAMP!$C$1:$X$20,W$11-$D$11+2,FALSE))","v":1},0.95]
[{"$f":"MLIST!A41","v":"HVAC"},{"$f":"MLIST!D41","v":"Fans-New"},"LO5Med",{"$f":"IF(ISBLANK($C41),\"\",VLOOKUP($C41,RAMP!$C$1:$X$20,D$11-$D$11+2,FALSE))","v":4.2999999999999997E-2},{"$f":"IF(ISBLANK($C41),\"\",VLOOKUP($C41,RAMP!$C$1:$X$20,E$11-$D$11+2,FALSE))","v":9.5797142280278316E-2},{"$f":"IF(ISBLANK($C41),\"\",VLOOKUP($C41,RAMP!$C$1:$X$20,F$11-$D$11+2,FALSE))","v":0.16040539374775648},{"$f":"IF(ISBLANK($C41),\"\",VLOOKUP($C41,RAMP!$C$1:$X$20,G$11-$D$11+2,FALSE))","v":0.23540539374775649},{"$f":"IF(ISBLANK($C41),\"\",VLOOKUP($C41,RAMP!$C$1:$X$20,H$11-$D$11+2,FALSE))","v":0.32095239121809005},{"$f":"IF(ISBLANK($C41),\"\",VLOOKUP($C41,RAMP!$C$1:$X$20,I$11-$D$11+2,FALSE))","v":0.42096711425629652},{"$f":"IF(ISBLANK($C41),\"\",VLOOKUP($C41,RAMP!$C$1:$X$20,J$11-$D$11+2,FALSE))","v":0.53068481860864725},{"$f":"IF(ISBLANK($C41),\"\",VLOOKUP($C41,RAMP!$C$1:$X$20,K$11-$D$11+2,FALSE))","v":0.642769203728351},{"$f":"IF(ISBLANK($C41),\"\",VLOOKUP($C41,RAMP!$C$1:$X$20,L$11-$D$11+2,FALSE))","v":0.74839528535557953},{"$f":"IF(ISBLANK($C41),\"\",VLOOKUP($C41,RAMP!$C$1:$X$20,M$11-$D$11+2,FALSE))","v":0.83918984935345187},{"$f":"IF(ISBLANK($C41),\"\",VLOOKUP($C41,RAMP!$C$1:$X$20,N$11-$D$11+2,FALSE))","v":0.90945051634530116},{"$f":"IF(ISBLANK($C41),\"\",VLOOKUP($C41,RAMP!$C$1:$X$20,O$11-$D$11+2,FALSE))","v":0.9576688767502457},{"$f":"IF(ISBLANK($C41),\"\",VLOOKUP($C41,RAMP!$C$1:$X$20,P$11-$D$11+2,FALSE))","v":0.9865231113648858},{"$f":"IF(ISBLANK($C41),\"\",VLOOKUP($C41,RAMP!$C$1:$X$20,Q$11-$D$11+2,FALSE))","v":1},{"$f":"IF(ISBLANK($C41),\"\",VLOOKUP($C41,RAMP!$C$1:$X$20,R$11-$D$11+2,FALSE))","v":1},{"$f":"IF(ISBLANK($C41),\"\",VLOOKUP($C41,RAMP!$C$1:$X$20,S$11-$D$11+2,FALSE))","v":1},{"$f":"IF(ISBLANK($C41),\"\",VLOOKUP($C41,RAMP!$C$1:$X$20,T$11-$D$11+2,FALSE))","v":1},{"$f":"IF(ISBLANK($C41),\"\",VLOOKUP($C41,RAMP!$C$1:$X$20,U$11-$D$11+2,FALSE))","v":1},{"$f":"IF(ISBLANK($C41),\"\",VLOOKUP($C41,RAMP!$C$1:$X$20,V$11-$D$11+2,FALSE))","v":1},{"$f":"IF(ISBLANK($C41),\"\",VLOOKUP($C41,RAMP!$C$1:$X$20,W$11-$D$11+2,FALSE))","v":1},0.95]
[{"$f":"MLIST!A42","v":"HVAC"},{"$f":"MLIST!D42","v":"VHE-DOAS-NR"},"LO3Slow",{"$f":"IF(ISBLANK($C42),\"\",VLOOKUP($C42,RAMP!$C$1:$X$20,D$11-$D$11+2,FALSE))","v":5.5320496977002724E-3},{"$f":"IF(ISBLANK($C42),\"\",VLOOKUP($C42,RAMP!$C$1:$X$20,E$11-$D$11+2,FALSE))","v":1.4227918344261844E-2},{"$f":"IF(ISBLANK($C42),\"\",VLOOKUP($C42,RAMP!$C$1:$X$20,F$11-$D$11+2,FALSE))","v":3.1619655637384989E-2},{"$f":"IF(ISBLANK($C42),\"\",VLOOKUP($C42,RAMP!$C$1:$X$20,G$11-$D$11+2,FALSE))","v":6.2055195900350503E-2},{"$f":"IF(ISBLANK($C42),\"\",VLOOKUP($C42,RAMP!$C$1:$X$20,H$11-$D$11+2,FALSE))","v":0.10939936964274129},{"$f":"IF(ISBLANK($C42),\"\",VLOOKUP($C42,RAMP!$C$1:$X$20,I$11-$D$11+2,FALSE))","v":0.17568121288208835},{"$f":"IF(ISBLANK($C42),\"\",VLOOKUP($C42,RAMP!$C$1:$X$20,J$11-$D$11+2,FALSE))","v":0.26003992245943919},{"$f":"IF(ISBLANK($C42),\"\",VLOOKUP($C42,RAMP!$C$1:$X$20,K$11-$D$11+2,FALSE))","v":0.3584584169663485},{"$f":"IF(ISBLANK($C42),\"\",VLOOKUP($C42,RAMP!$C$1:$X$20,L$11-$D$11+2,FALSE))","v":0.46444756489686617},{"$f":"IF(ISBLANK($C42),\"\",VLOOKUP($C42,RAMP!$C$1:$X$20,M$11-$D$11+2,FALSE))","v":0.57043671282738384},{"$f":"IF(ISBLANK($C42),\"\",VLOOKUP($C42,RAMP!$C$1:$X$20,N$11-$D$11+2,FALSE))","v":0.66935991756253377},{"$f":"IF(ISBLANK($C42),\"\",VLOOKUP($C42,RAMP!$C$1:$X$20,O$11-$D$11+2,FALSE))","v":0.75591772170578986},{"$f":"IF(ISBLANK($C42),\"\",VLOOKUP($C42,RAMP!$C$1:$X$20,P$11-$D$11+2,FALSE))","v":0.82720061923553012},{"$f":"IF(ISBLANK($C42),\"\",VLOOKUP($C42,RAMP!$C$1:$X$20,Q$11-$D$11+2,FALSE))","v":0.88264287286977261},{"$f":"IF(ISBLANK($C42),\"\",VLOOKUP($C42,RAMP!$C$1:$X$20,R$11-$D$11+2,FALSE))","v":0.92349505975816193},{"$f":"IF(ISBLANK($C42),\"\",VLOOKUP($C42,RAMP!$C$1:$X$20,S$11-$D$11+2,FALSE))","v":0.95209159058003434},{"$f":"IF(ISBLANK($C42),\"\",VLOOKUP($C42,RAMP!$C$1:$X$20,T$11-$D$11+2,FALSE))","v":0.97115594446128262},{"$f":"IF(ISBLANK($C42),\"\",VLOOKUP($C42,RAMP!$C$1:$X$20,U$11-$D$11+2,FALSE))","v":0.98328780602207699},{"$f":"IF(ISBLANK($C42),\"\",VLOOKUP($C42,RAMP!$C$1:$X$20,V$11-$D$11+2,FALSE))","v":0.99067241740690848},{"$f":"IF(ISBLANK($C42),\"\",VLOOKUP($C42,RAMP!$C$1:$X$20,W$11-$D$11+2,FALSE))","v":0.996},0.85]
[{"$f":"MLIST!A43","v":"HVAC"},{"$f":"MLIST!D43","v":"VHE-DOAS-New"},"LO3Slow",{"$f":"IF(ISBLANK($C43),\"\",VLOOKUP($C43,RAMP!$C$1:$X$20,D$11-$D$11+2,FALSE))","v":5.5320496977002724E-3},{"$f":"IF(ISBLANK($C43),\"\",VLOOKUP($C43,RAMP!$C$1:$X$20,E$11-$D$11+2,FALSE))","v":1.4227918344261844E-2},{"$f":"IF(ISBLANK($C43),\"\",VLOOKUP($C43,RAMP!$C$1:$X$20,F$11-$D$11+2,FALSE))","v":3.1619655637384989E-2},{"$f":"IF(ISBLANK($C43),\"\",VLOOKUP($C43,RAMP!$C$1:$X$20,G$11-$D$11+2,FALSE))","v":6.2055195900350503E-2},{"$f":"IF(ISBLANK($C43),\"\",VLOOKUP($C43,RAMP!$C$1:$X$20,H$11-$D$11+2,FALSE))","v":0.10939936964274129},{"$f":"IF(ISBLANK($C43),\"\",VLOOKUP($C43,RAMP!$C$1:$X$20,I$11-$D$11+2,FALSE))","v":0.17568121288208835},{"$f":"IF(ISBLANK($C43),\"\",VLOOKUP($C43,RAMP!$C$1:$X$20,J$11-$D$11+2,FALSE))","v":0.26003992245943919},{"$f":"IF(ISBLANK($C43),\"\",VLOOKUP($C43,RAMP!$C$1:$X$20,K$11-$D$11+2,FALSE))","v":0.3584584169663485},{"$f":"IF(ISBLANK($C43),\"\",VLOOKUP($C43,RAMP!$C$1:$X$20,L$11-$D$11+2,FALSE))","v":0.46444756489686617},{"$f":"IF(ISBLANK($C43),\"\",VLOOKUP($C43,RAMP!$C$1:$X$20,M$11-$D$11+2,FALSE))","v":0.57043671282738384},{"$f":"IF(ISBLANK($C43),\"\",VLOOKUP($C43,RAMP!$C$1:$X$20,N$11-$D$11+2,FALSE))","v":0.66935991756253377},{"$f":"IF(ISBLANK($C43),\"\",VLOOKUP($C43,RAMP!$C$1:$X$20,O$11-$D$11+2,FALSE))","v":0.75591772170578986},{"$f":"IF(ISBLANK($C43),\"\",VLOOKUP($C43,RAMP!$C$1:$X$20,P$11-$D$11+2,FALSE))","v":0.82720061923553012},{"$f":"IF(ISBLANK($C43),\"\",VLOOKUP($C43,RAMP!$C$1:$X$20,Q$11-$D$11+2,FALSE))","v":0.88264287286977261},{"$f":"IF(ISBLANK($C43),\"\",VLOOKUP($C43,RAMP!$C$1:$X$20,R$11-$D$11+2,FALSE))","v":0.92349505975816193},{"$f":"IF(ISBLANK($C43),\"\",VLOOKUP($C43,RAMP!$C$1:$X$20,S$11-$D$11+2,FALSE))","v":0.95209159058003434},{"$f":"IF(ISBLANK($C43),\"\",VLOOKUP($C43,RAMP!$C$1:$X$20,T$11-$D$11+2,FALSE))","v":0.97115594446128262},{"$f":"IF(ISBLANK($C43),\"\",VLOOKUP($C43,RAMP!$C$1:$X$20,U$11-$D$11+2,FALSE))","v":0.98328780602207699},{"$f":"IF(ISBLANK($C43),\"\",VLOOKUP($C43,RAMP!$C$1:$X$20,V$11-$D$11+2,FALSE))","v":0.99067241740690848},{"$f":"IF(ISBLANK($C43),\"\",VLOOKUP($C43,RAMP!$C$1:$X$20,W$11-$D$11+2,FALSE))","v":0.996},1]
[{"$f":"MLIST!A44","v":"HVAC"},{"$f":"MLIST!D44","v":"-NR"},"Lo5med",{"$f":"IF(ISBLANK($C44),\"\",VLOOKUP($C44,RAMP!$C$1:$X$20,D$11-$D$11+2,FALSE))","v":4.2999999999999997E-2},{"$f":"IF(ISBLANK($C44),\"\",VLOOKUP($C44,RAMP!$C$1:$X$20,E$11-$D$11+2,FALSE))","v":9.5797142280278316E-2},{"$f":"IF(ISBLANK($C44),\"\",VLOOKUP($C44,RAMP!$C$1:$X$20,F$11-$D$11+2,FALSE))","v":0.16040539374775648},{"$f":"IF(ISBLANK($C44),\"\",VLOOKUP($C44,RAMP!$C$1:$X$20,G$11-$D$11+2,FALSE))","v":0.23540539374775649},{"$f":"IF(ISBLANK($C44),\"\",VLOOKUP($C44,RAMP!$C$1:$X$20,H$11-$D$11+2,FALSE))","v":0.32095239121809005},{"$f":"IF(ISBLANK($C44),\"\",VLOOKUP($C44,RAMP!$C$1:$X$20,I$11-$D$11+2,FALSE))","v":0.42096711425629652},{"$f":"IF(ISBLANK($C44),\"\",VLOOKUP($C44,RAMP!$C$1:$X$20,J$11-$D$11+2,FALSE))","v":0.53068481860864725},{"$f":"IF(ISBLANK($C44),\"\",VLOOKUP($C44,RAMP!$C$1:$X$20,K$11-$D$11+2,FALSE))","v":0.642769203728351},{"$f":"IF(ISBLANK($C44),\"\",VLOOKUP($C44,RAMP!$C$1:$X$20,L$11-$D$11+2,FALSE))","v":0.74839528535557953},{"$f":"IF(ISBLANK($C44),\"\",VLOOKUP($C44,RAMP!$C$1:$X$20,M$11-$D$11+2,FALSE))","v":0.83918984935345187},{"$f":"IF(ISBLANK($C44),\"\",VLOOKUP($C44,RAMP!$C$1:$X$20,N$11-$D$11+2,FALSE))","v":0.90945051634530116},{"$f":"IF(ISBLANK($C44),\"\",VLOOKUP($C44,RAMP!$C$1:$X$20,O$11-$D$11+2,FALSE))","v":0.9576688767502457},{"$f":"IF(ISBLANK($C44),\"\",VLOOKUP($C44,RAMP!$C$1:$X$20,P$11-$D$11+2,FALSE))","v":0.9865231113648858},{"$f":"IF(ISBLANK($C44),\"\",VLOOKUP($C44,RAMP!$C$1:$X$20,Q$11-$D$11+2,FALSE))","v":1},{"$f":"IF(ISBLANK($C44),\"\",VLOOKUP($C44,RAMP!$C$1:$X$20,R$11-$D$11+2,FALSE))","v":1},{"$f":"IF(ISBLANK($C44),\"\",VLOOKUP($C44,RAMP!$C$1:$X$20,S$11-$D$11+2,FALSE))","v":1},{"$f":"IF(ISBLANK($C44),\"\",VLOOKUP($C44,RAMP!$C$1:$X$20,T$11-$D$11+2,FALSE))","v":1},{"$f":"IF(ISBLANK($C44),\"\",VLOOKUP($C44,RAMP!$C$1:$X$20,U$11-$D$11+2,FALSE))","v":1},{"$f":"IF(ISBLANK($C44),\"\",VLOOKUP($C44,RAMP!$C$1:$X$20,V$11-$D$11+2,FALSE))","v":1},{"$f":"IF(ISBLANK($C44),\"\",VLOOKUP($C44,RAMP!$C$1:$X$20,W$11-$D$11+2,FALSE))","v":1},0.85]
[{"$f":"MLIST!A45","v":"HVAC"},{"$f":"MLIST!D45","v":"Commercial EM-New"},"LO5Med",{"$f":"IF(ISBLANK($C45),\"\",VLOOKUP($C45,RAMP!$C$1:$X$20,D$11-$D$11+2,FALSE))","v":4.2999999999999997E-2},{"$f":"IF(ISBLANK($C45),\"\",VLOOKUP($C45,RAMP!$C$1:$X$20,E$11-$D$11+2,FALSE))","v":9.5797142280278316E-2},{"$f":"IF(ISBLANK($C45),\"\",VLOOKUP($C45,RAMP!$C$1:$X$20,F$11-$D$11+2,FALSE))","v":0.16040539374775648},{"$f":"IF(ISBLANK($C45),\"\",VLOOKUP($C45,RAMP!$C$1:$X$20,G$11-$D$11+2,FALSE))","v":0.23540539374775649},{"$f":"IF(ISBLANK($C45),\"\",VLOOKUP($C45,RAMP!$C$1:$X$20,H$11-$D$11+2,FALSE))","v":0.32095239121809005},{"$f":"IF(ISBLANK($C45),\"\",VLOOKUP($C45,RAMP!$C$1:$X$20,I$11-$D$11+2,FALSE))","v":0.42096711425629652},{"$f":"IF(ISBLANK($C45),\"\",VLOOKUP($C45,RAMP!$C$1:$X$20,J$11-$D$11+2,FALSE))","v":0.53068481860864725},{"$f":"IF(ISBLANK($C45),\"\",VLOOKUP($C45,RAMP!$C$1:$X$20,K$11-$D$11+2,FALSE))","v":0.642769203728351},{"$f":"IF(ISBLANK($C45),\"\",VLOOKUP($C45,RAMP!$C$1:$X$20,L$11-$D$11+2,FALSE))","v":0.74839528535557953},{"$f":"IF(ISBLANK($C45),\"\",VLOOKUP($C45,RAMP!$C$1:$X$20,M$11-$D$11+2,FALSE))","v":0.83918984935345187},{"$f":"IF(ISBLANK($C45),\"\",VLOOKUP($C45,RAMP!$C$1:$X$20,N$11-$D$11+2,FALSE))","v":0.90945051634530116},{"$f":"IF(ISBLANK($C45),\"\",VLOOKUP($C45,RAMP!$C$1:$X$20,O$11-$D$11+2,FALSE))","v":0.9576688767502457},{"$f":"IF(ISBLANK($C45),\"\",VLOOKUP($C45,RAMP!$C$1:$X$20,P$11-$D$11+2,FALSE))","v":0.9865231113648858},{"$f":"IF(ISBLANK($C45),\"\",VLOOKUP($C45,RAMP!$C$1:$X$20,Q$11-$D$11+2,FALSE))","v":1},{"$f":"IF(ISBLANK($C45),\"\",VLOOKUP($C45,RAMP!$C$1:$X$20,R$11-$D$11+2,FALSE))","v":1},{"$f":"IF(ISBLANK($C45),\"\",VLOOKUP($C45,RAMP!$C$1:$X$20,S$11-$D$11+2,FALSE))","v":1},{"$f":"IF(ISBLANK($C45),\"\",VLOOKUP($C45,RAMP!$C$1:$X$20,T$11-$D$11+2,FALSE))","v":1},{"$f":"IF(ISBLANK($C45),\"\",VLOOKUP($C45,RAMP!$C$1:$X$20,U$11-$D$11+2,FALSE))","v":1},{"$f":"IF(ISBLANK($C45),\"\",VLOOKUP($C45,RAMP!$C$1:$X$20,V$11-$D$11+2,FALSE))","v":1},{"$f":"IF(ISBLANK($C45),\"\",VLOOKUP($C45,RAMP!$C$1:$X$20,W$11-$D$11+2,FALSE))","v":1},0.85]
[{"$f":"MLIST!A46","v":"HVAC"},{"$f":"MLIST!D46","v":"Commercial EM-Retro"},"LO1Slow",{"$f":"IF(ISBLANK($C46),\"\",VLOOKUP($C46,RAMP!$C$1:$X$20,D$11-$D$11+2,FALSE))","v":5.0000000000000001E-3},{"$f":"IF(ISBLANK($C46),\"\",VLOOKUP($C46,RAMP!$C$1:$X$20,E$11-$D$11+2,FALSE))","v":7.6904586297764643E-3},{"$f":"IF(ISBLANK($C46),\"\",VLOOKUP($C46,RAMP!$C$1:$X$20,F$11-$D$11+2,FALSE))","v":1.6792013047419844E-2},{"$f":"IF(ISBLANK($C46),\"\",VLOOKUP($C46,RAMP!$C$1:$X$20,G$11-$D$11+2,FALSE))","v":3.15969387774655E-2},{"$f":"IF(ISBLANK($C46),\"\",VLOOKUP($C46,RAMP!$C$1:$X$20,H$11-$D$11+2,FALSE))","v":5.406874819795171E-2},{"$f":"IF(ISBLANK($C46),\"\",VLOOKUP($C46,RAMP!$C$1:$X$20,I$11-$D$11+2,FALSE))","v":8.6253181011834101E-2},{"$f":"IF(ISBLANK($C46),\"\",VLOOKUP($C46,RAMP!$C$1:$X$20,J$11-$D$11+2,FALSE))","v":0.1300328481838382},{"$f":"IF(ISBLANK($C46),\"\",VLOOKUP($C46,RAMP!$C$1:$X$20,K$11-$D$11+2,FALSE))","v":0.18678710893858319},{"$f":"IF(ISBLANK($C46),\"\",VLOOKUP($C46,RAMP!$C$1:$X$20,L$11-$D$11+2,FALSE))","v":0.2569823480072907},{"$f":"IF(ISBLANK($C46),\"\",VLOOKUP($C46,RAMP!$C$1:$X$20,M$11-$D$11+2,FALSE))","v":0.33975920985004748},{"$f":"IF(ISBLANK($C46),\"\",VLOOKUP($C46,RAMP!$C$1:$X$20,N$11-$D$11+2,FALSE))","v":0.43262946935754232},{"$f":"IF(ISBLANK($C46),\"\",VLOOKUP($C46,RAMP!$C$1:$X$20,O$11-$D$11+2,FALSE))","v":0.53142594003645804},{"$f":"IF(ISBLANK($C46),\"\",VLOOKUP($C46,RAMP!$C$1:$X$20,P$11-$D$11+2,FALSE))","v":0.63063487292644704},{"$f":"IF(ISBLANK($C46),\"\",VLOOKUP($C46,RAMP!$C$1:$X$20,Q$11-$D$11+2,FALSE))","v":0.7241560234206913},{"$f":"IF(ISBLANK($C46),\"\",VLOOKUP($C46,RAMP!$C$1:$X$20,R$11-$D$11+2,FALSE))","v":0.80638203131755359},{"$f":"IF(ISBLANK($C46),\"\",VLOOKUP($C46,RAMP!$C$1:$X$20,S$11-$D$11+2,FALSE))","v":0.87331559734491926},{"$f":"IF(ISBLANK($C46),\"\",VLOOKUP($C46,RAMP!$C$1:$X$20,T$11-$D$11+2,FALSE))","v":0.92334516248836807},{"$f":"IF(ISBLANK($C46),\"\",VLOOKUP($C46,RAMP!$C$1:$X$20,U$11-$D$11+2,FALSE))","v":0.96},{"$f":"IF(ISBLANK($C46),\"\",VLOOKUP($C46,RAMP!$C$1:$X$20,V$11-$D$11+2,FALSE))","v":0.98},{"$f":"IF(ISBLANK($C46),\"\",VLOOKUP($C46,RAMP!$C$1:$X$20,W$11-$D$11+2,FALSE))","v":0.996},0.85]
[{"$f":"MLIST!A47","v":"HVAC"},{"$f":"MLIST!D47","v":"Economizer-Retro"},"Retro12Med",{"$f":"IF(ISBLANK($C47),\"\",VLOOKUP($C47,RAMP!$C$1:$X$20,D$11-$D$11+2,FALSE))","v":0.10937459468255628},{"$f":"IF(ISBLANK($C47),\"\",VLOOKUP($C47,RAMP!$C$1:$X$20,E$11-$D$11+2,FALSE))","v":0.10937459468255628},{"$f":"IF(ISBLANK($C47),\"\",VLOOKUP($C47,RAMP!$C$1:$X$20,F$11-$D$11+2,FALSE))","v":0.10937459468255628},{"$f":"IF(ISBLANK($C47),\"\",VLOOKUP($C47,RAMP!$C$1:$X$20,G$11-$D$11+2,FALSE))","v":0.10937459468255628},{"$f":"IF(ISBLANK($C47),\"\",VLOOKUP($C47,RAMP!$C$1:$X$20,H$11-$D$11+2,FALSE))","v":0.10937459468255628},{"$f":"IF(ISBLANK($C47),\"\",VLOOKUP($C47,RAMP!$C$1:$X$20,I$11-$D$11+2,FALSE))","v":9.8437135214300656E-2},{"$f":"IF(ISBLANK($C47),\"\",VLOOKUP($C47,RAMP!$C$1:$X$20,J$11-$D$11+2,FALSE))","v":7.874970817144053E-2},{"$f":"IF(ISBLANK($C47),\"\",VLOOKUP($C47,RAMP!$C$1:$X$20,K$11-$D$11+2,FALSE))","v":6.2999766537152418E-2},{"$f":"IF(ISBLANK($C47),\"\",VLOOKUP($C47,RAMP!$C$1:$X$20,L$11-$D$11+2,FALSE))","v":5.0399813229721938E-2},{"$f":"IF(ISBLANK($C47),\"\",VLOOKUP($C47,RAMP!$C$1:$X$20,M$11-$D$11+2,FALSE))","v":4.0319850583777551E-2},{"$f":"IF(ISBLANK($C47),\"\",VLOOKUP($C47,RAMP!$C$1:$X$20,N$11-$D$11+2,FALSE))","v":3.225588046702204E-2},{"$f":"IF(ISBLANK($C47),\"\",VLOOKUP($C47,RAMP!$C$1:$X$20,O$11-$D$11+2,FALSE))","v":2.5804704373617631E-2},{"$f":"IF(ISBLANK($C47),\"\",VLOOKUP($C47,RAMP!$C$1:$X$20,P$11-$D$11+2,FALSE))","v":2.0643763498894106E-2},{"$f":"IF(ISBLANK($C47),\"\",VLOOKUP($C47,RAMP!$C$1:$X$20,Q$11-$D$11+2,FALSE))","v":1.6515010799115284E-2},{"$f":"IF(ISBLANK($C47),\"\",VLOOKUP($C47,RAMP!$C$1:$X$20,R$11-$D$11+2,FALSE))","v":1.3212008639292228E-2},{"$f":"IF(ISBLANK($C47),\"\",VLOOKUP($C47,RAMP!$C$1:$X$20,S$11-$D$11+2,FALSE))","v":1.0569606911433781E-2},{"$f":"IF(ISBLANK($C47),\"\",VLOOKUP($C47,RAMP!$C$1:$X$20,T$11-$D$11+2,FALSE))","v":7.2092823794611682E-5},{"$f":"IF(ISBLANK($C47),\"\",VLOOKUP($C47,RAMP!$C$1:$X$20,U$11-$D$11+2,FALSE))","v":2.5747437069512102E-5},{"$f":"IF(ISBLANK($C47),\"\",VLOOKUP($C47,RAMP!$C$1:$X$20,V$11-$D$11+2,FALSE))","v":8.7775353646568632E-6},{"$f":"IF(ISBLANK($C47),\"\",VLOOKUP($C47,RAMP!$C$1:$X$20,W$11-$D$11+2,FALSE))","v":2.8622397928446119E-6},0.85]
[{"$f":"MLIST!A48","v":"HVAC"},{"$f":"MLIST!D48","v":"Demand Control Ventilation-New"},"LOEven20",{"$f":"IF(ISBLANK($C48),\"\",VLOOKUP($C48,RAMP!$C$1:$X$20,D$11-$D$11+2,FALSE))","v":0.05},{"$f":"IF(ISBLANK($C48),\"\",VLOOKUP($C48,RAMP!$C$1:$X$20,E$11-$D$11+2,FALSE))","v":0.1},{"$f":"IF(ISBLANK($C48),\"\",VLOOKUP($C48,RAMP!$C$1:$X$20,F$11-$D$11+2,FALSE))","v":0.15000000000000002},{"$f":"IF(ISBLANK($C48),\"\",VLOOKUP($C48,RAMP!$C$1:$X$20,G$11-$D$11+2,FALSE))","v":0.2},{"$f":"IF(ISBLANK($C48),\"\",VLOOKUP($C48,RAMP!$C$1:$X$20,H$11-$D$11+2,FALSE))","v":0.25},{"$f":"IF(ISBLANK($C48),\"\",VLOOKUP($C48,RAMP!$C$1:$X$20,I$11-$D$11+2,FALSE))","v":0.3},{"$f":"IF(ISBLANK($C48),\"\",VLOOKUP($C48,RAMP!$C$1:$X$20,J$11-$D$11+2,FALSE))","v":0.35},{"$f":"IF(ISBLANK($C48),\"\",VLOOKUP($C48,RAMP!$C$1:$X$20,K$11-$D$11+2,FALSE))","v":0.39999999999999997},{"$f":"IF(ISBLANK($C48),\"\",VLOOKUP($C48,RAMP!$C$1:$X$20,L$11-$D$11+2,FALSE))","v":0.44999999999999996},{"$f":"IF(ISBLANK($C48),\"\",VLOOKUP($C48,RAMP!$C$1:$X$20,M$11-$D$11+2,FALSE))","v":0.49999999999999994},{"$f":"IF(ISBLANK($C48),\"\",VLOOKUP($C48,RAMP!$C$1:$X$20,N$11-$D$11+2,FALSE))","v":0.54999999999999993},{"$f":"IF(ISBLANK($C48),\"\",VLOOKUP($C48,RAMP!$C$1:$X$20,O$11-$D$11+2,FALSE))","v":0.6},{"$f":"IF(ISBLANK($C48),\"\",VLOOKUP($C48,RAMP!$C$1:$X$20,P$11-$D$11+2,FALSE))","v":0.65},{"$f":"IF(ISBLANK($C48),\"\",VLOOKUP($C48,RAMP!$C$1:$X$20,Q$11-$D$11+2,FALSE))","v":0.70000000000000007},{"$f":"IF(ISBLANK($C48),\"\",VLOOKUP($C48,RAMP!$C$1:$X$20,R$11-$D$11+2,FALSE))","v":0.75000000000000011},{"$f":"IF(ISBLANK($C48),\"\",VLOOKUP($C48,RAMP!$C$1:$X$20,S$11-$D$11+2,FALSE))","v":0.80000000000000016},{"$f":"IF(ISBLANK($C48),\"\",VLOOKUP($C48,RAMP!$C$1:$X$20,T$11-$D$11+2,FALSE))","v":0.8500000000000002},{"$f":"IF(ISBLANK($C48),\"\",VLOOKUP($C48,RAMP!$C$1:$X$20,U$11-$D$11+2,FALSE))","v":0.90000000000000024},{"$f":"IF(ISBLANK($C48),\"\",VLOOKUP($C48,RAMP!$C$1:$X$20,V$11-$D$11+2,FALSE))","v":0.95000000000000029},{"$f":"IF(ISBLANK($C48),\"\",VLOOKUP($C48,RAMP!$C$1:$X$20,W$11-$D$11+2,FALSE))","v":1.0000000000000002},0.85]
[{"$f":"MLIST!A49","v":"HVAC"},{"$f":"MLIST!D49","v":"Demand Control Ventilation-NR"},"LOEven20",{"$f":"IF(ISBLANK($C49),\"\",VLOOKUP($C49,RAMP!$C$1:$X$20,D$11-$D$11+2,FALSE))","v":0.05},{"$f":"IF(ISBLANK($C49),\"\",VLOOKUP($C49,RAMP!$C$1:$X$20,E$11-$D$11+2,FALSE))","v":0.1},{"$f":"IF(ISBLANK($C49),\"\",VLOOKUP($C49,RAMP!$C$1:$X$20,F$11-$D$11+2,FALSE))","v":0.15000000000000002},{"$f":"IF(ISBLANK($C49),\"\",VLOOKUP($C49,RAMP!$C$1:$X$20,G$11-$D$11+2,FALSE))","v":0.2},{"$f":"IF(ISBLANK($C49),\"\",VLOOKUP($C49,RAMP!$C$1:$X$20,H$11-$D$11+2,FALSE))","v":0.25},{"$f":"IF(ISBLANK($C49),\"\",VLOOKUP($C49,RAMP!$C$1:$X$20,I$11-$D$11+2,FALSE))","v":0.3},{"$f":"IF(ISBLANK($C49),\"\",VLOOKUP($C49,RAMP!$C$1:$X$20,J$11-$D$11+2,FALSE))","v":0.35},{"$f":"IF(ISBLANK($C49),\"\",VLOOKUP($C49,RAMP!$C$1:$X$20,K$11-$D$11+2,FALSE))","v":0.39999999999999997},{"$f":"IF(ISBLANK($C49),\"\",VLOOKUP($C49,RAMP!$C$1:$X$20,L$11-$D$11+2,FALSE))","v":0.44999999999999996},{"$f":"IF(ISBLANK($C49),\"\",VLOOKUP($C49,RAMP!$C$1:$X$20,M$11-$D$11+2,FALSE))","v":0.49999999999999994},{"$f":"IF(ISBLANK($C49),\"\",VLOOKUP($C49,RAMP!$C$1:$X$20,N$11-$D$11+2,FALSE))","v":0.54999999999999993},{"$f":"IF(ISBLANK($C49),\"\",VLOOKUP($C49,RAMP!$C$1:$X$20,O$11-$D$11+2,FALSE))","v":0.6},{"$f":"IF(ISBLANK($C49),\"\",VLOOKUP($C49,RAMP!$C$1:$X$20,P$11-$D$11+2,FALSE))","v":0.65},{"$f":"IF(ISBLANK($C49),\"\",VLOOKUP($C49,RAMP!$C$1:$X$20,Q$11-$D$11+2,FALSE))","v":0.70000000000000007},{"$f":"IF(ISBLANK($C49),\"\",VLOOKUP($C49,RAMP!$C$1:$X$20,R$11-$D$11+2,FALSE))","v":0.75000000000000011},{"$f":"IF(ISBLANK($C49),\"\",VLOOKUP($C49,RAMP!$C$1:$X$20,S$11-$D$11+2,FALSE))","v":0.80000000000000016},{"$f":"IF(ISBLANK($C49),\"\",VLOOKUP($C49,RAMP!$C$1:$X$20,T$11-$D$11+2,FALSE))","v":0.8500000000000002},{"$f":"IF(ISBLANK($C49),\"\",VLOOKUP($C49,RAMP!$C$1:$X$20,U$11-$D$11+2,FALSE))","v":0.90000000000000024},{"$f":"IF(ISBLANK($C49),\"\",VLOOKUP($C49,RAMP!$C$1:$X$20,V$11-$D$11+2,FALSE))","v":0.95000000000000029},{"$f":"IF(ISBLANK($C49),\"\",VLOOKUP($C49,RAMP!$C$1:$X$20,W$11-$D$11+2,FALSE))","v":1.0000000000000002},0.85]
[{"$f":"MLIST!A50","v":"HVAC"},{"$f":"MLIST!D50","v":"Demand Control Ventilation-Retro"},"Retro12Med",{"$f":"IF(ISBLANK($C50),\"\",VLOOKUP($C50,RAMP!$C$1:$X$20,D$11-$D$11+2,FALSE))","v":0.10937459468255628},{"$f":"IF(ISBLANK($C50),\"\",VLOOKUP($C50,RAMP!$C$1:$X$20,E$11-$D$11+2,FALSE))","v":0.10937459468255628},{"$f":"IF(ISBLANK($C50),\"\",VLOOKUP($C50,RAMP!$C$1:$X$20,F$11-$D$11+2,FALSE))","v":0.10937459468255628},{"$f":"IF(ISBLANK($C50),\"\",VLOOKUP($C50,RAMP!$C$1:$X$20,G$11-$D$11+2,FALSE))","v":0.10937459468255628},{"$f":"IF(ISBLANK($C50),\"\",VLOOKUP($C50,RAMP!$C$1:$X$20,H$11-$D$11+2,FALSE))","v":0.10937459468255628},{"$f":"IF(ISBLANK($C50),\"\",VLOOKUP($C50,RAMP!$C$1:$X$20,I$11-$D$11+2,FALSE))","v":9.8437135214300656E-2},{"$f":"IF(ISBLANK($C50),\"\",VLOOKUP($C50,RAMP!$C$1:$X$20,J$11-$D$11+2,FALSE))","v":7.874970817144053E-2},{"$f":"IF(ISBLANK($C50),\"\",VLOOKUP($C50,RAMP!$C$1:$X$20,K$11-$D$11+2,FALSE))","v":6.2999766537152418E-2},{"$f":"IF(ISBLANK($C50),\"\",VLOOKUP($C50,RAMP!$C$1:$X$20,L$11-$D$11+2,FALSE))","v":5.0399813229721938E-2},{"$f":"IF(ISBLANK($C50),\"\",VLOOKUP($C50,RAMP!$C$1:$X$20,M$11-$D$11+2,FALSE))","v":4.0319850583777551E-2},{"$f":"IF(ISBLANK($C50),\"\",VLOOKUP($C50,RAMP!$C$1:$X$20,N$11-$D$11+2,FALSE))","v":3.225588046702204E-2},{"$f":"IF(ISBLANK($C50),\"\",VLOOKUP($C50,RAMP!$C$1:$X$20,O$11-$D$11+2,FALSE))","v":2.5804704373617631E-2},{"$f":"IF(ISBLANK($C50),\"\",VLOOKUP($C50,RAMP!$C$1:$X$20,P$11-$D$11+2,FALSE))","v":2.0643763498894106E-2},{"$f":"IF(ISBLANK($C50),\"\",VLOOKUP($C50,RAMP!$C$1:$X$20,Q$11-$D$11+2,FALSE))","v":1.6515010799115284E-2},{"$f":"IF(ISBLANK($C50),\"\",VLOOKUP($C50,RAMP!$C$1:$X$20,R$11-$D$11+2,FALSE))","v":1.3212008639292228E-2},{"$f":"IF(ISBLANK($C50),\"\",VLOOKUP($C50,RAMP!$C$1:$X$20,S$11-$D$11+2,FALSE))","v":1.0569606911433781E-2},{"$f":"IF(ISBLANK($C50),\"\",VLOOKUP($C50,RAMP!$C$1:$X$20,T$11-$D$11+2,FALSE))","v":7.2092823794611682E-5},{"$f":"IF(ISBLANK($C50),\"\",VLOOKUP($C50,RAMP!$C$1:$X$20,U$11-$D$11+2,FALSE))","v":2.5747437069512102E-5},{"$f":"IF(ISBLANK($C50),\"\",VLOOKUP($C50,RAMP!$C$1:$X$20,V$11-$D$11+2,FALSE))","v":8.7775353646568632E-6},{"$f":"IF(ISBLANK($C50),\"\",VLOOKUP($C50,RAMP!$C$1:$X$20,W$11-$D$11+2,FALSE))","v":2.8622397928446119E-6},0.85]
[{"$f":"MLIST!A51","v":"HVAC"},{"$f":"MLIST!D51","v":"DCV-Lab Hood-Retro"},"Retro5Med",{"$f":"IF(ISBLANK($C51),\"\",VLOOKUP($C51,RAMP!$C$1:$X$20,D$11-$D$11+2,FALSE))","v":4.2999999999999997E-2},{"$f":"IF(ISBLANK($C51),\"\",VLOOKUP($C51,RAMP!$C$1:$X$20,E$11-$D$11+2,FALSE))","v":5.279714228027832E-2},{"$f":"IF(ISBLANK($C51),\"\",VLOOKUP($C51,RAMP!$C$1:$X$20,F$11-$D$11+2,FALSE))","v":6.4608251467478173E-2},{"$f":"IF(ISBLANK($C51),\"\",VLOOKUP($C51,RAMP!$C$1:$X$20,G$11-$D$11+2,FALSE))","v":7.4999999999999997E-2},{"$f":"IF(ISBLANK($C51),\"\",VLOOKUP($C51,RAMP!$C$1:$X$20,H$11-$D$11+2,FALSE))","v":8.5546997470333563E-2},{"$f":"IF(ISBLANK($C51),\"\",VLOOKUP($C51,RAMP!$C$1:$X$20,I$11-$D$11+2,FALSE))","v":0.10001472303820647},{"$f":"IF(ISBLANK($C51),\"\",VLOOKUP($C51,RAMP!$C$1:$X$20,J$11-$D$11+2,FALSE))","v":0.10971770435235073},{"$f":"IF(ISBLANK($C51),\"\",VLOOKUP($C51,RAMP!$C$1:$X$20,K$11-$D$11+2,FALSE))","v":0.11208438511970376},{"$f":"IF(ISBLANK($C51),\"\",VLOOKUP($C51,RAMP!$C$1:$X$20,L$11-$D$11+2,FALSE))","v":0.10562608162722853},{"$f":"IF(ISBLANK($C51),\"\",VLOOKUP($C51,RAMP!$C$1:$X$20,M$11-$D$11+2,FALSE))","v":9.0794563997872335E-2},{"$f":"IF(ISBLANK($C51),\"\",VLOOKUP($C51,RAMP!$C$1:$X$20,N$11-$D$11+2,FALSE))","v":7.0260666991849297E-2},{"$f":"IF(ISBLANK($C51),\"\",VLOOKUP($C51,RAMP!$C$1:$X$20,O$11-$D$11+2,FALSE))","v":4.65E-2},{"$f":"IF(ISBLANK($C51),\"\",VLOOKUP($C51,RAMP!$C$1:$X$20,P$11-$D$11+2,FALSE))","v":2.7E-2},{"$f":"IF(ISBLANK($C51),\"\",VLOOKUP($C51,RAMP!$C$1:$X$20,Q$11-$D$11+2,FALSE))","v":1.2999999999999999E-2},{"$f":"IF(ISBLANK($C51),\"\",VLOOKUP($C51,RAMP!$C$1:$X$20,R$11-$D$11+2,FALSE))","v":5.4999999999999997E-3},{"$f":"IF(ISBLANK($C51),\"\",VLOOKUP($C51,RAMP!$C$1:$X$20,S$11-$D$11+2,FALSE))","v":2E-3},{"$f":"IF(ISBLANK($C51),\"\",VLOOKUP($C51,RAMP!$C$1:$X$20,T$11-$D$11+2,FALSE))","v":6.2471001963848583E-4},{"$f":"IF(ISBLANK($C51),\"\",VLOOKUP($C51,RAMP!$C$1:$X$20,U$11-$D$11+2,FALSE))","v":1.3615841889635938E-4},{"$f":"IF(ISBLANK($C51),\"\",VLOOKUP($C51,RAMP!$C$1:$X$20,V$11-$D$11+2,FALSE))","v":2.2380636622298944E-5},{"$f":"IF(ISBLANK($C51),\"\",VLOOKUP($C51,RAMP!$C$1:$X$20,W$11-$D$11+2,FALSE))","v":2.68643837586513E-6},0.85]
[{"$f":"MLIST!A52","v":"HVAC"},{"$f":"MLIST!D52","v":"DCV-Kitchen-Retro"},"Retro5Med",{"$f":"IF(ISBLANK($C52),\"\",VLOOKUP($C52,RAMP!$C$1:$X$20,D$11-$D$11+2,FALSE))","v":4.2999999999999997E-2},{"$f":"IF(ISBLANK($C52),\"\",VLOOKUP($C52,RAMP!$C$1:$X$20,E$11-$D$11+2,FALSE))","v":5.279714228027832E-2},{"$f":"IF(ISBLANK($C52),\"\",VLOOKUP($C52,RAMP!$C$1:$X$20,F$11-$D$11+2,FALSE))","v":6.4608251467478173E-2},{"$f":"IF(ISBLANK($C52),\"\",VLOOKUP($C52,RAMP!$C$1:$X$20,G$11-$D$11+2,FALSE))","v":7.4999999999999997E-2},{"$f":"IF(ISBLANK($C52),\"\",VLOOKUP($C52,RAMP!$C$1:$X$20,H$11-$D$11+2,FALSE))","v":8.5546997470333563E-2},{"$f":"IF(ISBLANK($C52),\"\",VLOOKUP($C52,RAMP!$C$1:$X$20,I$11-$D$11+2,FALSE))","v":0.10001472303820647},{"$f":"IF(ISBLANK($C52),\"\",VLOOKUP($C52,RAMP!$C$1:$X$20,J$11-$D$11+2,FALSE))","v":0.10971770435235073},{"$f":"IF(ISBLANK($C52),\"\",VLOOKUP($C52,RAMP!$C$1:$X$20,K$11-$D$11+2,FALSE))","v":0.11208438511970376},{"$f":"IF(ISBLANK($C52),\"\",VLOOKUP($C52,RAMP!$C$1:$X$20,L$11-$D$11+2,FALSE))","v":0.10562608162722853},{"$f":"IF(ISBLANK($C52),\"\",VLOOKUP($C52,RAMP!$C$1:$X$20,M$11-$D$11+2,FALSE))","v":9.0794563997872335E-2},{"$f":"IF(ISBLANK($C52),\"\",VLOOKUP($C52,RAMP!$C$1:$X$20,N$11-$D$11+2,FALSE))","v":7.0260666991849297E-2},{"$f":"IF(ISBLANK($C52),\"\",VLOOKUP($C52,RAMP!$C$1:$X$20,O$11-$D$11+2,FALSE))","v":4.65E-2},{"$f":"IF(ISBLANK($C52),\"\",VLOOKUP($C52,RAMP!$C$1:$X$20,P$11-$D$11+2,FALSE))","v":2.7E-2},{"$f":"IF(ISBLANK($C52),\"\",VLOOKUP($C52,RAMP!$C$1:$X$20,Q$11-$D$11+2,FALSE))","v":1.2999999999999999E-2},{"$f":"IF(ISBLANK($C52),\"\",VLOOKUP($C52,RAMP!$C$1:$X$20,R$11-$D$11+2,FALSE))","v":5.4999999999999997E-3},{"$f":"IF(ISBLANK($C52),\"\",VLOOKUP($C52,RAMP!$C$1:$X$20,S$11-$D$11+2,FALSE))","v":2E-3},{"$f":"IF(ISBLANK($C52),\"\",VLOOKUP($C52,RAMP!$C$1:$X$20,T$11-$D$11+2,FALSE))","v":6.2471001963848583E-4},{"$f":"IF(ISBLANK($C52),\"\",VLOOKUP($C52,RAMP!$C$1:$X$20,U$11-$D$11+2,FALSE))","v":1.3615841889635938E-4},{"$f":"IF(ISBLANK($C52),\"\",VLOOKUP($C52,RAMP!$C$1:$X$20,V$11-$D$11+2,FALSE))","v":2.2380636622298944E-5},{"$f":"IF(ISBLANK($C52),\"\",VLOOKUP($C52,RAMP!$C$1:$X$20,W$11-$D$11+2,FALSE))","v":2.68643837586513E-6},0.85]
[{"$f":"MLIST!A53","v":"HVAC"},{"$f":"MLIST!D53","v":"DCV-Parking Garage-Retro"},"Retro5Med",{"$f":"IF(ISBLANK($C53),\"\",VLOOKUP($C53,RAMP!$C$1:$X$20,D$11-$D$11+2,FALSE))","v":4.2999999999999997E-2},{"$f":"IF(ISBLANK($C53),\"\",VLOOKUP($C53,RAMP!$C$1:$X$20,E$11-$D$11+2,FALSE))","v":5.279714228027832E-2},{"$f":"IF(ISBLANK($C53),\"\",VLOOKUP($C53,RAMP!$C$1:$X$20,F$11-$D$11+2,FALSE))","v":6.4608251467478173E-2},{"$f":"IF(ISBLANK($C53),\"\",VLOOKUP($C53,RAMP!$C$1:$X$20,G$11-$D$11+2,FALSE))","v":7.4999999999999997E-2},{"$f":"IF(ISBLANK($C53),\"\",VLOOKUP($C53,RAMP!$C$1:$X$20,H$11-$D$11+2,FALSE))","v":8.5546997470333563E-2},{"$f":"IF(ISBLANK($C53),\"\",VLOOKUP($C53,RAMP!$C$1:$X$20,I$11-$D$11+2,FALSE))","v":0.10001472303820647},{"$f":"IF(ISBLANK($C53),\"\",VLOOKUP($C53,RAMP!$C$1:$X$20,J$11-$D$11+2,FALSE))","v":0.10971770435235073},{"$f":"IF(ISBLANK($C53),\"\",VLOOKUP($C53,RAMP!$C$1:$X$20,K$11-$D$11+2,FALSE))","v":0.11208438511970376},{"$f":"IF(ISBLANK($C53),\"\",VLOOKUP($C53,RAMP!$C$1:$X$20,L$11-$D$11+2,FALSE))","v":0.10562608162722853},{"$f":"IF(ISBLANK($C53),\"\",VLOOKUP($C53,RAMP!$C$1:$X$20,M$11-$D$11+2,FALSE))","v":9.0794563997872335E-2},{"$f":"IF(ISBLANK($C53),\"\",VLOOKUP($C53,RAMP!$C$1:$X$20,N$11-$D$11+2,FALSE))","v":7.0260666991849297E-2},{"$f":"IF(ISBLANK($C53),\"\",VLOOKUP($C53,RAMP!$C$1:$X$20,O$11-$D$11+2,FALSE))","v":4.65E-2},{"$f":"IF(ISBLANK($C53),\"\",VLOOKUP($C53,RAMP!$C$1:$X$20,P$11-$D$11+2,FALSE))","v":2.7E-2},{"$f":"IF(ISBLANK($C53),\"\",VLOOKUP($C53,RAMP!$C$1:$X$20,Q$11-$D$11+2,FALSE))","v":1.2999999999999999E-2},{"$f":"IF(ISBLANK($C53),\"\",VLOOKUP($C53,RAMP!$C$1:$X$20,R$11-$D$11+2,FALSE))","v":5.4999999999999997E-3},{"$f":"IF(ISBLANK($C53),\"\",VLOOKUP($C53,RAMP!$C$1:$X$20,S$11-$D$11+2,FALSE))","v":2E-3},{"$f":"IF(ISBLANK($C53),\"\",VLOOKUP($C53,RAMP!$C$1:$X$20,T$11-$D$11+2,FALSE))","v":6.2471001963848583E-4},{"$f":"IF(ISBLANK($C53),\"\",VLOOKUP($C53,RAMP!$C$1:$X$20,U$11-$D$11+2,FALSE))","v":1.3615841889635938E-4},{"$f":"IF(ISBLANK($C53),\"\",VLOOKUP($C53,RAMP!$C$1:$X$20,V$11-$D$11+2,FALSE))","v":2.2380636622298944E-5},{"$f":"IF(ISBLANK($C53),\"\",VLOOKUP($C53,RAMP!$C$1:$X$20,W$11-$D$11+2,FALSE))","v":2.68643837586513E-6},0.85]
[{"$f":"MLIST!A54","v":"HVAC"},{"$f":"MLIST!D54","v":"Weatherization - School-Retro"},"RetroEven20",{"$f":"IF(ISBLANK($C54),\"\",VLOOKUP($C54,RAMP!$C$1:$X$20,D$11-$D$11+2,FALSE))","v":0.05},{"$f":"IF(ISBLANK($C54),\"\",VLOOKUP($C54,RAMP!$C$1:$X$20,E$11-$D$11+2,FALSE))","v":0.05},{"$f":"IF(ISBLANK($C54),\"\",VLOOKUP($C54,RAMP!$C$1:$X$20,F$11-$D$11+2,FALSE))","v":0.05},{"$f":"IF(ISBLANK($C54),\"\",VLOOKUP($C54,RAMP!$C$1:$X$20,G$11-$D$11+2,FALSE))","v":0.05},{"$f":"IF(ISBLANK($C54),\"\",VLOOKUP($C54,RAMP!$C$1:$X$20,H$11-$D$11+2,FALSE))","v":0.05},{"$f":"IF(ISBLANK($C54),\"\",VLOOKUP($C54,RAMP!$C$1:$X$20,I$11-$D$11+2,FALSE))","v":0.05},{"$f":"IF(ISBLANK($C54),\"\",VLOOKUP($C54,RAMP!$C$1:$X$20,J$11-$D$11+2,FALSE))","v":0.05},{"$f":"IF(ISBLANK($C54),\"\",VLOOKUP($C54,RAMP!$C$1:$X$20,K$11-$D$11+2,FALSE))","v":0.05},{"$f":"IF(ISBLANK($C54),\"\",VLOOKUP($C54,RAMP!$C$1:$X$20,L$11-$D$11+2,FALSE))","v":0.05},{"$f":"IF(ISBLANK($C54),\"\",VLOOKUP($C54,RAMP!$C$1:$X$20,M$11-$D$11+2,FALSE))","v":0.05},{"$f":"IF(ISBLANK($C54),\"\",VLOOKUP($C54,RAMP!$C$1:$X$20,N$11-$D$11+2,FALSE))","v":0.05},{"$f":"IF(ISBLANK($C54),\"\",VLOOKUP($C54,RAMP!$C$1:$X$20,O$11-$D$11+2,FALSE))","v":0.05},{"$f":"IF(ISBLANK($C54),\"\",VLOOKUP($C54,RAMP!$C$1:$X$20,P$11-$D$11+2,FALSE))","v":0.05},{"$f":"IF(ISBLANK($C54),\"\",VLOOKUP($C54,RAMP!$C$1:$X$20,Q$11-$D$11+2,FALSE))","v":0.05},{"$f":"IF(ISBLANK($C54),\"\",VLOOKUP($C54,RAMP!$C$1:$X$20,R$11-$D$11+2,FALSE))","v":0.05},{"$f":"IF(ISBLANK($C54),\"\",VLOOKUP($C54,RAMP!$C$1:$X$20,S$11-$D$11+2,FALSE))","v":0.05},{"$f":"IF(ISBLANK($C54),\"\",VLOOKUP($C54,RAMP!$C$1:$X$20,T$11-$D$11+2,FALSE))","v":0.05},{"$f":"IF(ISBLANK($C54),\"\",VLOOKUP($C54,RAMP!$C$1:$X$20,U$11-$D$11+2,FALSE))","v":0.05},{"$f":"IF(ISBLANK($C54),\"\",VLOOKUP($C54,RAMP!$C$1:$X$20,V$11-$D$11+2,FALSE))","v":0.05},{"$f":"IF(ISBLANK($C54),\"\",VLOOKUP($C54,RAMP!$C$1:$X$20,W$11-$D$11+2,FALSE))","v":0.05},0.85]
[{"$f":"MLIST!A55","v":"HVAC"},{"$f":"MLIST!D55","v":"Energy Recovery Ventilator-NR"},"LO5Med",{"$f":"IF(ISBLANK($C55),\"\",VLOOKUP($C55,RAMP!$C$1:$X$20,D$11-$D$11+2,FALSE))","v":4.2999999999999997E-2},{"$f":"IF(ISBLANK($C55),\"\",VLOOKUP($C55,RAMP!$C$1:$X$20,E$11-$D$11+2,FALSE))","v":9.5797142280278316E-2},{"$f":"IF(ISBLANK($C55),\"\",VLOOKUP($C55,RAMP!$C$1:$X$20,F$11-$D$11+2,FALSE))","v":0.16040539374775648},{"$f":"IF(ISBLANK($C55),\"\",VLOOKUP($C55,RAMP!$C$1:$X$20,G$11-$D$11+2,FALSE))","v":0.23540539374775649},{"$f":"IF(ISBLANK($C55),\"\",VLOOKUP($C55,RAMP!$C$1:$X$20,H$11-$D$11+2,FALSE))","v":0.32095239121809005},{"$f":"IF(ISBLANK($C55),\"\",VLOOKUP($C55,RAMP!$C$1:$X$20,I$11-$D$11+2,FALSE))","v":0.42096711425629652},{"$f":"IF(ISBLANK($C55),\"\",VLOOKUP($C55,RAMP!$C$1:$X$20,J$11-$D$11+2,FALSE))","v":0.53068481860864725},{"$f":"IF(ISBLANK($C55),\"\",VLOOKUP($C55,RAMP!$C$1:$X$20,K$11-$D$11+2,FALSE))","v":0.642769203728351},{"$f":"IF(ISBLANK($C55),\"\",VLOOKUP($C55,RAMP!$C$1:$X$20,L$11-$D$11+2,FALSE))","v":0.74839528535557953},{"$f":"IF(ISBLANK($C55),\"\",VLOOKUP($C55,RAMP!$C$1:$X$20,M$11-$D$11+2,FALSE))","v":0.83918984935345187},{"$f":"IF(ISBLANK($C55),\"\",VLOOKUP($C55,RAMP!$C$1:$X$20,N$11-$D$11+2,FALSE))","v":0.90945051634530116},{"$f":"IF(ISBLANK($C55),\"\",VLOOKUP($C55,RAMP!$C$1:$X$20,O$11-$D$11+2,FALSE))","v":0.9576688767502457},{"$f":"IF(ISBLANK($C55),\"\",VLOOKUP($C55,RAMP!$C$1:$X$20,P$11-$D$11+2,FALSE))","v":0.9865231113648858},{"$f":"IF(ISBLANK($C55),\"\",VLOOKUP($C55,RAMP!$C$1:$X$20,Q$11-$D$11+2,FALSE))","v":1},{"$f":"IF(ISBLANK($C55),\"\",VLOOKUP($C55,RAMP!$C$1:$X$20,R$11-$D$11+2,FALSE))","v":1},{"$f":"IF(ISBLANK($C55),\"\",VLOOKUP($C55,RAMP!$C$1:$X$20,S$11-$D$11+2,FALSE))","v":1},{"$f":"IF(ISBLANK($C55),\"\",VLOOKUP($C55,RAMP!$C$1:$X$20,T$11-$D$11+2,FALSE))","v":1},{"$f":"IF(ISBLANK($C55),\"\",VLOOKUP($C55,RAMP!$C$1:$X$20,U$11-$D$11+2,FALSE))","v":1},{"$f":"IF(ISBLANK($C55),\"\",VLOOKUP($C55,RAMP!$C$1:$X$20,V$11-$D$11+2,FALSE))","v":1},{"$f":"IF(ISBLANK($C55),\"\",VLOOKUP($C55,RAMP!$C$1:$X$20,W$11-$D$11+2,FALSE))","v":1},0.85]
[{"$f":"MLIST!A56","v":"HVAC"},{"$f":"MLIST!D56","v":"AC Heat Recovery for Water Heating-NR"},"LO5Med",{"$f":"IF(ISBLANK($C56),\"\",VLOOKUP($C56,RAMP!$C$1:$X$20,D$11-$D$11+2,FALSE))","v":4.2999999999999997E-2},{"$f":"IF(ISBLANK($C56),\"\",VLOOKUP($C56,RAMP!$C$1:$X$20,E$11-$D$11+2,FALSE))","v":9.5797142280278316E-2},{"$f":"IF(ISBLANK($C56),\"\",VLOOKUP($C56,RAMP!$C$1:$X$20,F$11-$D$11+2,FALSE))","v":0.16040539374775648},{"$f":"IF(ISBLANK($C56),\"\",VLOOKUP($C56,RAMP!$C$1:$X$20,G$11-$D$11+2,FALSE))","v":0.23540539374775649},{"$f":"IF(ISBLANK($C56),\"\",VLOOKUP($C56,RAMP!$C$1:$X$20,H$11-$D$11+2,FALSE))","v":0.32095239121809005},{"$f":"IF(ISBLANK($C56),\"\",VLOOKUP($C56,RAMP!$C$1:$X$20,I$11-$D$11+2,FALSE))","v":0.42096711425629652},{"$f":"IF(ISBLANK($C56),\"\",VLOOKUP($C56,RAMP!$C$1:$X$20,J$11-$D$11+2,FALSE))","v":0.53068481860864725},{"$f":"IF(ISBLANK($C56),\"\",VLOOKUP($C56,RAMP!$C$1:$X$20,K$11-$D$11+2,FALSE))","v":0.642769203728351},{"$f":"IF(ISBLANK($C56),\"\",VLOOKUP($C56,RAMP!$C$1:$X$20,L$11-$D$11+2,FALSE))","v":0.74839528535557953},{"$f":"IF(ISBLANK($C56),\"\",VLOOKUP($C56,RAMP!$C$1:$X$20,M$11-$D$11+2,FALSE))","v":0.83918984935345187},{"$f":"IF(ISBLANK($C56),\"\",VLOOKUP($C56,RAMP!$C$1:$X$20,N$11-$D$11+2,FALSE))","v":0.90945051634530116},{"$f":"IF(ISBLANK($C56),\"\",VLOOKUP($C56,RAMP!$C$1:$X$20,O$11-$D$11+2,FALSE))","v":0.9576688767502457},{"$f":"IF(ISBLANK($C56),\"\",VLOOKUP($C56,RAMP!$C$1:$X$20,P$11-$D$11+2,FALSE))","v":0.9865231113648858},{"$f":"IF(ISBLANK($C56),\"\",VLOOKUP($C56,RAMP!$C$1:$X$20,Q$11-$D$11+2,FALSE))","v":1},{"$f":"IF(ISBLANK($C56),\"\",VLOOKUP($C56,RAMP!$C$1:$X$20,R$11-$D$11+2,FALSE))","v":1},{"$f":"IF(ISBLANK($C56),\"\",VLOOKUP($C56,RAMP!$C$1:$X$20,S$11-$D$11+2,FALSE))","v":1},{"$f":"IF(ISBLANK($C56),\"\",VLOOKUP($C56,RAMP!$C$1:$X$20,T$11-$D$11+2,FALSE))","v":1},{"$f":"IF(ISBLANK($C56),\"\",VLOOKUP($C56,RAMP!$C$1:$X$20,U$11-$D$11+2,FALSE))","v":1},{"$f":"IF(ISBLANK($C56),\"\",VLOOKUP($C56,RAMP!$C$1:$X$20,V$11-$D$11+2,FALSE))","v":1},{"$f":"IF(ISBLANK($C56),\"\",VLOOKUP($C56,RAMP!$C$1:$X$20,W$11-$D$11+2,FALSE))","v":1},0.85]
[{"$f":"MLIST!A57","v":"HVAC"},{"$f":"MLIST!D57","v":"Room Occupancy Sensors in Lodging-Retro"},"LO5Med",{"$f":"IF(ISBLANK($C57),\"\",VLOOKUP($C57,RAMP!$C$1:$X$20,D$11-$D$11+2,FALSE))","v":4.2999999999999997E-2},{"$f":"IF(ISBLANK($C57),\"\",VLOOKUP($C57,RAMP!$C$1:$X$20,E$11-$D$11+2,FALSE))","v":9.5797142280278316E-2},{"$f":"IF(ISBLANK($C57),\"\",VLOOKUP($C57,RAMP!$C$1:$X$20,F$11-$D$11+2,FALSE))","v":0.16040539374775648},{"$f":"IF(ISBLANK($C57),\"\",VLOOKUP($C57,RAMP!$C$1:$X$20,G$11-$D$11+2,FALSE))","v":0.23540539374775649},{"$f":"IF(ISBLANK($C57),\"\",VLOOKUP($C57,RAMP!$C$1:$X$20,H$11-$D$11+2,FALSE))","v":0.32095239121809005},{"$f":"IF(ISBLANK($C57),\"\",VLOOKUP($C57,RAMP!$C$1:$X$20,I$11-$D$11+2,FALSE))","v":0.42096711425629652},{"$f":"IF(ISBLANK($C57),\"\",VLOOKUP($C57,RAMP!$C$1:$X$20,J$11-$D$11+2,FALSE))","v":0.53068481860864725},{"$f":"IF(ISBLANK($C57),\"\",VLOOKUP($C57,RAMP!$C$1:$X$20,K$11-$D$11+2,FALSE))","v":0.642769203728351},{"$f":"IF(ISBLANK($C57),\"\",VLOOKUP($C57,RAMP!$C$1:$X$20,L$11-$D$11+2,FALSE))","v":0.74839528535557953},{"$f":"IF(ISBLANK($C57),\"\",VLOOKUP($C57,RAMP!$C$1:$X$20,M$11-$D$11+2,FALSE))","v":0.83918984935345187},{"$f":"IF(ISBLANK($C57),\"\",VLOOKUP($C57,RAMP!$C$1:$X$20,N$11-$D$11+2,FALSE))","v":0.90945051634530116},{"$f":"IF(ISBLANK($C57),\"\",VLOOKUP($C57,RAMP!$C$1:$X$20,O$11-$D$11+2,FALSE))","v":0.9576688767502457},{"$f":"IF(ISBLANK($C57),\"\",VLOOKUP($C57,RAMP!$C$1:$X$20,P$11-$D$11+2,FALSE))","v":0.9865231113648858},{"$f":"IF(ISBLANK($C57),\"\",VLOOKUP($C57,RAMP!$C$1:$X$20,Q$11-$D$11+2,FALSE))","v":1},{"$f":"IF(ISBLANK($C57),\"\",VLOOKUP($C57,RAMP!$C$1:$X$20,R$11-$D$11+2,FALSE))","v":1},{"$f":"IF(ISBLANK($C57),\"\",VLOOKUP($C57,RAMP!$C$1:$X$20,S$11-$D$11+2,FALSE))","v":1},{"$f":"IF(ISBLANK($C57),\"\",VLOOKUP($C57,RAMP!$C$1:$X$20,T$11-$D$11+2,FALSE))","v":1},{"$f":"IF(ISBLANK($C57),\"\",VLOOKUP($C57,RAMP!$C$1:$X$20,U$11-$D$11+2,FALSE))","v":1},{"$f":"IF(ISBLANK($C57),\"\",VLOOKUP($C57,RAMP!$C$1:$X$20,V$11-$D$11+2,FALSE))","v":1},{"$f":"IF(ISBLANK($C57),\"\",VLOOKUP($C57,RAMP!$C$1:$X$20,W$11-$D$11+2,FALSE))","v":1},0.85]
[{"$f":"MLIST!A58","v":"HVAC"},{"$f":"MLIST!D58","v":"Pool Blankets-Retro"},"Retro20Fast",{"$f":"IF(ISBLANK($C58),\"\",VLOOKUP($C58,RAMP!$C$1:$X$20,D$11-$D$11+2,FALSE))","v":0.22119921692859512},{"$f":"IF(ISBLANK($C58),\"\",VLOOKUP($C58,RAMP!$C$1:$X$20,E$11-$D$11+2,FALSE))","v":0.15504311102289431},{"$f":"IF(ISBLANK($C58),\"\",VLOOKUP($C58,RAMP!$C$1:$X$20,F$11-$D$11+2,FALSE))","v":0.10733128557729499},{"$f":"IF(ISBLANK($C58),\"\",VLOOKUP($C58,RAMP!$C$1:$X$20,G$11-$D$11+2,FALSE))","v":8.3589689255657879E-2},{"$f":"IF(ISBLANK($C58),\"\",VLOOKUP($C58,RAMP!$C$1:$X$20,H$11-$D$11+2,FALSE))","v":7.3237179880126971E-2},{"$f":"IF(ISBLANK($C58),\"\",VLOOKUP($C58,RAMP!$C$1:$X$20,I$11-$D$11+2,FALSE))","v":6.3374636711760357E-2},{"$f":"IF(ISBLANK($C58),\"\",VLOOKUP($C58,RAMP!$C$1:$X$20,J$11-$D$11+2,FALSE))","v":5.4291838367783084E-2},{"$f":"IF(ISBLANK($C58),\"\",VLOOKUP($C58,RAMP!$C$1:$X$20,K$11-$D$11+2,FALSE))","v":4.612639225659896E-2},{"$f":"IF(ISBLANK($C58),\"\",VLOOKUP($C58,RAMP!$C$1:$X$20,L$11-$D$11+2,FALSE))","v":3.8916876277172864E-2},{"$f":"IF(ISBLANK($C58),\"\",VLOOKUP($C58,RAMP!$C$1:$X$20,M$11-$D$11+2,FALSE))","v":3.2639916313151704E-2},{"$f":"IF(ISBLANK($C58),\"\",VLOOKUP($C58,RAMP!$C$1:$X$20,N$11-$D$11+2,FALSE))","v":2.7235706125786907E-2},{"$f":"IF(ISBLANK($C58),\"\",VLOOKUP($C58,RAMP!$C$1:$X$20,O$11-$D$11+2,FALSE))","v":2.1211189258265428E-2},{"$f":"IF(ISBLANK($C58),\"\",VLOOKUP($C58,RAMP!$C$1:$X$20,P$11-$D$11+2,FALSE))","v":1.6519290804212883E-2},{"$f":"IF(ISBLANK($C58),\"\",VLOOKUP($C58,RAMP!$C$1:$X$20,Q$11-$D$11+2,FALSE))","v":1.2865236614105324E-2},{"$f":"IF(ISBLANK($C58),\"\",VLOOKUP($C58,RAMP!$C$1:$X$20,R$11-$D$11+2,FALSE))","v":1.0019456349464106E-2},{"$f":"IF(ISBLANK($C58),\"\",VLOOKUP($C58,RAMP!$C$1:$X$20,S$11-$D$11+2,FALSE))","v":9.1999999999999998E-3},{"$f":"IF(ISBLANK($C58),\"\",VLOOKUP($C58,RAMP!$C$1:$X$20,T$11-$D$11+2,FALSE))","v":7.1999999999999998E-3},{"$f":"IF(ISBLANK($C58),\"\",VLOOKUP($C58,RAMP!$C$1:$X$20,U$11-$D$11+2,FALSE))","v":6.1999999999999998E-3},{"$f":"IF(ISBLANK($C58),\"\",VLOOKUP($C58,RAMP!$C$1:$X$20,V$11-$D$11+2,FALSE))","v":5.1999999999999998E-3},{"$f":"IF(ISBLANK($C58),\"\",VLOOKUP($C58,RAMP!$C$1:$X$20,W$11-$D$11+2,FALSE))","v":4.1999999999999997E-3},0.85]
[{"$f":"MLIST!A59","v":"HVAC"},{"$f":"MLIST!D59","v":"ConnectedThermostats-New"},"LO5Med",{"$f":"IF(ISBLANK($C59),\"\",VLOOKUP($C59,RAMP!$C$1:$X$20,D$11-$D$11+2,FALSE))","v":4.2999999999999997E-2},{"$f":"IF(ISBLANK($C59),\"\",VLOOKUP($C59,RAMP!$C$1:$X$20,E$11-$D$11+2,FALSE))","v":9.5797142280278316E-2},{"$f":"IF(ISBLANK($C59),\"\",VLOOKUP($C59,RAMP!$C$1:$X$20,F$11-$D$11+2,FALSE))","v":0.16040539374775648},{"$f":"IF(ISBLANK($C59),\"\",VLOOKUP($C59,RAMP!$C$1:$X$20,G$11-$D$11+2,FALSE))","v":0.23540539374775649},{"$f":"IF(ISBLANK($C59),\"\",VLOOKUP($C59,RAMP!$C$1:$X$20,H$11-$D$11+2,FALSE))","v":0.32095239121809005},{"$f":"IF(ISBLANK($C59),\"\",VLOOKUP($C59,RAMP!$C$1:$X$20,I$11-$D$11+2,FALSE))","v":0.42096711425629652},{"$f":"IF(ISBLANK($C59),\"\",VLOOKUP($C59,RAMP!$C$1:$X$20,J$11-$D$11+2,FALSE))","v":0.53068481860864725},{"$f":"IF(ISBLANK($C59),\"\",VLOOKUP($C59,RAMP!$C$1:$X$20,K$11-$D$11+2,FALSE))","v":0.642769203728351},{"$f":"IF(ISBLANK($C59),\"\",VLOOKUP($C59,RAMP!$C$1:$X$20,L$11-$D$11+2,FALSE))","v":0.74839528535557953},{"$f":"IF(ISBLANK($C59),\"\",VLOOKUP($C59,RAMP!$C$1:$X$20,M$11-$D$11+2,FALSE))","v":0.83918984935345187},{"$f":"IF(ISBLANK($C59),\"\",VLOOKUP($C59,RAMP!$C$1:$X$20,N$11-$D$11+2,FALSE))","v":0.90945051634530116},{"$f":"IF(ISBLANK($C59),\"\",VLOOKUP($C59,RAMP!$C$1:$X$20,O$11-$D$11+2,FALSE))","v":0.9576688767502457},{"$f":"IF(ISBLANK($C59),\"\",VLOOKUP($C59,RAMP!$C$1:$X$20,P$11-$D$11+2,FALSE))","v":0.9865231113648858},{"$f":"IF(ISBLANK($C59),\"\",VLOOKUP($C59,RAMP!$C$1:$X$20,Q$11-$D$11+2,FALSE))","v":1},{"$f":"IF(ISBLANK($C59),\"\",VLOOKUP($C59,RAMP!$C$1:$X$20,R$11-$D$11+2,FALSE))","v":1},{"$f":"IF(ISBLANK($C59),\"\",VLOOKUP($C59,RAMP!$C$1:$X$20,S$11-$D$11+2,FALSE))","v":1},{"$f":"IF(ISBLANK($C59),\"\",VLOOKUP($C59,RAMP!$C$1:$X$20,T$11-$D$11+2,FALSE))","v":1},{"$f":"IF(ISBLANK($C59),\"\",VLOOKUP($C59,RAMP!$C$1:$X$20,U$11-$D$11+2,FALSE))","v":1},{"$f":"IF(ISBLANK($C59),\"\",VLOOKUP($C59,RAMP!$C$1:$X$20,V$11-$D$11+2,FALSE))","v":1},{"$f":"IF(ISBLANK($C59),\"\",VLOOKUP($C59,RAMP!$C$1:$X$20,W$11-$D$11+2,FALSE))","v":1},0.95]
[{"$f":"MLIST!A60","v":"HVAC"},{"$f":"MLIST!D60","v":"ConnectedThermostats-Retro"},"Retro12Med",{"$f":"IF(ISBLANK($C60),\"\",VLOOKUP($C60,RAMP!$C$1:$X$20,D$11-$D$11+2,FALSE))","v":0.10937459468255628},{"$f":"IF(ISBLANK($C60),\"\",VLOOKUP($C60,RAMP!$C$1:$X$20,E$11-$D$11+2,FALSE))","v":0.10937459468255628},{"$f":"IF(ISBLANK($C60),\"\",VLOOKUP($C60,RAMP!$C$1:$X$20,F$11-$D$11+2,FALSE))","v":0.10937459468255628},{"$f":"IF(ISBLANK($C60),\"\",VLOOKUP($C60,RAMP!$C$1:$X$20,G$11-$D$11+2,FALSE))","v":0.10937459468255628},{"$f":"IF(ISBLANK($C60),\"\",VLOOKUP($C60,RAMP!$C$1:$X$20,H$11-$D$11+2,FALSE))","v":0.10937459468255628},{"$f":"IF(ISBLANK($C60),\"\",VLOOKUP($C60,RAMP!$C$1:$X$20,I$11-$D$11+2,FALSE))","v":9.8437135214300656E-2},{"$f":"IF(ISBLANK($C60),\"\",VLOOKUP($C60,RAMP!$C$1:$X$20,J$11-$D$11+2,FALSE))","v":7.874970817144053E-2},{"$f":"IF(ISBLANK($C60),\"\",VLOOKUP($C60,RAMP!$C$1:$X$20,K$11-$D$11+2,FALSE))","v":6.2999766537152418E-2},{"$f":"IF(ISBLANK($C60),\"\",VLOOKUP($C60,RAMP!$C$1:$X$20,L$11-$D$11+2,FALSE))","v":5.0399813229721938E-2},{"$f":"IF(ISBLANK($C60),\"\",VLOOKUP($C60,RAMP!$C$1:$X$20,M$11-$D$11+2,FALSE))","v":4.0319850583777551E-2},{"$f":"IF(ISBLANK($C60),\"\",VLOOKUP($C60,RAMP!$C$1:$X$20,N$11-$D$11+2,FALSE))","v":3.225588046702204E-2},{"$f":"IF(ISBLANK($C60),\"\",VLOOKUP($C60,RAMP!$C$1:$X$20,O$11-$D$11+2,FALSE))","v":2.5804704373617631E-2},{"$f":"IF(ISBLANK($C60),\"\",VLOOKUP($C60,RAMP!$C$1:$X$20,P$11-$D$11+2,FALSE))","v":2.0643763498894106E-2},{"$f":"IF(ISBLANK($C60),\"\",VLOOKUP($C60,RAMP!$C$1:$X$20,Q$11-$D$11+2,FALSE))","v":1.6515010799115284E-2},{"$f":"IF(ISBLANK($C60),\"\",VLOOKUP($C60,RAMP!$C$1:$X$20,R$11-$D$11+2,FALSE))","v":1.3212008639292228E-2},{"$f":"IF(ISBLANK($C60),\"\",VLOOKUP($C60,RAMP!$C$1:$X$20,S$11-$D$11+2,FALSE))","v":1.0569606911433781E-2},{"$f":"IF(ISBLANK($C60),\"\",VLOOKUP($C60,RAMP!$C$1:$X$20,T$11-$D$11+2,FALSE))","v":7.2092823794611682E-5},{"$f":"IF(ISBLANK($C60),\"\",VLOOKUP($C60,RAMP!$C$1:$X$20,U$11-$D$11+2,FALSE))","v":2.5747437069512102E-5},{"$f":"IF(ISBLANK($C60),\"\",VLOOKUP($C60,RAMP!$C$1:$X$20,V$11-$D$11+2,FALSE))","v":8.7775353646568632E-6},{"$f":"IF(ISBLANK($C60),\"\",VLOOKUP($C60,RAMP!$C$1:$X$20,W$11-$D$11+2,FALSE))","v":2.8622397928446119E-6},0.85]
[{"$f":"MLIST!A61","v":"HVAC"},{"$f":"MLIST!D61","v":"CircPumps-NR"},"LO12Med",{"$f":"IF(ISBLANK($C61),\"\",VLOOKUP($C61,RAMP!$C$1:$X$20,D$11-$D$11+2,FALSE))","v":0.10937459468255628},{"$f":"IF(ISBLANK($C61),\"\",VLOOKUP($C61,RAMP!$C$1:$X$20,E$11-$D$11+2,FALSE))","v":0.21874918936511256},{"$f":"IF(ISBLANK($C61),\"\",VLOOKUP($C61,RAMP!$C$1:$X$20,F$11-$D$11+2,FALSE))","v":0.32812378404766884},{"$f":"IF(ISBLANK($C61),\"\",VLOOKUP($C61,RAMP!$C$1:$X$20,G$11-$D$11+2,FALSE))","v":0.43749837873022512},{"$f":"IF(ISBLANK($C61),\"\",VLOOKUP($C61,RAMP!$C$1:$X$20,H$11-$D$11+2,FALSE))","v":0.5468729734127814},{"$f":"IF(ISBLANK($C61),\"\",VLOOKUP($C61,RAMP!$C$1:$X$20,I$11-$D$11+2,FALSE))","v":0.64531010862708205},{"$f":"IF(ISBLANK($C61),\"\",VLOOKUP($C61,RAMP!$C$1:$X$20,J$11-$D$11+2,FALSE))","v":0.7240598167985226},{"$f":"IF(ISBLANK($C61),\"\",VLOOKUP($C61,RAMP!$C$1:$X$20,K$11-$D$11+2,FALSE))","v":0.78705958333567505},{"$f":"IF(ISBLANK($C61),\"\",VLOOKUP($C61,RAMP!$C$1:$X$20,L$11-$D$11+2,FALSE))","v":0.83745939656539703},{"$f":"IF(ISBLANK($C61),\"\",VLOOKUP($C61,RAMP!$C$1:$X$20,M$11-$D$11+2,FALSE))","v":0.87777924714917455},{"$f":"IF(ISBLANK($C61),\"\",VLOOKUP($C61,RAMP!$C$1:$X$20,N$11-$D$11+2,FALSE))","v":0.91003512761619654},{"$f":"IF(ISBLANK($C61),\"\",VLOOKUP($C61,RAMP!$C$1:$X$20,O$11-$D$11+2,FALSE))","v":0.93583983198981413},{"$f":"IF(ISBLANK($C61),\"\",VLOOKUP($C61,RAMP!$C$1:$X$20,P$11-$D$11+2,FALSE))","v":0.9564835954887082},{"$f":"IF(ISBLANK($C61),\"\",VLOOKUP($C61,RAMP!$C$1:$X$20,Q$11-$D$11+2,FALSE))","v":0.97299860628782353},{"$f":"IF(ISBLANK($C61),\"\",VLOOKUP($C61,RAMP!$C$1:$X$20,R$11-$D$11+2,FALSE))","v":0.9862106149271157},{"$f":"IF(ISBLANK($C61),\"\",VLOOKUP($C61,RAMP!$C$1:$X$20,S$11-$D$11+2,FALSE))","v":0.99678022183854953},{"$f":"IF(ISBLANK($C61),\"\",VLOOKUP($C61,RAMP!$C$1:$X$20,T$11-$D$11+2,FALSE))","v":0.99685231466234414},{"$f":"IF(ISBLANK($C61),\"\",VLOOKUP($C61,RAMP!$C$1:$X$20,U$11-$D$11+2,FALSE))","v":0.99687806209941365},{"$f":"IF(ISBLANK($C61),\"\",VLOOKUP($C61,RAMP!$C$1:$X$20,V$11-$D$11+2,FALSE))","v":0.99688683963477831},{"$f":"IF(ISBLANK($C61),\"\",VLOOKUP($C61,RAMP!$C$1:$X$20,W$11-$D$11+2,FALSE))","v":0.99688970187457115},0.95]
[{"$f":"MLIST!A62","v":"HVAC"},{"$f":"MLIST!D62","v":"Circpumps-New"},"LO12Med",{"$f":"IF(ISBLANK($C62),\"\",VLOOKUP($C62,RAMP!$C$1:$X$20,D$11-$D$11+2,FALSE))","v":0.10937459468255628},{"$f":"IF(ISBLANK($C62),\"\",VLOOKUP($C62,RAMP!$C$1:$X$20,E$11-$D$11+2,FALSE))","v":0.21874918936511256},{"$f":"IF(ISBLANK($C62),\"\",VLOOKUP($C62,RAMP!$C$1:$X$20,F$11-$D$11+2,FALSE))","v":0.32812378404766884},{"$f":"IF(ISBLANK($C62),\"\",VLOOKUP($C62,RAMP!$C$1:$X$20,G$11-$D$11+2,FALSE))","v":0.43749837873022512},{"$f":"IF(ISBLANK($C62),\"\",VLOOKUP($C62,RAMP!$C$1:$X$20,H$11-$D$11+2,FALSE))","v":0.5468729734127814},{"$f":"IF(ISBLANK($C62),\"\",VLOOKUP($C62,RAMP!$C$1:$X$20,I$11-$D$11+2,FALSE))","v":0.64531010862708205},{"$f":"IF(ISBLANK($C62),\"\",VLOOKUP($C62,RAMP!$C$1:$X$20,J$11-$D$11+2,FALSE))","v":0.7240598167985226},{"$f":"IF(ISBLANK($C62),\"\",VLOOKUP($C62,RAMP!$C$1:$X$20,K$11-$D$11+2,FALSE))","v":0.78705958333567505},{"$f":"IF(ISBLANK($C62),\"\",VLOOKUP($C62,RAMP!$C$1:$X$20,L$11-$D$11+2,FALSE))","v":0.83745939656539703},{"$f":"IF(ISBLANK($C62),\"\",VLOOKUP($C62,RAMP!$C$1:$X$20,M$11-$D$11+2,FALSE))","v":0.87777924714917455},{"$f":"IF(ISBLANK($C62),\"\",VLOOKUP($C62,RAMP!$C$1:$X$20,N$11-$D$11+2,FALSE))","v":0.91003512761619654},{"$f":"IF(ISBLANK($C62),\"\",VLOOKUP($C62,RAMP!$C$1:$X$20,O$11-$D$11+2,FALSE))","v":0.93583983198981413},{"$f":"IF(ISBLANK($C62),\"\",VLOOKUP($C62,RAMP!$C$1:$X$20,P$11-$D$11+2,FALSE))","v":0.9564835954887082},{"$f":"IF(ISBLANK($C62),\"\",VLOOKUP($C62,RAMP!$C$1:$X$20,Q$11-$D$11+2,FALSE))","v":0.97299860628782353},{"$f":"IF(ISBLANK($C62),\"\",VLOOKUP($C62,RAMP!$C$1:$X$20,R$11-$D$11+2,FALSE))","v":0.9862106149271157},{"$f":"IF(ISBLANK($C62),\"\",VLOOKUP($C62,RAMP!$C$1:$X$20,S$11-$D$11+2,FALSE))","v":0.99678022183854953},{"$f":"IF(ISBLANK($C62),\"\",VLOOKUP($C62,RAMP!$C$1:$X$20,T$11-$D$11+2,FALSE))","v":0.99685231466234414},{"$f":"IF(ISBLANK($C62),\"\",VLOOKUP($C62,RAMP!$C$1:$X$20,U$11-$D$11+2,FALSE))","v":0.99687806209941365},{"$f":"IF(ISBLANK($C62),\"\",VLOOKUP($C62,RAMP!$C$1:$X$20,V$11-$D$11+2,FALSE))","v":0.99688683963477831},{"$f":"IF(ISBLANK($C62),\"\",VLOOKUP($C62,RAMP!$C$1:$X$20,W$11-$D$11+2,FALSE))","v":0.99688970187457115},0.95]
[{"$f":"MLIST!A63","v":"HVAC"},{"$f":"MLIST!D63","v":"VRF-DOAS-New"},"LO50Fast",{"$f":"IF(ISBLANK($C63),\"\",VLOOKUP($C63,RAMP!$C$1:$X$20,D$11-$D$11+2,FALSE))","v":0.45},{"$f":"IF(ISBLANK($C63),\"\",VLOOKUP($C63,RAMP!$C$1:$X$20,E$11-$D$11+2,FALSE))","v":0.66},{"$f":"IF(ISBLANK($C63),\"\",VLOOKUP($C63,RAMP!$C$1:$X$20,F$11-$D$11+2,FALSE))","v":0.8},{"$f":"IF(ISBLANK($C63),\"\",VLOOKUP($C63,RAMP!$C$1:$X$20,G$11-$D$11+2,FALSE))","v":0.89},{"$f":"IF(ISBLANK($C63),\"\",VLOOKUP($C63,RAMP!$C$1:$X$20,H$11-$D$11+2,FALSE))","v":0.94954036260972652},{"$f":"IF(ISBLANK($C63),\"\",VLOOKUP($C63,RAMP!$C$1:$X$20,I$11-$D$11+2,FALSE))","v":0.97931054391458994},{"$f":"IF(ISBLANK($C63),\"\",VLOOKUP($C63,RAMP!$C$1:$X$20,J$11-$D$11+2,FALSE))","v":0.99254173560564019},{"$f":"IF(ISBLANK($C63),\"\",VLOOKUP($C63,RAMP!$C$1:$X$20,K$11-$D$11+2,FALSE))","v":0.99783421228206048},{"$f":"IF(ISBLANK($C63),\"\",VLOOKUP($C63,RAMP!$C$1:$X$20,L$11-$D$11+2,FALSE))","v":0.99975874925530417},{"$f":"IF(ISBLANK($C63),\"\",VLOOKUP($C63,RAMP!$C$1:$X$20,M$11-$D$11+2,FALSE))","v":1},{"$f":"IF(ISBLANK($C63),\"\",VLOOKUP($C63,RAMP!$C$1:$X$20,N$11-$D$11+2,FALSE))","v":1},{"$f":"IF(ISBLANK($C63),\"\",VLOOKUP($C63,RAMP!$C$1:$X$20,O$11-$D$11+2,FALSE))","v":1},{"$f":"IF(ISBLANK($C63),\"\",VLOOKUP($C63,RAMP!$C$1:$X$20,P$11-$D$11+2,FALSE))","v":1},{"$f":"IF(ISBLANK($C63),\"\",VLOOKUP($C63,RAMP!$C$1:$X$20,Q$11-$D$11+2,FALSE))","v":1},{"$f":"IF(ISBLANK($C63),\"\",VLOOKUP($C63,RAMP!$C$1:$X$20,R$11-$D$11+2,FALSE))","v":1},{"$f":"IF(ISBLANK($C63),\"\",VLOOKUP($C63,RAMP!$C$1:$X$20,S$11-$D$11+2,FALSE))","v":1},{"$f":"IF(ISBLANK($C63),\"\",VLOOKUP($C63,RAMP!$C$1:$X$20,T$11-$D$11+2,FALSE))","v":1},{"$f":"IF(ISBLANK($C63),\"\",VLOOKUP($C63,RAMP!$C$1:$X$20,U$11-$D$11+2,FALSE))","v":1},{"$f":"IF(ISBLANK($C63),\"\",VLOOKUP($C63,RAMP!$C$1:$X$20,V$11-$D$11+2,FALSE))","v":1},{"$f":"IF(ISBLANK($C63),\"\",VLOOKUP($C63,RAMP!$C$1:$X$20,W$11-$D$11+2,FALSE))","v":1},0.85]
[{"$f":"MLIST!A64","v":"HVAC"},{"$f":"MLIST!D64","v":"VRF-DOAS-NR"},"LO50Fast",{"$f":"IF(ISBLANK($C64),\"\",VLOOKUP($C64,RAMP!$C$1:$X$20,D$11-$D$11+2,FALSE))","v":0.45},{"$f":"IF(ISBLANK($C64),\"\",VLOOKUP($C64,RAMP!$C$1:$X$20,E$11-$D$11+2,FALSE))","v":0.66},{"$f":"IF(ISBLANK($C64),\"\",VLOOKUP($C64,RAMP!$C$1:$X$20,F$11-$D$11+2,FALSE))","v":0.8},{"$f":"IF(ISBLANK($C64),\"\",VLOOKUP($C64,RAMP!$C$1:$X$20,G$11-$D$11+2,FALSE))","v":0.89},{"$f":"IF(ISBLANK($C64),\"\",VLOOKUP($C64,RAMP!$C$1:$X$20,H$11-$D$11+2,FALSE))","v":0.94954036260972652},{"$f":"IF(ISBLANK($C64),\"\",VLOOKUP($C64,RAMP!$C$1:$X$20,I$11-$D$11+2,FALSE))","v":0.97931054391458994},{"$f":"IF(ISBLANK($C64),\"\",VLOOKUP($C64,RAMP!$C$1:$X$20,J$11-$D$11+2,FALSE))","v":0.99254173560564019},{"$f":"IF(ISBLANK($C64),\"\",VLOOKUP($C64,RAMP!$C$1:$X$20,K$11-$D$11+2,FALSE))","v":0.99783421228206048},{"$f":"IF(ISBLANK($C64),\"\",VLOOKUP($C64,RAMP!$C$1:$X$20,L$11-$D$11+2,FALSE))","v":0.99975874925530417},{"$f":"IF(ISBLANK($C64),\"\",VLOOKUP($C64,RAMP!$C$1:$X$20,M$11-$D$11+2,FALSE))","v":1},{"$f":"IF(ISBLANK($C64),\"\",VLOOKUP($C64,RAMP!$C$1:$X$20,N$11-$D$11+2,FALSE))","v":1},{"$f":"IF(ISBLANK($C64),\"\",VLOOKUP($C64,RAMP!$C$1:$X$20,O$11-$D$11+2,FALSE))","v":1},{"$f":"IF(ISBLANK($C64),\"\",VLOOKUP($C64,RAMP!$C$1:$X$20,P$11-$D$11+2,FALSE))","v":1},{"$f":"IF(ISBLANK($C64),\"\",VLOOKUP($C64,RAMP!$C$1:$X$20,Q$11-$D$11+2,FALSE))","v":1},{"$f":"IF(ISBLANK($C64),\"\",VLOOKUP($C64,RAMP!$C$1:$X$20,R$11-$D$11+2,FALSE))","v":1},{"$f":"IF(ISBLANK($C64),\"\",VLOOKUP($C64,RAMP!$C$1:$X$20,S$11-$D$11+2,FALSE))","v":1},{"$f":"IF(ISBLANK($C64),\"\",VLOOKUP($C64,RAMP!$C$1:$X$20,T$11-$D$11+2,FALSE))","v":1},{"$f":"IF(ISBLANK($C64),\"\",VLOOKUP($C64,RAMP!$C$1:$X$20,U$11-$D$11+2,FALSE))","v":1},{"$f":"IF(ISBLANK($C64),\"\",VLOOKUP($C64,RAMP!$C$1:$X$20,V$11-$D$11+2,FALSE))","v":1},{"$f":"IF(ISBLANK($C64),\"\",VLOOKUP($C64,RAMP!$C$1:$X$20,W$11-$D$11+2,FALSE))","v":1},0.85]
[{"$f":"MLIST!A65","v":"HVAC"},{"$f":"MLIST!D65","v":"Evaporator Roof Top HVAC-Retro"},"RetroEven20",{"$f":"IF(ISBLANK($C65),\"\",VLOOKUP($C65,RAMP!$C$1:$X$20,D$11-$D$11+2,FALSE))","v":0.05},{"$f":"IF(ISBLANK($C65),\"\",VLOOKUP($C65,RAMP!$C$1:$X$20,E$11-$D$11+2,FALSE))","v":0.05},{"$f":"IF(ISBLANK($C65),\"\",VLOOKUP($C65,RAMP!$C$1:$X$20,F$11-$D$11+2,FALSE))","v":0.05},{"$f":"IF(ISBLANK($C65),\"\",VLOOKUP($C65,RAMP!$C$1:$X$20,G$11-$D$11+2,FALSE))","v":0.05},{"$f":"IF(ISBLANK($C65),\"\",VLOOKUP($C65,RAMP!$C$1:$X$20,H$11-$D$11+2,FALSE))","v":0.05},{"$f":"IF(ISBLANK($C65),\"\",VLOOKUP($C65,RAMP!$C$1:$X$20,I$11-$D$11+2,FALSE))","v":0.05},{"$f":"IF(ISBLANK($C65),\"\",VLOOKUP($C65,RAMP!$C$1:$X$20,J$11-$D$11+2,FALSE))","v":0.05},{"$f":"IF(ISBLANK($C65),\"\",VLOOKUP($C65,RAMP!$C$1:$X$20,K$11-$D$11+2,FALSE))","v":0.05},{"$f":"IF(ISBLANK($C65),\"\",VLOOKUP($C65,RAMP!$C$1:$X$20,L$11-$D$11+2,FALSE))","v":0.05},{"$f":"IF(ISBLANK($C65),\"\",VLOOKUP($C65,RAMP!$C$1:$X$20,M$11-$D$11+2,FALSE))","v":0.05},{"$f":"IF(ISBLANK($C65),\"\",VLOOKUP($C65,RAMP!$C$1:$X$20,N$11-$D$11+2,FALSE))","v":0.05},{"$f":"IF(ISBLANK($C65),\"\",VLOOKUP($C65,RAMP!$C$1:$X$20,O$11-$D$11+2,FALSE))","v":0.05},{"$f":"IF(ISBLANK($C65),\"\",VLOOKUP($C65,RAMP!$C$1:$X$20,P$11-$D$11+2,FALSE))","v":0.05},{"$f":"IF(ISBLANK($C65),\"\",VLOOKUP($C65,RAMP!$C$1:$X$20,Q$11-$D$11+2,FALSE))","v":0.05},{"$f":"IF(ISBLANK($C65),\"\",VLOOKUP($C65,RAMP!$C$1:$X$20,R$11-$D$11+2,FALSE))","v":0.05},{"$f":"IF(ISBLANK($C65),\"\",VLOOKUP($C65,RAMP!$C$1:$X$20,S$11-$D$11+2,FALSE))","v":0.05},{"$f":"IF(ISBLANK($C65),\"\",VLOOKUP($C65,RAMP!$C$1:$X$20,T$11-$D$11+2,FALSE))","v":0.05},{"$f":"IF(ISBLANK($C65),\"\",VLOOKUP($C65,RAMP!$C$1:$X$20,U$11-$D$11+2,FALSE))","v":0.05},{"$f":"IF(ISBLANK($C65),\"\",VLOOKUP($C65,RAMP!$C$1:$X$20,V$11-$D$11+2,FALSE))","v":0.05},{"$f":"IF(ISBLANK($C65),\"\",VLOOKUP($C65,RAMP!$C$1:$X$20,W$11-$D$11+2,FALSE))","v":0.05},0.85]
[{"$f":"MLIST!A66","v":"HVAC"},{"$f":"MLIST!D66","v":"HeatPumps-NR"},"LO5Med",{"$f":"IF(ISBLANK($C66),\"\",VLOOKUP($C66,RAMP!$C$1:$X$20,D$11-$D$11+2,FALSE))","v":4.2999999999999997E-2},{"$f":"IF(ISBLANK($C66),\"\",VLOOKUP($C66,RAMP!$C$1:$X$20,E$11-$D$11+2,FALSE))","v":9.5797142280278316E-2},{"$f":"IF(ISBLANK($C66),\"\",VLOOKUP($C66,RAMP!$C$1:$X$20,F$11-$D$11+2,FALSE))","v":0.16040539374775648},{"$f":"IF(ISBLANK($C66),\"\",VLOOKUP($C66,RAMP!$C$1:$X$20,G$11-$D$11+2,FALSE))","v":0.23540539374775649},{"$f":"IF(ISBLANK($C66),\"\",VLOOKUP($C66,RAMP!$C$1:$X$20,H$11-$D$11+2,FALSE))","v":0.32095239121809005},{"$f":"IF(ISBLANK($C66),\"\",VLOOKUP($C66,RAMP!$C$1:$X$20,I$11-$D$11+2,FALSE))","v":0.42096711425629652},{"$f":"IF(ISBLANK($C66),\"\",VLOOKUP($C66,RAMP!$C$1:$X$20,J$11-$D$11+2,FALSE))","v":0.53068481860864725},{"$f":"IF(ISBLANK($C66),\"\",VLOOKUP($C66,RAMP!$C$1:$X$20,K$11-$D$11+2,FALSE))","v":0.642769203728351},{"$f":"IF(ISBLANK($C66),\"\",VLOOKUP($C66,RAMP!$C$1:$X$20,L$11-$D$11+2,FALSE))","v":0.74839528535557953},{"$f":"IF(ISBLANK($C66),\"\",VLOOKUP($C66,RAMP!$C$1:$X$20,M$11-$D$11+2,FALSE))","v":0.83918984935345187},{"$f":"IF(ISBLANK($C66),\"\",VLOOKUP($C66,RAMP!$C$1:$X$20,N$11-$D$11+2,FALSE))","v":0.90945051634530116},{"$f":"IF(ISBLANK($C66),\"\",VLOOKUP($C66,RAMP!$C$1:$X$20,O$11-$D$11+2,FALSE))","v":0.9576688767502457},{"$f":"IF(ISBLANK($C66),\"\",VLOOKUP($C66,RAMP!$C$1:$X$20,P$11-$D$11+2,FALSE))","v":0.9865231113648858},{"$f":"IF(ISBLANK($C66),\"\",VLOOKUP($C66,RAMP!$C$1:$X$20,Q$11-$D$11+2,FALSE))","v":1},{"$f":"IF(ISBLANK($C66),\"\",VLOOKUP($C66,RAMP!$C$1:$X$20,R$11-$D$11+2,FALSE))","v":1},{"$f":"IF(ISBLANK($C66),\"\",VLOOKUP($C66,RAMP!$C$1:$X$20,S$11-$D$11+2,FALSE))","v":1},{"$f":"IF(ISBLANK($C66),\"\",VLOOKUP($C66,RAMP!$C$1:$X$20,T$11-$D$11+2,FALSE))","v":1},{"$f":"IF(ISBLANK($C66),\"\",VLOOKUP($C66,RAMP!$C$1:$X$20,U$11-$D$11+2,FALSE))","v":1},{"$f":"IF(ISBLANK($C66),\"\",VLOOKUP($C66,RAMP!$C$1:$X$20,V$11-$D$11+2,FALSE))","v":1},{"$f":"IF(ISBLANK($C66),\"\",VLOOKUP($C66,RAMP!$C$1:$X$20,W$11-$D$11+2,FALSE))","v":1},0.95]
[{"$f":"MLIST!A67","v":"HVAC"},{"$f":"MLIST!D67","v":"HeatPumps-New"},"LO5Med",{"$f":"IF(ISBLANK($C67),\"\",VLOOKUP($C67,RAMP!$C$1:$X$20,D$11-$D$11+2,FALSE))","v":4.2999999999999997E-2},{"$f":"IF(ISBLANK($C67),\"\",VLOOKUP($C67,RAMP!$C$1:$X$20,E$11-$D$11+2,FALSE))","v":9.5797142280278316E-2},{"$f":"IF(ISBLANK($C67),\"\",VLOOKUP($C67,RAMP!$C$1:$X$20,F$11-$D$11+2,FALSE))","v":0.16040539374775648},{"$f":"IF(ISBLANK($C67),\"\",VLOOKUP($C67,RAMP!$C$1:$X$20,G$11-$D$11+2,FALSE))","v":0.23540539374775649},{"$f":"IF(ISBLANK($C67),\"\",VLOOKUP($C67,RAMP!$C$1:$X$20,H$11-$D$11+2,FALSE))","v":0.32095239121809005},{"$f":"IF(ISBLANK($C67),\"\",VLOOKUP($C67,RAMP!$C$1:$X$20,I$11-$D$11+2,FALSE))","v":0.42096711425629652},{"$f":"IF(ISBLANK($C67),\"\",VLOOKUP($C67,RAMP!$C$1:$X$20,J$11-$D$11+2,FALSE))","v":0.53068481860864725},{"$f":"IF(ISBLANK($C67),\"\",VLOOKUP($C67,RAMP!$C$1:$X$20,K$11-$D$11+2,FALSE))","v":0.642769203728351},{"$f":"IF(ISBLANK($C67),\"\",VLOOKUP($C67,RAMP!$C$1:$X$20,L$11-$D$11+2,FALSE))","v":0.74839528535557953},{"$f":"IF(ISBLANK($C67),\"\",VLOOKUP($C67,RAMP!$C$1:$X$20,M$11-$D$11+2,FALSE))","v":0.83918984935345187},{"$f":"IF(ISBLANK($C67),\"\",VLOOKUP($C67,RAMP!$C$1:$X$20,N$11-$D$11+2,FALSE))","v":0.90945051634530116},{"$f":"IF(ISBLANK($C67),\"\",VLOOKUP($C67,RAMP!$C$1:$X$20,O$11-$D$11+2,FALSE))","v":0.9576688767502457},{"$f":"IF(ISBLANK($C67),\"\",VLOOKUP($C67,RAMP!$C$1:$X$20,P$11-$D$11+2,FALSE))","v":0.9865231113648858},{"$f":"IF(ISBLANK($C67),\"\",VLOOKUP($C67,RAMP!$C$1:$X$20,Q$11-$D$11+2,FALSE))","v":1},{"$f":"IF(ISBLANK($C67),\"\",VLOOKUP($C67,RAMP!$C$1:$X$20,R$11-$D$11+2,FALSE))","v":1},{"$f":"IF(ISBLANK($C67),\"\",VLOOKUP($C67,RAMP!$C$1:$X$20,S$11-$D$11+2,FALSE))","v":1},{"$f":"IF(ISBLANK($C67),\"\",VLOOKUP($C67,RAMP!$C$1:$X$20,T$11-$D$11+2,FALSE))","v":1},{"$f":"IF(ISBLANK($C67),\"\",VLOOKUP($C67,RAMP!$C$1:$X$20,U$11-$D$11+2,FALSE))","v":1},{"$f":"IF(ISBLANK($C67),\"\",VLOOKUP($C67,RAMP!$C$1:$X$20,V$11-$D$11+2,FALSE))","v":1},{"$f":"IF(ISBLANK($C67),\"\",VLOOKUP($C67,RAMP!$C$1:$X$20,W$11-$D$11+2,FALSE))","v":1},0.95]
[{"$f":"MLIST!A68","v":"HVAC"},{"$f":"MLIST!D68","v":"VCHP-NR"},"LO5Med",{"$f":"IF(ISBLANK($C68),\"\",VLOOKUP($C68,RAMP!$C$1:$X$20,D$11-$D$11+2,FALSE))","v":4.2999999999999997E-2},{"$f":"IF(ISBLANK($C68),\"\",VLOOKUP($C68,RAMP!$C$1:$X$20,E$11-$D$11+2,FALSE))","v":9.5797142280278316E-2},{"$f":"IF(ISBLANK($C68),\"\",VLOOKUP($C68,RAMP!$C$1:$X$20,F$11-$D$11+2,FALSE))","v":0.16040539374775648},{"$f":"IF(ISBLANK($C68),\"\",VLOOKUP($C68,RAMP!$C$1:$X$20,G$11-$D$11+2,FALSE))","v":0.23540539374775649},{"$f":"IF(ISBLANK($C68),\"\",VLOOKUP($C68,RAMP!$C$1:$X$20,H$11-$D$11+2,FALSE))","v":0.32095239121809005},{"$f":"IF(ISBLANK($C68),\"\",VLOOKUP($C68,RAMP!$C$1:$X$20,I$11-$D$11+2,FALSE))","v":0.42096711425629652},{"$f":"IF(ISBLANK($C68),\"\",VLOOKUP($C68,RAMP!$C$1:$X$20,J$11-$D$11+2,FALSE))","v":0.53068481860864725},{"$f":"IF(ISBLANK($C68),\"\",VLOOKUP($C68,RAMP!$C$1:$X$20,K$11-$D$11+2,FALSE))","v":0.642769203728351},{"$f":"IF(ISBLANK($C68),\"\",VLOOKUP($C68,RAMP!$C$1:$X$20,L$11-$D$11+2,FALSE))","v":0.74839528535557953},{"$f":"IF(ISBLANK($C68),\"\",VLOOKUP($C68,RAMP!$C$1:$X$20,M$11-$D$11+2,FALSE))","v":0.83918984935345187},{"$f":"IF(ISBLANK($C68),\"\",VLOOKUP($C68,RAMP!$C$1:$X$20,N$11-$D$11+2,FALSE))","v":0.90945051634530116},{"$f":"IF(ISBLANK($C68),\"\",VLOOKUP($C68,RAMP!$C$1:$X$20,O$11-$D$11+2,FALSE))","v":0.9576688767502457},{"$f":"IF(ISBLANK($C68),\"\",VLOOKUP($C68,RAMP!$C$1:$X$20,P$11-$D$11+2,FALSE))","v":0.9865231113648858},{"$f":"IF(ISBLANK($C68),\"\",VLOOKUP($C68,RAMP!$C$1:$X$20,Q$11-$D$11+2,FALSE))","v":1},{"$f":"IF(ISBLANK($C68),\"\",VLOOKUP($C68,RAMP!$C$1:$X$20,R$11-$D$11+2,FALSE))","v":1},{"$f":"IF(ISBLANK($C68),\"\",VLOOKUP($C68,RAMP!$C$1:$X$20,S$11-$D$11+2,FALSE))","v":1},{"$f":"IF(ISBLANK($C68),\"\",VLOOKUP($C68,RAMP!$C$1:$X$20,T$11-$D$11+2,FALSE))","v":1},{"$f":"IF(ISBLANK($C68),\"\",VLOOKUP($C68,RAMP!$C$1:$X$20,U$11-$D$11+2,FALSE))","v":1},{"$f":"IF(ISBLANK($C68),\"\",VLOOKUP($C68,RAMP!$C$1:$X$20,V$11-$D$11+2,FALSE))","v":1},{"$f":"IF(ISBLANK($C68),\"\",VLOOKUP($C68,RAMP!$C$1:$X$20,W$11-$D$11+2,FALSE))","v":1},0.85]
[{"$f":"MLIST!A69","v":"HVAC"},{"$f":"MLIST!D69","v":"VCHP-New"},"LO5Med",{"$f":"IF(ISBLANK($C69),\"\",VLOOKUP($C69,RAMP!$C$1:$X$20,D$11-$D$11+2,FALSE))","v":4.2999999999999997E-2},{"$f":"IF(ISBLANK($C69),\"\",VLOOKUP($C69,RAMP!$C$1:$X$20,E$11-$D$11+2,FALSE))","v":9.5797142280278316E-2},{"$f":"IF(ISBLANK($C69),\"\",VLOOKUP($C69,RAMP!$C$1:$X$20,F$11-$D$11+2,FALSE))","v":0.16040539374775648},{"$f":"IF(ISBLANK($C69),\"\",VLOOKUP($C69,RAMP!$C$1:$X$20,G$11-$D$11+2,FALSE))","v":0.23540539374775649},{"$f":"IF(ISBLANK($C69),\"\",VLOOKUP($C69,RAMP!$C$1:$X$20,H$11-$D$11+2,FALSE))","v":0.32095239121809005},{"$f":"IF(ISBLANK($C69),\"\",VLOOKUP($C69,RAMP!$C$1:$X$20,I$11-$D$11+2,FALSE))","v":0.42096711425629652},{"$f":"IF(ISBLANK($C69),\"\",VLOOKUP($C69,RAMP!$C$1:$X$20,J$11-$D$11+2,FALSE))","v":0.53068481860864725},{"$f":"IF(ISBLANK($C69),\"\",VLOOKUP($C69,RAMP!$C$1:$X$20,K$11-$D$11+2,FALSE))","v":0.642769203728351},{"$f":"IF(ISBLANK($C69),\"\",VLOOKUP($C69,RAMP!$C$1:$X$20,L$11-$D$11+2,FALSE))","v":0.74839528535557953},{"$f":"IF(ISBLANK($C69),\"\",VLOOKUP($C69,RAMP!$C$1:$X$20,M$11-$D$11+2,FALSE))","v":0.83918984935345187},{"$f":"IF(ISBLANK($C69),\"\",VLOOKUP($C69,RAMP!$C$1:$X$20,N$11-$D$11+2,FALSE))","v":0.90945051634530116},{"$f":"IF(ISBLANK($C69),\"\",VLOOKUP($C69,RAMP!$C$1:$X$20,O$11-$D$11+2,FALSE))","v":0.9576688767502457},{"$f":"IF(ISBLANK($C69),\"\",VLOOKUP($C69,RAMP!$C$1:$X$20,P$11-$D$11+2,FALSE))","v":0.9865231113648858},{"$f":"IF(ISBLANK($C69),\"\",VLOOKUP($C69,RAMP!$C$1:$X$20,Q$11-$D$11+2,FALSE))","v":1},{"$f":"IF(ISBLANK($C69),\"\",VLOOKUP($C69,RAMP!$C$1:$X$20,R$11-$D$11+2,FALSE))","v":1},{"$f":"IF(ISBLANK($C69),\"\",VLOOKUP($C69,RAMP!$C$1:$X$20,S$11-$D$11+2,FALSE))","v":1},{"$f":"IF(ISBLANK($C69),\"\",VLOOKUP($C69,RAMP!$C$1:$X$20,T$11-$D$11+2,FALSE))","v":1},{"$f":"IF(ISBLANK($C69),\"\",VLOOKUP($C69,RAMP!$C$1:$X$20,U$11-$D$11+2,FALSE))","v":1},{"$f":"IF(ISBLANK($C69),\"\",VLOOKUP($C69,RAMP!$C$1:$X$20,V$11-$D$11+2,FALSE))","v":1},{"$f":"IF(ISBLANK($C69),\"\",VLOOKUP($C69,RAMP!$C$1:$X$20,W$11-$D$11+2,FALSE))","v":1},0.85]
[{"$f":"MLIST!A70","v":"HVAC"},{"$f":"MLIST!D70","v":"UnitaryAC-NR"},"LO5Med",{"$f":"IF(ISBLANK($C70),\"\",VLOOKUP($C70,RAMP!$C$1:$X$20,D$11-$D$11+2,FALSE))","v":4.2999999999999997E-2},{"$f":"IF(ISBLANK($C70),\"\",VLOOKUP($C70,RAMP!$C$1:$X$20,E$11-$D$11+2,FALSE))","v":9.5797142280278316E-2},{"$f":"IF(ISBLANK($C70),\"\",VLOOKUP($C70,RAMP!$C$1:$X$20,F$11-$D$11+2,FALSE))","v":0.16040539374775648},{"$f":"IF(ISBLANK($C70),\"\",VLOOKUP($C70,RAMP!$C$1:$X$20,G$11-$D$11+2,FALSE))","v":0.23540539374775649},{"$f":"IF(ISBLANK($C70),\"\",VLOOKUP($C70,RAMP!$C$1:$X$20,H$11-$D$11+2,FALSE))","v":0.32095239121809005},{"$f":"IF(ISBLANK($C70),\"\",VLOOKUP($C70,RAMP!$C$1:$X$20,I$11-$D$11+2,FALSE))","v":0.42096711425629652},{"$f":"IF(ISBLANK($C70),\"\",VLOOKUP($C70,RAMP!$C$1:$X$20,J$11-$D$11+2,FALSE))","v":0.53068481860864725},{"$f":"IF(ISBLANK($C70),\"\",VLOOKUP($C70,RAMP!$C$1:$X$20,K$11-$D$11+2,FALSE))","v":0.642769203728351},{"$f":"IF(ISBLANK($C70),\"\",VLOOKUP($C70,RAMP!$C$1:$X$20,L$11-$D$11+2,FALSE))","v":0.74839528535557953},{"$f":"IF(ISBLANK($C70),\"\",VLOOKUP($C70,RAMP!$C$1:$X$20,M$11-$D$11+2,FALSE))","v":0.83918984935345187},{"$f":"IF(ISBLANK($C70),\"\",VLOOKUP($C70,RAMP!$C$1:$X$20,N$11-$D$11+2,FALSE))","v":0.90945051634530116},{"$f":"IF(ISBLANK($C70),\"\",VLOOKUP($C70,RAMP!$C$1:$X$20,O$11-$D$11+2,FALSE))","v":0.9576688767502457},{"$f":"IF(ISBLANK($C70),\"\",VLOOKUP($C70,RAMP!$C$1:$X$20,P$11-$D$11+2,FALSE))","v":0.9865231113648858},{"$f":"IF(ISBLANK($C70),\"\",VLOOKUP($C70,RAMP!$C$1:$X$20,Q$11-$D$11+2,FALSE))","v":1},{"$f":"IF(ISBLANK($C70),\"\",VLOOKUP($C70,RAMP!$C$1:$X$20,R$11-$D$11+2,FALSE))","v":1},{"$f":"IF(ISBLANK($C70),\"\",VLOOKUP($C70,RAMP!$C$1:$X$20,S$11-$D$11+2,FALSE))","v":1},{"$f":"IF(ISBLANK($C70),\"\",VLOOKUP($C70,RAMP!$C$1:$X$20,T$11-$D$11+2,FALSE))","v":1},{"$f":"IF(ISBLANK($C70),\"\",VLOOKUP($C70,RAMP!$C$1:$X$20,U$11-$D$11+2,FALSE))","v":1},{"$f":"IF(ISBLANK($C70),\"\",VLOOKUP($C70,RAMP!$C$1:$X$20,V$11-$D$11+2,FALSE))","v":1},{"$f":"IF(ISBLANK($C70),\"\",VLOOKUP($C70,RAMP!$C$1:$X$20,W$11-$D$11+2,FALSE))","v":1},0.85]
[{"$f":"MLIST!A71","v":"HVAC"},{"$f":"MLIST!D71","v":"UnitaryAC-New"},"LO5Med",{"$f":"IF(ISBLANK($C71),\"\",VLOOKUP($C71,RAMP!$C$1:$X$20,D$11-$D$11+2,FALSE))","v":4.2999999999999997E-2},{"$f":"IF(ISBLANK($C71),\"\",VLOOKUP($C71,RAMP!$C$1:$X$20,E$11-$D$11+2,FALSE))","v":9.5797142280278316E-2},{"$f":"IF(ISBLANK($C71),\"\",VLOOKUP($C71,RAMP!$C$1:$X$20,F$11-$D$11+2,FALSE))","v":0.16040539374775648},{"$f":"IF(ISBLANK($C71),\"\",VLOOKUP($C71,RAMP!$C$1:$X$20,G$11-$D$11+2,FALSE))","v":0.23540539374775649},{"$f":"IF(ISBLANK($C71),\"\",VLOOKUP($C71,RAMP!$C$1:$X$20,H$11-$D$11+2,FALSE))","v":0.32095239121809005},{"$f":"IF(ISBLANK($C71),\"\",VLOOKUP($C71,RAMP!$C$1:$X$20,I$11-$D$11+2,FALSE))","v":0.42096711425629652},{"$f":"IF(ISBLANK($C71),\"\",VLOOKUP($C71,RAMP!$C$1:$X$20,J$11-$D$11+2,FALSE))","v":0.53068481860864725},{"$f":"IF(ISBLANK($C71),\"\",VLOOKUP($C71,RAMP!$C$1:$X$20,K$11-$D$11+2,FALSE))","v":0.642769203728351},{"$f":"IF(ISBLANK($C71),\"\",VLOOKUP($C71,RAMP!$C$1:$X$20,L$11-$D$11+2,FALSE))","v":0.74839528535557953},{"$f":"IF(ISBLANK($C71),\"\",VLOOKUP($C71,RAMP!$C$1:$X$20,M$11-$D$11+2,FALSE))","v":0.83918984935345187},{"$f":"IF(ISBLANK($C71),\"\",VLOOKUP($C71,RAMP!$C$1:$X$20,N$11-$D$11+2,FALSE))","v":0.90945051634530116},{"$f":"IF(ISBLANK($C71),\"\",VLOOKUP($C71,RAMP!$C$1:$X$20,O$11-$D$11+2,FALSE))","v":0.9576688767502457},{"$f":"IF(ISBLANK($C71),\"\",VLOOKUP($C71,RAMP!$C$1:$X$20,P$11-$D$11+2,FALSE))","v":0.9865231113648858},{"$f":"IF(ISBLANK($C71),\"\",VLOOKUP($C71,RAMP!$C$1:$X$20,Q$11-$D$11+2,FALSE))","v":1},{"$f":"IF(ISBLANK($C71),\"\",VLOOKUP($C71,RAMP!$C$1:$X$20,R$11-$D$11+2,FALSE))","v":1},{"$f":"IF(ISBLANK($C71),\"\",VLOOKUP($C71,RAMP!$C$1:$X$20,S$11-$D$11+2,FALSE))","v":1},{"$f":"IF(ISBLANK($C71),\"\",VLOOKUP($C71,RAMP!$C$1:$X$20,T$11-$D$11+2,FALSE))","v":1},{"$f":"IF(ISBLANK($C71),\"\",VLOOKUP($C71,RAMP!$C$1:$X$20,U$11-$D$11+2,FALSE))","v":1},{"$f":"IF(ISBLANK($C71),\"\",VLOOKUP($C71,RAMP!$C$1:$X$20,V$11-$D$11+2,FALSE))","v":1},{"$f":"IF(ISBLANK($C71),\"\",VLOOKUP($C71,RAMP!$C$1:$X$20,W$11-$D$11+2,FALSE))","v":1},0.85]
[{"$f":"MLIST!A72","v":"HVAC"},{"$f":"MLIST!D72","v":"Com-PTAC-NR"},"LO5Med",{"$f":"IF(ISBLANK($C72),\"\",VLOOKUP($C72,RAMP!$C$1:$X$20,D$11-$D$11+2,FALSE))","v":4.2999999999999997E-2},{"$f":"IF(ISBLANK($C72),\"\",VLOOKUP($C72,RAMP!$C$1:$X$20,E$11-$D$11+2,FALSE))","v":9.5797142280278316E-2},{"$f":"IF(ISBLANK($C72),\"\",VLOOKUP($C72,RAMP!$C$1:$X$20,F$11-$D$11+2,FALSE))","v":0.16040539374775648},{"$f":"IF(ISBLANK($C72),\"\",VLOOKUP($C72,RAMP!$C$1:$X$20,G$11-$D$11+2,FALSE))","v":0.23540539374775649},{"$f":"IF(ISBLANK($C72),\"\",VLOOKUP($C72,RAMP!$C$1:$X$20,H$11-$D$11+2,FALSE))","v":0.32095239121809005},{"$f":"IF(ISBLANK($C72),\"\",VLOOKUP($C72,RAMP!$C$1:$X$20,I$11-$D$11+2,FALSE))","v":0.42096711425629652},{"$f":"IF(ISBLANK($C72),\"\",VLOOKUP($C72,RAMP!$C$1:$X$20,J$11-$D$11+2,FALSE))","v":0.53068481860864725},{"$f":"IF(ISBLANK($C72),\"\",VLOOKUP($C72,RAMP!$C$1:$X$20,K$11-$D$11+2,FALSE))","v":0.642769203728351},{"$f":"IF(ISBLANK($C72),\"\",VLOOKUP($C72,RAMP!$C$1:$X$20,L$11-$D$11+2,FALSE))","v":0.74839528535557953},{"$f":"IF(ISBLANK($C72),\"\",VLOOKUP($C72,RAMP!$C$1:$X$20,M$11-$D$11+2,FALSE))","v":0.83918984935345187},{"$f":"IF(ISBLANK($C72),\"\",VLOOKUP($C72,RAMP!$C$1:$X$20,N$11-$D$11+2,FALSE))","v":0.90945051634530116},{"$f":"IF(ISBLANK($C72),\"\",VLOOKUP($C72,RAMP!$C$1:$X$20,O$11-$D$11+2,FALSE))","v":0.9576688767502457},{"$f":"IF(ISBLANK($C72),\"\",VLOOKUP($C72,RAMP!$C$1:$X$20,P$11-$D$11+2,FALSE))","v":0.9865231113648858},{"$f":"IF(ISBLANK($C72),\"\",VLOOKUP($C72,RAMP!$C$1:$X$20,Q$11-$D$11+2,FALSE))","v":1},{"$f":"IF(ISBLANK($C72),\"\",VLOOKUP($C72,RAMP!$C$1:$X$20,R$11-$D$11+2,FALSE))","v":1},{"$f":"IF(ISBLANK($C72),\"\",VLOOKUP($C72,RAMP!$C$1:$X$20,S$11-$D$11+2,FALSE))","v":1},{"$f":"IF(ISBLANK($C72),\"\",VLOOKUP($C72,RAMP!$C$1:$X$20,T$11-$D$11+2,FALSE))","v":1},{"$f":"IF(ISBLANK($C72),\"\",VLOOKUP($C72,RAMP!$C$1:$X$20,U$11-$D$11+2,FALSE))","v":1},{"$f":"IF(ISBLANK($C72),\"\",VLOOKUP($C72,RAMP!$C$1:$X$20,V$11-$D$11+2,FALSE))","v":1},{"$f":"IF(ISBLANK($C72),\"\",VLOOKUP($C72,RAMP!$C$1:$X$20,W$11-$D$11+2,FALSE))","v":1},0.95]
[{"$f":"MLIST!A73","v":"HVAC"},{"$f":"MLIST!D73","v":"Com-PTAC-New"},"LO5Med",{"$f":"IF(ISBLANK($C73),\"\",VLOOKUP($C73,RAMP!$C$1:$X$20,D$11-$D$11+2,FALSE))","v":4.2999999999999997E-2},{"$f":"IF(ISBLANK($C73),\"\",VLOOKUP($C73,RAMP!$C$1:$X$20,E$11-$D$11+2,FALSE))","v":9.5797142280278316E-2},{"$f":"IF(ISBLANK($C73),\"\",VLOOKUP($C73,RAMP!$C$1:$X$20,F$11-$D$11+2,FALSE))","v":0.16040539374775648},{"$f":"IF(ISBLANK($C73),\"\",VLOOKUP($C73,RAMP!$C$1:$X$20,G$11-$D$11+2,FALSE))","v":0.23540539374775649},{"$f":"IF(ISBLANK($C73),\"\",VLOOKUP($C73,RAMP!$C$1:$X$20,H$11-$D$11+2,FALSE))","v":0.32095239121809005},{"$f":"IF(ISBLANK($C73),\"\",VLOOKUP($C73,RAMP!$C$1:$X$20,I$11-$D$11+2,FALSE))","v":0.42096711425629652},{"$f":"IF(ISBLANK($C73),\"\",VLOOKUP($C73,RAMP!$C$1:$X$20,J$11-$D$11+2,FALSE))","v":0.53068481860864725},{"$f":"IF(ISBLANK($C73),\"\",VLOOKUP($C73,RAMP!$C$1:$X$20,K$11-$D$11+2,FALSE))","v":0.642769203728351},{"$f":"IF(ISBLANK($C73),\"\",VLOOKUP($C73,RAMP!$C$1:$X$20,L$11-$D$11+2,FALSE))","v":0.74839528535557953},{"$f":"IF(ISBLANK($C73),\"\",VLOOKUP($C73,RAMP!$C$1:$X$20,M$11-$D$11+2,FALSE))","v":0.83918984935345187},{"$f":"IF(ISBLANK($C73),\"\",VLOOKUP($C73,RAMP!$C$1:$X$20,N$11-$D$11+2,FALSE))","v":0.90945051634530116},{"$f":"IF(ISBLANK($C73),\"\",VLOOKUP($C73,RAMP!$C$1:$X$20,O$11-$D$11+2,FALSE))","v":0.9576688767502457},{"$f":"IF(ISBLANK($C73),\"\",VLOOKUP($C73,RAMP!$C$1:$X$20,P$11-$D$11+2,FALSE))","v":0.9865231113648858},{"$f":"IF(ISBLANK($C73),\"\",VLOOKUP($C73,RAMP!$C$1:$X$20,Q$11-$D$11+2,FALSE))","v":1},{"$f":"IF(ISBLANK($C73),\"\",VLOOKUP($C73,RAMP!$C$1:$X$20,R$11-$D$11+2,FALSE))","v":1},{"$f":"IF(ISBLANK($C73),\"\",VLOOKUP($C73,RAMP!$C$1:$X$20,S$11-$D$11+2,FALSE))","v":1},{"$f":"IF(ISBLANK($C73),\"\",VLOOKUP($C73,RAMP!$C$1:$X$20,T$11-$D$11+2,FALSE))","v":1},{"$f":"IF(ISBLANK($C73),\"\",VLOOKUP($C73,RAMP!$C$1:$X$20,U$11-$D$11+2,FALSE))","v":1},{"$f":"IF(ISBLANK($C73),\"\",VLOOKUP($C73,RAMP!$C$1:$X$20,V$11-$D$11+2,FALSE))","v":1},{"$f":"IF(ISBLANK($C73),\"\",VLOOKUP($C73,RAMP!$C$1:$X$20,W$11-$D$11+2,FALSE))","v":1},0.95]
[{"$f":"MLIST!A74","v":"HVAC"},{"$f":"MLIST!D74","v":"COM-PTHP-NR"},"LO5Med",{"$f":"IF(ISBLANK($C74),\"\",VLOOKUP($C74,RAMP!$C$1:$X$20,D$11-$D$11+2,FALSE))","v":4.2999999999999997E-2},{"$f":"IF(ISBLANK($C74),\"\",VLOOKUP($C74,RAMP!$C$1:$X$20,E$11-$D$11+2,FALSE))","v":9.5797142280278316E-2},{"$f":"IF(ISBLANK($C74),\"\",VLOOKUP($C74,RAMP!$C$1:$X$20,F$11-$D$11+2,FALSE))","v":0.16040539374775648},{"$f":"IF(ISBLANK($C74),\"\",VLOOKUP($C74,RAMP!$C$1:$X$20,G$11-$D$11+2,FALSE))","v":0.23540539374775649},{"$f":"IF(ISBLANK($C74),\"\",VLOOKUP($C74,RAMP!$C$1:$X$20,H$11-$D$11+2,FALSE))","v":0.32095239121809005},{"$f":"IF(ISBLANK($C74),\"\",VLOOKUP($C74,RAMP!$C$1:$X$20,I$11-$D$11+2,FALSE))","v":0.42096711425629652},{"$f":"IF(ISBLANK($C74),\"\",VLOOKUP($C74,RAMP!$C$1:$X$20,J$11-$D$11+2,FALSE))","v":0.53068481860864725},{"$f":"IF(ISBLANK($C74),\"\",VLOOKUP($C74,RAMP!$C$1:$X$20,K$11-$D$11+2,FALSE))","v":0.642769203728351},{"$f":"IF(ISBLANK($C74),\"\",VLOOKUP($C74,RAMP!$C$1:$X$20,L$11-$D$11+2,FALSE))","v":0.74839528535557953},{"$f":"IF(ISBLANK($C74),\"\",VLOOKUP($C74,RAMP!$C$1:$X$20,M$11-$D$11+2,FALSE))","v":0.83918984935345187},{"$f":"IF(ISBLANK($C74),\"\",VLOOKUP($C74,RAMP!$C$1:$X$20,N$11-$D$11+2,FALSE))","v":0.90945051634530116},{"$f":"IF(ISBLANK($C74),\"\",VLOOKUP($C74,RAMP!$C$1:$X$20,O$11-$D$11+2,FALSE))","v":0.9576688767502457},{"$f":"IF(ISBLANK($C74),\"\",VLOOKUP($C74,RAMP!$C$1:$X$20,P$11-$D$11+2,FALSE))","v":0.9865231113648858},{"$f":"IF(ISBLANK($C74),\"\",VLOOKUP($C74,RAMP!$C$1:$X$20,Q$11-$D$11+2,FALSE))","v":1},{"$f":"IF(ISBLANK($C74),\"\",VLOOKUP($C74,RAMP!$C$1:$X$20,R$11-$D$11+2,FALSE))","v":1},{"$f":"IF(ISBLANK($C74),\"\",VLOOKUP($C74,RAMP!$C$1:$X$20,S$11-$D$11+2,FALSE))","v":1},{"$f":"IF(ISBLANK($C74),\"\",VLOOKUP($C74,RAMP!$C$1:$X$20,T$11-$D$11+2,FALSE))","v":1},{"$f":"IF(ISBLANK($C74),\"\",VLOOKUP($C74,RAMP!$C$1:$X$20,U$11-$D$11+2,FALSE))","v":1},{"$f":"IF(ISBLANK($C74),\"\",VLOOKUP($C74,RAMP!$C$1:$X$20,V$11-$D$11+2,FALSE))","v":1},{"$f":"IF(ISBLANK($C74),\"\",VLOOKUP($C74,RAMP!$C$1:$X$20,W$11-$D$11+2,FALSE))","v":1},0.95]
[{"$f":"MLIST!A75","v":"HVAC"},{"$f":"MLIST!D75","v":"COM-PTHP-New"},"LO5Med",{"$f":"IF(ISBLANK($C75),\"\",VLOOKUP($C75,RAMP!$C$1:$X$20,D$11-$D$11+2,FALSE))","v":4.2999999999999997E-2},{"$f":"IF(ISBLANK($C75),\"\",VLOOKUP($C75,RAMP!$C$1:$X$20,E$11-$D$11+2,FALSE))","v":9.5797142280278316E-2},{"$f":"IF(ISBLANK($C75),\"\",VLOOKUP($C75,RAMP!$C$1:$X$20,F$11-$D$11+2,FALSE))","v":0.16040539374775648},{"$f":"IF(ISBLANK($C75),\"\",VLOOKUP($C75,RAMP!$C$1:$X$20,G$11-$D$11+2,FALSE))","v":0.23540539374775649},{"$f":"IF(ISBLANK($C75),\"\",VLOOKUP($C75,RAMP!$C$1:$X$20,H$11-$D$11+2,FALSE))","v":0.32095239121809005},{"$f":"IF(ISBLANK($C75),\"\",VLOOKUP($C75,RAMP!$C$1:$X$20,I$11-$D$11+2,FALSE))","v":0.42096711425629652},{"$f":"IF(ISBLANK($C75),\"\",VLOOKUP($C75,RAMP!$C$1:$X$20,J$11-$D$11+2,FALSE))","v":0.53068481860864725},{"$f":"IF(ISBLANK($C75),\"\",VLOOKUP($C75,RAMP!$C$1:$X$20,K$11-$D$11+2,FALSE))","v":0.642769203728351},{"$f":"IF(ISBLANK($C75),\"\",VLOOKUP($C75,RAMP!$C$1:$X$20,L$11-$D$11+2,FALSE))","v":0.74839528535557953},{"$f":"IF(ISBLANK($C75),\"\",VLOOKUP($C75,RAMP!$C$1:$X$20,M$11-$D$11+2,FALSE))","v":0.83918984935345187},{"$f":"IF(ISBLANK($C75),\"\",VLOOKUP($C75,RAMP!$C$1:$X$20,N$11-$D$11+2,FALSE))","v":0.90945051634530116},{"$f":"IF(ISBLANK($C75),\"\",VLOOKUP($C75,RAMP!$C$1:$X$20,O$11-$D$11+2,FALSE))","v":0.9576688767502457},{"$f":"IF(ISBLANK($C75),\"\",VLOOKUP($C75,RAMP!$C$1:$X$20,P$11-$D$11+2,FALSE))","v":0.9865231113648858},{"$f":"IF(ISBLANK($C75),\"\",VLOOKUP($C75,RAMP!$C$1:$X$20,Q$11-$D$11+2,FALSE))","v":1},{"$f":"IF(ISBLANK($C75),\"\",VLOOKUP($C75,RAMP!$C$1:$X$20,R$11-$D$11+2,FALSE))","v":1},{"$f":"IF(ISBLANK($C75),\"\",VLOOKUP($C75,RAMP!$C$1:$X$20,S$11-$D$11+2,FALSE))","v":1},{"$f":"IF(ISBLANK($C75),\"\",VLOOKUP($C75,RAMP!$C$1:$X$20,T$11-$D$11+2,FALSE))","v":1},{"$f":"IF(ISBLANK($C75),\"\",VLOOKUP($C75,RAMP!$C$1:$X$20,U$11-$D$11+2,FALSE))","v":1},{"$f":"IF(ISBLANK($C75),\"\",VLOOKUP($C75,RAMP!$C$1:$X$20,V$11-$D$11+2,FALSE))","v":1},{"$f":"IF(ISBLANK($C75),\"\",VLOOKUP($C75,RAMP!$C$1:$X$20,W$11-$D$11+2,FALSE))","v":1},0.95]
[{"$f":"MLIST!A76","v":"HVAC"},{"$f":"MLIST!D76","v":"COM-PTHP-Retro"},"Retro5Med",{"$f":"IF(ISBLANK($C76),\"\",VLOOKUP($C76,RAMP!$C$1:$X$20,D$11-$D$11+2,FALSE))","v":4.2999999999999997E-2},{"$f":"IF(ISBLANK($C76),\"\",VLOOKUP($C76,RAMP!$C$1:$X$20,E$11-$D$11+2,FALSE))","v":5.279714228027832E-2},{"$f":"IF(ISBLANK($C76),\"\",VLOOKUP($C76,RAMP!$C$1:$X$20,F$11-$D$11+2,FALSE))","v":6.4608251467478173E-2},{"$f":"IF(ISBLANK($C76),\"\",VLOOKUP($C76,RAMP!$C$1:$X$20,G$11-$D$11+2,FALSE))","v":7.4999999999999997E-2},{"$f":"IF(ISBLANK($C76),\"\",VLOOKUP($C76,RAMP!$C$1:$X$20,H$11-$D$11+2,FALSE))","v":8.5546997470333563E-2},{"$f":"IF(ISBLANK($C76),\"\",VLOOKUP($C76,RAMP!$C$1:$X$20,I$11-$D$11+2,FALSE))","v":0.10001472303820647},{"$f":"IF(ISBLANK($C76),\"\",VLOOKUP($C76,RAMP!$C$1:$X$20,J$11-$D$11+2,FALSE))","v":0.10971770435235073},{"$f":"IF(ISBLANK($C76),\"\",VLOOKUP($C76,RAMP!$C$1:$X$20,K$11-$D$11+2,FALSE))","v":0.11208438511970376},{"$f":"IF(ISBLANK($C76),\"\",VLOOKUP($C76,RAMP!$C$1:$X$20,L$11-$D$11+2,FALSE))","v":0.10562608162722853},{"$f":"IF(ISBLANK($C76),\"\",VLOOKUP($C76,RAMP!$C$1:$X$20,M$11-$D$11+2,FALSE))","v":9.0794563997872335E-2},{"$f":"IF(ISBLANK($C76),\"\",VLOOKUP($C76,RAMP!$C$1:$X$20,N$11-$D$11+2,FALSE))","v":7.0260666991849297E-2},{"$f":"IF(ISBLANK($C76),\"\",VLOOKUP($C76,RAMP!$C$1:$X$20,O$11-$D$11+2,FALSE))","v":4.65E-2},{"$f":"IF(ISBLANK($C76),\"\",VLOOKUP($C76,RAMP!$C$1:$X$20,P$11-$D$11+2,FALSE))","v":2.7E-2},{"$f":"IF(ISBLANK($C76),\"\",VLOOKUP($C76,RAMP!$C$1:$X$20,Q$11-$D$11+2,FALSE))","v":1.2999999999999999E-2},{"$f":"IF(ISBLANK($C76),\"\",VLOOKUP($C76,RAMP!$C$1:$X$20,R$11-$D$11+2,FALSE))","v":5.4999999999999997E-3},{"$f":"IF(ISBLANK($C76),\"\",VLOOKUP($C76,RAMP!$C$1:$X$20,S$11-$D$11+2,FALSE))","v":2E-3},{"$f":"IF(ISBLANK($C76),\"\",VLOOKUP($C76,RAMP!$C$1:$X$20,T$11-$D$11+2,FALSE))","v":6.2471001963848583E-4},{"$f":"IF(ISBLANK($C76),\"\",VLOOKUP($C76,RAMP!$C$1:$X$20,U$11-$D$11+2,FALSE))","v":1.3615841889635938E-4},{"$f":"IF(ISBLANK($C76),\"\",VLOOKUP($C76,RAMP!$C$1:$X$20,V$11-$D$11+2,FALSE))","v":2.2380636622298944E-5},{"$f":"IF(ISBLANK($C76),\"\",VLOOKUP($C76,RAMP!$C$1:$X$20,W$11-$D$11+2,FALSE))","v":2.68643837586513E-6},0.85]
[{"$f":"MLIST!A77","v":"HVAC"},{"$f":"MLIST!D77","v":"Com-DOAS-New"},"LO5Med",{"$f":"IF(ISBLANK($C77),\"\",VLOOKUP($C77,RAMP!$C$1:$X$20,D$11-$D$11+2,FALSE))","v":4.2999999999999997E-2},{"$f":"IF(ISBLANK($C77),\"\",VLOOKUP($C77,RAMP!$C$1:$X$20,E$11-$D$11+2,FALSE))","v":9.5797142280278316E-2},{"$f":"IF(ISBLANK($C77),\"\",VLOOKUP($C77,RAMP!$C$1:$X$20,F$11-$D$11+2,FALSE))","v":0.16040539374775648},{"$f":"IF(ISBLANK($C77),\"\",VLOOKUP($C77,RAMP!$C$1:$X$20,G$11-$D$11+2,FALSE))","v":0.23540539374775649},{"$f":"IF(ISBLANK($C77),\"\",VLOOKUP($C77,RAMP!$C$1:$X$20,H$11-$D$11+2,FALSE))","v":0.32095239121809005},{"$f":"IF(ISBLANK($C77),\"\",VLOOKUP($C77,RAMP!$C$1:$X$20,I$11-$D$11+2,FALSE))","v":0.42096711425629652},{"$f":"IF(ISBLANK($C77),\"\",VLOOKUP($C77,RAMP!$C$1:$X$20,J$11-$D$11+2,FALSE))","v":0.53068481860864725},{"$f":"IF(ISBLANK($C77),\"\",VLOOKUP($C77,RAMP!$C$1:$X$20,K$11-$D$11+2,FALSE))","v":0.642769203728351},{"$f":"IF(ISBLANK($C77),\"\",VLOOKUP($C77,RAMP!$C$1:$X$20,L$11-$D$11+2,FALSE))","v":0.74839528535557953},{"$f":"IF(ISBLANK($C77),\"\",VLOOKUP($C77,RAMP!$C$1:$X$20,M$11-$D$11+2,FALSE))","v":0.83918984935345187},{"$f":"IF(ISBLANK($C77),\"\",VLOOKUP($C77,RAMP!$C$1:$X$20,N$11-$D$11+2,FALSE))","v":0.90945051634530116},{"$f":"IF(ISBLANK($C77),\"\",VLOOKUP($C77,RAMP!$C$1:$X$20,O$11-$D$11+2,FALSE))","v":0.9576688767502457},{"$f":"IF(ISBLANK($C77),\"\",VLOOKUP($C77,RAMP!$C$1:$X$20,P$11-$D$11+2,FALSE))","v":0.9865231113648858},{"$f":"IF(ISBLANK($C77),\"\",VLOOKUP($C77,RAMP!$C$1:$X$20,Q$11-$D$11+2,FALSE))","v":1},{"$f":"IF(ISBLANK($C77),\"\",VLOOKUP($C77,RAMP!$C$1:$X$20,R$11-$D$11+2,FALSE))","v":1},{"$f":"IF(ISBLANK($C77),\"\",VLOOKUP($C77,RAMP!$C$1:$X$20,S$11-$D$11+2,FALSE))","v":1},{"$f":"IF(ISBLANK($C77),\"\",VLOOKUP($C77,RAMP!$C$1:$X$20,T$11-$D$11+2,FALSE))","v":1},{"$f":"IF(ISBLANK($C77),\"\",VLOOKUP($C77,RAMP!$C$1:$X$20,U$11-$D$11+2,FALSE))","v":1},{"$f":"IF(ISBLANK($C77),\"\",VLOOKUP($C77,RAMP!$C$1:$X$20,V$11-$D$11+2,FALSE))","v":1},{"$f":"IF(ISBLANK($C77),\"\",VLOOKUP($C77,RAMP!$C$1:$X$20,W$11-$D$11+2,FALSE))","v":1},0.85]
[{"$f":"MLIST!A78","v":"HVAC"},{"$f":"MLIST!D78","v":"Com-DOAS-Retro"},"Retro5Med",{"$f":"IF(ISBLANK($C78),\"\",VLOOKUP($C78,RAMP!$C$1:$X$20,D$11-$D$11+2,FALSE))","v":4.2999999999999997E-2},{"$f":"IF(ISBLANK($C78),\"\",VLOOKUP($C78,RAMP!$C$1:$X$20,E$11-$D$11+2,FALSE))","v":5.279714228027832E-2},{"$f":"IF(ISBLANK($C78),\"\",VLOOKUP($C78,RAMP!$C$1:$X$20,F$11-$D$11+2,FALSE))","v":6.4608251467478173E-2},{"$f":"IF(ISBLANK($C78),\"\",VLOOKUP($C78,RAMP!$C$1:$X$20,G$11-$D$11+2,FALSE))","v":7.4999999999999997E-2},{"$f":"IF(ISBLANK($C78),\"\",VLOOKUP($C78,RAMP!$C$1:$X$20,H$11-$D$11+2,FALSE))","v":8.5546997470333563E-2},{"$f":"IF(ISBLANK($C78),\"\",VLOOKUP($C78,RAMP!$C$1:$X$20,I$11-$D$11+2,FALSE))","v":0.10001472303820647},{"$f":"IF(ISBLANK($C78),\"\",VLOOKUP($C78,RAMP!$C$1:$X$20,J$11-$D$11+2,FALSE))","v":0.10971770435235073},{"$f":"IF(ISBLANK($C78),\"\",VLOOKUP($C78,RAMP!$C$1:$X$20,K$11-$D$11+2,FALSE))","v":0.11208438511970376},{"$f":"IF(ISBLANK($C78),\"\",VLOOKUP($C78,RAMP!$C$1:$X$20,L$11-$D$11+2,FALSE))","v":0.10562608162722853},{"$f":"IF(ISBLANK($C78),\"\",VLOOKUP($C78,RAMP!$C$1:$X$20,M$11-$D$11+2,FALSE))","v":9.0794563997872335E-2},{"$f":"IF(ISBLANK($C78),\"\",VLOOKUP($C78,RAMP!$C$1:$X$20,N$11-$D$11+2,FALSE))","v":7.0260666991849297E-2},{"$f":"IF(ISBLANK($C78),\"\",VLOOKUP($C78,RAMP!$C$1:$X$20,O$11-$D$11+2,FALSE))","v":4.65E-2},{"$f":"IF(ISBLANK($C78),\"\",VLOOKUP($C78,RAMP!$C$1:$X$20,P$11-$D$11+2,FALSE))","v":2.7E-2},{"$f":"IF(ISBLANK($C78),\"\",VLOOKUP($C78,RAMP!$C$1:$X$20,Q$11-$D$11+2,FALSE))","v":1.2999999999999999E-2},{"$f":"IF(ISBLANK($C78),\"\",VLOOKUP($C78,RAMP!$C$1:$X$20,R$11-$D$11+2,FALSE))","v":5.4999999999999997E-3},{"$f":"IF(ISBLANK($C78),\"\",VLOOKUP($C78,RAMP!$C$1:$X$20,S$11-$D$11+2,FALSE))","v":2E-3},{"$f":"IF(ISBLANK($C78),\"\",VLOOKUP($C78,RAMP!$C$1:$X$20,T$11-$D$11+2,FALSE))","v":6.2471001963848583E-4},{"$f":"IF(ISBLANK($C78),\"\",VLOOKUP($C78,RAMP!$C$1:$X$20,U$11-$D$11+2,FALSE))","v":1.3615841889635938E-4},{"$f":"IF(ISBLANK($C78),\"\",VLOOKUP($C78,RAMP!$C$1:$X$20,V$11-$D$11+2,FALSE))","v":2.2380636622298944E-5},{"$f":"IF(ISBLANK($C78),\"\",VLOOKUP($C78,RAMP!$C$1:$X$20,W$11-$D$11+2,FALSE))","v":2.68643837586513E-6},0.85]
[{"$f":"MLIST!A79","v":"HVAC"},{"$f":"MLIST!D79","v":"Secondary Glazing Systems-Retro"},"Retro1Slow",{"$f":"IF(ISBLANK($C79),\"\",VLOOKUP($C79,RAMP!$C$1:$X$20,D$11-$D$11+2,FALSE))","v":2.5643970768378654E-3},{"$f":"IF(ISBLANK($C79),\"\",VLOOKUP($C79,RAMP!$C$1:$X$20,E$11-$D$11+2,FALSE))","v":5.1260615529385989E-3},{"$f":"IF(ISBLANK($C79),\"\",VLOOKUP($C79,RAMP!$C$1:$X$20,F$11-$D$11+2,FALSE))","v":9.1015544176433795E-3},{"$f":"IF(ISBLANK($C79),\"\",VLOOKUP($C79,RAMP!$C$1:$X$20,G$11-$D$11+2,FALSE))","v":1.4804925730045659E-2},{"$f":"IF(ISBLANK($C79),\"\",VLOOKUP($C79,RAMP!$C$1:$X$20,H$11-$D$11+2,FALSE))","v":2.2471809420486211E-2},{"$f":"IF(ISBLANK($C79),\"\",VLOOKUP($C79,RAMP!$C$1:$X$20,I$11-$D$11+2,FALSE))","v":3.2184432813882391E-2},{"$f":"IF(ISBLANK($C79),\"\",VLOOKUP($C79,RAMP!$C$1:$X$20,J$11-$D$11+2,FALSE))","v":4.3779667172004086E-2},{"$f":"IF(ISBLANK($C79),\"\",VLOOKUP($C79,RAMP!$C$1:$X$20,K$11-$D$11+2,FALSE))","v":5.675426075474499E-2},{"$f":"IF(ISBLANK($C79),\"\",VLOOKUP($C79,RAMP!$C$1:$X$20,L$11-$D$11+2,FALSE))","v":7.0195239068707532E-2},{"$f":"IF(ISBLANK($C79),\"\",VLOOKUP($C79,RAMP!$C$1:$X$20,M$11-$D$11+2,FALSE))","v":8.2776861842756788E-2},{"$f":"IF(ISBLANK($C79),\"\",VLOOKUP($C79,RAMP!$C$1:$X$20,N$11-$D$11+2,FALSE))","v":9.2870259507494834E-2},{"$f":"IF(ISBLANK($C79),\"\",VLOOKUP($C79,RAMP!$C$1:$X$20,O$11-$D$11+2,FALSE))","v":9.8796470678915727E-2},{"$f":"IF(ISBLANK($C79),\"\",VLOOKUP($C79,RAMP!$C$1:$X$20,P$11-$D$11+2,FALSE))","v":9.9208932889988999E-2},{"$f":"IF(ISBLANK($C79),\"\",VLOOKUP($C79,RAMP!$C$1:$X$20,Q$11-$D$11+2,FALSE))","v":9.3521150494244254E-2},{"$f":"IF(ISBLANK($C79),\"\",VLOOKUP($C79,RAMP!$C$1:$X$20,R$11-$D$11+2,FALSE))","v":8.2226007896862296E-2},{"$f":"IF(ISBLANK($C79),\"\",VLOOKUP($C79,RAMP!$C$1:$X$20,S$11-$D$11+2,FALSE))","v":6.8000000000000005E-2},{"$f":"IF(ISBLANK($C79),\"\",VLOOKUP($C79,RAMP!$C$1:$X$20,T$11-$D$11+2,FALSE))","v":5.1999999999999998E-2},{"$f":"IF(ISBLANK($C79),\"\",VLOOKUP($C79,RAMP!$C$1:$X$20,U$11-$D$11+2,FALSE))","v":3.5999999999999997E-2},{"$f":"IF(ISBLANK($C79),\"\",VLOOKUP($C79,RAMP!$C$1:$X$20,V$11-$D$11+2,FALSE))","v":2.3E-2},{"$f":"IF(ISBLANK($C79),\"\",VLOOKUP($C79,RAMP!$C$1:$X$20,W$11-$D$11+2,FALSE))","v":1.4999999999999999E-2},0.85]
[{"$f":"MLIST!A80","v":"Lighting"},{"$f":"MLIST!D80","v":"LPD Package-New"},"LO50Fast",{"$f":"IF(ISBLANK($C80),\"\",VLOOKUP($C80,RAMP!$C$1:$X$20,D$11-$D$11+2,FALSE))","v":0.45},{"$f":"IF(ISBLANK($C80),\"\",VLOOKUP($C80,RAMP!$C$1:$X$20,E$11-$D$11+2,FALSE))","v":0.66},{"$f":"IF(ISBLANK($C80),\"\",VLOOKUP($C80,RAMP!$C$1:$X$20,F$11-$D$11+2,FALSE))","v":0.8},{"$f":"IF(ISBLANK($C80),\"\",VLOOKUP($C80,RAMP!$C$1:$X$20,G$11-$D$11+2,FALSE))","v":0.89},{"$f":"IF(ISBLANK($C80),\"\",VLOOKUP($C80,RAMP!$C$1:$X$20,H$11-$D$11+2,FALSE))","v":0.94954036260972652},{"$f":"IF(ISBLANK($C80),\"\",VLOOKUP($C80,RAMP!$C$1:$X$20,I$11-$D$11+2,FALSE))","v":0.97931054391458994},{"$f":"IF(ISBLANK($C80),\"\",VLOOKUP($C80,RAMP!$C$1:$X$20,J$11-$D$11+2,FALSE))","v":0.99254173560564019},{"$f":"IF(ISBLANK($C80),\"\",VLOOKUP($C80,RAMP!$C$1:$X$20,K$11-$D$11+2,FALSE))","v":0.99783421228206048},{"$f":"IF(ISBLANK($C80),\"\",VLOOKUP($C80,RAMP!$C$1:$X$20,L$11-$D$11+2,FALSE))","v":0.99975874925530417},{"$f":"IF(ISBLANK($C80),\"\",VLOOKUP($C80,RAMP!$C$1:$X$20,M$11-$D$11+2,FALSE))","v":1},{"$f":"IF(ISBLANK($C80),\"\",VLOOKUP($C80,RAMP!$C$1:$X$20,N$11-$D$11+2,FALSE))","v":1},{"$f":"IF(ISBLANK($C80),\"\",VLOOKUP($C80,RAMP!$C$1:$X$20,O$11-$D$11+2,FALSE))","v":1},{"$f":"IF(ISBLANK($C80),\"\",VLOOKUP($C80,RAMP!$C$1:$X$20,P$11-$D$11+2,FALSE))","v":1},{"$f":"IF(ISBLANK($C80),\"\",VLOOKUP($C80,RAMP!$C$1:$X$20,Q$11-$D$11+2,FALSE))","v":1},{"$f":"IF(ISBLANK($C80),\"\",VLOOKUP($C80,RAMP!$C$1:$X$20,R$11-$D$11+2,FALSE))","v":1},{"$f":"IF(ISBLANK($C80),\"\",VLOOKUP($C80,RAMP!$C$1:$X$20,S$11-$D$11+2,FALSE))","v":1},{"$f":"IF(ISBLANK($C80),\"\",VLOOKUP($C80,RAMP!$C$1:$X$20,T$11-$D$11+2,FALSE))","v":1},{"$f":"IF(ISBLANK($C80),\"\",VLOOKUP($C80,RAMP!$C$1:$X$20,U$11-$D$11+2,FALSE))","v":1},{"$f":"IF(ISBLANK($C80),\"\",VLOOKUP($C80,RAMP!$C$1:$X$20,V$11-$D$11+2,FALSE))","v":1},{"$f":"IF(ISBLANK($C80),\"\",VLOOKUP($C80,RAMP!$C$1:$X$20,W$11-$D$11+2,FALSE))","v":1},1]
[{"$f":"MLIST!A81","v":"Lighting"},{"$f":"MLIST!D81","v":"LPD Package-NR"},"LO50Fast",{"$f":"IF(ISBLANK($C81),\"\",VLOOKUP($C81,RAMP!$C$1:$X$20,D$11-$D$11+2,FALSE))","v":0.45},{"$f":"IF(ISBLANK($C81),\"\",VLOOKUP($C81,RAMP!$C$1:$X$20,E$11-$D$11+2,FALSE))","v":0.66},{"$f":"IF(ISBLANK($C81),\"\",VLOOKUP($C81,RAMP!$C$1:$X$20,F$11-$D$11+2,FALSE))","v":0.8},{"$f":"IF(ISBLANK($C81),\"\",VLOOKUP($C81,RAMP!$C$1:$X$20,G$11-$D$11+2,FALSE))","v":0.89},{"$f":"IF(ISBLANK($C81),\"\",VLOOKUP($C81,RAMP!$C$1:$X$20,H$11-$D$11+2,FALSE))","v":0.94954036260972652},{"$f":"IF(ISBLANK($C81),\"\",VLOOKUP($C81,RAMP!$C$1:$X$20,I$11-$D$11+2,FALSE))","v":0.97931054391458994},{"$f":"IF(ISBLANK($C81),\"\",VLOOKUP($C81,RAMP!$C$1:$X$20,J$11-$D$11+2,FALSE))","v":0.99254173560564019},{"$f":"IF(ISBLANK($C81),\"\",VLOOKUP($C81,RAMP!$C$1:$X$20,K$11-$D$11+2,FALSE))","v":0.99783421228206048},{"$f":"IF(ISBLANK($C81),\"\",VLOOKUP($C81,RAMP!$C$1:$X$20,L$11-$D$11+2,FALSE))","v":0.99975874925530417},{"$f":"IF(ISBLANK($C81),\"\",VLOOKUP($C81,RAMP!$C$1:$X$20,M$11-$D$11+2,FALSE))","v":1},{"$f":"IF(ISBLANK($C81),\"\",VLOOKUP($C81,RAMP!$C$1:$X$20,N$11-$D$11+2,FALSE))","v":1},{"$f":"IF(ISBLANK($C81),\"\",VLOOKUP($C81,RAMP!$C$1:$X$20,O$11-$D$11+2,FALSE))","v":1},{"$f":"IF(ISBLANK($C81),\"\",VLOOKUP($C81,RAMP!$C$1:$X$20,P$11-$D$11+2,FALSE))","v":1},{"$f":"IF(ISBLANK($C81),\"\",VLOOKUP($C81,RAMP!$C$1:$X$20,Q$11-$D$11+2,FALSE))","v":1},{"$f":"IF(ISBLANK($C81),\"\",VLOOKUP($C81,RAMP!$C$1:$X$20,R$11-$D$11+2,FALSE))","v":1},{"$f":"IF(ISBLANK($C81),\"\",VLOOKUP($C81,RAMP!$C$1:$X$20,S$11-$D$11+2,FALSE))","v":1},{"$f":"IF(ISBLANK($C81),\"\",VLOOKUP($C81,RAMP!$C$1:$X$20,T$11-$D$11+2,FALSE))","v":1},{"$f":"IF(ISBLANK($C81),\"\",VLOOKUP($C81,RAMP!$C$1:$X$20,U$11-$D$11+2,FALSE))","v":1},{"$f":"IF(ISBLANK($C81),\"\",VLOOKUP($C81,RAMP!$C$1:$X$20,V$11-$D$11+2,FALSE))","v":1},{"$f":"IF(ISBLANK($C81),\"\",VLOOKUP($C81,RAMP!$C$1:$X$20,W$11-$D$11+2,FALSE))","v":1},0.95]
[{"$f":"MLIST!A82","v":"Lighting"},{"$f":"MLIST!D82","v":"LPD Package-Retro"},"Retro12Med",{"$f":"IF(ISBLANK($C82),\"\",VLOOKUP($C82,RAMP!$C$1:$X$20,D$11-$D$11+2,FALSE))","v":0.10937459468255628},{"$f":"IF(ISBLANK($C82),\"\",VLOOKUP($C82,RAMP!$C$1:$X$20,E$11-$D$11+2,FALSE))","v":0.10937459468255628},{"$f":"IF(ISBLANK($C82),\"\",VLOOKUP($C82,RAMP!$C$1:$X$20,F$11-$D$11+2,FALSE))","v":0.10937459468255628},{"$f":"IF(ISBLANK($C82),\"\",VLOOKUP($C82,RAMP!$C$1:$X$20,G$11-$D$11+2,FALSE))","v":0.10937459468255628},{"$f":"IF(ISBLANK($C82),\"\",VLOOKUP($C82,RAMP!$C$1:$X$20,H$11-$D$11+2,FALSE))","v":0.10937459468255628},{"$f":"IF(ISBLANK($C82),\"\",VLOOKUP($C82,RAMP!$C$1:$X$20,I$11-$D$11+2,FALSE))","v":9.8437135214300656E-2},{"$f":"IF(ISBLANK($C82),\"\",VLOOKUP($C82,RAMP!$C$1:$X$20,J$11-$D$11+2,FALSE))","v":7.874970817144053E-2},{"$f":"IF(ISBLANK($C82),\"\",VLOOKUP($C82,RAMP!$C$1:$X$20,K$11-$D$11+2,FALSE))","v":6.2999766537152418E-2},{"$f":"IF(ISBLANK($C82),\"\",VLOOKUP($C82,RAMP!$C$1:$X$20,L$11-$D$11+2,FALSE))","v":5.0399813229721938E-2},{"$f":"IF(ISBLANK($C82),\"\",VLOOKUP($C82,RAMP!$C$1:$X$20,M$11-$D$11+2,FALSE))","v":4.0319850583777551E-2},{"$f":"IF(ISBLANK($C82),\"\",VLOOKUP($C82,RAMP!$C$1:$X$20,N$11-$D$11+2,FALSE))","v":3.225588046702204E-2},{"$f":"IF(ISBLANK($C82),\"\",VLOOKUP($C82,RAMP!$C$1:$X$20,O$11-$D$11+2,FALSE))","v":2.5804704373617631E-2},{"$f":"IF(ISBLANK($C82),\"\",VLOOKUP($C82,RAMP!$C$1:$X$20,P$11-$D$11+2,FALSE))","v":2.0643763498894106E-2},{"$f":"IF(ISBLANK($C82),\"\",VLOOKUP($C82,RAMP!$C$1:$X$20,Q$11-$D$11+2,FALSE))","v":1.6515010799115284E-2},{"$f":"IF(ISBLANK($C82),\"\",VLOOKUP($C82,RAMP!$C$1:$X$20,R$11-$D$11+2,FALSE))","v":1.3212008639292228E-2},{"$f":"IF(ISBLANK($C82),\"\",VLOOKUP($C82,RAMP!$C$1:$X$20,S$11-$D$11+2,FALSE))","v":1.0569606911433781E-2},{"$f":"IF(ISBLANK($C82),\"\",VLOOKUP($C82,RAMP!$C$1:$X$20,T$11-$D$11+2,FALSE))","v":7.2092823794611682E-5},{"$f":"IF(ISBLANK($C82),\"\",VLOOKUP($C82,RAMP!$C$1:$X$20,U$11-$D$11+2,FALSE))","v":2.5747437069512102E-5},{"$f":"IF(ISBLANK($C82),\"\",VLOOKUP($C82,RAMP!$C$1:$X$20,V$11-$D$11+2,FALSE))","v":8.7775353646568632E-6},{"$f":"IF(ISBLANK($C82),\"\",VLOOKUP($C82,RAMP!$C$1:$X$20,W$11-$D$11+2,FALSE))","v":2.8622397928446119E-6},0.95]
[{"$f":"MLIST!A83","v":"Lighting"},{"$f":"MLIST!D83","v":"Top Daylighting-New"},"LO12Med",{"$f":"IF(ISBLANK($C83),\"\",VLOOKUP($C83,RAMP!$C$1:$X$20,D$11-$D$11+2,FALSE))","v":0.10937459468255628},{"$f":"IF(ISBLANK($C83),\"\",VLOOKUP($C83,RAMP!$C$1:$X$20,E$11-$D$11+2,FALSE))","v":0.21874918936511256},{"$f":"IF(ISBLANK($C83),\"\",VLOOKUP($C83,RAMP!$C$1:$X$20,F$11-$D$11+2,FALSE))","v":0.32812378404766884},{"$f":"IF(ISBLANK($C83),\"\",VLOOKUP($C83,RAMP!$C$1:$X$20,G$11-$D$11+2,FALSE))","v":0.43749837873022512},{"$f":"IF(ISBLANK($C83),\"\",VLOOKUP($C83,RAMP!$C$1:$X$20,H$11-$D$11+2,FALSE))","v":0.5468729734127814},{"$f":"IF(ISBLANK($C83),\"\",VLOOKUP($C83,RAMP!$C$1:$X$20,I$11-$D$11+2,FALSE))","v":0.64531010862708205},{"$f":"IF(ISBLANK($C83),\"\",VLOOKUP($C83,RAMP!$C$1:$X$20,J$11-$D$11+2,FALSE))","v":0.7240598167985226},{"$f":"IF(ISBLANK($C83),\"\",VLOOKUP($C83,RAMP!$C$1:$X$20,K$11-$D$11+2,FALSE))","v":0.78705958333567505},{"$f":"IF(ISBLANK($C83),\"\",VLOOKUP($C83,RAMP!$C$1:$X$20,L$11-$D$11+2,FALSE))","v":0.83745939656539703},{"$f":"IF(ISBLANK($C83),\"\",VLOOKUP($C83,RAMP!$C$1:$X$20,M$11-$D$11+2,FALSE))","v":0.87777924714917455},{"$f":"IF(ISBLANK($C83),\"\",VLOOKUP($C83,RAMP!$C$1:$X$20,N$11-$D$11+2,FALSE))","v":0.91003512761619654},{"$f":"IF(ISBLANK($C83),\"\",VLOOKUP($C83,RAMP!$C$1:$X$20,O$11-$D$11+2,FALSE))","v":0.93583983198981413},{"$f":"IF(ISBLANK($C83),\"\",VLOOKUP($C83,RAMP!$C$1:$X$20,P$11-$D$11+2,FALSE))","v":0.9564835954887082},{"$f":"IF(ISBLANK($C83),\"\",VLOOKUP($C83,RAMP!$C$1:$X$20,Q$11-$D$11+2,FALSE))","v":0.97299860628782353},{"$f":"IF(ISBLANK($C83),\"\",VLOOKUP($C83,RAMP!$C$1:$X$20,R$11-$D$11+2,FALSE))","v":0.9862106149271157},{"$f":"IF(ISBLANK($C83),\"\",VLOOKUP($C83,RAMP!$C$1:$X$20,S$11-$D$11+2,FALSE))","v":0.99678022183854953},{"$f":"IF(ISBLANK($C83),\"\",VLOOKUP($C83,RAMP!$C$1:$X$20,T$11-$D$11+2,FALSE))","v":0.99685231466234414},{"$f":"IF(ISBLANK($C83),\"\",VLOOKUP($C83,RAMP!$C$1:$X$20,U$11-$D$11+2,FALSE))","v":0.99687806209941365},{"$f":"IF(ISBLANK($C83),\"\",VLOOKUP($C83,RAMP!$C$1:$X$20,V$11-$D$11+2,FALSE))","v":0.99688683963477831},{"$f":"IF(ISBLANK($C83),\"\",VLOOKUP($C83,RAMP!$C$1:$X$20,W$11-$D$11+2,FALSE))","v":0.99688970187457115},0.85]
[{"$f":"MLIST!A84","v":"Lighting"},{"$f":"MLIST!D84","v":"Perimeter Daylighting Controls Advanced-New"},"LO5Med",{"$f":"IF(ISBLANK($C84),\"\",VLOOKUP($C84,RAMP!$C$1:$X$20,D$11-$D$11+2,FALSE))","v":4.2999999999999997E-2},{"$f":"IF(ISBLANK($C84),\"\",VLOOKUP($C84,RAMP!$C$1:$X$20,E$11-$D$11+2,FALSE))","v":9.5797142280278316E-2},{"$f":"IF(ISBLANK($C84),\"\",VLOOKUP($C84,RAMP!$C$1:$X$20,F$11-$D$11+2,FALSE))","v":0.16040539374775648},{"$f":"IF(ISBLANK($C84),\"\",VLOOKUP($C84,RAMP!$C$1:$X$20,G$11-$D$11+2,FALSE))","v":0.23540539374775649},{"$f":"IF(ISBLANK($C84),\"\",VLOOKUP($C84,RAMP!$C$1:$X$20,H$11-$D$11+2,FALSE))","v":0.32095239121809005},{"$f":"IF(ISBLANK($C84),\"\",VLOOKUP($C84,RAMP!$C$1:$X$20,I$11-$D$11+2,FALSE))","v":0.42096711425629652},{"$f":"IF(ISBLANK($C84),\"\",VLOOKUP($C84,RAMP!$C$1:$X$20,J$11-$D$11+2,FALSE))","v":0.53068481860864725},{"$f":"IF(ISBLANK($C84),\"\",VLOOKUP($C84,RAMP!$C$1:$X$20,K$11-$D$11+2,FALSE))","v":0.642769203728351},{"$f":"IF(ISBLANK($C84),\"\",VLOOKUP($C84,RAMP!$C$1:$X$20,L$11-$D$11+2,FALSE))","v":0.74839528535557953},{"$f":"IF(ISBLANK($C84),\"\",VLOOKUP($C84,RAMP!$C$1:$X$20,M$11-$D$11+2,FALSE))","v":0.83918984935345187},{"$f":"IF(ISBLANK($C84),\"\",VLOOKUP($C84,RAMP!$C$1:$X$20,N$11-$D$11+2,FALSE))","v":0.90945051634530116},{"$f":"IF(ISBLANK($C84),\"\",VLOOKUP($C84,RAMP!$C$1:$X$20,O$11-$D$11+2,FALSE))","v":0.9576688767502457},{"$f":"IF(ISBLANK($C84),\"\",VLOOKUP($C84,RAMP!$C$1:$X$20,P$11-$D$11+2,FALSE))","v":0.9865231113648858},{"$f":"IF(ISBLANK($C84),\"\",VLOOKUP($C84,RAMP!$C$1:$X$20,Q$11-$D$11+2,FALSE))","v":1},{"$f":"IF(ISBLANK($C84),\"\",VLOOKUP($C84,RAMP!$C$1:$X$20,R$11-$D$11+2,FALSE))","v":1},{"$f":"IF(ISBLANK($C84),\"\",VLOOKUP($C84,RAMP!$C$1:$X$20,S$11-$D$11+2,FALSE))","v":1},{"$f":"IF(ISBLANK($C84),\"\",VLOOKUP($C84,RAMP!$C$1:$X$20,T$11-$D$11+2,FALSE))","v":1},{"$f":"IF(ISBLANK($C84),\"\",VLOOKUP($C84,RAMP!$C$1:$X$20,U$11-$D$11+2,FALSE))","v":1},{"$f":"IF(ISBLANK($C84),\"\",VLOOKUP($C84,RAMP!$C$1:$X$20,V$11-$D$11+2,FALSE))","v":1},{"$f":"IF(ISBLANK($C84),\"\",VLOOKUP($C84,RAMP!$C$1:$X$20,W$11-$D$11+2,FALSE))","v":1},0.85]
[{"$f":"MLIST!A85","v":"Lighting"},{"$f":"MLIST!D85","v":"Perimeter Daylighting Controls Advanced-NR"},"LO5Med",{"$f":"IF(ISBLANK($C85),\"\",VLOOKUP($C85,RAMP!$C$1:$X$20,D$11-$D$11+2,FALSE))","v":4.2999999999999997E-2},{"$f":"IF(ISBLANK($C85),\"\",VLOOKUP($C85,RAMP!$C$1:$X$20,E$11-$D$11+2,FALSE))","v":9.5797142280278316E-2},{"$f":"IF(ISBLANK($C85),\"\",VLOOKUP($C85,RAMP!$C$1:$X$20,F$11-$D$11+2,FALSE))","v":0.16040539374775648},{"$f":"IF(ISBLANK($C85),\"\",VLOOKUP($C85,RAMP!$C$1:$X$20,G$11-$D$11+2,FALSE))","v":0.23540539374775649},{"$f":"IF(ISBLANK($C85),\"\",VLOOKUP($C85,RAMP!$C$1:$X$20,H$11-$D$11+2,FALSE))","v":0.32095239121809005},{"$f":"IF(ISBLANK($C85),\"\",VLOOKUP($C85,RAMP!$C$1:$X$20,I$11-$D$11+2,FALSE))","v":0.42096711425629652},{"$f":"IF(ISBLANK($C85),\"\",VLOOKUP($C85,RAMP!$C$1:$X$20,J$11-$D$11+2,FALSE))","v":0.53068481860864725},{"$f":"IF(ISBLANK($C85),\"\",VLOOKUP($C85,RAMP!$C$1:$X$20,K$11-$D$11+2,FALSE))","v":0.642769203728351},{"$f":"IF(ISBLANK($C85),\"\",VLOOKUP($C85,RAMP!$C$1:$X$20,L$11-$D$11+2,FALSE))","v":0.74839528535557953},{"$f":"IF(ISBLANK($C85),\"\",VLOOKUP($C85,RAMP!$C$1:$X$20,M$11-$D$11+2,FALSE))","v":0.83918984935345187},{"$f":"IF(ISBLANK($C85),\"\",VLOOKUP($C85,RAMP!$C$1:$X$20,N$11-$D$11+2,FALSE))","v":0.90945051634530116},{"$f":"IF(ISBLANK($C85),\"\",VLOOKUP($C85,RAMP!$C$1:$X$20,O$11-$D$11+2,FALSE))","v":0.9576688767502457},{"$f":"IF(ISBLANK($C85),\"\",VLOOKUP($C85,RAMP!$C$1:$X$20,P$11-$D$11+2,FALSE))","v":0.9865231113648858},{"$f":"IF(ISBLANK($C85),\"\",VLOOKUP($C85,RAMP!$C$1:$X$20,Q$11-$D$11+2,FALSE))","v":1},{"$f":"IF(ISBLANK($C85),\"\",VLOOKUP($C85,RAMP!$C$1:$X$20,R$11-$D$11+2,FALSE))","v":1},{"$f":"IF(ISBLANK($C85),\"\",VLOOKUP($C85,RAMP!$C$1:$X$20,S$11-$D$11+2,FALSE))","v":1},{"$f":"IF(ISBLANK($C85),\"\",VLOOKUP($C85,RAMP!$C$1:$X$20,T$11-$D$11+2,FALSE))","v":1},{"$f":"IF(ISBLANK($C85),\"\",VLOOKUP($C85,RAMP!$C$1:$X$20,U$11-$D$11+2,FALSE))","v":1},{"$f":"IF(ISBLANK($C85),\"\",VLOOKUP($C85,RAMP!$C$1:$X$20,V$11-$D$11+2,FALSE))","v":1},{"$f":"IF(ISBLANK($C85),\"\",VLOOKUP($C85,RAMP!$C$1:$X$20,W$11-$D$11+2,FALSE))","v":1},0.85]
[{"$f":"MLIST!A86","v":"Lighting"},{"$f":"MLIST!D86","v":"Lighting Controls Interior-New"},"LO12Med",{"$f":"IF(ISBLANK($C86),\"\",VLOOKUP($C86,RAMP!$C$1:$X$20,D$11-$D$11+2,FALSE))","v":0.10937459468255628},{"$f":"IF(ISBLANK($C86),\"\",VLOOKUP($C86,RAMP!$C$1:$X$20,E$11-$D$11+2,FALSE))","v":0.21874918936511256},{"$f":"IF(ISBLANK($C86),\"\",VLOOKUP($C86,RAMP!$C$1:$X$20,F$11-$D$11+2,FALSE))","v":0.32812378404766884},{"$f":"IF(ISBLANK($C86),\"\",VLOOKUP($C86,RAMP!$C$1:$X$20,G$11-$D$11+2,FALSE))","v":0.43749837873022512},{"$f":"IF(ISBLANK($C86),\"\",VLOOKUP($C86,RAMP!$C$1:$X$20,H$11-$D$11+2,FALSE))","v":0.5468729734127814},{"$f":"IF(ISBLANK($C86),\"\",VLOOKUP($C86,RAMP!$C$1:$X$20,I$11-$D$11+2,FALSE))","v":0.64531010862708205},{"$f":"IF(ISBLANK($C86),\"\",VLOOKUP($C86,RAMP!$C$1:$X$20,J$11-$D$11+2,FALSE))","v":0.7240598167985226},{"$f":"IF(ISBLANK($C86),\"\",VLOOKUP($C86,RAMP!$C$1:$X$20,K$11-$D$11+2,FALSE))","v":0.78705958333567505},{"$f":"IF(ISBLANK($C86),\"\",VLOOKUP($C86,RAMP!$C$1:$X$20,L$11-$D$11+2,FALSE))","v":0.83745939656539703},{"$f":"IF(ISBLANK($C86),\"\",VLOOKUP($C86,RAMP!$C$1:$X$20,M$11-$D$11+2,FALSE))","v":0.87777924714917455},{"$f":"IF(ISBLANK($C86),\"\",VLOOKUP($C86,RAMP!$C$1:$X$20,N$11-$D$11+2,FALSE))","v":0.91003512761619654},{"$f":"IF(ISBLANK($C86),\"\",VLOOKUP($C86,RAMP!$C$1:$X$20,O$11-$D$11+2,FALSE))","v":0.93583983198981413},{"$f":"IF(ISBLANK($C86),\"\",VLOOKUP($C86,RAMP!$C$1:$X$20,P$11-$D$11+2,FALSE))","v":0.9564835954887082},{"$f":"IF(ISBLANK($C86),\"\",VLOOKUP($C86,RAMP!$C$1:$X$20,Q$11-$D$11+2,FALSE))","v":0.97299860628782353},{"$f":"IF(ISBLANK($C86),\"\",VLOOKUP($C86,RAMP!$C$1:$X$20,R$11-$D$11+2,FALSE))","v":0.9862106149271157},{"$f":"IF(ISBLANK($C86),\"\",VLOOKUP($C86,RAMP!$C$1:$X$20,S$11-$D$11+2,FALSE))","v":0.99678022183854953},{"$f":"IF(ISBLANK($C86),\"\",VLOOKUP($C86,RAMP!$C$1:$X$20,T$11-$D$11+2,FALSE))","v":0.99685231466234414},{"$f":"IF(ISBLANK($C86),\"\",VLOOKUP($C86,RAMP!$C$1:$X$20,U$11-$D$11+2,FALSE))","v":0.99687806209941365},{"$f":"IF(ISBLANK($C86),\"\",VLOOKUP($C86,RAMP!$C$1:$X$20,V$11-$D$11+2,FALSE))","v":0.99688683963477831},{"$f":"IF(ISBLANK($C86),\"\",VLOOKUP($C86,RAMP!$C$1:$X$20,W$11-$D$11+2,FALSE))","v":0.99688970187457115},0.85]
[{"$f":"MLIST!A87","v":"Lighting"},{"$f":"MLIST!D87","v":"Lighting Controls Interior-NR"},"LO12Med",{"$f":"IF(ISBLANK($C87),\"\",VLOOKUP($C87,RAMP!$C$1:$X$20,D$11-$D$11+2,FALSE))","v":0.10937459468255628},{"$f":"IF(ISBLANK($C87),\"\",VLOOKUP($C87,RAMP!$C$1:$X$20,E$11-$D$11+2,FALSE))","v":0.21874918936511256},{"$f":"IF(ISBLANK($C87),\"\",VLOOKUP($C87,RAMP!$C$1:$X$20,F$11-$D$11+2,FALSE))","v":0.32812378404766884},{"$f":"IF(ISBLANK($C87),\"\",VLOOKUP($C87,RAMP!$C$1:$X$20,G$11-$D$11+2,FALSE))","v":0.43749837873022512},{"$f":"IF(ISBLANK($C87),\"\",VLOOKUP($C87,RAMP!$C$1:$X$20,H$11-$D$11+2,FALSE))","v":0.5468729734127814},{"$f":"IF(ISBLANK($C87),\"\",VLOOKUP($C87,RAMP!$C$1:$X$20,I$11-$D$11+2,FALSE))","v":0.64531010862708205},{"$f":"IF(ISBLANK($C87),\"\",VLOOKUP($C87,RAMP!$C$1:$X$20,J$11-$D$11+2,FALSE))","v":0.7240598167985226},{"$f":"IF(ISBLANK($C87),\"\",VLOOKUP($C87,RAMP!$C$1:$X$20,K$11-$D$11+2,FALSE))","v":0.78705958333567505},{"$f":"IF(ISBLANK($C87),\"\",VLOOKUP($C87,RAMP!$C$1:$X$20,L$11-$D$11+2,FALSE))","v":0.83745939656539703},{"$f":"IF(ISBLANK($C87),\"\",VLOOKUP($C87,RAMP!$C$1:$X$20,M$11-$D$11+2,FALSE))","v":0.87777924714917455},{"$f":"IF(ISBLANK($C87),\"\",VLOOKUP($C87,RAMP!$C$1:$X$20,N$11-$D$11+2,FALSE))","v":0.91003512761619654},{"$f":"IF(ISBLANK($C87),\"\",VLOOKUP($C87,RAMP!$C$1:$X$20,O$11-$D$11+2,FALSE))","v":0.93583983198981413},{"$f":"IF(ISBLANK($C87),\"\",VLOOKUP($C87,RAMP!$C$1:$X$20,P$11-$D$11+2,FALSE))","v":0.9564835954887082},{"$f":"IF(ISBLANK($C87),\"\",VLOOKUP($C87,RAMP!$C$1:$X$20,Q$11-$D$11+2,FALSE))","v":0.97299860628782353},{"$f":"IF(ISBLANK($C87),\"\",VLOOKUP($C87,RAMP!$C$1:$X$20,R$11-$D$11+2,FALSE))","v":0.9862106149271157},{"$f":"IF(ISBLANK($C87),\"\",VLOOKUP($C87,RAMP!$C$1:$X$20,S$11-$D$11+2,FALSE))","v":0.99678022183854953},{"$f":"IF(ISBLANK($C87),\"\",VLOOKUP($C87,RAMP!$C$1:$X$20,T$11-$D$11+2,FALSE))","v":0.99685231466234414},{"$f":"IF(ISBLANK($C87),\"\",VLOOKUP($C87,RAMP!$C$1:$X$20,U$11-$D$11+2,FALSE))","v":0.99687806209941365},{"$f":"IF(ISBLANK($C87),\"\",VLOOKUP($C87,RAMP!$C$1:$X$20,V$11-$D$11+2,FALSE))","v":0.99688683963477831},{"$f":"IF(ISBLANK($C87),\"\",VLOOKUP($C87,RAMP!$C$1:$X$20,W$11-$D$11+2,FALSE))","v":0.99688970187457115},0.85]
[{"$f":"MLIST!A88","v":"Lighting"},{"$f":"MLIST!D88","v":"Exterior Building Lighting-New"},"LO80Fast",{"$f":"IF(ISBLANK($C88),\"\",VLOOKUP($C88,RAMP!$C$1:$X$20,D$11-$D$11+2,FALSE))","v":0.75591772170578986},{"$f":"IF(ISBLANK($C88),\"\",VLOOKUP($C88,RAMP!$C$1:$X$20,E$11-$D$11+2,FALSE))","v":0.82720061923553012},{"$f":"IF(ISBLANK($C88),\"\",VLOOKUP($C88,RAMP!$C$1:$X$20,F$11-$D$11+2,FALSE))","v":0.88264287286977261},{"$f":"IF(ISBLANK($C88),\"\",VLOOKUP($C88,RAMP!$C$1:$X$20,G$11-$D$11+2,FALSE))","v":0.92349505975816193},{"$f":"IF(ISBLANK($C88),\"\",VLOOKUP($C88,RAMP!$C$1:$X$20,H$11-$D$11+2,FALSE))","v":0.95209159058003434},{"$f":"IF(ISBLANK($C88),\"\",VLOOKUP($C88,RAMP!$C$1:$X$20,I$11-$D$11+2,FALSE))","v":0.97115594446128262},{"$f":"IF(ISBLANK($C88),\"\",VLOOKUP($C88,RAMP!$C$1:$X$20,J$11-$D$11+2,FALSE))","v":0.98328780602207699},{"$f":"IF(ISBLANK($C88),\"\",VLOOKUP($C88,RAMP!$C$1:$X$20,K$11-$D$11+2,FALSE))","v":0.99067241740690848},{"$f":"IF(ISBLANK($C88),\"\",VLOOKUP($C88,RAMP!$C$1:$X$20,L$11-$D$11+2,FALSE))","v":0.99498010738139331},{"$f":"IF(ISBLANK($C88),\"\",VLOOKUP($C88,RAMP!$C$1:$X$20,M$11-$D$11+2,FALSE))","v":1},{"$f":"IF(ISBLANK($C88),\"\",VLOOKUP($C88,RAMP!$C$1:$X$20,N$11-$D$11+2,FALSE))","v":1},{"$f":"IF(ISBLANK($C88),\"\",VLOOKUP($C88,RAMP!$C$1:$X$20,O$11-$D$11+2,FALSE))","v":1},{"$f":"IF(ISBLANK($C88),\"\",VLOOKUP($C88,RAMP!$C$1:$X$20,P$11-$D$11+2,FALSE))","v":1},{"$f":"IF(ISBLANK($C88),\"\",VLOOKUP($C88,RAMP!$C$1:$X$20,Q$11-$D$11+2,FALSE))","v":1},{"$f":"IF(ISBLANK($C88),\"\",VLOOKUP($C88,RAMP!$C$1:$X$20,R$11-$D$11+2,FALSE))","v":1},{"$f":"IF(ISBLANK($C88),\"\",VLOOKUP($C88,RAMP!$C$1:$X$20,S$11-$D$11+2,FALSE))","v":1},{"$f":"IF(ISBLANK($C88),\"\",VLOOKUP($C88,RAMP!$C$1:$X$20,T$11-$D$11+2,FALSE))","v":1},{"$f":"IF(ISBLANK($C88),\"\",VLOOKUP($C88,RAMP!$C$1:$X$20,U$11-$D$11+2,FALSE))","v":1},{"$f":"IF(ISBLANK($C88),\"\",VLOOKUP($C88,RAMP!$C$1:$X$20,V$11-$D$11+2,FALSE))","v":1},{"$f":"IF(ISBLANK($C88),\"\",VLOOKUP($C88,RAMP!$C$1:$X$20,W$11-$D$11+2,FALSE))","v":1},1]
[{"$f":"MLIST!A89","v":"Lighting"},{"$f":"MLIST!D89","v":"Exterior Building Lighting-NR"},"LO80Fast",{"$f":"IF(ISBLANK($C89),\"\",VLOOKUP($C89,RAMP!$C$1:$X$20,D$11-$D$11+2,FALSE))","v":0.75591772170578986},{"$f":"IF(ISBLANK($C89),\"\",VLOOKUP($C89,RAMP!$C$1:$X$20,E$11-$D$11+2,FALSE))","v":0.82720061923553012},{"$f":"IF(ISBLANK($C89),\"\",VLOOKUP($C89,RAMP!$C$1:$X$20,F$11-$D$11+2,FALSE))","v":0.88264287286977261},{"$f":"IF(ISBLANK($C89),\"\",VLOOKUP($C89,RAMP!$C$1:$X$20,G$11-$D$11+2,FALSE))","v":0.92349505975816193},{"$f":"IF(ISBLANK($C89),\"\",VLOOKUP($C89,RAMP!$C$1:$X$20,H$11-$D$11+2,FALSE))","v":0.95209159058003434},{"$f":"IF(ISBLANK($C89),\"\",VLOOKUP($C89,RAMP!$C$1:$X$20,I$11-$D$11+2,FALSE))","v":0.97115594446128262},{"$f":"IF(ISBLANK($C89),\"\",VLOOKUP($C89,RAMP!$C$1:$X$20,J$11-$D$11+2,FALSE))","v":0.98328780602207699},{"$f":"IF(ISBLANK($C89),\"\",VLOOKUP($C89,RAMP!$C$1:$X$20,K$11-$D$11+2,FALSE))","v":0.99067241740690848},{"$f":"IF(ISBLANK($C89),\"\",VLOOKUP($C89,RAMP!$C$1:$X$20,L$11-$D$11+2,FALSE))","v":0.99498010738139331},{"$f":"IF(ISBLANK($C89),\"\",VLOOKUP($C89,RAMP!$C$1:$X$20,M$11-$D$11+2,FALSE))","v":1},{"$f":"IF(ISBLANK($C89),\"\",VLOOKUP($C89,RAMP!$C$1:$X$20,N$11-$D$11+2,FALSE))","v":1},{"$f":"IF(ISBLANK($C89),\"\",VLOOKUP($C89,RAMP!$C$1:$X$20,O$11-$D$11+2,FALSE))","v":1},{"$f":"IF(ISBLANK($C89),\"\",VLOOKUP($C89,RAMP!$C$1:$X$20,P$11-$D$11+2,FALSE))","v":1},{"$f":"IF(ISBLANK($C89),\"\",VLOOKUP($C89,RAMP!$C$1:$X$20,Q$11-$D$11+2,FALSE))","v":1},{"$f":"IF(ISBLANK($C89),\"\",VLOOKUP($C89,RAMP!$C$1:$X$20,R$11-$D$11+2,FALSE))","v":1},{"$f":"IF(ISBLANK($C89),\"\",VLOOKUP($C89,RAMP!$C$1:$X$20,S$11-$D$11+2,FALSE))","v":1},{"$f":"IF(ISBLANK($C89),\"\",VLOOKUP($C89,RAMP!$C$1:$X$20,T$11-$D$11+2,FALSE))","v":1},{"$f":"IF(ISBLANK($C89),\"\",VLOOKUP($C89,RAMP!$C$1:$X$20,U$11-$D$11+2,FALSE))","v":1},{"$f":"IF(ISBLANK($C89),\"\",VLOOKUP($C89,RAMP!$C$1:$X$20,V$11-$D$11+2,FALSE))","v":1},{"$f":"IF(ISBLANK($C89),\"\",VLOOKUP($C89,RAMP!$C$1:$X$20,W$11-$D$11+2,FALSE))","v":1},0.95]
[{"$f":"MLIST!A90","v":"Lighting"},{"$f":"MLIST!D90","v":"Street and Roadway Lighting-New"},"LO80Fast",{"$f":"IF(ISBLANK($C90),\"\",VLOOKUP($C90,RAMP!$C$1:$X$20,D$11-$D$11+2,FALSE))","v":0.75591772170578986},{"$f":"IF(ISBLANK($C90),\"\",VLOOKUP($C90,RAMP!$C$1:$X$20,E$11-$D$11+2,FALSE))","v":0.82720061923553012},{"$f":"IF(ISBLANK($C90),\"\",VLOOKUP($C90,RAMP!$C$1:$X$20,F$11-$D$11+2,FALSE))","v":0.88264287286977261},{"$f":"IF(ISBLANK($C90),\"\",VLOOKUP($C90,RAMP!$C$1:$X$20,G$11-$D$11+2,FALSE))","v":0.92349505975816193},{"$f":"IF(ISBLANK($C90),\"\",VLOOKUP($C90,RAMP!$C$1:$X$20,H$11-$D$11+2,FALSE))","v":0.95209159058003434},{"$f":"IF(ISBLANK($C90),\"\",VLOOKUP($C90,RAMP!$C$1:$X$20,I$11-$D$11+2,FALSE))","v":0.97115594446128262},{"$f":"IF(ISBLANK($C90),\"\",VLOOKUP($C90,RAMP!$C$1:$X$20,J$11-$D$11+2,FALSE))","v":0.98328780602207699},{"$f":"IF(ISBLANK($C90),\"\",VLOOKUP($C90,RAMP!$C$1:$X$20,K$11-$D$11+2,FALSE))","v":0.99067241740690848},{"$f":"IF(ISBLANK($C90),\"\",VLOOKUP($C90,RAMP!$C$1:$X$20,L$11-$D$11+2,FALSE))","v":0.99498010738139331},{"$f":"IF(ISBLANK($C90),\"\",VLOOKUP($C90,RAMP!$C$1:$X$20,M$11-$D$11+2,FALSE))","v":1},{"$f":"IF(ISBLANK($C90),\"\",VLOOKUP($C90,RAMP!$C$1:$X$20,N$11-$D$11+2,FALSE))","v":1},{"$f":"IF(ISBLANK($C90),\"\",VLOOKUP($C90,RAMP!$C$1:$X$20,O$11-$D$11+2,FALSE))","v":1},{"$f":"IF(ISBLANK($C90),\"\",VLOOKUP($C90,RAMP!$C$1:$X$20,P$11-$D$11+2,FALSE))","v":1},{"$f":"IF(ISBLANK($C90),\"\",VLOOKUP($C90,RAMP!$C$1:$X$20,Q$11-$D$11+2,FALSE))","v":1},{"$f":"IF(ISBLANK($C90),\"\",VLOOKUP($C90,RAMP!$C$1:$X$20,R$11-$D$11+2,FALSE))","v":1},{"$f":"IF(ISBLANK($C90),\"\",VLOOKUP($C90,RAMP!$C$1:$X$20,S$11-$D$11+2,FALSE))","v":1},{"$f":"IF(ISBLANK($C90),\"\",VLOOKUP($C90,RAMP!$C$1:$X$20,T$11-$D$11+2,FALSE))","v":1},{"$f":"IF(ISBLANK($C90),\"\",VLOOKUP($C90,RAMP!$C$1:$X$20,U$11-$D$11+2,FALSE))","v":1},{"$f":"IF(ISBLANK($C90),\"\",VLOOKUP($C90,RAMP!$C$1:$X$20,V$11-$D$11+2,FALSE))","v":1},{"$f":"IF(ISBLANK($C90),\"\",VLOOKUP($C90,RAMP!$C$1:$X$20,W$11-$D$11+2,FALSE))","v":1},1]
[{"$f":"MLIST!A91","v":"Lighting"},{"$f":"MLIST!D91","v":"Street and Roadway Lighting-Retro"},"LO50Fast",{"$f":"IF(ISBLANK($C91),\"\",VLOOKUP($C91,RAMP!$C$1:$X$20,D$11-$D$11+2,FALSE))","v":0.45},{"$f":"IF(ISBLANK($C91),\"\",VLOOKUP($C91,RAMP!$C$1:$X$20,E$11-$D$11+2,FALSE))","v":0.66},{"$f":"IF(ISBLANK($C91),\"\",VLOOKUP($C91,RAMP!$C$1:$X$20,F$11-$D$11+2,FALSE))","v":0.8},{"$f":"IF(ISBLANK($C91),\"\",VLOOKUP($C91,RAMP!$C$1:$X$20,G$11-$D$11+2,FALSE))","v":0.89},{"$f":"IF(ISBLANK($C91),\"\",VLOOKUP($C91,RAMP!$C$1:$X$20,H$11-$D$11+2,FALSE))","v":0.94954036260972652},{"$f":"IF(ISBLANK($C91),\"\",VLOOKUP($C91,RAMP!$C$1:$X$20,I$11-$D$11+2,FALSE))","v":0.97931054391458994},{"$f":"IF(ISBLANK($C91),\"\",VLOOKUP($C91,RAMP!$C$1:$X$20,J$11-$D$11+2,FALSE))","v":0.99254173560564019},{"$f":"IF(ISBLANK($C91),\"\",VLOOKUP($C91,RAMP!$C$1:$X$20,K$11-$D$11+2,FALSE))","v":0.99783421228206048},{"$f":"IF(ISBLANK($C91),\"\",VLOOKUP($C91,RAMP!$C$1:$X$20,L$11-$D$11+2,FALSE))","v":0.99975874925530417},{"$f":"IF(ISBLANK($C91),\"\",VLOOKUP($C91,RAMP!$C$1:$X$20,M$11-$D$11+2,FALSE))","v":1},{"$f":"IF(ISBLANK($C91),\"\",VLOOKUP($C91,RAMP!$C$1:$X$20,N$11-$D$11+2,FALSE))","v":1},{"$f":"IF(ISBLANK($C91),\"\",VLOOKUP($C91,RAMP!$C$1:$X$20,O$11-$D$11+2,FALSE))","v":1},{"$f":"IF(ISBLANK($C91),\"\",VLOOKUP($C91,RAMP!$C$1:$X$20,P$11-$D$11+2,FALSE))","v":1},{"$f":"IF(ISBLANK($C91),\"\",VLOOKUP($C91,RAMP!$C$1:$X$20,Q$11-$D$11+2,FALSE))","v":1},{"$f":"IF(ISBLANK($C91),\"\",VLOOKUP($C91,RAMP!$C$1:$X$20,R$11-$D$11+2,FALSE))","v":1},{"$f":"IF(ISBLANK($C91),\"\",VLOOKUP($C91,RAMP!$C$1:$X$20,S$11-$D$11+2,FALSE))","v":1},{"$f":"IF(ISBLANK($C91),\"\",VLOOKUP($C91,RAMP!$C$1:$X$20,T$11-$D$11+2,FALSE))","v":1},{"$f":"IF(ISBLANK($C91),\"\",VLOOKUP($C91,RAMP!$C$1:$X$20,U$11-$D$11+2,FALSE))","v":1},{"$f":"IF(ISBLANK($C91),\"\",VLOOKUP($C91,RAMP!$C$1:$X$20,V$11-$D$11+2,FALSE))","v":1},{"$f":"IF(ISBLANK($C91),\"\",VLOOKUP($C91,RAMP!$C$1:$X$20,W$11-$D$11+2,FALSE))","v":1},1]
[{"$f":"MLIST!A92","v":"Lighting"},{"$f":"MLIST!D92","v":"Parking Garage Lighting-New"},"LO50Fast",{"$f":"IF(ISBLANK($C92),\"\",VLOOKUP($C92,RAMP!$C$1:$X$20,D$11-$D$11+2,FALSE))","v":0.45},{"$f":"IF(ISBLANK($C92),\"\",VLOOKUP($C92,RAMP!$C$1:$X$20,E$11-$D$11+2,FALSE))","v":0.66},{"$f":"IF(ISBLANK($C92),\"\",VLOOKUP($C92,RAMP!$C$1:$X$20,F$11-$D$11+2,FALSE))","v":0.8},{"$f":"IF(ISBLANK($C92),\"\",VLOOKUP($C92,RAMP!$C$1:$X$20,G$11-$D$11+2,FALSE))","v":0.89},{"$f":"IF(ISBLANK($C92),\"\",VLOOKUP($C92,RAMP!$C$1:$X$20,H$11-$D$11+2,FALSE))","v":0.94954036260972652},{"$f":"IF(ISBLANK($C92),\"\",VLOOKUP($C92,RAMP!$C$1:$X$20,I$11-$D$11+2,FALSE))","v":0.97931054391458994},{"$f":"IF(ISBLANK($C92),\"\",VLOOKUP($C92,RAMP!$C$1:$X$20,J$11-$D$11+2,FALSE))","v":0.99254173560564019},{"$f":"IF(ISBLANK($C92),\"\",VLOOKUP($C92,RAMP!$C$1:$X$20,K$11-$D$11+2,FALSE))","v":0.99783421228206048},{"$f":"IF(ISBLANK($C92),\"\",VLOOKUP($C92,RAMP!$C$1:$X$20,L$11-$D$11+2,FALSE))","v":0.99975874925530417},{"$f":"IF(ISBLANK($C92),\"\",VLOOKUP($C92,RAMP!$C$1:$X$20,M$11-$D$11+2,FALSE))","v":1},{"$f":"IF(ISBLANK($C92),\"\",VLOOKUP($C92,RAMP!$C$1:$X$20,N$11-$D$11+2,FALSE))","v":1},{"$f":"IF(ISBLANK($C92),\"\",VLOOKUP($C92,RAMP!$C$1:$X$20,O$11-$D$11+2,FALSE))","v":1},{"$f":"IF(ISBLANK($C92),\"\",VLOOKUP($C92,RAMP!$C$1:$X$20,P$11-$D$11+2,FALSE))","v":1},{"$f":"IF(ISBLANK($C92),\"\",VLOOKUP($C92,RAMP!$C$1:$X$20,Q$11-$D$11+2,FALSE))","v":1},{"$f":"IF(ISBLANK($C92),\"\",VLOOKUP($C92,RAMP!$C$1:$X$20,R$11-$D$11+2,FALSE))","v":1},{"$f":"IF(ISBLANK($C92),\"\",VLOOKUP($C92,RAMP!$C$1:$X$20,S$11-$D$11+2,FALSE))","v":1},{"$f":"IF(ISBLANK($C92),\"\",VLOOKUP($C92,RAMP!$C$1:$X$20,T$11-$D$11+2,FALSE))","v":1},{"$f":"IF(ISBLANK($C92),\"\",VLOOKUP($C92,RAMP!$C$1:$X$20,U$11-$D$11+2,FALSE))","v":1},{"$f":"IF(ISBLANK($C92),\"\",VLOOKUP($C92,RAMP!$C$1:$X$20,V$11-$D$11+2,FALSE))","v":1},{"$f":"IF(ISBLANK($C92),\"\",VLOOKUP($C92,RAMP!$C$1:$X$20,W$11-$D$11+2,FALSE))","v":1},1]
[{"$f":"MLIST!A93","v":"Lighting"},{"$f":"MLIST!D93","v":"Parking Garage Lighting-Retro"},"Retro50Fast",{"$f":"IF(ISBLANK($C93),\"\",VLOOKUP($C93,RAMP!$C$1:$X$20,D$11-$D$11+2,FALSE))","v":0.45},{"$f":"IF(ISBLANK($C93),\"\",VLOOKUP($C93,RAMP!$C$1:$X$20,E$11-$D$11+2,FALSE))","v":0.21},{"$f":"IF(ISBLANK($C93),\"\",VLOOKUP($C93,RAMP!$C$1:$X$20,F$11-$D$11+2,FALSE))","v":0.14000000000000001},{"$f":"IF(ISBLANK($C93),\"\",VLOOKUP($C93,RAMP!$C$1:$X$20,G$11-$D$11+2,FALSE))","v":0.09},{"$f":"IF(ISBLANK($C93),\"\",VLOOKUP($C93,RAMP!$C$1:$X$20,H$11-$D$11+2,FALSE))","v":5.9540362609726505E-2},{"$f":"IF(ISBLANK($C93),\"\",VLOOKUP($C93,RAMP!$C$1:$X$20,I$11-$D$11+2,FALSE))","v":2.9770181304863419E-2},{"$f":"IF(ISBLANK($C93),\"\",VLOOKUP($C93,RAMP!$C$1:$X$20,J$11-$D$11+2,FALSE))","v":1.3231191691050248E-2},{"$f":"IF(ISBLANK($C93),\"\",VLOOKUP($C93,RAMP!$C$1:$X$20,K$11-$D$11+2,FALSE))","v":5.2924766764202991E-3},{"$f":"IF(ISBLANK($C93),\"\",VLOOKUP($C93,RAMP!$C$1:$X$20,L$11-$D$11+2,FALSE))","v":1.9245369732436846E-3},{"$f":"IF(ISBLANK($C93),\"\",VLOOKUP($C93,RAMP!$C$1:$X$20,M$11-$D$11+2,FALSE))","v":6.415123244144505E-4},{"$f":"IF(ISBLANK($C93),\"\",VLOOKUP($C93,RAMP!$C$1:$X$20,N$11-$D$11+2,FALSE))","v":1.9738840751215569E-4},{"$f":"IF(ISBLANK($C93),\"\",VLOOKUP($C93,RAMP!$C$1:$X$20,O$11-$D$11+2,FALSE))","v":5.6396687860615913E-5},{"$f":"IF(ISBLANK($C93),\"\",VLOOKUP($C93,RAMP!$C$1:$X$20,P$11-$D$11+2,FALSE))","v":1.5039116763038152E-5},{"$f":"IF(ISBLANK($C93),\"\",VLOOKUP($C93,RAMP!$C$1:$X$20,Q$11-$D$11+2,FALSE))","v":3.7597791905374933E-6},{"$f":"IF(ISBLANK($C93),\"\",VLOOKUP($C93,RAMP!$C$1:$X$20,R$11-$D$11+2,FALSE))","v":8.8465392733549919E-7},{"$f":"IF(ISBLANK($C93),\"\",VLOOKUP($C93,RAMP!$C$1:$X$20,S$11-$D$11+2,FALSE))","v":1.9658976146974538E-7},{"$f":"IF(ISBLANK($C93),\"\",VLOOKUP($C93,RAMP!$C$1:$X$20,T$11-$D$11+2,FALSE))","v":4.13873183502389E-8},{"$f":"IF(ISBLANK($C93),\"\",VLOOKUP($C93,RAMP!$C$1:$X$20,U$11-$D$11+2,FALSE))","v":8.2774636034343985E-9},{"$f":"IF(ISBLANK($C93),\"\",VLOOKUP($C93,RAMP!$C$1:$X$20,V$11-$D$11+2,FALSE))","v":1.5766598027155965E-9},{"$f":"IF(ISBLANK($C93),\"\",VLOOKUP($C93,RAMP!$C$1:$X$20,W$11-$D$11+2,FALSE))","v":2.8666535811794347E-10},0.95]
[{"$f":"MLIST!A94","v":"Lighting"},{"$f":"MLIST!D94","v":"Bi-Level Stairwell Lighting-NR"},"LO20Fast",{"$f":"IF(ISBLANK($C94),\"\",VLOOKUP($C94,RAMP!$C$1:$X$20,D$11-$D$11+2,FALSE))","v":0.22119921692859512},{"$f":"IF(ISBLANK($C94),\"\",VLOOKUP($C94,RAMP!$C$1:$X$20,E$11-$D$11+2,FALSE))","v":0.37624232795148943},{"$f":"IF(ISBLANK($C94),\"\",VLOOKUP($C94,RAMP!$C$1:$X$20,F$11-$D$11+2,FALSE))","v":0.48357361352878442},{"$f":"IF(ISBLANK($C94),\"\",VLOOKUP($C94,RAMP!$C$1:$X$20,G$11-$D$11+2,FALSE))","v":0.56716330278444227},{"$f":"IF(ISBLANK($C94),\"\",VLOOKUP($C94,RAMP!$C$1:$X$20,H$11-$D$11+2,FALSE))","v":0.64040048266456928},{"$f":"IF(ISBLANK($C94),\"\",VLOOKUP($C94,RAMP!$C$1:$X$20,I$11-$D$11+2,FALSE))","v":0.70377511937632964},{"$f":"IF(ISBLANK($C94),\"\",VLOOKUP($C94,RAMP!$C$1:$X$20,J$11-$D$11+2,FALSE))","v":0.7580669577441127},{"$f":"IF(ISBLANK($C94),\"\",VLOOKUP($C94,RAMP!$C$1:$X$20,K$11-$D$11+2,FALSE))","v":0.80419335000071168},{"$f":"IF(ISBLANK($C94),\"\",VLOOKUP($C94,RAMP!$C$1:$X$20,L$11-$D$11+2,FALSE))","v":0.84311022627788457},{"$f":"IF(ISBLANK($C94),\"\",VLOOKUP($C94,RAMP!$C$1:$X$20,M$11-$D$11+2,FALSE))","v":0.87575014259103623},{"$f":"IF(ISBLANK($C94),\"\",VLOOKUP($C94,RAMP!$C$1:$X$20,N$11-$D$11+2,FALSE))","v":0.90298584871682319},{"$f":"IF(ISBLANK($C94),\"\",VLOOKUP($C94,RAMP!$C$1:$X$20,O$11-$D$11+2,FALSE))","v":0.92419703797508856},{"$f":"IF(ISBLANK($C94),\"\",VLOOKUP($C94,RAMP!$C$1:$X$20,P$11-$D$11+2,FALSE))","v":0.94071632877930145},{"$f":"IF(ISBLANK($C94),\"\",VLOOKUP($C94,RAMP!$C$1:$X$20,Q$11-$D$11+2,FALSE))","v":0.95358156539340677},{"$f":"IF(ISBLANK($C94),\"\",VLOOKUP($C94,RAMP!$C$1:$X$20,R$11-$D$11+2,FALSE))","v":0.96360102174287088},{"$f":"IF(ISBLANK($C94),\"\",VLOOKUP($C94,RAMP!$C$1:$X$20,S$11-$D$11+2,FALSE))","v":0.97140418219378311},{"$f":"IF(ISBLANK($C94),\"\",VLOOKUP($C94,RAMP!$C$1:$X$20,T$11-$D$11+2,FALSE))","v":0.97748128966338554},{"$f":"IF(ISBLANK($C94),\"\",VLOOKUP($C94,RAMP!$C$1:$X$20,U$11-$D$11+2,FALSE))","v":0.98399999999999999},{"$f":"IF(ISBLANK($C94),\"\",VLOOKUP($C94,RAMP!$C$1:$X$20,V$11-$D$11+2,FALSE))","v":0.98899999999999999},{"$f":"IF(ISBLANK($C94),\"\",VLOOKUP($C94,RAMP!$C$1:$X$20,W$11-$D$11+2,FALSE))","v":0.996},0.95]
[{"$f":"MLIST!A95","v":"Lighting"},{"$f":"MLIST!D95","v":"Low Power LF Lamps-NR"},"LO12Med",{"$f":"IF(ISBLANK($C95),\"\",VLOOKUP($C95,RAMP!$C$1:$X$20,D$11-$D$11+2,FALSE))","v":0.10937459468255628},{"$f":"IF(ISBLANK($C95),\"\",VLOOKUP($C95,RAMP!$C$1:$X$20,E$11-$D$11+2,FALSE))","v":0.21874918936511256},{"$f":"IF(ISBLANK($C95),\"\",VLOOKUP($C95,RAMP!$C$1:$X$20,F$11-$D$11+2,FALSE))","v":0.32812378404766884},{"$f":"IF(ISBLANK($C95),\"\",VLOOKUP($C95,RAMP!$C$1:$X$20,G$11-$D$11+2,FALSE))","v":0.43749837873022512},{"$f":"IF(ISBLANK($C95),\"\",VLOOKUP($C95,RAMP!$C$1:$X$20,H$11-$D$11+2,FALSE))","v":0.5468729734127814},{"$f":"IF(ISBLANK($C95),\"\",VLOOKUP($C95,RAMP!$C$1:$X$20,I$11-$D$11+2,FALSE))","v":0.64531010862708205},{"$f":"IF(ISBLANK($C95),\"\",VLOOKUP($C95,RAMP!$C$1:$X$20,J$11-$D$11+2,FALSE))","v":0.7240598167985226},{"$f":"IF(ISBLANK($C95),\"\",VLOOKUP($C95,RAMP!$C$1:$X$20,K$11-$D$11+2,FALSE))","v":0.78705958333567505},{"$f":"IF(ISBLANK($C95),\"\",VLOOKUP($C95,RAMP!$C$1:$X$20,L$11-$D$11+2,FALSE))","v":0.83745939656539703},{"$f":"IF(ISBLANK($C95),\"\",VLOOKUP($C95,RAMP!$C$1:$X$20,M$11-$D$11+2,FALSE))","v":0.87777924714917455},{"$f":"IF(ISBLANK($C95),\"\",VLOOKUP($C95,RAMP!$C$1:$X$20,N$11-$D$11+2,FALSE))","v":0.91003512761619654},{"$f":"IF(ISBLANK($C95),\"\",VLOOKUP($C95,RAMP!$C$1:$X$20,O$11-$D$11+2,FALSE))","v":0.93583983198981413},{"$f":"IF(ISBLANK($C95),\"\",VLOOKUP($C95,RAMP!$C$1:$X$20,P$11-$D$11+2,FALSE))","v":0.9564835954887082},{"$f":"IF(ISBLANK($C95),\"\",VLOOKUP($C95,RAMP!$C$1:$X$20,Q$11-$D$11+2,FALSE))","v":0.97299860628782353},{"$f":"IF(ISBLANK($C95),\"\",VLOOKUP($C95,RAMP!$C$1:$X$20,R$11-$D$11+2,FALSE))","v":0.9862106149271157},{"$f":"IF(ISBLANK($C95),\"\",VLOOKUP($C95,RAMP!$C$1:$X$20,S$11-$D$11+2,FALSE))","v":0.99678022183854953},{"$f":"IF(ISBLANK($C95),\"\",VLOOKUP($C95,RAMP!$C$1:$X$20,T$11-$D$11+2,FALSE))","v":0.99685231466234414},{"$f":"IF(ISBLANK($C95),\"\",VLOOKUP($C95,RAMP!$C$1:$X$20,U$11-$D$11+2,FALSE))","v":0.99687806209941365},{"$f":"IF(ISBLANK($C95),\"\",VLOOKUP($C95,RAMP!$C$1:$X$20,V$11-$D$11+2,FALSE))","v":0.99688683963477831},{"$f":"IF(ISBLANK($C95),\"\",VLOOKUP($C95,RAMP!$C$1:$X$20,W$11-$D$11+2,FALSE))","v":0.99688970187457115},0.85]
[{"$f":"MLIST!A96","v":"Lighting"},{"$f":"MLIST!D96","v":"LEC Exit Sign-New"},"LO20Fast",{"$f":"IF(ISBLANK($C96),\"\",VLOOKUP($C96,RAMP!$C$1:$X$20,D$11-$D$11+2,FALSE))","v":0.22119921692859512},{"$f":"IF(ISBLANK($C96),\"\",VLOOKUP($C96,RAMP!$C$1:$X$20,E$11-$D$11+2,FALSE))","v":0.37624232795148943},{"$f":"IF(ISBLANK($C96),\"\",VLOOKUP($C96,RAMP!$C$1:$X$20,F$11-$D$11+2,FALSE))","v":0.48357361352878442},{"$f":"IF(ISBLANK($C96),\"\",VLOOKUP($C96,RAMP!$C$1:$X$20,G$11-$D$11+2,FALSE))","v":0.56716330278444227},{"$f":"IF(ISBLANK($C96),\"\",VLOOKUP($C96,RAMP!$C$1:$X$20,H$11-$D$11+2,FALSE))","v":0.64040048266456928},{"$f":"IF(ISBLANK($C96),\"\",VLOOKUP($C96,RAMP!$C$1:$X$20,I$11-$D$11+2,FALSE))","v":0.70377511937632964},{"$f":"IF(ISBLANK($C96),\"\",VLOOKUP($C96,RAMP!$C$1:$X$20,J$11-$D$11+2,FALSE))","v":0.7580669577441127},{"$f":"IF(ISBLANK($C96),\"\",VLOOKUP($C96,RAMP!$C$1:$X$20,K$11-$D$11+2,FALSE))","v":0.80419335000071168},{"$f":"IF(ISBLANK($C96),\"\",VLOOKUP($C96,RAMP!$C$1:$X$20,L$11-$D$11+2,FALSE))","v":0.84311022627788457},{"$f":"IF(ISBLANK($C96),\"\",VLOOKUP($C96,RAMP!$C$1:$X$20,M$11-$D$11+2,FALSE))","v":0.87575014259103623},{"$f":"IF(ISBLANK($C96),\"\",VLOOKUP($C96,RAMP!$C$1:$X$20,N$11-$D$11+2,FALSE))","v":0.90298584871682319},{"$f":"IF(ISBLANK($C96),\"\",VLOOKUP($C96,RAMP!$C$1:$X$20,O$11-$D$11+2,FALSE))","v":0.92419703797508856},{"$f":"IF(ISBLANK($C96),\"\",VLOOKUP($C96,RAMP!$C$1:$X$20,P$11-$D$11+2,FALSE))","v":0.94071632877930145},{"$f":"IF(ISBLANK($C96),\"\",VLOOKUP($C96,RAMP!$C$1:$X$20,Q$11-$D$11+2,FALSE))","v":0.95358156539340677},{"$f":"IF(ISBLANK($C96),\"\",VLOOKUP($C96,RAMP!$C$1:$X$20,R$11-$D$11+2,FALSE))","v":0.96360102174287088},{"$f":"IF(ISBLANK($C96),\"\",VLOOKUP($C96,RAMP!$C$1:$X$20,S$11-$D$11+2,FALSE))","v":0.97140418219378311},{"$f":"IF(ISBLANK($C96),\"\",VLOOKUP($C96,RAMP!$C$1:$X$20,T$11-$D$11+2,FALSE))","v":0.97748128966338554},{"$f":"IF(ISBLANK($C96),\"\",VLOOKUP($C96,RAMP!$C$1:$X$20,U$11-$D$11+2,FALSE))","v":0.98399999999999999},{"$f":"IF(ISBLANK($C96),\"\",VLOOKUP($C96,RAMP!$C$1:$X$20,V$11-$D$11+2,FALSE))","v":0.98899999999999999},{"$f":"IF(ISBLANK($C96),\"\",VLOOKUP($C96,RAMP!$C$1:$X$20,W$11-$D$11+2,FALSE))","v":0.996},0.95]
[{"$f":"MLIST!A97","v":"Lighting"},{"$f":"MLIST!D97","v":"LEC Exit Sign-NR"},"LO20Fast",{"$f":"IF(ISBLANK($C97),\"\",VLOOKUP($C97,RAMP!$C$1:$X$20,D$11-$D$11+2,FALSE))","v":0.22119921692859512},{"$f":"IF(ISBLANK($C97),\"\",VLOOKUP($C97,RAMP!$C$1:$X$20,E$11-$D$11+2,FALSE))","v":0.37624232795148943},{"$f":"IF(ISBLANK($C97),\"\",VLOOKUP($C97,RAMP!$C$1:$X$20,F$11-$D$11+2,FALSE))","v":0.48357361352878442},{"$f":"IF(ISBLANK($C97),\"\",VLOOKUP($C97,RAMP!$C$1:$X$20,G$11-$D$11+2,FALSE))","v":0.56716330278444227},{"$f":"IF(ISBLANK($C97),\"\",VLOOKUP($C97,RAMP!$C$1:$X$20,H$11-$D$11+2,FALSE))","v":0.64040048266456928},{"$f":"IF(ISBLANK($C97),\"\",VLOOKUP($C97,RAMP!$C$1:$X$20,I$11-$D$11+2,FALSE))","v":0.70377511937632964},{"$f":"IF(ISBLANK($C97),\"\",VLOOKUP($C97,RAMP!$C$1:$X$20,J$11-$D$11+2,FALSE))","v":0.7580669577441127},{"$f":"IF(ISBLANK($C97),\"\",VLOOKUP($C97,RAMP!$C$1:$X$20,K$11-$D$11+2,FALSE))","v":0.80419335000071168},{"$f":"IF(ISBLANK($C97),\"\",VLOOKUP($C97,RAMP!$C$1:$X$20,L$11-$D$11+2,FALSE))","v":0.84311022627788457},{"$f":"IF(ISBLANK($C97),\"\",VLOOKUP($C97,RAMP!$C$1:$X$20,M$11-$D$11+2,FALSE))","v":0.87575014259103623},{"$f":"IF(ISBLANK($C97),\"\",VLOOKUP($C97,RAMP!$C$1:$X$20,N$11-$D$11+2,FALSE))","v":0.90298584871682319},{"$f":"IF(ISBLANK($C97),\"\",VLOOKUP($C97,RAMP!$C$1:$X$20,O$11-$D$11+2,FALSE))","v":0.92419703797508856},{"$f":"IF(ISBLANK($C97),\"\",VLOOKUP($C97,RAMP!$C$1:$X$20,P$11-$D$11+2,FALSE))","v":0.94071632877930145},{"$f":"IF(ISBLANK($C97),\"\",VLOOKUP($C97,RAMP!$C$1:$X$20,Q$11-$D$11+2,FALSE))","v":0.95358156539340677},{"$f":"IF(ISBLANK($C97),\"\",VLOOKUP($C97,RAMP!$C$1:$X$20,R$11-$D$11+2,FALSE))","v":0.96360102174287088},{"$f":"IF(ISBLANK($C97),\"\",VLOOKUP($C97,RAMP!$C$1:$X$20,S$11-$D$11+2,FALSE))","v":0.97140418219378311},{"$f":"IF(ISBLANK($C97),\"\",VLOOKUP($C97,RAMP!$C$1:$X$20,T$11-$D$11+2,FALSE))","v":0.97748128966338554},{"$f":"IF(ISBLANK($C97),\"\",VLOOKUP($C97,RAMP!$C$1:$X$20,U$11-$D$11+2,FALSE))","v":0.98399999999999999},{"$f":"IF(ISBLANK($C97),\"\",VLOOKUP($C97,RAMP!$C$1:$X$20,V$11-$D$11+2,FALSE))","v":0.98899999999999999},{"$f":"IF(ISBLANK($C97),\"\",VLOOKUP($C97,RAMP!$C$1:$X$20,W$11-$D$11+2,FALSE))","v":0.996},0.95]
[{"$f":"MLIST!A98","v":"Refrigeration"},{"$f":"MLIST!D98","v":"Commercial Ice Maker-NR"},"LO12Med",{"$f":"IF(ISBLANK($C98),\"\",VLOOKUP($C98,RAMP!$C$1:$X$20,D$11-$D$11+2,FALSE))","v":0.10937459468255628},{"$f":"IF(ISBLANK($C98),\"\",VLOOKUP($C98,RAMP!$C$1:$X$20,E$11-$D$11+2,FALSE))","v":0.21874918936511256},{"$f":"IF(ISBLANK($C98),\"\",VLOOKUP($C98,RAMP!$C$1:$X$20,F$11-$D$11+2,FALSE))","v":0.32812378404766884},{"$f":"IF(ISBLANK($C98),\"\",VLOOKUP($C98,RAMP!$C$1:$X$20,G$11-$D$11+2,FALSE))","v":0.43749837873022512},{"$f":"IF(ISBLANK($C98),\"\",VLOOKUP($C98,RAMP!$C$1:$X$20,H$11-$D$11+2,FALSE))","v":0.5468729734127814},{"$f":"IF(ISBLANK($C98),\"\",VLOOKUP($C98,RAMP!$C$1:$X$20,I$11-$D$11+2,FALSE))","v":0.64531010862708205},{"$f":"IF(ISBLANK($C98),\"\",VLOOKUP($C98,RAMP!$C$1:$X$20,J$11-$D$11+2,FALSE))","v":0.7240598167985226},{"$f":"IF(ISBLANK($C98),\"\",VLOOKUP($C98,RAMP!$C$1:$X$20,K$11-$D$11+2,FALSE))","v":0.78705958333567505},{"$f":"IF(ISBLANK($C98),\"\",VLOOKUP($C98,RAMP!$C$1:$X$20,L$11-$D$11+2,FALSE))","v":0.83745939656539703},{"$f":"IF(ISBLANK($C98),\"\",VLOOKUP($C98,RAMP!$C$1:$X$20,M$11-$D$11+2,FALSE))","v":0.87777924714917455},{"$f":"IF(ISBLANK($C98),\"\",VLOOKUP($C98,RAMP!$C$1:$X$20,N$11-$D$11+2,FALSE))","v":0.91003512761619654},{"$f":"IF(ISBLANK($C98),\"\",VLOOKUP($C98,RAMP!$C$1:$X$20,O$11-$D$11+2,FALSE))","v":0.93583983198981413},{"$f":"IF(ISBLANK($C98),\"\",VLOOKUP($C98,RAMP!$C$1:$X$20,P$11-$D$11+2,FALSE))","v":0.9564835954887082},{"$f":"IF(ISBLANK($C98),\"\",VLOOKUP($C98,RAMP!$C$1:$X$20,Q$11-$D$11+2,FALSE))","v":0.97299860628782353},{"$f":"IF(ISBLANK($C98),\"\",VLOOKUP($C98,RAMP!$C$1:$X$20,R$11-$D$11+2,FALSE))","v":0.9862106149271157},{"$f":"IF(ISBLANK($C98),\"\",VLOOKUP($C98,RAMP!$C$1:$X$20,S$11-$D$11+2,FALSE))","v":0.99678022183854953},{"$f":"IF(ISBLANK($C98),\"\",VLOOKUP($C98,RAMP!$C$1:$X$20,T$11-$D$11+2,FALSE))","v":0.99685231466234414},{"$f":"IF(ISBLANK($C98),\"\",VLOOKUP($C98,RAMP!$C$1:$X$20,U$11-$D$11+2,FALSE))","v":0.99687806209941365},{"$f":"IF(ISBLANK($C98),\"\",VLOOKUP($C98,RAMP!$C$1:$X$20,V$11-$D$11+2,FALSE))","v":0.99688683963477831},{"$f":"IF(ISBLANK($C98),\"\",VLOOKUP($C98,RAMP!$C$1:$X$20,W$11-$D$11+2,FALSE))","v":0.99688970187457115},0.85]
[{"$f":"MLIST!A99","v":"Refrigeration"},{"$f":"MLIST!D99","v":"Commercial Beverage Vending Machine-NR"},"LO12Med",{"$f":"IF(ISBLANK($C99),\"\",VLOOKUP($C99,RAMP!$C$1:$X$20,D$11-$D$11+2,FALSE))","v":0.10937459468255628},{"$f":"IF(ISBLANK($C99),\"\",VLOOKUP($C99,RAMP!$C$1:$X$20,E$11-$D$11+2,FALSE))","v":0.21874918936511256},{"$f":"IF(ISBLANK($C99),\"\",VLOOKUP($C99,RAMP!$C$1:$X$20,F$11-$D$11+2,FALSE))","v":0.32812378404766884},{"$f":"IF(ISBLANK($C99),\"\",VLOOKUP($C99,RAMP!$C$1:$X$20,G$11-$D$11+2,FALSE))","v":0.43749837873022512},{"$f":"IF(ISBLANK($C99),\"\",VLOOKUP($C99,RAMP!$C$1:$X$20,H$11-$D$11+2,FALSE))","v":0.5468729734127814},{"$f":"IF(ISBLANK($C99),\"\",VLOOKUP($C99,RAMP!$C$1:$X$20,I$11-$D$11+2,FALSE))","v":0.64531010862708205},{"$f":"IF(ISBLANK($C99),\"\",VLOOKUP($C99,RAMP!$C$1:$X$20,J$11-$D$11+2,FALSE))","v":0.7240598167985226},{"$f":"IF(ISBLANK($C99),\"\",VLOOKUP($C99,RAMP!$C$1:$X$20,K$11-$D$11+2,FALSE))","v":0.78705958333567505},{"$f":"IF(ISBLANK($C99),\"\",VLOOKUP($C99,RAMP!$C$1:$X$20,L$11-$D$11+2,FALSE))","v":0.83745939656539703},{"$f":"IF(ISBLANK($C99),\"\",VLOOKUP($C99,RAMP!$C$1:$X$20,M$11-$D$11+2,FALSE))","v":0.87777924714917455},{"$f":"IF(ISBLANK($C99),\"\",VLOOKUP($C99,RAMP!$C$1:$X$20,N$11-$D$11+2,FALSE))","v":0.91003512761619654},{"$f":"IF(ISBLANK($C99),\"\",VLOOKUP($C99,RAMP!$C$1:$X$20,O$11-$D$11+2,FALSE))","v":0.93583983198981413},{"$f":"IF(ISBLANK($C99),\"\",VLOOKUP($C99,RAMP!$C$1:$X$20,P$11-$D$11+2,FALSE))","v":0.9564835954887082},{"$f":"IF(ISBLANK($C99),\"\",VLOOKUP($C99,RAMP!$C$1:$X$20,Q$11-$D$11+2,FALSE))","v":0.97299860628782353},{"$f":"IF(ISBLANK($C99),\"\",VLOOKUP($C99,RAMP!$C$1:$X$20,R$11-$D$11+2,FALSE))","v":0.9862106149271157},{"$f":"IF(ISBLANK($C99),\"\",VLOOKUP($C99,RAMP!$C$1:$X$20,S$11-$D$11+2,FALSE))","v":0.99678022183854953},{"$f":"IF(ISBLANK($C99),\"\",VLOOKUP($C99,RAMP!$C$1:$X$20,T$11-$D$11+2,FALSE))","v":0.99685231466234414},{"$f":"IF(ISBLANK($C99),\"\",VLOOKUP($C99,RAMP!$C$1:$X$20,U$11-$D$11+2,FALSE))","v":0.99687806209941365},{"$f":"IF(ISBLANK($C99),\"\",VLOOKUP($C99,RAMP!$C$1:$X$20,V$11-$D$11+2,FALSE))","v":0.99688683963477831},{"$f":"IF(ISBLANK($C99),\"\",VLOOKUP($C99,RAMP!$C$1:$X$20,W$11-$D$11+2,FALSE))","v":0.99688970187457115},0.85]
[{"$f":"MLIST!A100","v":"Motors/Drives"},{"$f":"MLIST!D100","v":"Clean Water PUmps-Retro"},"Retro5Med",{"$f":"IF(ISBLANK($C100),\"\",VLOOKUP($C100,RAMP!$C$1:$X$20,D$11-$D$11+2,FALSE))","v":4.2999999999999997E-2},{"$f":"IF(ISBLANK($C100),\"\",VLOOKUP($C100,RAMP!$C$1:$X$20,E$11-$D$11+2,FALSE))","v":5.279714228027832E-2},{"$f":"IF(ISBLANK($C100),\"\",VLOOKUP($C100,RAMP!$C$1:$X$20,F$11-$D$11+2,FALSE))","v":6.4608251467478173E-2},{"$f":"IF(ISBLANK($C100),\"\",VLOOKUP($C100,RAMP!$C$1:$X$20,G$11-$D$11+2,FALSE))","v":7.4999999999999997E-2},{"$f":"IF(ISBLANK($C100),\"\",VLOOKUP($C100,RAMP!$C$1:$X$20,H$11-$D$11+2,FALSE))","v":8.5546997470333563E-2},{"$f":"IF(ISBLANK($C100),\"\",VLOOKUP($C100,RAMP!$C$1:$X$20,I$11-$D$11+2,FALSE))","v":0.10001472303820647},{"$f":"IF(ISBLANK($C100),\"\",VLOOKUP($C100,RAMP!$C$1:$X$20,J$11-$D$11+2,FALSE))","v":0.10971770435235073},{"$f":"IF(ISBLANK($C100),\"\",VLOOKUP($C100,RAMP!$C$1:$X$20,K$11-$D$11+2,FALSE))","v":0.11208438511970376},{"$f":"IF(ISBLANK($C100),\"\",VLOOKUP($C100,RAMP!$C$1:$X$20,L$11-$D$11+2,FALSE))","v":0.10562608162722853},{"$f":"IF(ISBLANK($C100),\"\",VLOOKUP($C100,RAMP!$C$1:$X$20,M$11-$D$11+2,FALSE))","v":9.0794563997872335E-2},{"$f":"IF(ISBLANK($C100),\"\",VLOOKUP($C100,RAMP!$C$1:$X$20,N$11-$D$11+2,FALSE))","v":7.0260666991849297E-2},{"$f":"IF(ISBLANK($C100),\"\",VLOOKUP($C100,RAMP!$C$1:$X$20,O$11-$D$11+2,FALSE))","v":4.65E-2},{"$f":"IF(ISBLANK($C100),\"\",VLOOKUP($C100,RAMP!$C$1:$X$20,P$11-$D$11+2,FALSE))","v":2.7E-2},{"$f":"IF(ISBLANK($C100),\"\",VLOOKUP($C100,RAMP!$C$1:$X$20,Q$11-$D$11+2,FALSE))","v":1.2999999999999999E-2},{"$f":"IF(ISBLANK($C100),\"\",VLOOKUP($C100,RAMP!$C$1:$X$20,R$11-$D$11+2,FALSE))","v":5.4999999999999997E-3},{"$f":"IF(ISBLANK($C100),\"\",VLOOKUP($C100,RAMP!$C$1:$X$20,S$11-$D$11+2,FALSE))","v":2E-3},{"$f":"IF(ISBLANK($C100),\"\",VLOOKUP($C100,RAMP!$C$1:$X$20,T$11-$D$11+2,FALSE))","v":6.2471001963848583E-4},{"$f":"IF(ISBLANK($C100),\"\",VLOOKUP($C100,RAMP!$C$1:$X$20,U$11-$D$11+2,FALSE))","v":1.3615841889635938E-4},{"$f":"IF(ISBLANK($C100),\"\",VLOOKUP($C100,RAMP!$C$1:$X$20,V$11-$D$11+2,FALSE))","v":2.2380636622298944E-5},{"$f":"IF(ISBLANK($C100),\"\",VLOOKUP($C100,RAMP!$C$1:$X$20,W$11-$D$11+2,FALSE))","v":2.68643837586513E-6},0.85]
[{"$f":"MLIST!A101","v":"Electronics"},{"$f":"MLIST!D101","v":"Servers & Power Supplies-NR"},"LO50Fast",{"$f":"IF(ISBLANK($C101),\"\",VLOOKUP($C101,RAMP!$C$1:$X$20,D$11-$D$11+2,FALSE))","v":0.45},{"$f":"IF(ISBLANK($C101),\"\",VLOOKUP($C101,RAMP!$C$1:$X$20,E$11-$D$11+2,FALSE))","v":0.66},{"$f":"IF(ISBLANK($C101),\"\",VLOOKUP($C101,RAMP!$C$1:$X$20,F$11-$D$11+2,FALSE))","v":0.8},{"$f":"IF(ISBLANK($C101),\"\",VLOOKUP($C101,RAMP!$C$1:$X$20,G$11-$D$11+2,FALSE))","v":0.89},{"$f":"IF(ISBLANK($C101),\"\",VLOOKUP($C101,RAMP!$C$1:$X$20,H$11-$D$11+2,FALSE))","v":0.94954036260972652},{"$f":"IF(ISBLANK($C101),\"\",VLOOKUP($C101,RAMP!$C$1:$X$20,I$11-$D$11+2,FALSE))","v":0.97931054391458994},{"$f":"IF(ISBLANK($C101),\"\",VLOOKUP($C101,RAMP!$C$1:$X$20,J$11-$D$11+2,FALSE))","v":0.99254173560564019},{"$f":"IF(ISBLANK($C101),\"\",VLOOKUP($C101,RAMP!$C$1:$X$20,K$11-$D$11+2,FALSE))","v":0.99783421228206048},{"$f":"IF(ISBLANK($C101),\"\",VLOOKUP($C101,RAMP!$C$1:$X$20,L$11-$D$11+2,FALSE))","v":0.99975874925530417},{"$f":"IF(ISBLANK($C101),\"\",VLOOKUP($C101,RAMP!$C$1:$X$20,M$11-$D$11+2,FALSE))","v":1},{"$f":"IF(ISBLANK($C101),\"\",VLOOKUP($C101,RAMP!$C$1:$X$20,N$11-$D$11+2,FALSE))","v":1},{"$f":"IF(ISBLANK($C101),\"\",VLOOKUP($C101,RAMP!$C$1:$X$20,O$11-$D$11+2,FALSE))","v":1},{"$f":"IF(ISBLANK($C101),\"\",VLOOKUP($C101,RAMP!$C$1:$X$20,P$11-$D$11+2,FALSE))","v":1},{"$f":"IF(ISBLANK($C101),\"\",VLOOKUP($C101,RAMP!$C$1:$X$20,Q$11-$D$11+2,FALSE))","v":1},{"$f":"IF(ISBLANK($C101),\"\",VLOOKUP($C101,RAMP!$C$1:$X$20,R$11-$D$11+2,FALSE))","v":1},{"$f":"IF(ISBLANK($C101),\"\",VLOOKUP($C101,RAMP!$C$1:$X$20,S$11-$D$11+2,FALSE))","v":1},{"$f":"IF(ISBLANK($C101),\"\",VLOOKUP($C101,RAMP!$C$1:$X$20,T$11-$D$11+2,FALSE))","v":1},{"$f":"IF(ISBLANK($C101),\"\",VLOOKUP($C101,RAMP!$C$1:$X$20,U$11-$D$11+2,FALSE))","v":1},{"$f":"IF(ISBLANK($C101),\"\",VLOOKUP($C101,RAMP!$C$1:$X$20,V$11-$D$11+2,FALSE))","v":1},{"$f":"IF(ISBLANK($C101),\"\",VLOOKUP($C101,RAMP!$C$1:$X$20,W$11-$D$11+2,FALSE))","v":1},0.95]
[{"$f":"MLIST!A102","v":"Process Loads"},{"$f":"MLIST!D102","v":"Elevators-Retro"},"Retro3Slow",{"$f":"IF(ISBLANK($C102),\"\",VLOOKUP($C102,RAMP!$C$1:$X$20,D$11-$D$11+2,FALSE))","v":5.5320496977002724E-3},{"$f":"IF(ISBLANK($C102),\"\",VLOOKUP($C102,RAMP!$C$1:$X$20,E$11-$D$11+2,FALSE))","v":8.6958686465615706E-3},{"$f":"IF(ISBLANK($C102),\"\",VLOOKUP($C102,RAMP!$C$1:$X$20,F$11-$D$11+2,FALSE))","v":1.7391737293123145E-2},{"$f":"IF(ISBLANK($C102),\"\",VLOOKUP($C102,RAMP!$C$1:$X$20,G$11-$D$11+2,FALSE))","v":3.0435540262965514E-2},{"$f":"IF(ISBLANK($C102),\"\",VLOOKUP($C102,RAMP!$C$1:$X$20,H$11-$D$11+2,FALSE))","v":4.7344173742390784E-2},{"$f":"IF(ISBLANK($C102),\"\",VLOOKUP($C102,RAMP!$C$1:$X$20,I$11-$D$11+2,FALSE))","v":6.6281843239347063E-2},{"$f":"IF(ISBLANK($C102),\"\",VLOOKUP($C102,RAMP!$C$1:$X$20,J$11-$D$11+2,FALSE))","v":8.4358709577350838E-2},{"$f":"IF(ISBLANK($C102),\"\",VLOOKUP($C102,RAMP!$C$1:$X$20,K$11-$D$11+2,FALSE))","v":9.8418494506909315E-2},{"$f":"IF(ISBLANK($C102),\"\",VLOOKUP($C102,RAMP!$C$1:$X$20,L$11-$D$11+2,FALSE))","v":0.10598914793051767},{"$f":"IF(ISBLANK($C102),\"\",VLOOKUP($C102,RAMP!$C$1:$X$20,M$11-$D$11+2,FALSE))","v":0.10598914793051767},{"$f":"IF(ISBLANK($C102),\"\",VLOOKUP($C102,RAMP!$C$1:$X$20,N$11-$D$11+2,FALSE))","v":9.8923204735149928E-2},{"$f":"IF(ISBLANK($C102),\"\",VLOOKUP($C102,RAMP!$C$1:$X$20,O$11-$D$11+2,FALSE))","v":8.655780414325609E-2},{"$f":"IF(ISBLANK($C102),\"\",VLOOKUP($C102,RAMP!$C$1:$X$20,P$11-$D$11+2,FALSE))","v":7.1282897529740263E-2},{"$f":"IF(ISBLANK($C102),\"\",VLOOKUP($C102,RAMP!$C$1:$X$20,Q$11-$D$11+2,FALSE))","v":5.5442253634242489E-2},{"$f":"IF(ISBLANK($C102),\"\",VLOOKUP($C102,RAMP!$C$1:$X$20,R$11-$D$11+2,FALSE))","v":4.0852186888389319E-2},{"$f":"IF(ISBLANK($C102),\"\",VLOOKUP($C102,RAMP!$C$1:$X$20,S$11-$D$11+2,FALSE))","v":2.8596530821872412E-2},{"$f":"IF(ISBLANK($C102),\"\",VLOOKUP($C102,RAMP!$C$1:$X$20,T$11-$D$11+2,FALSE))","v":1.9064353881248275E-2},{"$f":"IF(ISBLANK($C102),\"\",VLOOKUP($C102,RAMP!$C$1:$X$20,U$11-$D$11+2,FALSE))","v":1.2131861560794377E-2},{"$f":"IF(ISBLANK($C102),\"\",VLOOKUP($C102,RAMP!$C$1:$X$20,V$11-$D$11+2,FALSE))","v":7.3846113848314854E-3},{"$f":"IF(ISBLANK($C102),\"\",VLOOKUP($C102,RAMP!$C$1:$X$20,W$11-$D$11+2,FALSE))","v":5.0000000000000001E-3},0.85]
[{"$f":"MLIST!A103","v":"Motors/Drives"},{"$f":"MLIST!D103","v":"Clean Water Pumps-NR"},"LO5Med",{"$f":"IF(ISBLANK($C103),\"\",VLOOKUP($C103,RAMP!$C$1:$X$20,D$11-$D$11+2,FALSE))","v":4.2999999999999997E-2},{"$f":"IF(ISBLANK($C103),\"\",VLOOKUP($C103,RAMP!$C$1:$X$20,E$11-$D$11+2,FALSE))","v":9.5797142280278316E-2},{"$f":"IF(ISBLANK($C103),\"\",VLOOKUP($C103,RAMP!$C$1:$X$20,F$11-$D$11+2,FALSE))","v":0.16040539374775648},{"$f":"IF(ISBLANK($C103),\"\",VLOOKUP($C103,RAMP!$C$1:$X$20,G$11-$D$11+2,FALSE))","v":0.23540539374775649},{"$f":"IF(ISBLANK($C103),\"\",VLOOKUP($C103,RAMP!$C$1:$X$20,H$11-$D$11+2,FALSE))","v":0.32095239121809005},{"$f":"IF(ISBLANK($C103),\"\",VLOOKUP($C103,RAMP!$C$1:$X$20,I$11-$D$11+2,FALSE))","v":0.42096711425629652},{"$f":"IF(ISBLANK($C103),\"\",VLOOKUP($C103,RAMP!$C$1:$X$20,J$11-$D$11+2,FALSE))","v":0.53068481860864725},{"$f":"IF(ISBLANK($C103),\"\",VLOOKUP($C103,RAMP!$C$1:$X$20,K$11-$D$11+2,FALSE))","v":0.642769203728351},{"$f":"IF(ISBLANK($C103),\"\",VLOOKUP($C103,RAMP!$C$1:$X$20,L$11-$D$11+2,FALSE))","v":0.74839528535557953},{"$f":"IF(ISBLANK($C103),\"\",VLOOKUP($C103,RAMP!$C$1:$X$20,M$11-$D$11+2,FALSE))","v":0.83918984935345187},{"$f":"IF(ISBLANK($C103),\"\",VLOOKUP($C103,RAMP!$C$1:$X$20,N$11-$D$11+2,FALSE))","v":0.90945051634530116},{"$f":"IF(ISBLANK($C103),\"\",VLOOKUP($C103,RAMP!$C$1:$X$20,O$11-$D$11+2,FALSE))","v":0.9576688767502457},{"$f":"IF(ISBLANK($C103),\"\",VLOOKUP($C103,RAMP!$C$1:$X$20,P$11-$D$11+2,FALSE))","v":0.9865231113648858},{"$f":"IF(ISBLANK($C103),\"\",VLOOKUP($C103,RAMP!$C$1:$X$20,Q$11-$D$11+2,FALSE))","v":1},{"$f":"IF(ISBLANK($C103),\"\",VLOOKUP($C103,RAMP!$C$1:$X$20,R$11-$D$11+2,FALSE))","v":1},{"$f":"IF(ISBLANK($C103),\"\",VLOOKUP($C103,RAMP!$C$1:$X$20,S$11-$D$11+2,FALSE))","v":1},{"$f":"IF(ISBLANK($C103),\"\",VLOOKUP($C103,RAMP!$C$1:$X$20,T$11-$D$11+2,FALSE))","v":1},{"$f":"IF(ISBLANK($C103),\"\",VLOOKUP($C103,RAMP!$C$1:$X$20,U$11-$D$11+2,FALSE))","v":1},{"$f":"IF(ISBLANK($C103),\"\",VLOOKUP($C103,RAMP!$C$1:$X$20,V$11-$D$11+2,FALSE))","v":1},{"$f":"IF(ISBLANK($C103),\"\",VLOOKUP($C103,RAMP!$C$1:$X$20,W$11-$D$11+2,FALSE))","v":1},0.95]
[{"$f":"MLIST!A104","v":"Motors/Drives"},{"$f":"MLIST!D104","v":"Clean Water Pumps-New"},"LO12Med",{"$f":"IF(ISBLANK($C104),\"\",VLOOKUP($C104,RAMP!$C$1:$X$20,D$11-$D$11+2,FALSE))","v":0.10937459468255628},{"$f":"IF(ISBLANK($C104),\"\",VLOOKUP($C104,RAMP!$C$1:$X$20,E$11-$D$11+2,FALSE))","v":0.21874918936511256},{"$f":"IF(ISBLANK($C104),\"\",VLOOKUP($C104,RAMP!$C$1:$X$20,F$11-$D$11+2,FALSE))","v":0.32812378404766884},{"$f":"IF(ISBLANK($C104),\"\",VLOOKUP($C104,RAMP!$C$1:$X$20,G$11-$D$11+2,FALSE))","v":0.43749837873022512},{"$f":"IF(ISBLANK($C104),\"\",VLOOKUP($C104,RAMP!$C$1:$X$20,H$11-$D$11+2,FALSE))","v":0.5468729734127814},{"$f":"IF(ISBLANK($C104),\"\",VLOOKUP($C104,RAMP!$C$1:$X$20,I$11-$D$11+2,FALSE))","v":0.64531010862708205},{"$f":"IF(ISBLANK($C104),\"\",VLOOKUP($C104,RAMP!$C$1:$X$20,J$11-$D$11+2,FALSE))","v":0.7240598167985226},{"$f":"IF(ISBLANK($C104),\"\",VLOOKUP($C104,RAMP!$C$1:$X$20,K$11-$D$11+2,FALSE))","v":0.78705958333567505},{"$f":"IF(ISBLANK($C104),\"\",VLOOKUP($C104,RAMP!$C$1:$X$20,L$11-$D$11+2,FALSE))","v":0.83745939656539703},{"$f":"IF(ISBLANK($C104),\"\",VLOOKUP($C104,RAMP!$C$1:$X$20,M$11-$D$11+2,FALSE))","v":0.87777924714917455},{"$f":"IF(ISBLANK($C104),\"\",VLOOKUP($C104,RAMP!$C$1:$X$20,N$11-$D$11+2,FALSE))","v":0.91003512761619654},{"$f":"IF(ISBLANK($C104),\"\",VLOOKUP($C104,RAMP!$C$1:$X$20,O$11-$D$11+2,FALSE))","v":0.93583983198981413},{"$f":"IF(ISBLANK($C104),\"\",VLOOKUP($C104,RAMP!$C$1:$X$20,P$11-$D$11+2,FALSE))","v":0.9564835954887082},{"$f":"IF(ISBLANK($C104),\"\",VLOOKUP($C104,RAMP!$C$1:$X$20,Q$11-$D$11+2,FALSE))","v":0.97299860628782353},{"$f":"IF(ISBLANK($C104),\"\",VLOOKUP($C104,RAMP!$C$1:$X$20,R$11-$D$11+2,FALSE))","v":0.9862106149271157},{"$f":"IF(ISBLANK($C104),\"\",VLOOKUP($C104,RAMP!$C$1:$X$20,S$11-$D$11+2,FALSE))","v":0.99678022183854953},{"$f":"IF(ISBLANK($C104),\"\",VLOOKUP($C104,RAMP!$C$1:$X$20,T$11-$D$11+2,FALSE))","v":0.99685231466234414},{"$f":"IF(ISBLANK($C104),\"\",VLOOKUP($C104,RAMP!$C$1:$X$20,U$11-$D$11+2,FALSE))","v":0.99687806209941365},{"$f":"IF(ISBLANK($C104),\"\",VLOOKUP($C104,RAMP!$C$1:$X$20,V$11-$D$11+2,FALSE))","v":0.99688683963477831},{"$f":"IF(ISBLANK($C104),\"\",VLOOKUP($C104,RAMP!$C$1:$X$20,W$11-$D$11+2,FALSE))","v":0.99688970187457115},0.95]
[{"$f":"MLIST!A105","v":"Process Loads"},{"$f":"MLIST!D105","v":"EBHeaterControl-Retro"},"Retro5Med",{"$f":"IF(ISBLANK($C105),\"\",VLOOKUP($C105,RAMP!$C$1:$X$20,D$11-$D$11+2,FALSE))","v":4.2999999999999997E-2},{"$f":"IF(ISBLANK($C105),\"\",VLOOKUP($C105,RAMP!$C$1:$X$20,E$11-$D$11+2,FALSE))","v":5.279714228027832E-2},{"$f":"IF(ISBLANK($C105),\"\",VLOOKUP($C105,RAMP!$C$1:$X$20,F$11-$D$11+2,FALSE))","v":6.4608251467478173E-2},{"$f":"IF(ISBLANK($C105),\"\",VLOOKUP($C105,RAMP!$C$1:$X$20,G$11-$D$11+2,FALSE))","v":7.4999999999999997E-2},{"$f":"IF(ISBLANK($C105),\"\",VLOOKUP($C105,RAMP!$C$1:$X$20,H$11-$D$11+2,FALSE))","v":8.5546997470333563E-2},{"$f":"IF(ISBLANK($C105),\"\",VLOOKUP($C105,RAMP!$C$1:$X$20,I$11-$D$11+2,FALSE))","v":0.10001472303820647},{"$f":"IF(ISBLANK($C105),\"\",VLOOKUP($C105,RAMP!$C$1:$X$20,J$11-$D$11+2,FALSE))","v":0.10971770435235073},{"$f":"IF(ISBLANK($C105),\"\",VLOOKUP($C105,RAMP!$C$1:$X$20,K$11-$D$11+2,FALSE))","v":0.11208438511970376},{"$f":"IF(ISBLANK($C105),\"\",VLOOKUP($C105,RAMP!$C$1:$X$20,L$11-$D$11+2,FALSE))","v":0.10562608162722853},{"$f":"IF(ISBLANK($C105),\"\",VLOOKUP($C105,RAMP!$C$1:$X$20,M$11-$D$11+2,FALSE))","v":9.0794563997872335E-2},{"$f":"IF(ISBLANK($C105),\"\",VLOOKUP($C105,RAMP!$C$1:$X$20,N$11-$D$11+2,FALSE))","v":7.0260666991849297E-2},{"$f":"IF(ISBLANK($C105),\"\",VLOOKUP($C105,RAMP!$C$1:$X$20,O$11-$D$11+2,FALSE))","v":4.65E-2},{"$f":"IF(ISBLANK($C105),\"\",VLOOKUP($C105,RAMP!$C$1:$X$20,P$11-$D$11+2,FALSE))","v":2.7E-2},{"$f":"IF(ISBLANK($C105),\"\",VLOOKUP($C105,RAMP!$C$1:$X$20,Q$11-$D$11+2,FALSE))","v":1.2999999999999999E-2},{"$f":"IF(ISBLANK($C105),\"\",VLOOKUP($C105,RAMP!$C$1:$X$20,R$11-$D$11+2,FALSE))","v":5.4999999999999997E-3},{"$f":"IF(ISBLANK($C105),\"\",VLOOKUP($C105,RAMP!$C$1:$X$20,S$11-$D$11+2,FALSE))","v":2E-3},{"$f":"IF(ISBLANK($C105),\"\",VLOOKUP($C105,RAMP!$C$1:$X$20,T$11-$D$11+2,FALSE))","v":6.2471001963848583E-4},{"$f":"IF(ISBLANK($C105),\"\",VLOOKUP($C105,RAMP!$C$1:$X$20,U$11-$D$11+2,FALSE))","v":1.3615841889635938E-4},{"$f":"IF(ISBLANK($C105),\"\",VLOOKUP($C105,RAMP!$C$1:$X$20,V$11-$D$11+2,FALSE))","v":2.2380636622298944E-5},{"$f":"IF(ISBLANK($C105),\"\",VLOOKUP($C105,RAMP!$C$1:$X$20,W$11-$D$11+2,FALSE))","v":2.68643837586513E-6},0.85]
[{"$f":"MLIST!A106","v":"Refrigeration"},{"$f":"MLIST!D106","v":"GroceryRefrigeration-NR"},"LO5Med",{"$f":"IF(ISBLANK($C106),\"\",VLOOKUP($C106,RAMP!$C$1:$X$20,D$11-$D$11+2,FALSE))","v":4.2999999999999997E-2},{"$f":"IF(ISBLANK($C106),\"\",VLOOKUP($C106,RAMP!$C$1:$X$20,E$11-$D$11+2,FALSE))","v":9.5797142280278316E-2},{"$f":"IF(ISBLANK($C106),\"\",VLOOKUP($C106,RAMP!$C$1:$X$20,F$11-$D$11+2,FALSE))","v":0.16040539374775648},{"$f":"IF(ISBLANK($C106),\"\",VLOOKUP($C106,RAMP!$C$1:$X$20,G$11-$D$11+2,FALSE))","v":0.23540539374775649},{"$f":"IF(ISBLANK($C106),\"\",VLOOKUP($C106,RAMP!$C$1:$X$20,H$11-$D$11+2,FALSE))","v":0.32095239121809005},{"$f":"IF(ISBLANK($C106),\"\",VLOOKUP($C106,RAMP!$C$1:$X$20,I$11-$D$11+2,FALSE))","v":0.42096711425629652},{"$f":"IF(ISBLANK($C106),\"\",VLOOKUP($C106,RAMP!$C$1:$X$20,J$11-$D$11+2,FALSE))","v":0.53068481860864725},{"$f":"IF(ISBLANK($C106),\"\",VLOOKUP($C106,RAMP!$C$1:$X$20,K$11-$D$11+2,FALSE))","v":0.642769203728351},{"$f":"IF(ISBLANK($C106),\"\",VLOOKUP($C106,RAMP!$C$1:$X$20,L$11-$D$11+2,FALSE))","v":0.74839528535557953},{"$f":"IF(ISBLANK($C106),\"\",VLOOKUP($C106,RAMP!$C$1:$X$20,M$11-$D$11+2,FALSE))","v":0.83918984935345187},{"$f":"IF(ISBLANK($C106),\"\",VLOOKUP($C106,RAMP!$C$1:$X$20,N$11-$D$11+2,FALSE))","v":0.90945051634530116},{"$f":"IF(ISBLANK($C106),\"\",VLOOKUP($C106,RAMP!$C$1:$X$20,O$11-$D$11+2,FALSE))","v":0.9576688767502457},{"$f":"IF(ISBLANK($C106),\"\",VLOOKUP($C106,RAMP!$C$1:$X$20,P$11-$D$11+2,FALSE))","v":0.9865231113648858},{"$f":"IF(ISBLANK($C106),\"\",VLOOKUP($C106,RAMP!$C$1:$X$20,Q$11-$D$11+2,FALSE))","v":1},{"$f":"IF(ISBLANK($C106),\"\",VLOOKUP($C106,RAMP!$C$1:$X$20,R$11-$D$11+2,FALSE))","v":1},{"$f":"IF(ISBLANK($C106),\"\",VLOOKUP($C106,RAMP!$C$1:$X$20,S$11-$D$11+2,FALSE))","v":1},{"$f":"IF(ISBLANK($C106),\"\",VLOOKUP($C106,RAMP!$C$1:$X$20,T$11-$D$11+2,FALSE))","v":1},{"$f":"IF(ISBLANK($C106),\"\",VLOOKUP($C106,RAMP!$C$1:$X$20,U$11-$D$11+2,FALSE))","v":1},{"$f":"IF(ISBLANK($C106),\"\",VLOOKUP($C106,RAMP!$C$1:$X$20,V$11-$D$11+2,FALSE))","v":1},{"$f":"IF(ISBLANK($C106),\"\",VLOOKUP($C106,RAMP!$C$1:$X$20,W$11-$D$11+2,FALSE))","v":1},0.95]
[{"$f":"MLIST!A107","v":"Refrigeration"},{"$f":"MLIST!D107","v":"GroceryRefrigeration-Retro"},"Retro5Med",{"$f":"IF(ISBLANK($C107),\"\",VLOOKUP($C107,RAMP!$C$1:$X$20,D$11-$D$11+2,FALSE))","v":4.2999999999999997E-2},{"$f":"IF(ISBLANK($C107),\"\",VLOOKUP($C107,RAMP!$C$1:$X$20,E$11-$D$11+2,FALSE))","v":5.279714228027832E-2},{"$f":"IF(ISBLANK($C107),\"\",VLOOKUP($C107,RAMP!$C$1:$X$20,F$11-$D$11+2,FALSE))","v":6.4608251467478173E-2},{"$f":"IF(ISBLANK($C107),\"\",VLOOKUP($C107,RAMP!$C$1:$X$20,G$11-$D$11+2,FALSE))","v":7.4999999999999997E-2},{"$f":"IF(ISBLANK($C107),\"\",VLOOKUP($C107,RAMP!$C$1:$X$20,H$11-$D$11+2,FALSE))","v":8.5546997470333563E-2},{"$f":"IF(ISBLANK($C107),\"\",VLOOKUP($C107,RAMP!$C$1:$X$20,I$11-$D$11+2,FALSE))","v":0.10001472303820647},{"$f":"IF(ISBLANK($C107),\"\",VLOOKUP($C107,RAMP!$C$1:$X$20,J$11-$D$11+2,FALSE))","v":0.10971770435235073},{"$f":"IF(ISBLANK($C107),\"\",VLOOKUP($C107,RAMP!$C$1:$X$20,K$11-$D$11+2,FALSE))","v":0.11208438511970376},{"$f":"IF(ISBLANK($C107),\"\",VLOOKUP($C107,RAMP!$C$1:$X$20,L$11-$D$11+2,FALSE))","v":0.10562608162722853},{"$f":"IF(ISBLANK($C107),\"\",VLOOKUP($C107,RAMP!$C$1:$X$20,M$11-$D$11+2,FALSE))","v":9.0794563997872335E-2},{"$f":"IF(ISBLANK($C107),\"\",VLOOKUP($C107,RAMP!$C$1:$X$20,N$11-$D$11+2,FALSE))","v":7.0260666991849297E-2},{"$f":"IF(ISBLANK($C107),\"\",VLOOKUP($C107,RAMP!$C$1:$X$20,O$11-$D$11+2,FALSE))","v":4.65E-2},{"$f":"IF(ISBLANK($C107),\"\",VLOOKUP($C107,RAMP!$C$1:$X$20,P$11-$D$11+2,FALSE))","v":2.7E-2},{"$f":"IF(ISBLANK($C107),\"\",VLOOKUP($C107,RAMP!$C$1:$X$20,Q$11-$D$11+2,FALSE))","v":1.2999999999999999E-2},{"$f":"IF(ISBLANK($C107),\"\",VLOOKUP($C107,RAMP!$C$1:$X$20,R$11-$D$11+2,FALSE))","v":5.4999999999999997E-3},{"$f":"IF(ISBLANK($C107),\"\",VLOOKUP($C107,RAMP!$C$1:$X$20,S$11-$D$11+2,FALSE))","v":2E-3},{"$f":"IF(ISBLANK($C107),\"\",VLOOKUP($C107,RAMP!$C$1:$X$20,T$11-$D$11+2,FALSE))","v":6.2471001963848583E-4},{"$f":"IF(ISBLANK($C107),\"\",VLOOKUP($C107,RAMP!$C$1:$X$20,U$11-$D$11+2,FALSE))","v":1.3615841889635938E-4},{"$f":"IF(ISBLANK($C107),\"\",VLOOKUP($C107,RAMP!$C$1:$X$20,V$11-$D$11+2,FALSE))","v":2.2380636622298944E-5},{"$f":"IF(ISBLANK($C107),\"\",VLOOKUP($C107,RAMP!$C$1:$X$20,W$11-$D$11+2,FALSE))","v":2.68643837586513E-6},0.85]
[{"$f":"MLIST!A108","v":"Refrigeration"},{"$f":"MLIST!D108","v":"GroceryRefrigeration-New"},"LO5Med",{"$f":"IF(ISBLANK($C108),\"\",VLOOKUP($C108,RAMP!$C$1:$X$20,D$11-$D$11+2,FALSE))","v":4.2999999999999997E-2},{"$f":"IF(ISBLANK($C108),\"\",VLOOKUP($C108,RAMP!$C$1:$X$20,E$11-$D$11+2,FALSE))","v":9.5797142280278316E-2},{"$f":"IF(ISBLANK($C108),\"\",VLOOKUP($C108,RAMP!$C$1:$X$20,F$11-$D$11+2,FALSE))","v":0.16040539374775648},{"$f":"IF(ISBLANK($C108),\"\",VLOOKUP($C108,RAMP!$C$1:$X$20,G$11-$D$11+2,FALSE))","v":0.23540539374775649},{"$f":"IF(ISBLANK($C108),\"\",VLOOKUP($C108,RAMP!$C$1:$X$20,H$11-$D$11+2,FALSE))","v":0.32095239121809005},{"$f":"IF(ISBLANK($C108),\"\",VLOOKUP($C108,RAMP!$C$1:$X$20,I$11-$D$11+2,FALSE))","v":0.42096711425629652},{"$f":"IF(ISBLANK($C108),\"\",VLOOKUP($C108,RAMP!$C$1:$X$20,J$11-$D$11+2,FALSE))","v":0.53068481860864725},{"$f":"IF(ISBLANK($C108),\"\",VLOOKUP($C108,RAMP!$C$1:$X$20,K$11-$D$11+2,FALSE))","v":0.642769203728351},{"$f":"IF(ISBLANK($C108),\"\",VLOOKUP($C108,RAMP!$C$1:$X$20,L$11-$D$11+2,FALSE))","v":0.74839528535557953},{"$f":"IF(ISBLANK($C108),\"\",VLOOKUP($C108,RAMP!$C$1:$X$20,M$11-$D$11+2,FALSE))","v":0.83918984935345187},{"$f":"IF(ISBLANK($C108),\"\",VLOOKUP($C108,RAMP!$C$1:$X$20,N$11-$D$11+2,FALSE))","v":0.90945051634530116},{"$f":"IF(ISBLANK($C108),\"\",VLOOKUP($C108,RAMP!$C$1:$X$20,O$11-$D$11+2,FALSE))","v":0.9576688767502457},{"$f":"IF(ISBLANK($C108),\"\",VLOOKUP($C108,RAMP!$C$1:$X$20,P$11-$D$11+2,FALSE))","v":0.9865231113648858},{"$f":"IF(ISBLANK($C108),\"\",VLOOKUP($C108,RAMP!$C$1:$X$20,Q$11-$D$11+2,FALSE))","v":1},{"$f":"IF(ISBLANK($C108),\"\",VLOOKUP($C108,RAMP!$C$1:$X$20,R$11-$D$11+2,FALSE))","v":1},{"$f":"IF(ISBLANK($C108),\"\",VLOOKUP($C108,RAMP!$C$1:$X$20,S$11-$D$11+2,FALSE))","v":1},{"$f":"IF(ISBLANK($C108),\"\",VLOOKUP($C108,RAMP!$C$1:$X$20,T$11-$D$11+2,FALSE))","v":1},{"$f":"IF(ISBLANK($C108),\"\",VLOOKUP($C108,RAMP!$C$1:$X$20,U$11-$D$11+2,FALSE))","v":1},{"$f":"IF(ISBLANK($C108),\"\",VLOOKUP($C108,RAMP!$C$1:$X$20,V$11-$D$11+2,FALSE))","v":1},{"$f":"IF(ISBLANK($C108),\"\",VLOOKUP($C108,RAMP!$C$1:$X$20,W$11-$D$11+2,FALSE))","v":1},0.95]
[{"$f":"MLIST!A109","v":"Refrigeration"},{"$f":"MLIST!D109","v":"Packaged Refrigeration Equipment-New"},"LOEven20",{"$f":"IF(ISBLANK($C109),\"\",VLOOKUP($C109,RAMP!$C$1:$X$20,D$11-$D$11+2,FALSE))","v":0.05},{"$f":"IF(ISBLANK($C109),\"\",VLOOKUP($C109,RAMP!$C$1:$X$20,E$11-$D$11+2,FALSE))","v":0.1},{"$f":"IF(ISBLANK($C109),\"\",VLOOKUP($C109,RAMP!$C$1:$X$20,F$11-$D$11+2,FALSE))","v":0.15000000000000002},{"$f":"IF(ISBLANK($C109),\"\",VLOOKUP($C109,RAMP!$C$1:$X$20,G$11-$D$11+2,FALSE))","v":0.2},{"$f":"IF(ISBLANK($C109),\"\",VLOOKUP($C109,RAMP!$C$1:$X$20,H$11-$D$11+2,FALSE))","v":0.25},{"$f":"IF(ISBLANK($C109),\"\",VLOOKUP($C109,RAMP!$C$1:$X$20,I$11-$D$11+2,FALSE))","v":0.3},{"$f":"IF(ISBLANK($C109),\"\",VLOOKUP($C109,RAMP!$C$1:$X$20,J$11-$D$11+2,FALSE))","v":0.35},{"$f":"IF(ISBLANK($C109),\"\",VLOOKUP($C109,RAMP!$C$1:$X$20,K$11-$D$11+2,FALSE))","v":0.39999999999999997},{"$f":"IF(ISBLANK($C109),\"\",VLOOKUP($C109,RAMP!$C$1:$X$20,L$11-$D$11+2,FALSE))","v":0.44999999999999996},{"$f":"IF(ISBLANK($C109),\"\",VLOOKUP($C109,RAMP!$C$1:$X$20,M$11-$D$11+2,FALSE))","v":0.49999999999999994},{"$f":"IF(ISBLANK($C109),\"\",VLOOKUP($C109,RAMP!$C$1:$X$20,N$11-$D$11+2,FALSE))","v":0.54999999999999993},{"$f":"IF(ISBLANK($C109),\"\",VLOOKUP($C109,RAMP!$C$1:$X$20,O$11-$D$11+2,FALSE))","v":0.6},{"$f":"IF(ISBLANK($C109),\"\",VLOOKUP($C109,RAMP!$C$1:$X$20,P$11-$D$11+2,FALSE))","v":0.65},{"$f":"IF(ISBLANK($C109),\"\",VLOOKUP($C109,RAMP!$C$1:$X$20,Q$11-$D$11+2,FALSE))","v":0.70000000000000007},{"$f":"IF(ISBLANK($C109),\"\",VLOOKUP($C109,RAMP!$C$1:$X$20,R$11-$D$11+2,FALSE))","v":0.75000000000000011},{"$f":"IF(ISBLANK($C109),\"\",VLOOKUP($C109,RAMP!$C$1:$X$20,S$11-$D$11+2,FALSE))","v":0.80000000000000016},{"$f":"IF(ISBLANK($C109),\"\",VLOOKUP($C109,RAMP!$C$1:$X$20,T$11-$D$11+2,FALSE))","v":0.8500000000000002},{"$f":"IF(ISBLANK($C109),\"\",VLOOKUP($C109,RAMP!$C$1:$X$20,U$11-$D$11+2,FALSE))","v":0.90000000000000024},{"$f":"IF(ISBLANK($C109),\"\",VLOOKUP($C109,RAMP!$C$1:$X$20,V$11-$D$11+2,FALSE))","v":0.95000000000000029},{"$f":"IF(ISBLANK($C109),\"\",VLOOKUP($C109,RAMP!$C$1:$X$20,W$11-$D$11+2,FALSE))","v":1.0000000000000002},0.85]
[{"$f":"MLIST!A110","v":"Refrigeration"},{"$f":"MLIST!D110","v":"Refrig-Freezer-NR"},"LO5Med",{"$f":"IF(ISBLANK($C110),\"\",VLOOKUP($C110,RAMP!$C$1:$X$20,D$11-$D$11+2,FALSE))","v":4.2999999999999997E-2},{"$f":"IF(ISBLANK($C110),\"\",VLOOKUP($C110,RAMP!$C$1:$X$20,E$11-$D$11+2,FALSE))","v":9.5797142280278316E-2},{"$f":"IF(ISBLANK($C110),\"\",VLOOKUP($C110,RAMP!$C$1:$X$20,F$11-$D$11+2,FALSE))","v":0.16040539374775648},{"$f":"IF(ISBLANK($C110),\"\",VLOOKUP($C110,RAMP!$C$1:$X$20,G$11-$D$11+2,FALSE))","v":0.23540539374775649},{"$f":"IF(ISBLANK($C110),\"\",VLOOKUP($C110,RAMP!$C$1:$X$20,H$11-$D$11+2,FALSE))","v":0.32095239121809005},{"$f":"IF(ISBLANK($C110),\"\",VLOOKUP($C110,RAMP!$C$1:$X$20,I$11-$D$11+2,FALSE))","v":0.42096711425629652},{"$f":"IF(ISBLANK($C110),\"\",VLOOKUP($C110,RAMP!$C$1:$X$20,J$11-$D$11+2,FALSE))","v":0.53068481860864725},{"$f":"IF(ISBLANK($C110),\"\",VLOOKUP($C110,RAMP!$C$1:$X$20,K$11-$D$11+2,FALSE))","v":0.642769203728351},{"$f":"IF(ISBLANK($C110),\"\",VLOOKUP($C110,RAMP!$C$1:$X$20,L$11-$D$11+2,FALSE))","v":0.74839528535557953},{"$f":"IF(ISBLANK($C110),\"\",VLOOKUP($C110,RAMP!$C$1:$X$20,M$11-$D$11+2,FALSE))","v":0.83918984935345187},{"$f":"IF(ISBLANK($C110),\"\",VLOOKUP($C110,RAMP!$C$1:$X$20,N$11-$D$11+2,FALSE))","v":0.90945051634530116},{"$f":"IF(ISBLANK($C110),\"\",VLOOKUP($C110,RAMP!$C$1:$X$20,O$11-$D$11+2,FALSE))","v":0.9576688767502457},{"$f":"IF(ISBLANK($C110),\"\",VLOOKUP($C110,RAMP!$C$1:$X$20,P$11-$D$11+2,FALSE))","v":0.9865231113648858},{"$f":"IF(ISBLANK($C110),\"\",VLOOKUP($C110,RAMP!$C$1:$X$20,Q$11-$D$11+2,FALSE))","v":1},{"$f":"IF(ISBLANK($C110),\"\",VLOOKUP($C110,RAMP!$C$1:$X$20,R$11-$D$11+2,FALSE))","v":1},{"$f":"IF(ISBLANK($C110),\"\",VLOOKUP($C110,RAMP!$C$1:$X$20,S$11-$D$11+2,FALSE))","v":1},{"$f":"IF(ISBLANK($C110),\"\",VLOOKUP($C110,RAMP!$C$1:$X$20,T$11-$D$11+2,FALSE))","v":1},{"$f":"IF(ISBLANK($C110),\"\",VLOOKUP($C110,RAMP!$C$1:$X$20,U$11-$D$11+2,FALSE))","v":1},{"$f":"IF(ISBLANK($C110),\"\",VLOOKUP($C110,RAMP!$C$1:$X$20,V$11-$D$11+2,FALSE))","v":1},{"$f":"IF(ISBLANK($C110),\"\",VLOOKUP($C110,RAMP!$C$1:$X$20,W$11-$D$11+2,FALSE))","v":1},0.95]
[{"$f":"MLIST!A111","v":"Refrigeration"},{"$f":"MLIST!D111","v":"Refrig-Freezer-New"},"LO5Med",{"$f":"IF(ISBLANK($C111),\"\",VLOOKUP($C111,RAMP!$C$1:$X$20,D$11-$D$11+2,FALSE))","v":4.2999999999999997E-2},{"$f":"IF(ISBLANK($C111),\"\",VLOOKUP($C111,RAMP!$C$1:$X$20,E$11-$D$11+2,FALSE))","v":9.5797142280278316E-2},{"$f":"IF(ISBLANK($C111),\"\",VLOOKUP($C111,RAMP!$C$1:$X$20,F$11-$D$11+2,FALSE))","v":0.16040539374775648},{"$f":"IF(ISBLANK($C111),\"\",VLOOKUP($C111,RAMP!$C$1:$X$20,G$11-$D$11+2,FALSE))","v":0.23540539374775649},{"$f":"IF(ISBLANK($C111),\"\",VLOOKUP($C111,RAMP!$C$1:$X$20,H$11-$D$11+2,FALSE))","v":0.32095239121809005},{"$f":"IF(ISBLANK($C111),\"\",VLOOKUP($C111,RAMP!$C$1:$X$20,I$11-$D$11+2,FALSE))","v":0.42096711425629652},{"$f":"IF(ISBLANK($C111),\"\",VLOOKUP($C111,RAMP!$C$1:$X$20,J$11-$D$11+2,FALSE))","v":0.53068481860864725},{"$f":"IF(ISBLANK($C111),\"\",VLOOKUP($C111,RAMP!$C$1:$X$20,K$11-$D$11+2,FALSE))","v":0.642769203728351},{"$f":"IF(ISBLANK($C111),\"\",VLOOKUP($C111,RAMP!$C$1:$X$20,L$11-$D$11+2,FALSE))","v":0.74839528535557953},{"$f":"IF(ISBLANK($C111),\"\",VLOOKUP($C111,RAMP!$C$1:$X$20,M$11-$D$11+2,FALSE))","v":0.83918984935345187},{"$f":"IF(ISBLANK($C111),\"\",VLOOKUP($C111,RAMP!$C$1:$X$20,N$11-$D$11+2,FALSE))","v":0.90945051634530116},{"$f":"IF(ISBLANK($C111),\"\",VLOOKUP($C111,RAMP!$C$1:$X$20,O$11-$D$11+2,FALSE))","v":0.9576688767502457},{"$f":"IF(ISBLANK($C111),\"\",VLOOKUP($C111,RAMP!$C$1:$X$20,P$11-$D$11+2,FALSE))","v":0.9865231113648858},{"$f":"IF(ISBLANK($C111),\"\",VLOOKUP($C111,RAMP!$C$1:$X$20,Q$11-$D$11+2,FALSE))","v":1},{"$f":"IF(ISBLANK($C111),\"\",VLOOKUP($C111,RAMP!$C$1:$X$20,R$11-$D$11+2,FALSE))","v":1},{"$f":"IF(ISBLANK($C111),\"\",VLOOKUP($C111,RAMP!$C$1:$X$20,S$11-$D$11+2,FALSE))","v":1},{"$f":"IF(ISBLANK($C111),\"\",VLOOKUP($C111,RAMP!$C$1:$X$20,T$11-$D$11+2,FALSE))","v":1},{"$f":"IF(ISBLANK($C111),\"\",VLOOKUP($C111,RAMP!$C$1:$X$20,U$11-$D$11+2,FALSE))","v":1},{"$f":"IF(ISBLANK($C111),\"\",VLOOKUP($C111,RAMP!$C$1:$X$20,V$11-$D$11+2,FALSE))","v":1},{"$f":"IF(ISBLANK($C111),\"\",VLOOKUP($C111,RAMP!$C$1:$X$20,W$11-$D$11+2,FALSE))","v":1},0.85]
[{"$f":"MLIST!A112","v":"Refrigeration"},{"$f":"MLIST!D112","v":"Water Cooler Controls-NR"},"LO5Med",{"$f":"IF(ISBLANK($C112),\"\",VLOOKUP($C112,RAMP!$C$1:$X$20,D$11-$D$11+2,FALSE))","v":4.2999999999999997E-2},{"$f":"IF(ISBLANK($C112),\"\",VLOOKUP($C112,RAMP!$C$1:$X$20,E$11-$D$11+2,FALSE))","v":9.5797142280278316E-2},{"$f":"IF(ISBLANK($C112),\"\",VLOOKUP($C112,RAMP!$C$1:$X$20,F$11-$D$11+2,FALSE))","v":0.16040539374775648},{"$f":"IF(ISBLANK($C112),\"\",VLOOKUP($C112,RAMP!$C$1:$X$20,G$11-$D$11+2,FALSE))","v":0.23540539374775649},{"$f":"IF(ISBLANK($C112),\"\",VLOOKUP($C112,RAMP!$C$1:$X$20,H$11-$D$11+2,FALSE))","v":0.32095239121809005},{"$f":"IF(ISBLANK($C112),\"\",VLOOKUP($C112,RAMP!$C$1:$X$20,I$11-$D$11+2,FALSE))","v":0.42096711425629652},{"$f":"IF(ISBLANK($C112),\"\",VLOOKUP($C112,RAMP!$C$1:$X$20,J$11-$D$11+2,FALSE))","v":0.53068481860864725},{"$f":"IF(ISBLANK($C112),\"\",VLOOKUP($C112,RAMP!$C$1:$X$20,K$11-$D$11+2,FALSE))","v":0.642769203728351},{"$f":"IF(ISBLANK($C112),\"\",VLOOKUP($C112,RAMP!$C$1:$X$20,L$11-$D$11+2,FALSE))","v":0.74839528535557953},{"$f":"IF(ISBLANK($C112),\"\",VLOOKUP($C112,RAMP!$C$1:$X$20,M$11-$D$11+2,FALSE))","v":0.83918984935345187},{"$f":"IF(ISBLANK($C112),\"\",VLOOKUP($C112,RAMP!$C$1:$X$20,N$11-$D$11+2,FALSE))","v":0.90945051634530116},{"$f":"IF(ISBLANK($C112),\"\",VLOOKUP($C112,RAMP!$C$1:$X$20,O$11-$D$11+2,FALSE))","v":0.9576688767502457},{"$f":"IF(ISBLANK($C112),\"\",VLOOKUP($C112,RAMP!$C$1:$X$20,P$11-$D$11+2,FALSE))","v":0.9865231113648858},{"$f":"IF(ISBLANK($C112),\"\",VLOOKUP($C112,RAMP!$C$1:$X$20,Q$11-$D$11+2,FALSE))","v":1},{"$f":"IF(ISBLANK($C112),\"\",VLOOKUP($C112,RAMP!$C$1:$X$20,R$11-$D$11+2,FALSE))","v":1},{"$f":"IF(ISBLANK($C112),\"\",VLOOKUP($C112,RAMP!$C$1:$X$20,S$11-$D$11+2,FALSE))","v":1},{"$f":"IF(ISBLANK($C112),\"\",VLOOKUP($C112,RAMP!$C$1:$X$20,T$11-$D$11+2,FALSE))","v":1},{"$f":"IF(ISBLANK($C112),\"\",VLOOKUP($C112,RAMP!$C$1:$X$20,U$11-$D$11+2,FALSE))","v":1},{"$f":"IF(ISBLANK($C112),\"\",VLOOKUP($C112,RAMP!$C$1:$X$20,V$11-$D$11+2,FALSE))","v":1},{"$f":"IF(ISBLANK($C112),\"\",VLOOKUP($C112,RAMP!$C$1:$X$20,W$11-$D$11+2,FALSE))","v":1},0.95]
[{"$f":"MLIST!A113","v":"Water Heating"},{"$f":"MLIST!D113","v":"HPWH ResType-New"},"LO12Med",{"$f":"IF(ISBLANK($C113),\"\",VLOOKUP($C113,RAMP!$C$1:$X$20,D$11-$D$11+2,FALSE))","v":0.10937459468255628},{"$f":"IF(ISBLANK($C113),\"\",VLOOKUP($C113,RAMP!$C$1:$X$20,E$11-$D$11+2,FALSE))","v":0.21874918936511256},{"$f":"IF(ISBLANK($C113),\"\",VLOOKUP($C113,RAMP!$C$1:$X$20,F$11-$D$11+2,FALSE))","v":0.32812378404766884},{"$f":"IF(ISBLANK($C113),\"\",VLOOKUP($C113,RAMP!$C$1:$X$20,G$11-$D$11+2,FALSE))","v":0.43749837873022512},{"$f":"IF(ISBLANK($C113),\"\",VLOOKUP($C113,RAMP!$C$1:$X$20,H$11-$D$11+2,FALSE))","v":0.5468729734127814},{"$f":"IF(ISBLANK($C113),\"\",VLOOKUP($C113,RAMP!$C$1:$X$20,I$11-$D$11+2,FALSE))","v":0.64531010862708205},{"$f":"IF(ISBLANK($C113),\"\",VLOOKUP($C113,RAMP!$C$1:$X$20,J$11-$D$11+2,FALSE))","v":0.7240598167985226},{"$f":"IF(ISBLANK($C113),\"\",VLOOKUP($C113,RAMP!$C$1:$X$20,K$11-$D$11+2,FALSE))","v":0.78705958333567505},{"$f":"IF(ISBLANK($C113),\"\",VLOOKUP($C113,RAMP!$C$1:$X$20,L$11-$D$11+2,FALSE))","v":0.83745939656539703},{"$f":"IF(ISBLANK($C113),\"\",VLOOKUP($C113,RAMP!$C$1:$X$20,M$11-$D$11+2,FALSE))","v":0.87777924714917455},{"$f":"IF(ISBLANK($C113),\"\",VLOOKUP($C113,RAMP!$C$1:$X$20,N$11-$D$11+2,FALSE))","v":0.91003512761619654},{"$f":"IF(ISBLANK($C113),\"\",VLOOKUP($C113,RAMP!$C$1:$X$20,O$11-$D$11+2,FALSE))","v":0.93583983198981413},{"$f":"IF(ISBLANK($C113),\"\",VLOOKUP($C113,RAMP!$C$1:$X$20,P$11-$D$11+2,FALSE))","v":0.9564835954887082},{"$f":"IF(ISBLANK($C113),\"\",VLOOKUP($C113,RAMP!$C$1:$X$20,Q$11-$D$11+2,FALSE))","v":0.97299860628782353},{"$f":"IF(ISBLANK($C113),\"\",VLOOKUP($C113,RAMP!$C$1:$X$20,R$11-$D$11+2,FALSE))","v":0.9862106149271157},{"$f":"IF(ISBLANK($C113),\"\",VLOOKUP($C113,RAMP!$C$1:$X$20,S$11-$D$11+2,FALSE))","v":0.99678022183854953},{"$f":"IF(ISBLANK($C113),\"\",VLOOKUP($C113,RAMP!$C$1:$X$20,T$11-$D$11+2,FALSE))","v":0.99685231466234414},{"$f":"IF(ISBLANK($C113),\"\",VLOOKUP($C113,RAMP!$C$1:$X$20,U$11-$D$11+2,FALSE))","v":0.99687806209941365},{"$f":"IF(ISBLANK($C113),\"\",VLOOKUP($C113,RAMP!$C$1:$X$20,V$11-$D$11+2,FALSE))","v":0.99688683963477831},{"$f":"IF(ISBLANK($C113),\"\",VLOOKUP($C113,RAMP!$C$1:$X$20,W$11-$D$11+2,FALSE))","v":0.99688970187457115},0.85]
[{"$f":"MLIST!A114","v":"Water Heating"},{"$f":"MLIST!D114","v":"HPWH ResType-NR"},"LO5Med",{"$f":"IF(ISBLANK($C114),\"\",VLOOKUP($C114,RAMP!$C$1:$X$20,D$11-$D$11+2,FALSE))","v":4.2999999999999997E-2},{"$f":"IF(ISBLANK($C114),\"\",VLOOKUP($C114,RAMP!$C$1:$X$20,E$11-$D$11+2,FALSE))","v":9.5797142280278316E-2},{"$f":"IF(ISBLANK($C114),\"\",VLOOKUP($C114,RAMP!$C$1:$X$20,F$11-$D$11+2,FALSE))","v":0.16040539374775648},{"$f":"IF(ISBLANK($C114),\"\",VLOOKUP($C114,RAMP!$C$1:$X$20,G$11-$D$11+2,FALSE))","v":0.23540539374775649},{"$f":"IF(ISBLANK($C114),\"\",VLOOKUP($C114,RAMP!$C$1:$X$20,H$11-$D$11+2,FALSE))","v":0.32095239121809005},{"$f":"IF(ISBLANK($C114),\"\",VLOOKUP($C114,RAMP!$C$1:$X$20,I$11-$D$11+2,FALSE))","v":0.42096711425629652},{"$f":"IF(ISBLANK($C114),\"\",VLOOKUP($C114,RAMP!$C$1:$X$20,J$11-$D$11+2,FALSE))","v":0.53068481860864725},{"$f":"IF(ISBLANK($C114),\"\",VLOOKUP($C114,RAMP!$C$1:$X$20,K$11-$D$11+2,FALSE))","v":0.642769203728351},{"$f":"IF(ISBLANK($C114),\"\",VLOOKUP($C114,RAMP!$C$1:$X$20,L$11-$D$11+2,FALSE))","v":0.74839528535557953},{"$f":"IF(ISBLANK($C114),\"\",VLOOKUP($C114,RAMP!$C$1:$X$20,M$11-$D$11+2,FALSE))","v":0.83918984935345187},{"$f":"IF(ISBLANK($C114),\"\",VLOOKUP($C114,RAMP!$C$1:$X$20,N$11-$D$11+2,FALSE))","v":0.90945051634530116},{"$f":"IF(ISBLANK($C114),\"\",VLOOKUP($C114,RAMP!$C$1:$X$20,O$11-$D$11+2,FALSE))","v":0.9576688767502457},{"$f":"IF(ISBLANK($C114),\"\",VLOOKUP($C114,RAMP!$C$1:$X$20,P$11-$D$11+2,FALSE))","v":0.9865231113648858},{"$f":"IF(ISBLANK($C114),\"\",VLOOKUP($C114,RAMP!$C$1:$X$20,Q$11-$D$11+2,FALSE))","v":1},{"$f":"IF(ISBLANK($C114),\"\",VLOOKUP($C114,RAMP!$C$1:$X$20,R$11-$D$11+2,FALSE))","v":1},{"$f":"IF(ISBLANK($C114),\"\",VLOOKUP($C114,RAMP!$C$1:$X$20,S$11-$D$11+2,FALSE))","v":1},{"$f":"IF(ISBLANK($C114),\"\",VLOOKUP($C114,RAMP!$C$1:$X$20,T$11-$D$11+2,FALSE))","v":1},{"$f":"IF(ISBLANK($C114),\"\",VLOOKUP($C114,RAMP!$C$1:$X$20,U$11-$D$11+2,FALSE))","v":1},{"$f":"IF(ISBLANK($C114),\"\",VLOOKUP($C114,RAMP!$C$1:$X$20,V$11-$D$11+2,FALSE))","v":1},{"$f":"IF(ISBLANK($C114),\"\",VLOOKUP($C114,RAMP!$C$1:$X$20,W$11-$D$11+2,FALSE))","v":1},0.85]
[{"$f":"MLIST!A115","v":"Water Heating"},{"$f":"MLIST!D115","v":"Washer-New"},"LO5Med",{"$f":"IF(ISBLANK($C115),\"\",VLOOKUP($C115,RAMP!$C$1:$X$20,D$11-$D$11+2,FALSE))","v":4.2999999999999997E-2},{"$f":"IF(ISBLANK($C115),\"\",VLOOKUP($C115,RAMP!$C$1:$X$20,E$11-$D$11+2,FALSE))","v":9.5797142280278316E-2},{"$f":"IF(ISBLANK($C115),\"\",VLOOKUP($C115,RAMP!$C$1:$X$20,F$11-$D$11+2,FALSE))","v":0.16040539374775648},{"$f":"IF(ISBLANK($C115),\"\",VLOOKUP($C115,RAMP!$C$1:$X$20,G$11-$D$11+2,FALSE))","v":0.23540539374775649},{"$f":"IF(ISBLANK($C115),\"\",VLOOKUP($C115,RAMP!$C$1:$X$20,H$11-$D$11+2,FALSE))","v":0.32095239121809005},{"$f":"IF(ISBLANK($C115),\"\",VLOOKUP($C115,RAMP!$C$1:$X$20,I$11-$D$11+2,FALSE))","v":0.42096711425629652},{"$f":"IF(ISBLANK($C115),\"\",VLOOKUP($C115,RAMP!$C$1:$X$20,J$11-$D$11+2,FALSE))","v":0.53068481860864725},{"$f":"IF(ISBLANK($C115),\"\",VLOOKUP($C115,RAMP!$C$1:$X$20,K$11-$D$11+2,FALSE))","v":0.642769203728351},{"$f":"IF(ISBLANK($C115),\"\",VLOOKUP($C115,RAMP!$C$1:$X$20,L$11-$D$11+2,FALSE))","v":0.74839528535557953},{"$f":"IF(ISBLANK($C115),\"\",VLOOKUP($C115,RAMP!$C$1:$X$20,M$11-$D$11+2,FALSE))","v":0.83918984935345187},{"$f":"IF(ISBLANK($C115),\"\",VLOOKUP($C115,RAMP!$C$1:$X$20,N$11-$D$11+2,FALSE))","v":0.90945051634530116},{"$f":"IF(ISBLANK($C115),\"\",VLOOKUP($C115,RAMP!$C$1:$X$20,O$11-$D$11+2,FALSE))","v":0.9576688767502457},{"$f":"IF(ISBLANK($C115),\"\",VLOOKUP($C115,RAMP!$C$1:$X$20,P$11-$D$11+2,FALSE))","v":0.9865231113648858},{"$f":"IF(ISBLANK($C115),\"\",VLOOKUP($C115,RAMP!$C$1:$X$20,Q$11-$D$11+2,FALSE))","v":1},{"$f":"IF(ISBLANK($C115),\"\",VLOOKUP($C115,RAMP!$C$1:$X$20,R$11-$D$11+2,FALSE))","v":1},{"$f":"IF(ISBLANK($C115),\"\",VLOOKUP($C115,RAMP!$C$1:$X$20,S$11-$D$11+2,FALSE))","v":1},{"$f":"IF(ISBLANK($C115),\"\",VLOOKUP($C115,RAMP!$C$1:$X$20,T$11-$D$11+2,FALSE))","v":1},{"$f":"IF(ISBLANK($C115),\"\",VLOOKUP($C115,RAMP!$C$1:$X$20,U$11-$D$11+2,FALSE))","v":1},{"$f":"IF(ISBLANK($C115),\"\",VLOOKUP($C115,RAMP!$C$1:$X$20,V$11-$D$11+2,FALSE))","v":1},{"$f":"IF(ISBLANK($C115),\"\",VLOOKUP($C115,RAMP!$C$1:$X$20,W$11-$D$11+2,FALSE))","v":1},0.95]
[{"$f":"MLIST!A116","v":"Water Heating"},{"$f":"MLIST!D116","v":"Washer-NR"},"LO5Med",{"$f":"IF(ISBLANK($C116),\"\",VLOOKUP($C116,RAMP!$C$1:$X$20,D$11-$D$11+2,FALSE))","v":4.2999999999999997E-2},{"$f":"IF(ISBLANK($C116),\"\",VLOOKUP($C116,RAMP!$C$1:$X$20,E$11-$D$11+2,FALSE))","v":9.5797142280278316E-2},{"$f":"IF(ISBLANK($C116),\"\",VLOOKUP($C116,RAMP!$C$1:$X$20,F$11-$D$11+2,FALSE))","v":0.16040539374775648},{"$f":"IF(ISBLANK($C116),\"\",VLOOKUP($C116,RAMP!$C$1:$X$20,G$11-$D$11+2,FALSE))","v":0.23540539374775649},{"$f":"IF(ISBLANK($C116),\"\",VLOOKUP($C116,RAMP!$C$1:$X$20,H$11-$D$11+2,FALSE))","v":0.32095239121809005},{"$f":"IF(ISBLANK($C116),\"\",VLOOKUP($C116,RAMP!$C$1:$X$20,I$11-$D$11+2,FALSE))","v":0.42096711425629652},{"$f":"IF(ISBLANK($C116),\"\",VLOOKUP($C116,RAMP!$C$1:$X$20,J$11-$D$11+2,FALSE))","v":0.53068481860864725},{"$f":"IF(ISBLANK($C116),\"\",VLOOKUP($C116,RAMP!$C$1:$X$20,K$11-$D$11+2,FALSE))","v":0.642769203728351},{"$f":"IF(ISBLANK($C116),\"\",VLOOKUP($C116,RAMP!$C$1:$X$20,L$11-$D$11+2,FALSE))","v":0.74839528535557953},{"$f":"IF(ISBLANK($C116),\"\",VLOOKUP($C116,RAMP!$C$1:$X$20,M$11-$D$11+2,FALSE))","v":0.83918984935345187},{"$f":"IF(ISBLANK($C116),\"\",VLOOKUP($C116,RAMP!$C$1:$X$20,N$11-$D$11+2,FALSE))","v":0.90945051634530116},{"$f":"IF(ISBLANK($C116),\"\",VLOOKUP($C116,RAMP!$C$1:$X$20,O$11-$D$11+2,FALSE))","v":0.9576688767502457},{"$f":"IF(ISBLANK($C116),\"\",VLOOKUP($C116,RAMP!$C$1:$X$20,P$11-$D$11+2,FALSE))","v":0.9865231113648858},{"$f":"IF(ISBLANK($C116),\"\",VLOOKUP($C116,RAMP!$C$1:$X$20,Q$11-$D$11+2,FALSE))","v":1},{"$f":"IF(ISBLANK($C116),\"\",VLOOKUP($C116,RAMP!$C$1:$X$20,R$11-$D$11+2,FALSE))","v":1},{"$f":"IF(ISBLANK($C116),\"\",VLOOKUP($C116,RAMP!$C$1:$X$20,S$11-$D$11+2,FALSE))","v":1},{"$f":"IF(ISBLANK($C116),\"\",VLOOKUP($C116,RAMP!$C$1:$X$20,T$11-$D$11+2,FALSE))","v":1},{"$f":"IF(ISBLANK($C116),\"\",VLOOKUP($C116,RAMP!$C$1:$X$20,U$11-$D$11+2,FALSE))","v":1},{"$f":"IF(ISBLANK($C116),\"\",VLOOKUP($C116,RAMP!$C$1:$X$20,V$11-$D$11+2,FALSE))","v":1},{"$f":"IF(ISBLANK($C116),\"\",VLOOKUP($C116,RAMP!$C$1:$X$20,W$11-$D$11+2,FALSE))","v":1},0.95]
[{"$f":"MLIST!A117","v":"Water Heating"},{"$f":"MLIST!D117","v":"Showerheads-NR"},"LO20Fast",{"$f":"IF(ISBLANK($C117),\"\",VLOOKUP($C117,RAMP!$C$1:$X$20,D$11-$D$11+2,FALSE))","v":0.22119921692859512},{"$f":"IF(ISBLANK($C117),\"\",VLOOKUP($C117,RAMP!$C$1:$X$20,E$11-$D$11+2,FALSE))","v":0.37624232795148943},{"$f":"IF(ISBLANK($C117),\"\",VLOOKUP($C117,RAMP!$C$1:$X$20,F$11-$D$11+2,FALSE))","v":0.48357361352878442},{"$f":"IF(ISBLANK($C117),\"\",VLOOKUP($C117,RAMP!$C$1:$X$20,G$11-$D$11+2,FALSE))","v":0.56716330278444227},{"$f":"IF(ISBLANK($C117),\"\",VLOOKUP($C117,RAMP!$C$1:$X$20,H$11-$D$11+2,FALSE))","v":0.64040048266456928},{"$f":"IF(ISBLANK($C117),\"\",VLOOKUP($C117,RAMP!$C$1:$X$20,I$11-$D$11+2,FALSE))","v":0.70377511937632964},{"$f":"IF(ISBLANK($C117),\"\",VLOOKUP($C117,RAMP!$C$1:$X$20,J$11-$D$11+2,FALSE))","v":0.7580669577441127},{"$f":"IF(ISBLANK($C117),\"\",VLOOKUP($C117,RAMP!$C$1:$X$20,K$11-$D$11+2,FALSE))","v":0.80419335000071168},{"$f":"IF(ISBLANK($C117),\"\",VLOOKUP($C117,RAMP!$C$1:$X$20,L$11-$D$11+2,FALSE))","v":0.84311022627788457},{"$f":"IF(ISBLANK($C117),\"\",VLOOKUP($C117,RAMP!$C$1:$X$20,M$11-$D$11+2,FALSE))","v":0.87575014259103623},{"$f":"IF(ISBLANK($C117),\"\",VLOOKUP($C117,RAMP!$C$1:$X$20,N$11-$D$11+2,FALSE))","v":0.90298584871682319},{"$f":"IF(ISBLANK($C117),\"\",VLOOKUP($C117,RAMP!$C$1:$X$20,O$11-$D$11+2,FALSE))","v":0.92419703797508856},{"$f":"IF(ISBLANK($C117),\"\",VLOOKUP($C117,RAMP!$C$1:$X$20,P$11-$D$11+2,FALSE))","v":0.94071632877930145},{"$f":"IF(ISBLANK($C117),\"\",VLOOKUP($C117,RAMP!$C$1:$X$20,Q$11-$D$11+2,FALSE))","v":0.95358156539340677},{"$f":"IF(ISBLANK($C117),\"\",VLOOKUP($C117,RAMP!$C$1:$X$20,R$11-$D$11+2,FALSE))","v":0.96360102174287088},{"$f":"IF(ISBLANK($C117),\"\",VLOOKUP($C117,RAMP!$C$1:$X$20,S$11-$D$11+2,FALSE))","v":0.97140418219378311},{"$f":"IF(ISBLANK($C117),\"\",VLOOKUP($C117,RAMP!$C$1:$X$20,T$11-$D$11+2,FALSE))","v":0.97748128966338554},{"$f":"IF(ISBLANK($C117),\"\",VLOOKUP($C117,RAMP!$C$1:$X$20,U$11-$D$11+2,FALSE))","v":0.98399999999999999},{"$f":"IF(ISBLANK($C117),\"\",VLOOKUP($C117,RAMP!$C$1:$X$20,V$11-$D$11+2,FALSE))","v":0.98899999999999999},{"$f":"IF(ISBLANK($C117),\"\",VLOOKUP($C117,RAMP!$C$1:$X$20,W$11-$D$11+2,FALSE))","v":0.996},0.85]
[{"$f":"MLIST!A118","v":"Water Heating"},{"$f":"MLIST!D118","v":"Showerheads-Retro"},"Retro12Med",{"$f":"IF(ISBLANK($C118),\"\",VLOOKUP($C118,RAMP!$C$1:$X$20,D$11-$D$11+2,FALSE))","v":0.10937459468255628},{"$f":"IF(ISBLANK($C118),\"\",VLOOKUP($C118,RAMP!$C$1:$X$20,E$11-$D$11+2,FALSE))","v":0.10937459468255628},{"$f":"IF(ISBLANK($C118),\"\",VLOOKUP($C118,RAMP!$C$1:$X$20,F$11-$D$11+2,FALSE))","v":0.10937459468255628},{"$f":"IF(ISBLANK($C118),\"\",VLOOKUP($C118,RAMP!$C$1:$X$20,G$11-$D$11+2,FALSE))","v":0.10937459468255628},{"$f":"IF(ISBLANK($C118),\"\",VLOOKUP($C118,RAMP!$C$1:$X$20,H$11-$D$11+2,FALSE))","v":0.10937459468255628},{"$f":"IF(ISBLANK($C118),\"\",VLOOKUP($C118,RAMP!$C$1:$X$20,I$11-$D$11+2,FALSE))","v":9.8437135214300656E-2},{"$f":"IF(ISBLANK($C118),\"\",VLOOKUP($C118,RAMP!$C$1:$X$20,J$11-$D$11+2,FALSE))","v":7.874970817144053E-2},{"$f":"IF(ISBLANK($C118),\"\",VLOOKUP($C118,RAMP!$C$1:$X$20,K$11-$D$11+2,FALSE))","v":6.2999766537152418E-2},{"$f":"IF(ISBLANK($C118),\"\",VLOOKUP($C118,RAMP!$C$1:$X$20,L$11-$D$11+2,FALSE))","v":5.0399813229721938E-2},{"$f":"IF(ISBLANK($C118),\"\",VLOOKUP($C118,RAMP!$C$1:$X$20,M$11-$D$11+2,FALSE))","v":4.0319850583777551E-2},{"$f":"IF(ISBLANK($C118),\"\",VLOOKUP($C118,RAMP!$C$1:$X$20,N$11-$D$11+2,FALSE))","v":3.225588046702204E-2},{"$f":"IF(ISBLANK($C118),\"\",VLOOKUP($C118,RAMP!$C$1:$X$20,O$11-$D$11+2,FALSE))","v":2.5804704373617631E-2},{"$f":"IF(ISBLANK($C118),\"\",VLOOKUP($C118,RAMP!$C$1:$X$20,P$11-$D$11+2,FALSE))","v":2.0643763498894106E-2},{"$f":"IF(ISBLANK($C118),\"\",VLOOKUP($C118,RAMP!$C$1:$X$20,Q$11-$D$11+2,FALSE))","v":1.6515010799115284E-2},{"$f":"IF(ISBLANK($C118),\"\",VLOOKUP($C118,RAMP!$C$1:$X$20,R$11-$D$11+2,FALSE))","v":1.3212008639292228E-2},{"$f":"IF(ISBLANK($C118),\"\",VLOOKUP($C118,RAMP!$C$1:$X$20,S$11-$D$11+2,FALSE))","v":1.0569606911433781E-2},{"$f":"IF(ISBLANK($C118),\"\",VLOOKUP($C118,RAMP!$C$1:$X$20,T$11-$D$11+2,FALSE))","v":7.2092823794611682E-5},{"$f":"IF(ISBLANK($C118),\"\",VLOOKUP($C118,RAMP!$C$1:$X$20,U$11-$D$11+2,FALSE))","v":2.5747437069512102E-5},{"$f":"IF(ISBLANK($C118),\"\",VLOOKUP($C118,RAMP!$C$1:$X$20,V$11-$D$11+2,FALSE))","v":8.7775353646568632E-6},{"$f":"IF(ISBLANK($C118),\"\",VLOOKUP($C118,RAMP!$C$1:$X$20,W$11-$D$11+2,FALSE))","v":2.8622397928446119E-6},0.85]
[]
[]
[]
[]
[null,null,null,{"$f":"IF(ISBLANK($C123),\"\",VLOOKUP($C123,RAMP!$C$1:$X$11,D$11-$D$11+2,FALSE))","v":""},{"$f":"IF(ISBLANK($C123),\"\",VLOOKUP($C123,RAMP!$C$1:$X$11,E$11-$D$11+2,FALSE))","v":""},{"$f":"IF(ISBLANK($C123),\"\",VLOOKUP($C123,RAMP!$C$1:$X$11,F$11-$D$11+2,FALSE))","v":""},{"$f":"IF(ISBLANK($C123),\"\",VLOOKUP($C123,RAMP!$C$1:$X$11,G$11-$D$11+2,FALSE))","v":""},{"$f":"IF(ISBLANK($C123),\"\",VLOOKUP($C123,RAMP!$C$1:$X$11,H$11-$D$11+2,FALSE))","v":""},{"$f":"IF(ISBLANK($C123),\"\",VLOOKUP($C123,RAMP!$C$1:$X$11,I$11-$D$11+2,FALSE))","v":""},{"$f":"IF(ISBLANK($C123),\"\",VLOOKUP($C123,RAMP!$C$1:$X$11,J$11-$D$11+2,FALSE))","v":""},{"$f":"IF(ISBLANK($C123),\"\",VLOOKUP($C123,RAMP!$C$1:$X$11,K$11-$D$11+2,FALSE))","v":""},{"$f":"IF(ISBLANK($C123),\"\",VLOOKUP($C123,RAMP!$C$1:$X$11,L$11-$D$11+2,FALSE))","v":""},{"$f":"IF(ISBLANK($C123),\"\",VLOOKUP($C123,RAMP!$C$1:$X$11,M$11-$D$11+2,FALSE))","v":""},{"$f":"IF(ISBLANK($C123),\"\",VLOOKUP($C123,RAMP!$C$1:$X$11,N$11-$D$11+2,FALSE))","v":""},{"$f":"IF(ISBLANK($C123),\"\",VLOOKUP($C123,RAMP!$C$1:$X$11,O$11-$D$11+2,FALSE))","v":""},{"$f":"IF(ISBLANK($C123),\"\",VLOOKUP($C123,RAMP!$C$1:$X$11,P$11-$D$11+2,FALSE))","v":""},{"$f":"IF(ISBLANK($C123),\"\",VLOOKUP($C123,RAMP!$C$1:$X$11,Q$11-$D$11+2,FALSE))","v":""},{"$f":"IF(ISBLANK($C123),\"\",VLOOKUP($C123,RAMP!$C$1:$X$11,R$11-$D$11+2,FALSE))","v":""},{"$f":"IF(ISBLANK($C123),\"\",VLOOKUP($C123,RAMP!$C$1:$X$11,S$11-$D$11+2,FALSE))","v":""},{"$f":"IF(ISBLANK($C123),\"\",VLOOKUP($C123,RAMP!$C$1:$X$11,T$11-$D$11+2,FALSE))","v":""},{"$f":"IF(ISBLANK($C123),\"\",VLOOKUP($C123,RAMP!$C$1:$X$11,U$11-$D$11+2,FALSE))","v":""},{"$f":"IF(ISBLANK($C123),\"\",VLOOKUP($C123,RAMP!$C$1:$X$11,V$11-$D$11+2,FALSE))","v":""},{"$f":"IF(ISBLANK($C123),\"\",VLOOKUP($C123,RAMP!$C$1:$X$11,W$11-$D$11+2,FALSE))","v":""}]
[null,null,null,{"$f":"IF(ISBLANK($C124),\"\",VLOOKUP($C124,RAMP!$C$1:$X$11,D$11-$D$11+2,FALSE))","v":""},{"$f":"IF(ISBLANK($C124),\"\",VLOOKUP($C124,RAMP!$C$1:$X$11,E$11-$D$11+2,FALSE))","v":""},{"$f":"IF(ISBLANK($C124),\"\",VLOOKUP($C124,RAMP!$C$1:$X$11,F$11-$D$11+2,FALSE))","v":""},{"$f":"IF(ISBLANK($C124),\"\",VLOOKUP($C124,RAMP!$C$1:$X$11,G$11-$D$11+2,FALSE))","v":""},{"$f":"IF(ISBLANK($C124),\"\",VLOOKUP($C124,RAMP!$C$1:$X$11,H$11-$D$11+2,FALSE))","v":""},{"$f":"IF(ISBLANK($C124),\"\",VLOOKUP($C124,RAMP!$C$1:$X$11,I$11-$D$11+2,FALSE))","v":""},{"$f":"IF(ISBLANK($C124),\"\",VLOOKUP($C124,RAMP!$C$1:$X$11,J$11-$D$11+2,FALSE))","v":""},{"$f":"IF(ISBLANK($C124),\"\",VLOOKUP($C124,RAMP!$C$1:$X$11,K$11-$D$11+2,FALSE))","v":""},{"$f":"IF(ISBLANK($C124),\"\",VLOOKUP($C124,RAMP!$C$1:$X$11,L$11-$D$11+2,FALSE))","v":""},{"$f":"IF(ISBLANK($C124),\"\",VLOOKUP($C124,RAMP!$C$1:$X$11,M$11-$D$11+2,FALSE))","v":""},{"$f":"IF(ISBLANK($C124),\"\",VLOOKUP($C124,RAMP!$C$1:$X$11,N$11-$D$11+2,FALSE))","v":""},{"$f":"IF(ISBLANK($C124),\"\",VLOOKUP($C124,RAMP!$C$1:$X$11,O$11-$D$11+2,FALSE))","v":""},{"$f":"IF(ISBLANK($C124),\"\",VLOOKUP($C124,RAMP!$C$1:$X$11,P$11-$D$11+2,FALSE))","v":""},{"$f":"IF(ISBLANK($C124),\"\",VLOOKUP($C124,RAMP!$C$1:$X$11,Q$11-$D$11+2,FALSE))","v":""},{"$f":"IF(ISBLANK($C124),\"\",VLOOKUP($C124,RAMP!$C$1:$X$11,R$11-$D$11+2,FALSE))","v":""},{"$f":"IF(ISBLANK($C124),\"\",VLOOKUP($C124,RAMP!$C$1:$X$11,S$11-$D$11+2,FALSE))","v":""},{"$f":"IF(ISBLANK($C124),\"\",VLOOKUP($C124,RAMP!$C$1:$X$11,T$11-$D$11+2,FALSE))","v":""},{"$f":"IF(ISBLANK($C124),\"\",VLOOKUP($C124,RAMP!$C$1:$X$11,U$11-$D$11+2,FALSE))","v":""},{"$f":"IF(ISBLANK($C124),\"\",VLOOKUP($C124,RAMP!$C$1:$X$11,V$11-$D$11+2,FALSE))","v":""},{"$f":"IF(ISBLANK($C124),\"\",VLOOKUP($C124,RAMP!$C$1:$X$11,W$11-$D$11+2,FALSE))","v":""}]
[null,null,null,{"$f":"IF(ISBLANK($C125),\"\",VLOOKUP($C125,RAMP!$C$1:$X$11,D$11-$D$11+2,FALSE))","v":""},{"$f":"IF(ISBLANK($C125),\"\",VLOOKUP($C125,RAMP!$C$1:$X$11,E$11-$D$11+2,FALSE))","v":""},{"$f":"IF(ISBLANK($C125),\"\",VLOOKUP($C125,RAMP!$C$1:$X$11,F$11-$D$11+2,FALSE))","v":""},{"$f":"IF(ISBLANK($C125),\"\",VLOOKUP($C125,RAMP!$C$1:$X$11,G$11-$D$11+2,FALSE))","v":""},{"$f":"IF(ISBLANK($C125),\"\",VLOOKUP($C125,RAMP!$C$1:$X$11,H$11-$D$11+2,FALSE))","v":""},{"$f":"IF(ISBLANK($C125),\"\",VLOOKUP($C125,RAMP!$C$1:$X$11,I$11-$D$11+2,FALSE))","v":""},{"$f":"IF(ISBLANK($C125),\"\",VLOOKUP($C125,RAMP!$C$1:$X$11,J$11-$D$11+2,FALSE))","v":""},{"$f":"IF(ISBLANK($C125),\"\",VLOOKUP($C125,RAMP!$C$1:$X$11,K$11-$D$11+2,FALSE))","v":""},{"$f":"IF(ISBLANK($C125),\"\",VLOOKUP($C125,RAMP!$C$1:$X$11,L$11-$D$11+2,FALSE))","v":""},{"$f":"IF(ISBLANK($C125),\"\",VLOOKUP($C125,RAMP!$C$1:$X$11,M$11-$D$11+2,FALSE))","v":""},{"$f":"IF(ISBLANK($C125),\"\",VLOOKUP($C125,RAMP!$C$1:$X$11,N$11-$D$11+2,FALSE))","v":""},{"$f":"IF(ISBLANK($C125),\"\",VLOOKUP($C125,RAMP!$C$1:$X$11,O$11-$D$11+2,FALSE))","v":""},{"$f":"IF(ISBLANK($C125),\"\",VLOOKUP($C125,RAMP!$C$1:$X$11,P$11-$D$11+2,FALSE))","v":""},{"$f":"IF(ISBLANK($C125),\"\",VLOOKUP($C125,RAMP!$C$1:$X$11,Q$11-$D$11+2,FALSE))","v":""},{"$f":"IF(ISBLANK($C125),\"\",VLOOKUP($C125,RAMP!$C$1:$X$11,R$11-$D$11+2,FALSE))","v":""},{"$f":"IF(ISBLANK($C125),\"\",VLOOKUP($C125,RAMP!$C$1:$X$11,S$11-$D$11+2,FALSE))","v":""},{"$f":"IF(ISBLANK($C125),\"\",VLOOKUP($C125,RAMP!$C$1:$X$11,T$11-$D$11+2,FALSE))","v":""},{"$f":"IF(ISBLANK($C125),\"\",VLOOKUP($C125,RAMP!$C$1:$X$11,U$11-$D$11+2,FALSE))","v":""},{"$f":"IF(ISBLANK($C125),\"\",VLOOKUP($C125,RAMP!$C$1:$X$11,V$11-$D$11+2,FALSE))","v":""},{"$f":"IF(ISBLANK($C125),\"\",VLOOKUP($C125,RAMP!$C$1:$X$11,W$11-$D$11+2,FALSE))","v":""}]
[null,null,null,{"$f":"IF(ISBLANK($C126),\"\",VLOOKUP($C126,RAMP!$C$1:$X$11,D$11-$D$11+2,FALSE))","v":""},{"$f":"IF(ISBLANK($C126),\"\",VLOOKUP($C126,RAMP!$C$1:$X$11,E$11-$D$11+2,FALSE))","v":""},{"$f":"IF(ISBLANK($C126),\"\",VLOOKUP($C126,RAMP!$C$1:$X$11,F$11-$D$11+2,FALSE))","v":""},{"$f":"IF(ISBLANK($C126),\"\",VLOOKUP($C126,RAMP!$C$1:$X$11,G$11-$D$11+2,FALSE))","v":""},{"$f":"IF(ISBLANK($C126),\"\",VLOOKUP($C126,RAMP!$C$1:$X$11,H$11-$D$11+2,FALSE))","v":""},{"$f":"IF(ISBLANK($C126),\"\",VLOOKUP($C126,RAMP!$C$1:$X$11,I$11-$D$11+2,FALSE))","v":""},{"$f":"IF(ISBLANK($C126),\"\",VLOOKUP($C126,RAMP!$C$1:$X$11,J$11-$D$11+2,FALSE))","v":""},{"$f":"IF(ISBLANK($C126),\"\",VLOOKUP($C126,RAMP!$C$1:$X$11,K$11-$D$11+2,FALSE))","v":""},{"$f":"IF(ISBLANK($C126),\"\",VLOOKUP($C126,RAMP!$C$1:$X$11,L$11-$D$11+2,FALSE))","v":""},{"$f":"IF(ISBLANK($C126),\"\",VLOOKUP($C126,RAMP!$C$1:$X$11,M$11-$D$11+2,FALSE))","v":""},{"$f":"IF(ISBLANK($C126),\"\",VLOOKUP($C126,RAMP!$C$1:$X$11,N$11-$D$11+2,FALSE))","v":""},{"$f":"IF(ISBLANK($C126),\"\",VLOOKUP($C126,RAMP!$C$1:$X$11,O$11-$D$11+2,FALSE))","v":""},{"$f":"IF(ISBLANK($C126),\"\",VLOOKUP($C126,RAMP!$C$1:$X$11,P$11-$D$11+2,FALSE))","v":""},{"$f":"IF(ISBLANK($C126),\"\",VLOOKUP($C126,RAMP!$C$1:$X$11,Q$11-$D$11+2,FALSE))","v":""},{"$f":"IF(ISBLANK($C126),\"\",VLOOKUP($C126,RAMP!$C$1:$X$11,R$11-$D$11+2,FALSE))","v":""},{"$f":"IF(ISBLANK($C126),\"\",VLOOKUP($C126,RAMP!$C$1:$X$11,S$11-$D$11+2,FALSE))","v":""},{"$f":"IF(ISBLANK($C126),\"\",VLOOKUP($C126,RAMP!$C$1:$X$11,T$11-$D$11+2,FALSE))","v":""},{"$f":"IF(ISBLANK($C126),\"\",VLOOKUP($C126,RAMP!$C$1:$X$11,U$11-$D$11+2,FALSE))","v":""},{"$f":"IF(ISBLANK($C126),\"\",VLOOKUP($C126,RAMP!$C$1:$X$11,V$11-$D$11+2,FALSE))","v":""},{"$f":"IF(ISBLANK($C126),\"\",VLOOKUP($C126,RAMP!$C$1:$X$11,W$11-$D$11+2,FALSE))","v":""}]
[null,null,null,{"$f":"IF(ISBLANK($C127),\"\",VLOOKUP($C127,RAMP!$C$1:$X$11,D$11-$D$11+2,FALSE))","v":""},{"$f":"IF(ISBLANK($C127),\"\",VLOOKUP($C127,RAMP!$C$1:$X$11,E$11-$D$11+2,FALSE))","v":""},{"$f":"IF(ISBLANK($C127),\"\",VLOOKUP($C127,RAMP!$C$1:$X$11,F$11-$D$11+2,FALSE))","v":""},{"$f":"IF(ISBLANK($C127),\"\",VLOOKUP($C127,RAMP!$C$1:$X$11,G$11-$D$11+2,FALSE))","v":""},{"$f":"IF(ISBLANK($C127),\"\",VLOOKUP($C127,RAMP!$C$1:$X$11,H$11-$D$11+2,FALSE))","v":""},{"$f":"IF(ISBLANK($C127),\"\",VLOOKUP($C127,RAMP!$C$1:$X$11,I$11-$D$11+2,FALSE))","v":""},{"$f":"IF(ISBLANK($C127),\"\",VLOOKUP($C127,RAMP!$C$1:$X$11,J$11-$D$11+2,FALSE))","v":""},{"$f":"IF(ISBLANK($C127),\"\",VLOOKUP($C127,RAMP!$C$1:$X$11,K$11-$D$11+2,FALSE))","v":""},{"$f":"IF(ISBLANK($C127),\"\",VLOOKUP($C127,RAMP!$C$1:$X$11,L$11-$D$11+2,FALSE))","v":""},{"$f":"IF(ISBLANK($C127),\"\",VLOOKUP($C127,RAMP!$C$1:$X$11,M$11-$D$11+2,FALSE))","v":""},{"$f":"IF(ISBLANK($C127),\"\",VLOOKUP($C127,RAMP!$C$1:$X$11,N$11-$D$11+2,FALSE))","v":""},{"$f":"IF(ISBLANK($C127),\"\",VLOOKUP($C127,RAMP!$C$1:$X$11,O$11-$D$11+2,FALSE))","v":""},{"$f":"IF(ISBLANK($C127),\"\",VLOOKUP($C127,RAMP!$C$1:$X$11,P$11-$D$11+2,FALSE))","v":""},{"$f":"IF(ISBLANK($C127),\"\",VLOOKUP($C127,RAMP!$C$1:$X$11,Q$11-$D$11+2,FALSE))","v":""},{"$f":"IF(ISBLANK($C127),\"\",VLOOKUP($C127,RAMP!$C$1:$X$11,R$11-$D$11+2,FALSE))","v":""},{"$f":"IF(ISBLANK($C127),\"\",VLOOKUP($C127,RAMP!$C$1:$X$11,S$11-$D$11+2,FALSE))","v":""},{"$f":"IF(ISBLANK($C127),\"\",VLOOKUP($C127,RAMP!$C$1:$X$11,T$11-$D$11+2,FALSE))","v":""},{"$f":"IF(ISBLANK($C127),\"\",VLOOKUP($C127,RAMP!$C$1:$X$11,U$11-$D$11+2,FALSE))","v":""},{"$f":"IF(ISBLANK($C127),\"\",VLOOKUP($C127,RAMP!$C$1:$X$11,V$11-$D$11+2,FALSE))","v":""},{"$f":"IF(ISBLANK($C127),\"\",VLOOKUP($C127,RAMP!$C$1:$X$11,W$11-$D$11+2,FALSE))","v":""}]
[null,null,null,{"$f":"IF(ISBLANK($C128),\"\",VLOOKUP($C128,RAMP!$C$1:$X$11,D$11-$D$11+2,FALSE))","v":""},{"$f":"IF(ISBLANK($C128),\"\",VLOOKUP($C128,RAMP!$C$1:$X$11,E$11-$D$11+2,FALSE))","v":""},{"$f":"IF(ISBLANK($C128),\"\",VLOOKUP($C128,RAMP!$C$1:$X$11,F$11-$D$11+2,FALSE))","v":""},{"$f":"IF(ISBLANK($C128),\"\",VLOOKUP($C128,RAMP!$C$1:$X$11,G$11-$D$11+2,FALSE))","v":""},{"$f":"IF(ISBLANK($C128),\"\",VLOOKUP($C128,RAMP!$C$1:$X$11,H$11-$D$11+2,FALSE))","v":""},{"$f":"IF(ISBLANK($C128),\"\",VLOOKUP($C128,RAMP!$C$1:$X$11,I$11-$D$11+2,FALSE))","v":""},{"$f":"IF(ISBLANK($C128),\"\",VLOOKUP($C128,RAMP!$C$1:$X$11,J$11-$D$11+2,FALSE))","v":""},{"$f":"IF(ISBLANK($C128),\"\",VLOOKUP($C128,RAMP!$C$1:$X$11,K$11-$D$11+2,FALSE))","v":""},{"$f":"IF(ISBLANK($C128),\"\",VLOOKUP($C128,RAMP!$C$1:$X$11,L$11-$D$11+2,FALSE))","v":""},{"$f":"IF(ISBLANK($C128),\"\",VLOOKUP($C128,RAMP!$C$1:$X$11,M$11-$D$11+2,FALSE))","v":""},{"$f":"IF(ISBLANK($C128),\"\",VLOOKUP($C128,RAMP!$C$1:$X$11,N$11-$D$11+2,FALSE))","v":""},{"$f":"IF(ISBLANK($C128),\"\",VLOOKUP($C128,RAMP!$C$1:$X$11,O$11-$D$11+2,FALSE))","v":""},{"$f":"IF(ISBLANK($C128),\"\",VLOOKUP($C128,RAMP!$C$1:$X$11,P$11-$D$11+2,FALSE))","v":""},{"$f":"IF(ISBLANK($C128),\"\",VLOOKUP($C128,RAMP!$C$1:$X$11,Q$11-$D$11+2,FALSE))","v":""},{"$f":"IF(ISBLANK($C128),\"\",VLOOKUP($C128,RAMP!$C$1:$X$11,R$11-$D$11+2,FALSE))","v":""},{"$f":"IF(ISBLANK($C128),\"\",VLOOKUP($C128,RAMP!$C$1:$X$11,S$11-$D$11+2,FALSE))","v":""},{"$f":"IF(ISBLANK($C128),\"\",VLOOKUP($C128,RAMP!$C$1:$X$11,T$11-$D$11+2,FALSE))","v":""},{"$f":"IF(ISBLANK($C128),\"\",VLOOKUP($C128,RAMP!$C$1:$X$11,U$11-$D$11+2,FALSE))","v":""},{"$f":"IF(ISBLANK($C128),\"\",VLOOKUP($C128,RAMP!$C$1:$X$11,V$11-$D$11+2,FALSE))","v":""},{"$f":"IF(ISBLANK($C128),\"\",VLOOKUP($C128,RAMP!$C$1:$X$11,W$11-$D$11+2,FALSE))","v":""}]
[null,null,null,{"$f":"IF(ISBLANK($C129),\"\",VLOOKUP($C129,RAMP!$C$1:$X$11,D$11-$D$11+2,FALSE))","v":""},{"$f":"IF(ISBLANK($C129),\"\",VLOOKUP($C129,RAMP!$C$1:$X$11,E$11-$D$11+2,FALSE))","v":""},{"$f":"IF(ISBLANK($C129),\"\",VLOOKUP($C129,RAMP!$C$1:$X$11,F$11-$D$11+2,FALSE))","v":""},{"$f":"IF(ISBLANK($C129),\"\",VLOOKUP($C129,RAMP!$C$1:$X$11,G$11-$D$11+2,FALSE))","v":""},{"$f":"IF(ISBLANK($C129),\"\",VLOOKUP($C129,RAMP!$C$1:$X$11,H$11-$D$11+2,FALSE))","v":""},{"$f":"IF(ISBLANK($C129),\"\",VLOOKUP($C129,RAMP!$C$1:$X$11,I$11-$D$11+2,FALSE))","v":""},{"$f":"IF(ISBLANK($C129),\"\",VLOOKUP($C129,RAMP!$C$1:$X$11,J$11-$D$11+2,FALSE))","v":""},{"$f":"IF(ISBLANK($C129),\"\",VLOOKUP($C129,RAMP!$C$1:$X$11,K$11-$D$11+2,FALSE))","v":""},{"$f":"IF(ISBLANK($C129),\"\",VLOOKUP($C129,RAMP!$C$1:$X$11,L$11-$D$11+2,FALSE))","v":""},{"$f":"IF(ISBLANK($C129),\"\",VLOOKUP($C129,RAMP!$C$1:$X$11,M$11-$D$11+2,FALSE))","v":""},{"$f":"IF(ISBLANK($C129),\"\",VLOOKUP($C129,RAMP!$C$1:$X$11,N$11-$D$11+2,FALSE))","v":""},{"$f":"IF(ISBLANK($C129),\"\",VLOOKUP($C129,RAMP!$C$1:$X$11,O$11-$D$11+2,FALSE))","v":""},{"$f":"IF(ISBLANK($C129),\"\",VLOOKUP($C129,RAMP!$C$1:$X$11,P$11-$D$11+2,FALSE))","v":""},{"$f":"IF(ISBLANK($C129),\"\",VLOOKUP($C129,RAMP!$C$1:$X$11,Q$11-$D$11+2,FALSE))","v":""},{"$f":"IF(ISBLANK($C129),\"\",VLOOKUP($C129,RAMP!$C$1:$X$11,R$11-$D$11+2,FALSE))","v":""},{"$f":"IF(ISBLANK($C129),\"\",VLOOKUP($C129,RAMP!$C$1:$X$11,S$11-$D$11+2,FALSE))","v":""},{"$f":"IF(ISBLANK($C129),\"\",VLOOKUP($C129,RAMP!$C$1:$X$11,T$11-$D$11+2,FALSE))","v":""},{"$f":"IF(ISBLANK($C129),\"\",VLOOKUP($C129,RAMP!$C$1:$X$11,U$11-$D$11+2,FALSE))","v":""},{"$f":"IF(ISBLANK($C129),\"\",VLOOKUP($C129,RAMP!$C$1:$X$11,V$11-$D$11+2,FALSE))","v":""},{"$f":"IF(ISBLANK($C129),\"\",VLOOKUP($C129,RAMP!$C$1:$X$11,W$11-$D$11+2,FALSE))","v":""}]
[null,null,null,{"$f":"IF(ISBLANK($C130),\"\",VLOOKUP($C130,RAMP!$C$1:$X$11,D$11-$D$11+2,FALSE))","v":""},{"$f":"IF(ISBLANK($C130),\"\",VLOOKUP($C130,RAMP!$C$1:$X$11,E$11-$D$11+2,FALSE))","v":""},{"$f":"IF(ISBLANK($C130),\"\",VLOOKUP($C130,RAMP!$C$1:$X$11,F$11-$D$11+2,FALSE))","v":""},{"$f":"IF(ISBLANK($C130),\"\",VLOOKUP($C130,RAMP!$C$1:$X$11,G$11-$D$11+2,FALSE))","v":""},{"$f":"IF(ISBLANK($C130),\"\",VLOOKUP($C130,RAMP!$C$1:$X$11,H$11-$D$11+2,FALSE))","v":""},{"$f":"IF(ISBLANK($C130),\"\",VLOOKUP($C130,RAMP!$C$1:$X$11,I$11-$D$11+2,FALSE))","v":""},{"$f":"IF(ISBLANK($C130),\"\",VLOOKUP($C130,RAMP!$C$1:$X$11,J$11-$D$11+2,FALSE))","v":""},{"$f":"IF(ISBLANK($C130),\"\",VLOOKUP($C130,RAMP!$C$1:$X$11,K$11-$D$11+2,FALSE))","v":""},{"$f":"IF(ISBLANK($C130),\"\",VLOOKUP($C130,RAMP!$C$1:$X$11,L$11-$D$11+2,FALSE))","v":""},{"$f":"IF(ISBLANK($C130),\"\",VLOOKUP($C130,RAMP!$C$1:$X$11,M$11-$D$11+2,FALSE))","v":""},{"$f":"IF(ISBLANK($C130),\"\",VLOOKUP($C130,RAMP!$C$1:$X$11,N$11-$D$11+2,FALSE))","v":""},{"$f":"IF(ISBLANK($C130),\"\",VLOOKUP($C130,RAMP!$C$1:$X$11,O$11-$D$11+2,FALSE))","v":""},{"$f":"IF(ISBLANK($C130),\"\",VLOOKUP($C130,RAMP!$C$1:$X$11,P$11-$D$11+2,FALSE))","v":""},{"$f":"IF(ISBLANK($C130),\"\",VLOOKUP($C130,RAMP!$C$1:$X$11,Q$11-$D$11+2,FALSE))","v":""},{"$f":"IF(ISBLANK($C130),\"\",VLOOKUP($C130,RAMP!$C$1:$X$11,R$11-$D$11+2,FALSE))","v":""},{"$f":"IF(ISBLANK($C130),\"\",VLOOKUP($C130,RAMP!$C$1:$X$11,S$11-$D$11+2,FALSE))","v":""},{"$f":"IF(ISBLANK($C130),\"\",VLOOKUP($C130,RAMP!$C$1:$X$11,T$11-$D$11+2,FALSE))","v":""},{"$f":"IF(ISBLANK($C130),\"\",VLOOKUP($C130,RAMP!$C$1:$X$11,U$11-$D$11+2,FALSE))","v":""},{"$f":"IF(ISBLANK($C130),\"\",VLOOKUP($C130,RAMP!$C$1:$X$11,V$11-$D$11+2,FALSE))","v":""},{"$f":"IF(ISBLANK($C130),\"\",VLOOKUP($C130,RAMP!$C$1:$X$11,W$11-$D$11+2,FALSE))","v":""}]
[null,null,null,{"$f":"IF(ISBLANK($C131),\"\",VLOOKUP($C131,RAMP!$C$1:$X$11,D$11-$D$11+2,FALSE))","v":""},{"$f":"IF(ISBLANK($C131),\"\",VLOOKUP($C131,RAMP!$C$1:$X$11,E$11-$D$11+2,FALSE))","v":""},{"$f":"IF(ISBLANK($C131),\"\",VLOOKUP($C131,RAMP!$C$1:$X$11,F$11-$D$11+2,FALSE))","v":""},{"$f":"IF(ISBLANK($C131),\"\",VLOOKUP($C131,RAMP!$C$1:$X$11,G$11-$D$11+2,FALSE))","v":""},{"$f":"IF(ISBLANK($C131),\"\",VLOOKUP($C131,RAMP!$C$1:$X$11,H$11-$D$11+2,FALSE))","v":""},{"$f":"IF(ISBLANK($C131),\"\",VLOOKUP($C131,RAMP!$C$1:$X$11,I$11-$D$11+2,FALSE))","v":""},{"$f":"IF(ISBLANK($C131),\"\",VLOOKUP($C131,RAMP!$C$1:$X$11,J$11-$D$11+2,FALSE))","v":""},{"$f":"IF(ISBLANK($C131),\"\",VLOOKUP($C131,RAMP!$C$1:$X$11,K$11-$D$11+2,FALSE))","v":""},{"$f":"IF(ISBLANK($C131),\"\",VLOOKUP($C131,RAMP!$C$1:$X$11,L$11-$D$11+2,FALSE))","v":""},{"$f":"IF(ISBLANK($C131),\"\",VLOOKUP($C131,RAMP!$C$1:$X$11,M$11-$D$11+2,FALSE))","v":""},{"$f":"IF(ISBLANK($C131),\"\",VLOOKUP($C131,RAMP!$C$1:$X$11,N$11-$D$11+2,FALSE))","v":""},{"$f":"IF(ISBLANK($C131),\"\",VLOOKUP($C131,RAMP!$C$1:$X$11,O$11-$D$11+2,FALSE))","v":""},{"$f":"IF(ISBLANK($C131),\"\",VLOOKUP($C131,RAMP!$C$1:$X$11,P$11-$D$11+2,FALSE))","v":""},{"$f":"IF(ISBLANK($C131),\"\",VLOOKUP($C131,RAMP!$C$1:$X$11,Q$11-$D$11+2,FALSE))","v":""},{"$f":"IF(ISBLANK($C131),\"\",VLOOKUP($C131,RAMP!$C$1:$X$11,R$11-$D$11+2,FALSE))","v":""},{"$f":"IF(ISBLANK($C131),\"\",VLOOKUP($C131,RAMP!$C$1:$X$11,S$11-$D$11+2,FALSE))","v":""},{"$f":"IF(ISBLANK($C131),\"\",VLOOKUP($C131,RAMP!$C$1:$X$11,T$11-$D$11+2,FALSE))","v":""},{"$f":"IF(ISBLANK($C131),\"\",VLOOKUP($C131,RAMP!$C$1:$X$11,U$11-$D$11+2,FALSE))","v":""},{"$f":"IF(ISBLANK($C131),\"\",VLOOKUP($C131,RAMP!$C$1:$X$11,V$11-$D$11+2,FALSE))","v":""},{"$f":"IF(ISBLANK($C131),\"\",VLOOKUP($C131,RAMP!$C$1:$X$11,W$11-$D$11+2,FALSE))","v":""}]
[null,null,null,{"$f":"IF(ISBLANK($C132),\"\",VLOOKUP($C132,RAMP!$C$1:$X$11,D$11-$D$11+2,FALSE))","v":""},{"$f":"IF(ISBLANK($C132),\"\",VLOOKUP($C132,RAMP!$C$1:$X$11,E$11-$D$11+2,FALSE))","v":""},{"$f":"IF(ISBLANK($C132),\"\",VLOOKUP($C132,RAMP!$C$1:$X$11,F$11-$D$11+2,FALSE))","v":""},{"$f":"IF(ISBLANK($C132),\"\",VLOOKUP($C132,RAMP!$C$1:$X$11,G$11-$D$11+2,FALSE))","v":""},{"$f":"IF(ISBLANK($C132),\"\",VLOOKUP($C132,RAMP!$C$1:$X$11,H$11-$D$11+2,FALSE))","v":""},{"$f":"IF(ISBLANK($C132),\"\",VLOOKUP($C132,RAMP!$C$1:$X$11,I$11-$D$11+2,FALSE))","v":""},{"$f":"IF(ISBLANK($C132),\"\",VLOOKUP($C132,RAMP!$C$1:$X$11,J$11-$D$11+2,FALSE))","v":""},{"$f":"IF(ISBLANK($C132),\"\",VLOOKUP($C132,RAMP!$C$1:$X$11,K$11-$D$11+2,FALSE))","v":""},{"$f":"IF(ISBLANK($C132),\"\",VLOOKUP($C132,RAMP!$C$1:$X$11,L$11-$D$11+2,FALSE))","v":""},{"$f":"IF(ISBLANK($C132),\"\",VLOOKUP($C132,RAMP!$C$1:$X$11,M$11-$D$11+2,FALSE))","v":""},{"$f":"IF(ISBLANK($C132),\"\",VLOOKUP($C132,RAMP!$C$1:$X$11,N$11-$D$11+2,FALSE))","v":""},{"$f":"IF(ISBLANK($C132),\"\",VLOOKUP($C132,RAMP!$C$1:$X$11,O$11-$D$11+2,FALSE))","v":""},{"$f":"IF(ISBLANK($C132),\"\",VLOOKUP($C132,RAMP!$C$1:$X$11,P$11-$D$11+2,FALSE))","v":""},{"$f":"IF(ISBLANK($C132),\"\",VLOOKUP($C132,RAMP!$C$1:$X$11,Q$11-$D$11+2,FALSE))","v":""},{"$f":"IF(ISBLANK($C132),\"\",VLOOKUP($C132,RAMP!$C$1:$X$11,R$11-$D$11+2,FALSE))","v":""},{"$f":"IF(ISBLANK($C132),\"\",VLOOKUP($C132,RAMP!$C$1:$X$11,S$11-$D$11+2,FALSE))","v":""},{"$f":"IF(ISBLANK($C132),\"\",VLOOKUP($C132,RAMP!$C$1:$X$11,T$11-$D$11+2,FALSE))","v":""},{"$f":"IF(ISBLANK($C132),\"\",VLOOKUP($C132,RAMP!$C$1:$X$11,U$11-$D$11+2,FALSE))","v":""},{"$f":"IF(ISBLANK($C132),\"\",VLOOKUP($C132,RAMP!$C$1:$X$11,V$11-$D$11+2,FALSE))","v":""},{"$f":"IF(ISBLANK($C132),\"\",VLOOKUP($C132,RAMP!$C$1:$X$11,W$11-$D$11+2,FALSE))","v":""}]
[null,null,null,{"$f":"IF(ISBLANK($C133),\"\",VLOOKUP($C133,RAMP!$C$1:$X$11,D$11-$D$11+2,FALSE))","v":""},{"$f":"IF(ISBLANK($C133),\"\",VLOOKUP($C133,RAMP!$C$1:$X$11,E$11-$D$11+2,FALSE))","v":""},{"$f":"IF(ISBLANK($C133),\"\",VLOOKUP($C133,RAMP!$C$1:$X$11,F$11-$D$11+2,FALSE))","v":""},{"$f":"IF(ISBLANK($C133),\"\",VLOOKUP($C133,RAMP!$C$1:$X$11,G$11-$D$11+2,FALSE))","v":""},{"$f":"IF(ISBLANK($C133),\"\",VLOOKUP($C133,RAMP!$C$1:$X$11,H$11-$D$11+2,FALSE))","v":""},{"$f":"IF(ISBLANK($C133),\"\",VLOOKUP($C133,RAMP!$C$1:$X$11,I$11-$D$11+2,FALSE))","v":""},{"$f":"IF(ISBLANK($C133),\"\",VLOOKUP($C133,RAMP!$C$1:$X$11,J$11-$D$11+2,FALSE))","v":""},{"$f":"IF(ISBLANK($C133),\"\",VLOOKUP($C133,RAMP!$C$1:$X$11,K$11-$D$11+2,FALSE))","v":""},{"$f":"IF(ISBLANK($C133),\"\",VLOOKUP($C133,RAMP!$C$1:$X$11,L$11-$D$11+2,FALSE))","v":""},{"$f":"IF(ISBLANK($C133),\"\",VLOOKUP($C133,RAMP!$C$1:$X$11,M$11-$D$11+2,FALSE))","v":""},{"$f":"IF(ISBLANK($C133),\"\",VLOOKUP($C133,RAMP!$C$1:$X$11,N$11-$D$11+2,FALSE))","v":""},{"$f":"IF(ISBLANK($C133),\"\",VLOOKUP($C133,RAMP!$C$1:$X$11,O$11-$D$11+2,FALSE))","v":""},{"$f":"IF(ISBLANK($C133),\"\",VLOOKUP($C133,RAMP!$C$1:$X$11,P$11-$D$11+2,FALSE))","v":""},{"$f":"IF(ISBLANK($C133),\"\",VLOOKUP($C133,RAMP!$C$1:$X$11,Q$11-$D$11+2,FALSE))","v":""},{"$f":"IF(ISBLANK($C133),\"\",VLOOKUP($C133,RAMP!$C$1:$X$11,R$11-$D$11+2,FALSE))","v":""},{"$f":"IF(ISBLANK($C133),\"\",VLOOKUP($C133,RAMP!$C$1:$X$11,S$11-$D$11+2,FALSE))","v":""},{"$f":"IF(ISBLANK($C133),\"\",VLOOKUP($C133,RAMP!$C$1:$X$11,T$11-$D$11+2,FALSE))","v":""},{"$f":"IF(ISBLANK($C133),\"\",VLOOKUP($C133,RAMP!$C$1:$X$11,U$11-$D$11+2,FALSE))","v":""},{"$f":"IF(ISBLANK($C133),\"\",VLOOKUP($C133,RAMP!$C$1:$X$11,V$11-$D$11+2,FALSE))","v":""},{"$f":"IF(ISBLANK($C133),\"\",VLOOKUP($C133,RAMP!$C$1:$X$11,W$11-$D$11+2,FALSE))","v":""}]
[null,null,null,{"$f":"IF(ISBLANK($C134),\"\",VLOOKUP($C134,RAMP!$C$1:$X$11,D$11-$D$11+2,FALSE))","v":""},{"$f":"IF(ISBLANK($C134),\"\",VLOOKUP($C134,RAMP!$C$1:$X$11,E$11-$D$11+2,FALSE))","v":""},{"$f":"IF(ISBLANK($C134),\"\",VLOOKUP($C134,RAMP!$C$1:$X$11,F$11-$D$11+2,FALSE))","v":""},{"$f":"IF(ISBLANK($C134),\"\",VLOOKUP($C134,RAMP!$C$1:$X$11,G$11-$D$11+2,FALSE))","v":""},{"$f":"IF(ISBLANK($C134),\"\",VLOOKUP($C134,RAMP!$C$1:$X$11,H$11-$D$11+2,FALSE))","v":""},{"$f":"IF(ISBLANK($C134),\"\",VLOOKUP($C134,RAMP!$C$1:$X$11,I$11-$D$11+2,FALSE))","v":""},{"$f":"IF(ISBLANK($C134),\"\",VLOOKUP($C134,RAMP!$C$1:$X$11,J$11-$D$11+2,FALSE))","v":""},{"$f":"IF(ISBLANK($C134),\"\",VLOOKUP($C134,RAMP!$C$1:$X$11,K$11-$D$11+2,FALSE))","v":""},{"$f":"IF(ISBLANK($C134),\"\",VLOOKUP($C134,RAMP!$C$1:$X$11,L$11-$D$11+2,FALSE))","v":""},{"$f":"IF(ISBLANK($C134),\"\",VLOOKUP($C134,RAMP!$C$1:$X$11,M$11-$D$11+2,FALSE))","v":""},{"$f":"IF(ISBLANK($C134),\"\",VLOOKUP($C134,RAMP!$C$1:$X$11,N$11-$D$11+2,FALSE))","v":""},{"$f":"IF(ISBLANK($C134),\"\",VLOOKUP($C134,RAMP!$C$1:$X$11,O$11-$D$11+2,FALSE))","v":""},{"$f":"IF(ISBLANK($C134),\"\",VLOOKUP($C134,RAMP!$C$1:$X$11,P$11-$D$11+2,FALSE))","v":""},{"$f":"IF(ISBLANK($C134),\"\",VLOOKUP($C134,RAMP!$C$1:$X$11,Q$11-$D$11+2,FALSE))","v":""},{"$f":"IF(ISBLANK($C134),\"\",VLOOKUP($C134,RAMP!$C$1:$X$11,R$11-$D$11+2,FALSE))","v":""},{"$f":"IF(ISBLANK($C134),\"\",VLOOKUP($C134,RAMP!$C$1:$X$11,S$11-$D$11+2,FALSE))","v":""},{"$f":"IF(ISBLANK($C134),\"\",VLOOKUP($C134,RAMP!$C$1:$X$11,T$11-$D$11+2,FALSE))","v":""},{"$f":"IF(ISBLANK($C134),\"\",VLOOKUP($C134,RAMP!$C$1:$X$11,U$11-$D$11+2,FALSE))","v":""},{"$f":"IF(ISBLANK($C134),\"\",VLOOKUP($C134,RAMP!$C$1:$X$11,V$11-$D$11+2,FALSE))","v":""},{"$f":"IF(ISBLANK($C134),\"\",VLOOKUP($C134,RAMP!$C$1:$X$11,W$11-$D$11+2,FALSE))","v":""}]
[null,null,null,{"$f":"IF(ISBLANK($C135),\"\",VLOOKUP($C135,RAMP!$C$1:$X$11,D$11-$D$11+2,FALSE))","v":""},{"$f":"IF(ISBLANK($C135),\"\",VLOOKUP($C135,RAMP!$C$1:$X$11,E$11-$D$11+2,FALSE))","v":""},{"$f":"IF(ISBLANK($C135),\"\",VLOOKUP($C135,RAMP!$C$1:$X$11,F$11-$D$11+2,FALSE))","v":""},{"$f":"IF(ISBLANK($C135),\"\",VLOOKUP($C135,RAMP!$C$1:$X$11,G$11-$D$11+2,FALSE))","v":""},{"$f":"IF(ISBLANK($C135),\"\",VLOOKUP($C135,RAMP!$C$1:$X$11,H$11-$D$11+2,FALSE))","v":""},{"$f":"IF(ISBLANK($C135),\"\",VLOOKUP($C135,RAMP!$C$1:$X$11,I$11-$D$11+2,FALSE))","v":""},{"$f":"IF(ISBLANK($C135),\"\",VLOOKUP($C135,RAMP!$C$1:$X$11,J$11-$D$11+2,FALSE))","v":""},{"$f":"IF(ISBLANK($C135),\"\",VLOOKUP($C135,RAMP!$C$1:$X$11,K$11-$D$11+2,FALSE))","v":""},{"$f":"IF(ISBLANK($C135),\"\",VLOOKUP($C135,RAMP!$C$1:$X$11,L$11-$D$11+2,FALSE))","v":""},{"$f":"IF(ISBLANK($C135),\"\",VLOOKUP($C135,RAMP!$C$1:$X$11,M$11-$D$11+2,FALSE))","v":""},{"$f":"IF(ISBLANK($C135),\"\",VLOOKUP($C135,RAMP!$C$1:$X$11,N$11-$D$11+2,FALSE))","v":""},{"$f":"IF(ISBLANK($C135),\"\",VLOOKUP($C135,RAMP!$C$1:$X$11,O$11-$D$11+2,FALSE))","v":""},{"$f":"IF(ISBLANK($C135),\"\",VLOOKUP($C135,RAMP!$C$1:$X$11,P$11-$D$11+2,FALSE))","v":""},{"$f":"IF(ISBLANK($C135),\"\",VLOOKUP($C135,RAMP!$C$1:$X$11,Q$11-$D$11+2,FALSE))","v":""},{"$f":"IF(ISBLANK($C135),\"\",VLOOKUP($C135,RAMP!$C$1:$X$11,R$11-$D$11+2,FALSE))","v":""},{"$f":"IF(ISBLANK($C135),\"\",VLOOKUP($C135,RAMP!$C$1:$X$11,S$11-$D$11+2,FALSE))","v":""},{"$f":"IF(ISBLANK($C135),\"\",VLOOKUP($C135,RAMP!$C$1:$X$11,T$11-$D$11+2,FALSE))","v":""},{"$f":"IF(ISBLANK($C135),\"\",VLOOKUP($C135,RAMP!$C$1:$X$11,U$11-$D$11+2,FALSE))","v":""},{"$f":"IF(ISBLANK($C135),\"\",VLOOKUP($C135,RAMP!$C$1:$X$11,V$11-$D$11+2,FALSE))","v":""},{"$f":"IF(ISBLANK($C135),\"\",VLOOKUP($C135,RAMP!$C$1:$X$11,W$11-$D$11+2,FALSE))","v":""}]
[null,null,null,{"$f":"IF(ISBLANK($C136),\"\",VLOOKUP($C136,RAMP!$C$1:$X$11,D$11-$D$11+2,FALSE))","v":""},{"$f":"IF(ISBLANK($C136),\"\",VLOOKUP($C136,RAMP!$C$1:$X$11,E$11-$D$11+2,FALSE))","v":""},{"$f":"IF(ISBLANK($C136),\"\",VLOOKUP($C136,RAMP!$C$1:$X$11,F$11-$D$11+2,FALSE))","v":""},{"$f":"IF(ISBLANK($C136),\"\",VLOOKUP($C136,RAMP!$C$1:$X$11,G$11-$D$11+2,FALSE))","v":""},{"$f":"IF(ISBLANK($C136),\"\",VLOOKUP($C136,RAMP!$C$1:$X$11,H$11-$D$11+2,FALSE))","v":""},{"$f":"IF(ISBLANK($C136),\"\",VLOOKUP($C136,RAMP!$C$1:$X$11,I$11-$D$11+2,FALSE))","v":""},{"$f":"IF(ISBLANK($C136),\"\",VLOOKUP($C136,RAMP!$C$1:$X$11,J$11-$D$11+2,FALSE))","v":""},{"$f":"IF(ISBLANK($C136),\"\",VLOOKUP($C136,RAMP!$C$1:$X$11,K$11-$D$11+2,FALSE))","v":""},{"$f":"IF(ISBLANK($C136),\"\",VLOOKUP($C136,RAMP!$C$1:$X$11,L$11-$D$11+2,FALSE))","v":""},{"$f":"IF(ISBLANK($C136),\"\",VLOOKUP($C136,RAMP!$C$1:$X$11,M$11-$D$11+2,FALSE))","v":""},{"$f":"IF(ISBLANK($C136),\"\",VLOOKUP($C136,RAMP!$C$1:$X$11,N$11-$D$11+2,FALSE))","v":""},{"$f":"IF(ISBLANK($C136),\"\",VLOOKUP($C136,RAMP!$C$1:$X$11,O$11-$D$11+2,FALSE))","v":""},{"$f":"IF(ISBLANK($C136),\"\",VLOOKUP($C136,RAMP!$C$1:$X$11,P$11-$D$11+2,FALSE))","v":""},{"$f":"IF(ISBLANK($C136),\"\",VLOOKUP($C136,RAMP!$C$1:$X$11,Q$11-$D$11+2,FALSE))","v":""},{"$f":"IF(ISBLANK($C136),\"\",VLOOKUP($C136,RAMP!$C$1:$X$11,R$11-$D$11+2,FALSE))","v":""},{"$f":"IF(ISBLANK($C136),\"\",VLOOKUP($C136,RAMP!$C$1:$X$11,S$11-$D$11+2,FALSE))","v":""},{"$f":"IF(ISBLANK($C136),\"\",VLOOKUP($C136,RAMP!$C$1:$X$11,T$11-$D$11+2,FALSE))","v":""},{"$f":"IF(ISBLANK($C136),\"\",VLOOKUP($C136,RAMP!$C$1:$X$11,U$11-$D$11+2,FALSE))","v":""},{"$f":"IF(ISBLANK($C136),\"\",VLOOKUP($C136,RAMP!$C$1:$X$11,V$11-$D$11+2,FALSE))","v":""},{"$f":"IF(ISBLANK($C136),\"\",VLOOKUP($C136,RAMP!$C$1:$X$11,W$11-$D$11+2,FALSE))","v":""}]
[null,null,null,{"$f":"IF(ISBLANK($C137),\"\",VLOOKUP($C137,RAMP!$C$1:$X$11,D$11-$D$11+2,FALSE))","v":""},{"$f":"IF(ISBLANK($C137),\"\",VLOOKUP($C137,RAMP!$C$1:$X$11,E$11-$D$11+2,FALSE))","v":""},{"$f":"IF(ISBLANK($C137),\"\",VLOOKUP($C137,RAMP!$C$1:$X$11,F$11-$D$11+2,FALSE))","v":""},{"$f":"IF(ISBLANK($C137),\"\",VLOOKUP($C137,RAMP!$C$1:$X$11,G$11-$D$11+2,FALSE))","v":""},{"$f":"IF(ISBLANK($C137),\"\",VLOOKUP($C137,RAMP!$C$1:$X$11,H$11-$D$11+2,FALSE))","v":""},{"$f":"IF(ISBLANK($C137),\"\",VLOOKUP($C137,RAMP!$C$1:$X$11,I$11-$D$11+2,FALSE))","v":""},{"$f":"IF(ISBLANK($C137),\"\",VLOOKUP($C137,RAMP!$C$1:$X$11,J$11-$D$11+2,FALSE))","v":""},{"$f":"IF(ISBLANK($C137),\"\",VLOOKUP($C137,RAMP!$C$1:$X$11,K$11-$D$11+2,FALSE))","v":""},{"$f":"IF(ISBLANK($C137),\"\",VLOOKUP($C137,RAMP!$C$1:$X$11,L$11-$D$11+2,FALSE))","v":""},{"$f":"IF(ISBLANK($C137),\"\",VLOOKUP($C137,RAMP!$C$1:$X$11,M$11-$D$11+2,FALSE))","v":""},{"$f":"IF(ISBLANK($C137),\"\",VLOOKUP($C137,RAMP!$C$1:$X$11,N$11-$D$11+2,FALSE))","v":""},{"$f":"IF(ISBLANK($C137),\"\",VLOOKUP($C137,RAMP!$C$1:$X$11,O$11-$D$11+2,FALSE))","v":""},{"$f":"IF(ISBLANK($C137),\"\",VLOOKUP($C137,RAMP!$C$1:$X$11,P$11-$D$11+2,FALSE))","v":""},{"$f":"IF(ISBLANK($C137),\"\",VLOOKUP($C137,RAMP!$C$1:$X$11,Q$11-$D$11+2,FALSE))","v":""},{"$f":"IF(ISBLANK($C137),\"\",VLOOKUP($C137,RAMP!$C$1:$X$11,R$11-$D$11+2,FALSE))","v":""},{"$f":"IF(ISBLANK($C137),\"\",VLOOKUP($C137,RAMP!$C$1:$X$11,S$11-$D$11+2,FALSE))","v":""},{"$f":"IF(ISBLANK($C137),\"\",VLOOKUP($C137,RAMP!$C$1:$X$11,T$11-$D$11+2,FALSE))","v":""},{"$f":"IF(ISBLANK($C137),\"\",VLOOKUP($C137,RAMP!$C$1:$X$11,U$11-$D$11+2,FALSE))","v":""},{"$f":"IF(ISBLANK($C137),\"\",VLOOKUP($C137,RAMP!$C$1:$X$11,V$11-$D$11+2,FALSE))","v":""},{"$f":"IF(ISBLANK($C137),\"\",VLOOKUP($C137,RAMP!$C$1:$X$11,W$11-$D$11+2,FALSE))","v":""}]

{"sheet":"RAMP","index":10,"n_rows":40,"n_cols":24,"rows_kept":40,"cut":false,"hidden":false,"merged":[]}
["RAMP","Fraction of Applicable Measure Available by Year","Retro12Med",0.10937459468255628,0.10937459468255628,0.10937459468255628,0.10937459468255628,0.10937459468255628,9.8437135214300656E-2,7.874970817144053E-2,6.2999766537152418E-2,5.0399813229721938E-2,4.0319850583777551E-2,3.225588046702204E-2,2.5804704373617631E-2,2.0643763498894106E-2,1.6515010799115284E-2,1.3212008639292228E-2,1.0569606911433781E-2,7.2092823794611682E-5,2.5747437069512102E-5,8.7775353646568632E-6,2.8622397928446119E-6,{"$f":"SUM(D1:W1)","v":0.99688970187457115}]
[null,null,"Retro5Med",4.2999999999999997E-2,5.279714228027832E-2,6.4608251467478173E-2,7.4999999999999997E-2,8.5546997470333563E-2,0.10001472303820647,0.10971770435235073,0.11208438511970376,0.10562608162722853,9.0794563997872335E-2,7.0260666991849297E-2,4.65E-2,2.7E-2,1.2999999999999999E-2,5.4999999999999997E-3,2E-3,6.2471001963848583E-4,1.3615841889635938E-4,2.2380636622298944E-5,2.68643837586513E-6,1.004236451858834]
[null,null,"Retro1Slow",2.5643970768378654E-3,5.1260615529385989E-3,9.1015544176433795E-3,1.4804925730045659E-2,2.2471809420486211E-2,3.2184432813882391E-2,4.3779667172004086E-2,5.675426075474499E-2,7.0195239068707532E-2,8.2776861842756788E-2,9.2870259507494834E-2,9.8796470678915727E-2,9.9208932889988999E-2,9.3521150494244254E-2,8.2226007896862296E-2,6.8000000000000005E-2,5.1999999999999998E-2,3.5999999999999997E-2,2.3E-2,1.4999999999999999E-2,1.0003820313175538]
["Retrofit Ramp rates are incremental",null,"Retro50Fast",0.45,0.21,0.14000000000000001,0.09,5.9540362609726505E-2,2.9770181304863419E-2,1.3231191691050248E-2,5.2924766764202991E-3,1.9245369732436846E-3,6.415123244144505E-4,1.9738840751215569E-4,5.6396687860615913E-5,1.5039116763038152E-5,3.7597791905374933E-6,8.8465392733549919E-7,1.9658976146974538E-7,4.13873183502389E-8,8.2774636034343985E-9,1.5766598027155965E-9,2.8666535811794347E-10,1.0006739783428409]
["LO Ramp rates are cumulative",null,"Retro20Fast",0.22119921692859512,0.15504311102289431,0.10733128557729499,8.3589689255657879E-2,7.3237179880126971E-2,6.3374636711760357E-2,5.4291838367783084E-2,4.612639225659896E-2,3.8916876277172864E-2,3.2639916313151704E-2,2.7235706125786907E-2,2.1211189258265428E-2,1.6519290804212883E-2,1.2865236614105324E-2,1.0019456349464106E-2,9.1999999999999998E-3,7.1999999999999998E-3,6.1999999999999998E-3,5.1999999999999998E-3,4.1999999999999997E-3,0.9956010217428708]
[null,null,"RetroEven20",0.05,0.05,0.05,0.05,0.05,0.05,0.05,0.05,0.05,0.05,0.05,0.05,0.05,0.05,0.05,0.05,0.05,0.05,0.05,0.05,1.0000000000000002]
[null,null,"Retro3Slow",5.5320496977002724E-3,8.6958686465615706E-3,1.7391737293123145E-2,3.0435540262965514E-2,4.7344173742390784E-2,6.6281843239347063E-2,8.4358709577350838E-2,9.8418494506909315E-2,0.10598914793051767,0.10598914793051767,9.8923204735149928E-2,8.655780414325609E-2,7.1282897529740263E-2,5.5442253634242489E-2,4.0852186888389319E-2,2.8596530821872412E-2,1.9064353881248275E-2,1.2131861560794377E-2,7.3846113848314854E-3,5.0000000000000001E-3,0.99567241740690848]
[null,null,null,null,null,null,null,null,null,null,null,null,null,null,null,null,null,null,null,null,null,null,null,0]
[null,null,"LO12Med",0.10937459468255628,0.21874918936511256,0.32812378404766884,0.43749837873022512,0.5468729734127814,0.64531010862708205,0.7240598167985226,0.78705958333567505,0.83745939656539703,0.87777924714917455,0.91003512761619654,0.93583983198981413,0.9564835954887082,0.97299860628782353,0.9862106149271157,0.99678022183854953,0.99685231466234414,0.99687806209941365,0.99688683963477831,0.99688970187457115]
[null,null,"LO5Med",4.2999999999999997E-2,9.5797142280278316E-2,0.16040539374775648,0.23540539374775649,0.32095239121809005,0.42096711425629652,0.53068481860864725,0.642769203728351,0.74839528535557953,0.83918984935345187,0.90945051634530116,0.9576688767502457,0.9865231113648858,1,1,1,1,1,1,1]
[null,null,"LO1Slow",5.0000000000000001E-3,7.6904586297764643E-3,1.6792013047419844E-2,3.15969387774655E-2,5.406874819795171E-2,8.6253181011834101E-2,0.1300328481838382,0.18678710893858319,0.2569823480072907,0.33975920985004748,0.43262946935754232,0.53142594003645804,0.63063487292644704,0.7241560234206913,0.80638203131755359,0.87331559734491926,0.92334516248836807,0.96,0.98,0.996]
[null,null,"LO50Fast",0.45,0.66,0.8,0.89,0.94954036260972652,0.97931054391458994,0.99254173560564019,0.99783421228206048,0.99975874925530417,1,1,1,1,1,1,1,1,1,1,1]
[null,null,"LO20Fast",0.22119921692859512,0.37624232795148943,0.48357361352878442,0.56716330278444227,0.64040048266456928,0.70377511937632964,0.7580669577441127,0.80419335000071168,0.84311022627788457,0.87575014259103623,0.90298584871682319,0.92419703797508856,0.94071632877930145,0.95358156539340677,0.96360102174287088,0.97140418219378311,0.97748128966338554,0.98399999999999999,0.98899999999999999,0.996]
[null,null,"LOEven20",0.05,0.1,0.15000000000000002,0.2,0.25,0.3,0.35,0.39999999999999997,0.44999999999999996,0.49999999999999994,0.54999999999999993,0.6,0.65,0.70000000000000007,0.75000000000000011,0.80000000000000016,0.8500000000000002,0.90000000000000024,0.95000000000000029,1.0000000000000002]
[null,null,"LO3Slow",5.5320496977002724E-3,1.4227918344261844E-2,3.1619655637384989E-2,6.2055195900350503E-2,0.10939936964274129,0.17568121288208835,0.26003992245943919,0.3584584169663485,0.46444756489686617,0.57043671282738384,0.66935991756253377,0.75591772170578986,0.82720061923553012,0.88264287286977261,0.92349505975816193,0.95209159058003434,0.97115594446128262,0.98328780602207699,0.99067241740690848,0.996]
[null,null,"LO80Fast",0.75591772170578986,0.82720061923553012,0.88264287286977261,0.92349505975816193,0.95209159058003434,0.97115594446128262,0.98328780602207699,0.99067241740690848,0.99498010738139331,1,1,1,1,1,1,1,1,1,1,1]
[]
[]
[]
[]
[]
["See the ACHIEV tab for application of ramp rates to measures"]
[null,"Year",1,{"$f":"C23+1","v":2},{"$f":"D23+1","v":3},4,5,6,7,8,9,10,11,12,13,14,15,16,17,18,19,20,"MAX"]
["Retro","Retro12Med",{"$f":"D1","v":0.10937459468255628},0.10937459468255628,0.10937459468255628,0.10937459468255628,0.10937459468255628,9.8437135214300656E-2,7.874970817144053E-2,6.2999766537152418E-2,5.0399813229721938E-2,4.0319850583777551E-2,3.225588046702204E-2,2.5804704373617631E-2,2.0643763498894106E-2,1.6515010799115284E-2,1.3212008639292228E-2,1.0569606911433781E-2,7.2092823794611682E-5,2.5747437069512102E-5,8.7775353646568632E-6,2.8622397928446119E-6,{"$f":"IF(A24=\"Retro\",SUM(C24:V24),V24)","v":0.99688970187457115}]
["Retro","Retro5Med",{"$f":"D2","v":4.2999999999999997E-2},5.279714228027832E-2,6.4608251467478173E-2,7.4999999999999997E-2,8.5546997470333563E-2,0.10001472303820647,0.10971770435235073,0.11208438511970376,0.10562608162722853,9.0794563997872335E-2,7.0260666991849297E-2,4.65E-2,2.7E-2,1.2999999999999999E-2,5.4999999999999997E-3,2E-3,6.2471001963848583E-4,1.3615841889635938E-4,2.2380636622298944E-5,2.68643837586513E-6,{"$f":"IF(A25=\"Retro\",SUM(C25:V25),V25)","v":1.004236451858834}]
["Retro","Retro1Slow",{"$f":"D3","v":2.5643970768378654E-3},5.1260615529385989E-3,9.1015544176433795E-3,1.4804925730045659E-2,2.2471809420486211E-2,3.2184432813882391E-2,4.3779667172004086E-2,5.675426075474499E-2,7.0195239068707532E-2,8.2776861842756788E-2,9.2870259507494834E-2,9.8796470678915727E-2,9.9208932889988999E-2,9.3521150494244254E-2,8.2226007896862296E-2,6.8000000000000005E-2,5.1999999999999998E-2,3.5999999999999997E-2,2.3E-2,1.4999999999999999E-2,1.0003820313175538]
["Retro","Retro50Fast",{"$f":"D4","v":0.45},0.21,0.14000000000000001,0.09,5.9540362609726505E-2,2.9770181304863419E-2,1.3231191691050248E-2,5.2924766764202991E-3,1.9245369732436846E-3,6.415123244144505E-4,1.9738840751215569E-4,5.6396687860615913E-5,1.5039116763038152E-5,3.7597791905374933E-6,8.8465392733549919E-7,1.9658976146974538E-7,4.13873183502389E-8,8.2774636034343985E-9,1.5766598027155965E-9,2.8666535811794347E-10,1.0006739783428409]
["Retro","Retro20Fast",{"$f":"D5","v":0.22119921692859512},0.15504311102289431,0.10733128557729499,8.3589689255657879E-2,7.3237179880126971E-2,6.3374636711760357E-2,5.4291838367783084E-2,4.612639225659896E-2,3.8916876277172864E-2,3.2639916313151704E-2,2.7235706125786907E-2,2.1211189258265428E-2,1.6519290804212883E-2,1.2865236614105324E-2,1.0019456349464106E-2,9.1999999999999998E-3,7.1999999999999998E-3,6.1999999999999998E-3,5.1999999999999998E-3,4.1999999999999997E-3,0.9956010217428708]
["Retro","RetroEven20",{"$f":"D6","v":0.05},0.05,0.05,0.05,0.05,0.05,0.05,0.05,0.05,0.05,0.05,0.05,0.05,0.05,0.05,0.05,0.05,0.05,0.05,0.05,1.0000000000000002]
["Retro","RetroMax60",{"$f":"D7","v":5.5320496977002724E-3},8.6958686465615706E-3,1.7391737293123145E-2,3.0435540262965514E-2,4.7344173742390784E-2,6.6281843239347063E-2,8.4358709577350838E-2,9.8418494506909315E-2,0.10598914793051767,0.10598914793051767,9.8923204735149928E-2,8.655780414325609E-2,7.1282897529740263E-2,5.5442253634242489E-2,4.0852186888389319E-2,2.8596530821872412E-2,1.9064353881248275E-2,1.2131861560794377E-2,7.3846113848314854E-3,5.0000000000000001E-3,0.99567241740690848]
["Retro","Retro3Slow",{"$f":"D8","v":0},0,0,0,0,0,0,0,0,0,0,0,0,0,0,0,0,0,0,0,0]
["LO","LO12Med",{"$f":"D9","v":0.10937459468255628},0.21874918936511256,0.32812378404766884,0.43749837873022512,0.5468729734127814,0.64531010862708205,0.7240598167985226,0.78705958333567505,0.83745939656539703,0.87777924714917455,0.91003512761619654,0.93583983198981413,0.9564835954887082,0.97299860628782353,0.9862106149271157,0.99678022183854953,0.99685231466234414,0.99687806209941365,0.99688683963477831,0.99688970187457115,0.99688970187457115]
["LO","LO5Med",{"$f":"D10","v":4.2999999999999997E-2},9.5797142280278316E-2,0.16040539374775648,0.23540539374775649,0.32095239121809005,0.42096711425629652,0.53068481860864725,0.642769203728351,0.74839528535557953,0.83918984935345187,0.90945051634530116,0.9576688767502457,0.9865231113648858,1,1,1,1,1,1,1,1]
["LO","LO1Slow",{"$f":"D11","v":5.0000000000000001E-3},7.6904586297764643E-3,1.6792013047419844E-2,3.15969387774655E-2,5.406874819795171E-2,8.6253181011834101E-2,0.1300328481838382,0.18678710893858319,0.2569823480072907,0.33975920985004748,0.43262946935754232,0.53142594003645804,0.63063487292644704,0.7241560234206913,0.80638203131755359,0.87331559734491926,0.92334516248836807,0.96,0.98,0.996,0.996]
["LO","LO50Fast",{"$f":"D12","v":0.45},0.66,0.8,0.89,0.94954036260972652,0.97931054391458994,0.99254173560564019,0.99783421228206048,0.99975874925530417,1,1,1,1,1,1,1,1,1,1,1,1]
["LO","LO20Fast",{"$f":"D13","v":0.22119921692859512},0.37624232795148943,0.48357361352878442,0.56716330278444227,0.64040048266456928,0.70377511937632964,0.7580669577441127,0.80419335000071168,0.84311022627788457,0.87575014259103623,0.90298584871682319,0.92419703797508856,0.94071632877930145,0.95358156539340677,0.96360102174287088,0.97140418219378311,0.97748128966338554,0.98399999999999999,0.98899999999999999,0.996,0.996]
["LO","LOEven20",{"$f":"D14","v":0.05},0.1,0.15000000000000002,0.2,0.25,0.3,0.35,0.39999999999999997,0.44999999999999996,0.49999999999999994,0.54999999999999993,0.6,0.65,0.70000000000000007,0.75000000000000011,0.80000000000000016,0.8500000000000002,0.90000000000000024,0.95000000000000029,1.0000000000000002,1.0000000000000002]
["LO","LOMax60",{"$f":"D15","v":5.5320496977002724E-3},1.4227918344261844E-2,3.1619655637384989E-2,6.2055195900350503E-2,0.10939936964274129,0.17568121288208835,0.26003992245943919,0.3584584169663485,0.46444756489686617,0.57043671282738384,0.66935991756253377,0.75591772170578986,0.82720061923553012,0.88264287286977261,0.92349505975816193,0.95209159058003434,0.97115594446128262,0.98328780602207699,0.99067241740690848,0.996,0.996]
["LO","LO3Slow",{"$f":"D16","v":0.75591772170578986},0.82720061923553012,0.88264287286977261,0.92349505975816193,0.95209159058003434,0.97115594446128262,0.98328780602207699,0.99067241740690848,0.99498010738139331,1,1,1,1,1,1,1,1,1,1,1,1]
["LO","LO80Fast",{"$f":"D17","v":0},0,0,0,0,0,0,0,0,0,0,0,0,0,0,0,0,0,0,0,0]

{"sheet":"CHAR","index":11,"n_rows":175,"n_cols":33,"rows_kept":175,"cut":false,"hidden":false,"merged":[[63,29,64,29],[60,25,60,26],[63,25,64,25],[63,26,64,26],[63,27,64,27],[63,28,64,28],[76,16,76,17],[70,16,70,17],[72,16,72,17],[74,16,74,17],[61,16,61,17],[62,16,62,17],[70,2,70,4],[70,5,70,8],[70,9,70,10],[70,12,70,13],[76,2,76,4],[76,5,76,8],[76,9,76,10],[76,12,76,13],[74,2,74,4],[74,5,74,8],[74,9,74,10],[74,12,74,13],[72,2,72,4],[72,5,72,8],[72,9,72,10],[72,12,72,13],[62,2,62,4],[62,5,62,8],[62,9,62,10],[62,12,62,13],[61,2,61,4],[61,5,61,8],[61,9,61,10],[61,12,61,13],[26,2,26,4],[24,12,24,13],[14,9,14,10],[14,12,14,13],[24,2,24,4],[22,2,22,4],[24,5,24,8],[13,2,13,4],[13,12,13,13],[12,2,12,4],[12,12,12,13],[13,5,13,8],[12,5,12,8],[26,16,26,17],[12,16,12,17],[24,16,24,17],[14,16,14,17],[13,9,13,10],[12,9,12,10],[28,2,28,4],[28,5,28,8],[28,9,28,10],[13,16,13,17],[22,5,22,8],[22,9,22,10],[28,16,28,17],[22,12,22,13],[26,5,26,8],[26,9,26,10],[22,16,22,17],[24,9,24,10],[28,12,28,13],[26,12,26,13],[14,2,14,4],[14,5,14,8]]}
[]
["Two vintages:  V_New, V_Existing  (formerly Pre2013 and Post 2013)"]
[]
[]
[]
[]
["Stock characteristics by activity type and building type"]
["Enter New Characteristics on the \"VARS\" tab."]
[]
[null,"V_NEW"]
[]
["V_New"]
["V_New","FORECAST"]
["ACTIVITY TYPE","POST2013","Office",null,null,"Retail",null,null,null,"School",null,"Warehouse","Grocery",null,"Restaurant","Lodging","Health",null,"Assembly","Other",null,null,null,null,null,"From Draft 2021P November 11, 2019"]
[{"$f":"A13","v":"V_New"},"FloorA%ACT",{"$f":"VLOOKUP(C14,'CBSA Data 2014 New cohort'!$A$10:$B$21,2,FALSE)","v":0.23374291413554329},null,null,{"$f":"'CBSA Data 2014 New cohort'!B18","v":0.16379453573805774},null,null,null,{"$f":"'CBSA Data 2014 New cohort'!B19","v":8.8639553331737689E-2},null,{"$f":"'CBSA Data 2014 New cohort'!B21","v":9.6266945662747766E-2},{"$f":"'CBSA Data 2014 New cohort'!B11","v":2.0434554153352484E-2},null,{"$f":"'CBSA Data 2014 New cohort'!B17","v":1.255060122823257E-2},{"$f":"'CBSA Data 2014 New cohort'!B13","v":5.5794347273117245E-2},{"$f":"'CBSA Data 2014 New cohort'!B23","v":7.398534349162611E-2},null,{"$f":"'CBSA Data 2014 New cohort'!B10","v":0.12949316922883081},{"$f":"'CBSA Data 2014 New cohort'!B15","v":0.12270755891365608},null,null,null,null,null,"Share of stock by Btype Over 20-Year Forecast Period"]
["BLDGTYPE","POST2013","Large Off","Medium Off","Small Off","Xlarge Ret","Large Ret","Medium Ret","Small Ret","School K-12","University","Warehouse","Supermarket","MiniMart","Restaurant","Lodging","Hospital","Residential Care","Assembly","Other",null,null,null,null,null,"Btype","SUM New SF","Percent New","Sum Stock 2040","Percent Exist","Total","Percent Total"]
[null,"FloorA%TYP",{"$f":"C18/SUM($C$18:$E$18)","v":0.49866959584926535},{"$f":"D18/SUM($C$18:$E$18)","v":0.39718221068745735},{"$f":"E18/SUM($C$18:$E$18)","v":0.10414819346327718},{"$f":"F18/SUM($F$18:$I$18)","v":0.29289307726683705},{"$f":"G18/SUM($F$18:$I$18)","v":0.11841655089096392},{"$f":"H18/SUM($F$18:$I$18)","v":0.44641650372562419},{"$f":"I18/SUM($F$18:$I$18)","v":0.14227386811657483},{"$f":"J18/($K$18+$J$18)","v":0.57713621417209338},{"$f":"K18/($K$18+$J$18)","v":0.42286378582790662},1,{"$f":"M18/($N$18+$M$18)","v":0.70709281007596048},{"$f":"N18/($N$18+$M$18)","v":0.29290718992403958},1,1,1,1,1,1,null,null,null,null,null,"Large Off",104.89271949814623,0.15261075363619214,358.99838243219671,0.11551746847244382,{"$f":"SUM(AA17,AC17)","v":463.89110193034293},{"$f":"AE17/$AE$36","v":0.12223541455717171}]
[null,"FloorA%REG",{"$f":"VLOOKUP(C16,$Z$17:$AB$34,3,FALSE)","v":0.15261075363619214},{"$f":"VLOOKUP(D16,$Z$17:$AB$34,3,FALSE)","v":0.12155197952398086},3.1873076735729138E-2,2.7093223866576834E-2,1.0953779286063153E-2,4.1294462764491953E-2,1.3160631160068171E-2,3.533265353502487E-2,2.5887995364489866E-2,9.1847866620061974E-2,5.8587631754657334E-3,2.4269428761010299E-3,1.2248774935940078E-2,2.5805854439286822E-2,3.7489958792480564E-2,5.2183843380759376E-2,0.10159697295517536,0.21078246695211211,null,null,null,null,null,"Medium Off",83.545342571649911,0.12155197952398086,180.15348285856339,5.7969270321839267E-2,263.69882543021333,{"$f":"AE18/$AE$36","v":6.948470257474669E-2}]
[null,"ElecHt%TYP",{"$f":"VLOOKUP(C$16,'CBSA Data 2014 New cohort'!$O$103:$R$120,3,FALSE)","v":9.379008321141083E-2},{"$f":"VLOOKUP(D$16,'CBSA Data 2014 New cohort'!$O$103:$R$120,3,FALSE)","v":5.7141018201974592E-2},{"$f":"VLOOKUP(E$16,'CBSA Data 2014 New cohort'!$O$103:$R$120,3,FALSE)","v":6.3540893141458221E-2},{"$f":"VLOOKUP(F$16,'CBSA Data 2014 New cohort'!$O$103:$R$120,3,FALSE)","v":0.52114684573848291},{"$f":"VLOOKUP(G$16,'CBSA Data 2014 New cohort'!$O$103:$R$120,3,FALSE)","v":0.64094486042254439},{"$f":"VLOOKUP(H$16,'CBSA Data 2014 New cohort'!$O$103:$R$120,3,FALSE)","v":0.56159710090996928},{"$f":"VLOOKUP(I$16,'CBSA Data 2014 New cohort'!$O$103:$R$120,3,FALSE)","v":0.19952525247533903},{"$f":"VLOOKUP(J$16,'CBSA Data 2014 New cohort'!$O$103:$R$120,3,FALSE)","v":0.22286467137317267},{"$f":"VLOOKUP(K$16,'CBSA Data 2014 New cohort'!$O$103:$R$120,3,FALSE)","v":0.15885643507420852},{"$f":"VLOOKUP(L$16,'CBSA Data 2014 New cohort'!$O$103:$R$120,3,FALSE)","v":0.52114684573848291},{"$f":"VLOOKUP(M$16,'CBSA Data 2014 New cohort'!$O$103:$R$120,3,FALSE)","v":1.5377816133020691E-2},{"$f":"VLOOKUP(N$16,'CBSA Data 2014 New cohort'!$O$103:$R$120,3,FALSE)","v":0},{"$f":"VLOOKUP(O$16,'CBSA Data 2014 New cohort'!$O$103:$R$120,3,FALSE)","v":5.5212362541074519E-2},{"$f":"VLOOKUP(P$16,'CBSA Data 2014 New cohort'!$O$103:$R$120,3,FALSE)","v":0.34342063041492848},{"$f":"VLOOKUP(Q$16,'CBSA Data 2014 New cohort'!$O$103:$R$120,3,FALSE)","v":0.10311447532768504},{"$f":"VLOOKUP(R$16,'CBSA Data 2014 New cohort'!$O$103:$R$120,3,FALSE)","v":5.6083613809662864E-3},{"$f":"VLOOKUP(S$16,'CBSA Data 2014 New cohort'!$O$103:$R$120,3,FALSE)","v":5.6083613809662864E-3},{"$f":"VLOOKUP(T$16,'CBSA Data 2014 New cohort'!$O$103:$R$120,3,FALSE)","v":0.24031041917780901},null,null,null,null,null,"Small Off",21.907064986741954,3.1873076735729138E-2,173.87670582963304,5.5949547036080551E-2,195.78377081637498,5.1589069697007113E-2]
[null,"GasHt%TYP",{"$f":"VLOOKUP(C$16,'CBSA Data 2014 New cohort'!$O$103:$R$120,2,FALSE)","v":0.80872784176745371},{"$f":"VLOOKUP(D$16,'CBSA Data 2014 New cohort'!$O$103:$R$120,2,FALSE)","v":0.93108561158422598},{"$f":"VLOOKUP(E$16,'CBSA Data 2014 New cohort'!$O$103:$R$120,2,FALSE)","v":0.65879042006554966},{"$f":"VLOOKUP(F$16,'CBSA Data 2014 New cohort'!$O$103:$R$120,2,FALSE)","v":0.30364464955032466},{"$f":"VLOOKUP(G$16,'CBSA Data 2014 New cohort'!$O$103:$R$120,2,FALSE)","v":0.20980203614718312},{"$f":"VLOOKUP(H$16,'CBSA Data 2014 New cohort'!$O$103:$R$120,2,FALSE)","v":0.42422729730852854},{"$f":"VLOOKUP(I$16,'CBSA Data 2014 New cohort'!$O$103:$R$120,2,FALSE)","v":0.44747439425166918},{"$f":"VLOOKUP(J$16,'CBSA Data 2014 New cohort'!$O$103:$R$120,2,FALSE)","v":0.53090550528653346},{"$f":"VLOOKUP(K$16,'CBSA Data 2014 New cohort'!$O$103:$R$120,2,FALSE)","v":0.73038501205930684},{"$f":"VLOOKUP(L$16,'CBSA Data 2014 New cohort'!$O$103:$R$120,2,FALSE)","v":0.30364464955032466},{"$f":"VLOOKUP(M$16,'CBSA Data 2014 New cohort'!$O$103:$R$120,2,FALSE)","v":0.88455863187555051},{"$f":"VLOOKUP(N$16,'CBSA Data 2014 New cohort'!$O$103:$R$120,2,FALSE)","v":0.99620809267302346},{"$f":"VLOOKUP(O$16,'CBSA Data 2014 New cohort'!$O$103:$R$120,2,FALSE)","v":0.88366906107173016},{"$f":"VLOOKUP(P$16,'CBSA Data 2014 New cohort'!$O$103:$R$120,2,FALSE)","v":0.53617368361870132},{"$f":"VLOOKUP(Q$16,'CBSA Data 2014 New cohort'!$O$103:$R$120,2,FALSE)","v":0.74192623135844471},{"$f":"VLOOKUP(R$16,'CBSA Data 2014 New cohort'!$O$103:$R$120,2,FALSE)","v":0.98575716289794368},{"$f":"VLOOKUP(S$16,'CBSA Data 2014 New cohort'!$O$103:$R$120,2,FALSE)","v":0.98575716289794368},{"$f":"VLOOKUP(T$16,'CBSA Data 2014 New cohort'!$O$103:$R$120,2,FALSE)","v":0.6783643954380898},null,null,null,null,null,"XLarge Ret",18.621767232157637,2.7093223866576834E-2,126.37076114097715,4.0663220589019382E-2,144.9925283731348,3.8205565357112413E-2]
[null,"HtPmpHt%TYP",{"$f":"VLOOKUP(C$16,'CBSA Data 2014 New cohort'!$O$103:$R$120,4,FALSE)","v":9.7482075021135345E-2},{"$f":"VLOOKUP(D$16,'CBSA Data 2014 New cohort'!$O$103:$R$120,4,FALSE)","v":1.1773370213799438E-2},{"$f":"VLOOKUP(E$16,'CBSA Data 2014 New cohort'!$O$103:$R$120,4,FALSE)","v":0.27766868679299217},{"$f":"VLOOKUP(F$16,'CBSA Data 2014 New cohort'!$O$103:$R$120,4,FALSE)","v":0.17520850471119245},{"$f":"VLOOKUP(G$16,'CBSA Data 2014 New cohort'!$O$103:$R$120,4,FALSE)","v":0.14925310343027248},{"$f":"VLOOKUP(H$16,'CBSA Data 2014 New cohort'!$O$103:$R$120,4,FALSE)","v":1.4175601781502387E-2},{"$f":"VLOOKUP(I$16,'CBSA Data 2014 New cohort'!$O$103:$R$120,4,FALSE)","v":0.35300035327299167},{"$f":"VLOOKUP(J$16,'CBSA Data 2014 New cohort'!$O$103:$R$120,4,FALSE)","v":0.24622982334029381},{"$f":"VLOOKUP(K$16,'CBSA Data 2014 New cohort'!$O$103:$R$120,4,FALSE)","v":0.1107585528664846},{"$f":"VLOOKUP(L$16,'CBSA Data 2014 New cohort'!$O$103:$R$120,4,FALSE)","v":0.17520850471119245},{"$f":"VLOOKUP(M$16,'CBSA Data 2014 New cohort'!$O$103:$R$120,4,FALSE)","v":0.1000635519914288},{"$f":"VLOOKUP(N$16,'CBSA Data 2014 New cohort'!$O$103:$R$120,4,FALSE)","v":3.7919073269764856E-3},{"$f":"VLOOKUP(O$16,'CBSA Data 2014 New cohort'!$O$103:$R$120,4,FALSE)","v":6.1118576387195395E-2},{"$f":"VLOOKUP(P$16,'CBSA Data 2014 New cohort'!$O$103:$R$120,4,FALSE)","v":0.12040568596637012},{"$f":"VLOOKUP(Q$16,'CBSA Data 2014 New cohort'!$O$103:$R$120,4,FALSE)","v":0.15495929331387026},{"$f":"VLOOKUP(R$16,'CBSA Data 2014 New cohort'!$O$103:$R$120,4,FALSE)","v":8.6344757210899958E-3},{"$f":"VLOOKUP(S$16,'CBSA Data 2014 New cohort'!$O$103:$R$120,4,FALSE)","v":8.6344757210899958E-3},{"$f":"VLOOKUP(T$16,'CBSA Data 2014 New cohort'!$O$103:$R$120,4,FALSE)","v":8.1325185384101065E-2},null,null,null,null,null,"Large Ret",7.528772846746131,1.0953779286063153E-2,193.49882985040355,6.2263497749660286E-2,201.02760269714969,5.2970820631973004E-2]
[null,"CoolSat%TYP",{"$f":"VLOOKUP(C$16,'CBSA Data 2014 New cohort'!$I$30:$L$47,4,FALSE)","v":0.95128694884061893},{"$f":"VLOOKUP(D$16,'CBSA Data 2014 New cohort'!$I$30:$L$47,4,FALSE)","v":0.97665874571205136},{"$f":"VLOOKUP(E$16,'CBSA Data 2014 New cohort'!$I$30:$L$47,4,FALSE)","v":0.91122609210258287},{"$f":"VLOOKUP(F$16,'CBSA Data 2014 New cohort'!$I$30:$L$47,4,FALSE)","v":0.98608503921852686},{"$f":"VLOOKUP(G$16,'CBSA Data 2014 New cohort'!$I$30:$L$47,4,FALSE)","v":0.77181511362305244},{"$f":"VLOOKUP(H$16,'CBSA Data 2014 New cohort'!$I$30:$L$47,4,FALSE)","v":0.90527535536267667},{"$f":"VLOOKUP(I$16,'CBSA Data 2014 New cohort'!$I$30:$L$47,4,FALSE)","v":0.53668215741883951},{"$f":"VLOOKUP(J$16,'CBSA Data 2014 New cohort'!$I$30:$L$47,4,FALSE)","v":0.96128535178408803},0.75,{"$f":"VLOOKUP(L$16,'CBSA Data 2014 New cohort'!$I$30:$L$47,4,FALSE)","v":0.18162271351024481},{"$f":"VLOOKUP(M$16,'CBSA Data 2014 New cohort'!$I$30:$L$47,4,FALSE)","v":0.92147944946531313},{"$f":"VLOOKUP(N$16,'CBSA Data 2014 New cohort'!$I$30:$L$47,4,FALSE)","v":0.83868998628257874},{"$f":"VLOOKUP(O$16,'CBSA Data 2014 New cohort'!$I$30:$L$47,4,FALSE)","v":0.99999997512427186},{"$f":"VLOOKUP(P$16,'CBSA Data 2014 New cohort'!$I$30:$L$47,4,FALSE)","v":0.94438859080377269},0.95,{"$f":"VLOOKUP(R$16,'CBSA Data 2014 New cohort'!$I$30:$L$47,4,FALSE)","v":0.8423386600487599},{"$f":"VLOOKUP(S$16,'CBSA Data 2014 New cohort'!$I$30:$L$47,4,FALSE)","v":0.91177234717447209},{"$f":"VLOOKUP(T$16,'CBSA Data 2014 New cohort'!$I$30:$L$47,4,FALSE)","v":0.87717751610580841},null,null,null,null,null,"Medium Ret",28.382590324586879,4.1294462764491953E-2,86.808713720744876,2.7933058590489612E-2,115.19130404533175,3.035293573162055E-2]
[null,"CoolSat%ACT",{"$f":"SUMPRODUCT(C17:E17,C22:E22)","v":0.95719190935326981},null,null,{"$f":"SUMPRODUCT(F17:I17,F22:I22)","v":0.86069887079936824},null,null,null,{"$f":"SUMPRODUCT(J17:K17,J22:K22)","v":0.87194042803868754},null,{"$f":"L22","v":0.18162271351024481},{"$f":"SUMPRODUCT(M17:N17,M22:N22)","v":0.89722982044913868},null,{"$f":"O22","v":0.99999997512427186},{"$f":"P22","v":0.94438859080377269},{"$f":"AVERAGE(Q22:R22)","v":0.89616933002437993},null,{"$f":"S22","v":0.91177234717447209},{"$f":"T22","v":0.87717751610580841},null,null,null,null,null,"Small Ret",9.0455905616091155,1.3160631160068171E-2,100.77304173701359,3.2426459954666656E-2,109.8186322986227,2.8937235461652454E-2]
[null,"PackRT%TYP",0.15,0.75,0.95,0.95,0.9,0.9,0.3,0.3,0.5,0.35,0.9,0.9,0.95,0.5,0.1,0.6,0.5,0.5,null,null,null,null,null,"School K-12",24.284908029545473,3.533265353502487E-2,223.01182864923393,7.1760105743193692E-2,247.29673667877941,6.5162748327743047E-2]
[null,"PackRT%ACT",0.50026702886083674,null,null,0.78455381811533043,null,null,null,0.36953195539995587,null,0.35,0.90000000000000013,null,0.95,0.5,0.45832204515370584,null,0.5,0.5,null,null,null,null,null,"University",17.793387238032516,2.5887995364489866E-2,112.98076132398991,3.6354624903363365E-2,130.77414856202242,3.44590189299218E-2]
[null,"BuiltUp%TYP",{"$f":"C74","v":0.63007020528877222},{"$f":"D74","v":9.3963931374592982E-2},{"$f":"E74","v":2.9006395725036469E-2},{"$f":"F74","v":3.9164397027771525E-2},0.25776672816535129,2.7574670878248778E-2,0.10146503328904084,0.29515325476216947,0.77756785592800526,0.13082984106717208,7.1447125331852143E-2,0,2.3525905182962954E-2,7.934694377848886E-2,0.85339696790936803,7.6228114216259218E-2,0.16854152512418574,0.20051702037858005,"Use for Com-EM",null,null,null,null,"Warehouse",63.129054017046236,9.1847866620061974E-2,418.18350302037135,0.13456188659840437,481.3125570374176,0.12682597207884239]
[null,"BuiltUp%ACT",{"$f":"C75","v":0.34804446919191578},null,null,{"$f":"F75","v":0.1329101935644327},null,null,null,{"$f":"J75","v":0.45736983494885941},null,{"$f":"L75","v":0.13082984106717208},{"$f":"M75","v":4.9125235155837547E-2},null,{"$f":"O75","v":2.3525905182962954E-2},{"$f":"P75","v":7.934694377848886E-2},{"$f":"Q75","v":0.92962508212562722},null,{"$f":"S75","v":0.16854152512418574},{"$f":"T75","v":0.20051702037858005},null,null,null,null,null,"Supermarket",4.026856481131059,5.8587631754657334E-3,45.242129098665572,1.4557882368086729E-2,49.268985579796635,1.298238929804278E-2]
[null,"VAV%TYP",{"$f":"C76","v":0.51262713316969566},{"$f":"D76","v":4.1499660445302379E-2},0,2.6890823009043455E-2,0,0,0,0.10981313781515661,0.33,0,0,0,0,3.1992300477329191E-2,0.33,2.5191285207445461E-2,0.15375982167586399,0.18076091596327465,null,null,null,null,null,"MiniMart",1.6680910897521302,2.4269428761010299E-3,20.557455529034385,6.6149190000804768E-3,22.225546618786517,5.856436765874975E-3]
[null,"VAV%ACT",0.34868166674859297,null,null,2.3808219851502894E-3,null,null,null,0.30214896654996692,null,0,0,null,0,0,0.42833559096925883,null,0.1,0.3,null,null,null,null,null,"Restaurant",8.4188517711820694,1.2248774935940078E-2,47.119009855464505,1.5161819667695611E-2,55.537861626646574,1.4634239612061714E-2]
[null,"LSYieldElecHt&AC",0.92464156437246825,0.92743246202832574,0.70313295749949067,0.85735615745151994,0.70892672045214944,0.71863304264352112,0.75976868046444901,0.61612853517840882,0.6725000000000001,0.61,0.85371835595722523,0.72741659807956105,0.42999999950248563,0.69443885908037739,0.28950000000000004,0.68423386600487623,0.92029495818919216,0.91648952677163908,null,null,null,null,null,"Lodging",17.736929977837203,2.5805854439286822E-2,162.55830471128357,5.2307544430137479E-2,180.29523468912078,4.7507836781522268E-2]
[null,"LSYieldHtPmpHt&AC",1.02,1.02,0.95500000000000007,1.0249999999999999,0.96499999999999986,0.92500000000000004,0.97499999999999987,0.8600000000000001,0.95500000000000007,0.80499999999999994,0.9700000000000002,0.94500000000000006,0.72500000000000009,0.90000000000000013,0.64999999999999991,0.90000000000000013,1.02,1.02,null,null,null,null,null,"Hospital",25.767671267722104,3.7489958792480564E-2,100.91707242483197,3.2472805735743446E-2,126.68474369255408,3.3381459784183672E-2]
[null,"LSYieldGasHt&AC",1.0878415643724679,1.0906324620283256,1.1292662908328239,1.15655615745152,1.0987933871188158,1.0722330426435214,1.0408353471311158,1.051328535178409,1.0986333333333334,0.96360000000000001,1.0531850226238919,1.0810165980795612,0.96493333283581861,1.0571055257470443,0.94230000000000003,1.0469005326715428,1.0834949581891919,1.0796895267716389,null,null,null,null,null,"Residential Care",35.867100552572602,5.2183843380759376E-2,123.00239446764408,3.9579357234666046E-2,158.86949502021668,4.1862149335213386E-2]
[null,"LSYieldElecHt",0.82000000000000006,0.82000000000000006,0.53,0.66999999999999993,0.57000000000000006,0.61,0.69,0.52,0.53,0.61,0.78,0.61,0.41000000000000003,0.6,0.28000000000000003,0.6,0.82000000000000006,0.82000000000000006,null,null,null,null,null,"Assembly",69.829828712153528,0.10159697295517536,345.11947321108494,0.11105155292285358,414.94930192323847,0.10933923873455179]
[null,"LSYieldGasHt",0.98319999999999996,0.98319999999999996,0.95613333333333328,0.96919999999999995,0.95986666666666665,0.96360000000000001,0.97106666666666663,0.95520000000000005,0.95613333333333328,0.96360000000000001,0.97946666666666671,0.96360000000000001,0.94493333333333329,0.96266666666666667,0.93279999999999996,0.96266666666666667,0.98319999999999996,0.98319999999999996,null,null,null,null,null,"Other",144.87541444059696,0.21078246695211211,288.5692318942539,9.2854978681575745E-2,433.44464633485086,0.11421276634075835]
[null,"LSYieldThermsGasHt",-8.1887999999999996E-3,-8.1887999999999996E-3,-2.1381866666666666E-2,-1.50128E-2,-1.9562133333333332E-2,-1.7742399999999998E-2,-1.4102933333333333E-2,-2.18368E-2,-2.1381866666666666E-2,-1.7742399999999998E-2,-1.0008533333333333E-2,-1.7742399999999998E-2,-2.6841066666666667E-2,-1.8197333333333333E-2,-3.2755199999999998E-2,-1.8197333333333333E-2,-8.1887999999999996E-3,-8.1887999999999996E-3]
[null,"LSYieldThermsGasHt&AC",-8.1887999999999996E-3,-8.1887999999999996E-3,-2.1381866666666666E-2,-1.50128E-2,-1.9562133333333332E-2,-1.7742399999999998E-2,-1.4102933333333333E-2,-2.18368E-2,-2.1381866666666666E-2,-1.7742399999999998E-2,-1.0008533333333333E-2,-1.7742399999999998E-2,-2.6841066666666667E-2,-1.8197333333333333E-2,-3.2755199999999998E-2,-1.8197333333333333E-2,-8.1887999999999996E-3,-8.1887999999999996E-3,null,null,null,null,null,"Sum",{"$f":"SUM(AA17:AA34)","v":687.32194159920971},{"$f":"SUM(AB17:AB34)","v":1},3107.74108175539,1,{"$f":"SUM(AA36,AC36)","v":3795.0630233545999},1]
[null,"LPDAdjust",1,1,1,1,1,1,1,1,1,1,1,1,1,1,1,1,1,1]
[null,"Chiller%TYP",0.54291936257100859,7.7841156089397331E-2,0,8.4239447925796157E-2,0,0,0,0.3170832591400497,0.28000000000000003,0,1.0956183549665436E-2,0,0,0.13538202083529755,0.75549005218936593,4.7688951506974608E-2,0.14865054018671461,0.16688189809397416]
[null,"HOURSLght",{"$f":"C87","v":3300},{"$f":"D87","v":3300},2600,6000,4400,3900,2500,2500,2100,2600,6800,7200,4900,3500,4200,5700,2700,3800]
[null,"UnCondArea%TYP",0.12,7.0000000000000007E-2,0.05,0.03,0.13,0.1,0.12,0.01,0.1,0.31,0.04,0.04,0.13,0.05,0.12,0.03,0.15,0.15]
[null,"RTEcono%TYP",1,1,0.77500000000000002,1,0.77500000000000002,0.95,0.82499999999999996,1,1,0.72500000000000009,0.85,0.85,0.85,0.85,1,0.85,0.6,0.6]
[null,"FloorA%PRE2002",0,0,0,0,0,0,0,0,0,0,0,0,0,0,0,0,0,0]
[null,"FloorA%PRE2006",0,0,0,0,0,0,0,0,0,0,0,0,0,0,0,0,0,0]
[null,"ElecHtComplex%TYP",0.61680000000000001,0.61680000000000001,0.61680000000000001,0.84279999999999999,3.7900000000000003E-2,3.7900000000000003E-2,3.7900000000000003E-2,6.0999999999999995E-3,0.1794,0.37840000000000001,5.3399999999999996E-2,5.3399999999999996E-2,5.3399999999999996E-2,7.7000000000000002E-3,8.1099999999999992E-2,0.35409999999999997,0.05,0.31140000000000001]
[null,"GasHtComplex%TYP",0.25319999999999998,0.25319999999999998,0.25319999999999998,0.15720000000000001,0.31929999999999997,0.31929999999999997,0.31929999999999997,0.83329999999999993,0.82069999999999999,0.62159999999999993,0.9466,0.9466,0.9466,0.56859999999999999,0.91890000000000005,0.57330000000000003,0.55000000000000004,0.67430000000000001]
[null,"HtPmpHtComplex%TYP",0.13009999999999999,0.13009999999999999,0.13009999999999999,0,0.64280000000000004,0.64280000000000004,0.64280000000000004,0.1605,0,0,0,0,0,0.42380000000000001,0,7.2700000000000001E-2,0.4,1.4199999999999999E-2]
[null,"ElecHtSimple%TYP",0.05,0.05,0.05,2.53E-2,2.4700000000000003E-2,2.4700000000000003E-2,2.4700000000000003E-2,2.41E-2,0.18960000000000002,0.1013,1.03E-2,1.03E-2,1.03E-2,0.37490000000000001,0.18149999999999999,5.6999999999999993E-3,0.1,8.3400000000000002E-2]
[null,"GasHtSimple%TYP",0.85,0.85,0.85,0.96689999999999998,0.83260000000000001,0.83260000000000001,0.83260000000000001,0.92970000000000008,0.73620000000000008,0.86060000000000003,0.98720000000000008,0.98720000000000008,0.98720000000000008,0.37859999999999994,0.78300000000000003,0.99429999999999996,0.8,0.85329999999999995]
[null,"HtPmpHtSimple%TYP",0.1,0.1,0.1,7.8000000000000005E-3,0.14269999999999999,0.14269999999999999,0.14269999999999999,4.6199999999999998E-2,7.4200000000000002E-2,3.8100000000000002E-2,2.5000000000000001E-3,2.5000000000000001E-3,2.5000000000000001E-3,0.24660000000000001,3.5400000000000001E-2,0,0.1,6.3200000000000006E-2]
[null,"ChillerAir%TYP",0.5,0.8,0.8,0.8,0.8,0.8,0.8,0.8,0.8,0.9,1,1,1,0.2,0.2,0.6,0.6,0.2]
[null,"ChillerWater%TYP",0.5,0.2,0.2,0.2,0.2,0.2,0.2,0.2,0.2,0.1,0,0,0,0.8,0.8,0.4,0.4,0.8]
[null,"WinFloorRatio%TYP",0.16,0.16,0.16,0.02,0.16,0.16,0.04,7.0000000000000007E-2,0.12,0.03,0.04,0.15,0.18,0.11,0.11,0.12,0.08,0.1]
[null,"ElecHTDHP%TYP",{"$f":"C101","v":0},{"$f":"D101","v":9.3666492863930473E-2},0.18093220414775901,0,0,0.1845720316176401,0.23278079179476083,3.7519732135274744E-4,0,4.0847109948506629E-3,0,5.4746597404996745E-2,2.9347519170761286E-2,4.3510047797893039E-2,0,6.9159304953855333E-2,6.6382185345618808E-2,3.7441828223745317E-2]
[null,"VRFNew%TYP",4.9000000000000002E-2,0.78400000000000003,0.78400000000000003,0.245,0.245,0.245,0.245,0.78400000000000003,0.78400000000000003,9.7999999999999997E-3,4.9000000000000002E-2,4.9000000000000002E-2,0.245,0.68599999999999994,4.9000000000000002E-2,0.78400000000000003,0.245,0.78400000000000003]
[null,"VHE-DOAS",0,0.40691199418336388,0.13180174005835105,0,0,0.29298788881375099,2.7368963559422813E-2,0.15536024892797323,4.2500000000000003E-2,0,0,0,0,0.10611169812592941,0,0.14683077392558003,0.10484637279909954,0.10508939769972385,"Applicability from VHE Doas workbook, CBSA"]
[null,"CoolSat%TYP",0.82,0.9,0.95,0.88,0.88,0.88,0.88,0.83,0.75,0.24,0.94,0.94,1,0.88,0.95,0.95,0.95,0.7]
[null,"ARC-New",1.8926754028141333E-3,0.1471496529024249,0.13240689963870345,7.888545633245158E-4,0,6.2554762465474312E-3,7.7972222723667939E-2,7.2961445252611393E-3,0,5.9002849272469775E-3,1.4003390062578076E-2,9.0386504994478853E-2,5.5947017267791804E-2,6.2676890911127076E-2,0,2.152551646759162E-2,1.9689628232810039E-2,1.5450247629297083E-2]
[]
[]
["V_Existing"]
[{"$f":"A60","v":"V_Existing"},null,"Office","Office","Office","Retail/Service","Retail/Service","Retail/Service","Retail/Service",null,null,null,"Grocery","Grocery",null,null,null,null,null,null,null,null,null,null,"Average of msf.pnw.frac","Column Labels"]
["ACTIVITY TYPE",{"$f":"A61","v":"V_Existing"},"Office",null,null,"Retail/Service",null,null,null,"School",null,"Warehouse","Grocery",null,"Restaurant","Lodging","Health",null,"Assembly","Other",null,null,null,null,"Row Labels","% Cooled","% Heated","% Refrigerated","% Unconditioned","Grand Total",null,0.43662384690294082]
[{"$f":"A61","v":"V_Existing"},"FloorA%ACT",{"$f":"SUM(C66:E66)","v":0.22943628583036363},null,null,{"$f":"SUM(F66:I66)","v":0.16328623688383592},null,null,null,{"$f":"SUM(J66:K66)","v":0.10811473064655705},null,{"$f":"L66","v":0.13456188659840437},{"$f":"SUM(M66:N66)","v":2.1172801368167207E-2},null,{"$f":"O66","v":1.5161819667695611E-2},{"$f":"P66","v":5.2307544430137479E-2},{"$f":"SUM(Q66:R66)","v":7.2052162970409492E-2},null,{"$f":"S66","v":0.11105155292285358},{"$f":"T66","v":9.2854978681575745E-2},null,null,null,null,"Assembly",0.79,0.98,0,0.02,0.45,null,0.43870945466576416]
["BLDGTYPE",{"$f":"A61","v":"V_Existing"},"Large Off","Medium Off","Small Off","Xlarge Ret","Large Ret","Medium Ret","Small Ret","School K-12","University","Warehouse","Supermarket","MiniMart","Restaurant","Lodging","Hospital","Residential Care","Assembly","Other",null,null,null,null,"Food",0.96,0.95,0.01,0.04,0.49,null,0.61429722249870589]
[null,"FloorA%TYP",{"$f":"C66/C63","v":0.5034838672286257},{"$f":"D66/C63","v":0.25265955693119752},{"$f":"E66/C63","v":0.24385657584017681},{"$f":"F66/F63","v":0.24903030019577069},{"$f":"G66/F63","v":0.38131503878036821},{"$f":"H66/F63","v":0.17106805278611187},{"$f":"I66/F63","v":0.19858660823774932},{"$f":"J66/J63","v":0.66374031840108849},{"$f":"K66/J63","v":0.33625968159891162},{"$f":"L66/L63","v":1},{"$f":"M66/M63","v":0.68757469146119476},{"$f":"N66/M63","v":0.31242530853880524},{"$f":"O66/O63","v":1},{"$f":"P66/P63","v":1},1,1,{"$f":"S66/S63","v":1},{"$f":"T66/T63","v":1},null,null,null,null,"Service",null,null,null,null,null,null,8.8166008868383883E-2]
[null,"FloorA%REG",{"$f":"VLOOKUP(C16,$Z$17:$AD$34,5,FALSE)","v":0.11551746847244382},{"$f":"VLOOKUP(D16,$Z$17:$AD$34,5,FALSE)","v":5.7969270321839267E-2},5.5949547036080551E-2,4.0663220589019382E-2,6.2263497749660286E-2,2.7933058590489612E-2,3.2426459954666656E-2,7.1760105743193692E-2,3.6354624903363365E-2,0.13456188659840437,1.4557882368086729E-2,6.6149190000804768E-3,1.5161819667695611E-2,5.2307544430137479E-2,3.2472805735743446E-2,3.9579357234666046E-2,0.11105155292285358,9.2854978681575745E-2,null,null,null,null,"Grocery",0.87,0.96,0.01,0.03,0.47,null,0]
[null,"ElecHt%TYP",{"$f":"'CBSA Heat Type Data 2014'!C4","v":0.22069064811101055},{"$f":"'CBSA Heat Type Data 2014'!D4","v":0.21187996172605886},{"$f":"'CBSA Heat Type Data 2014'!E4","v":0.30376176003561578},{"$f":"'CBSA Heat Type Data 2014'!F4","v":4.1603710568328359E-2},{"$f":"'CBSA Heat Type Data 2014'!G4","v":0},{"$f":"'CBSA Heat Type Data 2014'!H4","v":6.5150627855912913E-2},{"$f":"'CBSA Heat Type Data 2014'!I4","v":0.16071159162747994},{"$f":"'CBSA Heat Type Data 2014'!J4","v":6.2193365516441515E-2},0.1,{"$f":"'CBSA Heat Type Data 2014'!L4","v":5.9543317157699324E-2},{"$f":"'CBSA Heat Type Data 2014'!M4","v":4.5427666440647281E-2},{"$f":"'CBSA Heat Type Data 2014'!N4","v":0.20392805668119085},{"$f":"'CBSA Heat Type Data 2014'!O4","v":9.3741517360656335E-2},{"$f":"'CBSA Heat Type Data 2014'!P4","v":0.37375847463011663},0.08,{"$f":"'CBSA Heat Type Data 2014'!R4","v":0.31821272614516344},{"$f":"'CBSA Heat Type Data 2014'!S4","v":8.609125345492806E-2},{"$f":"'CBSA Heat Type Data 2014'!T4","v":0.17417505642831174},null,null,null,null,"Lodging",0.88,0.99,0,0,0.47,null,0.13356302443052195]
[null,"GasHt%TYP",{"$f":"'CBSA Heat Type Data 2014'!C5","v":0.5156636959372366},{"$f":"'CBSA Heat Type Data 2014'!D5","v":0.53499997192568305},{"$f":"'CBSA Heat Type Data 2014'!E5","v":0.33335259363937686},{"$f":"'CBSA Heat Type Data 2014'!F5","v":0.90869487409441452},{"$f":"'CBSA Heat Type Data 2014'!G5","v":1},{"$f":"'CBSA Heat Type Data 2014'!H5","v":0.85701789100175707},{"$f":"'CBSA Heat Type Data 2014'!I5","v":0.64729607269201594},{"$f":"'CBSA Heat Type Data 2014'!J5","v":0.86350801427568535},0.8,{"$f":"'CBSA Heat Type Data 2014'!L5","v":0.8693239137650699},{"$f":"'CBSA Heat Type Data 2014'!M5","v":0.88228764584203367},{"$f":"'CBSA Heat Type Data 2014'!N5","v":0.47158078960174449},{"$f":"'CBSA Heat Type Data 2014'!O5","v":0.79427120974850918},{"$f":"'CBSA Heat Type Data 2014'!P5","v":0.17973507367005076},0.91,{"$f":"'CBSA Heat Type Data 2014'!R5","v":0.30163793977640957},{"$f":"'CBSA Heat Type Data 2014'!S5","v":0.81106077730345771},{"$f":"'CBSA Heat Type Data 2014'!T5","v":0.61774862771721151},null,null,null,null,"Office",0.96,0.99,0,0.01,0.49,null,0.2981053257044502]
[null,"HtPmpHt%TYP",{"$f":"'CBSA Heat Type Data 2014'!C6","v":0.26364565595175282},{"$f":"'CBSA Heat Type Data 2014'!D6","v":0.25312006634825812},{"$f":"'CBSA Heat Type Data 2014'!E6","v":0.36288564632500747},{"$f":"'CBSA Heat Type Data 2014'!F6","v":4.9701415337257152E-2},{"$f":"'CBSA Heat Type Data 2014'!G6","v":0},{"$f":"'CBSA Heat Type Data 2014'!H6","v":7.7831481142329989E-2},{"$f":"'CBSA Heat Type Data 2014'!I6","v":0.19199233568050422},{"$f":"'CBSA Heat Type Data 2014'!J6","v":7.4298620207873131E-2},0.1,{"$f":"'CBSA Heat Type Data 2014'!L6","v":7.113276907723072E-2},{"$f":"'CBSA Heat Type Data 2014'!M6","v":7.2284687717319038E-2},{"$f":"'CBSA Heat Type Data 2014'!N6","v":0.32449115371706461},{"$f":"'CBSA Heat Type Data 2014'!O6","v":0.11198727289083449},{"$f":"'CBSA Heat Type Data 2014'!P6","v":0.44650645169983255},0.01,{"$f":"'CBSA Heat Type Data 2014'!R6","v":0.38014933407842694},{"$f":"'CBSA Heat Type Data 2014'!S6","v":0.1028479692416142},{"$f":"'CBSA Heat Type Data 2014'!T6","v":0.20807631585447675},null,null,null,null,"Other",0.82,0.96,0,0.03,0.45,null,0.13053679455519543]
[null,"CoolSat%TYP",{"$f":"AE103","v":0.76889412716362515},{"$f":"AE101","v":0.9156533727398849},{"$f":"AE99","v":0.85579006639653332},{"$f":"AE124","v":0.95160006380782447},{"$f":"AE123","v":0.98526989662125641},{"$f":"AE122","v":0.65234151837252696},{"$f":"AE120","v":0.66014461756611731},0.69618308739231149,0.75,0.23,0.89440943169321674,0.91392039395838554,0.9581056413122655,0.82644591140120194,0.95,0.82648440258098632,0.77184416415983825,0.71310077098671132,null,null,null,null,"Residential Care",0.85,0.99,0,0.01,0.46]
[null,"CoolSat%ACT",{"$f":"SUMPRODUCT(C65:E65,C70:E70)","v":0.82716439932223285},null,null,{"$f":"SUMPRODUCT(F65:I65,F70:I70)","v":0.85536615224402601},null,null,null,{"$f":"SUMPRODUCT(J70:K70,J65:K65)","v":0.71427954529040938},null,0.23,{"$f":"SUMPRODUCT(M65:N65,M70:N70)","v":0.90050515009880105},null,0.96,0.88,{"$f":"AVERAGE(Q70:R70)","v":0.88824220129049314},null,{"$f":"S70","v":0.77184416415983825},{"$f":"T70","v":0.71310077098671132},null,null,null,null,"Retail",0.74,0.94,0,7.0000000000000007E-2,0.43,null,0.12715909506871856]
[null,"PackRT%TYP",0.15,0.75000000000000011,0.95,0.90880480523807783,0.72388464763320426,0.72388464763320426,0.21126457727609282,0.38624918003188907,0.24174716638708693,0.31046750131883327,0.90000000000000013,0.9,0.76718515286285394,0.41303161997673743,0.10000000000000002,0.68523001119875304,0.5,0.49999999999999994,null,null,null,null,"School",0.71,1,0,0,0.43,null,0.11178746540704029]
[null,"PackRT%ACT",0.48584254414953354,null,null,0.63256057960735712,null,null,null,0.33750430289294164,null,0.31046750131883327,0.90000000000000013,null,0.76718515286285394,0.41303161997673743,0.49902981576861571,null,0.5,0.49999999999999994,null,null,null,null,"Warehouse",0.23,0.53,0.02,0.46,0.31,null,0.48580164500884643]
[null,"BuiltUp%TYP",0.63007020528877222,9.3963931374592982E-2,2.9006395725036469E-2,3.9164397027771525E-2,0.25776672816535129,2.7574670878248778E-2,0.10146503328904084,0.29515325476216947,0.77756785592800526,0.13082984106717208,7.1447125331852143E-2,0,2.3525905182962954E-2,7.934694377848886E-2,0.85339696790936803,7.6228114216259218E-2,0.16854152512418574,0.20051702037858005,"See com-EM workbook",null,null,null,"Grand Total",0.78,0.93,0,7.0000000000000007E-2,0.44,null,0.19785818834294552]
[null,"BuiltUp%ACT",{"$f":"(C74*C65)+(D74*D65)+(E74*E65)","v":0.34804446919191578},null,null,{"$f":"(F74*F65)+(G74*G65)+(H74*H65)+(I74*I65)","v":0.1329101935644327},null,null,null,{"$f":"(J74*J65)+(K74*K65)","v":0.45736983494885941},null,{"$f":"L74","v":0.13082984106717208},{"$f":"M74*M65","v":4.9125235155837547E-2},null,{"$f":"O74","v":2.3525905182962954E-2},{"$f":"P74","v":7.934694377848886E-2},{"$f":"Q74*Q65+R65*R74","v":0.92962508212562722},null,{"$f":"S74","v":0.16854152512418574},{"$f":"T74","v":0.20051702037858005},null,null,null,null,null,null,null,null,null,null,null,0.81630843863420022]
[null,"VAV%TYP",0.51262713316969566,4.1499660445302379E-2,0,2.6890823009043455E-2,0,0,0,0.10981313781515661,0.33,0,0,0,0,3.1992300477329191E-2,0.33,2.5191285207445461E-2,0.15375982167586399,0.18076091596327465,0.13301950033749044]
[null,"VAV%ACT",0.35,null,null,0.01,null,null,null,0.11,null,0,0,null,0,0.04,0.21527670664708273,null,0.17,0.2,"See ECM-VAV workbook",null,null,null,null,null,null,null,null,null,null,0.69836206022359038]
[null,"LSYieldElecHt&AC",0.90457835398799891,0.92072187100138758,0.69260011261534127,0.85080401212348655,0.74734858139182614,0.68828098220470324,0.77581880028359507,0.58961830873923127,0.6725000000000001,0.61,0.85155275453545742,0.73794885515417397,0.4291621128262455,0.68264459114012044,0.28950000000000004,0.68264844025809879,0.90490285805758242,0.89844108480853846,null,null,null,null,null,null,null,null,null,null,null,0.17546271629417109]
[null,"LSYieldHtPmpHt&AC",1.02,1.02,0.95500000000000007,1.0249999999999999,0.96499999999999986,0.92500000000000004,0.97499999999999987,0.8600000000000001,0.95500000000000007,0.80499999999999994,0.9700000000000002,0.94500000000000006,0.72500000000000009,0.90000000000000013,0.64999999999999991,0.90000000000000013,1.02,1.02,null,null,null,null,null,"Values",null,null,null,null,null,0.37217596722573842]
[null,"LSYieldGasHt&AC",1.0677783539879988,1.0839218710013874,1.1187334459486746,1.1500040121234862,1.1372152480584925,1.0418809822047033,1.0568854669502619,1.0248183087392313,1.0986333333333334,0.96360000000000012,1.051019421202124,1.0915488551541741,0.96409544615957854,1.0453112578067871,0.94230000000000003,1.0453151069247655,1.0681028580575822,1.0616410848085382,null,null,null,null,"Row Labels","Sum of Sf_PNW_Cooled","Sum of Sf_PNW_Heated","Sum of Sf_PNW"]
[null,"LSYieldElecHt",0.82000000000000006,0.82000000000000006,0.53,0.66999999999999993,0.57000000000000006,0.61,0.69,0.52,0.53,0.61,0.78,0.61,0.41000000000000003,0.6,0.28000000000000003,0.6,0.82000000000000006,0.82000000000000006,null,null,null,null,"Assembly",284711740.65786439,353067968.20012611,368872052,{"$f":"Z81/AB81","v":0.77184416415983825},{"$f":"AA81/AB81","v":0.95715564864785718}]
[null,"LSYieldGasHt",0.98319999999999996,0.98319999999999996,0.95613333333333328,0.96919999999999995,0.95986666666666665,0.96360000000000001,0.97106666666666663,0.95520000000000005,0.95613333333333328,0.96360000000000001,0.97946666666666671,0.96360000000000001,0.94493333333333329,0.96266666666666667,0.93279999999999996,0.96266666666666667,0.98319999999999996,0.98319999999999996,null,null,null,null,"<5,001",5896555.7809850434,13328614.315968273,14436299.785106782,0.40845340348696757,0.92327081831029489]
[null,"LSYieldThermsGasHt",-8.1887999999999996E-3,-8.1887999999999996E-3,-2.1381866666666666E-2,-1.50128E-2,-1.9562133333333332E-2,-1.7742399999999998E-2,-1.4102933333333333E-2,-2.18368E-2,-2.1381866666666666E-2,-1.7742399999999998E-2,-1.0008533333333333E-2,-1.7742399999999998E-2,-2.6841066666666667E-2,-1.8197333333333333E-2,-3.2755199999999998E-2,-1.8197333333333333E-2,-8.1887999999999996E-3,-8.1887999999999996E-3,null,null,null,null,"5,001-20,000",114235602.29496893,146512429.2873013,147586110.21489322,0.77402678428637917,0.99272505436976022]
[null,"LSYieldThermsGasHt&AC",-8.1887999999999996E-3,-8.1887999999999996E-3,-2.1381866666666666E-2,-1.50128E-2,-1.9562133333333332E-2,-1.7742399999999998E-2,-1.4102933333333333E-2,-2.18368E-2,-2.1381866666666666E-2,-1.7742399999999998E-2,-1.0008533333333333E-2,-1.7742399999999998E-2,-2.6841066666666667E-2,-1.8197333333333333E-2,-3.2755199999999998E-2,-1.8197333333333333E-2,-8.1887999999999996E-3,-8.1887999999999996E-3,null,null,null,null,"20,001-50,000",60266713.012662001,77902099.407724395,80094222.749650508,0.75244769152747626,0.9726306933675104]
[null,"LPDAdjust",1,1,1,1,1,1,1,1,1,1,1,1,1,1,1,1,1,1,null,null,null,null,"50,001-100,000",50643755.759677261,57116363.153063521,60145976.250349477,0.84201402848429108,0.94962899787883392]
[null,"Chiller%TYP",0.54291936257100859,7.7841156089397331E-2,0,8.4239447925796157E-2,0,0,0,0.3170832591400497,0.28000000000000003,0,1.0956183549665436E-2,0,0,0.13538202083529755,0.75549005218936593,4.7688951506974608E-2,0.14865054018671461,0.16688189809397416,null,null,null,null,"100,001+",53669113.809571132,58208462.036068618,66609442.999999985,0.80572830806543672,0.87387702725676042]
[null,"HOURSLght",3300,3300,2600,6000,4400,3900,2500,2500,2100,2600,6800,7200,4900,3500,4200,5700,2700,3800,null,null,null,null,"Grocery",67168593.569869429,73695582.648296207,77120838,0.87095258962136057,0.95558586446241944]
[null,"UnCondArea%TYP",9.7915019519809049E-2,2.2419448966079808E-2,7.0265950135785918E-2,1.9928358103564997E-2,0.96021448828880007,1.682861062838684E-2,0.24046941503104796,9.3965911445071555E-3,9.3350590462247668E-2,0.23147891652780339,3.4175742327895269E-2,5.7197564623818434E-2,0.11219535867382037,4.431584636138023E-2,7.2657454104040925E-2,3.2474970371947381E-2,8.1305475226007548E-2,0.1783274256014224,null,null,null,null,"<5,001",10140779.248430835,10684723.750762152,11691087.999999998,0.86739397123953188,0.91392039395838554]
[null,"RTEcono%TYP",0.62956237771067991,0.31768861920643965,7.4025179596472243E-2,0.58848968508223554,0.26543424358205331,0.20684893583537547,1.359721457325402E-2,0.46813873620144136,{"$f":"J89","v":0.46813873620144136},0.14833205060637186,0.52268307357406485,0.20352640884178452,0.32869617366969917,0.10423431348186975,0.56873556010588189,7.8731272985480064E-2,0.39859901805810533,0.41988093429192064,null,null,null,null,"5,001-20,000",13680847.086571597,18222277.88340044,20538489.216240074,0.66610776199419564,0.88722581741756479]
[null,"DCV%TYP",0,0,0,0,0,0,0,0,0,0,0,0,0,0,0,0,0,0,null,null,null,null,"20,001-50,000",24771827.119973592,26213440.899240226,26316120.668866523,0.94131758368474427,0.99609821785975572]
[null,"FloorA%PRE2006",1,1,1,1,1,1,1,1,1,1,1,1,1,1,1,1,1,1,null,null,null,null,"50,001-100,000",18575140.114893399,18575140.114893399,18575140.114893399,1,1,{"$f":"SUMPRODUCT(AC89:AC91,Z89:Z91)/SUM(Z89:Z91)","v":0.89440943169321674}]
[null,"ElecHtComplex%TYP",0.5032832003318185,0.19754737317540033,0.86680076087505498,0.55985400698948606,0.27993945466265791,6.3780434281586118E-3,7.5948256913972667E-2,5.7319205981493631E-3,0.1674709592892723,0.2825536194003897,4.5624616007740176E-2,7.6358748772797594E-2,4.608640117832314E-2,6.824640339652556E-3,4.9104329398647659E-2,0.38331290029021892,2.7101825075335855E-2,0.37020773554855302,null,null,null,null,"Lodging",141356075.6278674,161076205.05822337,171040928.00000006,0.82644591140120194,0.94174071049370889]
[null,"GasHtComplex%TYP",0.20660069118679708,8.1094349688734371E-2,0.35582677148761982,0.1044245964626806,2.3584345085431835,5.3733753736439169E-2,0.63984903516178027,0.78301794007178116,0.76612829592366649,0.46415256294736318,0.80876894218964157,1.3535803668226631,0.81695481938952597,0.50395980482161595,0.55637445480169345,0.62059668380791444,0.29812007582869443,0.80164122055359432,null,null,null,null,"<5,001",250447.451084011,789958.87824093597,810397.92171182204,0.30904256338045033,0.97477900310046184]
[null,"HtPmpHtComplex%TYP",0.10615620032939298,4.1668147292671175E-2,0.18283200225331492,0,4.7478913313233901,0.10817430911927059,1.2881144998496472,0.15081528786933984,0,0,0,0,0,0.37562111375905877,0,7.8697678201352483E-2,0.21681460060268684,1.6881662956934655E-2,null,null,null,null,"5,001-20,000",7530496.8357218048,10025413.14207961,10851231.081809763,0.69397626674317148,0.92389638249299699]
[null,"ElecHtSimple%TYP",4.0797924799920442E-2,7.6712861227859655E-2,0.34629799136803036,9.4309392161736581E-3,0.69059559002041793,1.5734290365582385E-2,2.5440517986723227E-2,0.22063592478811844,0.18449615182326545,8.5433934010164969E-2,0.16530992978116466,0.25453305525840347,0.12256320691297852,0.1701802809460462,7.6529644813639303E-2,8.48023297102318E-2,5.420365015067171E-2,0.20159565917150249,null,null,null,null,"20,001-50,000",32442333.421756048,44717968.433706075,46451649.352517821,0.69841079647255999,0.96267773172799564]
[null,"GasHtSimple%TYP",0.59645431773702551,0.1751178154419134,0.75286988633676921,0.64860578911648015,5.6577342666812855,0.12890385494734588,1.9096725785396154,0.52936088218329336,0.62505513690134207,0.58469762342365594,0.61036689721002213,1.0544939191728511,0.61909451647609204,0.45909862320270312,0.45317337392380236,0.90611735760696566,0.43362920120537368,0.74796368935357349,null,null,null,null,"50,001-100,000",64609487.809098378,68010067.142832115,71066756.643960625,0.90913798321748795,0.95698847611067572]
[null,"HtPmpHtSimple%TYP",0.17870625346146285,6.8447165702795604E-2,0.30615112501091846,5.1813731069269E-3,1.0540200575293213,2.4014427366708016E-2,6.8798695399061222E-2,0.18966230747930371,0.12395461589786912,7.657462491393198E-2,7.8716731206195087E-2,0.131827238222366,0.12138349717877855,0.25705457832201301,7.5760149152072437E-2,9.1579325081048712E-2,5.420365015067171E-2,0.23925913126345466,null,null,null,null,"100,001+",36523310.110207155,37532797.461364634,41860893.000000022,0.87249237875090568,0.89660766341904397]
[null,"ChillerAir%TYP",0.5,0.8,0.8,0.8,0.8,0.8,0.8,0.8,0.8,0.9,1,1,1,0.2,0.2,0.6,0.6,0.2,null,null,null,null,"Office",618645852.70435643,646136320.80062568,734358126.00000012,0.84243073073090269,0.87986541977834065]
[null,"ChillerWater%TYP",0.5,0.2,0.2,0.2,0.2,0.2,0.2,0.2,0.2,0.1,0,0,0,0.8,0.8,0.4,0.4,0.8,null,null,null,null,"<5,001",81692274.759702548,95458311.526895136,95458311.526895136,0.85579006639653332,1,{"$f":"AC99","v":0.85579006639653332}]
[null,"WinFloorRatio%TYP",0.11113127858742104,4.3960578486503234E-2,0.1917271954866456,1.3285572069043333E-2,1.1818024471246773,2.6925777005418945E-2,8.015647167701602E-2,6.5776138011550078E-2,0.11202070855469719,2.2401185470432586E-2,3.4175742327895269E-2,0.21449086733931913,0.15534741970221283,9.7494861995036486E-2,6.6602666262037521E-2,0.12989988148778953,4.3362920120537364E-2,0.11888495040094829,null,null,null,null,"5,001-20,000",171253689.48738635,176792008.26409516,179770297.47310498,0.9526250548314702,0.98343280702722646]
[null,"ElecHTDHP%TYP",{"$f":"IFERROR(VLOOKUP(C64,$AE$140:$AF$152,2,FALSE),0)","v":0},{"$f":"IFERROR(VLOOKUP(D64,$AE$140:$AF$152,2,FALSE),0)","v":9.3666492863930473E-2},0.18093220414775901,0,0,0.1845720316176401,0.23278079179476083,3.7519732135274744E-4,0,4.0847109948506629E-3,0,5.4746597404996745E-2,2.9347519170761286E-2,4.3510047797893039E-2,0,6.9159304953855333E-2,6.6382185345618808E-2,3.7441828223745317E-2,null,null,null,null,"20,001-50,000",117614076.73231445,118969476.46347684,136471707.75979474,0.86182021653402474,0.87175194343487106,{"$f":"SUMPRODUCT(Z100:Z101,AC100:AC101)/SUM(Z100:Z101)","v":0.9156533727398849}]
[null,"VRFMajorRetro%typ",2.4820152866650024E-2,6.9496428026620066E-2,6.9496428026620066E-2,4.9500000000000004E-3,6.93E-2,6.93E-2,2.4750000000000001E-2,2.4750000000000001E-2,2.4750000000000001E-2,2.4750000000000001E-2,6.93E-2,6.93E-2,9.8999999999999999E-4,4.9500000000000004E-3,4.9500000000000004E-3,2.4750000000000001E-2,6.93E-2,4.9500000000000004E-3,null,null,null,null,"50,001-100,000",93515556.44881475,93515556.44881475,121007363.24020527,0.77280881051165451,0.77280881051165451]
[null,"PTHP_AC%TYP",3.8667993781867659E-2,0.10772288039366708,0.17202131317711991,0,0,0,0.1465928706267976,3.652989807404624E-2,7.2286389280593027E-2,5.3468785905279217E-2,0,1.8420285642938062E-2,3.0355887626693442E-2,0.81179426313985203,0.53888410106821116,0.44671712846541295,5.24446975204063E-2,0.13532594969404457,"See Com-PTAC workbook",null,null,null,"100,001+",154570255.27613831,161400968.09734377,201650446.00000003,0.76652572975781208,0.80039975759509974,{"$f":"SUMPRODUCT(Z102:Z103,AC102:AC103)/SUM(Z102:Z103)","v":0.76889412716362515}]
[null,"ARC_ControlSystType",5.9657075331244772E-2,0.41979695813466034,0.22893532950746645,0.6146642444750684,0.54209388723463203,0.31953358572674878,0.19529221711030417,0.11230866677341698,0.10749999999999998,5.314425823977946E-2,0.44258665295315303,0.62620222567182793,0.77243750182085646,8.8968152189568425E-2,0.13749999999999998,0.14307280234537562,0.24525021208938691,9.4235260659140119E-2,"See Com-ARC workbook - Net of VHE DOAs and VRF DOAS",null,null,null,"Other",237772374.0650416,286169314.0188958,333434465,0.71310077098671132,0.85824755404002939]
[null,"Connected_Tstat",0,0.17938317057580522,0.41648300516970066,0,0,0.20847404612231232,0.24401291771146721,0.17693217700243605,0,0.13306451945390713,0.13444513737551542,0.33854180381147619,9.528077527378731E-2,0,0,6.7560162947598909E-2,0.18439377993518563,0.14367233353608369,"See Com-Connected-tstats CBSA tab",null,null,null,"<5,001",2535945.7141832607,11615593.376717271,27479196.480045743,9.2286021391664766E-2,0.42270498648503185]
[null,"Strategic EM Applicability",0.49665219196526472,8.792519768455484E-2,0,3.7765122820735735E-2,0.25439208346608483,2.4196311059990292E-2,0,0.28957343533111551,0.77756785592800526,0,6.708188753508712E-2,0,2.1543769357886679E-2,7.4396089474197777E-2,0.85339696790936803,7.2551378765990687E-2,0,0,"See workbook - based on shares of built-up HVAC",null,null,null,"5,001-20,000",74289856.097755432,90672063.352372155,106153928.51995429,0.69983143472444154,0.85415645578607169]
[null,"DHP Applicability",0,0,0.20993859971201817,0,0,0,0.22094961775441127,3.681042831755117E-4,0,1.0181166373796188E-3,0,0.1774139958426586,2.68748929881307E-2,4.5085990919976641E-3,0,6.7491985575253254E-5,1.1934171460365696E-3,7.1006668618335831E-3,"Applicability for DHP, from CBSA",null,null,null,"20,001-50,000",58374418.446868539,67981139.279465944,71274131.123429507,0.81901269825062062,0.95379821834290901]
[null,"Unitary AC Share (% total SF)",0.26624385916553811,0.43519156607653653,0.35473293447171728,0.77197238164502857,0.67487179177300938,0.494925841974245,0.18674608473958551,0.19650955817279386,0.19650955817279386,0.12465486606766073,0.60870776861896103,0.46915237489938888,0.68441730730450012,0.14200665568682208,0.25757988694126943,0.25757988694126943,0.41705608164212787,0.35128148031006357,"See Com-UnitaryAC workbook",null,null,null,"50,001-100,000",38161939.520573601,48422078.222388498,49052865.8765705,0.77797573778051532,0.98714065645482929]
[null,"VHE-DOAS",0,0.31116799555198416,0.10078956592697434,0,0,0.22404956203404489,2.0929207427793917E-2,0.11880489623903835,3.2500000000000001E-2,0,0,0,0,8.1144239743357799E-2,0,0.11228235653132591,8.0176638022840835E-2,8.0362480593906466E-2,"Applicability from VHE Doas workbook, CBSA",null,null,null,"100,001+",64410214.285660729,67478439.787951931,79474343,0.81045293178026934,0.84905942271145207]
[null,"Air Source Heat Pumps",3.6542560397981705E-2,0.39519655394669206,0.37995245427726915,2.1709738456819512E-2,0,0.11197000079898092,8.8679289208082199E-2,3.5103173051232145E-2,0.1,5.9990063463919597E-3,0.23814777977096271,0.26655838381224639,0.16388373357277711,6.8811252317806673E-2,0.1,8.2098541325971358E-2,9.3541742456918472E-2,5.2598504059634316E-2,null,null,null,null,"Residential Care",103443313.47111626,120189956.98030135,125160635.99999997,0.82648440258098632,0.96028560433570642]
[null,null,null,null,null,null,null,null,null,null,null,null,null,null,null,null,null,null,null,null,null,null,null,null,"<5,001",435717.67380027799,617607.67825962603,617607.67825962603,0.7054926438545891,1]
[null,null,null,null,null,null,null,null,null,null,null,null,null,null,null,null,null,null,null,null,null,null,null,null,"5,001-20,000",21292448.270369157,23441564.181165367,23943702.411423143,0.88927133759442667,0.9790283799209677]
[null,null,null,null,null,null,null,null,null,null,null,null,null,null,null,null,null,null,null,null,null,null,null,null,"20,001-50,000",42854401.027015857,45870170.91031719,45870170.910317197,0.93425422614627696,0.99999999999999989]
[null,null,null,null,null,null,null,null,null,null,null,null,null,null,null,null,null,null,null,null,null,null,null,null,"50,001-100,000",16473485.421083221,20207205.045104925,22184338.546042822,0.74257275631153374,0.91087705874870117]
[null,null,null,null,null,null,null,null,null,null,null,null,null,null,null,null,null,null,null,null,null,null,null,null,"100,001+",22387261.078847732,30053409.165454242,32544816.453957163,0.6878902239476492,0.92344687849053797]
[null,null,null,null,null,null,null,null,null,null,null,null,null,null,null,null,null,null,null,null,null,null,null,null,"Restaurant",50814798.83270625,50145382.29240372,53036739.000000007,0.9581056413122655,0.94548388980709608]
[null,null,null,null,null,null,null,null,null,null,null,null,null,null,null,null,null,null,null,null,null,null,null,null,"<5,001",26258163.66003301,25588747.11973048,27474535.177056238,0.95572731224806995,0.93136233078474195]
[null,null,null,null,null,null,null,null,null,null,null,null,null,null,null,null,null,null,null,null,null,null,null,null,"5,001-20,000",24556635.17267324,24556635.17267324,25562203.822943769,0.96066189530309731,0.96066189530309731]
[null,null,null,null,null,null,null,null,null,null,null,null,null,null,null,null,null,null,null,null,null,null,null,null,"Retail/Service",414543040.08194339,528018097.06570667,570929487.99999988,{"$f":"Z119/AB119","v":0.7260844794233916},{"$f":"AA119/AB119","v":0.92483942091585714},{"$f":"AC119","v":0.7260844794233916}]
[null,null,null,null,null,null,null,null,null,null,null,null,null,null,null,null,null,null,null,null,null,null,null,null,"<5,001",39096656.051702648,54800804.729642868,59224380.55444251,{"$f":"Z120/AB120","v":0.66014461756611731},{"$f":"AA120/AB120","v":0.92530819599314795},{"$f":"AC120","v":0.66014461756611731}]
[null,null,null,null,null,null,null,null,null,null,null,null,null,null,null,null,null,null,null,null,null,null,null,null,"5,001-20,000",94873430.817876413,154249970.50174269,186496889.44555739,{"$f":"Z121/AB121","v":0.50871320749600002},0.82709138452827502]
[null,null,null,null,null,null,null,null,null,null,null,null,null,null,null,null,null,null,null,null,null,null,null,null,"20,001-50,000",122016946.63945058,156486203.50881305,159704133.08919239,0.76401871560397205,0.97985068064217118,{"$f":"SUMPRODUCT(AC121:AC122,Z121:Z122)/SUM(Z121:Z122)","v":0.65234151837252696}]
[null,null,null,null,null,null,null,null,null,null,null,null,null,null,null,null,null,null,null,null,null,null,null,null,"50,001-100,000",31086013.955643475,31342144.812589288,31550759.910807591,0.98526989662125641,0.99338795329151985,{"$f":"AC123","v":0.98526989662125641}]
[null,null,null,null,null,null,null,null,null,null,null,null,null,null,null,null,null,null,null,null,null,null,null,null,"100,001+",127469992.61727026,131138973.51291876,133953325.00000001,0.95160006380782447,0.9789900587605328,{"$f":"AC124","v":0.95160006380782447}]
[null,null,null,null,null,null,null,null,null,null,null,null,null,null,null,null,null,null,null,null,null,null,null,null,"School K-12",170810721.12644279,241410438.13519463,245353160.99999988,0.69618308739231149,0.9839304174898923]
[null,null,null,null,null,null,null,null,null,null,null,null,null,null,null,null,null,null,null,null,null,null,null,null,"<5,001",2441470.9724364099,3576965.5740659018,3576965.5740659018,0.68255366787363669,1]
[null,null,null,null,null,null,null,null,null,null,null,null,null,null,null,null,null,null,null,null,null,null,null,null,"5,001-20,000",6956853.0324681448,8579794.2721499298,8579794.2721499298,0.81084147379269178,1]
[null,null,null,null,null,null,null,null,null,null,null,null,null,null,null,null,null,null,null,null,null,null,null,null,"20,001-50,000",54204423.617145523,87157982.247272909,89420077.153784156,0.60617732999631679,0.97470260618741233]
[null,null,null,null,null,null,null,null,null,null,null,null,null,null,null,null,null,null,null,null,null,null,null,null,"50,001-100,000",46500992.64605689,60784036.874942802,61178403.799226828,0.76008836057021434,0.99355382128670366]
[null,null,null,null,null,null,null,null,null,null,null,null,null,null,null,null,null,null,null,null,null,null,null,null,"100,001+",60706980.858335808,81311659.166763097,82597920.200773075,0.73496984803943799,0.98442744041395436]
[null,null,null,null,null,null,null,null,null,null,null,null,null,null,null,null,null,null,null,null,null,null,null,null,"Warehouse",99872298.408480659,232930353.25844473,442224054.00000006,0.2258409453423369,0.52672474767382216]
[null,null,null,null,null,null,null,null,null,null,null,null,null,null,null,null,null,null,null,null,null,null,null,null,"<5,001",3270578.6155254422,10598190.403861849,15579781.760726731,0.20992454616853912,0.68025281525942816]
[null,null,null,null,null,null,null,null,null,null,null,null,null,null,null,null,null,null,null,null,null,null,null,null,"5,001-20,000",31349551.836150467,61418420.626886286,103627930.86603715,0.30252029133609692,0.592682109095507]
[null,null,null,null,null,null,null,null,null,null,null,null,null,null,null,null,null,null,null,null,null,null,null,null,"20,001-50,000",47026207.022004806,108586443.30876587,156871588.36440587,0.299775169693348,0.69219955277385403]
[null,null,null,null,null,null,null,null,null,null,null,null,null,null,null,null,null,null,null,null,null,null,null,null,"50,001-100,000",13613979.163652292,23502412.849257719,137319866.93915731,9.9140637601143861E-2,0.17115085655938625]
[null,null,null,null,null,null,null,null,null,null,null,null,null,null,null,null,null,null,null,null,null,null,null,null,"100,001+",4611981.7711476702,28824886.069673002,28824886.069673002,0.15999999999999964,1]
[null,null,null,null,null,null,null,null,null,null,null,null,null,null,null,null,null,null,null,null,null,null,null,null,"Grand Total",2189138808.5456882,2692839618.4582195,3121530487.0000005,0.70130303633510138,0.8626664482928752]
[null,null,null,null,null,null,null,null,null,null,null,null,null,null,null,null,null,null,null,null,null,null,null,null,null,null,null,null,null,null,null,"Elect Ht, SZ, <20,000 sf, No Existing HP"]
[null,null,null,null,null,null,null,null,null,null,null,null,null,null,null,null,null,null,null,null,null,null,null,null,null,"Share of Sf by BT","SF by BT","Cool Saturation","Cooled SF",null,null,"DHP Share"]
[null,null,null,null,null,null,null,null,null,null,null,null,null,null,null,null,null,null,null,null,null,null,null,null,"Large Off",{"$f":"HLOOKUP($Y140,$C$64:$T$69,3,FALSE)","v":0.11551746847244382},{"$f":"Z140*$Z$175","v":386899613.09618568},{"$f":"HLOOKUP($Y140,$C$64:$T$70,7,FALSE)","v":0.76889412716362515},{"$f":"AA140*AB140","v":297484840.31153595},null,"Assembly",6.6382185345618808E-2,"See COM-DHP workbook for details"]
[null,null,null,null,null,null,null,null,null,null,null,null,null,null,null,null,null,null,null,null,null,null,null,null,"Medium Off",{"$f":"HLOOKUP(Y141,$C$64:$T$69,3,FALSE)","v":5.7969270321839267E-2},194154949.51170939,{"$f":"HLOOKUP($Y141,$C$64:$T$70,7,FALSE)","v":0.9156533727398849},{"$f":"AA141*AB141","v":177778634.35453877},null,"MiniMart",5.4746597404996745E-2]
[null,null,null,null,null,null,null,null,null,null,null,null,null,null,null,null,null,null,null,null,null,null,null,null,"Small Off",5.5949547036080551E-2,187390343.53345588,0.85579006639653332,160366794.53456539,null,"Grocery",2.6514488399329787E-2]
[null,null,null,null,null,null,null,null,null,null,null,null,null,null,null,null,null,null,null,null,null,null,null,null,"XLarge Ret",4.0663220589019382E-2,136192253.18194529,0.95160006380782447,129600556.81807053,null,"Lodging",4.3510047797893039E-2]
[null,null,null,null,null,null,null,null,null,null,null,null,null,null,null,null,null,null,null,null,null,null,null,null,"Large Ret",6.2263497749660286E-2,208537492.27637628,0.98526989662125641,205465713.45680133,null,"Small Off",0.18093220414775901]
[null,null,null,null,null,null,null,null,null,null,null,null,null,null,null,null,null,null,null,null,null,null,null,null,"Medium Ret",2.7933058590489612E-2,93555457.059133425,0.65234151837252696,61030108.909990847,null,"Medium Off",9.3666492863930473E-2]
[null,null,null,null,null,null,null,null,null,null,null,null,null,null,null,null,null,null,null,null,null,null,null,null,"Small Ret",3.2426459954666656E-2,108605087.84030555,0.66014461756611731,71695064.178073078,null,"Other",3.7441828223745317E-2]
[null,null,null,null,null,null,null,null,null,null,null,null,null,null,null,null,null,null,null,null,null,null,null,null,"School K-12",7.1760105743193692E-2,240344231.17925218,0.69618308739231149,167323588.89930323,null,"Residential Care",6.9159304953855333E-2]
[null,null,null,null,null,null,null,null,null,null,null,null,null,null,null,null,null,null,null,null,null,null,null,null,"University",3.6354624903363365E-2,121761587.1899368,0.75,91321190.392452598,null,"Restaurant",2.9347519170761286E-2]
[null,null,null,null,null,null,null,null,null,null,null,null,null,null,null,null,null,null,null,null,null,null,null,null,"Warehouse",0.13456188659840437,450684580.87648112,0.23,103657453.60159066,null,"Small Ret",0.23278079179476083]
[null,null,null,null,null,null,null,null,null,null,null,null,null,null,null,null,null,null,null,null,null,null,null,null,"Supermarket",1.4557882368086729E-2,48758331.793395668,0.89440943169321674,43609911.829640321,null,"Medium Ret",0.1845720316176401]
[null,null,null,null,null,null,null,null,null,null,null,null,null,null,null,null,null,null,null,null,null,null,null,null,"MiniMart",6.6149190000804768E-3,22155173.893931512,0.91392039395838554,20248065.253358427,null,"School K-12",3.7519732135274744E-4]
[null,null,null,null,null,null,null,null,null,null,null,null,null,null,null,null,null,null,null,null,null,null,null,null,"Restaurant",1.5161819667695611E-2,50781083.076321945,0.9581056413122655,48653642.167370871,null,"Warehouse",4.0847109948506629E-3]
[null,null,null,null,null,null,null,null,null,null,null,null,null,null,null,null,null,null,null,null,null,null,null,null,"Lodging",5.2307544430137479E-2,175192280.17760244,0.82644591140120194,144786943.66183338]
[null,null,null,null,null,null,null,null,null,null,null,null,null,null,null,null,null,null,null,null,null,null,null,null,"Hospital",3.2472805735743446E-2,108760312.5435852,0.95,103322296.91640593]
[null,null,null,null,null,null,null,null,null,null,null,null,null,null,null,null,null,null,null,null,null,null,null,null,"Residential Care",3.9579357234666046E-2,132562098.21063484,0.82648440258098632,109560506.54449858]
[null,null,null,null,null,null,null,null,null,null,null,null,null,null,null,null,null,null,null,null,null,null,null,null,"Assembly",0.11105155292285358,371942039.82951671,0.77184416415983825,287081292.8481186]
[null,null,null,null,null,null,null,null,null,null,null,null,null,null,null,null,null,null,null,null,null,null,null,null,"Other",9.2854978681575745E-2,310996733.23023099,0.71310077098671132,221772010.24082631]
[null,null,null,null,null,null,null,null,null,null,null,null,null,null,null,null,null,null,null,null,null,null,null,null,null,{"$f":"SUM(Z140:Z157)","v":1},3349273648.5000005,{"$f":"SUMPRODUCT(AA140:AA157,AB140:AB157)/AA158","v":0.72993695693210381},2444758614.9189749]
[]
[null,null,null,null,null,null,null,null,null,null,null,null,null,null,null,null,null,null,null,null,null,null,null,null,"CBSA 2013"]
[null,null,null,null,null,null,null,null,null,null,null,null,null,null,null,null,null,null,null,null,null,null,null,null,null,"Values"]
[null,null,null,null,null,null,null,null,null,null,null,null,null,null,null,null,null,null,null,null,null,null,null,null,"Row Labels","Sum of Sf_PNW"]
[null,null,null,null,null,null,null,null,null,null,null,null,null,null,null,null,null,null,null,null,null,null,null,null,"Assembly",368872053.60000002]
[null,null,null,null,null,null,null,null,null,null,null,null,null,null,null,null,null,null,null,null,null,null,null,null,"Grocery",77120839.500000015]
[null,null,null,null,null,null,null,null,null,null,null,null,null,null,null,null,null,null,null,null,null,null,null,null,"Hospital",103754035.29999998]
[null,null,null,null,null,null,null,null,null,null,null,null,null,null,null,null,null,null,null,null,null,null,null,null,"Lodging",171040924.80000001]
[null,null,null,null,null,null,null,null,null,null,null,null,null,null,null,null,null,null,null,null,null,null,null,null,"Office",734358121.60000002]
[null,null,null,null,null,null,null,null,null,null,null,null,null,null,null,null,null,null,null,null,null,null,null,null,"Other",333434468.39999998]
[null,null,null,null,null,null,null,null,null,null,null,null,null,null,null,null,null,null,null,null,null,null,null,null,"Residential Care",125160636.30000001]
[null,null,null,null,null,null,null,null,null,null,null,null,null,null,null,null,null,null,null,null,null,null,null,null,"Restaurant",53036741.800000004]
[null,null,null,null,null,null,null,null,null,null,null,null,null,null,null,null,null,null,null,null,null,null,null,null,"Retail/Service",570929484.5999999]
[null,null,null,null,null,null,null,null,null,null,null,null,null,null,null,null,null,null,null,null,null,null,null,null,"School K-12",245353164.29999998]
[null,null,null,null,null,null,null,null,null,null,null,null,null,null,null,null,null,null,null,null,null,null,null,null,"University",123989124]
[null,null,null,null,null,null,null,null,null,null,null,null,null,null,null,null,null,null,null,null,null,null,null,null,"Warehouse",442224054.30000001]
[null,null,null,null,null,null,null,null,null,null,null,null,null,null,null,null,null,null,null,null,null,null,null,null,"Grand Total",3349273648.5000005]

{"sheet":"Climate Zone","index":12,"n_rows":251,"n_cols":22,"rows_kept":251,"cut":false,"hidden":false,"merged":[[31,17,31,19],[24,17,24,19]]}
[]
[null,"From CBSA 2014 - Excludes Hospital and University"]
[null,null,null,null,null,null,null,null,null,null,null,"From SIW",null,null,null,null,null,"Heating Zone, Daily, HDD65"]
[null,null,"Zone","SF","Share",null,null,null,null,null,null,"HZ_CZ","City (Weather File)","HZ Weight","CZ Weight","Regional Weight",null,"Min","Max","HZ"]
[null,null,"HZ1-CZ1",{"$f":"U151","v":1723196635.6937511},{"$f":"D5/$D$14","v":0.552035817965007},null,null,null,null,null,null,"HZ1_CZ1","SEATTLE SEATTLE-TACOMA INTL A",0.66827256694038983,0.81997143086437552,0.51092801915701036,null,0,6000,1]
[null,null,"HZ1-CZ2",{"$f":"U152","v":531998899.29610199},0.17042886542728877,null,null,null,null,null,null,"HZ1_CZ2","CORVALLIS MUNI",0.17941220424110721,0.55675648289401214,0.13716966199164446,null,6001,7499,2]
[null,null,"HZ1-CZ3",{"$f":"U153","v":202861098.5800221},6.4987703764183086E-2,null,null,null,null,null,null,"HZ1_CZ3","BOISE AIR TERMINAL [UO]",0.15231522881850293,0.8922035465520155,0.11645266018323065,null,7500,null,3]
[null,null,"HZ2-CZ1",{"$f":"U213","v":208246849.02282089},6.6713059471977199E-2,null,null,null,null,null,null,"HZ2_CZ1","REDMOND ROBERTS FIELD",0.35432886342924097,9.699987206198836E-2,6.0441072244274856E-2]
[null,null,"HZ2-CZ2",{"$f":"U214","v":257285073.98588583},8.2422733033485157E-2,null,null,null,null,null,null,"HZ2_CZ2","ELKO MUNICIPAL ARPT",0.57024318852160949,0.39481436860709007,9.7271527418547665E-2,null,"Cooling Zone, Daily, CDD65"]
[null,null,"HZ2-CZ3",{"$f":"U215","v":90642033.315973938},2.9037689586394858E-2,null,null,null,null,null,null,"HZ2_CZ3","BURLEY MUNICIPAL ARPT",7.5427948049149485E-2,9.8576286540375119E-2,1.2866425876667174E-2,null,"Min","Max","CZ"]
[null,null,"HZ3-CZ1",{"$f":"U242","v":75345280.793392003},2.4137288137077877E-2,null,null,null,null,null,null,"HZ3_CZ1","SODA SPRINGS/TIGERT",0.79751908554645401,8.3028697073636124E-2,5.1735568011560373E-2,null,0,300,1]
[null,null,"HZ3-CZ2",{"$f":"U243","v":31954616.312051974},1.0236842614586319E-2,null,null,null,null,null,null,"HZ3_CZ2","HAVRE CITY-COUNTY AP",0.18392953900746895,4.842914849889781E-2,1.1931625646470606E-2,null,301,599,2]
[null,null,"HZ3-CZ3",{"$f":"U244","v":0},0,null,null,null,null,null,null,"HZ3_CZ3","MILES CITY MUNICIPAL ARPT",1.8551375446077059E-2,9.2201669076094096E-3,1.2034394705938436E-3,null,600,null,3]
[null,null,"Total",{"$f":"SUM(D5:D13)","v":3121530486.999999},1]
[null,null,null,{"$f":"U154+U216+U245","v":3121530486.999999},null,null,null,null,null,null,null,null,"Legend:","HZ1","HZ2","HZ3",null,"Cooling Zone, Hourly, CDD65"]
[null,null,null,null,null,null,null,null,null,null,null,null,null,"CZ1","CZ2","CZ3",null,"Min","Max","CZ"]
[null,null,null,null,null,null,null,null,null,null,null,null,null,null,null,null,null,0,600,1]
[null,null,null,null,null,null,null,null,"Sources:",null,null,null,null,null,null,null,null,601,949,2]
[null,null,null,null,null,null,null,null,"Updated climate zone methodology adopted by RTF in January 2019.",null,null,null,null,null,null,null,null,950,null,3]
[null,null,null,null,null,null,null,null,"Analysis workbook used to create the above tables can be found here."]
[null,null,null,null,null,null,null,null,"Population used to create the weights in the table above. See \"analysis workbook\" link directly above to see population data."]
[null,null,null,null,null,null,null,null,"Note: Each color band in the table above should sum to 100%."]
[null,"Vintage","(All)"]
[null,null,null,null,null,null,null,null,"From RTF:  Representative cities to use for simulation modeling"]
[null,"Sum of Sf_PNW","Column Labels",null,null,null,null,null,"Climate Zone","Average HDD65 and CDD65\n(Daily, from NOAA)",null,"Daily Degree Days from Most Representative TMY3 Station",null,null,null,null,null,"HDDdaily 65"]
[null,"Row Labels","< 6000 HDD","6000-8000 HDD","8000+ HDD","Grand Total",null,null,null,null,null,null,null,null,null,null,null,"Heating Zone","Minimum HDD","Maximum HDD"]
[null,"Assembly",309197788.49869317,49622949.565011472,10051313.93629518,368872051.99999976,null,null,null,"HDD65","CDD65","Site ID","City","State","HDD65","CDD65",null,1,0,6000]
[null,"Grocery",52771443.509413823,21481377.966373764,2868016.5242124042,77120838,null,null,"HZ1_CZ1",4943.3496364231805,159.2392112897291,727930,"SEATTLE SEATTLE-TACOMA INTL A","WA",4640.5499999999984,128.28000000000014,null,2,6001,7499]
[null,"<5,001",9483562.5976906978,1437056.403191135,770468.99911816604,11691087.999999998,null,null,"HZ1_CZ2",4507.2430838921246,404.69686643215198,726945,"CORVALLIS MUNI","OR",4260.8100000000004,406.44000000000017,null,3,7500,"n/a"]
[null,"5,001-20,000",13910826.377683897,4530115.3134619398,2097547.5250942381,20538489.216240074,null,null,"HZ1_CZ3",5295.5873777153729,789.6768155840673,726810,"BOISE AIR TERMINAL [UO]","ID",5395.7400000000034,755.9399999999996]
[null,"20,001-50,000",26316120.668866523,null,null,26316120.668866523,null,null,"HZ2_CZ1",6847.9674114111376,206.80604335178089,726835,"REDMOND ROBERTS FIELD","OR",6582.8699999999963,204.00000000000003]
[null,"50,001-100,000",3060933.8651727098,15514206.249720689,null,18575140.114893399,null,null,"HZ2_CZ2",6669.7271902069815,417.84917309014014,725825,"ELKO MUNICIPAL ARPT","NV",7072.4699999999984,406.05000000000018,null,"CDDdaily 65"]
[null,"Lodging",117806536.35246636,45032320.14340809,8202071.5041255588,171040928.00000003,null,null,"HZ2_CZ3",6452.4650001487962,686.7696931821564,725867,"BURLEY MUNICIPAL ARPT","ID",6224.1,627.33000000000015,null,"Cooling Zone","Minimum CDD","Maximum CDD"]
[null,"Office",580349003.51891863,137108056.71526191,16901065.765819557,734358126.00000012,null,null,"HZ3_CZ1",8206.0326857948094,168.52348930702917,725868,"SODA SPRINGS/TIGERT","ID",8438.3399999999947,196.82999999999987,null,1,0,300]
[null,"<5,001",60474206.117501497,31473834.669798136,3510270.7395954998,95458311.526895136,null,null,"HZ3_CZ2",7905.112856849456,414.60088057095913,727770,"HAVRE CITY-COUNTY AP","MT",8217.5099999999966,431.13000000000005,null,2,301,599]
[null,"5,001-20,000",151292139.38731259,28478158.08579234,null,179770297.47310492,null,null,"HZ3_CZ3",7816.9667833280309,639.67114222080818,742300,"MILES CITY MUNICIPAL ARPT","MT",7618.2600000000084,647.90999999999985,null,3,600,"n/a"]
[null,"20,001-50,000",99921365.371128157,26299485.639601089,10250856.74906553,136471707.75979477]
[null,"50,001-100,000",78057562.203947708,42949801.036257572,null,121007363.24020529]
[null,"100,001+",190603730.43902871,7906777.2838127697,3139938.27715853,201650446]
[null,"Other",245873627.70899153,78372071.035088405,9188766.2559200488,333434465]
[null,"Residential Care",107633803.60310709,14592106.268999945,2934726.1278929072,125160635.99999996]
[null,"Restaurant",35797712.227667578,8253257.3858891036,8985769.3864433244,53036739]
[null,"<5,001",19463263.185526777,5358135.3208141541,2653136.6707153032,27474535.177056234]
[null,"5,001-20,000",16334449.042140799,2895122.06507495,6332632.7157280203,25562203.822943769]
[null,"Retail/Service",438803418.1844551,91437263.823341534,40688805.992203161,570929487.99999976]
[null,"<5,001",49269606.302266844,8622933.906148335,1331840.346027324,59224380.554442503]
[null,"5,001-20,000",144959765.42299595,35077129.132254161,6459994.8903072197,186496889.44555733]
[null,"20,001-50,000",119892864.58750567,24017812.472430449,15793456.029256232,159704133.08919233]
[null,"50,001-100,000",16834026.334563419,8026263.5713384096,6690470.0049057603,31550759.910807587]
[null,"100,001+",107847155.53712322,15693124.74117017,10413044.721706621,133953325]
[null,"School K-12",222131608.21329308,22584674.862435322,636877.92427149403,245353160.99999988]
[null,"Warehouse",347691691.75286865,87689878.558871165,6842483.6882603485,442224054.00000018]
[null,"Grand Total",2458056633.5698752,556173956.32468069,107299897.10544398,3121530486.9999995]
[]
[]
[null,"Vintage","(All)",null,"Vintage","(All)"]
[null,"Climate_Zone","< 6000 HDD",null,"Climate_Zone","< 6000 HDD"]
[null,"Bldg_Type","(All)",null,"Bldg_Type","(All)"]
[]
[null,"Row Labels","Sum of Sf_PNW",null,"Row Labels","Sum of Sf_PNW"]
[null,1,19377946.458029557,null,1,19377946.458029557,null,{"$f":"#REF!/#REF!","v":{"$error":"#REF!"}}]
[null,8,43833572.89825888,null,8,43833572.89825888,null,{"$f":"#REF!/#REF!","v":{"$error":"#REF!"}}]
[null,11,37676409.535589375,null,11,37676409.535589375,null,{"$f":"#REF!/#REF!","v":{"$error":"#REF!"}}]
[null,12,4337679.443085365,null,12,4337679.443085365]
[null,13,5147366.4521275098,null,13,5147366.4521275098]
[null,20,2686145.1957574389,null,20,2686145.1957574389]
[null,27,2262991.1364846788,null,27,2262991.1364846788]
[null,33,38199883.203676999,null,33,38199883.203676999]
[null,34,26714904.228375297,null,34,26714904.228375297]
[null,40,825629.94351655699,null,40,825629.94351655699]
[null,47,40410548.831174694,null,47,40410548.831174694]
[null,54,6426903.2476917263,null,54,6426903.2476917263]
[null,65,5283256.8919458399,null,65,5283256.8919458399]
[null,67,3266961.9659952102,null,67,3266961.9659952102]
[null,68,11032775.566387476,null,68,11032775.566387476]
[null,79,2043043.041989719,null,79,2043043.041989719]
[null,93,76352774.318362042,null,93,76352774.318362042]
[null,99,14957480.776753448,null,99,14957480.776753448]
[null,100,1185509.9096174899,null,100,1185509.9096174899]
[null,101,52576879.693255223,null,101,52576879.693255223]
[null,113,3351692.2244790499,null,113,3351692.2244790499]
[null,121,84200970.312189251,null,121,84200970.312189251]
[null,124,7671592.4510849006,null,124,7671592.4510849006]
[null,127,2984437.9110821499,null,127,2984437.9110821499]
[null,135,5489728.0612155898,null,135,5489728.0612155898]
[null,139,3653280.7851643302,null,139,3653280.7851643302]
[null,143,18398034.91334537,null,143,18398034.91334537]
[null,147,98881706.179161623,null,147,98881706.179161623]
[null,148,20730915.085950732,null,148,20730915.085950732]
[null,153,55897916.364254773,null,153,55897916.364254773]
[null,158,60680159.802320831,null,158,60680159.802320831]
[null,160,3296543.3960595652,null,160,3296543.3960595652]
[null,167,69910698.179068312,null,167,69910698.179068312]
[null,174,130519786.00217323,null,174,130519786.00217323]
[null,182,1764104.291453135,null,182,1764104.291453135]
[null,192,247129579.34041449,null,192,247129579.34041449]
[null,197,72426809.150525749,null,197,72426809.150525749]
[null,205,2273985.0519002802,null,205,2273985.0519002802]
[null,219,204671148.36607644,null,219,204671148.36607644]
[null,222,13600096.45020302,null,222,13600096.45020302]
[null,247,43771125.881195128,null,247,43771125.881195128]
[null,255,3773376.3394344999,null,255,3773376.3394344999]
[null,261,36947512.002845116,null,261,36947512.002845116]
[null,262,96600070.23923853,null,262,96600070.23923853]
[null,264,1440628.8503358599,null,264,1440628.8503358599]
[null,272,4456760.6138826804,null,272,4456760.6138826804]
[null,287,11854927.714240573,null,287,11854927.714240573]
[null,288,13429696.743105661,null,288,13429696.743105661]
[null,298,8790690.2532758601,null,298,8790690.2532758601]
[null,320,2943786.9397915802,null,320,2943786.9397915802]
[null,323,18036988.375866264,null,323,18036988.375866264]
[null,325,51705756.647113249,null,325,51705756.647113249]
[null,343,630145.99583196803,null,343,630145.99583196803]
[null,344,1812224.7010473199,null,344,1812224.7010473199]
[null,393,279344442.44607371,null,393,279344442.44607371]
[null,397,64084095.667313136,null,397,64084095.667313136]
[null,418,9849934.7095407173,null,418,9849934.7095407173]
[null,426,27282688.370353639,null,426,27282688.370353639]
[null,450,7960490.2308229804,null,450,7960490.2308229804]
[null,463,2142522.9381498601,null,463,2142522.9381498601]
[null,475,14201893.9463198,null,475,14201893.9463198]
[null,477,1395522.22765142,null,477,1395522.22765142]
[null,516,15824419.952319391,null,516,15824419.952319391]
[null,529,2279389.0327888839,null,529,2279389.0327888839]
[null,550,392595.98071530502,null,550,392595.98071530502]
[null,579,32112001.13440264,null,579,32112001.13440264]
[null,618,4657093.1637580097,null,618,4657093.1637580097]
[null,692,33406702.853993639,null,692,33406702.853993639]
[null,693,716860.32869635499,null,693,716860.32869635499]
[null,714,4972992.1853851574,null,714,4972992.1853851574]
[null,727,3511100.6116907499,null,727,3511100.6116907499]
[null,739,11947861.710265815,null,739,11947861.710265815]
[null,743,17771834.795503933,null,743,17771834.795503933]
[null,748,2541243.57462169,null,748,2541243.57462169]
[null,779,55104799.743193671,null,779,55104799.743193671]
[null,783,1107341.88777123,null,783,1107341.88777123]
[null,799,2126695.7751193698,null,799,2126695.7751193698]
[null,832,9510316.8708708752,null,832,9510316.8708708752]
[null,900,691049.588147362,null,900,691049.588147362]
[null,909,37405575.474463239,null,909,37405575.474463239]
[null,911,8613843.3484269902,null,911,8613843.3484269902]
[null,957,8775786.6681140065,null,957,8775786.6681140065]
[null,"Grand Total",2458056633.5698748,null,"Grand Total",2458056633.5698748]
[null,null,null,null,null,null,null,null,null,null,{"$f":"K201","v":1723196635.6937511},null,null,{"$f":"N169","v":531998899.29610199},null,null,{"$f":"Q168","v":202861098.5800221}]
[]
[]
[null,"Vintage","(All)",null,"Vintage","(All)",null,null,null,"Vintage","(All)",null,"Vintage","(All)",null,"Vintage","(All)"]
[null,"Climate_Zone","< 6000 HDD",null,"Climate_Zone","< 6000 HDD",null,null,null,"Climate_Zone","< 6000 HDD",null,"Climate_Zone","< 6000 HDD",null,"Climate_Zone","< 6000 HDD"]
[null,"Bldg_Type","(All)",null,"Bldg_Type","(All)",null,null,null,"Bldg_Type","(All)",null,"Bldg_Type","(All)",null,"Bldg_Type","(All)"]
[null,null,null,null,null,null,null,null,null,null,null,null,null,null,null,null,null,null,null,null,"SF","Share"]
[null,"Row Labels","Sum of Sf_PNW",null,"Row Labels","Sum of Sf_PNW",null,null,null,"Row Labels","Sum of Sf_PNW",null,"Row Labels","Sum of Sf_PNW",null,"Row Labels","Sum of Sf_PNW",null,null,"HZ1-CZ1",{"$f":"K144","v":1723196635.6937511},{"$f":"U151/$U$154","v":0.70104024950439214}]
[null,1,19377946.458029557,null,320,2943786.9397915802,null,null,null,1,19377946.458029557,null,320,2943786.9397915802,null,618,4657093.1637580097,null,null,"HZ1-CZ2",{"$f":"N144","v":531998899.29610199},{"$f":"U152/$U$154","v":0.21643069245458008}]
[null,8,43833572.89825888,null,323,18036988.375866264,null,null,null,8,43833572.89825888,null,323,18036988.375866264,null,692,33406702.853993639,null,null,"HZ1-CZ3",{"$f":"Q144","v":202861098.5800221},8.2529058041028003E-2]
[null,11,37676409.535589375,null,325,51705756.647113249,null,null,null,11,37676409.535589375,null,325,51705756.647113249,null,693,716860.32869635499,null,null,"Total",{"$f":"SUM(U151:U153)","v":2458056633.5698748},1]
[null,12,4337679.443085365,null,343,630145.99583196803,null,null,null,12,4337679.443085365,null,343,630145.99583196803,null,714,4972992.1853851574]
[null,13,5147366.4521275098,null,344,1812224.7010473199,null,null,null,13,5147366.4521275098,null,344,1812224.7010473199,null,727,3511100.6116907499]
[null,20,2686145.1957574389,null,393,279344442.44607383,null,null,null,20,2686145.1957574389,null,393,279344442.44607383,null,739,11947861.710265817]
[null,27,2262991.1364846788,null,397,64084095.667313129,null,null,null,27,2262991.1364846788,null,397,64084095.667313129,null,743,17771834.795503929]
[null,33,38199883.203676999,null,418,9849934.7095407173,null,null,null,33,38199883.203676999,null,418,9849934.7095407173,null,748,2541243.57462169]
[null,34,26714904.228375297,null,426,27282688.370353639,null,null,null,34,26714904.228375297,null,426,27282688.370353639,null,779,55104799.743193656]
[null,40,825629.94351655699,null,450,7960490.2308229804,null,null,null,40,825629.94351655699,null,450,7960490.2308229804,null,783,1107341.88777123]
[null,47,40410548.831174709,null,463,2142522.9381498601,null,null,null,47,40410548.831174709,null,463,2142522.9381498601,null,799,2126695.7751193698]
[null,54,6426903.2476917263,null,475,14201893.9463198,null,null,null,54,6426903.2476917263,null,475,14201893.9463198,null,832,9510316.8708708771]
[null,65,5283256.8919458399,null,477,1395522.22765142,null,null,null,65,5283256.8919458399,null,477,1395522.22765142,null,900,691049.588147362]
[null,67,3266961.9659952102,null,516,15824419.952319391,null,null,null,67,3266961.9659952102,null,516,15824419.952319391,null,909,37405575.474463239]
[null,68,11032775.566387476,null,529,2279389.0327888839,null,null,null,68,11032775.566387476,null,529,2279389.0327888839,null,911,8613843.3484269902]
[null,79,2043043.041989719,null,550,392595.98071530502,null,null,null,79,2043043.041989719,null,550,392595.98071530502,null,957,8775786.6681140047]
[null,93,76352774.318362027,null,579,32112001.134402636,null,null,null,93,76352774.318362027,null,579,32112001.134402636,null,"Grand Total",202861098.5800221]
[null,99,14957480.776753448,null,"Grand Total",531998899.29610199,null,null,null,99,14957480.776753448,null,"Grand Total",531998899.29610199]
[null,100,1185509.9096174899,null,null,null,null,null,null,100,1185509.9096174899]
[null,101,52576879.693255216,null,null,null,null,null,null,101,52576879.693255216]
[null,113,3351692.2244790499,null,null,null,null,null,null,113,3351692.2244790499]
[null,121,84200970.312189236,null,null,null,null,null,null,121,84200970.312189236]
[null,124,7671592.4510849006,null,null,null,null,null,null,124,7671592.4510849006]
[null,127,2984437.9110821499,null,null,null,null,null,null,127,2984437.9110821499]
[null,135,5489728.0612155898,null,null,null,null,null,null,135,5489728.0612155898]
[null,139,3653280.7851643302,null,null,null,null,null,null,139,3653280.7851643302]
[null,143,18398034.91334537,null,null,null,null,null,null,143,18398034.91334537]
[null,147,98881706.179161608,null,null,null,null,null,null,147,98881706.179161608]
[null,148,20730915.085950732,null,null,null,null,null,null,148,20730915.085950732]
[null,153,55897916.364254773,null,null,null,null,null,null,153,55897916.364254773]
[null,158,60680159.802320838,null,null,null,null,null,null,158,60680159.802320838]
[null,160,3296543.3960595652,null,null,null,null,null,null,160,3296543.3960595652]
[null,167,69910698.179068312,null,null,null,null,null,null,167,69910698.179068312]
[null,174,130519786.0021732,null,null,null,null,null,null,174,130519786.0021732]
[null,182,1764104.291453135,null,null,null,null,null,null,182,1764104.291453135]
[null,192,247129579.34041452,null,null,null,null,null,null,192,247129579.34041452]
[null,197,72426809.150525734,null,null,null,null,null,null,197,72426809.150525734]
[null,205,2273985.0519002802,null,null,null,null,null,null,205,2273985.0519002802]
[null,219,204671148.3660765,null,null,null,null,null,null,219,204671148.3660765]
[null,222,13600096.45020302,null,null,null,null,null,null,222,13600096.45020302]
[null,247,43771125.881195128,null,null,null,null,null,null,247,43771125.881195128]
[null,255,3773376.3394344999,null,null,null,null,null,null,255,3773376.3394344999]
[null,261,36947512.002845109,null,null,null,null,null,null,261,36947512.002845109]
[null,262,96600070.23923853,null,null,null,null,null,null,262,96600070.23923853]
[null,264,1440628.8503358599,null,null,null,null,null,null,264,1440628.8503358599]
[null,272,4456760.6138826804,null,null,null,null,null,null,272,4456760.6138826804]
[null,287,11854927.714240573,null,null,null,null,null,null,287,11854927.714240573]
[null,288,13429696.743105661,null,null,null,null,null,null,288,13429696.743105661]
[null,298,8790690.2532758601,null,null,null,null,null,null,298,8790690.2532758601]
[null,"Grand Total",1723196635.6937511,null,null,null,null,null,null,"Grand Total",1723196635.6937511]
[]
[]
[]
[]
[]
[]
[null,"Vintage","(All)",null,"Vintage","(All)",null,null,null,"Vintage","(All)",null,"Vintage","(All)",null,"Vintage","(All)"]
[null,"Climate_Zone","6000-8000 HDD",null,"Climate_Zone","6000-8000 HDD",null,null,null,"Climate_Zone","6000-8000 HDD",null,"Climate_Zone","6000-8000 HDD",null,"Climate_Zone","6000-8000 HDD"]
[null,"Bldg_Type","(All)",null,"Bldg_Type","(All)",null,null,null,"Bldg_Type","(All)",null,"Bldg_Type","(All)",null,"Bldg_Type","(All)"]
[]
[null,"Row Labels","Sum of Sf_PNW",null,"Row Labels","Sum of Sf_PNW",null,null,null,"Row Labels","Sum of Sf_PNW",null,"Row Labels","Sum of Sf_PNW",null,"Row Labels","Sum of Sf_PNW",null,null,null,"SF","Share"]
[null,104,29361103.20870176,null,303,31618579.998234887,null,null,null,104,29361103.20870176,null,303,31618579.998234887,null,608,3486592.9344898001,null,null,"HZ2-CZ1",{"$f":"K232","v":208246849.02282089},{"$f":"U213/$U$216","v":0.37442754493389391}]
[null,125,2451573.0845335,null,314,6465029.48337097,null,null,null,125,2451573.0845335,null,314,6465029.48337097,null,648,40618019.319301613,null,null,"HZ2-CZ2",{"$f":"N230","v":257285073.98588583},{"$f":"U214/$U$216","v":0.46259820521996753}]
[null,147,10335372.2350934,null,324,8166567.2530375803,null,null,null,147,10335372.2350934,null,324,8166567.2530375803,null,658,22514817.528081186,null,null,"HZ2-CZ3",{"$f":"Q219","v":90642033.315973938},0.16297424984613873]
[null,204,1847806.51732307,null,330,3220542.4623723128,null,null,null,204,1847806.51732307,null,330,3220542.4623723128,null,812,15018972.672044521,null,null,"Total",{"$f":"SUM(U213:U215)","v":556173956.32468057},1]
[null,208,1200225.40852353,null,349,5933915.2807709798,null,null,null,208,1200225.40852353,null,349,5933915.2807709798,null,823,6123407.115957858]
[null,216,1928336.81106376,null,373,43608470.590166278,null,null,null,216,1928336.81106376,null,373,43608470.590166278,null,824,2880223.7460989598]
[null,239,14950738.687768459,null,382,28824886.069673002,null,null,null,239,14950738.687768459,null,382,28824886.069673002,null,"Grand Total",90642033.315973938]
[null,240,13940994.707738774,null,400,1069813.103300214,null,null,null,240,13940994.707738774,null,400,1069813.103300214]
[null,248,1008851.81055975,null,413,3093558.2455843301,null,null,null,248,1008851.81055975,null,413,3093558.2455843301]
[null,252,327425.04791656398,null,419,7682560.5246725995,null,null,null,252,327425.04791656398,null,419,7682560.5246725995]
[null,254,12270340.65677039,null,421,2623104.9639696931,null,null,null,254,12270340.65677039,null,421,2623104.9639696931]
[null,257,19378837.771494355,null,426,95173718.519210637,null,null,null,257,19378837.771494355,null,426,95173718.519210637]
[null,262,319558.65962219803,null,485,6526612.7135041803,null,null,null,262,319558.65962219803,null,485,6526612.7135041803]
[null,267,8524301.6658092476,null,501,2057254.36830197,null,null,null,267,8524301.6658092476,null,501,2057254.36830197]
[null,275,7763666.52601944,null,552,889683.40627290192,null,null,null,275,7763666.52601944,null,552,889683.40627290192]
[null,276,1022161.74255806,null,564,8973388.9104631003,null,null,null,276,1022161.74255806,null,564,8973388.9104631003]
[null,288,3543964.0396704301,null,593,1357388.09298021,null,null,null,288,3543964.0396704301,null,593,1357388.09298021]
[null,297,18667872.850030255,null,"Grand Total",257285073.98588583,null,null,null,297,18667872.850030255,null,"Grand Total",257285073.98588583]
[null,298,59403717.591623947,null,null,null,null,null,null,298,59403717.591623947]
[null,"Grand Total",208246849.02282089,null,null,null,null,null,null,"Grand Total",208246849.02282089]
[]
[]
[]
[]
[null,"Vintage","(All)",null,"Vintage","(All)",null,null,null,"Vintage","(All)",null,"Vintage","(All)",null,"Vintage","(All)"]
[null,"Climate_Zone","8000+ HDD",null,"Climate_Zone","8000+ HDD",null,null,null,"Climate_Zone","8000+ HDD",null,"Climate_Zone","8000+ HDD",null,"Climate_Zone","8000+ HDD"]
[null,"Bldg_Type","(All)",null,"Bldg_Type","(All)",null,null,null,"Bldg_Type","(All)",null,"Bldg_Type","(All)",null,"Bldg_Type","(All)"]
[]
[null,"Row Labels","Sum of Sf_PNW",null,"Row Labels","Sum of Sf_PNW",null,null,null,"Row Labels","Sum of Sf_PNW",null,"Row Labels","Sum of Sf_PNW",null,"Row Labels","Sum of Sf_PNW",null,null,null,"SF","Share"]
[null,127,18944800.794219907,null,378,29299281.320238382,null,null,null,127,18944800.794219907,null,378,29299281.320238382,null,"Grand Total",null,null,null,"HZ3-CZ1",{"$f":"K251","v":75345280.793392003},{"$f":"U242/$U$245","v":0.70219341141911751}]
[null,151,17010077.658619493,null,456,1506666.4085305801,null,null,null,151,17010077.658619493,null,456,1506666.4085305801,null,null,null,null,null,"HZ3-CZ2",{"$f":"N245","v":31954616.312051974},{"$f":"U243/$U$245","v":0.29780658858088244}]
[null,162,6459994.8903072197,null,478,1148668.5832830099,null,null,null,162,6459994.8903072197,null,478,1148668.5832830099,null,null,null,null,null,"HZ3-CZ3",{"$f":"Q242","v":0},0]
[null,165,304538.68063908099,null,"Grand Total",31954616.312051974,null,null,null,165,304538.68063908099,null,"Grand Total",31954616.312051974,null,null,null,null,null,"Total",{"$f":"SUM(U242:U244)","v":107299897.10544398},1]
[null,167,20163741.814347897,null,null,null,null,null,null,167,20163741.814347897]
[null,181,7331940.5657729395,null,null,null,null,null,null,181,7331940.5657729395]
[null,189,511692.81748267898,null,null,null,null,null,null,189,511692.81748267898]
[null,233,3236845.5181005201,null,null,null,null,null,null,233,3236845.5181005201]
[null,255,1381648.0539022731,null,null,null,null,null,null,255,1381648.0539022731]
[null,"Grand Total",75345280.793392003,null,null,null,null,null,null,"Grand Total",75345280.793392003]

{"sheet":"CODE","index":13,"n_rows":105,"n_cols":24,"rows_kept":105,"cut":false,"hidden":false,"merged":[[1,0,1,1],[9,4,23,4],[7,20,7,21],[7,6,7,8],[7,9,7,12],[7,13,7,14],[7,16,7,17]]}
["CODE","Adjustments Made to Conservation Assessment for Code conditions"]
["I think we can remove this for 8P:  Code baselines are primarily addressed in measure-level workbooks. Grist March 2020"]
[]
[]
[]
[]
[]
[null,null,null,null,null,null,"Office",null,null,"Retail",null,null,null,"School",null,"Warehouse","Grocery",null,"Restaurant","Lodging","Health",null,"Assembly","Other"]
["M BUNDLE ID",{"$f":"APPLIC!B11","v":"Measure Index Name"},"Adjustments Made to Conservation Assessment for Code conditions",null,null,null,"Large Off","Medium Off","Small Off","Xlarge Ret","Large Ret","Medium Ret","Small Ret","School K-12","University","Warehouse","Supermarket","MiniMart","Restaurant","Lodging","Hospital","Residential Care","Assembly","Other"]
[null,{"$f":"MLIST!D12","v":"Compressors-New"},null,null,{"$f":"$B$29","v":"Glass-NR"},"FloorA%REG",{"$f":"CHAR!C18","v":0.15261075363619214},{"$f":"CHAR!D18","v":0.12155197952398086},{"$f":"CHAR!E18","v":3.1873076735729138E-2},{"$f":"CHAR!F18","v":2.7093223866576834E-2},{"$f":"CHAR!G18","v":1.0953779286063153E-2},{"$f":"CHAR!H18","v":4.1294462764491953E-2},{"$f":"CHAR!I18","v":1.3160631160068171E-2},{"$f":"CHAR!J18","v":3.533265353502487E-2},{"$f":"CHAR!K18","v":2.5887995364489866E-2},{"$f":"CHAR!L18","v":9.1847866620061974E-2},{"$f":"CHAR!M18","v":5.8587631754657334E-3},{"$f":"CHAR!N18","v":2.4269428761010299E-3},{"$f":"CHAR!O18","v":1.2248774935940078E-2},{"$f":"CHAR!P18","v":2.5805854439286822E-2},{"$f":"CHAR!Q18","v":3.7489958792480564E-2},{"$f":"CHAR!R18","v":5.2183843380759376E-2},{"$f":"CHAR!S18","v":0.10159697295517536},{"$f":"CHAR!T18","v":0.21078246695211211}]
[null,{"$f":"MLIST!D13","v":"Compressors-NR"},"LPD baseline to minimum of code or 1995-2001 practice."]
[null,{"$f":"MLIST!#REF!","v":{"$error":"#REF!"}},"LPD baseline to minimum of code or 1995-2001 practice",null,null,"OR FloorA%REG",0.22,0.22,0.22,0.33,0.33,0.33,0.33,0.15,0.15,0.42,0.17,0.17,0.35,0.38,0.25,0.24,0.24,0.21]
[null,{"$f":"MLIST!D14","v":"Laptop-NR"},"Assume code ballasts in baseline retrofit",null,null,"Frac Floor w >30% ww ratio",0.5,0.5,0.5,0,0,0.5,0,0.4,0.4,0,0.05,0,0.5,0.5,0.5,0.5,0.5,0.2]
[null,{"$f":"MLIST!D15","v":"PowerStrips-Retro"},null,null,null,"OR FloorA Exceed Code",{"$f":"G12*(1-G13)","v":0.11},{"$f":"H12*(1-H13)","v":0.11},0.11,0.33,0.33,0.16500000000000001,0.33,0.09,0.09,0.42,0.1615,0.17,0.17499999999999999,0.19,0.125,0.12,0.12,0.16800000000000001]
[null,{"$f":"MLIST!#REF!","v":{"$error":"#REF!"}},"Account for smoke hatch in baseline"]
[null,{"$f":"MLIST!#REF!","v":{"$error":"#REF!"}},null,null,null,"WA FloorA%REG",0.72,0.72,0.72,0.61,0.61,0.61,0.61,0.68,0.68,0.49,0.62,0.62,0.56000000000000005,0.49,0.56000000000000005,0.59,0.6,0.67]
[null,{"$f":"MLIST!D17","v":"Data Centers-NR"},"Only fraction beyond switching in code baseline OR",null,null,"Fraction with ElecHt",{"$f":"CHAR!C19","v":9.379008321141083E-2},{"$f":"CHAR!D19","v":5.7141018201974592E-2},{"$f":"CHAR!E19","v":6.3540893141458221E-2},{"$f":"CHAR!F19","v":0.52114684573848291},{"$f":"CHAR!G19","v":0.64094486042254439},{"$f":"CHAR!H19","v":0.56159710090996928},{"$f":"CHAR!I19","v":0.19952525247533903},{"$f":"CHAR!J19","v":0.22286467137317267},{"$f":"CHAR!K19","v":0.15885643507420852},{"$f":"CHAR!L19","v":0.52114684573848291},{"$f":"CHAR!M19","v":1.5377816133020691E-2},{"$f":"CHAR!N19","v":0},{"$f":"CHAR!O19","v":5.5212362541074519E-2},{"$f":"CHAR!P19","v":0.34342063041492848},{"$f":"CHAR!Q19","v":0.10311447532768504},{"$f":"CHAR!R19","v":5.6083613809662864E-3},{"$f":"CHAR!S19","v":5.6083613809662864E-3},{"$f":"CHAR!T19","v":0.24031041917780901}]
[null,{"$f":"MLIST!D18","v":"Desktop-WA-NR"},"Only fraction beyond switching in code baseline OR",null,null,"Frac Meet Elec Ht Code",0.5,0.5,0.5,0.9,0.9,0.9,0.5,0.5,0.5,0.9,0.9,0.9,0.9,0.9,0.5,0.5,0.5,0.9]
[null,{"$f":"MLIST!#REF!","v":{"$error":"#REF!"}},null,null,null,"WA Floor A Exceed Code",{"$f":"G16*G17*(1-G18)","v":3.37644299561079E-2},2.0570766552710854E-2,2.2874721530924957E-2,3.1789957590047449E-2,3.9097636485775196E-2,3.4257423155508122E-2,6.0855202004978404E-2,7.5773988266878714E-2,5.4011187925230901E-2,2.5536195441185655E-2,9.5342460024728268E-4,0,3.0918923023001725E-3,1.6827610890331492E-2,2.8872053091751816E-2,1.6544666073850544E-3,1.6825084142898859E-3,1.6100798084913201E-2]
[null,{"$f":"MLIST!D19","v":"Desktop-NR"}]
[null,{"$f":"MLIST!D21","v":"Pre-Rinse Spray Valve-Retro"},null,null,null,"Region Wide Frac Exceed Target",0.05,0.05,0.05,0.05,0.05,0.05,0.05,0.05,0.05,0.05,0.05,0.05,0.05,0.05,0.05,0.05,0.05,0.05]
[null,{"$f":"MLIST!#REF!","v":{"$error":"#REF!"}}]
[null,{"$f":"MLIST!D22","v":"Steamer-NR"},"Not applicable in Seattle due to code requirement"]
[null,{"$f":"MLIST!D29","v":"DHP-New"},"Not applicable in Seattle due to code requirement",null,null,"Baseline Exceed Code New",{"$f":"G14+G19+G21","v":0.19376442995610788},{"$f":"H14+H19+H21","v":0.18057076655271087},0.18287472153092493,0.41178995759004744,0.41909763648577519,0.24925742315550814,0.44085520200497841,0.21577398826687871,0.19401118792523092,0.4955361954411856,0.2124534246002473,0.22000000000000003,0.22809189230230015,0.25682761089033151,0.20387205309175183,0.17165446660738504,0.17168250841428989,0.23410079808491319]
[null,{"$f":"MLIST!#REF!","v":{"$error":"#REF!"}}]
[null,{"$f":"MLIST!D30","v":"DHP-Retro"},"Baseline adjusted to reflect codes",null,null,"Fract Excced Target CBSA New 2002-2004",0.45,0.45,0.45,0.2,0.2,0.2,0.2,0.45,0.9,0.2,0.1,0.1,0.25,0.5,0.75,0.25,0.2,0.3]
[null,{"$f":"MLIST!D31","v":"Glass-New"},"Baseline adjusted to reflect codes"]
[null,{"$f":"MLIST!#REF!","v":{"$error":"#REF!"}}]
[null,{"$f":"MLIST!D32","v":"Glass-NR"},"Baseline adjusted to reflect codes.  Measure baseline excludes 50% of WA=ElecHt, OR>30%glass."]
[null,{"$f":"MLIST!#REF!","v":{"$error":"#REF!"}},"Baseline adjusted to reflect codes"]
[null,{"$f":"MLIST!D33","v":"ARC-New"},"Single Glazed Fraction from CBSA"]
[null,{"$f":"MLIST!D34","v":"ARC-NR"}]
[null,{"$f":"MLIST!D35","v":"ARC-Retro"}]
[null,{"$f":"MLIST!D36","v":"Chiller-Upgrade-New"},"Assumes marginally-effective economizer in baseline"]
[null,{"$f":"MLIST!D37","v":"Chiller-Upgrade-NR"},"Baseline assumes historic mix of chiller types and modular chiller control"]
[null,{"$f":"MLIST!#REF!","v":{"$error":"#REF!"}},"Baseline assumes historic mix of chiller types and modular chiller control"]
[null,{"$f":"MLIST!#REF!","v":{"$error":"#REF!"}},"Baseline at code and modular deployment"]
[null,{"$f":"MLIST!#REF!","v":{"$error":"#REF!"}},"Baseline assume partial penetration of measure"]
[null,{"$f":"MLIST!D39","v":"Fans-Retro"}]
[null,{"$f":"MLIST!D45","v":"Commercial EM-New"}]
[null,{"$f":"MLIST!D46","v":"Commercial EM-Retro"},"Assumes marginally-effective economizer in baseline"]
[null,{"$f":"MLIST!D47","v":"Economizer-Retro"},"Assumes marginally-effective economizer in baseline"]
[null,{"$f":"MLIST!#REF!","v":{"$error":"#REF!"}}]
[null,{"$f":"MLIST!D48","v":"Demand Control Ventilation-New"},"Measure not in any code baseline"]
[null,{"$f":"MLIST!#REF!","v":{"$error":"#REF!"}},"Measure not in any code baseline"]
[null,{"$f":"MLIST!#REF!","v":{"$error":"#REF!"}}]
[null,{"$f":"MLIST!D49","v":"Demand Control Ventilation-NR"},"Measure dropped due to code"]
[null,{"$f":"MLIST!D50","v":"Demand Control Ventilation-Retro"},"Measure dropped due to code"]
[null,{"$f":"MLIST!D51","v":"DCV-Lab Hood-Retro"}]
[null,{"$f":"MLIST!#REF!","v":{"$error":"#REF!"}}]
[null,{"$f":"MLIST!#REF!","v":{"$error":"#REF!"}}]
[null,{"$f":"MLIST!#REF!","v":{"$error":"#REF!"}}]
[null,{"$f":"MLIST!#REF!","v":{"$error":"#REF!"}}]
[null,{"$f":"MLIST!#REF!","v":{"$error":"#REF!"}}]
[null,{"$f":"MLIST!#REF!","v":{"$error":"#REF!"}}]
[null,{"$f":"MLIST!#REF!","v":{"$error":"#REF!"}}]
[null,{"$f":"MLIST!#REF!","v":{"$error":"#REF!"}}]
[null,{"$f":"MLIST!#REF!","v":{"$error":"#REF!"}}]
[null,{"$f":"MLIST!#REF!","v":{"$error":"#REF!"}}]
[null,{"$f":"MLIST!#REF!","v":{"$error":"#REF!"}}]
[null,{"$f":"MLIST!D52","v":"DCV-Kitchen-Retro"}]
[null,{"$f":"MLIST!#REF!","v":{"$error":"#REF!"}}]
[null,{"$f":"MLIST!#REF!","v":{"$error":"#REF!"}}]
[null,{"$f":"MLIST!#REF!","v":{"$error":"#REF!"}}]
[null,{"$f":"MLIST!#REF!","v":{"$error":"#REF!"}}]
[null,{"$f":"MLIST!#REF!","v":{"$error":"#REF!"}}]
[null,{"$f":"MLIST!#REF!","v":{"$error":"#REF!"}}]
[null,{"$f":"MLIST!#REF!","v":{"$error":"#REF!"}}]
[null,{"$f":"MLIST!#REF!","v":{"$error":"#REF!"}}]
[null,{"$f":"MLIST!#REF!","v":{"$error":"#REF!"}}]
[null,{"$f":"MLIST!#REF!","v":{"$error":"#REF!"}}]
[null,{"$f":"MLIST!D53","v":"DCV-Parking Garage-Retro"}]
[null,{"$f":"MLIST!D54","v":"Weatherization - School-Retro"}]
[null,{"$f":"MLIST!#REF!","v":{"$error":"#REF!"}}]
[null,{"$f":"MLIST!D55","v":"Energy Recovery Ventilator-NR"}]
[null,{"$f":"MLIST!D56","v":"AC Heat Recovery for Water Heating-NR"}]
[null,{"$f":"MLIST!D57","v":"Room Occupancy Sensors in Lodging-Retro"}]
[null,{"$f":"MLIST!#REF!","v":{"$error":"#REF!"}}]
[null,"Office Equipment","New"]
[null,"Computer Servers and IT","New"]
[null,{"$f":"MLIST!#REF!","v":{"$error":"#REF!"}}]
[null,{"$f":"MLIST!D58","v":"Pool Blankets-Retro"}]
[null,{"$f":"MLIST!#REF!","v":{"$error":"#REF!"}}]
[null,{"$f":"MLIST!#REF!","v":{"$error":"#REF!"}}]
[null,{"$f":"MLIST!D60","v":"ConnectedThermostats-Retro"}]
[null,{"$f":"MLIST!#REF!","v":{"$error":"#REF!"}}]
[null,{"$f":"MLIST!#REF!","v":{"$error":"#REF!"}}]
[null,{"$f":"MLIST!D61","v":"CircPumps-NR"}]
[null,{"$f":"MLIST!#REF!","v":{"$error":"#REF!"}}]
[null,{"$f":"MLIST!#REF!","v":{"$error":"#REF!"}}]
[null,{"$f":"MLIST!#REF!","v":{"$error":"#REF!"}}]
[null,{"$f":"MLIST!#REF!","v":{"$error":"#REF!"}}]
[null,{"$f":"MLIST!#REF!","v":{"$error":"#REF!"}}]
[null,{"$f":"MLIST!D62","v":"Circpumps-New"}]
[null,{"$f":"MLIST!D63","v":"VRF-DOAS-New"}]
[null,{"$f":"APPLIC!B129","v":0}]
[null,{"$f":"APPLIC!B130","v":0}]
[null,{"$f":"APPLIC!B131","v":0}]
[null,{"$f":"APPLIC!B132","v":0}]
[null,{"$f":"APPLIC!B133","v":0}]
[null,{"$f":"APPLIC!B134","v":0}]
[null,{"$f":"APPLIC!B135","v":0}]
[null,{"$f":"APPLIC!B136","v":0}]
[null,{"$f":"APPLIC!B137","v":0}]
[null,{"$f":"APPLIC!B138","v":0}]

{"sheet":"Floor","index":14,"n_rows":26,"n_cols":9,"rows_kept":26,"cut":false,"hidden":false,"merged":[]}
["I think we can remove this for 8P:  Was used only to creat a row in CHAR.  I moved that to CHAR. Grist Nov 11, 2019."]
[null,null,"2013 CBSA data"]
[null,null,"Million SF"]
[]
[null,null,"SumArea","Percent"]
[null,"BTYPE",0,"V_Existing"]
["Large Off","Large Off",{"$f":"G7/1000000","v":322.65780599999999},{"$f":"C7/C$26","v":9.6336650827114415E-2},null,"Large Off",322657806,9.6336650827114387E-2]
["Medium Off","Medium Off",316.24200400000001,9.4421070712341362E-2,null,"Medium Off",316242004,9.4421070712341335E-2]
["Small Off","Small Off",95.458311600000016,2.8501198056107426E-2,null,"Small Off",95458311.600000009,2.8501198056107416E-2]
["Xlarge Ret","Xlarge Ret",133.95332400000001,3.999473857861454E-2,null,"Xlarge Ret",133953324,3.9994738578614526E-2]
["Large Ret","Large Ret",31.55076,9.4201798094731004E-3,null,"Large Ret",31550760,9.4201798094730969E-3]
["Medium Ret","Medium Ret",346.19952999999998,0.10336555514209726,null,"Medium Ret",346199530,0.10336555514209725]
["Small Ret","Small Ret",59.225870599999993,1.7683198453051097E-2,null,"Small Ret",59225870.599999994,1.768319845305109E-2]
["School K-12","School K-12",245.35316429999997,7.3255633922263544E-2,null,"School K-12",245353164.29999998,7.325563392226353E-2]
["University","University",123.989124,3.701970546823774E-2,null,"University",123989124,3.7019705468237733E-2]
["Warehouse","Warehouse",442.22405430000003,0.13203580856943528,null,"Warehouse",442224054.30000001,0.13203580856943525]
["Supermarket","Supermarket",65.429751400000001,1.9535504789016944E-2,null,"Supermarket",65429751.399999999,1.9535504789016941E-2]
["MiniMart","MiniMart",11.691088099999998,3.4906338887047794E-3,null,"MiniMart",11691088.099999998,3.4906338887047785E-3,{"$f":"G18/SUM(G17:G18)","v":0.15159440918689684}]
["Restaurant","Restaurant",53.036741800000001,1.5835296654172451E-2,null,"Restaurant",53036741.800000004,1.5835296654172448E-2]
["Lodging","Lodging",171.0409248,5.1068065124091046E-2,null,"Lodging",171040924.80000001,5.1068065124091039E-2]
["Hospital","Hospital",103.75403529999998,3.0978070527759683E-2,null,"Hospital",103754035.29999998,3.0978070527759676E-2]
["Residential Care","Residential Care",125.16063630000001,3.7369486472404026E-2,null,"Residential Care",125160636.30000001,3.7369486472404019E-2]
["Assembly","Assembly",368.87205360000002,0.11013494038183547,null,"Assembly",368872053.60000002,0.11013494038183544]
["Other","Other",333.43446839999996,9.9554262623279946E-2,null,"Other",333434468.39999998,9.9554262623279918E-2]
[null,null,null,null,null,null,3349273648.5000005,0.99999999999999989]
[null,null,{"$f":"SUM(C7:C24)","v":3349.2736484999996},{"$f":"C26/C$26","v":1}]

{"sheet":"Vars","index":15,"n_rows":43,"n_cols":11,"rows_kept":43,"cut":false,"hidden":false,"merged":[]}
["VARS","Variable Names used in Characteristics data"]
[null,null,null,null,"Common Inputs"]
[]
[null,null,null,null,null,"In 2016$"]
["Variable Name","Definition","Row",null,{"$f":"[35]Labor!A27","v":"Profession"},{"$f":"[35]Labor!B28","v":"Mean Hourly Wage"},{"$f":"[35]Labor!C28","v":"Fully Burdened Rate"},{"$f":"[35]Labor!D28","v":"Market Rate"},null,"Deflator Name","Deflator Value"]
["FloorA%ACT","Floor Area of Activity Type as percent of Region",{"$f":"ROW()-5","v":1},null,{"$f":"[35]Labor!A29","v":"Electrician"},{"$f":"[35]Labor!B29*(1/$K$12)","v":30.169293667155262},{"$f":"[35]Labor!C29*(1/$K$12)","v":45.585459661041433},{"$f":"[35]Labor!D29*(1/$K$12)","v":91.170919322082867},null,{"$f":"'[35]GDP Deflator'!H77","v":"DEFL10_12"},{"$f":"'[35]GDP Deflator'!I77","v":1.0404966352519465}]
["V Cohort Stock Header","Building Types",{"$f":"ROW()-5","v":2},null,{"$f":"[35]Labor!A30","v":"Insulation Workers"},{"$f":"[35]Labor!B30*(1/$K$12)","v":20.515450390654017},{"$f":"[35]Labor!C30*(1/$K$12)","v":30.998612248897182},{"$f":"[35]Labor!D30*(1/$K$12)","v":46.497918373345776},null,{"$f":"'[35]GDP Deflator'!H78","v":"DEFL11_12"},{"$f":"'[35]GDP Deflator'!I78","v":1.0191968119125212}]
["FloorA%TYP","Floor Area of Building Type as percent of Activity Type",{"$f":"ROW()-5","v":3},null,{"$f":"[35]Labor!A31","v":"Plumbers, Pipefitters, and Steamfitters"},{"$f":"[35]Labor!B31*(1/$K$12)","v":31.484520841935019},{"$f":"[35]Labor!C31*(1/$K$12)","v":47.572752966031871},{"$f":"[35]Labor!D31*(1/$K$12)","v":95.145505932063742},null,{"$f":"'[35]GDP Deflator'!H79","v":"DEFL12_12"},{"$f":"'[35]GDP Deflator'!I79","v":1}]
["FloorA%REG","Floor Area of Buiding Type as percent of Region",4,null,{"$f":"[35]Labor!A32","v":"Unskilled Labor"},{"$f":"[35]Labor!B32*(1/$K$12)","v":19.896297113082653},{"$f":"[35]Labor!C32*(1/$K$12)","v":30.063078687186444},{"$f":"[35]Labor!D32*(1/$K$12)","v":45.094618030779671},null,{"$f":"'[35]GDP Deflator'!H80","v":"DEFL13_12"},{"$f":"'[35]GDP Deflator'!I80","v":0.98277662436579405}]
["ElecHt%TYP","Floor Area of Electric Space Heat as percent for Building Type",5,null,{"$f":"[35]Labor!A33","v":"HVAC Installers"},{"$f":"[35]Labor!B33*(1/$K$12)","v":23.979710105307802},{"$f":"[35]Labor!C33*(1/$K$12)","v":36.233069283920365},{"$f":"[35]Labor!D33*(1/$K$12)","v":72.46613856784073},null,{"$f":"'[35]GDP Deflator'!H81","v":"DEFL14_12"},{"$f":"'[35]GDP Deflator'!I81","v":0.96454993537434641}]
["GasHt%TYP","Floor Area of Fossil Fuel Space Heat as percent for Building Type, includes gas, oil, steam, propane",6,null,{"$f":"[35]Labor!A34","v":"Control and Valve Installers"},{"$f":"[35]Labor!B34*(1/$K$12)","v":29.564426676826262},{"$f":"[35]Labor!C34*(1/$K$12)","v":44.67151251689743},{"$f":"[35]Labor!D34*(1/$K$12)","v":67.007268775346134},null,{"$f":"'[35]GDP Deflator'!H82","v":"DEFL15_12"},{"$f":"'[35]GDP Deflator'!I82","v":0.95430492332064087}]
["HtPmpHt%TYP","Floor Area of HEat Pump Space Heat as percent for Building Type",7,null,{"$f":"[35]Labor!A35","v":"Industrial Machinery Mechanics"},{"$f":"[35]Labor!B35*(1/$K$12)","v":26.969385245998634},{"$f":"[35]Labor!C35*(1/$K$12)","v":40.750434424422536},{"$f":"[35]Labor!D35*(1/$K$12)","v":61.125651636633812},null,{"$f":"'[35]GDP Deflator'!H83","v":"DEFL16_12"},{"$f":"'[35]GDP Deflator'!I83","v":0.9439966959702637}]
["CoolSat%TYP","Cooling Saturation as percent of Floor Area in Building Type",8,null,{"$f":"[35]Labor!A36","v":"Electrical Engineers"},{"$f":"[35]Labor!B36*(1/$K$12)","v":47.908532987254389},{"$f":"[35]Labor!C36*(1/$K$12)","v":72.389248552005824},{"$f":"[35]Labor!D36*(1/$K$12)","v":108.58387282800875},null,{"$f":"'[35]GDP Deflator'!H84","v":"DEFL17_12"},{"$f":"'[35]GDP Deflator'!I84","v":0.92639470466167639}]
["CoolSat%ACT","Cooling Saturation as percent of Floor Area in Activity Type",9,null,{"$f":"[35]Labor!A37","v":"Mechanical Engineers"},{"$f":"[35]Labor!B37*(1/$K$12)","v":43.132497844756735},{"$f":"[35]Labor!C37*(1/$K$12)","v":65.172713762360814},{"$f":"[35]Labor!D37*(1/$K$12)","v":97.759070643541222},null,{"$f":"'[35]GDP Deflator'!H85","v":"DEFL18_12"},{"$f":"'[35]GDP Deflator'!I85","v":0.90592691977373285}]
["PackRT%TYP","Package Roof Top Units as percentage of Building Type",10,null,{"$f":"[35]Labor!A38","v":"Architects"},{"$f":"[35]Labor!B38*(1/$K$12)","v":35.97919819624434},{"$f":"[35]Labor!C38*(1/$K$12)","v":54.364159337183551},{"$f":"[35]Labor!D38*(1/$K$12)","v":81.54623900577532},null,{"$f":"'[35]GDP Deflator'!H86","v":"DEFL19_12"},{"$f":"'[35]GDP Deflator'!I86","v":0.89611279333498817}]
["PackRT%ACT","Package Roof Top Units as percentage of Activity Type",11,null,{"$f":"[35]Labor!A39","v":"Engineering Technicians"},{"$f":"[35]Labor!B39*(1/$K$12)","v":30.937152749178104},{"$f":"[35]Labor!C39*(1/$K$12)","v":46.745686002270759},{"$f":"[35]Labor!D39*(1/$K$12)","v":70.118529003406138}]
["BuiltUp%TYP","Built-Up Systems as percentage of Building Type",12]
["BuiltUp%ACT","Built-Up Systems as percentage of Activity Type",13]
["VAV%TYP","Multi-Zone VAV System as percentage of Building Type",14]
["VAV%ACT","Multi-Zone VAV System as percentage of Activity Type",15]
["LSYieldElecHt&AC","Lighting savings yield for electric heat buildings with cooling weighted for cooling saturation",16]
["LSYieldHtPmpHt&AC","Lighting savings yield for heat pump heat buildings with cooling  weighted for cooling saturation",17]
["LSYieldGasHt&AC","Lighting savings yield for gas or fossil heat buildings with cooling  weighted for cooling saturation",18]
["LSYieldElecHt","Lighting savings yield for electric heat buildings with NO cooling",19]
["LSYieldGasHt","Lighting savings yield for gas or fossil heat buildings with NO cooling",20]
["LSYieldThermsGasHt","Lighting savings yield IN THERMS for gas or fossil heat buildings with NO cooling",21]
["LSYieldThermsGasHt&AC","Lighting savings yield IN THERMS for gas or fossil heat buildings with cooling",22]
["LPDAdjust","Adjustment to LPD to reflect fraction of lights actually on during operating Hours (Effective on-hours LPD)",23]
["Chiller%TYP","Chiller system as percentage of Building Type",24]
["HOURSLght","Annaul hours of lighting system operation by Building Type",25]
["UnCondArea%TYP","Floor area not thermally conditioned by Building Type",26]
["RTEcono%TYP","Fraction of package roof-top units with economizers",27]
["FloorA%PRE2002","Floor Area for Vintage Cohort of PRE2002 Stock ",28]
["FloorA%PRE2006","Floor Area for Vintage Cohort of PRE2006 Stock ",29]
["ElecHtComplex%TYP","Floor Area of Electric Space Heat for Complex HVAC Systems as percent for Building Type",30]
["GasHtComplex%TYP","Floor Area of Fossil Fuel Space Heat  for Complex HVAC Systems as percent for Building Type, includes gas, oil, steam, propane",31]
["HtPmpHtComplex%TYP","Floor Area of Heat Pump Space Heat for Complex HVAC Systems as percent for Building Type",32]
["ElecHtSimple%TYP","Floor Area of Electric Space Heat for Simple HVAC Systems as percent for Building Type",33]
["GasHtSimple%TYP","Floor Area of Fossil Fuel Space Heat  for Simple HVAC Systems as percent for Building Type, includes gas, oil, steam, propane",34]
["HtPmpHtSimple%TYP","Floor Area of Heat Pump Space Heat for Simple HVAC Systems as percent for Building Type",35]
["ChillerAir%TYP","Fraction of Chiller-Served Cooling Capacity that is served by Air-Cooled Chiller for HVAC system",36]
["ChillerWater%TYP","Fraction of Chiller-Served Cooling Capacity that is served by Water-Cooled Chiller for HVAC system",37]
["WinFloorRatio%TYP","Ratio of window area to floor area by Btype",38]

{"sheet":"Labels","index":16,"n_rows":126,"n_cols":16,"rows_kept":126,"cut":false,"hidden":false,"merged":[[80,4,80,7],[57,13,57,15],[29,7,30,7],[29,9,30,9],[31,7,32,7],[31,9,32,9],[43,7,44,7],[43,9,44,9]]}
[]
[null,"Seventh Plan Building Types",null,null,null,null,null,null,"Sixth Plan "]
[null,"Primary Activity","7P Building Type","Name Used in Models","Gross Floor Area in Square Feet","6P Building Type","Gross Floor Area in Square Feet","Number of Stories"]
[null,"Office","Large Office","Large Off",">50,000","Large Office","> 100,000","Any"]
[null,"Office","Medium Office","Medium Off","5,000 to 50,000","Medium Office","20,000 to 100,000","Any"]
[null,"Office","Small Office","Small Off","<5,000","Small Office","< 20,000","Any"]
[null,"Retail","Extra Large Retail","Xlarge Ret",">100,000","Big Box","> 50,000",1]
[null,"Retail","Large Retail","Large Ret","50,000 - 100,000","Small Box","<50,000",1]
[null,"Retail","Medium Retail","Medium Ret","5000 - 50,000","High End","< 20,000",1]
[null,"Retail","Small Retail","Small Ret","<5000","Anchor","> 50,000",">1"]
[null,"School","School K-12","School K-12","Any","K-12","Any","Any"]
[null,"School","University","University","Any","University","Any","Any"]
[null,"Warehouse","Warehouse","Warehouse","Any","Warehouse","Any","Any"]
[null,"Retail Food Sales","Supermarket","Supermarket","> 5000","Supermarket","> 5000","Any"]
[null,"Retail Food Sales","MiniMart","MiniMart","< 5000","MiniMart","< 5000","Any"]
[null,"Restaurant","Restaurant","Restaurant","Any","Restaurant","Any","Any"]
[null,"Lodging","Lodging","Lodging","Any","Lodging","Any","Any"]
[null,"Health Care","Hospital","Hospital","Any","Hospital","Any","Any"]
[null,"Health Care","Residential Care","Residential Care","Any","OtherHealth","Any","Any"]
[null,"Assembly","Assembly","Assembly","Any","Assembly","Any","Any"]
[null,"Other","Other","Other","Any","Other","Any","Any"]
[]
[]
[null,"Bldg_Type","Office",null,"CBSA Data"]
[null,"HeatSys_Primary_PrimFuel","(All)"]
[]
[null,null,"Values"]
[null,"Row Labels","Count of Bldg_Name","Sum of Sf_PNW (New Data)","Sum of Chiller_Qty","Average of LPD_Ind","WT Average of LPD_Ind",null,"WT Average of Annual Hrs_Light",null,"Average of HeatSys_ Electricity_Pct","WT Average of HeatSys_ Electricity_Pct","Average of Hrs_Occupied","New EUIs"]
[null,"<5,001",32,95458311.526895136,0,1.44600515748125,1.4196043411312098,null,2605.1531889816397,{"$f":"I29","v":2605.1531889816397},55.871005424767731,62.641582479308482,51.078125,15.414112631735692]
[null,"5,001-20,000",21,179770297.47310495,1,1.1349086639428572,1.1352814227841366,{"$f":"SUMPRODUCT(G30:G31,C30:C31)/SUM(C30:C31)","v":1.1271197868627141},2621.0311132130655,{"$f":"SUMPRODUCT(I30:I31,D30:D31)/SUM(D30:D31)","v":2810.5319958026707},54.065498637753784,52.128877602508318,53.38095238095238,12.555992472807018]
[null,"20,001-50,000",29,136471707.75979474,4,1.152219445848276,1.1212096367127184,null,3060.1561163897027,null,37.18170782263401,34.735507973306092,59.137931034482762,16.763935531313802]
[null,"50,001-100,000",10,121007363.24020527,13,0.82888965290000005,0.8372967994754239,{"$f":"SUMPRODUCT(G32:G33,C32:C33)/SUM(C32:C33)","v":0.86082195143942553},3222.7884337083865,{"$f":"SUMPRODUCT(I32:I33,D32:D33)/SUM(D32:D33)","v":3295.5283728075524},33.806146572104019,24.223397014792155,61.1,22.992427101465715]
[null,"100,001+",24,201650445.99999997,35,0.88098196757083302,0.87062409809109287,null,3339.1785030564247,null,49.790143766954543,55.115989937160393,61.958333333333336,14.574986322602543]
[null,"Grand Total",116,734358126.00000024,53,1.1461385746767239,1.0478499451391019,null,2996.9298166001049,null,47.761973122568946,46.485045602193175,56.625]
[]
[]
[null,"Bldg_Type","Retail/Service"]
[null,"HeatSys_Primary_PrimFuel","(All)"]
[]
[null,null,"Values"]
[null,"Row Labels","Count of Bldg_Name","Sum of Sf_PNW (New Data)","Sum of Chiller_Qty","Average of LPD_Ind","WT Average of LPD_Ind",null,"WT Average of Annual Hrs_Light",null,"Average of HeatSys_Electricity_Pct","WT Average of HeatSys_ Electricity_Pct","Average of Hrs_Occupied","New EUIs"]
[null,"<5,001",30,59224380.554442525,0,1.5272819154399999,1.4369897064659012,null,2762.118796566951,null,43.785677771108105,33.051637833495548,55.1,12.875436812066214]
[null,"5,001-20,000",25,186496889.44555736,0,1.2664125675400002,1.2388327171274434,null,3795.0044826849821,null,37.407750162009684,23.158266244637343,76.34,12.333063850163656]
[null,"20,001-50,000",34,159704133.08919233,0,1.0958497064352939,1.0864505514680138,{"$f":"SUMPRODUCT(G44:G45,C44:C45)/SUM(C44:C45)","v":1.0777987100431961},3667.5345811967941,{"$f":"SUMPRODUCT(I44:I45,D44:D45)/SUM(D44:D45)","v":3692.2254794077244},13.037434423723496,11.646288604900541,72.32352941176471,10.175630709696762]
[null,"50,001-100,000",4,31550759.910807587,0,0.98225486277500007,1.004258057932244,null,3817.2062565781425,null,1.8510750088321051,1.570370412390194,77.25,10.151096637221519]
[null,"100,001+",34,133953325,6,1.1930721681228571,1.1904887164069691,null,6230.7045853104373,null,12.375882269927777,8.4570799844658442,128.59285714285716,17.009833900111737]
[null,"Grand Total",127,570929487.99999988,6,1.2533141172335944,1.1924571389360319,null,4224.9019225439506,null,24.047433324688789,16.322099981443166,84.611328125]
[]
[]
[]
[]
[]
[]
["6P Labels"]
[]
["Labels","Map to building occupancy codes for various sources"]
[]
[null,"Ecotope Building Type","NPPC BUILDTYPE",null,"NPPC to Ecotope","NPPC Ten",null,"VCohort",null,null,null,null,null,"Characteristics"]
[null,"Assembly","Large Off",null,{"$f":"B67","v":"Office - Large"},"Large Off",null,"New","Apples to new floor area in year",null,null,"Primary Activity","Council Building Type","Gross Floor Area in Square Feet","Number of Stories","Other"]
[null,"College","Medium Off",null,{"$f":"B67","v":"Office - Large"},"Medium Off",null,"Retrofit","Applies to existing floor area in year taking account of demolition, NR, and baseline measure penetration.",null,null,"Office","Large Office","> 100,000","Any"]
[null,"Grocery","Small Off",null,{"$f":"B68","v":"Office - Small"},"Small Off",null,"NR","Applies at natural replacement of system or component. Replace on Burn Out",null,null,"Office","Medium Office","20,000 to 100,000","Any"]
[null,"Hospital","Big Box",null,{"$f":"B71","v":"Retail - Large"},"Big Box",null,null,null,null,null,"Office","Small Office","< 20,000","Any"]
[null,"Hotel","Small Box",null,{"$f":"B72","v":"Retail - Small"},"Small Box",null,null,null,null,null,"Retail","Big Box","> 50,000",1,"Includes some Grocery"]
[null,"Lab","High End",null,{"$f":"B72","v":"Retail - Small"},"High End",null,null,null,null,null,"Retail","Small Box","<50,000",1]
[null,"Laundry","Anchor",null,{"$f":"B71","v":"Retail - Large"},"Anchor",null,null,null,null,null,"Retail","High End","< 20,000",1,"High lighting density"]
[null,"Motel","K-12",null,{"$f":"B74","v":"School - Primary"},"K-13",null,null,null,null,null,"Retail","Anchor","> 50,000",">1"]
[null,"Office - Large","University",null,{"$f":"B60","v":"College"},"University",null,null,null,null,null,"School","K-12","Any","Any"]
[null,"Office - Small","Warehouse",null,{"$f":"B78","v":"Warehouse"},"Warehouse",null,null,null,null,null,"School","University","Any","Any"]
[null,"Rest-Fast Food","Supermarket",null,{"$f":"B61","v":"Grocery"},"Supermarket",null,null,null,null,null,"Warehouse","Warehouse","Any","Any"]
[null,"Rest-Full Serve","MIniMart",null,{"$f":"B61","v":"Grocery"},"MIniMart",null,null,null,null,null,"Retail Food Sales","Supermarket","> 5000","Any"]
[null,"Retail - Large","Restaurant",null,{"$f":"B69","v":"Rest-Fast Food"},"Restaurant",null,null,null,null,null,"Retail Food Sales","MiniMart","< 5000","Any"]
[null,"Retail - Small","Lodging",null,{"$f":"B66","v":"Motel"},"Lodging",null,null,null,null,null,"Restaurant","Restaurant","Any","Any"]
[null,"Retirement","Hospital",null,{"$f":"B62","v":"Hospital"},"Hospital",null,null,null,null,null,"Lodging","Lodging","Any","Any"]
[null,"School - Primary","OtherHealth",null,{"$f":"B77","v":"Skilled Nursing"},"OtherHealth",null,null,null,null,null,"Health Care","Hospital","Any","Any"]
[null,"School - Secondary","Assembly",null,"Assembly",null,null,null,null,null,null,"Health Care","OtherHealth","Any","Any"]
[null,"Workshop","Other",null,{"$f":"B79","v":"Other"},"Other",null,null,null,null,null,"Other","Other","Any","Any"]
[null,"Skilled Nursing"]
[null,"Warehouse"]
[null,"Other"]
[]
[null,null,null,null,"Characteristics"]
[null,null,"NPPC BUILDTYPE",null,"Primary Activity","Gross Floor Area","Number of Stories","Other","Note"]
[null,null,"Large Off",null,"Office","> 100,000","Any"]
[null,null,"Medium Off",null,"Office","20,000 to 100,000","Any"]
[null,null,"Small Off",null,"Office","< 20,000","Any"]
[null,null,"Big Box",null,"Retail","> 50,000",1,null,"Includes some stores that have groceries inside"]
[null,null,"Small Box",null,"Retail","<50,000",1]
[null,null,"High End",null,"Retail","< 20,000",1,"and LPD > 2.0 w/sf"]
[null,null,"Anchor",null,"Retail","> 50,000",">1"]
[null,null,"K-12",null,"School","Any","Any"]
[null,null,"University",null,"School","Any","Any"]
[null,null,"Warehouse",null,"Warehouse","Any","Any"]
[null,null,"Supermarket",null,"Retail Food","> 5000","Any"]
[null,null,"MIniMart",null,"Retail Food","<= 5000","Any"]
[null,null,"Restaurant",null,"Retail Food","Any","Any"]
[null,null,"Lodging",null,"Lodging","Any","Any"]
[null,null,"Hospital",null,"Health Care","Any","Any"]
[null,null,"OtherHealth",null,"Health Care","Any","Any"]
[null,null,"Other",null,"Other","Any","Any"]
[]
[]
[]
[]
[]
[]
[null,"Year"]
[null,1,2022]
[null,2,2023]
[null,3,2024]
[null,4,2025]
[null,5,2026]
[null,6,2027]
[null,7,2028]
[null,8,2029]
[null,9,2030]
[null,10,2031]
[null,11,2032]
[null,12,2033]
[null,13,2034]
[null,14,2035]
[null,15,2036]
[null,16,2037]
[null,17,2038]
[null,18,2039]
[null,19,2040]
[null,20,2041]

{"sheet":"Lookup","index":17,"n_rows":0,"n_cols":0,"rows_kept":0,"cut":false,"hidden":false,"merged":[]}

{"sheet":"EUI","index":18,"n_rows":135,"n_cols":23,"rows_kept":135,"cut":false,"hidden":true,"merged":[[89,2,89,12],[112,2,112,6],[112,7,112,11],[52,2,52,4],[52,5,52,8],[52,9,52,10],[78,2,78,4],[78,5,78,8],[78,9,78,10],[78,12,78,13],[67,12,67,13],[76,2,76,4],[76,5,76,8],[75,5,75,8],[73,2,73,4],[73,5,73,8],[74,2,74,4],[74,5,74,8],[75,2,75,4],[76,9,76,10],[65,12,65,13],[76,12,76,13],[74,12,74,13],[75,9,75,10],[75,12,75,13],[74,9,74,10],[71,12,71,13],[65,2,65,4],[65,5,65,8],[67,2,67,4],[67,5,67,8],[67,9,67,10],[71,16,71,17],[73,9,73,10],[73,12,73,13],[71,2,71,4],[71,5,71,8],[13,2,13,4],[13,5,13,8],[13,9,13,10],[13,12,13,13],[65,16,65,17],[52,12,52,13],[19,9,19,10],[19,12,19,13],[19,16,19,17],[15,16,15,17],[15,2,15,4],[15,5,15,8],[15,9,15,10],[15,12,15,13],[5,16,5,17],[85,2,85,4],[85,5,85,8],[85,12,85,13],[4,16,4,17],[19,2,19,4],[19,5,19,8],[13,16,13,17],[5,2,5,4],[5,5,5,8],[4,2,4,4],[84,2,84,4],[84,5,84,8],[84,12,84,13],[82,2,82,4],[82,5,82,8],[82,12,82,13],[4,5,4,8],[4,9,4,10],[4,12,4,13],[86,2,86,4],[86,5,86,8],[86,12,86,13],[79,2,79,4],[79,5,79,8],[79,9,79,10],[79,12,79,13],[83,2,83,4],[83,5,83,8],[83,12,83,13],[5,9,5,10],[5,12,5,13]]}
["This is old, but we could update with 7P data.  It is not being used."]
["EUI","ESTIMATE OF 2002 ELECTRIC EUI BY BUILDING TYPE AND SPACE HEAT FUEL. "]
[null,"USE FOR ROUGH APPROXIMATION ONLY. UPDATED 3-25-2004 BY CHARLIE GRIST ",null,null,null,null,null,null,null,"DATA WERE USED IN 5th PLAN HVAC CONTROLS OPTIMIZATION AND COMMISSIONING ESTIMATES.  HERE ONLY AS REFERENCE."]
[{"$f":"CHAR!#REF!","v":{"$error":"#REF!"}}]
[{"$f":"CHAR!#REF!","v":{"$error":"#REF!"}},{"$f":"CHAR!#REF!","v":{"$error":"#REF!"}},{"$f":"CHAR!#REF!","v":{"$error":"#REF!"}},null,null,{"$f":"CHAR!#REF!","v":{"$error":"#REF!"}},null,null,null,{"$f":"CHAR!#REF!","v":{"$error":"#REF!"}},null,{"$f":"CHAR!#REF!","v":{"$error":"#REF!"}},{"$f":"CHAR!#REF!","v":{"$error":"#REF!"}},null,{"$f":"CHAR!#REF!","v":{"$error":"#REF!"}},{"$f":"CHAR!#REF!","v":{"$error":"#REF!"}},{"$f":"CHAR!#REF!","v":{"$error":"#REF!"}},null,"Assembly",{"$f":"CHAR!#REF!","v":{"$error":"#REF!"}},{"$f":"CHAR!#REF!","v":{"$error":"#REF!"}}]
[{"$f":"CHAR!#REF!","v":{"$error":"#REF!"}},{"$f":"CHAR!#REF!","v":{"$error":"#REF!"}},{"$f":"CHAR!#REF!","v":{"$error":"#REF!"}},null,null,{"$f":"CHAR!#REF!","v":{"$error":"#REF!"}},null,null,null,{"$f":"CHAR!#REF!","v":{"$error":"#REF!"}},null,{"$f":"CHAR!#REF!","v":{"$error":"#REF!"}},{"$f":"CHAR!#REF!","v":{"$error":"#REF!"}},null,{"$f":"CHAR!#REF!","v":{"$error":"#REF!"}},{"$f":"CHAR!#REF!","v":{"$error":"#REF!"}},{"$f":"CHAR!#REF!","v":{"$error":"#REF!"}},null,{"$f":"CHAR!#REF!","v":{"$error":"#REF!"}},{"$f":"CHAR!#REF!","v":{"$error":"#REF!"}},{"$f":"CHAR!#REF!","v":{"$error":"#REF!"}}]
[{"$f":"CHAR!#REF!","v":{"$error":"#REF!"}},{"$f":"CHAR!#REF!","v":{"$error":"#REF!"}},{"$f":"CHAR!#REF!","v":{"$error":"#REF!"}},{"$f":"CHAR!#REF!","v":{"$error":"#REF!"}},{"$f":"CHAR!#REF!","v":{"$error":"#REF!"}},{"$f":"CHAR!#REF!","v":{"$error":"#REF!"}},{"$f":"CHAR!#REF!","v":{"$error":"#REF!"}},{"$f":"CHAR!#REF!","v":{"$error":"#REF!"}},{"$f":"CHAR!#REF!","v":{"$error":"#REF!"}},{"$f":"CHAR!#REF!","v":{"$error":"#REF!"}},{"$f":"CHAR!#REF!","v":{"$error":"#REF!"}},{"$f":"CHAR!#REF!","v":{"$error":"#REF!"}},{"$f":"CHAR!#REF!","v":{"$error":"#REF!"}},{"$f":"CHAR!#REF!","v":{"$error":"#REF!"}},{"$f":"CHAR!#REF!","v":{"$error":"#REF!"}},{"$f":"CHAR!#REF!","v":{"$error":"#REF!"}},{"$f":"CHAR!#REF!","v":{"$error":"#REF!"}},{"$f":"CHAR!#REF!","v":{"$error":"#REF!"}},"Assembly",{"$f":"CHAR!#REF!","v":{"$error":"#REF!"}},{"$f":"CHAR!#REF!","v":{"$error":"#REF!"}}]
[{"$f":"CHAR!#REF!","v":{"$error":"#REF!"}},{"$f":"CHAR!#REF!","v":{"$error":"#REF!"}},{"$f":"CHAR!#REF!","v":{"$error":"#REF!"}},{"$f":"CHAR!#REF!","v":{"$error":"#REF!"}},{"$f":"CHAR!#REF!","v":{"$error":"#REF!"}},{"$f":"CHAR!#REF!","v":{"$error":"#REF!"}},{"$f":"CHAR!#REF!","v":{"$error":"#REF!"}},{"$f":"CHAR!#REF!","v":{"$error":"#REF!"}},{"$f":"CHAR!#REF!","v":{"$error":"#REF!"}},{"$f":"CHAR!#REF!","v":{"$error":"#REF!"}},{"$f":"CHAR!#REF!","v":{"$error":"#REF!"}},{"$f":"CHAR!#REF!","v":{"$error":"#REF!"}},{"$f":"CHAR!#REF!","v":{"$error":"#REF!"}},{"$f":"CHAR!#REF!","v":{"$error":"#REF!"}},{"$f":"CHAR!#REF!","v":{"$error":"#REF!"}},{"$f":"CHAR!#REF!","v":{"$error":"#REF!"}},{"$f":"CHAR!#REF!","v":{"$error":"#REF!"}},{"$f":"CHAR!#REF!","v":{"$error":"#REF!"}},{"$f":"CHAR!#REF!","v":{"$error":"#REF!"}},{"$f":"CHAR!#REF!","v":{"$error":"#REF!"}},{"$f":"CHAR!#REF!","v":{"$error":"#REF!"}}]
[{"$f":"CHAR!#REF!","v":{"$error":"#REF!"}},{"$f":"CHAR!#REF!","v":{"$error":"#REF!"}},{"$f":"CHAR!#REF!","v":{"$error":"#REF!"}},{"$f":"CHAR!#REF!","v":{"$error":"#REF!"}},{"$f":"CHAR!#REF!","v":{"$error":"#REF!"}},{"$f":"CHAR!#REF!","v":{"$error":"#REF!"}},{"$f":"CHAR!#REF!","v":{"$error":"#REF!"}},{"$f":"CHAR!#REF!","v":{"$error":"#REF!"}},{"$f":"CHAR!#REF!","v":{"$error":"#REF!"}},{"$f":"CHAR!#REF!","v":{"$error":"#REF!"}},{"$f":"CHAR!#REF!","v":{"$error":"#REF!"}},{"$f":"CHAR!#REF!","v":{"$error":"#REF!"}},{"$f":"CHAR!#REF!","v":{"$error":"#REF!"}},{"$f":"CHAR!#REF!","v":{"$error":"#REF!"}},{"$f":"CHAR!#REF!","v":{"$error":"#REF!"}},{"$f":"CHAR!#REF!","v":{"$error":"#REF!"}},{"$f":"CHAR!#REF!","v":{"$error":"#REF!"}},{"$f":"CHAR!#REF!","v":{"$error":"#REF!"}},{"$f":"CHAR!#REF!","v":{"$error":"#REF!"}},{"$f":"CHAR!#REF!","v":{"$error":"#REF!"}},{"$f":"CHAR!#REF!","v":{"$error":"#REF!"}}]
[{"$f":"CHAR!#REF!","v":{"$error":"#REF!"}},{"$f":"CHAR!#REF!","v":{"$error":"#REF!"}},{"$f":"CHAR!#REF!","v":{"$error":"#REF!"}},{"$f":"CHAR!#REF!","v":{"$error":"#REF!"}},{"$f":"CHAR!#REF!","v":{"$error":"#REF!"}},{"$f":"CHAR!#REF!","v":{"$error":"#REF!"}},{"$f":"CHAR!#REF!","v":{"$error":"#REF!"}},{"$f":"CHAR!#REF!","v":{"$error":"#REF!"}},{"$f":"CHAR!#REF!","v":{"$error":"#REF!"}},{"$f":"CHAR!#REF!","v":{"$error":"#REF!"}},{"$f":"CHAR!#REF!","v":{"$error":"#REF!"}},{"$f":"CHAR!#REF!","v":{"$error":"#REF!"}},{"$f":"CHAR!#REF!","v":{"$error":"#REF!"}},{"$f":"CHAR!#REF!","v":{"$error":"#REF!"}},{"$f":"CHAR!#REF!","v":{"$error":"#REF!"}},{"$f":"CHAR!#REF!","v":{"$error":"#REF!"}},{"$f":"CHAR!#REF!","v":{"$error":"#REF!"}},{"$f":"CHAR!#REF!","v":{"$error":"#REF!"}},{"$f":"CHAR!#REF!","v":{"$error":"#REF!"}},{"$f":"CHAR!#REF!","v":{"$error":"#REF!"}},{"$f":"CHAR!#REF!","v":{"$error":"#REF!"}}]
[{"$f":"CHAR!#REF!","v":{"$error":"#REF!"}},{"$f":"CHAR!#REF!","v":{"$error":"#REF!"}},{"$f":"CHAR!#REF!","v":{"$error":"#REF!"}},{"$f":"CHAR!#REF!","v":{"$error":"#REF!"}},{"$f":"CHAR!#REF!","v":{"$error":"#REF!"}},{"$f":"CHAR!#REF!","v":{"$error":"#REF!"}},{"$f":"CHAR!#REF!","v":{"$error":"#REF!"}},{"$f":"CHAR!#REF!","v":{"$error":"#REF!"}},{"$f":"CHAR!#REF!","v":{"$error":"#REF!"}},{"$f":"CHAR!#REF!","v":{"$error":"#REF!"}},{"$f":"CHAR!#REF!","v":{"$error":"#REF!"}},{"$f":"CHAR!#REF!","v":{"$error":"#REF!"}},{"$f":"CHAR!#REF!","v":{"$error":"#REF!"}},{"$f":"CHAR!#REF!","v":{"$error":"#REF!"}},{"$f":"CHAR!#REF!","v":{"$error":"#REF!"}},{"$f":"CHAR!#REF!","v":{"$error":"#REF!"}},{"$f":"CHAR!#REF!","v":{"$error":"#REF!"}},{"$f":"CHAR!#REF!","v":{"$error":"#REF!"}},{"$f":"CHAR!#REF!","v":{"$error":"#REF!"}},{"$f":"CHAR!#REF!","v":{"$error":"#REF!"}},{"$f":"CHAR!#REF!","v":{"$error":"#REF!"}}]
[{"$f":"CHAR!#REF!","v":{"$error":"#REF!"}},{"$f":"CHAR!#REF!","v":{"$error":"#REF!"}},{"$f":"CHAR!#REF!","v":{"$error":"#REF!"}},{"$f":"CHAR!#REF!","v":{"$error":"#REF!"}},{"$f":"CHAR!#REF!","v":{"$error":"#REF!"}},{"$f":"CHAR!#REF!","v":{"$error":"#REF!"}},{"$f":"CHAR!#REF!","v":{"$error":"#REF!"}},{"$f":"CHAR!#REF!","v":{"$error":"#REF!"}},{"$f":"CHAR!#REF!","v":{"$error":"#REF!"}},{"$f":"CHAR!#REF!","v":{"$error":"#REF!"}},{"$f":"CHAR!#REF!","v":{"$error":"#REF!"}},{"$f":"CHAR!#REF!","v":{"$error":"#REF!"}},{"$f":"CHAR!#REF!","v":{"$error":"#REF!"}},{"$f":"CHAR!#REF!","v":{"$error":"#REF!"}},{"$f":"CHAR!#REF!","v":{"$error":"#REF!"}},{"$f":"CHAR!#REF!","v":{"$error":"#REF!"}},{"$f":"CHAR!#REF!","v":{"$error":"#REF!"}},{"$f":"CHAR!#REF!","v":{"$error":"#REF!"}},{"$f":"CHAR!#REF!","v":{"$error":"#REF!"}},{"$f":"CHAR!#REF!","v":{"$error":"#REF!"}},{"$f":"CHAR!#REF!","v":{"$error":"#REF!"}}]
[{"$f":"CHAR!#REF!","v":{"$error":"#REF!"}},{"$f":"CHAR!#REF!","v":{"$error":"#REF!"}},{"$f":"CHAR!#REF!","v":{"$error":"#REF!"}},{"$f":"CHAR!#REF!","v":{"$error":"#REF!"}},{"$f":"CHAR!#REF!","v":{"$error":"#REF!"}},{"$f":"CHAR!#REF!","v":{"$error":"#REF!"}},{"$f":"CHAR!#REF!","v":{"$error":"#REF!"}},{"$f":"CHAR!#REF!","v":{"$error":"#REF!"}},{"$f":"CHAR!#REF!","v":{"$error":"#REF!"}},{"$f":"CHAR!#REF!","v":{"$error":"#REF!"}},{"$f":"CHAR!#REF!","v":{"$error":"#REF!"}},{"$f":"CHAR!#REF!","v":{"$error":"#REF!"}},{"$f":"CHAR!#REF!","v":{"$error":"#REF!"}},{"$f":"CHAR!#REF!","v":{"$error":"#REF!"}},{"$f":"CHAR!#REF!","v":{"$error":"#REF!"}},{"$f":"CHAR!#REF!","v":{"$error":"#REF!"}},{"$f":"CHAR!#REF!","v":{"$error":"#REF!"}},{"$f":"CHAR!#REF!","v":{"$error":"#REF!"}},{"$f":"CHAR!#REF!","v":{"$error":"#REF!"}},{"$f":"CHAR!#REF!","v":{"$error":"#REF!"}},{"$f":"CHAR!#REF!","v":{"$error":"#REF!"}}]
[{"$f":"CHAR!#REF!","v":{"$error":"#REF!"}},{"$f":"CHAR!#REF!","v":{"$error":"#REF!"}},{"$f":"CHAR!#REF!","v":{"$error":"#REF!"}},null,null,{"$f":"CHAR!#REF!","v":{"$error":"#REF!"}},null,null,null,{"$f":"CHAR!#REF!","v":{"$error":"#REF!"}},null,{"$f":"CHAR!#REF!","v":{"$error":"#REF!"}},{"$f":"CHAR!#REF!","v":{"$error":"#REF!"}},null,{"$f":"CHAR!#REF!","v":{"$error":"#REF!"}},{"$f":"CHAR!#REF!","v":{"$error":"#REF!"}},{"$f":"CHAR!#REF!","v":{"$error":"#REF!"}},null,{"$f":"CHAR!#REF!","v":{"$error":"#REF!"}},{"$f":"CHAR!#REF!","v":{"$error":"#REF!"}},{"$f":"CHAR!#REF!","v":{"$error":"#REF!"}}]
[{"$f":"CHAR!#REF!","v":{"$error":"#REF!"}},{"$f":"CHAR!#REF!","v":{"$error":"#REF!"}},{"$f":"CHAR!#REF!","v":{"$error":"#REF!"}},{"$f":"CHAR!#REF!","v":{"$error":"#REF!"}},{"$f":"CHAR!#REF!","v":{"$error":"#REF!"}},{"$f":"CHAR!#REF!","v":{"$error":"#REF!"}},{"$f":"CHAR!#REF!","v":{"$error":"#REF!"}},{"$f":"CHAR!#REF!","v":{"$error":"#REF!"}},{"$f":"CHAR!#REF!","v":{"$error":"#REF!"}},{"$f":"CHAR!#REF!","v":{"$error":"#REF!"}},{"$f":"CHAR!#REF!","v":{"$error":"#REF!"}},{"$f":"CHAR!#REF!","v":{"$error":"#REF!"}},{"$f":"CHAR!#REF!","v":{"$error":"#REF!"}},{"$f":"CHAR!#REF!","v":{"$error":"#REF!"}},{"$f":"CHAR!#REF!","v":{"$error":"#REF!"}},{"$f":"CHAR!#REF!","v":{"$error":"#REF!"}},{"$f":"CHAR!#REF!","v":{"$error":"#REF!"}},{"$f":"CHAR!#REF!","v":{"$error":"#REF!"}},{"$f":"CHAR!#REF!","v":{"$error":"#REF!"}},{"$f":"CHAR!#REF!","v":{"$error":"#REF!"}},{"$f":"CHAR!#REF!","v":{"$error":"#REF!"}}]
[{"$f":"CHAR!#REF!","v":{"$error":"#REF!"}},{"$f":"CHAR!#REF!","v":{"$error":"#REF!"}},{"$f":"CHAR!#REF!","v":{"$error":"#REF!"}},null,null,{"$f":"CHAR!#REF!","v":{"$error":"#REF!"}},null,null,null,{"$f":"CHAR!#REF!","v":{"$error":"#REF!"}},null,{"$f":"CHAR!#REF!","v":{"$error":"#REF!"}},{"$f":"CHAR!#REF!","v":{"$error":"#REF!"}},null,{"$f":"CHAR!#REF!","v":{"$error":"#REF!"}},{"$f":"CHAR!#REF!","v":{"$error":"#REF!"}},{"$f":"CHAR!#REF!","v":{"$error":"#REF!"}},null,{"$f":"CHAR!#REF!","v":{"$error":"#REF!"}},{"$f":"CHAR!#REF!","v":{"$error":"#REF!"}},{"$f":"CHAR!#REF!","v":{"$error":"#REF!"}}]
[]
[{"$f":"SUM(C18:T18)","v":{"$error":"#REF!"}},null,{"$f":"C19*C9","v":{"$error":"#REF!"}},{"$f":"D19*D9","v":{"$error":"#REF!"}},{"$error":"#REF!"},{"$error":"#REF!"},{"$error":"#REF!"},{"$error":"#REF!"},{"$error":"#REF!"},{"$error":"#REF!"},{"$error":"#REF!"},{"$error":"#REF!"},{"$error":"#REF!"},{"$error":"#REF!"},{"$error":"#REF!"},{"$error":"#REF!"},{"$error":"#REF!"},{"$error":"#REF!"},{"$f":"S19*S9","v":{"$error":"#REF!"}},{"$error":"#REF!"}]
[null,"E_EUITYP",{"$f":"C39","v":{"$error":"#REF!"}},{"$f":"D39","v":{"$error":"#REF!"}},{"$error":"#REF!"},{"$error":"#REF!"},{"$error":"#REF!"},{"$error":"#REF!"},{"$error":"#REF!"},{"$error":"#REF!"},{"$error":"#REF!"},{"$error":"#REF!"},{"$error":"#REF!"},{"$error":"#REF!"},{"$error":"#REF!"},{"$error":"#REF!"},{"$error":"#REF!"},{"$error":"#REF!"},{"$f":"S39","v":{"$error":"#REF!"}},{"$error":"#REF!"}]
[null,"E_EUIREG",{"$f":"(C19*C$8)+(D19*D$8)+(E19*E$8)","v":{"$error":"#REF!"}},null,null,{"$f":"(F19*F$8)+(G19*G$8)+(H19*H$8)+(I19*I$8)","v":{"$error":"#REF!"}},null,null,null,{"$f":"(J19*J$8)+(K19*K$8)","v":{"$error":"#REF!"}},null,{"$f":"L19*$L$8","v":{"$error":"#REF!"}},{"$f":"(M19*M$8)+(N19*N$8)","v":{"$error":"#REF!"}},null,{"$f":"O19*$O$8","v":{"$error":"#REF!"}},{"$f":"P19*$P$8","v":{"$error":"#REF!"}},{"$f":"(Q19*Q$8)+(R19*R$8)","v":{"$error":"#REF!"}},null,{"$f":"S19*$T$8","v":{"$error":"#REF!"}},{"$f":"T19*$T$8","v":{"$error":"#REF!"}}]
[]
[null,"ElecHtEUITYPHeat",2,2,2,2,2.2000000000000002,3,3,3,4,2,5,4,4,4,6,5,4,4]
[null,"GasHtEUITYPHeat",0.1,0.1,0.1,0.1,0.1,0.1,0.1,0.1,0.1,0.1,0.1,0.1,0.1,0.1,0.2,0.1,0.1,0.1]
[null,"HtPmpHtEUITYPHeat",{"$f":"C22/2","v":1},{"$f":"D22/2","v":1},{"$f":"E22/2","v":1},{"$f":"F22/2","v":1},1.1000000000000001,1.5,1.5,1.5,2,1,2.5,2,2,2,3,2.5,{"$f":"S22/2","v":2},2]
[null,"ThermsTYPHeat",0.27,0.27,0.27,0.28999999999999998,0.28999999999999998,0.28999999999999998,0.28999999999999998,0.28999999999999998,0.28999999999999998,0.17,0.5,0.5,0.5,0.3,0.5,0.5,0.4,0.6]
[]
[{"$f":"SUMPRODUCT(C27:T27,$C$9:$T$9)","v":{"$error":"#REF!"}},"EUITYPCool",2.5,1.8,1,1.2,2.5,3.5,4,0.7,3,0.5,4,6,5,2.5,2,3,2.5,2.5]
[{"$error":"#REF!"},"EUITYPVent",{"$f":"C47","v":{"$error":"#REF!"}},{"$f":"D47","v":{"$error":"#REF!"}},{"$f":"E47","v":{"$error":"#REF!"}},{"$f":"F47","v":{"$error":"#REF!"}},2,2.8,2.6,2.2999999999999998,2,0.5,3.5,4,5,2.5,7,4.7,2,2]
[{"$error":"#REF!"},"EUITYPWater",0.5,0.5,0.5,0.1,0.1,0.1,0.1,0.1,1,0.1,1,1,1,1,0.7,0.5,0.1,0.1]
[{"$error":"#REF!"},"EUITYPCook",0.2,0.1,0,1,0.2,0,0,0.5,1,0,4,8,10,1.5,0.7,0,0.1,0.1]
[{"$error":"#REF!"},"EUITYPRefr",0.03,0.03,0.03,15,0.2,0.03,0.03,0.5,1,0.03,26,36,11,1.5,1,0.5,2,2]
[{"$error":"#REF!"},"EUITYPLght",{"$f":"C44","v":{"$error":"#REF!"}},{"$f":"D44","v":{"$error":"#REF!"}},{"$error":"#REF!"},{"$error":"#REF!"},{"$error":"#REF!"},{"$error":"#REF!"},{"$error":"#REF!"},{"$error":"#REF!"},{"$error":"#REF!"},{"$error":"#REF!"},{"$error":"#REF!"},{"$error":"#REF!"},{"$error":"#REF!"},{"$error":"#REF!"},{"$error":"#REF!"},{"$error":"#REF!"},{"$f":"S44","v":{"$error":"#REF!"}},{"$error":"#REF!"}]
[{"$error":"#REF!"},"EUITYPMisc",5,5,4,4,2,2,2,1,6,1.2,2,3,3,3.5,6,3,5,5]
[]
[{"$f":"SUMPRODUCT(C35:T35,$C$9:$T$9)","v":{"$error":"#REF!"}},"ElecHtEUITYPTotal",{"$f":"SUM(C27:C33)+C22","v":{"$error":"#REF!"}},{"$error":"#REF!"},{"$error":"#REF!"},{"$error":"#REF!"},{"$error":"#REF!"},{"$error":"#REF!"},{"$error":"#REF!"},{"$error":"#REF!"},{"$error":"#REF!"},{"$error":"#REF!"},{"$error":"#REF!"},{"$error":"#REF!"},{"$error":"#REF!"},{"$error":"#REF!"},{"$error":"#REF!"},{"$error":"#REF!"},{"$f":"SUM(S27:S33)+S22","v":{"$error":"#REF!"}},{"$error":"#REF!"}]
[{"$f":"SUMPRODUCT(C36:T36,$C$9:$T$9)","v":{"$error":"#REF!"}},"GasHtEUITYPTotal",{"$f":"SUM(C27:C33)+C23","v":{"$error":"#REF!"}},{"$error":"#REF!"},{"$error":"#REF!"},{"$error":"#REF!"},{"$error":"#REF!"},{"$error":"#REF!"},{"$error":"#REF!"},{"$error":"#REF!"},{"$error":"#REF!"},{"$error":"#REF!"},{"$error":"#REF!"},{"$error":"#REF!"},{"$error":"#REF!"},{"$error":"#REF!"},{"$error":"#REF!"},{"$error":"#REF!"},{"$f":"SUM(S27:S33)+S23","v":{"$error":"#REF!"}},{"$error":"#REF!"}]
[{"$f":"SUMPRODUCT(C37:T37,$C$9:$T$9)","v":{"$error":"#REF!"}},"HtPmpHtEUITYPTotal",{"$f":"SUM(C27:C33)+C24","v":{"$error":"#REF!"}},{"$error":"#REF!"},{"$error":"#REF!"},{"$error":"#REF!"},{"$error":"#REF!"},{"$error":"#REF!"},{"$error":"#REF!"},{"$error":"#REF!"},{"$error":"#REF!"},{"$error":"#REF!"},{"$error":"#REF!"},{"$error":"#REF!"},{"$error":"#REF!"},{"$error":"#REF!"},{"$error":"#REF!"},{"$error":"#REF!"},{"$f":"SUM(S27:S33)+S24","v":{"$error":"#REF!"}},{"$error":"#REF!"}]
[{"$f":"SUM(C38:T38)","v":{"$error":"#REF!"}},null,{"$f":"C39*C9","v":{"$error":"#REF!"}},{"$f":"D39*D9","v":{"$error":"#REF!"}},{"$error":"#REF!"},{"$error":"#REF!"},{"$error":"#REF!"},{"$error":"#REF!"},{"$error":"#REF!"},{"$error":"#REF!"},{"$error":"#REF!"},{"$error":"#REF!"},{"$error":"#REF!"},{"$error":"#REF!"},{"$error":"#REF!"},{"$error":"#REF!"},{"$error":"#REF!"},{"$error":"#REF!"},{"$f":"S39*S9","v":{"$error":"#REF!"}},{"$error":"#REF!"}]
[null,"EUITYP Space Heat Weigheted Elec EUI by Type",{"$f":"(C35*C10)+(C36*C11)+(C37*C12)","v":{"$error":"#REF!"}},{"$f":"(D35*D10)+(D36*D11)+(D37*D12)","v":{"$error":"#REF!"}},{"$f":"(E35*E10)+(E36*E11)+(E37*E12)","v":{"$error":"#REF!"}},{"$f":"(F35*F10)+(F36*F11)+(F37*F12)","v":{"$error":"#REF!"}},{"$error":"#REF!"},{"$error":"#REF!"},{"$error":"#REF!"},{"$error":"#REF!"},{"$error":"#REF!"},{"$error":"#REF!"},{"$error":"#REF!"},{"$error":"#REF!"},{"$error":"#REF!"},{"$error":"#REF!"},{"$error":"#REF!"},{"$error":"#REF!"},{"$f":"(S35*S10)+(S36*S11)+(S37*S12)","v":{"$error":"#REF!"}},{"$error":"#REF!"}]
[]
[{"$f":"SUMPRODUCT(C41:T41,$C$9:$T$9)","v":{"$error":"#REF!"}},"LPD",1.1000000000000001,1.3,1.6,1.5,1.5,2,1.5,1.1000000000000001,1.2,0.9,1.6,1.4,1.3,1.4,1.2,1.3,1,1]
[{"$f":"SUMPRODUCT(C42:T42,$C$9:$T$9)","v":{"$error":"#REF!"}},"HOURSLght",{"$f":"CHAR!#REF!","v":{"$error":"#REF!"}},{"$f":"CHAR!#REF!","v":{"$error":"#REF!"}},{"$f":"CHAR!#REF!","v":{"$error":"#REF!"}},{"$f":"CHAR!#REF!","v":{"$error":"#REF!"}},{"$f":"CHAR!#REF!","v":{"$error":"#REF!"}},{"$f":"CHAR!#REF!","v":{"$error":"#REF!"}},{"$f":"CHAR!#REF!","v":{"$error":"#REF!"}},{"$f":"CHAR!#REF!","v":{"$error":"#REF!"}},{"$f":"CHAR!#REF!","v":{"$error":"#REF!"}},{"$f":"CHAR!#REF!","v":{"$error":"#REF!"}},{"$f":"CHAR!#REF!","v":{"$error":"#REF!"}},{"$f":"CHAR!#REF!","v":{"$error":"#REF!"}},{"$f":"CHAR!#REF!","v":{"$error":"#REF!"}},{"$f":"CHAR!#REF!","v":{"$error":"#REF!"}},{"$f":"CHAR!#REF!","v":{"$error":"#REF!"}},{"$f":"CHAR!#REF!","v":{"$error":"#REF!"}},{"$f":"CHAR!#REF!","v":{"$error":"#REF!"}},{"$f":"CHAR!#REF!","v":{"$error":"#REF!"}}]
[{"$f":"SUMPRODUCT(C43:T43,$C$9:$T$9)","v":{"$error":"#REF!"}},"LPDAdjust",{"$f":"CHAR!#REF!","v":{"$error":"#REF!"}},{"$f":"CHAR!#REF!","v":{"$error":"#REF!"}},{"$f":"CHAR!#REF!","v":{"$error":"#REF!"}},{"$f":"CHAR!#REF!","v":{"$error":"#REF!"}},{"$f":"CHAR!#REF!","v":{"$error":"#REF!"}},{"$f":"CHAR!#REF!","v":{"$error":"#REF!"}},{"$f":"CHAR!#REF!","v":{"$error":"#REF!"}},{"$f":"CHAR!#REF!","v":{"$error":"#REF!"}},{"$f":"CHAR!#REF!","v":{"$error":"#REF!"}},{"$f":"CHAR!#REF!","v":{"$error":"#REF!"}},{"$f":"CHAR!#REF!","v":{"$error":"#REF!"}},{"$f":"CHAR!#REF!","v":{"$error":"#REF!"}},{"$f":"CHAR!#REF!","v":{"$error":"#REF!"}},{"$f":"CHAR!#REF!","v":{"$error":"#REF!"}},{"$f":"CHAR!#REF!","v":{"$error":"#REF!"}},{"$f":"CHAR!#REF!","v":{"$error":"#REF!"}},{"$f":"CHAR!#REF!","v":{"$error":"#REF!"}},{"$f":"CHAR!#REF!","v":{"$error":"#REF!"}}]
[{"$f":"SUMPRODUCT(C44:T44,$C$9:$T$9)","v":{"$error":"#REF!"}},"KWHLght",{"$f":"C41*C42*C43/1000","v":{"$error":"#REF!"}},{"$f":"D41*D42*D43/1000","v":{"$error":"#REF!"}},{"$error":"#REF!"},{"$error":"#REF!"},{"$error":"#REF!"},{"$error":"#REF!"},{"$error":"#REF!"},{"$error":"#REF!"},{"$error":"#REF!"},{"$error":"#REF!"},{"$error":"#REF!"},{"$error":"#REF!"},{"$error":"#REF!"},{"$error":"#REF!"},{"$error":"#REF!"},{"$error":"#REF!"},{"$error":"#REF!"},{"$error":"#REF!"}]
[]
[{"$f":"SUMPRODUCT(C46:T46,$C$9:$T$9)","v":{"$error":"#REF!"}},"VPD",0.6,0.6,0.6,0.6,0.6,0.6,0.6,0.8,0.6,0.6,1.8,1.6,2.6,1.3,1.3,1.3,1.3,1.3]
[{"$f":"SUMPRODUCT(C47:T47,$C$9:$T$9)","v":{"$error":"#REF!"}},"KWHVent",{"$f":"C46*C42/1000","v":{"$error":"#REF!"}},{"$error":"#REF!"},{"$error":"#REF!"},{"$error":"#REF!"},{"$error":"#REF!"},{"$error":"#REF!"},{"$error":"#REF!"},{"$error":"#REF!"},{"$error":"#REF!"},{"$error":"#REF!"},{"$error":"#REF!"},{"$error":"#REF!"},{"$error":"#REF!"},{"$error":"#REF!"},{"$error":"#REF!"},{"$error":"#REF!"},{"$error":"#REF!"},{"$error":"#REF!"}]
[]
[{"$f":"SUMPRODUCT(C49:T49,$C$9:$T$9)","v":{"$error":"#REF!"}},"HVACElecHt",{"$f":"SUM(C22,C27:C28)","v":{"$error":"#REF!"}},{"$f":"SUM(D22,D27:D28)","v":{"$error":"#REF!"}},{"$error":"#REF!"},{"$error":"#REF!"},6.7,9.3000000000000007,9.6,{"$f":"SUM(J22,J27:J28)","v":6},9,3,12.5,14,14,9,15,12.7,{"$f":"SUM(S22,S27:S28)","v":8.5},8.5]
[{"$f":"SUMPRODUCT(C50:T50,$C$9:$T$9)","v":{"$error":"#REF!"}},"HVACGasHt",{"$f":"SUM(C23,C27:C28)","v":{"$error":"#REF!"}},{"$f":"SUM(D23,D27:D28)","v":{"$error":"#REF!"}},{"$error":"#REF!"},{"$error":"#REF!"},4.5999999999999996,6.4,6.6999999999999993,{"$f":"SUM(J23,J27:J28)","v":3.0999999999999996},5.0999999999999996,1.1000000000000001,7.6,10.1,10.1,5.0999999999999996,9.1999999999999993,7.8000000000000007,{"$f":"SUM(S23,S27:S28)","v":4.5999999999999996},4.5999999999999996]
[{"$f":"SUMPRODUCT(C51:T51,$C$9:$T$9)","v":{"$error":"#REF!"}},"HVACHtPmpHt",{"$f":"SUM(C24,C27:C28)","v":{"$error":"#REF!"}},{"$f":"SUM(D24,D27:D28)","v":{"$error":"#REF!"}},{"$error":"#REF!"},{"$error":"#REF!"},5.6,7.8,8.1,{"$f":"SUM(J24,J27:J28)","v":4.5},7,2,10,12,12,7,12,10.199999999999999,{"$f":"SUM(S24,S27:S28)","v":6.5},6.5]
[null,"Elec HVAC EUI All Fuel Weighted Btype",{"$f":"SUMPRODUCT(C49:C51,C10:C12)","v":{"$error":"#REF!"}},{"$error":"#REF!"},{"$error":"#REF!"},{"$error":"#REF!"},{"$error":"#REF!"},{"$error":"#REF!"},{"$error":"#REF!"},{"$error":"#REF!"},{"$error":"#REF!"},{"$error":"#REF!"},{"$error":"#REF!"},{"$error":"#REF!"},{"$error":"#REF!"},{"$error":"#REF!"},{"$error":"#REF!"},{"$error":"#REF!"},{"$error":"#REF!"},{"$error":"#REF!"}]
[null,"Elec HVAC EUI All Fuel Weighted Act",{"$f":"SUMPRODUCT(C52:E52,C8:E8)","v":{"$error":"#REF!"}},null,null,{"$f":"SUMPRODUCT(F52:I52,F8:I8)","v":{"$error":"#REF!"}},null,null,null,{"$f":"SUMPRODUCT(J52:K52,J8:K8)","v":{"$error":"#REF!"}},null,null,{"$f":"SUMPRODUCT(M52:N52,M8:N8)","v":{"$error":"#REF!"}}]
[]
[]
[]
[]
[]
[]
[]
[]
[]
[]
[null,"CBSA2001 e-EUI Raw - GasHt",16,15,13,29,11,16,15,6.2,34,12.6,52,null,40,17,"Q",null,null,16]
[null,"CBSA2001 e-EUI Corrected - GasHt",null,null,null,35,null,null,null,null,null,6.8,null,null,null,null,"Q"]
[null,"CBSA2001 e-EUI Raw - GasHt - %ACT",15,null,null,18.5,null,null,null,null,null,null,null,null,null,null,"Q"]
[null,"CBSA2001 g-EUI Raw - Gas Ht (kBtu/sf)",null,null,null,null,null,null,null,29,null,17,73,null,281,120,"Q",null,null,50]
[null,null,27,null,null,29]
[]
[null,"CBSA2001 e-EUI Raw - ElecHt",20,23,15,"Q",10,28,22,17,"Q",6.6,38,71,45,20,"Q",null,null,13]
[null,"CBSA2001 e-EUI Corrected - ElectHt",null,null,null,null,12,30,22,null,null,null,null,null,null,null,"Q"]
[null,"CBSA2001 e-EUI Raw - ElecHt - %ACT",19,null,null,17,null,null,null,null,null,null,null,null,null,null,"Q"]
[]
[null,"CBECS1999 - West - AllHt - Mean",17.600000000000001,null,null,17.899999999999999,null,null,null,8.1999999999999993,null,5.4,"Q",null,"Q",10.9,25.6,15.9,null,"Q"]
[null,"CBECS1999 - West - AllHt - 95%CI"]
[null,"CBECS1999 - US - AllHt - Mean",18.7,null,null,14.7,null,null,null,8.6999999999999993,null,6.5,49,null,34,12.7,27,16.7,null,24.4,2.7]
[null,"CBECS1999 - US - AllHt - 95%CI","17 - 21",null,null,"12 - 19",null,null,null,"7.8 - 9.6",null,"5.3 - 7.7","37 - 60",null,"25 - 43"," 11 - 14","25 - 29","14 - 19",null,"18 - 31","1 - 4.4"]
[]
[null,"CBECS2003 Mean US in kWh/sf",{"$f":"C103","v":17.3},null,null,{"$f":"C100","v":19.2},null,null,null,{"$f":"C93","v":11},null,{"$f":"C108","v":7.6},{"$f":"C94","v":49.4},null,{"$f":"C95","v":38.4},{"$f":"C99","v":13.5},{"$f":"C97","v":27.5},{"$f":"C98","v":16.100000000000001},{"$f":"C104","v":12.5},{"$f":"C109","v":22.5}]
[null,"CBECS2003 Mean US in therms/sf",0.28100000000000003,null,null,0.33500000000000002,null,null,null,0.38100000000000001,null,0.24099999999999999,0.51700000000000002,null,1.45,0.504,1.1299999999999999,0.51800000000000002,0.375,0.69699999999999995]
[]
[]
[null,"CBSA 2002-2004 New Bldg Elec in kWh/sf",17.8,null,null,21.6,null,null,null,9.6,12.7,15.1,46.6,null,86.2,10.6,25.3,14.3,13.3,18.3]
[null,"CBSA 2002-2004 New Bldg Gas in therms/sf",0.11,null,null,0.21,null,null,null,0.3,0.18,0.18,0.61,null,1.57,0.23,1.07,0.69,0.37,0.22]
[null,"CBSA 2002-2004 New Bldg All Fuel kBtu/sf",71.7,null,null,95.5,null,null,null,61.4,62.2,70.5,219.8,null,451,64,193.5,111.8,83.1,102.5]
[null,"CBSA 2002-2004 New Bldg Elec in kBtu/sf",{"$f":"C83*3412/1000","v":60.733600000000003},null,null,{"$f":"F83*3412/1000","v":73.699200000000005}]
[null,"CBSA 2002-2004 New Bldg Gas in kBtu/sf",{"$f":"C84*100000/1000","v":11},null,null,{"$f":"F84*100000/1000","v":21}]
[]
[]
[null,null,"Electricity Energy Intensity (kWh/square foot)"]
[null,"CBECS2003","Total  ","Space Heat-\ning","Cool-\ning","Venti-\nlation","Water Heat-\ning","Light-\ning","Cook-\ning","Refrig-\neration","Office Equip-\nment","Com-\nputers","Other",null,"Sum EQ, COMP, OTH","HVAC EUI"]
[null,"Principal Building Activity"]
[null,"Education ....................",11,0.5,2.2000000000000002,2.5,0.3,3.4,"(*)",0.5,0.1,1,0.6,null,{"$f":"SUM(K93:M93)","v":1.7000000000000002},{"$f":"SUM(D93,E93,F93)","v":5.2}]
[null,"Food Sales ...................",49.4,1.5,2.9,1.8,"Q",10.9,0.6,28.2,0.5,0.4,2.4,null,{"$f":"SUM(K94:M94)","v":3.3},{"$f":"SUM(D94,E94,F94)","v":6.2}]
[null,"Food Service .................",38.4,1.8,5,4.3,1.8,7.5,2.4,12.3,0.3,0.3,2.6,null,3.2,11.1]
[null,"Health Care ..................",22.9,0.5,3.1,3.9,0.2,9.6999999999999993,0.1,0.8,0.3,0.9,3.3,null,4.5,7.5]
[null,"  Inpatient ..................",27.5,0.5,3.8,5.9,0.3,11.7,0.1,0.6,0.3,1,3.2,null,4.5,10.199999999999999]
[null,"  Outpatient .................",16.100000000000001,0.7,2.1,1,0.1,6.6,"(*)",1,0.4,0.8,3.5,null,4.7,3.8]
[null,"Lodging ......................",13.5,0.8,1.4,0.8,0.7,7.1,0.1,0.7,"Q",0.4,1.4,null,1.7999999999999998,3]
[null,"Mercantile ...................",19.2,1.5,2.9,1.8,1,8.1,0.1,1.3,0.2,0.3,2.2000000000000002,null,2.7,6.2]
[null,"  Retail (Other Than Mall) ...",14.3,0.4,1.7,1.1000000000000001,0.1,7.5,"(*)",1.5,0.2,0.3,1.5,null,2,3.2]
[null,"  Enclosed and Strip Malls ...",22.3,2.2000000000000002,3.6,2.2000000000000002,1.5,8.4,0.1,1.2,0.2,0.3,2.6,null,3.1,8]
[null,"Office .......................",17.3,0.8,2.4,1.5,0.2,6.8,"(*)",0.8,0.8,1.8,2.2000000000000002,null,4.8000000000000007,4.7]
[null,"Public Assembly ..............",12.5,0.4,2.6,4.7,"(*)",2,"(*)",0.7,"Q",0.2,1.7,null,1.9,7.7]
[null,"Public Order and Safety ......",15.3,0.5,2.1,2.8,0.9,4.8,"(*)",0.9,0.2,0.4,2.7,null,3.3000000000000003,5.4]
[null,"Religious Worship ............",4.9000000000000004,0.2,0.8,0.4,"(*)",1.3,"(*)",0.5,"(*)",0.1,1.4,null,1.5,1.4]
[null,"Service ......................",11,0.4,1.1000000000000001,1.8,"(*)",4.5999999999999996,"Q",0.6,0.1,0.2,2.1,null,2.4000000000000004,3.3]
[null,"Warehouse and Storage ........",7.6,0.2,0.4,0.6,0.1,4.0999999999999996,"Q",1.1000000000000001,0.1,0.1,0.9,null,1.1000000000000001,1.2000000000000002]
[null,"Other ........................",22.5,0.4,2.7,1.8,0.1,10.1,"Q",1.8,"Q",0.9,3.7,null,4.6000000000000005,4.9000000000000004]
[null,"Vacant .......................",2.4,0.1,0.2,0.2,"Q",0.7,"Q",0.1,"Q","(*)",1.1000000000000001,null,1.1000000000000001,0.5]
[]
[]
[null,null,"Total Natural Gas Consumption\n(trillion Btu)",null,null,null,null,"Natural Gas Energy Intensity\n(thousand Btu/square foot)",null,null,null,null,null,null,0.7,2]
[null,"CBECS2003","Total  ","Space Heating","Water Heating","Cook-\ning","Other","Total  ","Space Heating","Water Heating","Cook-\ning","Other",null,null,"Space Heating Elec Equiv","Heating HP Equiv",null,"CBSA 2002-2004 New Bldg Gas (kBtu/SF Heat)","CBSA 2002-2004 New Bldg Heat Elec Equiv","NEEA Heat HP Equiv","CEUS Gas (kBtu/SF Heat)","CEUS Heat Elec Equiv","CEUS Heat HP Equiv"]
[null,"Principal Building Activity"]
[null,"Education ....................",268,207,37,5,19,38.1,29.5,5.2,0.7,2.7,null,"Educ",{"$f":"I116*$O$113*1000/3412","v":6.0521688159437277},{"$f":"O116/$P$113","v":3.0260844079718638},null,23.2,{"$f":"R116*$O$113*1000/3412","v":4.7596717467760836},{"$f":"S116/$P$113","v":2.3798358733880418},24,{"$f":"U116*$O$113*1000/3412","v":4.9237983587338796}]
[null,"Food Sales ...................",39,27,2,8,"Q",51.7,35.6,3.2,11.2,"Q",null,"Groc",{"$f":"I117*$O$113*1000/3412","v":7.3036342321219214},{"$f":"O117/$P$113","v":3.6518171160609607},null,40.299999999999997,{"$f":"R117*$O$113*1000/3412","v":8.2678780773739735},{"$f":"S117/$P$113","v":4.1339390386869868},21.8,{"$f":"U117*$O$113*1000/3412","v":4.4724501758499411}]
[null,"Food Service .................",203,54,56,91,"Q",145.6,39,40,65.400000000000006,"Q",null,"Restau",8.0011723329425539,4.000586166471277]
[null,"Health Care ..................",243,136,74,10,23,95.3,53.6,28.9,3.8,9.1,null,"Health",10.996483001172331,5.4982415005861656]
[null,"  Inpatient ..................",204,103,71,9,21,113.2,56.8,39.4,5.2,11.9,null,"Hosp",11.652989449003517,5.8264947245017584,null,39.299999999999997,{"$f":"R120*$O$113*1000/3412","v":8.0627198124267281},{"$f":"S120/$P$113","v":4.031359906213364},35,{"$f":"U120*$O$113*1000/3412","v":7.1805392731535758}]
[null,"  Outpatient .................",38,34,3,"Q","Q",51.8,45.6,3.5,"Q","Q",null,"Oth Heal",9.3552168815943713,4.6776084407971856,null,16.399999999999999,{"$f":"R121*$O$113*1000/3412","v":3.3645955451348177},{"$f":"S121/$P$113","v":1.6822977725674089}]
[null,"Lodging ......................",215,64,124,14,"Q",50.4,15,29.2,3.3,"Q",null,"Lodg",3.0773739742086752,1.5386869871043376,null,21,{"$f":"R122*$O$113*1000/3412","v":4.3083235638921451},{"$f":"S122/$P$113","v":2.1541617819460726},10.8,{"$f":"U122*$O$113*1000/3412","v":2.2157092614302463}]
[null,"Mercantile ...................",264,188,19,24,33,33.5,23.9,2.4,3.1,4.0999999999999996,null,"Retail",4.9032825322391549,2.4516412661195774,null,17.5,{"$f":"R123*$O$113*1000/3412","v":3.5902696365767879},{"$f":"S123/$P$113","v":1.7951348182883939},1.1000000000000001,{"$f":"U123*$O$113*1000/3412","v":0.22567409144196951}]
[null,"  Retail (Other Than Mall) ...",91,84,3,3,2,31.9,29.3,1,0.9,0.7,null,"Retail Oth",6.0111371629542782,3.0055685814771391]
[null,"  Enclosed and Strip Malls ...",172,104,16,22,31,34.4,20.9,3.1,4.3,6.1,null,"Retail Strip",4.2878077373974195,2.1439038686987097]
[null,"Office .......................",269,230,13,3,23,32.799999999999997,28.1,1.6,0.3,2.8,null,"Office",5.7649472450175843,2.8824736225087921,null,10.7,{"$f":"R126*$O$113*1000/3412","v":2.1951934349355215},{"$f":"S126/$P$113","v":1.0975967174677608},8,{"$f":"U126*$O$113*1000/3412","v":1.6412661195779601}]
[null,"Public Assembly ..............",102,92,2,3,"Q",37.5,33.799999999999997,0.9,1,"Q",null,"Public Ass",6.9343493552168809,3.4671746776084404,null,22.8,{"$f":"R127*$O$113*1000/3412","v":4.6776084407971856},{"$f":"S127/$P$113","v":2.3388042203985928}]
[null,"Public Order and Safety ......",29,15,10,"Q","Q",45,24.1,15.1,"Q","Q",null,"Public Order",4.9443141852286052,2.4721570926143026,null,11.8,{"$f":"R128*$O$113*1000/3412","v":2.4208675263774913},{"$f":"S128/$P$113","v":1.2104337631887456}]
[null,"Religious Worship ............",82,77,2,3,"Q",31.2,29.1,0.9,1,"Q",null,"Religious",5.9701055099648297,2.9850527549824148]
[null,"Service ......................",139,119,2,"Q",17,55.8,47.8,0.9,"Q","Q",null,"Service",9.8065650644783098,4.9032825322391549]
[null,"Warehouse and Storage ........",132,111,4,"Q","Q",24.1,20.2,0.7,"Q","Q",null,"Warehouse",4.1441969519343491,2.0720984759671746,null,9.6,{"$f":"R131*$O$113*1000/3412","v":1.9695193434935521},{"$f":"S131/$P$113","v":0.98475967174677603},2.1,{"$f":"U131*$O$113*1000/3412","v":0.43083235638921452}]
[null,"Other ........................",87,72,2,"Q",12,69.7,57.9,1.7,"Q",9.4,null,"Other",11.878663540445485,5.9393317702227426,null,21.9,{"$f":"R132*$O$113*1000/3412","v":4.4929660023446649},{"$f":"S132/$P$113","v":2.2464830011723325},5.0999999999999996,{"$f":"U132*$O$113*1000/3412","v":1.0463071512309494}]
[null,"Vacant .......................",28,26,"Q","Q","Q",23.7,22,"Q","Q","Q",null,"Vacant",4.5134818288393896,2.2567409144196948]
[]
[null,null,null,null,null,null,null,null,null,null,null,null,null,null,null,null,null,8,{"$f":"R135*$O$113*1000/3412","v":1.6412661195779601}]

{"sheet":"CBSA Heat Type Data 2014","index":19,"n_rows":113,"n_cols":29,"rows_kept":113,"cut":false,"hidden":false,"merged":[]}
["Much of this tab is old and not being used, but leaving it in for now",null,"Office"]
[null,"These data  used in Char","Office","Office","Office","Retail/Service","Retail/Service","Retail/Service","Retail/Service","School K-12","University","Warehouse","Grocery","Grocery","Restaurant","Lodging","Hospital","Residential Care","Assembly","Other"]
[null,null,"Large Off","Medium Off","Small Off","Xlarge Ret","Large Ret","Medium Ret","Small Ret","School K-12","University","Warehouse","Supermarket","MiniMart","Restaurant","Lodging","Hospital","Residential Care","Assembly","Other"]
[null,"Electric",{"$f":"INDEX($C$10:$F$27,MATCH(C$3,$A$10:$A$27,0),MATCH($B4,$C$9:$E$9,0))","v":0.22069064811101055},0.21187996172605886,0.30376176003561578,4.1603710568328359E-2,0,6.5150627855912913E-2,0.16071159162747994,6.2193365516441515E-2,0.10397187946537294,5.9543317157699324E-2,{"$f":"V67*K89","v":4.5427666440647281E-2},{"$f":"V68*K89","v":0.20392805668119085},{"$f":"INDEX($C$10:$F$27,MATCH(O$3,$A$10:$A$27,0),MATCH($B4,$C$9:$E$9,0))","v":9.3741517360656335E-2},0.37375847463011663,3.6133961686394059E-2,0.31821272614516344,8.609125345492806E-2,0.17417505642831174]
[null,"Gas",0.5156636959372366,0.53499997192568305,0.33335259363937686,0.90869487409441452,1,0.85701789100175707,0.64729607269201594,0.86350801427568535,0.81044996431501981,0.8693239137650699,{"$f":"W67","v":0.88228764584203367},{"$f":"W68","v":0.47158078960174449},0.79427120974850918,0.17973507367005076,0.95386603831360595,0.30163793977640957,0.81106077730345771,0.61774862771721151]
[null,"HP",0.26364565595175282,0.25312006634825812,0.36288564632500747,4.9701415337257152E-2,0,7.7831481142329989E-2,0.19199233568050422,7.4298620207873131E-2,8.5578156219607279E-2,7.113276907723072E-2,{"$f":"V67*L89","v":7.2284687717319038E-2},{"$f":"V68*L89","v":0.32449115371706461},0.11198727289083449,0.44650645169983255,1.0000000000000002E-2,0.38014933407842694,0.1028479692416142,0.20807631585447675]
[null,null,{"$f":"SUM(C4:C6)","v":1},{"$f":"SUM(D4:D6)","v":1},1,1,1,1,1,1,1,1,1,0.99999999999999989,1,1,1,1,1,1]
[]
["Btype","Size","Electric","Gas","HP","Total",null,null,"Share by electric heat type"]
["Large Off",">50,000",{"$f":"V57*$I$14","v":0.22069064811101055},{"$f":"W57","v":0.5156636959372366},{"$f":"V57*$J$14","v":0.26364565595175282},{"$f":"SUM(C10:E10)","v":1},null,null,"Electric","HP"]
["Medium Off","5,000 to 50,000",0.21187996172605886,0.53499997192568305,0.25312006634825812,{"$f":"SUM(C11:E11)","v":1},null,"Assembly",{"$f":"K88","v":0.47962038771740423},{"$f":"D88","v":0.52037961228259577},1]
["Small Off","<5,000",0.30376176003561578,0.33335259363937686,0.36288564632500747,1,null,"Grocery",0.38592097461312147,0.61407902538687853,1]
["Xlarge Ret",">100,000",4.1603710568328359E-2,0.90869487409441452,4.9701415337257152E-2,1,null,"Lodging",0.59526013213262075,0.40473986786737931,1]
["Large Ret","50,000 - 100,000",0,1,0,1,null,"Office",0.45565580415878149,0.54434419584121851,1]
["Medium Ret","5000 - 50,000",6.5150627855912913E-2,0.85701789100175707,7.7831481142329989E-2,1,null,"Other",0.6175903960921354,0.38240960390786466,1]
["Small Ret","<5000",0.16071159162747994,0.64729607269201594,0.19199233568050422,1,null,"Residential Care",0.57173215680136025,0.42826784319863981,1]
["School K-12","Any",6.2193365516441515E-2,0.86350801427568535,7.4298620207873131E-2,1,null,"Restaurant",0.1456310681449533,0.8543689318550467,1]
["University","Any",0.10397187946537294,0.81044996431501981,8.5578156219607279E-2,1,null,"Retail/Service",0.63140923348225164,0.3685907665177483,1]
["Warehouse","Any",{"$f":"V66*$I$14","v":5.9543317157699324E-2},{"$f":"W66","v":0.8693239137650699},{"$f":"V66*$J$14","v":7.113276907723072E-2},1,null,"School K-12",0.38344835656863396,0.61655164343136604,1]
["Supermarket","> 5000",{"$f":"V67*$I$14","v":5.3636317393271425E-2},{"$f":"W67","v":0.88228764584203367},{"$f":"V67*$J$14","v":6.407603676469488E-2},1,null,"Warehouse",0.49190726224873216,0.50809273775126784,1]
["MiniMart","< 5000",{"$f":"V68*$I$14","v":0.24077728024696543},{"$f":"W68","v":0.47158078960174449},{"$f":"V68*$J$14","v":0.28764193015129003},1,null,"Grand Total",0.51592151636315642,0.48407848363684358,1]
["Restaurant","Any",{"$f":"V69*$I$14","v":9.3741517360656335E-2},{"$f":"W69","v":0.79427120974850918},{"$f":"V69*$J$14","v":0.11198727289083449},1]
["Lodging","Any",{"$f":"V70*$I$14","v":0.37375847463011663},{"$f":"W70","v":0.17973507367005076},{"$f":"V70*$J$14","v":0.44650645169983255},1]
["Hospital","Any",3.6133961686394059E-2,0.95386603831360595,1.0000000000000002E-2,1]
["Residential Care","Any",{"$f":"V72*$I$14","v":0.31821272614516344},{"$f":"W72","v":0.30163793977640957},{"$f":"V72*$J$14","v":0.38014933407842694},1]
["Assembly","Any",{"$f":"V73*$I$14","v":8.609125345492806E-2},{"$f":"W73","v":0.81106077730345771},{"$f":"V73*$J$14","v":0.1028479692416142},1]
["Other","Any",{"$f":"V74*$I$14","v":0.17417505642831174},{"$f":"W74","v":0.61774862771721151},{"$f":"V74*$J$14","v":0.20807631585447675},1]
[]
[]
[]
["From CBSA Main Tables"]
["Vintage","(All)"]
["Sf_PNW_Cooled","(All)"]
[]
["Sum of Sf_PNW","Column Labels",null,null,null,null,null,null,null,null,null,{"$f":"B36","v":"Electricity"},"Fuel Oil","NA","Natural Gas","None","Other","Propane","Grand Total",null,null,"Electricity","Fuel Oil","NA","Natural Gas","None","Other","Propane","Grand Total"]
["Row Labels","Electricity","Fuel Oil","NA","Natural Gas","None","Other","Propane","Grand Total",null,"Large Off",{"$f":"B49+B48","v":140880093.90373367},0,21978544.04090016,149992369.55190176,0,9806801.7436697092,0,322657809.24020529,null,"Large Off",{"$f":"L57","v":0.43662384690294082},0,6.8117192305542654E-2,0.46486514584941813,0,3.039381494209847E-2,0,1]
["Assembly",64723292.208924718,11617371.540296841,null,277838147.84144342,null,null,14693240.409334971,368872051.99999994,null,"Medium Off",{"$f":"B46+B47","v":138738357.65813315},17879963.7666144,0,159623683.80815208,0,0,0,316242005.23289967,null,"Medium Off",0.43870945466576416,5.6538864131747829E-2,0,0.50475168120248792,0,0,0,1]
["Grocery",12993775.697059479,215353.18227875399,null,59890847.66447933,382739.37131799106,2943786.9397915802,694335.14507286099,77120838,null,"Small Off",{"$f":"B45","v":58639775.635387883},5648300.2880154504,0,29322429.086168736,0,0,1847806.51732307,95458311.526895136,null,"Small Off",0.61429722249870589,5.9170335172166293E-2,0,0.30717523301160859,0,0,1.9357209317519251E-2,1]
["<5,001",5679549.7823431836,215353.18227875399,null,5068639.6675874088,382739.37131799106,null,344805.99647266301,11691087.999999998,null,"XLarge Ret",{"$f":"B60","v":11810130.039899509},0,0,117537810.97396897,0,4605383.9861315396,0,133953325.00000001,null,"XLarge Ret",8.8166008868383883E-2,0,0,0.87745347847072075,0,3.4380512660895424E-2,0,1]
["5,001-20,000",4253292.0495435838,null,null,15935668.018096292,null,null,349529.14860019798,20538489.216240074,null,"Large Ret",{"$f":"B59","v":0},0,0,31550759.910807591,0,0,0,31550759.910807591,null,"Large Ret",0,0,0,1,0,0,0,1]
["20,001-50,000",null,null,null,23372333.72907494,null,2943786.9397915802,null,26316120.668866519,null,"Medium Ret",{"$f":"B57+B58","v":46239655.630680464},8832169.7945668995,0,277155040.07386184,3026909.8773348201,10947247.15830574,0,346201022.53474975,null,"Medium Ret",0.13356302443052195,2.5511680265705671E-2,0,0.80056100945236963,8.7432147229749898E-3,3.1621071128427748E-2,0,1]
["50,001-100,000",3060933.8651727098,null,null,15514206.249720689,null,null,null,18575140.114893399,null,"Small Ret",{"$f":"B56","v":17655103.254826397},2057254.36830197,0,32401337.538388263,3843090.4720176798,0,3267594.9209082099,59224380.554442525,null,"Small Ret",0.2981053257044502,3.4736612676105935E-2,0,0.54709457887200785,6.4890344753963033E-2,0,5.5173137993472891E-2,1]
["Lodging",139622152.8782247,825003.36827674205,null,30593771.753498599,null,null,null,171040928.00000006,null,"School K-12",{"$f":"B61","v":32027615.170924779},9984819.7717199903,0,202620705.0287233,0,392595.98071530502,327425.04791656398,245353160.99999994,null,"School K-12",0.13053679455519543,4.0695704636631899E-2,0,0.82583286965976099,0,1.6001260351208807E-3,1.3345051132908129E-3,1]
["Office",338258227.19725472,23528264.054629851,21978544.04090016,338938482.4462226,null,9806801.7436697092,1847806.51732307,734358126.00000012,null,"University",null,null,null,null,null,null,null,null,null,"University"]
["<5,001",58639775.635387883,5648300.2880154504,null,29322429.086168736,null,null,1847806.51732307,95458311.526895136,null,"Warehouse",{"$f":"B62","v":56232810.524260134},0,0,374089309.95281428,11901933.522925701,0,0,442224054.00000006,null,"Warehouse",{"$f":"L66","v":0.12715909506871856},0,0,0.84592709638724051,2.6913808544041115E-2,0,0,1]
["5,001-20,000",93305341.143380582,17879963.7666144,null,68584992.563109934,null,null,null,179770297.47310492,null,"Supermarket",{"$f":"B40+B41+B42","v":7314225.914716294},0,0,54822207.996891916,0,2943786.9397915802,349529.14860019798,65429749.999999993,null,"Supermarket",0.11178746540704029,0,0,0.83787891588905539,0,4.4991566371437773E-2,5.3420523324664701E-3,1]
["20,001-50,000",45433016.514752582,null,null,91038691.24504216,null,null,null,136471707.75979474,null,"MiniMart",{"$f":"B39","v":5679549.7823431836},215353.18227875399,0,5068639.6675874088,382739.37131799106,0,344805.99647266301,11691087.999999998,null,"MiniMart",0.48580164500884643,1.8420285800496414E-2,0,0.43354730266228514,3.2737703395782421E-2,0,2.9493063132589804E-2,1]
["50,001-100,000",28736952.955356091,null,7554181.7389615597,74909426.802217931,null,9806801.7436697092,null,121007363.24020529,null,"Restaurant",{"$f":"B53+B54","v":10493753.094157647},0,0,40513950.209447443,0,2029035.6963949201,0,53036739.000000015,null,"Restaurant",0.19785818834294552,0,0,0.76388463871143042,0,3.8257172945623967E-2,0,1]
["100,001+",112143140.94837759,null,14424362.301938601,75082942.749683812,null,null,null,201650446,null,"Lodging",{"$f":"B43","v":139622152.8782247},825003.36827674205,0,30593771.753498599,0,0,0,171040928.00000006,null,"Lodging",0.81630843863420022,4.8234266378439066E-3,0,0.17886813472795579,0,0,0,1]
["Other",124096294.51777165,null,3110094.2621892099,200549484.45399243,null,5678591.7660467597,null,333434465.00000006,null,"Hospital",null,null,null,null,null,null,null,null,null,"Hospital"]
["Residential Care",87407439.615854859,null,null,37753196.384145111,null,null,null,125160635.99999997,null,"Residential Care",{"$f":"B51","v":87407439.615854859},0,0,37753196.384145111,0,0,0,125160635.99999997,null,"Residential Care",{"$f":"L72","v":0.69836206022359038},0,0,0.30163793977640957,0,0,0,1]
["Restaurant",10493753.094157647,null,null,40513950.209447443,null,2029035.6963949201,null,53036739.000000015,null,"Assembly",{"$f":"B37","v":64723292.208924718},11617371.540296841,0,277838147.84144342,0,0,14693240.409334971,368872051.99999994,null,"Assembly",0.17546271629417109,3.1494312126137555E-2,0,0.75321008012134105,0,0,3.9832891458350367E-2,1]
["<5,001",5893782.774457301,null,null,19551716.706204019,null,2029035.6963949201,null,27474535.177056242,null,"Other",{"$f":"B50","v":124096294.51777165},0,3110094.2621892099,200549484.45399243,0,5678591.7660467597,0,333434465.00000006,null,"Other",0.37217596722573842,0,9.3274528839998871E-3,0.60146597159352555,0,1.7030608296736086E-2,0,1]
["5,001-20,000",4599970.3197003473,null,null,20962233.503243424,null,null,null,25562203.822943769,null,null,{"$f":"SUM(L36:L53)","v":941560249.82983911},{"$f":"SUM(M36:M53)","v":57060236.080071047},25088638.303089369,2021432844.2317929,19154673.243596189,36403443.271055549,20830402.040555678,3121530487]
["Retail/Service",75704888.925406367,10889424.16286887,null,458644948.49702668,6870000.3493524995,15552631.14443728,3267594.9209082099,570929487.99999988]
["<5,001",17655103.254826397,2057254.36830197,null,32401337.538388263,3843090.4720176798,null,3267594.9209082099,59224380.554442525,null,null,{"$f":"L35","v":"Electricity"},{"$f":"M35","v":"Fuel Oil"},"NA","Natural Gas","None","Other","Propane","Grand Total",null,null,"Electric ","Gas"]
["5,001-20,000",30903913.684638962,6459994.8903072197,null,137939503.74023882,3026909.8773348201,8166567.2530375803,null,186496889.44555742,null,"Large Off",{"$f":"L36/$S36","v":0.43662384690294082},0,6.8117192305542654E-2,0.46486514584941813,0,3.039381494209847E-2,0,1,null,"Large Off",{"$f":"V36/($V36+$Y36)","v":0.4843363040627634},{"$f":"$Y36/($V36+$Y36)","v":0.5156636959372366},null,{"$f":"D10-W57","v":0}]
["20,001-50,000",15335741.946041502,2372174.9042596798,null,139215536.33362299,null,2780679.9052681602,null,159704133.08919233,null,"Medium Off",0.43870945466576416,5.6538864131747829E-2,0,0.50475168120248792,0,0,0,1,null,"Medium Off",0.46500002807431695,0.53499997192568305,null,0]
["50,001-100,000",null,null,null,31550759.910807591,null,null,null,31550759.910807591,null,"Small Off",0.61429722249870589,5.9170335172166293E-2,0,0.30717523301160859,0,0,1.9357209317519251E-2,1,null,"Small Off",0.66664740636062325,0.33335259363937686,null,0]
["100,001+",11810130.039899509,null,null,117537810.97396897,null,4605383.9861315396,null,133953325.00000001,null,"XLarge Ret",8.8166008868383883E-2,0,0,0.87745347847072075,0,3.4380512660895424E-2,0,1,null,"XLarge Ret",9.130512590558551E-2,0.90869487409441452,null,0]
["School K-12",32027615.170924779,9984819.7717199903,null,202620705.0287233,null,392595.98071530502,327425.04791656398,245353160.99999994,null,"Large Ret",0,0,0,1,0,0,0,1,null,"Large Ret",0,1,null,0]
["Warehouse",56232810.524260134,null,null,374089309.95281428,11901933.522925701,null,null,442224054.00000006,null,"Medium Ret",0.13356302443052195,2.5511680265705671E-2,0,0.80056100945236963,8.7432147229749898E-3,3.1621071128427748E-2,0,1,null,"Medium Ret",0.1429821089982429,0.85701789100175707,null,0]
["Grand Total",941560249.82983911,57060236.080071047,25088638.303089369,2021432844.2317934,19154673.243596192,36403443.271055549,20830402.040555675,3121530486.9999995,null,"Small Ret",0.2981053257044502,3.4736612676105935E-2,0,0.54709457887200785,6.4890344753963033E-2,0,5.5173137993472891E-2,1,null,"Small Ret",0.35270392730798417,0.64729607269201594,null,0]
[null,null,null,null,null,null,null,null,null,null,"School K-12",0.13053679455519543,4.0695704636631899E-2,0,0.82583286965976099,0,1.6001260351208807E-3,1.3345051132908129E-3,1,null,"School K-12",0.13649198572431465,0.86350801427568535,null,0]
[null,null,null,null,null,null,null,null,null,null,"University",null,null,null,null,null,null,null,null,null,"University"]
[null,null,null,null,null,null,null,null,null,null,"Warehouse",{"$f":"L45/$S45","v":0.12715909506871856},0,0,0.84592709638724051,2.6913808544041115E-2,0,0,1,null,"Warehouse",{"$f":"V45/($V45+$Y45)","v":0.13067608623493004},{"$f":"$Y45/($V45+$Y45)","v":0.8693239137650699},null,{"$f":"D19-W66","v":0}]
[null,null,null,null,null,null,null,null,null,null,"Supermarket",0.11178746540704029,0,0,0.83787891588905539,0,4.4991566371437773E-2,5.3420523324664701E-3,1,null,"Supermarket",{"$f":"V46/($V46+$Y46)","v":0.11771235415796631},{"$f":"$Y46/($V46+$Y46)","v":0.88228764584203367},null,{"$f":"D20-W67","v":0}]
[null,null,null,null,null,null,null,null,null,null,"MiniMart",0.48580164500884643,1.8420285800496414E-2,0,0.43354730266228514,3.2737703395782421E-2,0,2.9493063132589804E-2,1,null,"MiniMart",{"$f":"V47/($V47+$Y47)","v":0.52841921039825546},{"$f":"$Y47/($V47+$Y47)","v":0.47158078960174449},null,{"$f":"D21-W68","v":0}]
[null,null,null,null,null,null,null,null,null,null,"Restaurant",0.19785818834294552,0,0,0.76388463871143042,0,3.8257172945623967E-2,0,1,null,"Restaurant",{"$f":"V48/($V48+$Y48)","v":0.20572879025149082},{"$f":"$Y48/($V48+$Y48)","v":0.79427120974850918},null,{"$f":"D22-W69","v":0}]
[null,null,null,null,null,null,null,null,null,null,"Lodging",0.81630843863420022,4.8234266378439066E-3,0,0.17886813472795579,0,0,0,1,null,"Lodging",{"$f":"V49/($V49+$Y49)","v":0.82026492632994918},{"$f":"$Y49/($V49+$Y49)","v":0.17973507367005076},null,{"$f":"D23-W70","v":0}]
[null,null,null,null,null,null,null,null,null,null,"Hospital",null,null,null,null,null,null,null,null,null,"Hospital"]
[null,null,null,null,null,null,null,null,null,null,"Residential Care",{"$f":"L51/$S51","v":0.69836206022359038},0,0,0.30163793977640957,0,0,0,1,null,"Residential Care",{"$f":"V51/($V51+$Y51)","v":0.69836206022359038},{"$f":"$Y51/($V51+$Y51)","v":0.30163793977640957},null,{"$f":"D25-W72","v":0}]
[null,null,null,null,null,null,null,null,null,null,"Assembly",0.17546271629417109,3.1494312126137555E-2,0,0.75321008012134105,0,0,3.9832891458350367E-2,1,null,"Assembly",{"$f":"V52/($V52+$Y52)","v":0.18893922269654226},{"$f":"$Y52/($V52+$Y52)","v":0.81106077730345771},null,{"$f":"D26-W73","v":0}]
[null,null,null,null,null,null,null,null,null,null,"Other",0.37217596722573842,0,9.3274528839998871E-3,0.60146597159352555,0,1.7030608296736086E-2,0,1,null,"Other",{"$f":"V53/($V53+$Y53)","v":0.38225137228278849},{"$f":"$Y53/($V53+$Y53)","v":0.61774862771721151},null,{"$f":"D27-W74","v":0}]
[]
[]
[]
[null,"Shares of Electric Heat"]
[null,"Site_ID","(All)"]
[null,"Fan_Ctr","(All)"]
[null,"DistSys","(All)"]
[null,"DistSys_Detail","(All)"]
[null,"HeatSys_PrimFuel","Electricity"]
[null,"Equip_Type","(All)"]
[]
[null,"Sum of Heat_Frac_Sf_PNW_Heated","Column Labels"]
[null,"Row Labels","CE","HP","HWC","NA","OT","SC","SE","Grand Total","Elect- Non-HP","Elect-HP"]
[null,"Assembly",2.1933371064227269E-2,0.52037961228259577,8.4869959933207936E-2,0.37281705671996906,0,0,0,1,{"$f":"J88-D88","v":0.47962038771740423},{"$f":"D88","v":0.52037961228259577}]
[null,"Grocery",0,0.61407902538687853,0,0.38592097461312153,0,0,0,1,{"$f":"J89-D89","v":0.38592097461312147},{"$f":"D89","v":0.61407902538687853}]
[null,"Lodging",0,0.40473986786737931,1.9101566005885497E-2,0.56637390858008696,0,0,9.7846575466481386E-3,1,0.59526013213262075,0.40473986786737931]
[null,"Office",0,0.54434419584121851,1.3163924041996011E-2,0.29977798762598179,5.6989236417166553E-3,1.8553743341665496E-2,0.11846122550742165,1,0.45565580415878149,0.54434419584121851]
[null,"Other",1.8656133921888154E-2,0.38240960390786466,3.4723225987817435E-2,0.39770544205545494,0,0,0.1665055941269748,1,0.6175903960921354,0.38240960390786466]
[null,"Residential Care",0,0.42826784319863981,0,0.57173215680136014,0,0,0,1,0.57173215680136025,0.42826784319863981]
[null,"Restaurant",0,0.8543689318550467,0,0.14563106814495325,0,0,0,1,0.1456310681449533,0.8543689318550467]
[null,"Retail/Service",0,0.3685907665177483,0,0.63140923348225175,0,0,0,1,0.63140923348225164,0.3685907665177483]
[null,"School K-12",0,0.61655164343136604,0,0.35877441338510602,0,0,2.4673943183527856E-2,1,0.38344835656863396,0.61655164343136604]
[null,"Warehouse",0,0.50809273775126784,0,0.4919072622487321,0,0,0,1,0.49190726224873216,0.50809273775126784]
[null,"Grand Total",3.7818261010351163E-3,0.48407848363684358,1.9047873305765038E-2,0.41922865325443376,2.2113914177108902E-3,7.1995329945867704E-3,6.445223928962493E-2,1,0.51592151636315642,0.48407848363684358]
[]
[]
[]
[]
[null,"year","bt_09","elec.eui.n.mean","n","eb",null,null,null,null,"EUI",null,"Ratio"]
[null,"2009","All",15.980768851929501,1869,0.56181074296122135,"2014","All",14.148322497057118,806,0.82003144299138797,null,{"$f":"I104/D104","v":0.88533428073135945}]
[null,"2009","Dry Goods\nRetail",16.642484336254487,366,0.90246733047394467,"2014","Dry Goods\nRetail",13.163647352596524,114,1.2161180142097487,null,{"$f":"I105/D105","v":0.79096648593025498}]
[null,"2009","Grocery",42.375507008684338,151,2.9552587160695287,"2014","Grocery",56.971802114558251,74,4.2597024829713011,null,1.3444512204392642]
[null,"2009","Hotel/Motel",17.731519188271399,70,2.126798013273516,"2014","Hotel/Motel",14.578619395948195,135,1.1204981905496547,null,0.82218670837811203]
[null,"2009","Office",16.483172309504837,400,0.9073430920759239,"2014","Office",15.001263459458363,92,1.5678264270127924,null,0.91009565257095881]
[null,"2009","Other\nHealth",18.890861353563082,94,1.861462215742733,"2014","Other\nHealth",18.625907882591232,19,4.703121616757759,null,0.98597451614233167]
[null,"2009","Restaurant",44.241175632923813,130,4.50467596009074,"2014","Restaurant",47.625798032060104,37,7.169126487060212,null,1.0765038982512365]
[null,"2009","School",9.6577666086760576,211,0.66370636789658533,"2014","School",9.6623580816794625,80,0.77420926217382913,null,1.0004754176808621]
[null,"2009","Warehouse",9.402622661205406,182,1.556447579990127,"2014","Warehouse",6.0495189796425546,43,2.2869686813227283,null,0.64338633992008065]
[null,"2009","Other",12.587341980684171,265,1.4407080999078559,"2014","Other",13.447164481602158,212,1.6832815784325847,null,1.0683085040699953]

{"sheet":"CBSA Data 2014 New cohort","index":20,"n_rows":122,"n_cols":22,"rows_kept":122,"cut":false,"hidden":false,"merged":[]}
[]
[]
["New Construction Data - Assume 2004 2013 is representative."]
[]
[]
[]
["Vintage","2004-2013"]
[]
["Row Labels","Sum of Sf_PNW"]
["Assembly",0.12949316922883081]
["Grocery",2.0434554153352484E-2]
["Hospital",3.1863582040406999E-2]
["Lodging",5.5794347273117245E-2]
["Office",0.23374291413554329]
["Other",0.12270755891365608]
["Residential Care",4.2121761451219118E-2]
["Restaurant",1.255060122823257E-2]
["Retail/Service",0.16379453573805774]
["School K-12",8.8639553331737689E-2,null,null,null,null,null,null,null,null,null,null,null,"Data tables from CBSA"]
["University",2.590476843098345E-3]
["Warehouse",9.6266945662747766E-2,null,null,null,null,null,null,null,null,null,null,null,"Site_ID","(All)"]
["Grand Total",1,null,null,null,null,null,null,null,null,null,null,null,"Fan_Ctr","(All)"]
["Health",{"$f":"B12+B16","v":7.398534349162611E-2},null,null,null,null,null,null,null,null,null,null,null,"DistSys","(All)"]
[null,null,null,null,null,null,null,null,null,null,null,null,null,"Equip_Type","(All)"]
[null,null,null,null,null,null,null,null,null,null,null,null,null,"DistSys_Detail","(All)"]
[null,null,null,null,null,null,null,null,null,null,null,null,null,"Vintage","2004-2013"]
["Vintage","2004-2013",null,null,null,null,null,null,"To CHAR",null,null,null,null,null,null,null,null,null,null,null,"Vintage","2004-2013"]
[null,null,null,null,null,null,null,null,null,null,null,null,null,null,null,"Values"]
["Row Labels","Sum of Sf_PNW",null,null,"SF","SF Share","Cool Frac",null,null,"SF","SF Share","Cool Frac",null,"Row Labels","Size_Group","Sum of Heat_Frac_Sf_PNW_Heated","Sum of Cool_Frac_Sf_PNW",null,"Share",null,"Row Labels","Sum of Sf_PNW"]
["Assembly",165907691.59999999,null,{"$f":"A30","v":"Assembly"},{"$f":"B30","v":165907691.59999999},{"$f":"E30/$E$48","v":0.12949316922883078},{"$f":"S30","v":0.91177234717447209},null,"Large Off",{"$f":"VLOOKUP($D30,$D$30:$F$47,2,FALSE)","v":165907691.59999999},{"$f":"VLOOKUP($D30,$D$30:$F$47,3,FALSE)","v":0.12949316922883078},{"$f":"VLOOKUP($I30,$D$30:$G$47,4,FALSE)","v":0.95128694884061893},null,"Assembly",null,162680832.55865625,151270045.38443044,{"$f":"V30","v":165907691.59999999},{"$f":"Q30/R30","v":0.91177234717447209},null,"Assembly",165907691.59999999]
["Grocery",26180915.399999999,null,"Supermarket",{"$f":"SUM(B33:B35)","v":22661825.399999999},1.7687857405861318E-2,{"$f":"SUMPRODUCT(S32:S34,R32:R34)/SUM(R32:R34)","v":0.92147944946531313},null,"Medium Off",22661825.399999999,1.7687857405861318E-2,0.97665874571205136,null,"Grocery","<5,001",3007817.5990934744,2951425.5438271598,{"$f":"V32","v":3519089.9999999995},{"$f":"Q31/R31","v":0.83868998628257874},null,"Grocery",26180915.399999999]
["<5,001",3519089.9999999995,null,"Minimart",{"$f":"B32","v":3519089.9999999995},2.7466967474911578E-3,{"$f":"S31","v":0.83868998628257874},null,"Small Off",3519089.9999999995,2.7466967474911578E-3,0.91122609210258287,null,null,"5,001-20,000",3986446.8767986465,3879036.8423711793,{"$f":"V33","v":4873991.3999999994},0.79586452334962665,null,"<5,001",3519089.9999999995]
["5,001-20,000",4873991.3999999994,null,"Hospital",{"$f":"B36","v":40823878},3.1863582040406992E-2,null,null,"Xlarge Ret",40823878,3.1863582040406992E-2,0.98608503921852686,null,null,"20,001-50,000",11467754.274220692,10683291.020562317,{"$f":"V34","v":11467755},0.93159393626410025,null,"5,001-20,000",4873991.3999999994]
["20,001-50,000",11467755,null,"Lodging",{"$f":"B37","v":71484167.200000003},5.5794347273117231E-2,{"$f":"S35","v":0.94438859080377269},null,"Large Ret",71484167.200000003,5.5794347273117231E-2,0.77181511362305244,null,null,"50,001-100,000",6320078.5305375494,6320078.5305375513,{"$f":"V35","v":6320079},0.99999992571889551,null,"20,001-50,000",11467755]
["50,001-100,000",6320079,null,"Large Off",{"$f":"B42+B43","v":148846158},0.11617641437279382,{"$f":"SUMPRODUCT(S39:S40,R39:R40)/SUM(R39:R40)","v":0.95128694884061893},null,"Medium Ret",148846158,0.11617641437279382,0.90527535536267667,null,"Lodging",null,67358224.807189479,67508831.926789269,{"$f":"V37","v":71484167.200000003},0.94438859080377269,null,"50,001-100,000",6320079]
["Hospital",40823878,null,"Medium Off",{"$f":"B40+B41","v":127597664},9.9591681001699198E-2,{"$f":"SUMPRODUCT(S37:S38,R37:R38)/SUM(R37:R38)","v":0.97665874571205136},null,"Small Ret",127597664,9.9591681001699198E-2,0.53668215741883951,null,"Office","<5,001",23029482.214190245,20985065.432742432,{"$f":"V39","v":23029482.600000001},0.91122609210258287,null,"Hospital",40823878]
["Lodging",71484167.200000003,null,"Small Off",{"$f":"B39","v":23029482.600000001},1.7974818761050219E-2,{"$f":"S36","v":0.91122609210258287},null,"School K-12",23029482.600000001,1.7974818761050219E-2,0.96128535178408803,null,null,"5,001-20,000",80784182.574405566,82746734.576799899,85725024,0.96525764258520241,null,"Lodging",71484167.200000003]
["Office",299473304.60000002,null,"Other",{"$f":"B44","v":157213913},0.12270755891365605,{"$f":"S41","v":0.87717751610580841},null,"University",157213913,0.12270755891365605,0,null,null,"20,001-50,000",34539301.857369535,41872639.901227877,41872640,0.99999999764112979,null,"Office",299473304.60000002]
["<5,001",23029482.600000001,null,"residential care",{"$f":"B45","v":53966740.100000001},4.2121761451219111E-2,{"$f":"S42","v":0.8423386600487599},null,"Warehouse",53966740.100000001,4.2121761451219111E-2,0.18162271351024481,null,null,"50,001-100,000",43034153.216813698,63253424.725206777,63929821,0.98941970641849253,null,"<5,001",23029482.600000001]
["5,001-20,000",85725024,null,"Restaurant",{"$f":"B47+B48","v":16079931.400000002},1.2550601228232568E-2,{"$f":"S43","v":0.99999997512427186},null,"Supermarket",16079931.400000002,1.2550601228232568E-2,0.92147944946531313,null,null,"100,001+",64636550.250122726,78341982.765261889,84916337,0.92257845230961733,null,"5,001-20,000",85725024]
["20,001-50,000",41872640,null,"Xlarge Ret",{"$f":"B53","v":59225697},4.6226447552576613E-2,{"$f":"S47","v":0.98608503921852686},null,"MiniMart",59225697,4.6226447552576613E-2,0.83868998628257874,null,"Other",null,153654082.32473806,137904509.70261467,157213913,0.87717751610580841,null,"20,001-50,000",41872640]
["50,001-100,000",63929821,null,"Large Ret",{"$f":"B52","v":72646954},5.6701917901201666E-2,{"$f":"S46","v":0.77181511362305244},null,"Restaurant",72646954,5.6701917901201666E-2,0.99999997512427186,null,"Residential Care",null,49714392.777311653,45458271.543033682,53966740.100000001,0.8423386600487599,null,"50,001-100,000",63929821]
["100,001+",84916337,null,"Medium Ret",{"$f":"B51","v":68116174},5.3165583596140417E-2,{"$f":"S45","v":0.90527535536267667},null,"Lodging",68116174,5.3165583596140417E-2,0.94438859080377269,null,"Restaurant",null,15578466.927956199,16079931,16079931.400000002,0.99999997512427186,null,"100,001+",84916337]
["Other",157213913,null,"Small Ret",{"$f":"B50","v":9866053.6999999993},7.7005866881390082E-3,{"$f":"S44","v":0.53668215741883951},null,"Hospital",9866053.6999999993,7.7005866881390082E-3,0,null,"Retail/Service","<5,001",9866053.8742124401,5294934.9849261232,{"$f":"V50","v":9866053.6999999993},0.53668215741883951,null,"Other",157213913]
["Residential Care",53966740.100000001,null,{"$f":"A54","v":"School K-12"},113565709.8,8.8639553331737675E-2,{"$f":"S48","v":0.96128535178408803},null,"Residential Care",113565709.8,8.8639553331737675E-2,0.8423386600487599,null,null,"5,001-20,000",62095801.889099516,61663893.623795919,{"$f":"V51","v":68116174},0.90527535536267667,null,"Residential Care",53966740.100000001]
["Restaurant",16079931.400000002,null,"University",3318939.8,2.5904768430983446E-3,null,null,"Assembly",3318939.8,2.5904768430983446E-3,0.91177234717447209,null,null,"20,001-50,000",72646953.999999955,56070017.055878662,{"$f":"V52","v":72646954},0.77181511362305244,null,"Restaurant",16079931.400000002]
["<5,001",4744164.2,null,"Warehouse",123337986.3,9.6266945662747752E-2,{"$f":"S49","v":0.18162271351024481},null,"Other",123337986.3,9.6266945662747752E-2,0.87717751610580841,null,null,"100,001+",59225697.00000003,58401573.74898959,{"$f":"V53","v":59225697},0.98608503921852686,null,"<5,001",4744164.2]
["5,001-20,000",11335767.200000001,null,null,{"$f":"SUM(E30:E47)","v":1281208055.9000001},null,null,null,null,{"$f":"SUM(J30:J47)","v":1281208055.9000001},{"$f":"SUM(K30:K47)","v":1},null,null,"School K-12",null,110527499.14520694,109169053.29570265,{"$f":"V54","v":113565709.8},0.96128535178408803,null,"5,001-20,000",11335767.200000001]
["Retail/Service",209854878.69999999,null,null,null,null,null,null,null,null,null,null,null,"Warehouse",null,84732711.903829709,22400979.7506954,{"$f":"V56","v":123337986.3},0.18162271351024481,null,"Retail/Service",209854878.69999999]
["<5,001",9866053.6999999993,null,null,null,null,null,null,null,null,null,null,null,"Grand Total",null,1118886484.6017523,1042255721.3553934,{"$f":"V57","v":1281208055.9000001},0.81349451133699613,null,"<5,001",9866053.6999999993]
["5,001-20,000",68116174,null,null,null,null,null,null,null,null,null,null,null,null,null,null,null,null,null,null,"5,001-20,000",68116174]
["20,001-50,000",72646954,null,null,null,null,null,null,null,null,null,null,null,null,null,null,null,null,null,null,"20,001-50,000",72646954]
["100,001+",59225697,null,null,null,null,null,null,null,null,null,null,null,null,null,null,null,null,null,null,"100,001+",59225697]
["School K-12",113565709.8,null,null,null,null,null,null,null,null,null,null,null,null,null,null,null,null,null,null,"School K-12",113565709.8]
["University",3318939.8,null,null,null,null,null,null,null,null,null,null,null,null,null,null,null,null,null,null,"University",3318939.8]
["Warehouse",123337986.3,null,null,null,null,null,null,null,null,null,null,null,null,null,null,null,null,null,null,"Warehouse",123337986.3]
["Grand Total",1281208055.9000001,null,null,null,null,null,null,null,null,null,null,null,null,null,null,null,null,null,null,"Grand Total",1281208055.9000001]
[]
[]
[]
[]
["Heat Type Calcs"]
["Site_ID","(All)"]
["Fan_Ctr","(All)"]
["DistSys","(All)"]
["DistSys_Detail","(All)"]
["Vintage","2004-2013"]
["HeatSys_PrimFuel","Electricity"]
[]
["Sum of Heat_Frac_Sf_PNW_Heated",null,"Column Labels",null,null,"HP"]
["Row Labels","Size_Group",1,3,4,5,6,8,9,10,11,12,13,"(blank)","Grand Total","SF","HP","Elect"]
["Assembly",null,3.6534593810539057E-2,9.6072243813068336E-2,0,0.50965114798682787,3.1956647213604777E-2,0,0,3.5497740342013101E-3,5.8039414061002159E-4,0,0,0.32165519900114858,1,{"$f":"F102","v":323583577.89067554},{"$f":"F72","v":0.50965114798682787},{"$f":"1-Q72","v":0.49034885201317213}]
["Grocery","<5,001",0,0,0.18622247697050309,0.81377752302949691,0,0,0,0,0,0,0,0,1,{"$f":"F103","v":9815889.4471183456},{"$f":"F73","v":0.81377752302949691},{"$f":"1-Q73","v":0.18622247697050309}]
[null,"5,001-20,000",0.81202354242998354,3.3971992626398925E-2,0,0.15400446494361758,0,0,0,0,0,0,0,0,1,{"$f":"F104","v":16084444.905748043},0.15400446494361758,0.84599553505638236]
[null,"20,001-50,000",0,0,0,0.18249203765273975,0,0,0.8175079623472602,0,0,0,0,0,1,{"$f":"F105","v":23241500.137925949},0.18249203765273975,0.81750796234726031]
["Lodging",null,2.6830345435340821E-2,1.3652575123708729E-2,2.8001180638092205E-2,0.18888064796136644,0.57870617384054446,0,0,7.5228886618891851E-3,0.10945787462577937,0,0,4.6948313713278858E-2,1,{"$f":"F107","v":158846349.10849831},0.18888064796136644,0.8111193520386335]
["Office","<5,001",0,0.17664037080346631,0,0.52490452587958114,0,0,0,1.9787254337404303E-2,0,0,0,0.27866784897954844,1,88922415.770519257,0.52490452587958114,0.47509547412041886]
[null,"5,001-20,000",0,0,4.3228968896827348E-2,0.75611452678600732,0,0,0,0,0,3.0685926118516452E-2,0,0.16997057819864889,1,154110090.46318847,0.75611452678600732,0.24388547321399268]
[null,"20,001-50,000",0.27157849224769093,0.16108600680990617,0,0.48968672235722216,4.2122637341405176E-4,0,0,0,0,0,0,7.7227552211766498E-2,1,121088778.65134136,0.48968672235722216,0.5103132776427779]
[null,"50,001-100,000",0,0,0,0,0,0,0,0,0,0,0,1,1,83126914.229880497,0,1]
[null,"100,001+",0,9.0247339982572464E-2,0,3.7300330925293994E-2,0,0,0,6.1086377136007814E-4,0,0,0,0.87184146532077345,1,161400968.09734377,3.7300330925293994E-2,0.96269966907470605]
["Other",null,3.0358719899233007E-2,7.9022624302837394E-2,2.3915459988707082E-2,0.41080265497275703,5.4849597267194045E-2,5.3229117383233899E-3,9.1480776677612327E-2,8.7343776958000094E-3,0,0,0,0.29551287745753574,1,274835103.70914501,0.41080265497275703,0.58919734502724297]
["Residential Care",null,4.8491951753153045E-2,0,7.2786406113312819E-3,0.25160789616687884,0.31248631124873866,0,0,0.18360090438102558,0.17776288985715782,0,1.383259321048938E-4,1.863308004961009E-2,1,117631709.17964283,0.25160789616687884,0.74839210383312116]
["Restaurant",null,0,0,8.4985032383021089E-2,0.8667911132476972,0,0,0,4.8223854369281734E-2,0,0,0,0,1,47431959.763809502,0.8667911132476972,0.1332088867523028]
["Retail/Service","<5,001",0,0.30228709576973001,0,0.6004457335185307,0,0,0,3.9538732283492091E-2,5.7728438428247104E-2,0,0,0,1,45229806.543296024,0.6004457335185307,0.3995542664814693]
[null,"5,001-20,000",0.67420376757283751,0,0,0.25959218292260067,0,0,6.6204049504561782E-2,0,0,0,0,0,1,142334439.47546965,0.25959218292260067,0.74040781707739933]
[null,"20,001-50,000",0.44457384121018961,0,0,0.52538539575341459,0,0,0,3.0040763036395728E-2,0,0,0,0,1,150479652.53202388,0.52538539575341459,0.47461460424658541]
[null,"100,001+",0,0,0,1,0,0,0,0,0,0,0,0,1,29532449.302067615,1,0]
["School K-12",null,0,0,0,0.60623284948217304,0,0,0,0,0,7.8006315859590558E-2,0,0.31576083465823634,1,124562026.1368593,0.60623284948217304,0.39376715051782696]
["Warehouse",null,0,0,0,0.25284882715292539,9.15963886801789E-2,5.0434425613117444E-2,0,0.60086537417955166,4.2549843742266929E-3,0,0,0,1,226752622.27380022,0.25284882715292539,0.74715117284707455]
["Grand Total",null,9.1376585173836206E-2,4.3578166262721339E-2,1.5647501421037862E-2,0.36751344938564412,0.12676686309729684,7.9239003385834128E-4,1.6904134041812836E-2,2.4251816992745853E-2,3.4260457436102294E-2,7.4496258356358891E-3,1.3534357178331009E-5,0.27144547596213026,1,197062347.57176718,0.36751344938564412,0.63248655061435588]
[]
["Site_ID","(All)"]
["Fan_Ctr","(All)"]
["DistSys","(All)"]
["Equip_Type","(All)"]
["DistSys_Detail","(All)"]
["Vintage","2004-2013"]
[]
["Sum of Heat_Frac_Sf_PNW_Heated",null,"Column Labels",null,null,null,null,null,null,null,null,null,null,null,"Heat Type Final"]
["Row Labels","Size_Group","Electricity","Natural Gas","Grand Total","Total SF"]
["Assembly",null,0.19127215823254617,0.80872784176745371,1,323583577.89067554,null,null,null,"Elect Share","NG Share","HP","Elect",null,null,"NG","Elect","HP"]
["Grocery","<5,001",0.34120957993445039,0.65879042006554966,1,9815889.4471183456,null,null,"Assembly",{"$f":"C102","v":0.19127215823254617},{"$f":"D102","v":0.80872784176745371},{"$f":"Q72","v":0.50965114798682787},{"$f":"R72","v":0.49034885201317213},null,"Large Off",{"$f":"VLOOKUP($I103,$I$103:$M$120,3,FALSE)","v":0.80872784176745371},{"$f":"VLOOKUP($I103,$I$103:$M$120,2,FALSE)*VLOOKUP($I103,$I$103:$M$120,5,FALSE)","v":9.379008321141083E-2},{"$f":"VLOOKUP($I103,$I$103:$M$120,2,FALSE)*VLOOKUP($I103,$I$103:$M$120,4,FALSE)","v":9.7482075021135345E-2}]
[null,"5,001-20,000",0.20553132715572342,0.79446867284427658,1,16084444.905748043,null,null,"Supermarket",{"$f":"SUMPRODUCT(C104:C106,F104:F106)/SUM(F104:F106)","v":6.8914388415774033E-2},{"$f":"SUMPRODUCT(D104:D106,F104:F106)/SUM(F104:F106)","v":0.93108561158422598},{"$f":"SUMPRODUCT(Q74:Q75,$P74:$P75)/SUM($P74:$P75)","v":0.17084052379262782},{"$f":"SUMPRODUCT(R74:R75,$P74:$P75)/SUM($P74:$P75)","v":0.82915947620737218},null,"Medium Off",{"$f":"VLOOKUP($I104,$I$103:$M$120,3,FALSE)","v":0.93108561158422598},{"$f":"VLOOKUP($I104,$I$103:$M$120,2,FALSE)*VLOOKUP($I104,$I$103:$M$120,5,FALSE)","v":5.7141018201974592E-2},{"$f":"VLOOKUP($I104,$I$103:$M$120,2,FALSE)*VLOOKUP($I104,$I$103:$M$120,4,FALSE)","v":1.1773370213799438E-2}]
[null,"20,001-50,000",2.9445627872964144E-2,0.97055437212703577,1,23241500.137925949,null,null,"Minimart",{"$f":"C103","v":0.34120957993445039},{"$f":"D103","v":0.65879042006554966},{"$f":"Q73","v":0.81377752302949691},{"$f":"R73","v":0.18622247697050309},null,"Small Off",0.65879042006554966,6.3540893141458221E-2,0.27766868679299217]
[null,"50,001-100,000",0,1,1,18575140.114893399,null,null,"Hospital",{"$f":"J112","v":0.69635535044967534},{"$f":"K112","v":0.30364464955032466},{"$f":"L112","v":0.25160789616687884},{"$f":"M112","v":0.74839210383312116},null,"Xlarge Ret",0.30364464955032466,0.52114684573848291,0.17520850471119245]
["Lodging",null,0.79019796385281693,0.20980203614718312,1,158846349.10849831,null,null,"Lodging",{"$f":"C107","v":0.79019796385281693},{"$f":"D107","v":0.20980203614718312},{"$f":"Q76","v":0.18888064796136644},{"$f":"R76","v":0.8111193520386335},null,"Large Ret",0.20980203614718312,0.64094486042254439,0.14925310343027248]
["Office","<5,001",0.46909449471346648,0.53090550528653346,1,88922415.770519257,null,null,"Large Off",{"$f":"SUMPRODUCT(C111:C112,F111:F112)/SUM(F111:F112)","v":0.57577270269147163},{"$f":"SUMPRODUCT(D111:D112,F111:F112)/SUM(F111:F112)","v":0.42422729730852854},{"$f":"SUMPRODUCT(Q80:Q81,$P80:$P81)/SUM($P80:$P81)","v":2.4620135194388326E-2},{"$f":"SUMPRODUCT(R80:R81,$P80:$P81)/SUM($P80:$P81)","v":0.97537986480561178},null,"Medium Ret",0.42422729730852854,0.56159710090996928,1.4175601781502387E-2]
[null,"5,001-20,000",0.71327493880016912,0.28672506119983077,1,154110090.46318847,null,null,"Medium Off",{"$f":"SUMPRODUCT(C109:C110,F109:F110)/SUM(F109:F110)","v":0.55252560574833076},{"$f":"SUMPRODUCT(D109:D110,F109:F110)/SUM(F109:F110)","v":0.44747439425166918},{"$f":"SUMPRODUCT(Q78:Q79,$P78:$P79)/SUM($P78:$P79)","v":0.63888505727240341},{"$f":"SUMPRODUCT(R78:R79,$P78:$P79)/SUM($P78:$P79)","v":0.36111494272759653},null,"Small Ret",0.44747439425166918,0.19952525247533903,0.35300035327299167]
[null,"20,001-50,000",0.34793939607281016,0.6520606039271899,1,121088778.65134136,null,null,"Small Off",{"$f":"C108","v":0.46909449471346648},{"$f":"D108","v":0.53090550528653346},{"$f":"Q77","v":0.52490452587958114},{"$f":"R77","v":0.47509547412041886},null,"School K-12",0.53090550528653346,0.22286467137317267,0.24622982334029381]
[null,"50,001-100,000",0.3310637482934789,0.66893625170652105,1,83126914.229880497,null,null,"Other",{"$f":"C113","v":0.26961498794069311},0.73038501205930684,{"$f":"Q82","v":0.41080265497275703},0.58919734502724297,null,"University",0.73038501205930684,0.15885643507420852,0.1107585528664846]
[null,"100,001+",0.70180602518837931,0.29819397481162069,1,161400968.09734377,null,null,"residential care",0.69635535044967534,0.30364464955032466,0.25160789616687884,0.74839210383312116,null,"Warehouse",0.30364464955032466,0.52114684573848291,0.17520850471119245]
["Other",null,0.26961498794069311,0.73038501205930684,1,274835103.70914501,null,null,"Restaurant",0.11544136812444949,0.88455863187555051,0.8667911132476972,0.1332088867523028,null,"Supermarket",0.88455863187555051,1.5377816133020691E-2,0.1000635519914288]
["Residential Care",null,0.69635535044967534,0.30364464955032466,1,117631709.17964283,null,null,"Xlarge Ret",{"$f":"C119","v":3.7919073269764856E-3},{"$f":"D119","v":0.99620809267302346},{"$f":"Q88","v":1},{"$f":"R88","v":0},null,"MiniMart",0.99620809267302346,0,3.7919073269764856E-3]
["Restaurant",null,0.11544136812444949,0.88455863187555051,1,47431959.763809502,null,null,"Large Ret",{"$f":"C118","v":0.11633093892826991},{"$f":"D118","v":0.88366906107173016},{"$f":"Q87","v":0.52538539575341459},{"$f":"R87","v":0.47461460424658541},null,"Restaurant",0.88366906107173016,5.5212362541074519E-2,6.1118576387195395E-2]
["Retail/Service","<5,001",0.25807376864155529,0.74192623135844471,1,45229806.543296024,null,null,"Medium Ret",{"$f":"C117","v":0.46382631638129862},{"$f":"D117","v":0.53617368361870132},{"$f":"Q86","v":0.25959218292260067},{"$f":"R86","v":0.74040781707739933},null,"Lodging",0.53617368361870132,0.34342063041492848,0.12040568596637012]
[null,"5,001-20,000",0.46382631638129862,0.53617368361870132,1,142334439.47546965,null,null,"Small Ret",{"$f":"C116","v":0.25807376864155529},{"$f":"D116","v":0.74192623135844471},{"$f":"Q85","v":0.6004457335185307},{"$f":"R85","v":0.3995542664814693},null,"Hospital",0.74192623135844471,0.10311447532768504,0.15495929331387026]
[null,"20,001-50,000",0.11633093892826991,0.88366906107173016,1,150479652.53202388,null,null,"School K-12",{"$f":"C121","v":1.4242837102056283E-2},{"$f":"D121","v":0.98575716289794368},{"$f":"Q89","v":0.60623284948217304},{"$f":"R89","v":0.39376715051782696},null,"Residential Care",0.98575716289794368,5.6083613809662864E-3,8.6344757210899958E-3]
[null,"100,001+",3.7919073269764856E-3,0.99620809267302346,1,29532449.302067615,null,null,"University",{"$f":"J118","v":1.4242837102056283E-2},{"$f":"K118","v":0.98575716289794368},{"$f":"L118","v":0.60623284948217304},{"$f":"M118","v":0.39376715051782696},null,"Assembly",0.98575716289794368,5.6083613809662864E-3,8.6344757210899958E-3]
["School K-12",null,0.10145234319280301,0.89854765680719695,1,124562026.1368593,null,null,"Warehouse",{"$f":"C122","v":0.32163560456191009},{"$f":"D122","v":0.6783643954380898},{"$f":"Q90","v":0.25284882715292539},{"$f":"R90","v":0.74715117284707455},null,"Other",0.6783643954380898,0.24031041917780901,8.1325185384101065E-2]
["Warehouse",null,1.4242837102056283E-2,0.98575716289794368,1,226752622.27380022,null,null,null,{"$f":"SUM(K103:K120)","v":12.041101839402526}]
["Grand Total",null,0.32163560456191009,0.6783643954380898,1,197062347.57176718]

{"sheet":"BPA Taxonomy","index":21,"n_rows":411,"n_cols":4,"rows_kept":411,"cut":false,"hidden":false,"merged":[]}
["Sector_Name","EndUse_Name","Category_Name","TAP_Name"]
["Agricultural","Compressed Air","Compressed Air System Controls","Compressed Air Control Improvements (non-VFD)"]
["Agricultural","Compressed Air","Compressed Air System Controls","Compressed Air Control Improvements (VFD)"]
["Agricultural","Compressed Air","Compressed Air System Improvements","Compressed Air System Compressor Improvements (non-VFD)"]
["Agricultural","Compressed Air","Compressed Air System Improvements","Compressed Air System Compressor Improvements (VFD)"]
["Agricultural","Compressed Air","Compressed Air System Improvements","Compressed Air System Demand Side Improvements"]
["Agricultural","Compressed Air","Compressed Air System Improvements","Compressed Air System Dryer Improvements"]
["Agricultural","Compressed Air","Compressed Air System Improvements","Compressed Air System Regulation Improvements"]
["Agricultural","Compressed Air","Compressed Air System Improvements","Compressed Air System Storage Improvements"]
["Agricultural","Compressed Air","Compressed Air System Improvements","Compressed Air System Supply Side Improvements"]
["Agricultural","Compressed Air","Compressed Air System Improvements","Compressors"]
["Agricultural","Compressed Air","Compressed Air System Improvements","Interactive Compressed Air System Supply/Demand Improvements"]
["Agricultural","Compressed Air","Heat Recovery","Heat Recovery Improvements"]
["Agricultural","HVAC","HVAC System Improvements","Interactive HVAC System Improvements"]
["Agricultural","Irrigation","Center Pivot System and Equipment","Center Pivot Conversions"]
["Agricultural","Irrigation","Center Pivot System and Equipment","Reduce System Friction Head"]
["Agricultural","Irrigation","Center Pivot System and Equipment","Reduce System Friction Head "]
["Agricultural","Irrigation","Center Pivot System and Equipment","Reduce System Leakage"]
["Agricultural","Irrigation","Center Pivot System and Equipment","Reduce System Lift"]
["Agricultural","Irrigation","Center Pivot System and Equipment","System Water Delivery Improvements"]
["Agricultural","Irrigation","Discharge Fitting Equipment","Drop Installation for Spray Heads and Pressure Regulators"]
["Agricultural","Irrigation","Discharge Fitting Equipment","Flow Control Nozzles and Diffuser"]
["Agricultural","Irrigation","Discharge Fitting Equipment","Impact Sprinkler Heads"]
["Agricultural","Irrigation","Discharge Fitting Equipment","Low Angle Heads"]
["Agricultural","Irrigation","Discharge Fitting Equipment","Low Pressure End guns/Big guns"]
["Agricultural","Irrigation","Discharge Fitting Equipment","Nozzle Replacement"]
["Agricultural","Irrigation","Discharge Fitting Equipment","Spray Heads"]
["Agricultural","Irrigation","Handmove and Sideroll System and Equipment","Reduce System Friction Head"]
["Agricultural","Irrigation","Handmove and Sideroll System and Equipment","Reduce System Leakage"]
["Agricultural","Irrigation","Handmove and Sideroll System and Equipment","Reduce System Lift"]
["Agricultural","Irrigation","Handmove and Sideroll System and Equipment","System Water Delivery Improvements"]
["Agricultural","Irrigation","Hardware","Drain Replacement"]
["Agricultural","Irrigation","Hardware","Drop Tube/Hose Extension"]
["Agricultural","Irrigation","Hardware","Gasket Replacement"]
["Agricultural","Irrigation","Hardware","Goose Necks"]
["Agricultural","Irrigation","Hardware","Hub Replacement"]
["Agricultural","Irrigation","Hardware","Leveler Rebuild"]
["Agricultural","Irrigation","Hardware","Line Repairs"]
["Agricultural","Irrigation","Hardware","Multi-Trajectory Sprays"]
["Agricultural","Irrigation","Hardware","Nozzle Replacement"]
["Agricultural","Irrigation","Hardware","Pipe Repair"]
["Agricultural","Irrigation","Hardware","Regulator Replacement"]
["Agricultural","Irrigation","Hardware","Sprinkler Replacements"]
["Agricultural","Irrigation","Irrigation System Improvements","Change in Water Source"]
["Agricultural","Irrigation","Irrigation System Improvements","Irrigation System Improvements"]
["Agricultural","Irrigation","Irrigation System Improvements","Reduce Delivery System Leakage"]
["Agricultural","Irrigation","Mainline System and Equipment","Interactive Mainline System and Equipment Improvements"]
["Agricultural","Irrigation","Mainline System and Equipment","Mainline System Pump Improvements"]
["Agricultural","Irrigation","Mainline System and Equipment","Reduce Friction Loss"]
["Agricultural","Irrigation","Mainline System and Equipment","Reduce System Friction Head "]
["Agricultural","Irrigation","Mainline System and Equipment","Reduce System Leakage"]
["Agricultural","Irrigation","Mainline System and Equipment","Reduce System Lift"]
["Agricultural","Irrigation","Mainline System and Equipment","System Water Delivery Improvements"]
["Agricultural","Irrigation","Pumps and Fans","Centrifugal Pump System Improvements"]
["Agricultural","Irrigation","Pumps and Fans","Pump Testing Service"]
["Agricultural","Irrigation","Pumps and Fans","Turbine Pump System Improvements"]
["Agricultural","Irrigation","Pumps and Fans","Vacuum Pump System Improvements"]
["Agricultural","Irrigation","Suction Fittings Equipment","Reduce Cavitation"]
["Agricultural","Irrigation","Suction Fittings Equipment","Reduce System Friction Head "]
["Agricultural","Irrigation","Suction Fittings Equipment","Reduce System Leakage"]
["Agricultural","Irrigation","Suction Fittings Equipment","Reduce System Lift"]
["Agricultural","Irrigation","Water Management","Scientific Irrigation Scheduling"]
["Agricultural","Lighting","Delamping","Delamping"]
["Agricultural","Lighting","Lamps/Ballasts/Fixtures","Lamps/Ballasts"]
["Agricultural","Lighting","Lamps/Ballasts/Fixtures","Lamps/Ballasts w/Controls"]
["Agricultural","Lighting","Lamps/Ballasts/Fixtures","Lamps/Ballasts w/Delamping"]
["Agricultural","Lighting","Lamps/Ballasts/Fixtures","Lamps/Ballasts w/Delamping and Controls"]
["Agricultural","Lighting","Lamps/Ballasts/Fixtures","Lamps/Ballasts/Fixtures"]
["Agricultural","Lighting","Lamps/Ballasts/Fixtures","Lamps/Ballasts/Fixtures w/Controls"]
["Agricultural","Lighting","Lamps/Ballasts/Fixtures","Lamps/Ballasts/Fixtures w/Delamping"]
["Agricultural","Lighting","Lamps/Ballasts/Fixtures","Lamps/Ballasts/Fixtures w/Delamping and Controls"]
["Agricultural","Lighting","Lamps/Ballasts/Fixtures","Stall Lighting"]
["Agricultural","Lighting","Lighting Controls","Control Panels"]
["Agricultural","Lighting","Lighting Controls","Daylighting"]
["Agricultural","Lighting","Lighting Controls","Occupancy Sensors"]
["Agricultural","Lighting","Lighting Controls","Photocells"]
["Agricultural","Lighting","Lighting Controls","Timers"]
["Agricultural","Lighting","Signs and Signals","LED Exit Signs"]
["Agricultural","Motors/Drives","Compressed Air System Improvements","Motors/Drives Installation on Compressed Air System"]
["Agricultural","Motors/Drives","Motors","Motor Rewind"]
["Agricultural","Motors/Drives","Motors","Motors"]
["Agricultural","Motors/Drives","Motors/Drives Controls","Dairy Milking Machine Control Improvements (VFD)"]
["Agricultural","Motors/Drives","Motors/Drives Controls","Electronically Commutated Motor (ECM)"]
["Agricultural","Motors/Drives","Motors/Drives Controls","Energy Management Systems/System Controls"]
["Agricultural","Motors/Drives","Motors/Drives Controls","Motors/Drives Control Improvements (non-VFD)"]
["Agricultural","Motors/Drives","Motors/Drives Controls","Motors/Drives Control Improvements (VFD)"]
["Agricultural","Motors/Drives","Pumps and Fans","Motors/Drives Installation on Fan System"]
["Agricultural","Motors/Drives","Pumps and Fans","Motors/Drives Installation on Pump System"]
["Agricultural","Motors/Drives","Pumps and Fans","Motors/Drives Installation on Vacuum Pumps"]
["Agricultural","Process Loads","Livestock Tanks","Freeze Resistant Stock Tanks"]
["Agricultural","Process Loads","Process Loads System Improvements","Interactive Process Loads System Improvements"]
["Agricultural","Process Loads","Pumps and Fans","Centrifugal Pump System Improvements"]
["Agricultural","Process Loads","Pumps and Fans","Fan System Improvements"]
["Agricultural","Process Loads","Pumps and Fans","Pump System Improvements"]
["Agricultural","Process Loads","Pumps and Fans","Turbine Pump System Improvements"]
["Agricultural","Process Loads","Pumps and Fans","Vacuum Pump System Improvements"]
["Agricultural","Refrigeration","Dairy System Improvements","Heat Recovery Improvements"]
["Agricultural","Refrigeration","Dairy System Improvements","Plate Milk Pre-cooler"]
["Agricultural","Refrigeration","Heat Recovery","Heat Recovery Improvements"]
["Agricultural","Refrigeration","Packaged Refrigeration","Packaged Refrigeration System Improvements"]
["Agricultural","Refrigeration","Pumps and Fans","Condensor Fan System Improvements"]
["Agricultural","Refrigeration","Pumps and Fans","Evaporator Coil Fan System Improvements"]
["Agricultural","Refrigeration","Pumps and Fans","Evaporator Fan System Improvements"]
["Agricultural","Refrigeration","Refrigeration System Controls","Defrost Control Improvements"]
["Agricultural","Refrigeration","Refrigeration System Controls","Refrigeration Control Improvements (non-VFD)"]
["Agricultural","Refrigeration","Refrigeration System Controls","Refrigeration Control Improvements (VFD)"]
["Agricultural","Refrigeration","Refrigeration System Improvements","Chiller Improvements"]
["Agricultural","Refrigeration","Refrigeration System Improvements","Insulation"]
["Agricultural","Refrigeration","Refrigeration System Improvements","Interactive Refrigeration System Improvements"]
["Agricultural","Utility Distribution System ","Transformers","De-Energization"]
["Agricultural","Water Heating","Heat Recovery","Heat Recovery Improvements"]
["Agricultural","Water Heating","System Efficiency Improvements","Insulation"]
["Agricultural","Water Heating","Water Heaters","Water Heaters"]
["Agricultural","Whole Bldg/Meter Level","Whole Bldg/Meter Level System Improvements","Interactive Whole Bldg/Meter Level System Improvements"]
["Commercial","Compressed Air","Compressed Air System Controls","Compressed Air Control Improvements (non-VFD)"]
["Commercial","Compressed Air","Compressed Air System Controls","Compressed Air Control Improvements (VFD)"]
["Commercial","Compressed Air","Compressed Air System Improvements","Compressed Air System Compressor Improvements (non-VFD)"]
["Commercial","Compressed Air","Compressed Air System Improvements","Compressed Air System Compressor Improvements (VFD)"]
["Commercial","Compressed Air","Compressed Air System Improvements","Compressed Air System Demand Side Improvements"]
["Commercial","Compressed Air","Compressed Air System Improvements","Compressed Air System Dryer Improvements"]
["Commercial","Compressed Air","Compressed Air System Improvements","Compressed Air System Regulation Improvements"]
["Commercial","Compressed Air","Compressed Air System Improvements","Compressed Air System Storage Improvements"]
["Commercial","Compressed Air","Compressed Air System Improvements","Compressed Air System Supply Side Improvements"]
["Commercial","Compressed Air","Compressed Air System Improvements","Compressors"]
["Commercial","Compressed Air","Heat Recovery","Heat Recovery Improvements"]
["Commercial","Electronics","Computer Technologies","Network Computer Power Management"]
["Commercial","Electronics","Computer Technologies","Power Supplies"]
["Commercial","Electronics","Computer Technologies","Server Virtualization/Load Reduction"]
["Commercial","Electronics","Computer Technologies","Servers"]
["Commercial","Electronics","Plug Load ","Power Strips"]
["Commercial","Food Preparation","Cooking","Cooking Equipment"]
["Commercial","Food Preparation","Cooking","Electric Combination Ovens"]
["Commercial","Food Preparation","Cooking","Electric Commercial Steam Cookers"]
["Commercial","Food Preparation","Cooking","Electric Convection Ovens"]
["Commercial","Food Preparation","Cooking","Electric Fryers"]
["Commercial","Food Preparation","Cooking","Hot Food Holding Cabinets"]
["Commercial","HVAC","Envelope","Air Sealing"]
["Commercial","HVAC","Envelope","Insulation "]
["Commercial","HVAC","Envelope","Windows"]
["Commercial","HVAC","Heat Recovery","Heat Recovery Improvements"]
["Commercial","HVAC","Heat Recovery","Humidification/Dehumidification Improvements"]
["Commercial","HVAC","HVAC System Controls","Energy Management Systems/System Controls"]
["Commercial","HVAC","HVAC System Controls","HVAC Control Improvements (non-VFD)"]
["Commercial","HVAC","HVAC System Controls","HVAC Control Improvements (VFD)"]
["Commercial","HVAC","HVAC System Controls","Pneumatic to DDC Control Improvements"]
["Commercial","HVAC","HVAC System Controls","Thermostats"]
["Commercial","HVAC","HVAC System Improvements","Air-Source Heat Pumps"]
["Commercial","HVAC","HVAC System Improvements","Building Commissioning Improvements"]
["Commercial","HVAC","HVAC System Improvements","Centrifugal Chiller Improvements"]
["Commercial","HVAC","HVAC System Improvements","Duct Insulation"]
["Commercial","HVAC","HVAC System Improvements","Ductless Heat Pumps"]
["Commercial","HVAC","HVAC System Improvements","Economizer System Improvements"]
["Commercial","HVAC","HVAC System Improvements","Interactive HVAC System Improvements"]
["Commercial","HVAC","HVAC System Improvements","Reciprocating Chiller Improvements"]
["Commercial","HVAC","HVAC System Improvements","Rooftop Units"]
["Commercial","HVAC","HVAC System Improvements","Rotary Screw Chiller Improvements"]
["Commercial","HVAC","HVAC System Improvements","Scroll Chiller Improvements"]
["Commercial","HVAC","HVAC System Improvements","Storage Tank Insulation Improvements"]
["Commercial","HVAC","HVAC System Improvements","Variable Refrigerant Flow System Improvements"]
["Commercial","HVAC","HVAC System Improvements","Ventilation System Improvements"]
["Commercial","HVAC","HVAC System Improvements","Water-Source Heat Pumps"]
["Commercial","Lighting","Delamping","Delamping"]
["Commercial","Lighting","Lamps/Ballasts/Fixtures","Lamps/Ballasts"]
["Commercial","Lighting","Lamps/Ballasts/Fixtures","Lamps/Ballasts w/Controls"]
["Commercial","Lighting","Lamps/Ballasts/Fixtures","Lamps/Ballasts w/Delamping"]
["Commercial","Lighting","Lamps/Ballasts/Fixtures","Lamps/Ballasts w/Delamping and Controls"]
["Commercial","Lighting","Lamps/Ballasts/Fixtures","Lamps/Ballasts/Fixtures"]
["Commercial","Lighting","Lamps/Ballasts/Fixtures","Lamps/Ballasts/Fixtures w/Controls"]
["Commercial","Lighting","Lamps/Ballasts/Fixtures","Lamps/Ballasts/Fixtures w/Delamping"]
["Commercial","Lighting","Lamps/Ballasts/Fixtures","Lamps/Ballasts/Fixtures w/Delamping and Controls"]
["Commercial","Lighting","Lighting Controls","Control Panels"]
["Commercial","Lighting","Lighting Controls","Daylighting"]
["Commercial","Lighting","Lighting Controls","Occupancy Sensors"]
["Commercial","Lighting","Lighting Controls","Photocells"]
["Commercial","Lighting","Lighting Controls","Timers"]
["Commercial","Lighting","Signs and Signals","LED Exit Signs"]
["Commercial","Lighting","Signs and Signals","LED Traffic Signals"]
["Commercial","Motors/Drives","Motors","Motor Rewind"]
["Commercial","Motors/Drives","Motors","Motors"]
["Commercial","Motors/Drives","Motors/Drives Controls","Electronically Commutated Motor (ECM)"]
["Commercial","Motors/Drives","Motors/Drives Controls","Energy Management Systems/System Controls"]
["Commercial","Motors/Drives","Motors/Drives Controls","Motors/Drives Control Improvements (non-VFD)"]
["Commercial","Motors/Drives","Motors/Drives Controls","Motors/Drives Control Improvements (VFD)"]
["Commercial","Motors/Drives","Pumps and Fans","Motors/Drives Installation on Fan System"]
["Commercial","Motors/Drives","Pumps and Fans","Motors/Drives Installation on Vacuum Pumps"]
["Commercial","Process Loads","Elevators","Elevators"]
["Commercial","Process Loads","Escalators","Escalators"]
["Commercial","Process Loads","Heat Recovery","Heat Recovery Improvements"]
["Commercial","Process Loads","Process Loads System Controls","Process Loads Control Improvements (non-VFD)"]
["Commercial","Process Loads","Process Loads System Controls","Process Loads Control Improvements (VFD)"]
["Commercial","Process Loads","Process Loads System Improvements","Interactive Process Loads System Improvements"]
["Commercial","Process Loads","Pumps and Fans","Centrifugal Pump System Improvements"]
["Commercial","Process Loads","Pumps and Fans","Fan System Improvements"]
["Commercial","Process Loads","Pumps and Fans","Pump System Improvements"]
["Commercial","Process Loads","Pumps and Fans","Turbine Pump System Improvements"]
["Commercial","Process Loads","Pumps and Fans","Vacuum Pump System Improvements"]
["Commercial","Refrigeration","Heat Recovery","Heat Recovery Improvements"]
["Commercial","Refrigeration","Packaged Refrigeration","Freezer Decommissioning"]
["Commercial","Refrigeration","Packaged Refrigeration","Freezers"]
["Commercial","Refrigeration","Packaged Refrigeration","Ice Makers"]
["Commercial","Refrigeration","Packaged Refrigeration","Packaged Refrigeration System Improvements"]
["Commercial","Refrigeration","Packaged Refrigeration","Refrigerator Decommissioning"]
["Commercial","Refrigeration","Packaged Refrigeration","Refrigerators"]
["Commercial","Refrigeration","Packaged Refrigeration","Vending Machines"]
["Commercial","Refrigeration","Pumps and Fans","Condensor Fan System Improvements"]
["Commercial","Refrigeration","Pumps and Fans","Evaporator Coil Fan System Improvements"]
["Commercial","Refrigeration","Pumps and Fans","Evaporator Fan System Improvements"]
["Commercial","Refrigeration","Refrigeration System Controls","Defrost Control Improvements"]
["Commercial","Refrigeration","Refrigeration System Controls","Multiplex "]
["Commercial","Refrigeration","Refrigeration System Controls","Refrigeration Control Improvements (non-VFD)"]
["Commercial","Refrigeration","Refrigeration System Controls","Refrigeration Control Improvements (VFD)"]
["Commercial","Refrigeration","Refrigeration System Improvements","Auto Closers"]
["Commercial","Refrigeration","Refrigeration System Improvements","Building Commissioning Improvements"]
["Commercial","Refrigeration","Refrigeration System Improvements","Case Lighting"]
["Commercial","Refrigeration","Refrigeration System Improvements","Case Lighting Delamping"]
["Commercial","Refrigeration","Refrigeration System Improvements","Cases"]
["Commercial","Refrigeration","Refrigeration System Improvements","Chiller Improvements"]
["Commercial","Refrigeration","Refrigeration System Improvements","Compressors"]
["Commercial","Refrigeration","Refrigeration System Improvements","Condensors"]
["Commercial","Refrigeration","Refrigeration System Improvements","Doors"]
["Commercial","Refrigeration","Refrigeration System Improvements","Gasket Replacement"]
["Commercial","Refrigeration","Refrigeration System Improvements","Insulation"]
["Commercial","Refrigeration","Refrigeration System Improvements","Interactive Refrigeration System Improvements"]
["Commercial","Refrigeration","Refrigeration System Improvements","Lamps/Ballasts"]
["Commercial","Refrigeration","Refrigeration System Improvements","Motion Sensors"]
["Commercial","Refrigeration","Refrigeration System Improvements","Motors"]
["Commercial","Refrigeration","Refrigeration System Improvements","Multiplex"]
["Commercial","Refrigeration","Refrigeration System Improvements","Night Covers"]
["Commercial","Refrigeration","Refrigeration System Improvements","Strip Curtains"]
["Commercial","Refrigeration","Refrigeration System Improvements","Suction Line Insulation"]
["Commercial","Water Heating","Heat Recovery","Heat Recovery Improvements"]
["Commercial","Water Heating","Pool System Improvements","Pool Blankets"]
["Commercial","Water Heating","Pool System Improvements","Pool System Improvements"]
["Commercial","Water Heating","System Efficiency Improvements","Insulation"]
["Commercial","Water Heating","Water Heaters","Water Heaters"]
["Commercial","Water Heating","Water Heating Controls","Energy Management Systems/System Controls"]
["Commercial","Water Heating","Water Heating Controls","Water Heating Control Improvements (non-VFD)"]
["Commercial","Water Heating","Water Heating Controls","Water Heating Control Improvements (VFD)"]
["Commercial","Water Heating","Water Using Devices","Aerators"]
["Commercial","Water Heating","Water Using Devices","Clothes Washers"]
["Commercial","Water Heating","Water Using Devices","Dishwashers"]
["Commercial","Water Heating","Water Using Devices","Pre Rinse Spray Valves"]
["Commercial","Water Heating","Water Using Devices","Showerheads"]
["Commercial","Whole Bldg/Meter Level","Whole Bldg/Meter Level System Improvements","Interactive Whole Bldg/Meter Level System Improvements"]
["Commercial","Whole Bldg/Meter Level","Whole Bldg/Meter Level System Improvements","Small Office Package"]
["Industrial","Compressed Air","Compressed Air System Controls","Compressed Air Control Improvements (non-VFD)"]
["Industrial","Compressed Air","Compressed Air System Controls","Compressed Air Control Improvements (VFD)"]
["Industrial","Compressed Air","Compressed Air System Improvements","Compressed Air System Compressor Improvements (non-VFD)"]
["Industrial","Compressed Air","Compressed Air System Improvements","Compressed Air System Compressor Improvements (VFD)"]
["Industrial","Compressed Air","Compressed Air System Improvements","Compressed Air System Demand Side Improvements"]
["Industrial","Compressed Air","Compressed Air System Improvements","Compressed Air System Dryer Improvements"]
["Industrial","Compressed Air","Compressed Air System Improvements","Compressed Air System Regulation Improvements"]
["Industrial","Compressed Air","Compressed Air System Improvements","Compressed Air System Storage Improvements"]
["Industrial","Compressed Air","Compressed Air System Improvements","Compressed Air System Supply Side Improvements"]
["Industrial","Compressed Air","Compressed Air System Improvements","Compressors"]
["Industrial","Compressed Air","Heat Recovery","Heat Recovery Improvements"]
["Industrial","Facility Distribution System","Capacitors","Fixed and Switched Shunt Capacitor"]
["Industrial","Facility Distribution System","Conductors","Service Conductor Replacement"]
["Industrial","Facility Distribution System","Power Factor Improvements","VAR Management/Controls"]
["Industrial","Facility Distribution System","Transformers","De-Energization"]
["Industrial","Facility Distribution System","Transformers","Transformers (NEMA TP-1 or Higher)"]
["Industrial","Facility Distribution System","Voltage Management","Conservation Voltage Reduction (CVR)"]
["Industrial","HVAC","Envelope","Air Sealing"]
["Industrial","HVAC","Envelope","Insulation"]
["Industrial","HVAC","Envelope","Windows"]
["Industrial","HVAC","Heat Recovery","Heat Recovery Improvements"]
["Industrial","HVAC","Heat Recovery","Humidification/Dehumidification Improvements"]
["Industrial","HVAC","HVAC System Controls","Energy Management Systems/System Controls"]
["Industrial","HVAC","HVAC System Controls","HVAC Control Improvements (non-VFD)"]
["Industrial","HVAC","HVAC System Controls","HVAC Control Improvements (VFD)"]
["Industrial","HVAC","HVAC System Controls","Pneumatic to DDC Control Improvements"]
["Industrial","HVAC","HVAC System Controls","Thermostats"]
["Industrial","HVAC","HVAC System Improvements","Air-Source Heat Pumps"]
["Industrial","HVAC","HVAC System Improvements","Building Commissioning Improvements"]
["Industrial","HVAC","HVAC System Improvements","Centrifugal Chiller Improvements"]
["Industrial","HVAC","HVAC System Improvements","Duct Insulation"]
["Industrial","HVAC","HVAC System Improvements","Ductless Heat Pumps"]
["Industrial","HVAC","HVAC System Improvements","Economizer System Improvements"]
["Industrial","HVAC","HVAC System Improvements","Interactive HVAC System Improvements"]
["Industrial","HVAC","HVAC System Improvements","Rooftop Units"]
["Industrial","HVAC","HVAC System Improvements","Rotary Screw Chiller Improvements"]
["Industrial","HVAC","HVAC System Improvements","Scroll Chiller Improvements"]
["Industrial","HVAC","HVAC System Improvements","Storage Tank Insulation Improvements"]
["Industrial","HVAC","HVAC System Improvements","Variable Refrigerant Flow System Improvements"]
["Industrial","HVAC","HVAC System Improvements","Ventilation System Improvements"]
["Industrial","HVAC","HVAC System Improvements","Water-Source Heat Pumps"]
["Industrial","Lighting","Delamping","Delamping"]
["Industrial","Lighting","Lamps/Ballasts/Fixtures","Lamps/Ballasts"]
["Industrial","Lighting","Lamps/Ballasts/Fixtures","Lamps/Ballasts w/Controls"]
["Industrial","Lighting","Lamps/Ballasts/Fixtures","Lamps/Ballasts w/Delamping"]
["Industrial","Lighting","Lamps/Ballasts/Fixtures","Lamps/Ballasts w/Delamping and Controls"]
["Industrial","Lighting","Lamps/Ballasts/Fixtures","Lamps/Ballasts/Fixtures"]
["Industrial","Lighting","Lamps/Ballasts/Fixtures","Lamps/Ballasts/Fixtures w/Controls"]
["Industrial","Lighting","Lamps/Ballasts/Fixtures","Lamps/Ballasts/Fixtures w/Delamping"]
["Industrial","Lighting","Lamps/Ballasts/Fixtures","Lamps/Ballasts/Fixtures w/Delamping and Controls"]
["Industrial","Lighting","Lighting Controls","Control Panels"]
["Industrial","Lighting","Lighting Controls","Daylighting"]
["Industrial","Lighting","Lighting Controls","Occupancy Sensors"]
["Industrial","Lighting","Lighting Controls","Photocells"]
["Industrial","Lighting","Lighting Controls","Timers"]
["Industrial","Lighting","Signs and Signals","LED Exit Signs"]
["Industrial","Motors/Drives","Motors","Motor Rewind"]
["Industrial","Motors/Drives","Motors","Motors"]
["Industrial","Motors/Drives","Motors/Drives Controls","Electronically Commutated Motor (ECM)"]
["Industrial","Motors/Drives","Motors/Drives Controls","Energy Management Systems/System Controls"]
["Industrial","Motors/Drives","Motors/Drives Controls","Motors/Drives Control Improvements (non-VFD)"]
["Industrial","Motors/Drives","Motors/Drives Controls","Motors/Drives Control Improvements (VFD)"]
["Industrial","Motors/Drives","Pumps and Fans","Motors/Drives Installation on Blower System"]
["Industrial","Motors/Drives","Pumps and Fans","Motors/Drives Installation on Fan System"]
["Industrial","Motors/Drives","Pumps and Fans","Motors/Drives Installation on Vacuum Pumps"]
["Industrial","Process Loads","Heat Recovery","Heat Recovery Improvements"]
["Industrial","Process Loads","Process Loads System Controls","Process Loads Control Improvements (non-VFD)"]
["Industrial","Process Loads","Process Loads System Controls","Process Loads Control Improvements (VFD)"]
["Industrial","Process Loads","Process Loads System Improvements","Interactive Process Loads System Improvements"]
["Industrial","Process Loads","Pumps and Fans","Blower System Improvements"]
["Industrial","Process Loads","Pumps and Fans","Centrifugal Pump System Improvements"]
["Industrial","Process Loads","Pumps and Fans","Fan System Improvements"]
["Industrial","Process Loads","Pumps and Fans","Pump System Improvements"]
["Industrial","Process Loads","Pumps and Fans","Turbine Pump System Improvements"]
["Industrial","Process Loads","Pumps and Fans","Vacuum Pump System Improvements"]
["Industrial","Process Loads","Wastewater System Improvements","Interactive Wastewater System Improvements"]
["Industrial","Refrigeration","Heat Recovery","Heat Recovery Improvements"]
["Industrial","Refrigeration","Packaged Refrigeration","Packaged Refrigeration System Improvements"]
["Industrial","Refrigeration","Pumps and Fans","Condensor Fan System Improvements"]
["Industrial","Refrigeration","Pumps and Fans","Evaporator Coil Fan System Improvements"]
["Industrial","Refrigeration","Pumps and Fans","Evaporator Fan System Improvements"]
["Industrial","Refrigeration","Refrigeration System Controls","Defrost Control Improvements"]
["Industrial","Refrigeration","Refrigeration System Controls","Refrigeration Control Improvements (non-VFD)"]
["Industrial","Refrigeration","Refrigeration System Controls","Refrigeration Control Improvements (VFD)"]
["Industrial","Refrigeration","Refrigeration System Improvements","Building Commissioning Improvements"]
["Industrial","Refrigeration","Refrigeration System Improvements","Chiller Improvements"]
["Industrial","Refrigeration","Refrigeration System Improvements","Fast Acting Doors"]
["Industrial","Refrigeration","Refrigeration System Improvements","Insulation"]
["Industrial","Refrigeration","Refrigeration System Improvements","Interactive Refrigeration System Improvements"]
["Industrial","Water Heating","Heat Recovery","Heat Recovery Improvements"]
["Industrial","Water Heating","Pipe Insulation","Pipe Insulation"]
["Industrial","Water Heating","System Efficiency Improvements","Insulation"]
["Industrial","Water Heating","Water Heating Controls","Energy Management Systems/System Controls"]
["Industrial","Water Heating","Water Heating Controls","Water Heating Control Improvements (non-VFD)"]
["Industrial","Water Heating","Water Heating Controls","Water Heating Control Improvements (VFD)"]
["Industrial","Whole Bldg/Meter Level","Whole Bldg/Meter Level System Improvements","Interactive Whole Bldg/Meter Level System Improvements"]
["Residential","Electronics","Computer Technologies","Network Computer Power Management"]
["Residential","Electronics","Entertainment","Set Top Boxes"]
["Residential","Electronics","Entertainment","Televisions"]
["Residential","Electronics","Plug Load ","Power Strips"]
["Residential","Food Preparation","Cooking","Bi-Radient Oven"]
["Residential","HVAC","Envelope","Air Sealing"]
["Residential","HVAC","Envelope","Air Sealing"]
["Residential","HVAC","Envelope","Insulation"]
["Residential","HVAC","Envelope","Insulation"]
["Residential","HVAC","Envelope","Windows"]
["Residential","HVAC","Envelope","Windows"]
["Residential","HVAC","Heat Recovery","Heat Recovery Improvements"]
["Residential","HVAC","HVAC System","Air Conditioners"]
["Residential","HVAC","HVAC System","Air-Source Heat Pumps w/Duct Sealing"]
["Residential","HVAC","HVAC System","Air-Source Heat Pumps w/Duct Sealing"]
["Residential","HVAC","HVAC System","Air-Source Heat Pumps w/o Duct Sealing"]
["Residential","HVAC","HVAC System","Air-Source Heat Pumps w/o Duct Sealing"]
["Residential","HVAC","HVAC System","Commissioning Controls Sizing"]
["Residential","HVAC","HVAC System","Duct Sealing"]
["Residential","HVAC","HVAC System","Ductless Heat Pumps"]
["Residential","HVAC","HVAC system","Ground-source Heat Pump"]
["Residential","HVAC","HVAC system","Ground-source Heat Pump"]
["Residential","HVAC","HVAC System","Ground-Source Heat Pumps w/ Duct Sealing"]
["Residential","HVAC","HVAC System","Ground-Source Heat Pumps w/ Duct Sealing"]
["Residential","HVAC","HVAC System","Ground-Source Heat Pumps w/o Duct Sealing"]
["Residential","HVAC","HVAC System","Ground-Source Heat Pumps w/o Duct Sealing"]
["Residential","HVAC","HVAC System","Interactive HVAC System Improvements"]
["Residential","HVAC","HVAC system","Sealing and Commissioning"]
["Residential","HVAC","HVAC system","Sealing Commissioning and Controls"]
["Residential","HVAC","HVAC System","Thermostats"]
["Residential","HVAC","HVAC system","Variable Speed Heat Pumps w/o Duct Sealing"]
["Residential","HVAC","HVAC system","Variable Speed Heat Pumps w/o Duct Sealing"]
["Residential","Lighting","Lamps/Fixtures","Fixtures"]
["Residential","Lighting","Lamps/Fixtures","Lamps"]
["Residential","Lighting","Lighting Controls","Lighting Controls"]
["Residential","Refrigeration","Freezers","Freezer Decommissioning"]
["Residential","Refrigeration","Freezers","Freezers"]
["Residential","Refrigeration","Refrigerators","Refrigerator Decommissioning"]
["Residential","Refrigeration","Refrigerators","Refrigerators"]
["Residential","Water Heating","Heat Recovery","Water Heat Recovery"]
["Residential","Water Heating","Pipe Insulation","Pipe Insulation"]
["Residential","Water Heating","Water Heaters","Heat Pump Water Heaters"]
["Residential","Water Heating","Water Heaters","Water Heaters"]
["Residential","Water Heating","Water Using Devices","Clothes Washers"]
["Residential","Water Heating","Water Using Devices","Dishwashers"]
["Residential","Water Heating","Water Using Devices","Showerheads"]
["Residential","Whole Bldg/Meter Level","Homes","Built Green Home"]
["Residential","Whole Bldg/Meter Level","Homes","EcoRated Home"]
["Residential","Whole Bldg/Meter Level","Homes","Energy Star Home"]
["Residential","Whole Bldg/Meter Level","Homes","Montana House"]
["Residential","Whole Bldg/Meter Level","Homes","NEEM Certified Home"]
["Residential","Whole Bldg/Meter Level","Whole Bldg/Meter Level System Improvements","Behavioral"]
["Utility System Efficiency","Utility Distribution System","Capacitors","Fixed and Switched Shunt Capacitor"]
["Utility System Efficiency","Utility Distribution System ","Conductors","Service Conductor Replacement"]
["Utility System Efficiency","Utility Distribution System ","Insulators","Insulators"]
["Utility System Efficiency","Utility Distribution System ","Power Factor Improvements","Operation System Improvements"]
["Utility System Efficiency","Utility Distribution System ","Power Factor Improvements","VAR management/Controls"]
["Utility System Efficiency","Utility Distribution System ","Transformers","Transformer Load Management"]
["Utility System Efficiency","Utility Distribution System ","Transformers","Transformers (NEMA TP-1 or Higher)"]
["Utility System Efficiency","Utility Distribution System ","Utility Station Service Loads","Utility Remote Feedback"]
["Utility System Efficiency","Utility Distribution System ","Utility Station Service Loads","Utility Service Connection Standards"]
["Utility System Efficiency","Utility Generation System","Utility Station Service Loads","Service Station System Improvements"]
["Utility System Efficiency","Utility Transmission System","Operation","Fixed and Swtiched Shunt Capacitor"]
["Utility System Efficiency","Utility Transmission System ","Capacitors","Fixed and Swtiched Shunt Capacitor"]
["Utility System Efficiency","Utility Transmission System ","Conductors","Service Conductor Replacement"]
["Utility System Efficiency","Utility Transmission System ","Insulators","Fixed and Swtiched Shunt Capacitor"]
["Utility System Efficiency","Utility Transmission System ","Power Factor Improvements","VAR management/Controls"]
["Utility System Efficiency","Utility Transmission System ","Transformers","Transformer Load Management"]
["Utility System Efficiency","Utility Transmission System ","Transformers","Transformers (NEMA TP-1 or Higher)"]
["Utility System Efficiency","Utility Transmission System ","Voltage Management","Conservation Voltage Reduction (CVR)"]

{"sheet":"Forecast Data","index":22,"n_rows":147,"n_cols":23,"rows_kept":147,"cut":false,"hidden":false,"merged":[]}
["Ratio of SF for Low and High forecasts, by year",null,null,null,"For use in commercial fans, air compressors, and pumps workbooks"]
[null,null,null,2022,2023,2024,2025,2026,2027,2028,2029,2030,2031,2032,2033,2034,2035,2036,2037,2038,2039,2040,2041]
[null,"New","Low",{"$f":"D97/D56","v":0.69325640714199033},{"$f":"E97/E56","v":0.81804555142260438},0.81502243213569181,0.8155966948679485,0.89574393545304742,0.99705814511198254,1.0942103745118927,1.057931463585599,1.0109452576699414,0.96269916080054763,1.0287511616269929,1.0427926643064473,0.93472632052876303,0.89009133484081115,0.89012641586571228,0.92163979504094862,0.99098820903894347,1.0260263035652062,1.0518453549617777,1.02312041333062]
[null,"New","High",{"$f":"D138/D56","v":1.4985108708854618},1.315150947373354,1.2385496725097462,1.2215573263990185,1.3846573597324687,1.3898827285475259,1.1590196426458426,1.1285884743520092,1.132902346099858,1.0856123934255908,1.1133080753925686,1.1203644356448925,1.1876532506289057,1.2644919807156458,1.2197183098591533,1.2271685700841357,1.2241013569152555,1.2328054232957828,1.2941162797544816,1.2312761261130147]
[null,null,"Base",1,1,1,1,1,1,1,1,1,1,1,1,1,1,1,1,1,1,1,1]
[null,"Exiting","Low",{"$f":"D98/D57","v":1},1,1,1,1,1,1,1,1,1,1,1,1,1,1,1,1,1,1,1]
[null,"Existing","High",{"$f":"D139/D57","v":1},{"$f":"E139/E57","v":1},1,1,1,1,1,1,1,1,1,1,1,1,1,1,1,1,1,1]
[]
[]
[null,null,"Low",{"$f":"D97","v":28.537900000000018},{"$f":"E97+D10","v":66.958800000000011},{"$f":"F97+E10","v":101.40230000000003},136.90710000000007,179.09440000000001,233.55910000000003,292.74100000000004,346.47079999999994,409.49059999999992,468.42039999999986,533.18079999999998,595.33019999999999,651.17719999999986,705.41989999999987,760.9402,821.07009999999991,887.50040000000001,958.18129999999996,1026.0592999999999,1092.8530000000001]
[null,null,"High",{"$f":"D138","v":61.686199999999999},{"$f":"E138+D11","v":123.45450000000004},{"$f":"F138+E11","v":175.79659999999987},228.97379999999993,294.18769999999995,370.11059999999986,432.79779999999994,490.11610000000002,560.73839999999996,627.19209999999998,697.27539999999999,764.048,835.00660000000005,912.06550000000004,988.14360000000011,1068.2069000000001,1150.2638000000002,1235.1893,1318.7016000000001,1399.0845999999999]
[null,null,"Base",{"$f":"D56","v":41.164999999999978},{"$f":"E56+D12","v":88.131699999999924},{"$f":"F56+E12","v":130.39249999999987},173.92479999999995,221.0223,275.64769999999993,329.7340999999999,380.52169999999984,442.85919999999987,504.07229999999981,567.02279999999996,626.62180000000001,686.36869999999999,747.30930000000001,809.68280000000004,874.92509999999993,941.95949999999993,1010.8475,1075.3797999999999,1140.6641]
[]
[]
["Units Forecsts:"]
[]
[]
["Base",null,null,{"$f":"'[36]Com Forecast (Base Case)'!AQ$12","v":2022},{"$f":"'[36]Com Forecast (Base Case)'!AR$12","v":2023},{"$f":"'[36]Com Forecast (Base Case)'!AS$12","v":2024},{"$f":"'[36]Com Forecast (Base Case)'!AT$12","v":2025},{"$f":"'[36]Com Forecast (Base Case)'!AU$12","v":2026},{"$f":"'[36]Com Forecast (Base Case)'!AV$12","v":2027},{"$f":"'[36]Com Forecast (Base Case)'!AW$12","v":2028},{"$f":"'[36]Com Forecast (Base Case)'!AX$12","v":2029},{"$f":"'[36]Com Forecast (Base Case)'!AY$12","v":2030},{"$f":"'[36]Com Forecast (Base Case)'!AZ$12","v":2031},{"$f":"'[36]Com Forecast (Base Case)'!BA$12","v":2032},{"$f":"'[36]Com Forecast (Base Case)'!BB$12","v":2033},{"$f":"'[36]Com Forecast (Base Case)'!BC$12","v":2034},{"$f":"'[36]Com Forecast (Base Case)'!BD$12","v":2035},{"$f":"'[36]Com Forecast (Base Case)'!BE$12","v":2036},{"$f":"'[36]Com Forecast (Base Case)'!BF$12","v":2037},{"$f":"'[36]Com Forecast (Base Case)'!BG$12","v":2038},{"$f":"'[36]Com Forecast (Base Case)'!BH$12","v":2039},{"$f":"'[36]Com Forecast (Base Case)'!BI$12","v":2040},{"$f":"'[36]Com Forecast (Base Case)'!BJ$12","v":2041}]
[null,{"$f":"'[36]Com Forecast (Base Case)'!$D169","v":"Large Off"},{"$f":"'[36]Com Forecast (Base Case)'!$E169","v":"New"},{"$f":"'[36]Com Forecast (Base Case)'!AQ169","v":5.6333999999999946},{"$f":"'[36]Com Forecast (Base Case)'!AR169","v":5.4636000000000422},{"$f":"'[36]Com Forecast (Base Case)'!AS169","v":4.4581000000000017},{"$f":"'[36]Com Forecast (Base Case)'!AT169","v":4.2283999999999651},{"$f":"'[36]Com Forecast (Base Case)'!AU169","v":4.1790000000000305},{"$f":"'[36]Com Forecast (Base Case)'!AV169","v":4.8623000000000047},{"$f":"'[36]Com Forecast (Base Case)'!AW169","v":5.3172999999999888},{"$f":"'[36]Com Forecast (Base Case)'!AX169","v":5.8979999999999677},{"$f":"'[36]Com Forecast (Base Case)'!AY169","v":6.3305000000000291},{"$f":"'[36]Com Forecast (Base Case)'!AZ169","v":6.1882999999999697},{"$f":"'[36]Com Forecast (Base Case)'!BA169","v":6.4879999999999995},{"$f":"'[36]Com Forecast (Base Case)'!BB169","v":6.6770000000000209},{"$f":"'[36]Com Forecast (Base Case)'!BC169","v":6.0901000000000067},{"$f":"'[36]Com Forecast (Base Case)'!BD169","v":6.7987999999999715},{"$f":"'[36]Com Forecast (Base Case)'!BE169","v":6.7975000000000136},{"$f":"'[36]Com Forecast (Base Case)'!BF169","v":7.34699999999998},{"$f":"'[36]Com Forecast (Base Case)'!BG169","v":7.4186000000000263},{"$f":"'[36]Com Forecast (Base Case)'!BH169","v":8.3190999999999917},{"$f":"'[36]Com Forecast (Base Case)'!BI169","v":6.9329999999999927},{"$f":"'[36]Com Forecast (Base Case)'!BJ169","v":7.3754000000000133}]
[null,{"$f":"'[36]Com Forecast (Base Case)'!$D170","v":"Medium Off"},{"$f":"'[36]Com Forecast (Base Case)'!$E170","v":"New"},{"$f":"'[36]Com Forecast (Base Case)'!AQ170","v":4.1988000000000056},{"$f":"'[36]Com Forecast (Base Case)'!AR170","v":4.1384999999999934},{"$f":"'[36]Com Forecast (Base Case)'!AS170","v":3.3652999999999906},{"$f":"'[36]Com Forecast (Base Case)'!AT170","v":2.955900000000014},{"$f":"'[36]Com Forecast (Base Case)'!AU170","v":2.9736000000000047},{"$f":"'[36]Com Forecast (Base Case)'!AV170","v":3.7083000000000084},{"$f":"'[36]Com Forecast (Base Case)'!AW170","v":3.9542999999999893},{"$f":"'[36]Com Forecast (Base Case)'!AX170","v":4.3752000000000066},{"$f":"'[36]Com Forecast (Base Case)'!AY170","v":4.7004000000000019},{"$f":"'[36]Com Forecast (Base Case)'!AZ170","v":4.3791999999999973},{"$f":"'[36]Com Forecast (Base Case)'!BA170","v":4.820999999999998},{"$f":"'[36]Com Forecast (Base Case)'!BB170","v":4.9895000000000209},{"$f":"'[36]Com Forecast (Base Case)'!BC170","v":4.4361999999999853},{"$f":"'[36]Com Forecast (Base Case)'!BD170","v":5.1440000000000055},{"$f":"'[36]Com Forecast (Base Case)'!BE170","v":4.8136000000000081},{"$f":"'[36]Com Forecast (Base Case)'!BF170","v":5.3894999999999982},{"$f":"'[36]Com Forecast (Base Case)'!BG170","v":5.3947000000000003},{"$f":"'[36]Com Forecast (Base Case)'!BH170","v":6.0187999999999988},{"$f":"'[36]Com Forecast (Base Case)'!BI170","v":4.8980999999999995},{"$f":"'[36]Com Forecast (Base Case)'!BJ170","v":5.2326999999999657}]
[null,{"$f":"'[36]Com Forecast (Base Case)'!$D171","v":"Small Off"},{"$f":"'[36]Com Forecast (Base Case)'!$E171","v":"New"},{"$f":"'[36]Com Forecast (Base Case)'!AQ171","v":1.3465999999999951},{"$f":"'[36]Com Forecast (Base Case)'!AR171","v":1.3415999999999997},{"$f":"'[36]Com Forecast (Base Case)'!AS171","v":1.1340000000000146},{"$f":"'[36]Com Forecast (Base Case)'!AT171","v":1.0319000000000074},{"$f":"'[36]Com Forecast (Base Case)'!AU171","v":1.023699999999991},{"$f":"'[36]Com Forecast (Base Case)'!AV171","v":1.2314999999999827},{"$f":"'[36]Com Forecast (Base Case)'!AW171","v":1.2897000000000105},{"$f":"'[36]Com Forecast (Base Case)'!AX171","v":1.4131000000000142},{"$f":"'[36]Com Forecast (Base Case)'!AY171","v":1.5687999999999818},{"$f":"'[36]Com Forecast (Base Case)'!AZ171","v":1.4961000000000126},{"$f":"'[36]Com Forecast (Base Case)'!BA171","v":1.6086999999999989},{"$f":"'[36]Com Forecast (Base Case)'!BB171","v":1.6596999999999866},{"$f":"'[36]Com Forecast (Base Case)'!BC171","v":1.5197000000000003},{"$f":"'[36]Com Forecast (Base Case)'!BD171","v":1.7017000000000166},{"$f":"'[36]Com Forecast (Base Case)'!BE171","v":1.6134999999999877},{"$f":"'[36]Com Forecast (Base Case)'!BF171","v":1.7650000000000148},{"$f":"'[36]Com Forecast (Base Case)'!BG171","v":1.7792999999999779},{"$f":"'[36]Com Forecast (Base Case)'!BH171","v":1.9324000000000012},{"$f":"'[36]Com Forecast (Base Case)'!BI171","v":1.6666000000000167},{"$f":"'[36]Com Forecast (Base Case)'!BJ171","v":1.7458000000000027}]
[null,{"$f":"'[36]Com Forecast (Base Case)'!$D172","v":"XLarge Ret"},{"$f":"'[36]Com Forecast (Base Case)'!$E172","v":"New"},{"$f":"'[36]Com Forecast (Base Case)'!AQ172","v":1.1617999999999995},{"$f":"'[36]Com Forecast (Base Case)'!AR172","v":1.153899999999993},{"$f":"'[36]Com Forecast (Base Case)'!AS172","v":1.4604999999999961},{"$f":"'[36]Com Forecast (Base Case)'!AT172","v":2.1144000000000176},{"$f":"'[36]Com Forecast (Base Case)'!AU172","v":1.9581000000000017},{"$f":"'[36]Com Forecast (Base Case)'!AV172","v":2.5619999999999834},{"$f":"'[36]Com Forecast (Base Case)'!AW172","v":2.6017999999999972},{"$f":"'[36]Com Forecast (Base Case)'!AX172","v":2.087600000000009},{"$f":"'[36]Com Forecast (Base Case)'!AY172","v":3.2203000000000088},{"$f":"'[36]Com Forecast (Base Case)'!AZ172","v":2.9730999999999881},{"$f":"'[36]Com Forecast (Base Case)'!BA172","v":3.2391000000000076},{"$f":"'[36]Com Forecast (Base Case)'!BB172","v":3.0064000000000135},{"$f":"'[36]Com Forecast (Base Case)'!BC172","v":3.2449999999999761},{"$f":"'[36]Com Forecast (Base Case)'!BD172","v":3.1483000000000061},{"$f":"'[36]Com Forecast (Base Case)'!BE172","v":3.2116000000000042},{"$f":"'[36]Com Forecast (Base Case)'!BF172","v":3.1938000000000102},{"$f":"'[36]Com Forecast (Base Case)'!BG172","v":3.3333999999999833},{"$f":"'[36]Com Forecast (Base Case)'!BH172","v":2.9842000000000155},{"$f":"'[36]Com Forecast (Base Case)'!BI172","v":3.0115999999999872},{"$f":"'[36]Com Forecast (Base Case)'!BJ172","v":2.9493999999999971}]
[null,{"$f":"'[36]Com Forecast (Base Case)'!$D173","v":"Large Ret"},{"$f":"'[36]Com Forecast (Base Case)'!$E173","v":"New"},{"$f":"'[36]Com Forecast (Base Case)'!AQ173","v":1.0635000000000048},{"$f":"'[36]Com Forecast (Base Case)'!AR173","v":1.0701999999999998},{"$f":"'[36]Com Forecast (Base Case)'!AS173","v":1.1759999999999877},{"$f":"'[36]Com Forecast (Base Case)'!AT173","v":1.4268000000000143},{"$f":"'[36]Com Forecast (Base Case)'!AU173","v":1.3733000000000004},{"$f":"'[36]Com Forecast (Base Case)'!AV173","v":1.6213999999999942},{"$f":"'[36]Com Forecast (Base Case)'!AW173","v":1.6288999999999874},{"$f":"'[36]Com Forecast (Base Case)'!AX173","v":1.4321999999999946},{"$f":"'[36]Com Forecast (Base Case)'!AY173","v":2.0912000000000148},{"$f":"'[36]Com Forecast (Base Case)'!AZ173","v":1.9814000000000078},{"$f":"'[36]Com Forecast (Base Case)'!BA173","v":2.1101999999999919},{"$f":"'[36]Com Forecast (Base Case)'!BB173","v":2.0056999999999903},{"$f":"'[36]Com Forecast (Base Case)'!BC173","v":2.0996000000000095},{"$f":"'[36]Com Forecast (Base Case)'!BD173","v":2.0766999999999882},{"$f":"'[36]Com Forecast (Base Case)'!BE173","v":2.0855000000000246},{"$f":"'[36]Com Forecast (Base Case)'!BF173","v":2.0952999999999804},{"$f":"'[36]Com Forecast (Base Case)'!BG173","v":2.1428999999999974},{"$f":"'[36]Com Forecast (Base Case)'!BH173","v":2.0063999999999851},{"$f":"'[36]Com Forecast (Base Case)'!BI173","v":2.0495999999999981},{"$f":"'[36]Com Forecast (Base Case)'!BJ173","v":2.0264000000000237}]
[null,{"$f":"'[36]Com Forecast (Base Case)'!$D174","v":"Medium Ret"},{"$f":"'[36]Com Forecast (Base Case)'!$E174","v":"New"},{"$f":"'[36]Com Forecast (Base Case)'!AQ174","v":1.4652999999999992},{"$f":"'[36]Com Forecast (Base Case)'!AR174","v":1.469300000000004},{"$f":"'[36]Com Forecast (Base Case)'!AS174","v":1.8566000000000003},{"$f":"'[36]Com Forecast (Base Case)'!AT174","v":2.8018000000000001},{"$f":"'[36]Com Forecast (Base Case)'!AU174","v":2.5435999999999979},{"$f":"'[36]Com Forecast (Base Case)'!AV174","v":3.4519999999999982},{"$f":"'[36]Com Forecast (Base Case)'!AW174","v":3.4825000000000017},{"$f":"'[36]Com Forecast (Base Case)'!AX174","v":2.7667000000000002},{"$f":"'[36]Com Forecast (Base Case)'!AY174","v":4.3074999999999903},{"$f":"'[36]Com Forecast (Base Case)'!AZ174","v":3.9420000000000073},{"$f":"'[36]Com Forecast (Base Case)'!BA174","v":4.3520000000000039},{"$f":"'[36]Com Forecast (Base Case)'!BB174","v":4.0170999999999992},{"$f":"'[36]Com Forecast (Base Case)'!BC174","v":4.3271000000000015},{"$f":"'[36]Com Forecast (Base Case)'!BD174","v":4.184899999999999},{"$f":"'[36]Com Forecast (Base Case)'!BE174","v":4.2484000000000037},{"$f":"'[36]Com Forecast (Base Case)'!BF174","v":4.2325999999999908},{"$f":"'[36]Com Forecast (Base Case)'!BG174","v":4.4235999999999933},{"$f":"'[36]Com Forecast (Base Case)'!BH174","v":3.9090000000000202},{"$f":"'[36]Com Forecast (Base Case)'!BI174","v":3.8896999999999764},{"$f":"'[36]Com Forecast (Base Case)'!BJ174","v":3.7363}]
[null,{"$f":"'[36]Com Forecast (Base Case)'!$D175","v":"Small Ret"},{"$f":"'[36]Com Forecast (Base Case)'!$E175","v":"New"},{"$f":"'[36]Com Forecast (Base Case)'!AQ175","v":0.71099999999999852},{"$f":"'[36]Com Forecast (Base Case)'!AR175","v":0.70439999999999259},{"$f":"'[36]Com Forecast (Base Case)'!AS175","v":0.8247999999999962},{"$f":"'[36]Com Forecast (Base Case)'!AT175","v":1.0931000000000068},{"$f":"'[36]Com Forecast (Base Case)'!AU175","v":1.028499999999994},{"$f":"'[36]Com Forecast (Base Case)'!AV175","v":1.3060000000000116},{"$f":"'[36]Com Forecast (Base Case)'!AW175","v":1.320999999999998},{"$f":"'[36]Com Forecast (Base Case)'!AX175","v":1.097999999999999},{"$f":"'[36]Com Forecast (Base Case)'!AY175","v":1.6697999999999951},{"$f":"'[36]Com Forecast (Base Case)'!AZ175","v":1.5638999999999896},{"$f":"'[36]Com Forecast (Base Case)'!BA175","v":1.690700000000021},{"$f":"'[36]Com Forecast (Base Case)'!BB175","v":1.602800000000002},{"$f":"'[36]Com Forecast (Base Case)'!BC175","v":1.6951999999999998},{"$f":"'[36]Com Forecast (Base Case)'!BD175","v":1.6537999999999897},{"$f":"'[36]Com Forecast (Base Case)'!BE175","v":1.6725000000000136},{"$f":"'[36]Com Forecast (Base Case)'!BF175","v":1.6677999999999997},{"$f":"'[36]Com Forecast (Base Case)'!BG175","v":1.7324999999999875},{"$f":"'[36]Com Forecast (Base Case)'!BH175","v":1.570999999999998},{"$f":"'[36]Com Forecast (Base Case)'!BI175","v":1.5857000000000028},{"$f":"'[36]Com Forecast (Base Case)'!BJ175","v":1.5330999999999904}]
[null,{"$f":"'[36]Com Forecast (Base Case)'!$D176","v":"School K-12"},{"$f":"'[36]Com Forecast (Base Case)'!$E176","v":"New"},{"$f":"'[36]Com Forecast (Base Case)'!AQ176","v":1.8792000000000257},{"$f":"'[36]Com Forecast (Base Case)'!AR176","v":1.8689999999999714},{"$f":"'[36]Com Forecast (Base Case)'!AS176","v":1.8704000000000178},{"$f":"'[36]Com Forecast (Base Case)'!AT176","v":1.8679000000000201},{"$f":"'[36]Com Forecast (Base Case)'!AU176","v":1.8607999999999834},{"$f":"'[36]Com Forecast (Base Case)'!AV176","v":1.8315000000000055},{"$f":"'[36]Com Forecast (Base Case)'!AW176","v":1.859800000000007},{"$f":"'[36]Com Forecast (Base Case)'!AX176","v":1.873299999999972},{"$f":"'[36]Com Forecast (Base Case)'!AY176","v":2.2813000000000443},{"$f":"'[36]Com Forecast (Base Case)'!AZ176","v":2.2931999999999562},{"$f":"'[36]Com Forecast (Base Case)'!BA176","v":2.2861000000000331},{"$f":"'[36]Com Forecast (Base Case)'!BB176","v":2.3731999999999971},{"$f":"'[36]Com Forecast (Base Case)'!BC176","v":2.3170999999999822},{"$f":"'[36]Com Forecast (Base Case)'!BD176","v":2.2988000000000284},{"$f":"'[36]Com Forecast (Base Case)'!BE176","v":2.2907999999999902},{"$f":"'[36]Com Forecast (Base Case)'!BF176","v":2.3553999999999746},{"$f":"'[36]Com Forecast (Base Case)'!BG176","v":2.3074000000000296},{"$f":"'[36]Com Forecast (Base Case)'!BH176","v":2.3668999999999869},{"$f":"'[36]Com Forecast (Base Case)'!BI176","v":2.4112999999999829},{"$f":"'[36]Com Forecast (Base Case)'!BJ176","v":2.4895999999999958}]
[null,{"$f":"'[36]Com Forecast (Base Case)'!$D177","v":"University"},{"$f":"'[36]Com Forecast (Base Case)'!$E177","v":"New"},{"$f":"'[36]Com Forecast (Base Case)'!AQ177","v":0.73799999999999955},{"$f":"'[36]Com Forecast (Base Case)'!AR177","v":0.70669999999998367},{"$f":"'[36]Com Forecast (Base Case)'!AS177","v":0.81090000000000373},{"$f":"'[36]Com Forecast (Base Case)'!AT177","v":0.78560000000001651},{"$f":"'[36]Com Forecast (Base Case)'!AU177","v":0.85609999999999786},{"$f":"'[36]Com Forecast (Base Case)'!AV177","v":0.86929999999998131},{"$f":"'[36]Com Forecast (Base Case)'!AW177","v":0.87930000000000064},{"$f":"'[36]Com Forecast (Base Case)'!AX177","v":0.85890000000000555},{"$f":"'[36]Com Forecast (Base Case)'!AY177","v":0.93319999999999936},{"$f":"'[36]Com Forecast (Base Case)'!AZ177","v":0.98730000000000473},{"$f":"'[36]Com Forecast (Base Case)'!BA177","v":0.94499999999999318},{"$f":"'[36]Com Forecast (Base Case)'!BB177","v":0.9421000000000106},{"$f":"'[36]Com Forecast (Base Case)'!BC177","v":0.87049999999999272},{"$f":"'[36]Com Forecast (Base Case)'!BD177","v":0.90620000000001255},{"$f":"'[36]Com Forecast (Base Case)'!BE177","v":0.96909999999999741},{"$f":"'[36]Com Forecast (Base Case)'!BF177","v":1.045599999999979},{"$f":"'[36]Com Forecast (Base Case)'!BG177","v":1.0170999999999992},{"$f":"'[36]Com Forecast (Base Case)'!BH177","v":1.0791000000000111},{"$f":"'[36]Com Forecast (Base Case)'!BI177","v":1.0167000000000144},{"$f":"'[36]Com Forecast (Base Case)'!BJ177","v":1.1224999999999739}]
[null,{"$f":"'[36]Com Forecast (Base Case)'!$D178","v":"Warehouse"},{"$f":"'[36]Com Forecast (Base Case)'!$E178","v":"New"},{"$f":"'[36]Com Forecast (Base Case)'!AQ178","v":3.0575999999999794},{"$f":"'[36]Com Forecast (Base Case)'!AR178","v":3.8818999999999733},{"$f":"'[36]Com Forecast (Base Case)'!AS178","v":3.7015999999999849},{"$f":"'[36]Com Forecast (Base Case)'!AT178","v":3.7512000000000398},{"$f":"'[36]Com Forecast (Base Case)'!AU178","v":2.8834000000000515},{"$f":"'[36]Com Forecast (Base Case)'!AV178","v":3.3611999999999398},{"$f":"'[36]Com Forecast (Base Case)'!AW178","v":3.3840000000000146},{"$f":"'[36]Com Forecast (Base Case)'!AX178","v":2.6948999999999614},{"$f":"'[36]Com Forecast (Base Case)'!AY178","v":3.4424999999999955},{"$f":"'[36]Com Forecast (Base Case)'!AZ178","v":3.4823000000000093},{"$f":"'[36]Com Forecast (Base Case)'!BA178","v":3.4686000000000377},{"$f":"'[36]Com Forecast (Base Case)'!BB178","v":3.2952999999999975},{"$f":"'[36]Com Forecast (Base Case)'!BC178","v":3.1757999999999811},{"$f":"'[36]Com Forecast (Base Case)'!BD178","v":3.7112000000000762},{"$f":"'[36]Com Forecast (Base Case)'!BE178","v":3.6812999999999647},{"$f":"'[36]Com Forecast (Base Case)'!BF178","v":4.2708000000000084},{"$f":"'[36]Com Forecast (Base Case)'!BG178","v":3.730199999999968},{"$f":"'[36]Com Forecast (Base Case)'!BH178","v":3.8338999999999714},{"$f":"'[36]Com Forecast (Base Case)'!BI178","v":3.8032000000000608},{"$f":"'[36]Com Forecast (Base Case)'!BJ178","v":3.7477999999999838}]
[null,{"$f":"'[36]Com Forecast (Base Case)'!$D179","v":"Supermarket"},{"$f":"'[36]Com Forecast (Base Case)'!$E179","v":"New"},{"$f":"'[36]Com Forecast (Base Case)'!AQ179","v":0.4521000000000015},{"$f":"'[36]Com Forecast (Base Case)'!AR179","v":0.45589999999999975},{"$f":"'[36]Com Forecast (Base Case)'!AS179","v":0.44719999999999516},{"$f":"'[36]Com Forecast (Base Case)'!AT179","v":0.46240000000000236},{"$f":"'[36]Com Forecast (Base Case)'!AU179","v":0.5041000000000011},{"$f":"'[36]Com Forecast (Base Case)'!AV179","v":0.54070000000000107},{"$f":"'[36]Com Forecast (Base Case)'!AW179","v":0.56169999999999476},{"$f":"'[36]Com Forecast (Base Case)'!AX179","v":0.4883000000000024},{"$f":"'[36]Com Forecast (Base Case)'!AY179","v":0.73429999999999751},{"$f":"'[36]Com Forecast (Base Case)'!AZ179","v":0.67360000000000042},{"$f":"'[36]Com Forecast (Base Case)'!BA179","v":0.75610000000000355},{"$f":"'[36]Com Forecast (Base Case)'!BB179","v":0.6612000000000009},{"$f":"'[36]Com Forecast (Base Case)'!BC179","v":0.75240000000000151},{"$f":"'[36]Com Forecast (Base Case)'!BD179","v":0.75229999999999819},{"$f":"'[36]Com Forecast (Base Case)'!BE179","v":0.77879999999999683},{"$f":"'[36]Com Forecast (Base Case)'!BF179","v":0.78030000000000399},{"$f":"'[36]Com Forecast (Base Case)'!BG179","v":0.82339999999999236},{"$f":"'[36]Com Forecast (Base Case)'!BH179","v":0.69380000000001019},{"$f":"'[36]Com Forecast (Base Case)'!BI179","v":0.72569999999998913},{"$f":"'[36]Com Forecast (Base Case)'!BJ179","v":0.70140000000000668}]
[null,{"$f":"'[36]Com Forecast (Base Case)'!$D180","v":"MiniMart"},{"$f":"'[36]Com Forecast (Base Case)'!$E180","v":"New"},{"$f":"'[36]Com Forecast (Base Case)'!AQ180","v":0.12000000000000099},{"$f":"'[36]Com Forecast (Base Case)'!AR180","v":0.11829999999999785},{"$f":"'[36]Com Forecast (Base Case)'!AS180","v":0.11930000000000263},{"$f":"'[36]Com Forecast (Base Case)'!AT180","v":0.11710000000000065},{"$f":"'[36]Com Forecast (Base Case)'!AU180","v":0.28319999999999723},{"$f":"'[36]Com Forecast (Base Case)'!AV180","v":0.31119999999999948},{"$f":"'[36]Com Forecast (Base Case)'!AW180","v":0.30480000000000018},{"$f":"'[36]Com Forecast (Base Case)'!AX180","v":0.26700000000000301},{"$f":"'[36]Com Forecast (Base Case)'!AY180","v":0.38539999999999708},{"$f":"'[36]Com Forecast (Base Case)'!AZ180","v":0.35660000000000025},{"$f":"'[36]Com Forecast (Base Case)'!BA180","v":0.37290000000000134},{"$f":"'[36]Com Forecast (Base Case)'!BB180","v":0.36049999999999827},{"$f":"'[36]Com Forecast (Base Case)'!BC180","v":0.37300000000000111},{"$f":"'[36]Com Forecast (Base Case)'!BD180","v":0.38009999999999877},{"$f":"'[36]Com Forecast (Base Case)'!BE180","v":0.38120000000000331},{"$f":"'[36]Com Forecast (Base Case)'!BF180","v":0.375},{"$f":"'[36]Com Forecast (Base Case)'!BG180","v":0.39429999999999765},{"$f":"'[36]Com Forecast (Base Case)'!BH180","v":0.35320000000000107},{"$f":"'[36]Com Forecast (Base Case)'!BI180","v":0.36499999999999844},{"$f":"'[36]Com Forecast (Base Case)'!BJ180","v":0.38160000000000238}]
[null,{"$f":"'[36]Com Forecast (Base Case)'!$D181","v":"Restaurant"},{"$f":"'[36]Com Forecast (Base Case)'!$E181","v":"New"},{"$f":"'[36]Com Forecast (Base Case)'!AQ181","v":0.87079999999999558},{"$f":"'[36]Com Forecast (Base Case)'!AR181","v":0.77590000000000003},{"$f":"'[36]Com Forecast (Base Case)'!AS181","v":0.72409999999999997},{"$f":"'[36]Com Forecast (Base Case)'!AT181","v":0.7284000000000006},{"$f":"'[36]Com Forecast (Base Case)'!AU181","v":0.7646000000000015},{"$f":"'[36]Com Forecast (Base Case)'!AV181","v":0.85940000000000083},{"$f":"'[36]Com Forecast (Base Case)'!AW181","v":0.85210000000000008},{"$f":"'[36]Com Forecast (Base Case)'!AX181","v":0.69019999999999726},{"$f":"'[36]Com Forecast (Base Case)'!AY181","v":1.1060000000000016},{"$f":"'[36]Com Forecast (Base Case)'!AZ181","v":1.0212000000000003},{"$f":"'[36]Com Forecast (Base Case)'!BA181","v":1.2006999999999977},{"$f":"'[36]Com Forecast (Base Case)'!BB181","v":1.0538999999999987},{"$f":"'[36]Com Forecast (Base Case)'!BC181","v":1.2501000000000033},{"$f":"'[36]Com Forecast (Base Case)'!BD181","v":1.1274999999999977},{"$f":"'[36]Com Forecast (Base Case)'!BE181","v":1.2532999999999959},{"$f":"'[36]Com Forecast (Base Case)'!BF181","v":1.2359000000000009},{"$f":"'[36]Com Forecast (Base Case)'!BG181","v":1.3774000000000086},{"$f":"'[36]Com Forecast (Base Case)'!BH181","v":1.2317000000000036},{"$f":"'[36]Com Forecast (Base Case)'!BI181","v":1.3401999999999958},{"$f":"'[36]Com Forecast (Base Case)'!BJ181","v":1.1653999999999911}]
[null,{"$f":"'[36]Com Forecast (Base Case)'!$D182","v":"Lodging"},{"$f":"'[36]Com Forecast (Base Case)'!$E182","v":"New"},{"$f":"'[36]Com Forecast (Base Case)'!AQ182","v":1.7044999999999959},{"$f":"'[36]Com Forecast (Base Case)'!AR182","v":1.390199999999993},{"$f":"'[36]Com Forecast (Base Case)'!AS182","v":1.2009000000000185},{"$f":"'[36]Com Forecast (Base Case)'!AT182","v":1.1966999999999928},{"$f":"'[36]Com Forecast (Base Case)'!AU182","v":1.325099999999992},{"$f":"'[36]Com Forecast (Base Case)'!AV182","v":1.5589999999999975},{"$f":"'[36]Com Forecast (Base Case)'!AW182","v":1.591700000000003},{"$f":"'[36]Com Forecast (Base Case)'!AX182","v":1.2535000000000025},{"$f":"'[36]Com Forecast (Base Case)'!AY182","v":2.2327999999999975},{"$f":"'[36]Com Forecast (Base Case)'!AZ182","v":1.9379999999999882},{"$f":"'[36]Com Forecast (Base Case)'!BA182","v":2.4275000000000091},{"$f":"'[36]Com Forecast (Base Case)'!BB182","v":1.9970000000000141},{"$f":"'[36]Com Forecast (Base Case)'!BC182","v":2.6374999999999886},{"$f":"'[36]Com Forecast (Base Case)'!BD182","v":2.0789000000000044},{"$f":"'[36]Com Forecast (Base Case)'!BE182","v":2.6932999999999936},{"$f":"'[36]Com Forecast (Base Case)'!BF182","v":2.5937000000000126},{"$f":"'[36]Com Forecast (Base Case)'!BG182","v":2.7486999999999853},{"$f":"'[36]Com Forecast (Base Case)'!BH182","v":2.6151000000000124},{"$f":"'[36]Com Forecast (Base Case)'!BI182","v":3.0524999999999807},{"$f":"'[36]Com Forecast (Base Case)'!BJ182","v":2.4744000000000028}]
[null,{"$f":"'[36]Com Forecast (Base Case)'!$D183","v":"Hospital"},{"$f":"'[36]Com Forecast (Base Case)'!$E183","v":"New"},{"$f":"'[36]Com Forecast (Base Case)'!AQ183","v":3.3959000000000117},{"$f":"'[36]Com Forecast (Base Case)'!AR183","v":4.2182999999999993},{"$f":"'[36]Com Forecast (Base Case)'!AS183","v":4.6066000000000003},{"$f":"'[36]Com Forecast (Base Case)'!AT183","v":4.3327999999999918},{"$f":"'[36]Com Forecast (Base Case)'!AU183","v":5.0189000000000021},{"$f":"'[36]Com Forecast (Base Case)'!AV183","v":5.7505999999999915},{"$f":"'[36]Com Forecast (Base Case)'!AW183","v":5.3143000000000029},{"$f":"'[36]Com Forecast (Base Case)'!AX183","v":4.4261999999999944},{"$f":"'[36]Com Forecast (Base Case)'!AY183","v":4.7358000000000118},{"$f":"'[36]Com Forecast (Base Case)'!AZ183","v":5.0985000000000014},{"$f":"'[36]Com Forecast (Base Case)'!BA183","v":4.8359999999999843},{"$f":"'[36]Com Forecast (Base Case)'!BB183","v":4.5592000000000041},{"$f":"'[36]Com Forecast (Base Case)'!BC183","v":4.1688000000000045},{"$f":"'[36]Com Forecast (Base Case)'!BD183","v":4.1186000000000149},{"$f":"'[36]Com Forecast (Base Case)'!BE183","v":4.2489999999999952},{"$f":"'[36]Com Forecast (Base Case)'!BF183","v":4.8135000000000048},{"$f":"'[36]Com Forecast (Base Case)'!BG183","v":4.8499999999999943},{"$f":"'[36]Com Forecast (Base Case)'!BH183","v":4.8425000000000011},{"$f":"'[36]Com Forecast (Base Case)'!BI183","v":5.0452999999999975},{"$f":"'[36]Com Forecast (Base Case)'!BJ183","v":5.217899999999986}]
[null,{"$f":"'[36]Com Forecast (Base Case)'!$D184","v":"Residential Care"},{"$f":"'[36]Com Forecast (Base Case)'!$E184","v":"New"},{"$f":"'[36]Com Forecast (Base Case)'!AQ184","v":2.9393000000000029},{"$f":"'[36]Com Forecast (Base Case)'!AR184","v":3.1166000000000054},{"$f":"'[36]Com Forecast (Base Case)'!AS184","v":3.2755999999999972},{"$f":"'[36]Com Forecast (Base Case)'!AT184","v":3.6443999999999903},{"$f":"'[36]Com Forecast (Base Case)'!AU184","v":3.8999000000000024},{"$f":"'[36]Com Forecast (Base Case)'!AV184","v":4.4519999999999982},{"$f":"'[36]Com Forecast (Base Case)'!AW184","v":3.8777000000000044},{"$f":"'[36]Com Forecast (Base Case)'!AX184","v":3.2864000000000146},{"$f":"'[36]Com Forecast (Base Case)'!AY184","v":3.396899999999988},{"$f":"'[36]Com Forecast (Base Case)'!AZ184","v":3.6914999999999907},{"$f":"'[36]Com Forecast (Base Case)'!BA184","v":3.4791000000000167},{"$f":"'[36]Com Forecast (Base Case)'!BB184","v":3.2355000000000018},{"$f":"'[36]Com Forecast (Base Case)'!BC184","v":2.8160999999999774},{"$f":"'[36]Com Forecast (Base Case)'!BD184","v":2.8986000000000161},{"$f":"'[36]Com Forecast (Base Case)'!BE184","v":2.8967000000000098},{"$f":"'[36]Com Forecast (Base Case)'!BF184","v":3.4068999999999789},{"$f":"'[36]Com Forecast (Base Case)'!BG184","v":3.2394000000000176},{"$f":"'[36]Com Forecast (Base Case)'!BH184","v":3.4207999999999856},{"$f":"'[36]Com Forecast (Base Case)'!BI184","v":3.4808000000000163},{"$f":"'[36]Com Forecast (Base Case)'!BJ184","v":3.7247999999999877}]
[null,{"$f":"'[36]Com Forecast (Base Case)'!$D185","v":"Assembly"},{"$f":"'[36]Com Forecast (Base Case)'!$E185","v":"New"},{"$f":"'[36]Com Forecast (Base Case)'!AQ185","v":4.3659999999999854},{"$f":"'[36]Com Forecast (Base Case)'!AR185","v":7.2918999999999983},{"$f":"'[36]Com Forecast (Base Case)'!AS185","v":4.5765999999999849},{"$f":"'[36]Com Forecast (Base Case)'!AT185","v":4.5394999999999754},{"$f":"'[36]Com Forecast (Base Case)'!AU185","v":5.2556000000000154},{"$f":"'[36]Com Forecast (Base Case)'!AV185","v":6.5803999999999974},{"$f":"'[36]Com Forecast (Base Case)'!AW185","v":7.3516999999999939},{"$f":"'[36]Com Forecast (Base Case)'!AX185","v":8.0373000000000161},{"$f":"'[36]Com Forecast (Base Case)'!AY185","v":9.2554999999999836},{"$f":"'[36]Com Forecast (Base Case)'!AZ185","v":9.2205000000000155},{"$f":"'[36]Com Forecast (Base Case)'!BA185","v":8.7837000000000103},{"$f":"'[36]Com Forecast (Base Case)'!BB185","v":8.3224999999999909},{"$f":"'[36]Com Forecast (Base Case)'!BC185","v":9.4014000000000237},{"$f":"'[36]Com Forecast (Base Case)'!BD185","v":9.4797999999999547},{"$f":"'[36]Com Forecast (Base Case)'!BE185","v":9.665800000000047},{"$f":"'[36]Com Forecast (Base Case)'!BF185","v":10.129399999999976},{"$f":"'[36]Com Forecast (Base Case)'!BG185","v":10.486800000000017},{"$f":"'[36]Com Forecast (Base Case)'!BH185","v":10.711199999999963},{"$f":"'[36]Com Forecast (Base Case)'!BI185","v":9.8532000000000153},{"$f":"'[36]Com Forecast (Base Case)'!BJ185","v":10.013199999999983}]
[null,{"$f":"'[36]Com Forecast (Base Case)'!$D186","v":"Other"},{"$f":"'[36]Com Forecast (Base Case)'!$E186","v":"New"},{"$f":"'[36]Com Forecast (Base Case)'!AQ186","v":6.0611999999999853},{"$f":"'[36]Com Forecast (Base Case)'!AR186","v":7.8004999999999995},{"$f":"'[36]Com Forecast (Base Case)'!AS186","v":6.6522999999999683},{"$f":"'[36]Com Forecast (Base Case)'!AT186","v":6.4540000000000077},{"$f":"'[36]Com Forecast (Base Case)'!AU186","v":9.3659999999999854},{"$f":"'[36]Com Forecast (Base Case)'!AV186","v":9.7666000000000395},{"$f":"'[36]Com Forecast (Base Case)'!AW186","v":8.5138000000000034},{"$f":"'[36]Com Forecast (Base Case)'!AX186","v":7.8408000000000015},{"$f":"'[36]Com Forecast (Base Case)'!AY186","v":9.9452999999999747},{"$f":"'[36]Com Forecast (Base Case)'!AZ186","v":9.926400000000001},{"$f":"'[36]Com Forecast (Base Case)'!BA186","v":10.085100000000011},{"$f":"'[36]Com Forecast (Base Case)'!BB186","v":8.8403999999999883},{"$f":"'[36]Com Forecast (Base Case)'!BC186","v":8.5713000000000079},{"$f":"'[36]Com Forecast (Base Case)'!BD186","v":8.4803999999999746},{"$f":"'[36]Com Forecast (Base Case)'!BE186","v":9.0716000000000463},{"$f":"'[36]Com Forecast (Base Case)'!BF186","v":8.5447999999999524},{"$f":"'[36]Com Forecast (Base Case)'!BG186","v":9.834699999999998},{"$f":"'[36]Com Forecast (Base Case)'!BH186","v":10.998900000000049},{"$f":"'[36]Com Forecast (Base Case)'!BI186","v":9.4040999999999713},{"$f":"'[36]Com Forecast (Base Case)'!BJ186","v":9.6466000000000349}]
[null,{"$f":"'[36]Com Forecast (Base Case)'!$D187","v":"Large Off"},{"$f":"'[36]Com Forecast (Base Case)'!$E187","v":"Stock 2016"},{"$f":"'[36]Com Forecast (Base Case)'!AQ187","v":396.19940786727432},{"$f":"'[36]Com Forecast (Base Case)'!AR187","v":395.01080964367247},{"$f":"'[36]Com Forecast (Base Case)'!AS187","v":393.82577721474149},{"$f":"'[36]Com Forecast (Base Case)'!AT187","v":392.64429988309723},{"$f":"'[36]Com Forecast (Base Case)'!AU187","v":391.46636698344793},{"$f":"'[36]Com Forecast (Base Case)'!AV187","v":390.2919678824976},{"$f":"'[36]Com Forecast (Base Case)'!AW187","v":389.12109197885013},{"$f":"'[36]Com Forecast (Base Case)'!AX187","v":387.95372870291351},{"$f":"'[36]Com Forecast (Base Case)'!AY187","v":386.78986751680475},{"$f":"'[36]Com Forecast (Base Case)'!AZ187","v":385.62949791425433},{"$f":"'[36]Com Forecast (Base Case)'!BA187","v":384.47260942051156},{"$f":"'[36]Com Forecast (Base Case)'!BB187","v":383.31919159225004},{"$f":"'[36]Com Forecast (Base Case)'!BC187","v":382.16923401747329},{"$f":"'[36]Com Forecast (Base Case)'!BD187","v":381.02272631542093},{"$f":"'[36]Com Forecast (Base Case)'!BE187","v":379.87965813647463},{"$f":"'[36]Com Forecast (Base Case)'!BF187","v":378.74001916206521},{"$f":"'[36]Com Forecast (Base Case)'!BG187","v":377.60379910457902},{"$f":"'[36]Com Forecast (Base Case)'!BH187","v":376.47098770726524},{"$f":"'[36]Com Forecast (Base Case)'!BI187","v":375.34157474414343},{"$f":"'[36]Com Forecast (Base Case)'!BJ187","v":374.21555001991101}]
[null,{"$f":"'[36]Com Forecast (Base Case)'!$D188","v":"Medium Off"},{"$f":"'[36]Com Forecast (Base Case)'!$E188","v":"Stock 2016"},{"$f":"'[36]Com Forecast (Base Case)'!AQ188","v":202.99566713685553},{"$f":"'[36]Com Forecast (Base Case)'!AR188","v":202.38668013544498},{"$f":"'[36]Com Forecast (Base Case)'!AS188","v":201.77952009503861},{"$f":"'[36]Com Forecast (Base Case)'!AT188","v":201.17418153475353},{"$f":"'[36]Com Forecast (Base Case)'!AU188","v":200.57065899014924},{"$f":"'[36]Com Forecast (Base Case)'!AV188","v":199.96894701317882},{"$f":"'[36]Com Forecast (Base Case)'!AW188","v":199.36904017213928},{"$f":"'[36]Com Forecast (Base Case)'!AX188","v":198.77093305162285},{"$f":"'[36]Com Forecast (Base Case)'!AY188","v":198.17462025246797},{"$f":"'[36]Com Forecast (Base Case)'!AZ188","v":197.58009639171058},{"$f":"'[36]Com Forecast (Base Case)'!BA188","v":196.98735610253544},{"$f":"'[36]Com Forecast (Base Case)'!BB188","v":196.39639403422785},{"$f":"'[36]Com Forecast (Base Case)'!BC188","v":195.80720485212515},{"$f":"'[36]Com Forecast (Base Case)'!BD188","v":195.21978323756878},{"$f":"'[36]Com Forecast (Base Case)'!BE188","v":194.63412388785608},{"$f":"'[36]Com Forecast (Base Case)'!BF188","v":194.05022151619249},{"$f":"'[36]Com Forecast (Base Case)'!BG188","v":193.46807085164392},{"$f":"'[36]Com Forecast (Base Case)'!BH188","v":192.88766663908899},{"$f":"'[36]Com Forecast (Base Case)'!BI188","v":192.30900363917172},{"$f":"'[36]Com Forecast (Base Case)'!BJ188","v":191.73207662825419}]
[null,{"$f":"'[36]Com Forecast (Base Case)'!$D189","v":"Small Off"},{"$f":"'[36]Com Forecast (Base Case)'!$E189","v":"Stock 2016"},{"$f":"'[36]Com Forecast (Base Case)'!AQ189","v":187.31859712168011},{"$f":"'[36]Com Forecast (Base Case)'!AR189","v":186.75664133031509},{"$f":"'[36]Com Forecast (Base Case)'!AS189","v":186.19637140632415},{"$f":"'[36]Com Forecast (Base Case)'!AT189","v":185.63778229210516},{"$f":"'[36]Com Forecast (Base Case)'!AU189","v":185.08086894522884},{"$f":"'[36]Com Forecast (Base Case)'!AV189","v":184.52562633839315},{"$f":"'[36]Com Forecast (Base Case)'!AW189","v":183.97204945937798},{"$f":"'[36]Com Forecast (Base Case)'!AX189","v":183.42013331099986},{"$f":"'[36]Com Forecast (Base Case)'!AY189","v":182.86987291106681},{"$f":"'[36]Com Forecast (Base Case)'!AZ189","v":182.32126329233364},{"$f":"'[36]Com Forecast (Base Case)'!BA189","v":181.77429950245664},{"$f":"'[36]Com Forecast (Base Case)'!BB189","v":181.22897660394926},{"$f":"'[36]Com Forecast (Base Case)'!BC189","v":180.68528967413741},{"$f":"'[36]Com Forecast (Base Case)'!BD189","v":180.14323380511502},{"$f":"'[36]Com Forecast (Base Case)'!BE189","v":179.60280410369967},{"$f":"'[36]Com Forecast (Base Case)'!BF189","v":179.06399569138856},{"$f":"'[36]Com Forecast (Base Case)'!BG189","v":178.52680370431437},{"$f":"'[36]Com Forecast (Base Case)'!BH189","v":177.99122329320147},{"$f":"'[36]Com Forecast (Base Case)'!BI189","v":177.45724962332184},{"$f":"'[36]Com Forecast (Base Case)'!BJ189","v":176.92487787445191}]
[null,{"$f":"'[36]Com Forecast (Base Case)'!$D190","v":"XLarge Ret"},{"$f":"'[36]Com Forecast (Base Case)'!$E190","v":"Stock 2016"},{"$f":"'[36]Com Forecast (Base Case)'!AQ190","v":141.78078313569742},{"$f":"'[36]Com Forecast (Base Case)'!AR190","v":141.12859153327321},{"$f":"'[36]Com Forecast (Base Case)'!AS190","v":140.47940001222014},{"$f":"'[36]Com Forecast (Base Case)'!AT190","v":139.83319477216392},{"$f":"'[36]Com Forecast (Base Case)'!AU190","v":139.18996207621197},{"$f":"'[36]Com Forecast (Base Case)'!AV190","v":138.54968825066138},{"$f":"'[36]Com Forecast (Base Case)'!AW190","v":137.91235968470832},{"$f":"'[36]Com Forecast (Base Case)'!AX190","v":137.27796283015869},{"$f":"'[36]Com Forecast (Base Case)'!AY190","v":136.64648420113994},{"$f":"'[36]Com Forecast (Base Case)'!AZ190","v":136.01791037381466},{"$f":"'[36]Com Forecast (Base Case)'!BA190","v":135.39222798609512},{"$f":"'[36]Com Forecast (Base Case)'!BB190","v":134.76942373735909},{"$f":"'[36]Com Forecast (Base Case)'!BC190","v":134.14948438816722},{"$f":"'[36]Com Forecast (Base Case)'!BD190","v":133.53239675998165},{"$f":"'[36]Com Forecast (Base Case)'!BE190","v":132.91814773488571},{"$f":"'[36]Com Forecast (Base Case)'!BF190","v":132.30672425530526},{"$f":"'[36]Com Forecast (Base Case)'!BG190","v":131.69811332373084},{"$f":"'[36]Com Forecast (Base Case)'!BH190","v":131.09230200244167},{"$f":"'[36]Com Forecast (Base Case)'!BI190","v":130.48927741323044},{"$f":"'[36]Com Forecast (Base Case)'!BJ190","v":129.88902673712957}]
[null,{"$f":"'[36]Com Forecast (Base Case)'!$D191","v":"Large Ret"},{"$f":"'[36]Com Forecast (Base Case)'!$E191","v":"Stock 2016"},{"$f":"'[36]Com Forecast (Base Case)'!AQ191","v":212.75668012141045},{"$f":"'[36]Com Forecast (Base Case)'!AR191","v":211.777999392852},{"$f":"'[36]Com Forecast (Base Case)'!AS191","v":210.80382059564485},{"$f":"'[36]Com Forecast (Base Case)'!AT191","v":209.83412302090488},{"$f":"'[36]Com Forecast (Base Case)'!AU191","v":208.86888605500869},{"$f":"'[36]Com Forecast (Base Case)'!AV191","v":207.90808917915564},{"$f":"'[36]Com Forecast (Base Case)'!AW191","v":206.95171196893151},{"$f":"'[36]Com Forecast (Base Case)'!AX191","v":205.99973409387439},{"$f":"'[36]Com Forecast (Base Case)'!AY191","v":205.0521353170426},{"$f":"'[36]Com Forecast (Base Case)'!AZ191","v":204.10889549458417},{"$f":"'[36]Com Forecast (Base Case)'!BA191","v":203.16999457530909},{"$f":"'[36]Com Forecast (Base Case)'!BB191","v":202.23541260026263},{"$f":"'[36]Com Forecast (Base Case)'!BC191","v":201.30512970230143},{"$f":"'[36]Com Forecast (Base Case)'!BD191","v":200.37912610567085},{"$f":"'[36]Com Forecast (Base Case)'!BE191","v":199.45738212558476},{"$f":"'[36]Com Forecast (Base Case)'!BF191","v":198.53987816780705},{"$f":"'[36]Com Forecast (Base Case)'!BG191","v":197.62659472823515},{"$f":"'[36]Com Forecast (Base Case)'!BH191","v":196.71751239248522},{"$f":"'[36]Com Forecast (Base Case)'!BI191","v":195.8126118354798},{"$f":"'[36]Com Forecast (Base Case)'!BJ191","v":194.91187382103658}]
[null,{"$f":"'[36]Com Forecast (Base Case)'!$D192","v":"Medium Ret"},{"$f":"'[36]Com Forecast (Base Case)'!$E192","v":"Stock 2016"},{"$f":"'[36]Com Forecast (Base Case)'!AQ192","v":100.40406920856658},{"$f":"'[36]Com Forecast (Base Case)'!AR192","v":99.942210490207174},{"$f":"'[36]Com Forecast (Base Case)'!AS192","v":99.48247632195222},{"$f":"'[36]Com Forecast (Base Case)'!AT192","v":99.024856930871238},{"$f":"'[36]Com Forecast (Base Case)'!AU192","v":98.56934258898923},{"$f":"'[36]Com Forecast (Base Case)'!AV192","v":98.115923613079872},{"$f":"'[36]Com Forecast (Base Case)'!AW192","v":97.664590364459684},{"$f":"'[36]Com Forecast (Base Case)'!AX192","v":97.215333248783182},{"$f":"'[36]Com Forecast (Base Case)'!AY192","v":96.768142715838778},{"$f":"'[36]Com Forecast (Base Case)'!AZ192","v":96.323009259345909},{"$f":"'[36]Com Forecast (Base Case)'!BA192","v":95.879923416752916},{"$f":"'[36]Com Forecast (Base Case)'!BB192","v":95.438875769035846},{"$f":"'[36]Com Forecast (Base Case)'!BC192","v":94.999856940498276},{"$f":"'[36]Com Forecast (Base Case)'!BD192","v":94.562857598571981},{"$f":"'[36]Com Forecast (Base Case)'!BE192","v":94.127868453618547},{"$f":"'[36]Com Forecast (Base Case)'!BF192","v":93.694880258731885},{"$f":"'[36]Com Forecast (Base Case)'!BG192","v":93.26388380954171},{"$f":"'[36]Com Forecast (Base Case)'!BH192","v":92.834869944017825},{"$f":"'[36]Com Forecast (Base Case)'!BI192","v":92.407829542275337},{"$f":"'[36]Com Forecast (Base Case)'!BJ192","v":91.982753526380876}]
[null,{"$f":"'[36]Com Forecast (Base Case)'!$D193","v":"Small Ret"},{"$f":"'[36]Com Forecast (Base Case)'!$E193","v":"Stock 2016"},{"$f":"'[36]Com Forecast (Base Case)'!AQ193","v":111.74703101159992},{"$f":"'[36]Com Forecast (Base Case)'!AR193","v":111.23299466894655},{"$f":"'[36]Com Forecast (Base Case)'!AS193","v":110.72132289346939},{"$f":"'[36]Com Forecast (Base Case)'!AT193","v":110.21200480815943},{"$f":"'[36]Com Forecast (Base Case)'!AU193","v":109.70502958604189},{"$f":"'[36]Com Forecast (Base Case)'!AV193","v":109.20038644994609},{"$f":"'[36]Com Forecast (Base Case)'!AW193","v":108.69806467227633},{"$f":"'[36]Com Forecast (Base Case)'!AX193","v":108.19805357478386},{"$f":"'[36]Com Forecast (Base Case)'!AY193","v":107.70034252833985},{"$f":"'[36]Com Forecast (Base Case)'!AZ193","v":107.20492095270947},{"$f":"'[36]Com Forecast (Base Case)'!BA193","v":106.711778316327},{"$f":"'[36]Com Forecast (Base Case)'!BB193","v":106.22090413607189},{"$f":"'[36]Com Forecast (Base Case)'!BC193","v":105.73228797704596},{"$f":"'[36]Com Forecast (Base Case)'!BD193","v":105.24591945235153},{"$f":"'[36]Com Forecast (Base Case)'!BE193","v":104.76178822287072},{"$f":"'[36]Com Forecast (Base Case)'!BF193","v":104.2798839970455},{"$f":"'[36]Com Forecast (Base Case)'!BG193","v":103.80019653065909},{"$f":"'[36]Com Forecast (Base Case)'!BH193","v":103.32271562661805},{"$f":"'[36]Com Forecast (Base Case)'!BI193","v":102.84743113473559},{"$f":"'[36]Com Forecast (Base Case)'!BJ193","v":102.37433295151581}]
[null,{"$f":"'[36]Com Forecast (Base Case)'!$D194","v":"School K-12"},{"$f":"'[36]Com Forecast (Base Case)'!$E194","v":"Stock 2016"},{"$f":"'[36]Com Forecast (Base Case)'!AQ194","v":272.11549358988066},{"$f":"'[36]Com Forecast (Base Case)'!AR194","v":271.54405105334189},{"$f":"'[36]Com Forecast (Base Case)'!AS194","v":270.97380854612987},{"$f":"'[36]Com Forecast (Base Case)'!AT194","v":270.40476354818298},{"$f":"'[36]Com Forecast (Base Case)'!AU194","v":269.83691354473183},{"$f":"'[36]Com Forecast (Base Case)'!AV194","v":269.27025602628788},{"$f":"'[36]Com Forecast (Base Case)'!AW194","v":268.70478848863269},{"$f":"'[36]Com Forecast (Base Case)'!AX194","v":268.14050843280654},{"$f":"'[36]Com Forecast (Base Case)'!AY194","v":267.57741336509764},{"$f":"'[36]Com Forecast (Base Case)'!AZ194","v":267.01550079703094},{"$f":"'[36]Com Forecast (Base Case)'!BA194","v":266.45476824535717},{"$f":"'[36]Com Forecast (Base Case)'!BB194","v":265.8952132320419},{"$f":"'[36]Com Forecast (Base Case)'!BC194","v":265.33683328425462},{"$f":"'[36]Com Forecast (Base Case)'!BD194","v":264.77962593435768},{"$f":"'[36]Com Forecast (Base Case)'!BE194","v":264.22358871989559},{"$f":"'[36]Com Forecast (Base Case)'!BF194","v":263.66871918358379},{"$f":"'[36]Com Forecast (Base Case)'!BG194","v":263.11501487329826},{"$f":"'[36]Com Forecast (Base Case)'!BH194","v":262.56247334206432},{"$f":"'[36]Com Forecast (Base Case)'!BI194","v":262.01109214804598},{"$f":"'[36]Com Forecast (Base Case)'!BJ194","v":261.46086885453508}]
[null,{"$f":"'[36]Com Forecast (Base Case)'!$D195","v":"University"},{"$f":"'[36]Com Forecast (Base Case)'!$E195","v":"Stock 2016"},{"$f":"'[36]Com Forecast (Base Case)'!AQ195","v":133.38944990863411},{"$f":"'[36]Com Forecast (Base Case)'!AR195","v":133.06931522885338},{"$f":"'[36]Com Forecast (Base Case)'!AS195","v":132.74994887230412},{"$f":"'[36]Com Forecast (Base Case)'!AT195","v":132.43134899501064},{"$f":"'[36]Com Forecast (Base Case)'!AU195","v":132.1135137574226},{"$f":"'[36]Com Forecast (Base Case)'!AV195","v":131.79644132440478},{"$f":"'[36]Com Forecast (Base Case)'!AW195","v":131.48012986522622},{"$f":"'[36]Com Forecast (Base Case)'!AX195","v":131.16457755354969},{"$f":"'[36]Com Forecast (Base Case)'!AY195","v":130.84978256742119},{"$f":"'[36]Com Forecast (Base Case)'!AZ195","v":130.53574308925937},{"$f":"'[36]Com Forecast (Base Case)'!BA195","v":130.22245730584515},{"$f":"'[36]Com Forecast (Base Case)'!BB195","v":129.90992340831113},{"$f":"'[36]Com Forecast (Base Case)'!BC195","v":129.59813959213119},{"$f":"'[36]Com Forecast (Base Case)'!BD195","v":129.28710405711007},{"$f":"'[36]Com Forecast (Base Case)'!BE195","v":128.97681500737301},{"$f":"'[36]Com Forecast (Base Case)'!BF195","v":128.6672706513553},{"$f":"'[36]Com Forecast (Base Case)'!BG195","v":128.35846920179208},{"$f":"'[36]Com Forecast (Base Case)'!BH195","v":128.05040887570777},{"$f":"'[36]Com Forecast (Base Case)'!BI195","v":127.74308789440607},{"$f":"'[36]Com Forecast (Base Case)'!BJ195","v":127.4365044834595}]
[null,{"$f":"'[36]Com Forecast (Base Case)'!$D196","v":"Warehouse"},{"$f":"'[36]Com Forecast (Base Case)'!$E196","v":"Stock 2016"},{"$f":"'[36]Com Forecast (Base Case)'!AQ196","v":489.94779054978409},{"$f":"'[36]Com Forecast (Base Case)'!AR196","v":487.63523697838912},{"$f":"'[36]Com Forecast (Base Case)'!AS196","v":485.33359865985119},{"$f":"'[36]Com Forecast (Base Case)'!AT196","v":483.04282407417668},{"$f":"'[36]Com Forecast (Base Case)'!AU196","v":480.76286194454661},{"$f":"'[36]Com Forecast (Base Case)'!AV196","v":478.49366123616835},{"$f":"'[36]Com Forecast (Base Case)'!AW196","v":476.23517115513368},{"$f":"'[36]Com Forecast (Base Case)'!AX196","v":473.98734114728154},{"$f":"'[36]Com Forecast (Base Case)'!AY196","v":471.75012089706638},{"$f":"'[36]Com Forecast (Base Case)'!AZ196","v":469.52346032643226},{"$f":"'[36]Com Forecast (Base Case)'!BA196","v":467.30730959369151},{"$f":"'[36]Com Forecast (Base Case)'!BB196","v":465.10161909240929},{"$f":"'[36]Com Forecast (Base Case)'!BC196","v":462.90633945029316},{"$f":"'[36]Com Forecast (Base Case)'!BD196","v":460.72142152808783},{"$f":"'[36]Com Forecast (Base Case)'!BE196","v":458.54681641847526},{"$f":"'[36]Com Forecast (Base Case)'!BF196","v":456.38247544498006},{"$f":"'[36]Com Forecast (Base Case)'!BG196","v":454.22835016087981},{"$f":"'[36]Com Forecast (Base Case)'!BH196","v":452.08439234812045},{"$f":"'[36]Com Forecast (Base Case)'!BI196","v":449.95055401623733},{"$f":"'[36]Com Forecast (Base Case)'!BJ196","v":447.82678740128074}]
[null,{"$f":"'[36]Com Forecast (Base Case)'!$D197","v":"Supermarket"},{"$f":"'[36]Com Forecast (Base Case)'!$E197","v":"Stock 2016"},{"$f":"'[36]Com Forecast (Base Case)'!AQ197","v":52.012463132286499},{"$f":"'[36]Com Forecast (Base Case)'!AR197","v":51.766964306302107},{"$f":"'[36]Com Forecast (Base Case)'!AS197","v":51.522624234776359},{"$f":"'[36]Com Forecast (Base Case)'!AT197","v":51.279437448388222},{"$f":"'[36]Com Forecast (Base Case)'!AU197","v":51.037398503631835},{"$f":"'[36]Com Forecast (Base Case)'!AV197","v":50.7965019826947},{"$f":"'[36]Com Forecast (Base Case)'!AW197","v":50.55674249333638},{"$f":"'[36]Com Forecast (Base Case)'!AX197","v":50.318114668767834},{"$f":"'[36]Com Forecast (Base Case)'!AY197","v":50.080613167531247},{"$f":"'[36]Com Forecast (Base Case)'!AZ197","v":49.844232673380503},{"$f":"'[36]Com Forecast (Base Case)'!BA197","v":49.608967895162152},{"$f":"'[36]Com Forecast (Base Case)'!BB197","v":49.374813566696993},{"$f":"'[36]Com Forecast (Base Case)'!BC197","v":49.141764446662179},{"$f":"'[36]Com Forecast (Base Case)'!BD197","v":48.909815318473946},{"$f":"'[36]Com Forecast (Base Case)'!BE197","v":48.678960990170744},{"$f":"'[36]Com Forecast (Base Case)'!BF197","v":48.449196294297138},{"$f":"'[36]Com Forecast (Base Case)'!BG197","v":48.220516087788056},{"$f":"'[36]Com Forecast (Base Case)'!BH197","v":47.992915251853702},{"$f":"'[36]Com Forecast (Base Case)'!BI197","v":47.766388691864961},{"$f":"'[36]Com Forecast (Base Case)'!BJ197","v":47.540931337239357}]
[null,{"$f":"'[36]Com Forecast (Base Case)'!$D198","v":"MiniMart"},{"$f":"'[36]Com Forecast (Base Case)'!$E198","v":"Stock 2016"},{"$f":"'[36]Com Forecast (Base Case)'!AQ198","v":23.60165627856518},{"$f":"'[36]Com Forecast (Base Case)'!AR198","v":23.545012303496627},{"$f":"'[36]Com Forecast (Base Case)'!AS198","v":23.488504273968235},{"$f":"'[36]Com Forecast (Base Case)'!AT198","v":23.432131863710712},{"$f":"'[36]Com Forecast (Base Case)'!AU198","v":23.375894747237805},{"$f":"'[36]Com Forecast (Base Case)'!AV198","v":23.319792599844437},{"$f":"'[36]Com Forecast (Base Case)'!AW198","v":23.263825097604812},{"$f":"'[36]Com Forecast (Base Case)'!AX198","v":23.207991917370563},{"$f":"'[36]Com Forecast (Base Case)'!AY198","v":23.152292736768878},{"$f":"'[36]Com Forecast (Base Case)'!AZ198","v":23.096727234200628},{"$f":"'[36]Com Forecast (Base Case)'!BA198","v":23.041295088838545},{"$f":"'[36]Com Forecast (Base Case)'!BB198","v":22.985995980625336},{"$f":"'[36]Com Forecast (Base Case)'!BC198","v":22.930829590271834},{"$f":"'[36]Com Forecast (Base Case)'!BD198","v":22.875795599255184},{"$f":"'[36]Com Forecast (Base Case)'!BE198","v":22.82089368981697},{"$f":"'[36]Com Forecast (Base Case)'!BF198","v":22.76612354496141},{"$f":"'[36]Com Forecast (Base Case)'!BG198","v":22.711484848453502},{"$f":"'[36]Com Forecast (Base Case)'!BH198","v":22.656977284817216},{"$f":"'[36]Com Forecast (Base Case)'!BI198","v":22.602600539333658},{"$f":"'[36]Com Forecast (Base Case)'!BJ198","v":22.548354298039257}]
[null,{"$f":"'[36]Com Forecast (Base Case)'!$D199","v":"Restaurant"},{"$f":"'[36]Com Forecast (Base Case)'!$E199","v":"Stock 2016"},{"$f":"'[36]Com Forecast (Base Case)'!AQ199","v":51.844457025147285},{"$f":"'[36]Com Forecast (Base Case)'!AR199","v":51.377856911920958},{"$f":"'[36]Com Forecast (Base Case)'!AS199","v":50.915456199713667},{"$f":"'[36]Com Forecast (Base Case)'!AT199","v":50.457217093916242},{"$f":"'[36]Com Forecast (Base Case)'!AU199","v":50.003102140070993},{"$f":"'[36]Com Forecast (Base Case)'!AV199","v":49.553074220810359},{"$f":"'[36]Com Forecast (Base Case)'!AW199","v":49.107096552823059},{"$f":"'[36]Com Forecast (Base Case)'!AX199","v":48.665132683847652},{"$f":"'[36]Com Forecast (Base Case)'!AY199","v":48.227146489693027},{"$f":"'[36]Com Forecast (Base Case)'!AZ199","v":47.793102171285788},{"$f":"'[36]Com Forecast (Base Case)'!BA199","v":47.362964251744209},{"$f":"'[36]Com Forecast (Base Case)'!BB199","v":46.936697573478511},{"$f":"'[36]Com Forecast (Base Case)'!BC199","v":46.514267295317204},{"$f":"'[36]Com Forecast (Base Case)'!BD199","v":46.095638889659348},{"$f":"'[36]Com Forecast (Base Case)'!BE199","v":45.680778139652418},{"$f":"'[36]Com Forecast (Base Case)'!BF199","v":45.269651136395545},{"$f":"'[36]Com Forecast (Base Case)'!BG199","v":44.862224276167979},{"$f":"'[36]Com Forecast (Base Case)'!BH199","v":44.458464257682465},{"$f":"'[36]Com Forecast (Base Case)'!BI199","v":44.058338079363324},{"$f":"'[36]Com Forecast (Base Case)'!BJ199","v":43.66181303664905}]
[null,{"$f":"'[36]Com Forecast (Base Case)'!$D200","v":"Lodging"},{"$f":"'[36]Com Forecast (Base Case)'!$E200","v":"Stock 2016"},{"$f":"'[36]Com Forecast (Base Case)'!AQ200","v":184.6245949562699},{"$f":"'[36]Com Forecast (Base Case)'!AR200","v":183.94148395493167},{"$f":"'[36]Com Forecast (Base Case)'!AS200","v":183.26090046429843},{"$f":"'[36]Com Forecast (Base Case)'!AT200","v":182.58283513258053},{"$f":"'[36]Com Forecast (Base Case)'!AU200","v":181.90727864258994},{"$f":"'[36]Com Forecast (Base Case)'!AV200","v":181.23422171161238},{"$f":"'[36]Com Forecast (Base Case)'!AW200","v":180.5636550912794},{"$f":"'[36]Com Forecast (Base Case)'!AX200","v":179.89556956744164},{"$f":"'[36]Com Forecast (Base Case)'!AY200","v":179.22995596004213},{"$f":"'[36]Com Forecast (Base Case)'!AZ200","v":178.56680512298999},{"$f":"'[36]Com Forecast (Base Case)'!BA200","v":177.90610794403491},{"$f":"'[36]Com Forecast (Base Case)'!BB200","v":177.24785534464198},{"$f":"'[36]Com Forecast (Base Case)'!BC200","v":176.59203827986678},{"$f":"'[36]Com Forecast (Base Case)'!BD200","v":175.93864773823128},{"$f":"'[36]Com Forecast (Base Case)'!BE200","v":175.2876747415998},{"$f":"'[36]Com Forecast (Base Case)'!BF200","v":174.63911034505588},{"$f":"'[36]Com Forecast (Base Case)'!BG200","v":173.99294563677915},{"$f":"'[36]Com Forecast (Base Case)'!BH200","v":173.34917173792309},{"$f":"'[36]Com Forecast (Base Case)'!BI200","v":172.70777980249278},{"$f":"'[36]Com Forecast (Base Case)'!BJ200","v":172.06876101722352}]
[null,{"$f":"'[36]Com Forecast (Base Case)'!$D201","v":"Hospital"},{"$f":"'[36]Com Forecast (Base Case)'!$E201","v":"Stock 2016"},{"$f":"'[36]Com Forecast (Base Case)'!AQ201","v":113.50221963251342},{"$f":"'[36]Com Forecast (Base Case)'!AR201","v":113.03686053202011},{"$f":"'[36]Com Forecast (Base Case)'!AS201","v":112.57340940383882},{"$f":"'[36]Com Forecast (Base Case)'!AT201","v":112.11185842528309},{"$f":"'[36]Com Forecast (Base Case)'!AU201","v":111.65219980573941},{"$f":"'[36]Com Forecast (Base Case)'!AV201","v":111.1944257865359},{"$f":"'[36]Com Forecast (Base Case)'!AW201","v":110.7385286408111},{"$f":"'[36]Com Forecast (Base Case)'!AX201","v":110.28450067338377},{"$f":"'[36]Com Forecast (Base Case)'!AY201","v":109.8323342206229},{"$f":"'[36]Com Forecast (Base Case)'!AZ201","v":109.38202165031834},{"$f":"'[36]Com Forecast (Base Case)'!BA201","v":108.93355536155204},{"$f":"'[36]Com Forecast (Base Case)'!BB201","v":108.48692778456969},{"$f":"'[36]Com Forecast (Base Case)'!BC201","v":108.04213138065295},{"$f":"'[36]Com Forecast (Base Case)'!BD201","v":107.59915864199226},{"$f":"'[36]Com Forecast (Base Case)'!BE201","v":107.15800209156011},{"$f":"'[36]Com Forecast (Base Case)'!BF201","v":106.71865428298472},{"$f":"'[36]Com Forecast (Base Case)'!BG201","v":106.28110780042448},{"$f":"'[36]Com Forecast (Base Case)'!BH201","v":105.84535525844274},{"$f":"'[36]Com Forecast (Base Case)'!BI201","v":105.41138930188312},{"$f":"'[36]Com Forecast (Base Case)'!BJ201","v":104.9792026057454}]
[null,{"$f":"'[36]Com Forecast (Base Case)'!$D202","v":"Residential Care"},{"$f":"'[36]Com Forecast (Base Case)'!$E202","v":"Stock 2016"},{"$f":"'[36]Com Forecast (Base Case)'!AQ202","v":139.33091416745748},{"$f":"'[36]Com Forecast (Base Case)'!AR202","v":138.75965741937091},{"$f":"'[36]Com Forecast (Base Case)'!AS202","v":138.1907428239515},{"$f":"'[36]Com Forecast (Base Case)'!AT202","v":137.62416077837327},{"$f":"'[36]Com Forecast (Base Case)'!AU202","v":137.05990171918194},{"$f":"'[36]Com Forecast (Base Case)'!AV202","v":136.4979561221333},{"$f":"'[36]Com Forecast (Base Case)'!AW202","v":135.93831450203254},{"$f":"'[36]Com Forecast (Base Case)'!AX202","v":135.38096741257422},{"$f":"'[36]Com Forecast (Base Case)'!AY202","v":134.82590544618267},{"$f":"'[36]Com Forecast (Base Case)'!AZ202","v":134.27311923385332},{"$f":"'[36]Com Forecast (Base Case)'!BA202","v":133.7225994449945},{"$f":"'[36]Com Forecast (Base Case)'!BB202","v":133.17433678727002},{"$f":"'[36]Com Forecast (Base Case)'!BC202","v":132.62832200644223},{"$f":"'[36]Com Forecast (Base Case)'!BD202","v":132.08454588621584},{"$f":"'[36]Com Forecast (Base Case)'!BE202","v":131.54299924808231},{"$f":"'[36]Com Forecast (Base Case)'!BF202","v":131.00367295116519},{"$f":"'[36]Com Forecast (Base Case)'!BG202","v":130.4665578920654},{"$f":"'[36]Com Forecast (Base Case)'!BH202","v":129.93164500470795},{"$f":"'[36]Com Forecast (Base Case)'!BI202","v":129.39892526018866},{"$f":"'[36]Com Forecast (Base Case)'!BJ202","v":128.86838966662188}]
[null,{"$f":"'[36]Com Forecast (Base Case)'!$D203","v":"Assembly"},{"$f":"'[36]Com Forecast (Base Case)'!$E203","v":"Stock 2016"},{"$f":"'[36]Com Forecast (Base Case)'!AQ203","v":374.0830802363385},{"$f":"'[36]Com Forecast (Base Case)'!AR203","v":372.40469414967811},{"$f":"'[36]Com Forecast (Base Case)'!AS203","v":370.73383842192658},{"$f":"'[36]Com Forecast (Base Case)'!AT203","v":369.07047926687358},{"$f":"'[36]Com Forecast (Base Case)'!AU203","v":367.41458304989618},{"$f":"'[36]Com Forecast (Base Case)'!AV203","v":365.76611628727898},{"$f":"'[36]Com Forecast (Base Case)'!AW203","v":364.12504564553672},{"$f":"'[36]Com Forecast (Base Case)'!AX203","v":362.49133794074038},{"$f":"'[36]Com Forecast (Base Case)'!AY203","v":360.86496013784631},{"$f":"'[36]Com Forecast (Base Case)'!AZ203","v":359.24587935002785},{"$f":"'[36]Com Forecast (Base Case)'!BA203","v":357.63406283801066},{"$f":"'[36]Com Forecast (Base Case)'!BB203","v":356.02947800941081},{"$f":"'[36]Com Forecast (Base Case)'!BC203","v":354.43209241807529},{"$f":"'[36]Com Forecast (Base Case)'!BD203","v":352.84187376342618},{"$f":"'[36]Com Forecast (Base Case)'!BE203","v":351.25878988980764},{"$f":"'[36]Com Forecast (Base Case)'!BF203","v":349.68280878583539},{"$f":"'[36]Com Forecast (Base Case)'!BG203","v":348.11389858374957},{"$f":"'[36]Com Forecast (Base Case)'!BH203","v":346.55202755877053},{"$f":"'[36]Com Forecast (Base Case)'!BI203","v":344.99716412845686},{"$f":"'[36]Com Forecast (Base Case)'!BJ203","v":343.44927685206721}]
[null,{"$f":"'[36]Com Forecast (Base Case)'!$D204","v":"Other"},{"$f":"'[36]Com Forecast (Base Case)'!$E204","v":"Stock 2016"},{"$f":"'[36]Com Forecast (Base Case)'!AQ204","v":368.64569216265329},{"$f":"'[36]Com Forecast (Base Case)'!AR204","v":365.32788093318936},{"$f":"'[36]Com Forecast (Base Case)'!AS204","v":362.03993000479068},{"$f":"'[36]Com Forecast (Base Case)'!AT204","v":358.7815706347476},{"$f":"'[36]Com Forecast (Base Case)'!AU204","v":355.55253649903483},{"$f":"'[36]Com Forecast (Base Case)'!AV204","v":352.35256367054353},{"$f":"'[36]Com Forecast (Base Case)'!AW204","v":349.18139059750865},{"$f":"'[36]Com Forecast (Base Case)'!AX204","v":346.03875808213104},{"$f":"'[36]Com Forecast (Base Case)'!AY204","v":342.92440925939184},{"$f":"'[36]Com Forecast (Base Case)'!AZ204","v":339.83808957605731},{"$f":"'[36]Com Forecast (Base Case)'!BA204","v":336.77954676987281},{"$f":"'[36]Com Forecast (Base Case)'!BB204","v":333.74853084894391},{"$f":"'[36]Com Forecast (Base Case)'!BC204","v":330.74479407130343},{"$f":"'[36]Com Forecast (Base Case)'!BD204","v":327.76809092466175},{"$f":"'[36]Com Forecast (Base Case)'!BE204","v":324.81817810633981},{"$f":"'[36]Com Forecast (Base Case)'!BF204","v":321.89481450338269},{"$f":"'[36]Com Forecast (Base Case)'!BG204","v":318.99776117285228},{"$f":"'[36]Com Forecast (Base Case)'!BH204","v":316.12678132229661},{"$f":"'[36]Com Forecast (Base Case)'!BI204","v":313.2816402903959},{"$f":"'[36]Com Forecast (Base Case)'!BJ204","v":310.46210552778234}]
[]
[null,"Sum","New",{"$f":"SUM(D19:D36)","v":41.164999999999978},{"$f":"SUM(E19:E36)","v":46.966699999999946},42.260799999999961,43.532300000000063,47.097500000000053,54.625399999999935,54.086399999999998,50.787599999999962,62.337500000000013,61.21309999999994,62.950500000000119,59.599000000000032,59.74689999999994,60.940600000000053,62.373500000000092,65.242299999999858,67.034399999999977,68.888000000000005,64.532299999999992,65.284299999999945]
[null,"Sum","Existing",{"$f":"SUM(D37:D54)","v":3556.3000472426152},{"$f":"SUM(E37:E54)","v":3540.6449409662055},3525.0714504449411,3509.5790705032987,3494.1672995791614,3478.8356396952272,3463.5835964306689,3448.4106788930317,3433.316399690365,3418.3002749035886,3403.3618240590918,3388.5005701015561,3373.7160393670201,3359.0077615561527,3344.3752697077639,3329.8181001725329,3315.335792586955,3300.9278898475054,3286.5939380850268,3272.3334866393234]
["Low"]
[null,null,null,{"$f":"'[36]Com Forecast (Base Case)'!AQ$12","v":2022},{"$f":"'[36]Com Forecast (Base Case)'!AR$12","v":2023},{"$f":"'[36]Com Forecast (Base Case)'!AS$12","v":2024},{"$f":"'[36]Com Forecast (Base Case)'!AT$12","v":2025},{"$f":"'[36]Com Forecast (Base Case)'!AU$12","v":2026},{"$f":"'[36]Com Forecast (Base Case)'!AV$12","v":2027},{"$f":"'[36]Com Forecast (Base Case)'!AW$12","v":2028},{"$f":"'[36]Com Forecast (Base Case)'!AX$12","v":2029},{"$f":"'[36]Com Forecast (Base Case)'!AY$12","v":2030},{"$f":"'[36]Com Forecast (Base Case)'!AZ$12","v":2031},{"$f":"'[36]Com Forecast (Base Case)'!BA$12","v":2032},{"$f":"'[36]Com Forecast (Base Case)'!BB$12","v":2033},{"$f":"'[36]Com Forecast (Base Case)'!BC$12","v":2034},{"$f":"'[36]Com Forecast (Base Case)'!BD$12","v":2035},{"$f":"'[36]Com Forecast (Base Case)'!BE$12","v":2036},{"$f":"'[36]Com Forecast (Base Case)'!BF$12","v":2037},{"$f":"'[36]Com Forecast (Base Case)'!BG$12","v":2038},{"$f":"'[36]Com Forecast (Base Case)'!BH$12","v":2039},{"$f":"'[36]Com Forecast (Base Case)'!BI$12","v":2040},{"$f":"'[36]Com Forecast (Base Case)'!BJ$12","v":2041}]
[null,{"$f":"B19","v":"Large Off"},{"$f":"C19","v":"New"},{"$f":"'[36]Com Forecast (Low)'!AQ169","v":3.8210000000000264},{"$f":"'[36]Com Forecast (Low)'!AR169","v":4.2905000000000086},{"$f":"'[36]Com Forecast (Low)'!AS169","v":3.6809999999999832},{"$f":"'[36]Com Forecast (Low)'!AT169","v":3.4830000000000041},{"$f":"'[36]Com Forecast (Low)'!AU169","v":3.574799999999982},{"$f":"'[36]Com Forecast (Low)'!AV169","v":5.0310000000000059},{"$f":"'[36]Com Forecast (Low)'!AW169","v":5.8281999999999812},{"$f":"'[36]Com Forecast (Low)'!AX169","v":6.0548000000000002},{"$f":"'[36]Com Forecast (Low)'!AY169","v":6.2142000000000053},{"$f":"'[36]Com Forecast (Low)'!AZ169","v":5.7001999999999953},{"$f":"'[36]Com Forecast (Low)'!BA169","v":6.5323000000000206},{"$f":"'[36]Com Forecast (Low)'!BB169","v":6.8514000000000124},{"$f":"'[36]Com Forecast (Low)'!BC169","v":5.5822999999999752},{"$f":"'[36]Com Forecast (Low)'!BD169","v":5.9110000000000014},{"$f":"'[36]Com Forecast (Low)'!BE169","v":5.9073000000000206},{"$f":"'[36]Com Forecast (Low)'!BF169","v":6.5763000000000034},{"$f":"'[36]Com Forecast (Low)'!BG169","v":7.1173000000000002},{"$f":"'[36]Com Forecast (Low)'!BH169","v":8.2135000000000105},{"$f":"'[36]Com Forecast (Low)'!BI169","v":7.0948999999999955},{"$f":"'[36]Com Forecast (Low)'!BJ169","v":7.2273000000000138}]
[null,{"$f":"B20","v":"Medium Off"},"New",{"$f":"'[36]Com Forecast (Low)'!AQ170","v":3.2049000000000092},{"$f":"'[36]Com Forecast (Low)'!AR170","v":3.4686000000000092},{"$f":"'[36]Com Forecast (Low)'!AS170","v":2.9062999999999874},{"$f":"'[36]Com Forecast (Low)'!AT170","v":2.5290999999999997},{"$f":"'[36]Com Forecast (Low)'!AU170","v":2.615399999999994},{"$f":"'[36]Com Forecast (Low)'!AV170","v":3.738900000000001},{"$f":"'[36]Com Forecast (Low)'!AW170","v":4.1642000000000223},{"$f":"'[36]Com Forecast (Low)'!AX170","v":4.3963999999999999},{"$f":"'[36]Com Forecast (Low)'!AY170","v":4.5730999999999824},{"$f":"'[36]Com Forecast (Low)'!AZ170","v":4.0657999999999959},{"$f":"'[36]Com Forecast (Low)'!BA170","v":4.7806000000000211},{"$f":"'[36]Com Forecast (Low)'!BB170","v":5.0185999999999922},{"$f":"'[36]Com Forecast (Low)'!BC170","v":4.106899999999996},{"$f":"'[36]Com Forecast (Low)'!BD170","v":4.5868000000000109},{"$f":"'[36]Com Forecast (Low)'!BE170","v":4.2698999999999785},{"$f":"'[36]Com Forecast (Low)'!BF170","v":4.8944999999999936},{"$f":"'[36]Com Forecast (Low)'!BG170","v":5.162900000000036},{"$f":"'[36]Com Forecast (Low)'!BH170","v":5.890199999999993},{"$f":"'[36]Com Forecast (Low)'!BI170","v":4.9381999999999948},{"$f":"'[36]Com Forecast (Low)'!BJ170","v":5.0949999999999704}]
[null,{"$f":"B21","v":"Small Off"},"New",{"$f":"'[36]Com Forecast (Low)'!AQ171","v":0.54980000000000473},{"$f":"'[36]Com Forecast (Low)'!AR171","v":0.85060000000001423},{"$f":"'[36]Com Forecast (Low)'!AS171","v":0.81879999999998176},{"$f":"'[36]Com Forecast (Low)'!AT171","v":0.73340000000001737},{"$f":"'[36]Com Forecast (Low)'!AU171","v":0.79149999999998499},{"$f":"'[36]Com Forecast (Low)'!AV171","v":1.3634000000000128},{"$f":"'[36]Com Forecast (Low)'!AW171","v":1.5812999999999988},{"$f":"'[36]Com Forecast (Low)'!AX171","v":1.5483999999999867},{"$f":"'[36]Com Forecast (Low)'!AY171","v":1.5810000000000173},{"$f":"'[36]Com Forecast (Low)'!AZ171","v":1.3401999999999816},{"$f":"'[36]Com Forecast (Low)'!BA171","v":1.6922000000000139},{"$f":"'[36]Com Forecast (Low)'!BB171","v":1.79849999999999},{"$f":"'[36]Com Forecast (Low)'!BC171","v":1.3516999999999939},{"$f":"'[36]Com Forecast (Low)'!BD171","v":1.3726000000000056},{"$f":"'[36]Com Forecast (Low)'!BE171","v":1.2950999999999908},{"$f":"'[36]Com Forecast (Low)'!BF171","v":1.5024000000000228},{"$f":"'[36]Com Forecast (Low)'!BG171","v":1.7195999999999856},{"$f":"'[36]Com Forecast (Low)'!BH171","v":1.9716999999999985},{"$f":"'[36]Com Forecast (Low)'!BI171","v":1.7985999999999933},{"$f":"'[36]Com Forecast (Low)'!BJ171","v":1.7492000000000019}]
[null,{"$f":"B22","v":"XLarge Ret"},"New",{"$f":"'[36]Com Forecast (Low)'!AQ172","v":0.74509999999997945},{"$f":"'[36]Com Forecast (Low)'!AR172","v":0.96080000000000609},{"$f":"'[36]Com Forecast (Low)'!AS172","v":1.2757000000000005},{"$f":"'[36]Com Forecast (Low)'!AT172","v":1.8968000000000131},{"$f":"'[36]Com Forecast (Low)'!AU172","v":1.8479999999999848},{"$f":"'[36]Com Forecast (Low)'!AV172","v":2.5626000000000033},{"$f":"'[36]Com Forecast (Low)'!AW172","v":2.8494000000000028},{"$f":"'[36]Com Forecast (Low)'!AX172","v":2.2958999999999889},{"$f":"'[36]Com Forecast (Low)'!AY172","v":3.3021000000000242},{"$f":"'[36]Com Forecast (Low)'!AZ172","v":2.9679999999999893},{"$f":"'[36]Com Forecast (Low)'!BA172","v":3.4677000000000078},{"$f":"'[36]Com Forecast (Low)'!BB172","v":3.2564999999999884},{"$f":"'[36]Com Forecast (Low)'!BC172","v":3.1398000000000081},{"$f":"'[36]Com Forecast (Low)'!BD172","v":2.9688999999999908},{"$f":"'[36]Com Forecast (Low)'!BE172","v":3.0058999999999969},{"$f":"'[36]Com Forecast (Low)'!BF172","v":3.1151000000000124},{"$f":"'[36]Com Forecast (Low)'!BG172","v":3.533299999999997},{"$f":"'[36]Com Forecast (Low)'!BH172","v":3.2980000000000018},{"$f":"'[36]Com Forecast (Low)'!BI172","v":3.3489999999999895},{"$f":"'[36]Com Forecast (Low)'!BJ172","v":3.1894000000000062}]
[null,{"$f":"B23","v":"Large Ret"},"New",{"$f":"'[36]Com Forecast (Low)'!AQ173","v":0.46889999999999077},{"$f":"'[36]Com Forecast (Low)'!AR173","v":0.81100000000000705},{"$f":"'[36]Com Forecast (Low)'!AS173","v":0.94300000000001205},{"$f":"'[36]Com Forecast (Low)'!AT173","v":1.1877999999999815},{"$f":"'[36]Com Forecast (Low)'!AU173","v":1.2840000000000202},{"$f":"'[36]Com Forecast (Low)'!AV173","v":1.7242999999999995},{"$f":"'[36]Com Forecast (Low)'!AW173","v":2.0894999999999868},{"$f":"'[36]Com Forecast (Low)'!AX173","v":1.8045999999999935},{"$f":"'[36]Com Forecast (Low)'!AY173","v":2.3179000000000087},{"$f":"'[36]Com Forecast (Low)'!AZ173","v":2.0682999999999936},{"$f":"'[36]Com Forecast (Low)'!BA173","v":2.5305000000000177},{"$f":"'[36]Com Forecast (Low)'!BB173","v":2.4354999999999905},{"$f":"'[36]Com Forecast (Low)'!BC173","v":2.0457999999999856},{"$f":"'[36]Com Forecast (Low)'!BD173","v":1.9145000000000039},{"$f":"'[36]Com Forecast (Low)'!BE173","v":1.893400000000014},{"$f":"'[36]Com Forecast (Low)'!BF173","v":2.0716999999999928},{"$f":"'[36]Com Forecast (Low)'!BG173","v":2.4927000000000135},{"$f":"'[36]Com Forecast (Low)'!BH173","v":2.4878999999999962},{"$f":"'[36]Com Forecast (Low)'!BI173","v":2.5542999999999836},{"$f":"'[36]Com Forecast (Low)'!BJ173","v":2.3922000000000025}]
[null,{"$f":"B24","v":"Medium Ret"},"New",{"$f":"'[36]Com Forecast (Low)'!AQ174","v":1.1405999999999921},{"$f":"'[36]Com Forecast (Low)'!AR174","v":1.3029000000000082},{"$f":"'[36]Com Forecast (Low)'!AS174","v":1.6841999999999899},{"$f":"'[36]Com Forecast (Low)'!AT174","v":2.5818000000000012},{"$f":"'[36]Com Forecast (Low)'!AU174","v":2.410499999999999},{"$f":"'[36]Com Forecast (Low)'!AV174","v":3.377200000000002},{"$f":"'[36]Com Forecast (Low)'!AW174","v":3.5970000000000084},{"$f":"'[36]Com Forecast (Low)'!AX174","v":2.8718999999999966},{"$f":"'[36]Com Forecast (Low)'!AY174","v":4.2913999999999959},{"$f":"'[36]Com Forecast (Low)'!AZ174","v":3.8703000000000003},{"$f":"'[36]Com Forecast (Low)'!BA174","v":4.4591999999999956},{"$f":"'[36]Com Forecast (Low)'!BB174","v":4.1539999999999964},{"$f":"'[36]Com Forecast (Low)'!BC174","v":4.1773000000000025},{"$f":"'[36]Com Forecast (Low)'!BD174","v":3.9779000000000053},{"$f":"'[36]Com Forecast (Low)'!BE174","v":4.0185999999999922},{"$f":"'[36]Com Forecast (Low)'!BF174","v":4.1071000000000026},{"$f":"'[36]Com Forecast (Low)'!BG174","v":4.5303000000000111},{"$f":"'[36]Com Forecast (Low)'!BH174","v":4.1278999999999826},{"$f":"'[36]Com Forecast (Low)'!BI174","v":4.1348000000000127},{"$f":"'[36]Com Forecast (Low)'!BJ174","v":3.9073999999999955}]
[null,{"$f":"B25","v":"Small Ret"},"New",{"$f":"'[36]Com Forecast (Low)'!AQ175","v":0.39249999999999829},{"$f":"'[36]Com Forecast (Low)'!AR175","v":0.55969999999999231},{"$f":"'[36]Com Forecast (Low)'!AS175","v":0.69300000000001205},{"$f":"'[36]Com Forecast (Low)'!AT175","v":0.95229999999999393},{"$f":"'[36]Com Forecast (Low)'!AU175","v":0.96659999999999968},{"$f":"'[36]Com Forecast (Low)'!AV175","v":1.3385999999999996},{"$f":"'[36]Com Forecast (Low)'!AW175","v":1.5456999999999965},{"$f":"'[36]Com Forecast (Low)'!AX175","v":1.2823000000000064},{"$f":"'[36]Com Forecast (Low)'!AY175","v":1.7669999999999959},{"$f":"'[36]Com Forecast (Low)'!AZ175","v":1.5888000000000062},{"$f":"'[36]Com Forecast (Low)'!BA175","v":1.8960999999999899},{"$f":"'[36]Com Forecast (Low)'!BB175","v":1.8162999999999982},{"$f":"'[36]Com Forecast (Low)'!BC175","v":1.6456000000000159},{"$f":"'[36]Com Forecast (Low)'!BD175","v":1.5448999999999842},{"$f":"'[36]Com Forecast (Low)'!BE175","v":1.547300000000007},{"$f":"'[36]Com Forecast (Low)'!BF175","v":1.6348999999999876},{"$f":"'[36]Com Forecast (Low)'!BG175","v":1.9060000000000059},{"$f":"'[36]Com Forecast (Low)'!BH175","v":1.8225999999999942},{"$f":"'[36]Com Forecast (Low)'!BI175","v":1.8509000000000242},{"$f":"'[36]Com Forecast (Low)'!BJ175","v":1.7250999999999976}]
[null,{"$f":"B26","v":"School K-12"},"New",{"$f":"'[36]Com Forecast (Low)'!AQ176","v":1.7907999999999902},{"$f":"'[36]Com Forecast (Low)'!AR176","v":1.8237000000000307},{"$f":"'[36]Com Forecast (Low)'!AS176","v":1.129099999999994},{"$f":"'[36]Com Forecast (Low)'!AT176","v":1.0905999999999949},{"$f":"'[36]Com Forecast (Low)'!AU176","v":1.3928999999999974},{"$f":"'[36]Com Forecast (Low)'!AV176","v":1.8147999999999911},{"$f":"'[36]Com Forecast (Low)'!AW176","v":2.4134000000000242},{"$f":"'[36]Com Forecast (Low)'!AX176","v":2.2269999999999754},{"$f":"'[36]Com Forecast (Low)'!AY176","v":2.5633000000000266},{"$f":"'[36]Com Forecast (Low)'!AZ176","v":2.3016999999999825},{"$f":"'[36]Com Forecast (Low)'!BA176","v":2.0896999999999935},{"$f":"'[36]Com Forecast (Low)'!BB176","v":2.5095000000000027},{"$f":"'[36]Com Forecast (Low)'!BC176","v":2.4360000000000355},{"$f":"'[36]Com Forecast (Low)'!BD176","v":2.0512999999999693},{"$f":"'[36]Com Forecast (Low)'!BE176","v":2.0153999999999996},{"$f":"'[36]Com Forecast (Low)'!BF176","v":1.9857000000000085},{"$f":"'[36]Com Forecast (Low)'!BG176","v":1.9177999999999997},{"$f":"'[36]Com Forecast (Low)'!BH176","v":2.0117000000000189},{"$f":"'[36]Com Forecast (Low)'!BI176","v":2.1347999999999843},{"$f":"'[36]Com Forecast (Low)'!BJ176","v":2.133199999999988}]
[null,{"$f":"B27","v":"University"},"New",{"$f":"'[36]Com Forecast (Low)'!AQ177","v":0.69710000000000605},{"$f":"'[36]Com Forecast (Low)'!AR177","v":0.69209999999998217},{"$f":"'[36]Com Forecast (Low)'!AS177","v":0.44660000000001787},{"$f":"'[36]Com Forecast (Low)'!AT177","v":0.40330000000000155},{"$f":"'[36]Com Forecast (Low)'!AU177","v":0.62549999999998818},{"$f":"'[36]Com Forecast (Low)'!AV177","v":0.86600000000001387},{"$f":"'[36]Com Forecast (Low)'!AW177","v":1.1505999999999972},{"$f":"'[36]Com Forecast (Low)'!AX177","v":1.0360000000000014},{"$f":"'[36]Com Forecast (Low)'!AY177","v":1.0766999999999882},{"$f":"'[36]Com Forecast (Low)'!AZ177","v":0.99479999999999791},{"$f":"'[36]Com Forecast (Low)'!BA177","v":0.85400000000001342},{"$f":"'[36]Com Forecast (Low)'!BB177","v":1.015199999999993},{"$f":"'[36]Com Forecast (Low)'!BC177","v":0.93270000000001119},{"$f":"'[36]Com Forecast (Low)'!BD177","v":0.79269999999999641},{"$f":"'[36]Com Forecast (Low)'!BE177","v":0.83699999999998909},{"$f":"'[36]Com Forecast (Low)'!BF177","v":0.86709999999999354},{"$f":"'[36]Com Forecast (Low)'!BG177","v":0.82990000000000919},{"$f":"'[36]Com Forecast (Low)'!BH177","v":0.90879999999998518},{"$f":"'[36]Com Forecast (Low)'!BI177","v":0.88840000000001851},{"$f":"'[36]Com Forecast (Low)'!BJ177","v":0.94929999999999382}]
[null,{"$f":"B28","v":"Warehouse"},"New",{"$f":"'[36]Com Forecast (Low)'!AQ178","v":0.19429999999999836},{"$f":"'[36]Com Forecast (Low)'!AR178","v":1.6508999999999787},{"$f":"'[36]Com Forecast (Low)'!AS178","v":1.6458999999999833},{"$f":"'[36]Com Forecast (Low)'!AT178","v":1.856899999999996},{"$f":"'[36]Com Forecast (Low)'!AU178","v":1.904700000000048},{"$f":"'[36]Com Forecast (Low)'!AV178","v":3.7250999999999976},{"$f":"'[36]Com Forecast (Low)'!AW178","v":4.8076999999999543},{"$f":"'[36]Com Forecast (Low)'!AX178","v":4.0515000000000327},{"$f":"'[36]Com Forecast (Low)'!AY178","v":4.4721000000000117},{"$f":"'[36]Com Forecast (Low)'!AZ178","v":4.1260999999999513},{"$f":"'[36]Com Forecast (Low)'!BA178","v":4.8982000000000312},{"$f":"'[36]Com Forecast (Low)'!BB178","v":4.4773000000000138},{"$f":"'[36]Com Forecast (Low)'!BC178","v":3.1976999999999407},{"$f":"'[36]Com Forecast (Low)'!BD178","v":3.3423999999999978},{"$f":"'[36]Com Forecast (Low)'!BE178","v":3.3526000000000522},{"$f":"'[36]Com Forecast (Low)'!BF178","v":4.3407999999999447},{"$f":"'[36]Com Forecast (Low)'!BG178","v":4.6094000000000506},{"$f":"'[36]Com Forecast (Low)'!BH178","v":5.09699999999998},{"$f":"'[36]Com Forecast (Low)'!BI178","v":5.0485999999999649},{"$f":"'[36]Com Forecast (Low)'!BJ178","v":4.6257000000000517}]
[null,{"$f":"B29","v":"Supermarket"},"New",{"$f":"'[36]Com Forecast (Low)'!AQ179","v":0.30960000000000321},{"$f":"'[36]Com Forecast (Low)'!AR179","v":0.39389999999999503},{"$f":"'[36]Com Forecast (Low)'!AS179","v":0.39130000000000109},{"$f":"'[36]Com Forecast (Low)'!AT179","v":0.41210000000000235},{"$f":"'[36]Com Forecast (Low)'!AU179","v":0.4637999999999991},{"$f":"'[36]Com Forecast (Low)'!AV179","v":0.56210000000000093},{"$f":"'[36]Com Forecast (Low)'!AW179","v":0.66559999999999775},{"$f":"'[36]Com Forecast (Low)'!AX179","v":0.55709999999999837},{"$f":"'[36]Com Forecast (Low)'!AY179","v":0.78300000000000125},{"$f":"'[36]Com Forecast (Low)'!AZ179","v":0.67430000000000234},{"$f":"'[36]Com Forecast (Low)'!BA179","v":0.84239999999999782},{"$f":"'[36]Com Forecast (Low)'!BB179","v":0.77690000000000481},{"$f":"'[36]Com Forecast (Low)'!BC179","v":0.76639999999999731},{"$f":"'[36]Com Forecast (Low)'!BD179","v":0.74139999999999873},{"$f":"'[36]Com Forecast (Low)'!BE179","v":0.76389999999999958},{"$f":"'[36]Com Forecast (Low)'!BF179","v":0.78730000000000189},{"$f":"'[36]Com Forecast (Low)'!BG179","v":0.91319999999999624},{"$f":"'[36]Com Forecast (Low)'!BH179","v":0.80960000000000321},{"$f":"'[36]Com Forecast (Low)'!BI179","v":0.84820000000000562},{"$f":"'[36]Com Forecast (Low)'!BJ179","v":0.78669999999999618}]
[null,{"$f":"B30","v":"MiniMart"},"New",{"$f":"'[36]Com Forecast (Low)'!AQ180","v":5.9799999999999187E-2},{"$f":"'[36]Com Forecast (Low)'!AR180","v":9.3900000000001427E-2},{"$f":"'[36]Com Forecast (Low)'!AS180","v":9.789999999999921E-2},{"$f":"'[36]Com Forecast (Low)'!AT180","v":9.9599999999998801E-2},{"$f":"'[36]Com Forecast (Low)'!AU180","v":0.26249999999999929},{"$f":"'[36]Com Forecast (Low)'!AV180","v":0.31700000000000017},{"$f":"'[36]Com Forecast (Low)'!AW180","v":0.34850000000000136},{"$f":"'[36]Com Forecast (Low)'!AX180","v":0.29769999999999897},{"$f":"'[36]Com Forecast (Low)'!AY180","v":0.40259999999999962},{"$f":"'[36]Com Forecast (Low)'!AZ180","v":0.35519999999999996},{"$f":"'[36]Com Forecast (Low)'!BA180","v":0.4112000000000009},{"$f":"'[36]Com Forecast (Low)'!BB180","v":0.41080000000000183},{"$f":"'[36]Com Forecast (Low)'!BC180","v":0.37739999999999796},{"$f":"'[36]Com Forecast (Low)'!BD180","v":0.3741000000000021},{"$f":"'[36]Com Forecast (Low)'!BE180","v":0.37199999999999989},{"$f":"'[36]Com Forecast (Low)'!BF180","v":0.37749999999999773},{"$f":"'[36]Com Forecast (Low)'!BG180","v":0.43510000000000204},{"$f":"'[36]Com Forecast (Low)'!BH180","v":0.40329999999999799},{"$f":"'[36]Com Forecast (Low)'!BI180","v":0.42070000000000007},{"$f":"'[36]Com Forecast (Low)'!BJ180","v":0.42050000000000054}]
[null,{"$f":"B31","v":"Restaurant"},"New",{"$f":"'[36]Com Forecast (Low)'!AQ181","v":0.64320000000000022},{"$f":"'[36]Com Forecast (Low)'!AR181","v":0.6355000000000004},{"$f":"'[36]Com Forecast (Low)'!AS181","v":0.64059999999999917},{"$f":"'[36]Com Forecast (Low)'!AT181","v":0.64759999999999707},{"$f":"'[36]Com Forecast (Low)'!AU181","v":0.74710000000000321},{"$f":"'[36]Com Forecast (Low)'!AV181","v":0.86730000000000018},{"$f":"'[36]Com Forecast (Low)'!AW181","v":0.9392999999999958},{"$f":"'[36]Com Forecast (Low)'!AX181","v":0.72480000000000189},{"$f":"'[36]Com Forecast (Low)'!AY181","v":1.0867000000000004},{"$f":"'[36]Com Forecast (Low)'!AZ181","v":0.96560000000000201},{"$f":"'[36]Com Forecast (Low)'!BA181","v":1.217099999999995},{"$f":"'[36]Com Forecast (Low)'!BB181","v":1.0919000000000025},{"$f":"'[36]Com Forecast (Low)'!BC181","v":1.1602999999999994},{"$f":"'[36]Com Forecast (Low)'!BD181","v":0.98449999999999704},{"$f":"'[36]Com Forecast (Low)'!BE181","v":1.0949999999999989},{"$f":"'[36]Com Forecast (Low)'!BF181","v":1.1173000000000002},{"$f":"'[36]Com Forecast (Low)'!BG181","v":1.3419000000000096},{"$f":"'[36]Com Forecast (Low)'!BH181","v":1.2587999999999937},{"$f":"'[36]Com Forecast (Low)'!BI181","v":1.379800000000003},{"$f":"'[36]Com Forecast (Low)'!BJ181","v":1.1821999999999946}]
[null,{"$f":"B32","v":"Lodging"},"New",{"$f":"'[36]Com Forecast (Low)'!AQ182","v":1.0005000000000166},{"$f":"'[36]Com Forecast (Low)'!AR182","v":0.97869999999997503},{"$f":"'[36]Com Forecast (Low)'!AS182","v":0.9632000000000005},{"$f":"'[36]Com Forecast (Low)'!AT182","v":0.96610000000001151},{"$f":"'[36]Com Forecast (Low)'!AU182","v":1.3103000000000122},{"$f":"'[36]Com Forecast (Low)'!AV182","v":1.6285999999999774},{"$f":"'[36]Com Forecast (Low)'!AW182","v":1.9172000000000082},{"$f":"'[36]Com Forecast (Low)'!AX182","v":1.3976000000000113},{"$f":"'[36]Com Forecast (Low)'!AY182","v":2.2240999999999929},{"$f":"'[36]Com Forecast (Low)'!AZ182","v":1.8120000000000118},{"$f":"'[36]Com Forecast (Low)'!BA182","v":2.5374999999999943},{"$f":"'[36]Com Forecast (Low)'!BB182","v":2.1440000000000055},{"$f":"'[36]Com Forecast (Low)'!BC182","v":2.372099999999989},{"$f":"'[36]Com Forecast (Low)'!BD182","v":1.6758999999999844},{"$f":"'[36]Com Forecast (Low)'!BE182","v":2.2453000000000145},{"$f":"'[36]Com Forecast (Low)'!BF182","v":2.2790999999999997},{"$f":"'[36]Com Forecast (Low)'!BG182","v":2.7132000000000005},{"$f":"'[36]Com Forecast (Low)'!BH182","v":2.7452999999999861},{"$f":"'[36]Com Forecast (Low)'!BI182","v":3.2265000000000157},{"$f":"'[36]Com Forecast (Low)'!BJ182","v":2.6000999999999976}]
[null,{"$f":"B33","v":"Hospital"},"New",{"$f":"'[36]Com Forecast (Low)'!AQ183","v":3.1067999999999927},{"$f":"'[36]Com Forecast (Low)'!AR183","v":3.9917999999999978},{"$f":"'[36]Com Forecast (Low)'!AS183","v":4.3715000000000117},{"$f":"'[36]Com Forecast (Low)'!AT183","v":4.0942000000000007},{"$f":"'[36]Com Forecast (Low)'!AU183","v":4.7840999999999951},{"$f":"'[36]Com Forecast (Low)'!AV183","v":5.5261999999999887},{"$f":"'[36]Com Forecast (Low)'!AW183","v":5.1358000000000175},{"$f":"'[36]Com Forecast (Low)'!AX183","v":4.2201999999999771},{"$f":"'[36]Com Forecast (Low)'!AY183","v":4.4745000000000061},{"$f":"'[36]Com Forecast (Low)'!AZ183","v":4.7312000000000012},{"$f":"'[36]Com Forecast (Low)'!BA183","v":4.5304000000000144},{"$f":"'[36]Com Forecast (Low)'!BB183","v":4.2946000000000026},{"$f":"'[36]Com Forecast (Low)'!BC183","v":3.8190999999999917},{"$f":"'[36]Com Forecast (Low)'!BD183","v":3.719300000000004},{"$f":"'[36]Com Forecast (Low)'!BE183","v":3.8352999999999895},{"$f":"'[36]Com Forecast (Low)'!BF183","v":4.3959000000000117},{"$f":"'[36]Com Forecast (Low)'!BG183","v":4.484499999999997},{"$f":"'[36]Com Forecast (Low)'!BH183","v":4.6199000000000012},{"$f":"'[36]Com Forecast (Low)'!BI183","v":4.9204000000000008},{"$f":"'[36]Com Forecast (Low)'!BJ183","v":5.0348999999999933}]
[null,{"$f":"B34","v":"Residential Care"},"New",{"$f":"'[36]Com Forecast (Low)'!AQ184","v":2.6213999999999942},{"$f":"'[36]Com Forecast (Low)'!AR184","v":2.897199999999998},{"$f":"'[36]Com Forecast (Low)'!AS184","v":3.0564000000000249},{"$f":"'[36]Com Forecast (Low)'!AT184","v":3.4045999999999879},{"$f":"'[36]Com Forecast (Low)'!AU184","v":3.6847999999999956},{"$f":"'[36]Com Forecast (Low)'!AV184","v":4.2520000000000095},{"$f":"'[36]Com Forecast (Low)'!AW184","v":3.7390000000000043},{"$f":"'[36]Com Forecast (Low)'!AX184","v":3.1058999999999912},{"$f":"'[36]Com Forecast (Low)'!AY184","v":3.164999999999992},{"$f":"'[36]Com Forecast (Low)'!AZ184","v":3.350200000000001},{"$f":"'[36]Com Forecast (Low)'!BA184","v":3.2057000000000073},{"$f":"'[36]Com Forecast (Low)'!BB184","v":3.0057999999999936},{"$f":"'[36]Com Forecast (Low)'!BC184","v":2.504099999999994},{"$f":"'[36]Com Forecast (Low)'!BD184","v":2.5294000000000096},{"$f":"'[36]Com Forecast (Low)'!BE184","v":2.5241000000000042},{"$f":"'[36]Com Forecast (Low)'!BF184","v":3.0354000000000099},{"$f":"'[36]Com Forecast (Low)'!BG184","v":2.9331999999999994},{"$f":"'[36]Com Forecast (Low)'!BH184","v":3.2512999999999863},{"$f":"'[36]Com Forecast (Low)'!BI184","v":3.4187000000000012},{"$f":"'[36]Com Forecast (Low)'!BJ184","v":3.5971000000000117}]
[null,{"$f":"B35","v":"Assembly"},"New",{"$f":"'[36]Com Forecast (Low)'!AQ185","v":2.9872000000000298},{"$f":"'[36]Com Forecast (Low)'!AR185","v":6.0931999999999675},{"$f":"'[36]Com Forecast (Low)'!AS185","v":3.8532999999999902},{"$f":"'[36]Com Forecast (Low)'!AT185","v":3.519800000000032},{"$f":"'[36]Com Forecast (Low)'!AU185","v":4.8150999999999726},{"$f":"'[36]Com Forecast (Low)'!AV185","v":6.214300000000037},{"$f":"'[36]Com Forecast (Low)'!AW185","v":7.4836999999999989},{"$f":"'[36]Com Forecast (Low)'!AX185","v":7.8199999999999932},{"$f":"'[36]Com Forecast (Low)'!AY185","v":8.8429999999999609},{"$f":"'[36]Com Forecast (Low)'!AZ185","v":8.4793000000000234},{"$f":"'[36]Com Forecast (Low)'!BA185","v":8.6569999999999823},{"$f":"'[36]Com Forecast (Low)'!BB185","v":8.0123000000000388},{"$f":"'[36]Com Forecast (Low)'!BC185","v":8.0979999999999563},{"$f":"'[36]Com Forecast (Low)'!BD185","v":8.0113000000000056},{"$f":"'[36]Com Forecast (Low)'!BE185","v":8.2605000000000359},{"$f":"'[36]Com Forecast (Low)'!BF185","v":9.0658999999999992},{"$f":"'[36]Com Forecast (Low)'!BG185","v":10.054399999999987},{"$f":"'[36]Com Forecast (Low)'!BH185","v":10.634900000000016},{"$f":"'[36]Com Forecast (Low)'!BI185","v":10.124299999999948},{"$f":"'[36]Com Forecast (Low)'!BJ185","v":10.418600000000083}]
[null,{"$f":"B36","v":"Other"},"New",{"$f":"'[36]Com Forecast (Low)'!AQ186","v":4.8043999999999869},{"$f":"'[36]Com Forecast (Low)'!AR186","v":6.9259000000000128},{"$f":"'[36]Com Forecast (Low)'!AS186","v":5.8457000000000221},{"$f":"'[36]Com Forecast (Low)'!AT186","v":5.6458000000000084},{"$f":"'[36]Com Forecast (Low)'!AU186","v":8.7056999999999789},{"$f":"'[36]Com Forecast (Low)'!AV186","v":9.5552999999999884},{"$f":"'[36]Com Forecast (Low)'!AW186","v":8.9258000000000379},{"$f":"'[36]Com Forecast (Low)'!AX186","v":8.0376999999999725},{"$f":"'[36]Com Forecast (Low)'!AY186","v":9.8820999999999799},{"$f":"'[36]Com Forecast (Low)'!AZ186","v":9.5378000000000043},{"$f":"'[36]Com Forecast (Low)'!BA186","v":10.158600000000035},{"$f":"'[36]Com Forecast (Low)'!BB186","v":9.0802999999999656},{"$f":"'[36]Com Forecast (Low)'!BC186","v":8.1338000000000079},{"$f":"'[36]Com Forecast (Low)'!BD186","v":7.7438000000000216},{"$f":"'[36]Com Forecast (Low)'!BE186","v":8.2817000000000007},{"$f":"'[36]Com Forecast (Low)'!BF186","v":7.9758999999999673},{"$f":"'[36]Com Forecast (Low)'!BG186","v":9.7356000000000336},{"$f":"'[36]Com Forecast (Low)'!BH186","v":11.128499999999974},{"$f":"'[36]Com Forecast (Low)'!BI186","v":9.7468999999999824},{"$f":"'[36]Com Forecast (Low)'!BJ186","v":9.7598000000000411}]
[null,{"$f":"B37","v":"Large Off"},"Stock 2016",{"$f":"'[36]Com Forecast (Low)'!AQ187","v":396.19940786727432},{"$f":"'[36]Com Forecast (Low)'!AR187","v":395.01080964367247},{"$f":"'[36]Com Forecast (Low)'!AS187","v":393.82577721474149},{"$f":"'[36]Com Forecast (Low)'!AT187","v":392.64429988309723},{"$f":"'[36]Com Forecast (Low)'!AU187","v":391.46636698344793},{"$f":"'[36]Com Forecast (Low)'!AV187","v":390.2919678824976},{"$f":"'[36]Com Forecast (Low)'!AW187","v":389.12109197885013},{"$f":"'[36]Com Forecast (Low)'!AX187","v":387.95372870291351},{"$f":"'[36]Com Forecast (Low)'!AY187","v":386.78986751680475},{"$f":"'[36]Com Forecast (Low)'!AZ187","v":385.62949791425433},{"$f":"'[36]Com Forecast (Low)'!BA187","v":384.47260942051156},{"$f":"'[36]Com Forecast (Low)'!BB187","v":383.31919159225004},{"$f":"'[36]Com Forecast (Low)'!BC187","v":382.16923401747329},{"$f":"'[36]Com Forecast (Low)'!BD187","v":381.02272631542093},{"$f":"'[36]Com Forecast (Low)'!BE187","v":379.87965813647463},{"$f":"'[36]Com Forecast (Low)'!BF187","v":378.74001916206521},{"$f":"'[36]Com Forecast (Low)'!BG187","v":377.60379910457902},{"$f":"'[36]Com Forecast (Low)'!BH187","v":376.47098770726524},{"$f":"'[36]Com Forecast (Low)'!BI187","v":375.34157474414343},{"$f":"'[36]Com Forecast (Low)'!BJ187","v":374.21555001991101}]
[null,{"$f":"B38","v":"Medium Off"},"Stock 2016",{"$f":"'[36]Com Forecast (Low)'!AQ188","v":202.99566713685553},{"$f":"'[36]Com Forecast (Low)'!AR188","v":202.38668013544498},{"$f":"'[36]Com Forecast (Low)'!AS188","v":201.77952009503861},{"$f":"'[36]Com Forecast (Low)'!AT188","v":201.17418153475353},{"$f":"'[36]Com Forecast (Low)'!AU188","v":200.57065899014924},{"$f":"'[36]Com Forecast (Low)'!AV188","v":199.96894701317882},{"$f":"'[36]Com Forecast (Low)'!AW188","v":199.36904017213928},{"$f":"'[36]Com Forecast (Low)'!AX188","v":198.77093305162285},{"$f":"'[36]Com Forecast (Low)'!AY188","v":198.17462025246797},{"$f":"'[36]Com Forecast (Low)'!AZ188","v":197.58009639171058},{"$f":"'[36]Com Forecast (Low)'!BA188","v":196.98735610253544},{"$f":"'[36]Com Forecast (Low)'!BB188","v":196.39639403422785},{"$f":"'[36]Com Forecast (Low)'!BC188","v":195.80720485212515},{"$f":"'[36]Com Forecast (Low)'!BD188","v":195.21978323756878},{"$f":"'[36]Com Forecast (Low)'!BE188","v":194.63412388785608},{"$f":"'[36]Com Forecast (Low)'!BF188","v":194.05022151619249},{"$f":"'[36]Com Forecast (Low)'!BG188","v":193.46807085164392},{"$f":"'[36]Com Forecast (Low)'!BH188","v":192.88766663908899},{"$f":"'[36]Com Forecast (Low)'!BI188","v":192.30900363917172},{"$f":"'[36]Com Forecast (Low)'!BJ188","v":191.73207662825419}]
[null,{"$f":"B39","v":"Small Off"},"Stock 2016",{"$f":"'[36]Com Forecast (Low)'!AQ189","v":187.31859712168011},{"$f":"'[36]Com Forecast (Low)'!AR189","v":186.75664133031509},{"$f":"'[36]Com Forecast (Low)'!AS189","v":186.19637140632415},{"$f":"'[36]Com Forecast (Low)'!AT189","v":185.63778229210516},{"$f":"'[36]Com Forecast (Low)'!AU189","v":185.08086894522884},{"$f":"'[36]Com Forecast (Low)'!AV189","v":184.52562633839315},{"$f":"'[36]Com Forecast (Low)'!AW189","v":183.97204945937798},{"$f":"'[36]Com Forecast (Low)'!AX189","v":183.42013331099986},{"$f":"'[36]Com Forecast (Low)'!AY189","v":182.86987291106681},{"$f":"'[36]Com Forecast (Low)'!AZ189","v":182.32126329233364},{"$f":"'[36]Com Forecast (Low)'!BA189","v":181.77429950245664},{"$f":"'[36]Com Forecast (Low)'!BB189","v":181.22897660394926},{"$f":"'[36]Com Forecast (Low)'!BC189","v":180.68528967413741},{"$f":"'[36]Com Forecast (Low)'!BD189","v":180.14323380511502},{"$f":"'[36]Com Forecast (Low)'!BE189","v":179.60280410369967},{"$f":"'[36]Com Forecast (Low)'!BF189","v":179.06399569138856},{"$f":"'[36]Com Forecast (Low)'!BG189","v":178.52680370431437},{"$f":"'[36]Com Forecast (Low)'!BH189","v":177.99122329320147},{"$f":"'[36]Com Forecast (Low)'!BI189","v":177.45724962332184},{"$f":"'[36]Com Forecast (Low)'!BJ189","v":176.92487787445191}]
[null,{"$f":"B40","v":"XLarge Ret"},"Stock 2016",{"$f":"'[36]Com Forecast (Low)'!AQ190","v":141.78078313569742},{"$f":"'[36]Com Forecast (Low)'!AR190","v":141.12859153327321},{"$f":"'[36]Com Forecast (Low)'!AS190","v":140.47940001222014},{"$f":"'[36]Com Forecast (Low)'!AT190","v":139.83319477216392},{"$f":"'[36]Com Forecast (Low)'!AU190","v":139.18996207621197},{"$f":"'[36]Com Forecast (Low)'!AV190","v":138.54968825066138},{"$f":"'[36]Com Forecast (Low)'!AW190","v":137.91235968470832},{"$f":"'[36]Com Forecast (Low)'!AX190","v":137.27796283015869},{"$f":"'[36]Com Forecast (Low)'!AY190","v":136.64648420113994},{"$f":"'[36]Com Forecast (Low)'!AZ190","v":136.01791037381466},{"$f":"'[36]Com Forecast (Low)'!BA190","v":135.39222798609512},{"$f":"'[36]Com Forecast (Low)'!BB190","v":134.76942373735909},{"$f":"'[36]Com Forecast (Low)'!BC190","v":134.14948438816722},{"$f":"'[36]Com Forecast (Low)'!BD190","v":133.53239675998165},{"$f":"'[36]Com Forecast (Low)'!BE190","v":132.91814773488571},{"$f":"'[36]Com Forecast (Low)'!BF190","v":132.30672425530526},{"$f":"'[36]Com Forecast (Low)'!BG190","v":131.69811332373084},{"$f":"'[36]Com Forecast (Low)'!BH190","v":131.09230200244167},{"$f":"'[36]Com Forecast (Low)'!BI190","v":130.48927741323044},{"$f":"'[36]Com Forecast (Low)'!BJ190","v":129.88902673712957}]
[null,{"$f":"B41","v":"Large Ret"},"Stock 2016",{"$f":"'[36]Com Forecast (Low)'!AQ191","v":212.75668012141045},{"$f":"'[36]Com Forecast (Low)'!AR191","v":211.777999392852},{"$f":"'[36]Com Forecast (Low)'!AS191","v":210.80382059564485},{"$f":"'[36]Com Forecast (Low)'!AT191","v":209.83412302090488},{"$f":"'[36]Com Forecast (Low)'!AU191","v":208.86888605500869},{"$f":"'[36]Com Forecast (Low)'!AV191","v":207.90808917915564},{"$f":"'[36]Com Forecast (Low)'!AW191","v":206.95171196893151},{"$f":"'[36]Com Forecast (Low)'!AX191","v":205.99973409387439},{"$f":"'[36]Com Forecast (Low)'!AY191","v":205.0521353170426},{"$f":"'[36]Com Forecast (Low)'!AZ191","v":204.10889549458417},{"$f":"'[36]Com Forecast (Low)'!BA191","v":203.16999457530909},{"$f":"'[36]Com Forecast (Low)'!BB191","v":202.23541260026263},{"$f":"'[36]Com Forecast (Low)'!BC191","v":201.30512970230143},{"$f":"'[36]Com Forecast (Low)'!BD191","v":200.37912610567085},{"$f":"'[36]Com Forecast (Low)'!BE191","v":199.45738212558476},{"$f":"'[36]Com Forecast (Low)'!BF191","v":198.53987816780705},{"$f":"'[36]Com Forecast (Low)'!BG191","v":197.62659472823515},{"$f":"'[36]Com Forecast (Low)'!BH191","v":196.71751239248522},{"$f":"'[36]Com Forecast (Low)'!BI191","v":195.8126118354798},{"$f":"'[36]Com Forecast (Low)'!BJ191","v":194.91187382103658}]
[null,{"$f":"B42","v":"Medium Ret"},"Stock 2016",{"$f":"'[36]Com Forecast (Low)'!AQ192","v":100.40406920856658},{"$f":"'[36]Com Forecast (Low)'!AR192","v":99.942210490207174},{"$f":"'[36]Com Forecast (Low)'!AS192","v":99.48247632195222},{"$f":"'[36]Com Forecast (Low)'!AT192","v":99.024856930871238},{"$f":"'[36]Com Forecast (Low)'!AU192","v":98.56934258898923},{"$f":"'[36]Com Forecast (Low)'!AV192","v":98.115923613079872},{"$f":"'[36]Com Forecast (Low)'!AW192","v":97.664590364459684},{"$f":"'[36]Com Forecast (Low)'!AX192","v":97.215333248783182},{"$f":"'[36]Com Forecast (Low)'!AY192","v":96.768142715838778},{"$f":"'[36]Com Forecast (Low)'!AZ192","v":96.323009259345909},{"$f":"'[36]Com Forecast (Low)'!BA192","v":95.879923416752916},{"$f":"'[36]Com Forecast (Low)'!BB192","v":95.438875769035846},{"$f":"'[36]Com Forecast (Low)'!BC192","v":94.999856940498276},{"$f":"'[36]Com Forecast (Low)'!BD192","v":94.562857598571981},{"$f":"'[36]Com Forecast (Low)'!BE192","v":94.127868453618547},{"$f":"'[36]Com Forecast (Low)'!BF192","v":93.694880258731885},{"$f":"'[36]Com Forecast (Low)'!BG192","v":93.26388380954171},{"$f":"'[36]Com Forecast (Low)'!BH192","v":92.834869944017825},{"$f":"'[36]Com Forecast (Low)'!BI192","v":92.407829542275337},{"$f":"'[36]Com Forecast (Low)'!BJ192","v":91.982753526380876}]
[null,{"$f":"B43","v":"Small Ret"},"Stock 2016",{"$f":"'[36]Com Forecast (Low)'!AQ193","v":111.74703101159992},{"$f":"'[36]Com Forecast (Low)'!AR193","v":111.23299466894655},{"$f":"'[36]Com Forecast (Low)'!AS193","v":110.72132289346939},{"$f":"'[36]Com Forecast (Low)'!AT193","v":110.21200480815943},{"$f":"'[36]Com Forecast (Low)'!AU193","v":109.70502958604189},{"$f":"'[36]Com Forecast (Low)'!AV193","v":109.20038644994609},{"$f":"'[36]Com Forecast (Low)'!AW193","v":108.69806467227633},{"$f":"'[36]Com Forecast (Low)'!AX193","v":108.19805357478386},{"$f":"'[36]Com Forecast (Low)'!AY193","v":107.70034252833985},{"$f":"'[36]Com Forecast (Low)'!AZ193","v":107.20492095270947},{"$f":"'[36]Com Forecast (Low)'!BA193","v":106.711778316327},{"$f":"'[36]Com Forecast (Low)'!BB193","v":106.22090413607189},{"$f":"'[36]Com Forecast (Low)'!BC193","v":105.73228797704596},{"$f":"'[36]Com Forecast (Low)'!BD193","v":105.24591945235153},{"$f":"'[36]Com Forecast (Low)'!BE193","v":104.76178822287072},{"$f":"'[36]Com Forecast (Low)'!BF193","v":104.2798839970455},{"$f":"'[36]Com Forecast (Low)'!BG193","v":103.80019653065909},{"$f":"'[36]Com Forecast (Low)'!BH193","v":103.32271562661805},{"$f":"'[36]Com Forecast (Low)'!BI193","v":102.84743113473559},{"$f":"'[36]Com Forecast (Low)'!BJ193","v":102.37433295151581}]
[null,{"$f":"B44","v":"School K-12"},"Stock 2016",{"$f":"'[36]Com Forecast (Low)'!AQ194","v":272.11549358988066},{"$f":"'[36]Com Forecast (Low)'!AR194","v":271.54405105334189},{"$f":"'[36]Com Forecast (Low)'!AS194","v":270.97380854612987},{"$f":"'[36]Com Forecast (Low)'!AT194","v":270.40476354818298},{"$f":"'[36]Com Forecast (Low)'!AU194","v":269.83691354473183},{"$f":"'[36]Com Forecast (Low)'!AV194","v":269.27025602628788},{"$f":"'[36]Com Forecast (Low)'!AW194","v":268.70478848863269},{"$f":"'[36]Com Forecast (Low)'!AX194","v":268.14050843280654},{"$f":"'[36]Com Forecast (Low)'!AY194","v":267.57741336509764},{"$f":"'[36]Com Forecast (Low)'!AZ194","v":267.01550079703094},{"$f":"'[36]Com Forecast (Low)'!BA194","v":266.45476824535717},{"$f":"'[36]Com Forecast (Low)'!BB194","v":265.8952132320419},{"$f":"'[36]Com Forecast (Low)'!BC194","v":265.33683328425462},{"$f":"'[36]Com Forecast (Low)'!BD194","v":264.77962593435768},{"$f":"'[36]Com Forecast (Low)'!BE194","v":264.22358871989559},{"$f":"'[36]Com Forecast (Low)'!BF194","v":263.66871918358379},{"$f":"'[36]Com Forecast (Low)'!BG194","v":263.11501487329826},{"$f":"'[36]Com Forecast (Low)'!BH194","v":262.56247334206432},{"$f":"'[36]Com Forecast (Low)'!BI194","v":262.01109214804598},{"$f":"'[36]Com Forecast (Low)'!BJ194","v":261.46086885453508}]
[null,{"$f":"B45","v":"University"},"Stock 2016",{"$f":"'[36]Com Forecast (Low)'!AQ195","v":133.38944990863411},{"$f":"'[36]Com Forecast (Low)'!AR195","v":133.06931522885338},{"$f":"'[36]Com Forecast (Low)'!AS195","v":132.74994887230412},{"$f":"'[36]Com Forecast (Low)'!AT195","v":132.43134899501064},{"$f":"'[36]Com Forecast (Low)'!AU195","v":132.1135137574226},{"$f":"'[36]Com Forecast (Low)'!AV195","v":131.79644132440478},{"$f":"'[36]Com Forecast (Low)'!AW195","v":131.48012986522622},{"$f":"'[36]Com Forecast (Low)'!AX195","v":131.16457755354969},{"$f":"'[36]Com Forecast (Low)'!AY195","v":130.84978256742119},{"$f":"'[36]Com Forecast (Low)'!AZ195","v":130.53574308925937},{"$f":"'[36]Com Forecast (Low)'!BA195","v":130.22245730584515},{"$f":"'[36]Com Forecast (Low)'!BB195","v":129.90992340831113},{"$f":"'[36]Com Forecast (Low)'!BC195","v":129.59813959213119},{"$f":"'[36]Com Forecast (Low)'!BD195","v":129.28710405711007},{"$f":"'[36]Com Forecast (Low)'!BE195","v":128.97681500737301},{"$f":"'[36]Com Forecast (Low)'!BF195","v":128.6672706513553},{"$f":"'[36]Com Forecast (Low)'!BG195","v":128.35846920179208},{"$f":"'[36]Com Forecast (Low)'!BH195","v":128.05040887570777},{"$f":"'[36]Com Forecast (Low)'!BI195","v":127.74308789440607},{"$f":"'[36]Com Forecast (Low)'!BJ195","v":127.4365044834595}]
[null,{"$f":"B46","v":"Warehouse"},"Stock 2016",{"$f":"'[36]Com Forecast (Low)'!AQ196","v":489.94779054978409},{"$f":"'[36]Com Forecast (Low)'!AR196","v":487.63523697838912},{"$f":"'[36]Com Forecast (Low)'!AS196","v":485.33359865985119},{"$f":"'[36]Com Forecast (Low)'!AT196","v":483.04282407417668},{"$f":"'[36]Com Forecast (Low)'!AU196","v":480.76286194454661},{"$f":"'[36]Com Forecast (Low)'!AV196","v":478.49366123616835},{"$f":"'[36]Com Forecast (Low)'!AW196","v":476.23517115513368},{"$f":"'[36]Com Forecast (Low)'!AX196","v":473.98734114728154},{"$f":"'[36]Com Forecast (Low)'!AY196","v":471.75012089706638},{"$f":"'[36]Com Forecast (Low)'!AZ196","v":469.52346032643226},{"$f":"'[36]Com Forecast (Low)'!BA196","v":467.30730959369151},{"$f":"'[36]Com Forecast (Low)'!BB196","v":465.10161909240929},{"$f":"'[36]Com Forecast (Low)'!BC196","v":462.90633945029316},{"$f":"'[36]Com Forecast (Low)'!BD196","v":460.72142152808783},{"$f":"'[36]Com Forecast (Low)'!BE196","v":458.54681641847526},{"$f":"'[36]Com Forecast (Low)'!BF196","v":456.38247544498006},{"$f":"'[36]Com Forecast (Low)'!BG196","v":454.22835016087981},{"$f":"'[36]Com Forecast (Low)'!BH196","v":452.08439234812045},{"$f":"'[36]Com Forecast (Low)'!BI196","v":449.95055401623733},{"$f":"'[36]Com Forecast (Low)'!BJ196","v":447.82678740128074}]
[null,{"$f":"B47","v":"Supermarket"},"Stock 2016",{"$f":"'[36]Com Forecast (Low)'!AQ197","v":52.012463132286499},{"$f":"'[36]Com Forecast (Low)'!AR197","v":51.766964306302107},{"$f":"'[36]Com Forecast (Low)'!AS197","v":51.522624234776359},{"$f":"'[36]Com Forecast (Low)'!AT197","v":51.279437448388222},{"$f":"'[36]Com Forecast (Low)'!AU197","v":51.037398503631835},{"$f":"'[36]Com Forecast (Low)'!AV197","v":50.7965019826947},{"$f":"'[36]Com Forecast (Low)'!AW197","v":50.55674249333638},{"$f":"'[36]Com Forecast (Low)'!AX197","v":50.318114668767834},{"$f":"'[36]Com Forecast (Low)'!AY197","v":50.080613167531247},{"$f":"'[36]Com Forecast (Low)'!AZ197","v":49.844232673380503},{"$f":"'[36]Com Forecast (Low)'!BA197","v":49.608967895162152},{"$f":"'[36]Com Forecast (Low)'!BB197","v":49.374813566696993},{"$f":"'[36]Com Forecast (Low)'!BC197","v":49.141764446662179},{"$f":"'[36]Com Forecast (Low)'!BD197","v":48.909815318473946},{"$f":"'[36]Com Forecast (Low)'!BE197","v":48.678960990170744},{"$f":"'[36]Com Forecast (Low)'!BF197","v":48.449196294297138},{"$f":"'[36]Com Forecast (Low)'!BG197","v":48.220516087788056},{"$f":"'[36]Com Forecast (Low)'!BH197","v":47.992915251853702},{"$f":"'[36]Com Forecast (Low)'!BI197","v":47.766388691864961},{"$f":"'[36]Com Forecast (Low)'!BJ197","v":47.540931337239357}]
[null,{"$f":"B48","v":"MiniMart"},"Stock 2016",{"$f":"'[36]Com Forecast (Low)'!AQ198","v":23.60165627856518},{"$f":"'[36]Com Forecast (Low)'!AR198","v":23.545012303496627},{"$f":"'[36]Com Forecast (Low)'!AS198","v":23.488504273968235},{"$f":"'[36]Com Forecast (Low)'!AT198","v":23.432131863710712},{"$f":"'[36]Com Forecast (Low)'!AU198","v":23.375894747237805},{"$f":"'[36]Com Forecast (Low)'!AV198","v":23.319792599844437},{"$f":"'[36]Com Forecast (Low)'!AW198","v":23.263825097604812},{"$f":"'[36]Com Forecast (Low)'!AX198","v":23.207991917370563},{"$f":"'[36]Com Forecast (Low)'!AY198","v":23.152292736768878},{"$f":"'[36]Com Forecast (Low)'!AZ198","v":23.096727234200628},{"$f":"'[36]Com Forecast (Low)'!BA198","v":23.041295088838545},{"$f":"'[36]Com Forecast (Low)'!BB198","v":22.985995980625336},{"$f":"'[36]Com Forecast (Low)'!BC198","v":22.930829590271834},{"$f":"'[36]Com Forecast (Low)'!BD198","v":22.875795599255184},{"$f":"'[36]Com Forecast (Low)'!BE198","v":22.82089368981697},{"$f":"'[36]Com Forecast (Low)'!BF198","v":22.76612354496141},{"$f":"'[36]Com Forecast (Low)'!BG198","v":22.711484848453502},{"$f":"'[36]Com Forecast (Low)'!BH198","v":22.656977284817216},{"$f":"'[36]Com Forecast (Low)'!BI198","v":22.602600539333658},{"$f":"'[36]Com Forecast (Low)'!BJ198","v":22.548354298039257}]
[null,{"$f":"B49","v":"Restaurant"},"Stock 2016",{"$f":"'[36]Com Forecast (Low)'!AQ199","v":51.844457025147285},{"$f":"'[36]Com Forecast (Low)'!AR199","v":51.377856911920958},{"$f":"'[36]Com Forecast (Low)'!AS199","v":50.915456199713667},{"$f":"'[36]Com Forecast (Low)'!AT199","v":50.457217093916242},{"$f":"'[36]Com Forecast (Low)'!AU199","v":50.003102140070993},{"$f":"'[36]Com Forecast (Low)'!AV199","v":49.553074220810359},{"$f":"'[36]Com Forecast (Low)'!AW199","v":49.107096552823059},{"$f":"'[36]Com Forecast (Low)'!AX199","v":48.665132683847652},{"$f":"'[36]Com Forecast (Low)'!AY199","v":48.227146489693027},{"$f":"'[36]Com Forecast (Low)'!AZ199","v":47.793102171285788},{"$f":"'[36]Com Forecast (Low)'!BA199","v":47.362964251744209},{"$f":"'[36]Com Forecast (Low)'!BB199","v":46.936697573478511},{"$f":"'[36]Com Forecast (Low)'!BC199","v":46.514267295317204},{"$f":"'[36]Com Forecast (Low)'!BD199","v":46.095638889659348},{"$f":"'[36]Com Forecast (Low)'!BE199","v":45.680778139652418},{"$f":"'[36]Com Forecast (Low)'!BF199","v":45.269651136395545},{"$f":"'[36]Com Forecast (Low)'!BG199","v":44.862224276167979},{"$f":"'[36]Com Forecast (Low)'!BH199","v":44.458464257682465},{"$f":"'[36]Com Forecast (Low)'!BI199","v":44.058338079363324},{"$f":"'[36]Com Forecast (Low)'!BJ199","v":43.66181303664905}]
[null,{"$f":"B50","v":"Lodging"},"Stock 2016",{"$f":"'[36]Com Forecast (Low)'!AQ200","v":184.6245949562699},{"$f":"'[36]Com Forecast (Low)'!AR200","v":183.94148395493167},{"$f":"'[36]Com Forecast (Low)'!AS200","v":183.26090046429843},{"$f":"'[36]Com Forecast (Low)'!AT200","v":182.58283513258053},{"$f":"'[36]Com Forecast (Low)'!AU200","v":181.90727864258994},{"$f":"'[36]Com Forecast (Low)'!AV200","v":181.23422171161238},{"$f":"'[36]Com Forecast (Low)'!AW200","v":180.5636550912794},{"$f":"'[36]Com Forecast (Low)'!AX200","v":179.89556956744164},{"$f":"'[36]Com Forecast (Low)'!AY200","v":179.22995596004213},{"$f":"'[36]Com Forecast (Low)'!AZ200","v":178.56680512298999},{"$f":"'[36]Com Forecast (Low)'!BA200","v":177.90610794403491},{"$f":"'[36]Com Forecast (Low)'!BB200","v":177.24785534464198},{"$f":"'[36]Com Forecast (Low)'!BC200","v":176.59203827986678},{"$f":"'[36]Com Forecast (Low)'!BD200","v":175.93864773823128},{"$f":"'[36]Com Forecast (Low)'!BE200","v":175.2876747415998},{"$f":"'[36]Com Forecast (Low)'!BF200","v":174.63911034505588},{"$f":"'[36]Com Forecast (Low)'!BG200","v":173.99294563677915},{"$f":"'[36]Com Forecast (Low)'!BH200","v":173.34917173792309},{"$f":"'[36]Com Forecast (Low)'!BI200","v":172.70777980249278},{"$f":"'[36]Com Forecast (Low)'!BJ200","v":172.06876101722352}]
[null,{"$f":"B51","v":"Hospital"},"Stock 2016",{"$f":"'[36]Com Forecast (Low)'!AQ201","v":113.50221963251342},{"$f":"'[36]Com Forecast (Low)'!AR201","v":113.03686053202011},{"$f":"'[36]Com Forecast (Low)'!AS201","v":112.57340940383882},{"$f":"'[36]Com Forecast (Low)'!AT201","v":112.11185842528309},{"$f":"'[36]Com Forecast (Low)'!AU201","v":111.65219980573941},{"$f":"'[36]Com Forecast (Low)'!AV201","v":111.1944257865359},{"$f":"'[36]Com Forecast (Low)'!AW201","v":110.7385286408111},{"$f":"'[36]Com Forecast (Low)'!AX201","v":110.28450067338377},{"$f":"'[36]Com Forecast (Low)'!AY201","v":109.8323342206229},{"$f":"'[36]Com Forecast (Low)'!AZ201","v":109.38202165031834},{"$f":"'[36]Com Forecast (Low)'!BA201","v":108.93355536155204},{"$f":"'[36]Com Forecast (Low)'!BB201","v":108.48692778456969},{"$f":"'[36]Com Forecast (Low)'!BC201","v":108.04213138065295},{"$f":"'[36]Com Forecast (Low)'!BD201","v":107.59915864199226},{"$f":"'[36]Com Forecast (Low)'!BE201","v":107.15800209156011},{"$f":"'[36]Com Forecast (Low)'!BF201","v":106.71865428298472},{"$f":"'[36]Com Forecast (Low)'!BG201","v":106.28110780042448},{"$f":"'[36]Com Forecast (Low)'!BH201","v":105.84535525844274},{"$f":"'[36]Com Forecast (Low)'!BI201","v":105.41138930188312},{"$f":"'[36]Com Forecast (Low)'!BJ201","v":104.9792026057454}]
[null,{"$f":"B52","v":"Residential Care"},"Stock 2016",{"$f":"'[36]Com Forecast (Low)'!AQ202","v":139.33091416745748},{"$f":"'[36]Com Forecast (Low)'!AR202","v":138.75965741937091},{"$f":"'[36]Com Forecast (Low)'!AS202","v":138.1907428239515},{"$f":"'[36]Com Forecast (Low)'!AT202","v":137.62416077837327},{"$f":"'[36]Com Forecast (Low)'!AU202","v":137.05990171918194},{"$f":"'[36]Com Forecast (Low)'!AV202","v":136.4979561221333},{"$f":"'[36]Com Forecast (Low)'!AW202","v":135.93831450203254},{"$f":"'[36]Com Forecast (Low)'!AX202","v":135.38096741257422},{"$f":"'[36]Com Forecast (Low)'!AY202","v":134.82590544618267},{"$f":"'[36]Com Forecast (Low)'!AZ202","v":134.27311923385332},{"$f":"'[36]Com Forecast (Low)'!BA202","v":133.7225994449945},{"$f":"'[36]Com Forecast (Low)'!BB202","v":133.17433678727002},{"$f":"'[36]Com Forecast (Low)'!BC202","v":132.62832200644223},{"$f":"'[36]Com Forecast (Low)'!BD202","v":132.08454588621584},{"$f":"'[36]Com Forecast (Low)'!BE202","v":131.54299924808231},{"$f":"'[36]Com Forecast (Low)'!BF202","v":131.00367295116519},{"$f":"'[36]Com Forecast (Low)'!BG202","v":130.4665578920654},{"$f":"'[36]Com Forecast (Low)'!BH202","v":129.93164500470795},{"$f":"'[36]Com Forecast (Low)'!BI202","v":129.39892526018866},{"$f":"'[36]Com Forecast (Low)'!BJ202","v":128.86838966662188}]
[null,{"$f":"B53","v":"Assembly"},"Stock 2016",{"$f":"'[36]Com Forecast (Low)'!AQ203","v":374.0830802363385},{"$f":"'[36]Com Forecast (Low)'!AR203","v":372.40469414967811},{"$f":"'[36]Com Forecast (Low)'!AS203","v":370.73383842192658},{"$f":"'[36]Com Forecast (Low)'!AT203","v":369.07047926687358},{"$f":"'[36]Com Forecast (Low)'!AU203","v":367.41458304989618},{"$f":"'[36]Com Forecast (Low)'!AV203","v":365.76611628727898},{"$f":"'[36]Com Forecast (Low)'!AW203","v":364.12504564553672},{"$f":"'[36]Com Forecast (Low)'!AX203","v":362.49133794074038},{"$f":"'[36]Com Forecast (Low)'!AY203","v":360.86496013784631},{"$f":"'[36]Com Forecast (Low)'!AZ203","v":359.24587935002785},{"$f":"'[36]Com Forecast (Low)'!BA203","v":357.63406283801066},{"$f":"'[36]Com Forecast (Low)'!BB203","v":356.02947800941081},{"$f":"'[36]Com Forecast (Low)'!BC203","v":354.43209241807529},{"$f":"'[36]Com Forecast (Low)'!BD203","v":352.84187376342618},{"$f":"'[36]Com Forecast (Low)'!BE203","v":351.25878988980764},{"$f":"'[36]Com Forecast (Low)'!BF203","v":349.68280878583539},{"$f":"'[36]Com Forecast (Low)'!BG203","v":348.11389858374957},{"$f":"'[36]Com Forecast (Low)'!BH203","v":346.55202755877053},{"$f":"'[36]Com Forecast (Low)'!BI203","v":344.99716412845686},{"$f":"'[36]Com Forecast (Low)'!BJ203","v":343.44927685206721}]
[null,{"$f":"B54","v":"Other"},{"$f":"C54","v":"Stock 2016"},{"$f":"'[36]Com Forecast (Low)'!AQ204","v":368.64569216265329},{"$f":"'[36]Com Forecast (Low)'!AR204","v":365.32788093318936},{"$f":"'[36]Com Forecast (Low)'!AS204","v":362.03993000479068},{"$f":"'[36]Com Forecast (Low)'!AT204","v":358.7815706347476},{"$f":"'[36]Com Forecast (Low)'!AU204","v":355.55253649903483},{"$f":"'[36]Com Forecast (Low)'!AV204","v":352.35256367054353},{"$f":"'[36]Com Forecast (Low)'!AW204","v":349.18139059750865},{"$f":"'[36]Com Forecast (Low)'!AX204","v":346.03875808213104},{"$f":"'[36]Com Forecast (Low)'!AY204","v":342.92440925939184},{"$f":"'[36]Com Forecast (Low)'!AZ204","v":339.83808957605731},{"$f":"'[36]Com Forecast (Low)'!BA204","v":336.77954676987281},{"$f":"'[36]Com Forecast (Low)'!BB204","v":333.74853084894391},{"$f":"'[36]Com Forecast (Low)'!BC204","v":330.74479407130343},{"$f":"'[36]Com Forecast (Low)'!BD204","v":327.76809092466175},{"$f":"'[36]Com Forecast (Low)'!BE204","v":324.81817810633981},{"$f":"'[36]Com Forecast (Low)'!BF204","v":321.89481450338269},{"$f":"'[36]Com Forecast (Low)'!BG204","v":318.99776117285228},{"$f":"'[36]Com Forecast (Low)'!BH204","v":316.12678132229661},{"$f":"'[36]Com Forecast (Low)'!BI204","v":313.2816402903959},{"$f":"'[36]Com Forecast (Low)'!BJ204","v":310.46210552778234}]
[]
[null,"Sum","New",{"$f":"SUM(D60:D77)","v":28.537900000000018},{"$f":"SUM(E60:E77)","v":38.420899999999989},34.443500000000014,35.504800000000046,42.187299999999951,54.464700000000029,59.181900000000034,53.729799999999926,63.019799999999989,58.929799999999943,64.760400000000132,62.149399999999993,55.846999999999895,54.242699999999985,55.520300000000084,60.12989999999995,66.43030000000013,70.680899999999923,67.877999999999915,66.793700000000143]
[null,"Sum","Existing",{"$f":"SUM(D78:D95)","v":3556.3000472426152},{"$f":"SUM(E78:E95)","v":3540.6449409662055},3525.0714504449411,3509.5790705032987,3494.1672995791614,3478.8356396952272,3463.5835964306689,3448.4106788930317,3433.316399690365,3418.3002749035886,3403.3618240590918,3388.5005701015561,3373.7160393670201,3359.0077615561527,3344.3752697077639,3329.8181001725329,3315.335792586955,3300.9278898475054,3286.5939380850268,3272.3334866393234]
[]
["High",null,null,{"$f":"'[36]Com Forecast (Base Case)'!AQ$12","v":2022},{"$f":"'[36]Com Forecast (Base Case)'!AR$12","v":2023},{"$f":"'[36]Com Forecast (Base Case)'!AS$12","v":2024},{"$f":"'[36]Com Forecast (Base Case)'!AT$12","v":2025},{"$f":"'[36]Com Forecast (Base Case)'!AU$12","v":2026},{"$f":"'[36]Com Forecast (Base Case)'!AV$12","v":2027},{"$f":"'[36]Com Forecast (Base Case)'!AW$12","v":2028},{"$f":"'[36]Com Forecast (Base Case)'!AX$12","v":2029},{"$f":"'[36]Com Forecast (Base Case)'!AY$12","v":2030},{"$f":"'[36]Com Forecast (Base Case)'!AZ$12","v":2031},{"$f":"'[36]Com Forecast (Base Case)'!BA$12","v":2032},{"$f":"'[36]Com Forecast (Base Case)'!BB$12","v":2033},{"$f":"'[36]Com Forecast (Base Case)'!BC$12","v":2034},{"$f":"'[36]Com Forecast (Base Case)'!BD$12","v":2035},{"$f":"'[36]Com Forecast (Base Case)'!BE$12","v":2036},{"$f":"'[36]Com Forecast (Base Case)'!BF$12","v":2037},{"$f":"'[36]Com Forecast (Base Case)'!BG$12","v":2038},{"$f":"'[36]Com Forecast (Base Case)'!BH$12","v":2039},{"$f":"'[36]Com Forecast (Base Case)'!BI$12","v":2040},{"$f":"'[36]Com Forecast (Base Case)'!BJ$12","v":2041}]
[null,{"$f":"B60","v":"Large Off"},{"$f":"C60","v":"New"},{"$f":"'[36]Com Forecast (High)'!AQ169","v":6.9504000000000019},{"$f":"'[36]Com Forecast (High)'!AR169","v":6.4327000000000112},{"$f":"'[36]Com Forecast (High)'!AS169","v":5.089999999999975},{"$f":"'[36]Com Forecast (High)'!AT169","v":4.7934000000000196},{"$f":"'[36]Com Forecast (High)'!AU169","v":5.3215000000000146},{"$f":"'[36]Com Forecast (High)'!AV169","v":6.1962999999999511},{"$f":"'[36]Com Forecast (High)'!AW169","v":5.851600000000019},{"$f":"'[36]Com Forecast (High)'!AX169","v":6.3724000000000274},{"$f":"'[36]Com Forecast (High)'!AY169","v":6.9213999999999487},{"$f":"'[36]Com Forecast (High)'!AZ169","v":6.6241000000000554},{"$f":"'[36]Com Forecast (High)'!BA169","v":7.1242999999999483},{"$f":"'[36]Com Forecast (High)'!BB169","v":7.3903000000000247},{"$f":"'[36]Com Forecast (High)'!BC169","v":7.0613999999999919},{"$f":"'[36]Com Forecast (High)'!BD169","v":8.1231999999999971},{"$f":"'[36]Com Forecast (High)'!BE169","v":8.0285000000000082},{"$f":"'[36]Com Forecast (High)'!BF169","v":8.7101999999999862},{"$f":"'[36]Com Forecast (High)'!BG169","v":8.8356999999999744},{"$f":"'[36]Com Forecast (High)'!BH169","v":9.8396999999999935},{"$f":"'[36]Com Forecast (High)'!BI169","v":8.6299000000000206},{"$f":"'[36]Com Forecast (High)'!BJ169","v":8.7939000000000078}]
[null,{"$f":"B61","v":"Medium Off"},"New",{"$f":"'[36]Com Forecast (High)'!AQ170","v":4.9068999999999789},{"$f":"'[36]Com Forecast (High)'!AR170","v":4.6765000000000043},{"$f":"'[36]Com Forecast (High)'!AS170","v":3.7222000000000151},{"$f":"'[36]Com Forecast (High)'!AT170","v":3.272199999999998},{"$f":"'[36]Com Forecast (High)'!AU170","v":3.5975999999999999},{"$f":"'[36]Com Forecast (High)'!AV170","v":4.4490999999999872},{"$f":"'[36]Com Forecast (High)'!AW170","v":4.273699999999991},{"$f":"'[36]Com Forecast (High)'!AX170","v":4.6728000000000236},{"$f":"'[36]Com Forecast (High)'!AY170","v":5.0634000000000015},{"$f":"'[36]Com Forecast (High)'!AZ170","v":4.6503999999999621},{"$f":"'[36]Com Forecast (High)'!BA170","v":5.2145000000000437},{"$f":"'[36]Com Forecast (High)'!BB170","v":5.4291000000000054},{"$f":"'[36]Com Forecast (High)'!BC170","v":5.0088999999999828},{"$f":"'[36]Com Forecast (High)'!BD170","v":5.9271999999999707},{"$f":"'[36]Com Forecast (High)'!BE170","v":5.5381000000000427},{"$f":"'[36]Com Forecast (High)'!BF170","v":6.2035999999999945},{"$f":"'[36]Com Forecast (High)'!BG170","v":6.2441000000000031},{"$f":"'[36]Com Forecast (High)'!BH170","v":6.9338999999999942},{"$f":"'[36]Com Forecast (High)'!BI170","v":5.9030999999999949},{"$f":"'[36]Com Forecast (High)'!BJ170","v":6.0899000000000001}]
[null,{"$f":"B62","v":"Small Off"},"New",{"$f":"'[36]Com Forecast (High)'!AQ171","v":1.9381999999999948},{"$f":"'[36]Com Forecast (High)'!AR171","v":1.767799999999994},{"$f":"'[36]Com Forecast (High)'!AS171","v":1.4028000000000134},{"$f":"'[36]Com Forecast (High)'!AT171","v":1.2673000000000059},{"$f":"'[36]Com Forecast (High)'!AU171","v":1.5257000000000005},{"$f":"'[36]Com Forecast (High)'!AV171","v":1.8132999999999981},{"$f":"'[36]Com Forecast (High)'!AW171","v":1.4947999999999979},{"$f":"'[36]Com Forecast (High)'!AX171","v":1.5855999999999995},{"$f":"'[36]Com Forecast (High)'!AY171","v":1.7890999999999906},{"$f":"'[36]Com Forecast (High)'!AZ171","v":1.6462000000000216},{"$f":"'[36]Com Forecast (High)'!BA171","v":1.8459000000000003},{"$f":"'[36]Com Forecast (High)'!BB171","v":1.9265999999999792},{"$f":"'[36]Com Forecast (High)'!BC171","v":1.9036000000000115},{"$f":"'[36]Com Forecast (High)'!BD171","v":2.2283999999999935},{"$f":"'[36]Com Forecast (High)'!BE171","v":2.0940999999999974},{"$f":"'[36]Com Forecast (High)'!BF171","v":2.2926999999999964},{"$f":"'[36]Com Forecast (High)'!BG171","v":2.3200000000000216},{"$f":"'[36]Com Forecast (High)'!BH171","v":2.5034999999999741},{"$f":"'[36]Com Forecast (High)'!BI171","v":2.3237000000000023},{"$f":"'[36]Com Forecast (High)'!BJ171","v":2.2678000000000225}]
[null,{"$f":"B63","v":"XLarge Ret"},"New",{"$f":"'[36]Com Forecast (High)'!AQ172","v":1.9950000000000045},{"$f":"'[36]Com Forecast (High)'!AR172","v":1.7066000000000088},{"$f":"'[36]Com Forecast (High)'!AS172","v":1.8766999999999996},{"$f":"'[36]Com Forecast (High)'!AT172","v":2.4954999999999927},{"$f":"'[36]Com Forecast (High)'!AU172","v":2.609499999999997},{"$f":"'[36]Com Forecast (High)'!AV172","v":3.3813000000000102},{"$f":"'[36]Com Forecast (High)'!AW172","v":2.9935999999999865},{"$f":"'[36]Com Forecast (High)'!AX172","v":2.3678000000000168},{"$f":"'[36]Com Forecast (High)'!AY172","v":3.6197999999999979},{"$f":"'[36]Com Forecast (High)'!AZ172","v":3.2896999999999821},{"$f":"'[36]Com Forecast (High)'!BA172","v":3.6365000000000123},{"$f":"'[36]Com Forecast (High)'!BB172","v":3.3284999999999911},{"$f":"'[36]Com Forecast (High)'!BC172","v":3.7006000000000085},{"$f":"'[36]Com Forecast (High)'!BD172","v":3.7811000000000092},{"$f":"'[36]Com Forecast (High)'!BE172","v":3.7235000000000014},{"$f":"'[36]Com Forecast (High)'!BF172","v":3.7449000000000012},{"$f":"'[36]Com Forecast (High)'!BG172","v":3.9019999999999868},{"$f":"'[36]Com Forecast (High)'!BH172","v":3.5494999999999948},{"$f":"'[36]Com Forecast (High)'!BI172","v":3.695999999999998},{"$f":"'[36]Com Forecast (High)'!BJ172","v":3.5343000000000018}]
[null,{"$f":"B64","v":"Large Ret"},"New",{"$f":"'[36]Com Forecast (High)'!AQ173","v":2.3034000000000106},{"$f":"'[36]Com Forecast (High)'!AR173","v":1.8812000000000069},{"$f":"'[36]Com Forecast (High)'!AS173","v":1.7614999999999839},{"$f":"'[36]Com Forecast (High)'!AT173","v":1.9376000000000033},{"$f":"'[36]Com Forecast (High)'!AU173","v":2.2771999999999935},{"$f":"'[36]Com Forecast (High)'!AV173","v":2.7347000000000037},{"$f":"'[36]Com Forecast (High)'!AW173","v":2.0985000000000014},{"$f":"'[36]Com Forecast (High)'!AX173","v":1.7660999999999945},{"$f":"'[36]Com Forecast (High)'!AY173","v":2.5438000000000045},{"$f":"'[36]Com Forecast (High)'!AZ173","v":2.3174999999999955},{"$f":"'[36]Com Forecast (High)'!BA173","v":2.5448000000000093},{"$f":"'[36]Com Forecast (High)'!BB173","v":2.341700000000003},{"$f":"'[36]Com Forecast (High)'!BC173","v":2.6037000000000035},{"$f":"'[36]Com Forecast (High)'!BD173","v":2.8149999999999977},{"$f":"'[36]Com Forecast (High)'!BE173","v":2.6501999999999839},{"$f":"'[36]Com Forecast (High)'!BF173","v":2.7069000000000187},{"$f":"'[36]Com Forecast (High)'!BG173","v":2.7536000000000058},{"$f":"'[36]Com Forecast (High)'!BH173","v":2.6318999999999733},{"$f":"'[36]Com Forecast (High)'!BI173","v":2.8210000000000264},{"$f":"'[36]Com Forecast (High)'!BJ173","v":2.6662999999999784}]
[null,{"$f":"B65","v":"Medium Ret"},"New",{"$f":"'[36]Com Forecast (High)'!AQ174","v":2.0721999999999952},{"$f":"'[36]Com Forecast (High)'!AR174","v":1.8851999999999975},{"$f":"'[36]Com Forecast (High)'!AS174","v":2.1788000000000096},{"$f":"'[36]Com Forecast (High)'!AT174","v":3.1236999999999995},{"$f":"'[36]Com Forecast (High)'!AU174","v":3.0631999999999948},{"$f":"'[36]Com Forecast (High)'!AV174","v":4.1252999999999957},{"$f":"'[36]Com Forecast (High)'!AW174","v":3.843900000000005},{"$f":"'[36]Com Forecast (High)'!AX174","v":3.0364000000000146},{"$f":"'[36]Com Forecast (High)'!AY174","v":4.7015999999999849},{"$f":"'[36]Com Forecast (High)'!AZ174","v":4.2683000000000106},{"$f":"'[36]Com Forecast (High)'!BA174","v":4.7548999999999921},{"$f":"'[36]Com Forecast (High)'!BB174","v":4.3582999999999856},{"$f":"'[36]Com Forecast (High)'!BC174","v":4.7848000000000184},{"$f":"'[36]Com Forecast (High)'!BD174","v":4.7897999999999854},{"$f":"'[36]Com Forecast (High)'!BE174","v":4.7644999999999982},{"$f":"'[36]Com Forecast (High)'!BF174","v":4.7864000000000146},{"$f":"'[36]Com Forecast (High)'!BG174","v":4.9969000000000108},{"$f":"'[36]Com Forecast (High)'!BH174","v":4.4771999999999821},{"$f":"'[36]Com Forecast (High)'!BI174","v":4.5604000000000156},{"$f":"'[36]Com Forecast (High)'!BJ174","v":4.3215999999999894}]
[null,{"$f":"B66","v":"Small Ret"},"New",{"$f":"'[36]Com Forecast (High)'!AQ175","v":1.3673000000000002},{"$f":"'[36]Com Forecast (High)'!AR175","v":1.1333999999999946},{"$f":"'[36]Com Forecast (High)'!AS175","v":1.1413000000000011},{"$f":"'[36]Com Forecast (High)'!AT175","v":1.3765000000000072},{"$f":"'[36]Com Forecast (High)'!AU175","v":1.515900000000002},{"$f":"'[36]Com Forecast (High)'!AV175","v":1.9150999999999954},{"$f":"'[36]Com Forecast (High)'!AW175","v":1.593199999999996},{"$f":"'[36]Com Forecast (High)'!AX175","v":1.2920000000000016},{"$f":"'[36]Com Forecast (High)'!AY175","v":1.936000000000007},{"$f":"'[36]Com Forecast (High)'!AZ175","v":1.7711999999999932},{"$f":"'[36]Com Forecast (High)'!BA175","v":1.9544999999999959},{"$f":"'[36]Com Forecast (High)'!BB175","v":1.8109000000000037},{"$f":"'[36]Com Forecast (High)'!BC175","v":1.9980999999999938},{"$f":"'[36]Com Forecast (High)'!BD175","v":2.0874000000000024},{"$f":"'[36]Com Forecast (High)'!BE175","v":2.0126000000000204},{"$f":"'[36]Com Forecast (High)'!BF175","v":2.0357999999999947},{"$f":"'[36]Com Forecast (High)'!BG175","v":2.1037999999999784},{"$f":"'[36]Com Forecast (High)'!BH175","v":1.947400000000016},{"$f":"'[36]Com Forecast (High)'!BI175","v":2.044399999999996},{"$f":"'[36]Com Forecast (High)'!BJ175","v":1.9147000000000105}]
[null,{"$f":"B67","v":"School K-12"},"New",{"$f":"'[36]Com Forecast (High)'!AQ176","v":3.8985000000000127},{"$f":"'[36]Com Forecast (High)'!AR176","v":3.2955000000000041},{"$f":"'[36]Com Forecast (High)'!AS176","v":2.8159999999999741},{"$f":"'[36]Com Forecast (High)'!AT176","v":2.7789999999999964},{"$f":"'[36]Com Forecast (High)'!AU176","v":3.5097000000000094},{"$f":"'[36]Com Forecast (High)'!AV176","v":3.4788000000000352},{"$f":"'[36]Com Forecast (High)'!AW176","v":2.2850999999999999},{"$f":"'[36]Com Forecast (High)'!AX176","v":2.1176999999999566},{"$f":"'[36]Com Forecast (High)'!AY176","v":2.5796000000000276},{"$f":"'[36]Com Forecast (High)'!AZ176","v":2.2323000000000093},{"$f":"'[36]Com Forecast (High)'!BA176","v":2.3648000000000025},{"$f":"'[36]Com Forecast (High)'!BB176","v":2.6291999999999689},{"$f":"'[36]Com Forecast (High)'!BC176","v":2.95150000000001},{"$f":"'[36]Com Forecast (High)'!BD176","v":3.3466999999999985},{"$f":"'[36]Com Forecast (High)'!BE176","v":3.1478999999999928},{"$f":"'[36]Com Forecast (High)'!BF176","v":3.2271000000000072},{"$f":"'[36]Com Forecast (High)'!BG176","v":3.1782999999999788},{"$f":"'[36]Com Forecast (High)'!BH176","v":3.3243000000000507},{"$f":"'[36]Com Forecast (High)'!BI176","v":3.6304999999999836},{"$f":"'[36]Com Forecast (High)'!BJ176","v":3.3245000000000005}]
[null,{"$f":"B68","v":"University"},"New",{"$f":"'[36]Com Forecast (High)'!AQ177","v":1.7280000000000086},{"$f":"'[36]Com Forecast (High)'!AR177","v":1.4034000000000049},{"$f":"'[36]Com Forecast (High)'!AS177","v":1.2699999999999818},{"$f":"'[36]Com Forecast (High)'!AT177","v":1.2276999999999987},{"$f":"'[36]Com Forecast (High)'!AU177","v":1.6648000000000138},{"$f":"'[36]Com Forecast (High)'!AV177","v":1.6809999999999832},{"$f":"'[36]Com Forecast (High)'!AW177","v":1.083500000000015},{"$f":"'[36]Com Forecast (High)'!AX177","v":0.97630000000000905},{"$f":"'[36]Com Forecast (High)'!AY177","v":1.0670999999999822},{"$f":"'[36]Com Forecast (High)'!AZ177","v":0.94610000000000127},{"$f":"'[36]Com Forecast (High)'!BA177","v":0.97499999999999432},{"$f":"'[36]Com Forecast (High)'!BB177","v":1.0527000000000157},{"$f":"'[36]Com Forecast (High)'!BC177","v":1.1596999999999866},{"$f":"'[36]Com Forecast (High)'!BD177","v":1.4040999999999997},{"$f":"'[36]Com Forecast (High)'!BE177","v":1.3734000000000037},{"$f":"'[36]Com Forecast (High)'!BF177","v":1.46520000000001},{"$f":"'[36]Com Forecast (High)'!BG177","v":1.4312999999999931},{"$f":"'[36]Com Forecast (High)'!BH177","v":1.5414000000000101},{"$f":"'[36]Com Forecast (High)'!BI177","v":1.595799999999997},{"$f":"'[36]Com Forecast (High)'!BJ177","v":1.5202999999999918}]
[null,{"$f":"B69","v":"Warehouse"},"New",{"$f":"'[36]Com Forecast (High)'!AQ178","v":5.4864000000000033},{"$f":"'[36]Com Forecast (High)'!AR178","v":5.5339999999999918},{"$f":"'[36]Com Forecast (High)'!AS178","v":4.716899999999896},{"$f":"'[36]Com Forecast (High)'!AT178","v":4.766800000000103},{"$f":"'[36]Com Forecast (High)'!AU178","v":5.0137999999999465},{"$f":"'[36]Com Forecast (High)'!AV178","v":6.2419999999999618},{"$f":"'[36]Com Forecast (High)'!AW178","v":4.6346000000000913},{"$f":"'[36]Com Forecast (High)'!AX178","v":3.6503999999999905},{"$f":"'[36]Com Forecast (High)'!AY178","v":4.6364999999999554},{"$f":"'[36]Com Forecast (High)'!AZ178","v":4.3188999999999851},{"$f":"'[36]Com Forecast (High)'!BA178","v":4.4759999999999991},{"$f":"'[36]Com Forecast (High)'!BB178","v":4.0918000000000347},{"$f":"'[36]Com Forecast (High)'!BC178","v":4.3934000000000424},{"$f":"'[36]Com Forecast (High)'!BD178","v":5.5349999999999682},{"$f":"'[36]Com Forecast (High)'!BE178","v":5.0692999999999984},{"$f":"'[36]Com Forecast (High)'!BF178","v":5.8795000000000073},{"$f":"'[36]Com Forecast (High)'!BG178","v":5.2288999999999533},{"$f":"'[36]Com Forecast (High)'!BH178","v":5.4144000000000005},{"$f":"'[36]Com Forecast (High)'!BI178","v":5.72950000000003},{"$f":"'[36]Com Forecast (High)'!BJ178","v":5.232599999999934}]
[null,{"$f":"B70","v":"Supermarket"},"New",{"$f":"'[36]Com Forecast (High)'!AQ179","v":0.80519999999999925},{"$f":"'[36]Com Forecast (High)'!AR179","v":0.7085000000000008},{"$f":"'[36]Com Forecast (High)'!AS179","v":0.6150999999999982},{"$f":"'[36]Com Forecast (High)'!AT179","v":0.62189999999999657},{"$f":"'[36]Com Forecast (High)'!AU179","v":0.82140000000000413},{"$f":"'[36]Com Forecast (High)'!AV179","v":0.94989999999999952},{"$f":"'[36]Com Forecast (High)'!AW179","v":0.72860000000000014},{"$f":"'[36]Com Forecast (High)'!AX179","v":0.61609999999999587},{"$f":"'[36]Com Forecast (High)'!AY179","v":0.90270000000000294},{"$f":"'[36]Com Forecast (High)'!AZ179","v":0.78849999999999909},{"$f":"'[36]Com Forecast (High)'!BA179","v":0.90469999999999828},{"$f":"'[36]Com Forecast (High)'!BB179","v":0.78589999999999804},{"$f":"'[36]Com Forecast (High)'!BC179","v":0.9544000000000068},{"$f":"'[36]Com Forecast (High)'!BD179","v":1.0395000000000039},{"$f":"'[36]Com Forecast (High)'!BE179","v":1.0145999999999873},{"$f":"'[36]Com Forecast (High)'!BF179","v":1.03840000000001},{"$f":"'[36]Com Forecast (High)'!BG179","v":1.0797999999999917},{"$f":"'[36]Com Forecast (High)'!BH179","v":0.95369999999999777},{"$f":"'[36]Com Forecast (High)'!BI179","v":1.0416000000000025},{"$f":"'[36]Com Forecast (High)'!BJ179","v":0.94850000000000989}]
[null,{"$f":"B71","v":"MiniMart"},"New",{"$f":"'[36]Com Forecast (High)'!AQ180","v":0.27529999999999788},{"$f":"'[36]Com Forecast (High)'!AR180","v":0.22940000000000182},{"$f":"'[36]Com Forecast (High)'!AS180","v":0.18959999999999866},{"$f":"'[36]Com Forecast (High)'!AT180","v":0.18590000000000018},{"$f":"'[36]Com Forecast (High)'!AU180","v":0.42880000000000251},{"$f":"'[36]Com Forecast (High)'!AV180","v":0.4964999999999975},{"$f":"'[36]Com Forecast (High)'!AW180","v":0.38380000000000081},{"$f":"'[36]Com Forecast (High)'!AX180","v":0.32699999999999818},{"$f":"'[36]Com Forecast (High)'!AY180","v":0.46330000000000027},{"$f":"'[36]Com Forecast (High)'!AZ180","v":0.41319999999999979},{"$f":"'[36]Com Forecast (High)'!BA180","v":0.44260000000000232},{"$f":"'[36]Com Forecast (High)'!BB180","v":0.42239999999999966},{"$f":"'[36]Com Forecast (High)'!BC180","v":0.46569999999999823},{"$f":"'[36]Com Forecast (High)'!BD180","v":0.5149000000000008},{"$f":"'[36]Com Forecast (High)'!BE180","v":0.48959999999999937},{"$f":"'[36]Com Forecast (High)'!BF180","v":0.49370000000000047},{"$f":"'[36]Com Forecast (High)'!BG180","v":0.51200000000000401},{"$f":"'[36]Com Forecast (High)'!BH180","v":0.47399999999999665},{"$f":"'[36]Com Forecast (High)'!BI180","v":0.51389999999999958},{"$f":"'[36]Com Forecast (High)'!BJ180","v":0.50180000000000291}]
[null,{"$f":"B72","v":"Restaurant"},"New",{"$f":"'[36]Com Forecast (High)'!AQ181","v":1.2704999999999984},{"$f":"'[36]Com Forecast (High)'!AR181","v":1.0659000000000063},{"$f":"'[36]Com Forecast (High)'!AS181","v":0.93289999999999651},{"$f":"'[36]Com Forecast (High)'!AT181","v":0.92779999999999774},{"$f":"'[36]Com Forecast (High)'!AU181","v":1.1330000000000027},{"$f":"'[36]Com Forecast (High)'!AV181","v":1.2848000000000042},{"$f":"'[36]Com Forecast (High)'!AW181","v":1.0279000000000025},{"$f":"'[36]Com Forecast (High)'!AX181","v":0.81749999999999545},{"$f":"'[36]Com Forecast (High)'!AY181","v":1.2794999999999987},{"$f":"'[36]Com Forecast (High)'!AZ181","v":1.1252999999999957},{"$f":"'[36]Com Forecast (High)'!BA181","v":1.3503000000000043},{"$f":"'[36]Com Forecast (High)'!BB181","v":1.2025000000000006},{"$f":"'[36]Com Forecast (High)'!BC181","v":1.4930999999999983},{"$f":"'[36]Com Forecast (High)'!BD181","v":1.4591000000000065},{"$f":"'[36]Com Forecast (High)'!BE181","v":1.5447999999999951},{"$f":"'[36]Com Forecast (High)'!BF181","v":1.5411000000000001},{"$f":"'[36]Com Forecast (High)'!BG181","v":1.6918000000000006},{"$f":"'[36]Com Forecast (High)'!BH181","v":1.5566999999999922},{"$f":"'[36]Com Forecast (High)'!BI181","v":1.7336000000000098},{"$f":"'[36]Com Forecast (High)'!BJ181","v":1.4468999999999994}]
[null,{"$f":"B73","v":"Lodging"},"New",{"$f":"'[36]Com Forecast (High)'!AQ182","v":3.0243000000000109},{"$f":"'[36]Com Forecast (High)'!AR182","v":2.3352999999999895},{"$f":"'[36]Com Forecast (High)'!AS182","v":1.842899999999986},{"$f":"'[36]Com Forecast (High)'!AT182","v":1.8165000000000191},{"$f":"'[36]Com Forecast (High)'!AU182","v":2.4838000000000022},{"$f":"'[36]Com Forecast (High)'!AV182","v":2.8940999999999804},{"$f":"'[36]Com Forecast (High)'!AW182","v":2.0886000000000138},{"$f":"'[36]Com Forecast (High)'!AX182","v":1.6033999999999935},{"$f":"'[36]Com Forecast (High)'!AY182","v":2.7042000000000144},{"$f":"'[36]Com Forecast (High)'!AZ182","v":2.1824999999999761},{"$f":"'[36]Com Forecast (High)'!BA182","v":2.8030000000000257},{"$f":"'[36]Com Forecast (High)'!BB182","v":2.378799999999984},{"$f":"'[36]Com Forecast (High)'!BC182","v":3.3129000000000133},{"$f":"'[36]Com Forecast (High)'!BD182","v":3.0153999999999996},{"$f":"'[36]Com Forecast (High)'!BE182","v":3.5115999999999872},{"$f":"'[36]Com Forecast (High)'!BF182","v":3.4458999999999946},{"$f":"'[36]Com Forecast (High)'!BG182","v":3.6059000000000196},{"$f":"'[36]Com Forecast (High)'!BH182","v":3.5156999999999812},{"$f":"'[36]Com Forecast (High)'!BI182","v":4.1744999999999948},{"$f":"'[36]Com Forecast (High)'!BJ182","v":3.2417000000000087}]
[null,{"$f":"B74","v":"Hospital"},"New",{"$f":"'[36]Com Forecast (High)'!AQ183","v":4.2653999999999996},{"$f":"'[36]Com Forecast (High)'!AR183","v":4.9047999999999945},{"$f":"'[36]Com Forecast (High)'!AS183","v":5.1305000000000121},{"$f":"'[36]Com Forecast (High)'!AT183","v":4.8566999999999894},{"$f":"'[36]Com Forecast (High)'!AU183","v":5.9685000000000059},{"$f":"'[36]Com Forecast (High)'!AV183","v":6.8383000000000038},{"$f":"'[36]Com Forecast (High)'!AW183","v":5.7920000000000016},{"$f":"'[36]Com Forecast (High)'!AX183","v":4.7716000000000065},{"$f":"'[36]Com Forecast (High)'!AY183","v":5.1338999999999828},{"$f":"'[36]Com Forecast (High)'!AZ183","v":5.3403000000000134},{"$f":"'[36]Com Forecast (High)'!BA183","v":5.1451999999999884},{"$f":"'[36]Com Forecast (High)'!BB183","v":4.9241000000000099},{"$f":"'[36]Com Forecast (High)'!BC183","v":4.7404999999999973},{"$f":"'[36]Com Forecast (High)'!BD183","v":4.9468999999999994},{"$f":"'[36]Com Forecast (High)'!BE183","v":4.980700000000013},{"$f":"'[36]Com Forecast (High)'!BF183","v":5.6173000000000002},{"$f":"'[36]Com Forecast (High)'!BG183","v":5.6709999999999923},{"$f":"'[36]Com Forecast (High)'!BH183","v":5.7340999999999838},{"$f":"'[36]Com Forecast (High)'!BI183","v":6.1315000000000168},{"$f":"'[36]Com Forecast (High)'!BJ183","v":6.1132999999999811}]
[null,{"$f":"B75","v":"Residential Care"},"New",{"$f":"'[36]Com Forecast (High)'!AQ184","v":3.9373999999999967},{"$f":"'[36]Com Forecast (High)'!AR184","v":3.8543999999999983},{"$f":"'[36]Com Forecast (High)'!AS184","v":3.8007000000000062},{"$f":"'[36]Com Forecast (High)'!AT184","v":4.1879999999999882},{"$f":"'[36]Com Forecast (High)'!AU184","v":4.8940000000000055},{"$f":"'[36]Com Forecast (High)'!AV184","v":5.5674999999999955},{"$f":"'[36]Com Forecast (High)'!AW184","v":4.2981000000000051},{"$f":"'[36]Com Forecast (High)'!AX184","v":3.5754000000000019},{"$f":"'[36]Com Forecast (High)'!AY184","v":3.7295000000000016},{"$f":"'[36]Com Forecast (High)'!AZ184","v":3.8497999999999877},{"$f":"'[36]Com Forecast (High)'!BA184","v":3.7150000000000034},{"$f":"'[36]Com Forecast (High)'!BB184","v":3.5307999999999993},{"$f":"'[36]Com Forecast (High)'!BC184","v":3.3233000000000175},{"$f":"'[36]Com Forecast (High)'!BD184","v":3.6752999999999929},{"$f":"'[36]Com Forecast (High)'!BE184","v":3.5521999999999991},{"$f":"'[36]Com Forecast (High)'!BF184","v":4.1295000000000073},{"$f":"'[36]Com Forecast (High)'!BG184","v":3.9572000000000003},{"$f":"'[36]Com Forecast (High)'!BH184","v":4.2121999999999957},{"$f":"'[36]Com Forecast (High)'!BI184","v":4.4499999999999886},{"$f":"'[36]Com Forecast (High)'!BJ184","v":4.498800000000017}]
[null,{"$f":"B76","v":"Assembly"},"New",{"$f":"'[36]Com Forecast (High)'!AQ185","v":7.0923000000000229},{"$f":"'[36]Com Forecast (High)'!AR185","v":9.416499999999985},{"$f":"'[36]Com Forecast (High)'!AS185","v":5.9877999999999929},{"$f":"'[36]Com Forecast (High)'!AT185","v":5.9329999999999927},{"$f":"'[36]Com Forecast (High)'!AU185","v":7.8032000000000039},{"$f":"'[36]Com Forecast (High)'!AV185","v":9.5126000000000204},{"$f":"'[36]Com Forecast (High)'!AW185","v":8.5878999999999905},{"$f":"'[36]Com Forecast (High)'!AX185","v":9.0674000000000206},{"$f":"'[36]Com Forecast (High)'!AY185","v":10.488200000000006},{"$f":"'[36]Com Forecast (High)'!AZ185","v":9.9848999999999819},{"$f":"'[36]Com Forecast (High)'!BA185","v":9.7493000000000052},{"$f":"'[36]Com Forecast (High)'!BB185","v":9.3806000000000154},{"$f":"'[36]Com Forecast (High)'!BC185","v":11.128199999999936},{"$f":"'[36]Com Forecast (High)'!BD185","v":11.908800000000042},{"$f":"'[36]Com Forecast (High)'!BE185","v":11.79219999999998},{"$f":"'[36]Com Forecast (High)'!BF185","v":12.399700000000053},{"$f":"'[36]Com Forecast (High)'!BG185","v":12.810299999999984},{"$f":"'[36]Com Forecast (High)'!BH185","v":13.215199999999982},{"$f":"'[36]Com Forecast (High)'!BI185","v":12.750400000000013},{"$f":"'[36]Com Forecast (High)'!BJ185","v":12.378899999999931}]
[null,{"$f":"B77","v":"Other"},"New",{"$f":"'[36]Com Forecast (High)'!AQ186","v":8.3694999999999595},{"$f":"'[36]Com Forecast (High)'!AR186","v":9.5372000000000412},{"$f":"'[36]Com Forecast (High)'!AS186","v":7.8663999999999987},{"$f":"'[36]Com Forecast (High)'!AT186","v":7.6076999999999657},{"$f":"'[36]Com Forecast (High)'!AU186","v":11.582300000000032},{"$f":"'[36]Com Forecast (High)'!AV186","v":12.362300000000005},{"$f":"'[36]Com Forecast (High)'!AW186","v":9.6277999999999793},{"$f":"'[36]Com Forecast (High)'!AX186","v":8.7024000000000115},{"$f":"'[36]Com Forecast (High)'!AY186","v":11.062700000000007},{"$f":"'[36]Com Forecast (High)'!AZ186","v":10.704499999999996},{"$f":"'[36]Com Forecast (High)'!BA186","v":11.081999999999994},{"$f":"'[36]Com Forecast (High)'!BB186","v":9.7883999999999673},{"$f":"'[36]Com Forecast (High)'!BC186","v":9.9748000000000729},{"$f":"'[36]Com Forecast (High)'!BD186","v":10.461099999999988},{"$f":"'[36]Com Forecast (High)'!BE186","v":10.790300000000002},{"$f":"'[36]Com Forecast (High)'!BF186","v":10.345399999999927},{"$f":"'[36]Com Forecast (High)'!BG186","v":11.734300000000076},{"$f":"'[36]Com Forecast (High)'!BH186","v":13.100699999999961},{"$f":"'[36]Com Forecast (High)'!BI186","v":11.782500000000027},{"$f":"'[36]Com Forecast (High)'!BJ186","v":11.587199999999939}]
[null,{"$f":"B78","v":"Large Off"},"Stock 2016",{"$f":"'[36]Com Forecast (High)'!AQ187","v":396.19940786727432},{"$f":"'[36]Com Forecast (High)'!AR187","v":395.01080964367247},{"$f":"'[36]Com Forecast (High)'!AS187","v":393.82577721474149},{"$f":"'[36]Com Forecast (High)'!AT187","v":392.64429988309723},{"$f":"'[36]Com Forecast (High)'!AU187","v":391.46636698344793},{"$f":"'[36]Com Forecast (High)'!AV187","v":390.2919678824976},{"$f":"'[36]Com Forecast (High)'!AW187","v":389.12109197885013},{"$f":"'[36]Com Forecast (High)'!AX187","v":387.95372870291351},{"$f":"'[36]Com Forecast (High)'!AY187","v":386.78986751680475},{"$f":"'[36]Com Forecast (High)'!AZ187","v":385.62949791425433},{"$f":"'[36]Com Forecast (High)'!BA187","v":384.47260942051156},{"$f":"'[36]Com Forecast (High)'!BB187","v":383.31919159225004},{"$f":"'[36]Com Forecast (High)'!BC187","v":382.16923401747329},{"$f":"'[36]Com Forecast (High)'!BD187","v":381.02272631542093},{"$f":"'[36]Com Forecast (High)'!BE187","v":379.87965813647463},{"$f":"'[36]Com Forecast (High)'!BF187","v":378.74001916206521},{"$f":"'[36]Com Forecast (High)'!BG187","v":377.60379910457902},{"$f":"'[36]Com Forecast (High)'!BH187","v":376.47098770726524},{"$f":"'[36]Com Forecast (High)'!BI187","v":375.34157474414343},{"$f":"'[36]Com Forecast (High)'!BJ187","v":374.21555001991101}]
[null,{"$f":"B79","v":"Medium Off"},"Stock 2016",{"$f":"'[36]Com Forecast (High)'!AQ188","v":202.99566713685553},{"$f":"'[36]Com Forecast (High)'!AR188","v":202.38668013544498},{"$f":"'[36]Com Forecast (High)'!AS188","v":201.77952009503861},{"$f":"'[36]Com Forecast (High)'!AT188","v":201.17418153475353},{"$f":"'[36]Com Forecast (High)'!AU188","v":200.57065899014924},{"$f":"'[36]Com Forecast (High)'!AV188","v":199.96894701317882},{"$f":"'[36]Com Forecast (High)'!AW188","v":199.36904017213928},{"$f":"'[36]Com Forecast (High)'!AX188","v":198.77093305162285},{"$f":"'[36]Com Forecast (High)'!AY188","v":198.17462025246797},{"$f":"'[36]Com Forecast (High)'!AZ188","v":197.58009639171058},{"$f":"'[36]Com Forecast (High)'!BA188","v":196.98735610253544},{"$f":"'[36]Com Forecast (High)'!BB188","v":196.39639403422785},{"$f":"'[36]Com Forecast (High)'!BC188","v":195.80720485212515},{"$f":"'[36]Com Forecast (High)'!BD188","v":195.21978323756878},{"$f":"'[36]Com Forecast (High)'!BE188","v":194.63412388785608},{"$f":"'[36]Com Forecast (High)'!BF188","v":194.05022151619249},{"$f":"'[36]Com Forecast (High)'!BG188","v":193.46807085164392},{"$f":"'[36]Com Forecast (High)'!BH188","v":192.88766663908899},{"$f":"'[36]Com Forecast (High)'!BI188","v":192.30900363917172},{"$f":"'[36]Com Forecast (High)'!BJ188","v":191.73207662825419}]
[null,{"$f":"B80","v":"Small Off"},"Stock 2016",{"$f":"'[36]Com Forecast (High)'!AQ189","v":187.31859712168011},{"$f":"'[36]Com Forecast (High)'!AR189","v":186.75664133031509},{"$f":"'[36]Com Forecast (High)'!AS189","v":186.19637140632415},{"$f":"'[36]Com Forecast (High)'!AT189","v":185.63778229210516},{"$f":"'[36]Com Forecast (High)'!AU189","v":185.08086894522884},{"$f":"'[36]Com Forecast (High)'!AV189","v":184.52562633839315},{"$f":"'[36]Com Forecast (High)'!AW189","v":183.97204945937798},{"$f":"'[36]Com Forecast (High)'!AX189","v":183.42013331099986},{"$f":"'[36]Com Forecast (High)'!AY189","v":182.86987291106681},{"$f":"'[36]Com Forecast (High)'!AZ189","v":182.32126329233364},{"$f":"'[36]Com Forecast (High)'!BA189","v":181.77429950245664},{"$f":"'[36]Com Forecast (High)'!BB189","v":181.22897660394926},{"$f":"'[36]Com Forecast (High)'!BC189","v":180.68528967413741},{"$f":"'[36]Com Forecast (High)'!BD189","v":180.14323380511502},{"$f":"'[36]Com Forecast (High)'!BE189","v":179.60280410369967},{"$f":"'[36]Com Forecast (High)'!BF189","v":179.06399569138856},{"$f":"'[36]Com Forecast (High)'!BG189","v":178.52680370431437},{"$f":"'[36]Com Forecast (High)'!BH189","v":177.99122329320147},{"$f":"'[36]Com Forecast (High)'!BI189","v":177.45724962332184},{"$f":"'[36]Com Forecast (High)'!BJ189","v":176.92487787445191}]
[null,{"$f":"B81","v":"XLarge Ret"},"Stock 2016",{"$f":"'[36]Com Forecast (High)'!AQ190","v":141.78078313569742},{"$f":"'[36]Com Forecast (High)'!AR190","v":141.12859153327321},{"$f":"'[36]Com Forecast (High)'!AS190","v":140.47940001222014},{"$f":"'[36]Com Forecast (High)'!AT190","v":139.83319477216392},{"$f":"'[36]Com Forecast (High)'!AU190","v":139.18996207621197},{"$f":"'[36]Com Forecast (High)'!AV190","v":138.54968825066138},{"$f":"'[36]Com Forecast (High)'!AW190","v":137.91235968470832},{"$f":"'[36]Com Forecast (High)'!AX190","v":137.27796283015869},{"$f":"'[36]Com Forecast (High)'!AY190","v":136.64648420113994},{"$f":"'[36]Com Forecast (High)'!AZ190","v":136.01791037381466},{"$f":"'[36]Com Forecast (High)'!BA190","v":135.39222798609512},{"$f":"'[36]Com Forecast (High)'!BB190","v":134.76942373735909},{"$f":"'[36]Com Forecast (High)'!BC190","v":134.14948438816722},{"$f":"'[36]Com Forecast (High)'!BD190","v":133.53239675998165},{"$f":"'[36]Com Forecast (High)'!BE190","v":132.91814773488571},{"$f":"'[36]Com Forecast (High)'!BF190","v":132.30672425530526},{"$f":"'[36]Com Forecast (High)'!BG190","v":131.69811332373084},{"$f":"'[36]Com Forecast (High)'!BH190","v":131.09230200244167},{"$f":"'[36]Com Forecast (High)'!BI190","v":130.48927741323044},{"$f":"'[36]Com Forecast (High)'!BJ190","v":129.88902673712957}]
[null,{"$f":"B82","v":"Large Ret"},"Stock 2016",{"$f":"'[36]Com Forecast (High)'!AQ191","v":212.75668012141045},{"$f":"'[36]Com Forecast (High)'!AR191","v":211.777999392852},{"$f":"'[36]Com Forecast (High)'!AS191","v":210.80382059564485},{"$f":"'[36]Com Forecast (High)'!AT191","v":209.83412302090488},{"$f":"'[36]Com Forecast (High)'!AU191","v":208.86888605500869},{"$f":"'[36]Com Forecast (High)'!AV191","v":207.90808917915564},{"$f":"'[36]Com Forecast (High)'!AW191","v":206.95171196893151},{"$f":"'[36]Com Forecast (High)'!AX191","v":205.99973409387439},{"$f":"'[36]Com Forecast (High)'!AY191","v":205.0521353170426},{"$f":"'[36]Com Forecast (High)'!AZ191","v":204.10889549458417},{"$f":"'[36]Com Forecast (High)'!BA191","v":203.16999457530909},{"$f":"'[36]Com Forecast (High)'!BB191","v":202.23541260026263},{"$f":"'[36]Com Forecast (High)'!BC191","v":201.30512970230143},{"$f":"'[36]Com Forecast (High)'!BD191","v":200.37912610567085},{"$f":"'[36]Com Forecast (High)'!BE191","v":199.45738212558476},{"$f":"'[36]Com Forecast (High)'!BF191","v":198.53987816780705},{"$f":"'[36]Com Forecast (High)'!BG191","v":197.62659472823515},{"$f":"'[36]Com Forecast (High)'!BH191","v":196.71751239248522},{"$f":"'[36]Com Forecast (High)'!BI191","v":195.8126118354798},{"$f":"'[36]Com Forecast (High)'!BJ191","v":194.91187382103658}]
[null,{"$f":"B83","v":"Medium Ret"},"Stock 2016",{"$f":"'[36]Com Forecast (High)'!AQ192","v":100.40406920856658},{"$f":"'[36]Com Forecast (High)'!AR192","v":99.942210490207174},{"$f":"'[36]Com Forecast (High)'!AS192","v":99.48247632195222},{"$f":"'[36]Com Forecast (High)'!AT192","v":99.024856930871238},{"$f":"'[36]Com Forecast (High)'!AU192","v":98.56934258898923},{"$f":"'[36]Com Forecast (High)'!AV192","v":98.115923613079872},{"$f":"'[36]Com Forecast (High)'!AW192","v":97.664590364459684},{"$f":"'[36]Com Forecast (High)'!AX192","v":97.215333248783182},{"$f":"'[36]Com Forecast (High)'!AY192","v":96.768142715838778},{"$f":"'[36]Com Forecast (High)'!AZ192","v":96.323009259345909},{"$f":"'[36]Com Forecast (High)'!BA192","v":95.879923416752916},{"$f":"'[36]Com Forecast (High)'!BB192","v":95.438875769035846},{"$f":"'[36]Com Forecast (High)'!BC192","v":94.999856940498276},{"$f":"'[36]Com Forecast (High)'!BD192","v":94.562857598571981},{"$f":"'[36]Com Forecast (High)'!BE192","v":94.127868453618547},{"$f":"'[36]Com Forecast (High)'!BF192","v":93.694880258731885},{"$f":"'[36]Com Forecast (High)'!BG192","v":93.26388380954171},{"$f":"'[36]Com Forecast (High)'!BH192","v":92.834869944017825},{"$f":"'[36]Com Forecast (High)'!BI192","v":92.407829542275337},{"$f":"'[36]Com Forecast (High)'!BJ192","v":91.982753526380876}]
[null,{"$f":"B84","v":"Small Ret"},"Stock 2016",{"$f":"'[36]Com Forecast (High)'!AQ193","v":111.74703101159992},{"$f":"'[36]Com Forecast (High)'!AR193","v":111.23299466894655},{"$f":"'[36]Com Forecast (High)'!AS193","v":110.72132289346939},{"$f":"'[36]Com Forecast (High)'!AT193","v":110.21200480815943},{"$f":"'[36]Com Forecast (High)'!AU193","v":109.70502958604189},{"$f":"'[36]Com Forecast (High)'!AV193","v":109.20038644994609},{"$f":"'[36]Com Forecast (High)'!AW193","v":108.69806467227633},{"$f":"'[36]Com Forecast (High)'!AX193","v":108.19805357478386},{"$f":"'[36]Com Forecast (High)'!AY193","v":107.70034252833985},{"$f":"'[36]Com Forecast (High)'!AZ193","v":107.20492095270947},{"$f":"'[36]Com Forecast (High)'!BA193","v":106.711778316327},{"$f":"'[36]Com Forecast (High)'!BB193","v":106.22090413607189},{"$f":"'[36]Com Forecast (High)'!BC193","v":105.73228797704596},{"$f":"'[36]Com Forecast (High)'!BD193","v":105.24591945235153},{"$f":"'[36]Com Forecast (High)'!BE193","v":104.76178822287072},{"$f":"'[36]Com Forecast (High)'!BF193","v":104.2798839970455},{"$f":"'[36]Com Forecast (High)'!BG193","v":103.80019653065909},{"$f":"'[36]Com Forecast (High)'!BH193","v":103.32271562661805},{"$f":"'[36]Com Forecast (High)'!BI193","v":102.84743113473559},{"$f":"'[36]Com Forecast (High)'!BJ193","v":102.37433295151581}]
[null,{"$f":"B85","v":"School K-12"},"Stock 2016",{"$f":"'[36]Com Forecast (High)'!AQ194","v":272.11549358988066},{"$f":"'[36]Com Forecast (High)'!AR194","v":271.54405105334189},{"$f":"'[36]Com Forecast (High)'!AS194","v":270.97380854612987},{"$f":"'[36]Com Forecast (High)'!AT194","v":270.40476354818298},{"$f":"'[36]Com Forecast (High)'!AU194","v":269.83691354473183},{"$f":"'[36]Com Forecast (High)'!AV194","v":269.27025602628788},{"$f":"'[36]Com Forecast (High)'!AW194","v":268.70478848863269},{"$f":"'[36]Com Forecast (High)'!AX194","v":268.14050843280654},{"$f":"'[36]Com Forecast (High)'!AY194","v":267.57741336509764},{"$f":"'[36]Com Forecast (High)'!AZ194","v":267.01550079703094},{"$f":"'[36]Com Forecast (High)'!BA194","v":266.45476824535717},{"$f":"'[36]Com Forecast (High)'!BB194","v":265.8952132320419},{"$f":"'[36]Com Forecast (High)'!BC194","v":265.33683328425462},{"$f":"'[36]Com Forecast (High)'!BD194","v":264.77962593435768},{"$f":"'[36]Com Forecast (High)'!BE194","v":264.22358871989559},{"$f":"'[36]Com Forecast (High)'!BF194","v":263.66871918358379},{"$f":"'[36]Com Forecast (High)'!BG194","v":263.11501487329826},{"$f":"'[36]Com Forecast (High)'!BH194","v":262.56247334206432},{"$f":"'[36]Com Forecast (High)'!BI194","v":262.01109214804598},{"$f":"'[36]Com Forecast (High)'!BJ194","v":261.46086885453508}]
[null,{"$f":"B86","v":"University"},"Stock 2016",{"$f":"'[36]Com Forecast (High)'!AQ195","v":133.38944990863411},{"$f":"'[36]Com Forecast (High)'!AR195","v":133.06931522885338},{"$f":"'[36]Com Forecast (High)'!AS195","v":132.74994887230412},{"$f":"'[36]Com Forecast (High)'!AT195","v":132.43134899501064},{"$f":"'[36]Com Forecast (High)'!AU195","v":132.1135137574226},{"$f":"'[36]Com Forecast (High)'!AV195","v":131.79644132440478},{"$f":"'[36]Com Forecast (High)'!AW195","v":131.48012986522622},{"$f":"'[36]Com Forecast (High)'!AX195","v":131.16457755354969},{"$f":"'[36]Com Forecast (High)'!AY195","v":130.84978256742119},{"$f":"'[36]Com Forecast (High)'!AZ195","v":130.53574308925937},{"$f":"'[36]Com Forecast (High)'!BA195","v":130.22245730584515},{"$f":"'[36]Com Forecast (High)'!BB195","v":129.90992340831113},{"$f":"'[36]Com Forecast (High)'!BC195","v":129.59813959213119},{"$f":"'[36]Com Forecast (High)'!BD195","v":129.28710405711007},{"$f":"'[36]Com Forecast (High)'!BE195","v":128.97681500737301},{"$f":"'[36]Com Forecast (High)'!BF195","v":128.6672706513553},{"$f":"'[36]Com Forecast (High)'!BG195","v":128.35846920179208},{"$f":"'[36]Com Forecast (High)'!BH195","v":128.05040887570777},{"$f":"'[36]Com Forecast (High)'!BI195","v":127.74308789440607},{"$f":"'[36]Com Forecast (High)'!BJ195","v":127.4365044834595}]
[null,{"$f":"B87","v":"Warehouse"},"Stock 2016",{"$f":"'[36]Com Forecast (High)'!AQ196","v":489.94779054978409},{"$f":"'[36]Com Forecast (High)'!AR196","v":487.63523697838912},{"$f":"'[36]Com Forecast (High)'!AS196","v":485.33359865985119},{"$f":"'[36]Com Forecast (High)'!AT196","v":483.04282407417668},{"$f":"'[36]Com Forecast (High)'!AU196","v":480.76286194454661},{"$f":"'[36]Com Forecast (High)'!AV196","v":478.49366123616835},{"$f":"'[36]Com Forecast (High)'!AW196","v":476.23517115513368},{"$f":"'[36]Com Forecast (High)'!AX196","v":473.98734114728154},{"$f":"'[36]Com Forecast (High)'!AY196","v":471.75012089706638},{"$f":"'[36]Com Forecast (High)'!AZ196","v":469.52346032643226},{"$f":"'[36]Com Forecast (High)'!BA196","v":467.30730959369151},{"$f":"'[36]Com Forecast (High)'!BB196","v":465.10161909240929},{"$f":"'[36]Com Forecast (High)'!BC196","v":462.90633945029316},{"$f":"'[36]Com Forecast (High)'!BD196","v":460.72142152808783},{"$f":"'[36]Com Forecast (High)'!BE196","v":458.54681641847526},{"$f":"'[36]Com Forecast (High)'!BF196","v":456.38247544498006},{"$f":"'[36]Com Forecast (High)'!BG196","v":454.22835016087981},{"$f":"'[36]Com Forecast (High)'!BH196","v":452.08439234812045},{"$f":"'[36]Com Forecast (High)'!BI196","v":449.95055401623733},{"$f":"'[36]Com Forecast (High)'!BJ196","v":447.82678740128074}]
[null,{"$f":"B88","v":"Supermarket"},"Stock 2016",{"$f":"'[36]Com Forecast (High)'!AQ197","v":52.012463132286499},{"$f":"'[36]Com Forecast (High)'!AR197","v":51.766964306302107},{"$f":"'[36]Com Forecast (High)'!AS197","v":51.522624234776359},{"$f":"'[36]Com Forecast (High)'!AT197","v":51.279437448388222},{"$f":"'[36]Com Forecast (High)'!AU197","v":51.037398503631835},{"$f":"'[36]Com Forecast (High)'!AV197","v":50.7965019826947},{"$f":"'[36]Com Forecast (High)'!AW197","v":50.55674249333638},{"$f":"'[36]Com Forecast (High)'!AX197","v":50.318114668767834},{"$f":"'[36]Com Forecast (High)'!AY197","v":50.080613167531247},{"$f":"'[36]Com Forecast (High)'!AZ197","v":49.844232673380503},{"$f":"'[36]Com Forecast (High)'!BA197","v":49.608967895162152},{"$f":"'[36]Com Forecast (High)'!BB197","v":49.374813566696993},{"$f":"'[36]Com Forecast (High)'!BC197","v":49.141764446662179},{"$f":"'[36]Com Forecast (High)'!BD197","v":48.909815318473946},{"$f":"'[36]Com Forecast (High)'!BE197","v":48.678960990170744},{"$f":"'[36]Com Forecast (High)'!BF197","v":48.449196294297138},{"$f":"'[36]Com Forecast (High)'!BG197","v":48.220516087788056},{"$f":"'[36]Com Forecast (High)'!BH197","v":47.992915251853702},{"$f":"'[36]Com Forecast (High)'!BI197","v":47.766388691864961},{"$f":"'[36]Com Forecast (High)'!BJ197","v":47.540931337239357}]
[null,{"$f":"B89","v":"MiniMart"},"Stock 2016",{"$f":"'[36]Com Forecast (High)'!AQ198","v":23.60165627856518},{"$f":"'[36]Com Forecast (High)'!AR198","v":23.545012303496627},{"$f":"'[36]Com Forecast (High)'!AS198","v":23.488504273968235},{"$f":"'[36]Com Forecast (High)'!AT198","v":23.432131863710712},{"$f":"'[36]Com Forecast (High)'!AU198","v":23.375894747237805},{"$f":"'[36]Com Forecast (High)'!AV198","v":23.319792599844437},{"$f":"'[36]Com Forecast (High)'!AW198","v":23.263825097604812},{"$f":"'[36]Com Forecast (High)'!AX198","v":23.207991917370563},{"$f":"'[36]Com Forecast (High)'!AY198","v":23.152292736768878},{"$f":"'[36]Com Forecast (High)'!AZ198","v":23.096727234200628},{"$f":"'[36]Com Forecast (High)'!BA198","v":23.041295088838545},{"$f":"'[36]Com Forecast (High)'!BB198","v":22.985995980625336},{"$f":"'[36]Com Forecast (High)'!BC198","v":22.930829590271834},{"$f":"'[36]Com Forecast (High)'!BD198","v":22.875795599255184},{"$f":"'[36]Com Forecast (High)'!BE198","v":22.82089368981697},{"$f":"'[36]Com Forecast (High)'!BF198","v":22.76612354496141},{"$f":"'[36]Com Forecast (High)'!BG198","v":22.711484848453502},{"$f":"'[36]Com Forecast (High)'!BH198","v":22.656977284817216},{"$f":"'[36]Com Forecast (High)'!BI198","v":22.602600539333658},{"$f":"'[36]Com Forecast (High)'!BJ198","v":22.548354298039257}]
[null,{"$f":"B90","v":"Restaurant"},"Stock 2016",{"$f":"'[36]Com Forecast (High)'!AQ199","v":51.844457025147285},{"$f":"'[36]Com Forecast (High)'!AR199","v":51.377856911920958},{"$f":"'[36]Com Forecast (High)'!AS199","v":50.915456199713667},{"$f":"'[36]Com Forecast (High)'!AT199","v":50.457217093916242},{"$f":"'[36]Com Forecast (High)'!AU199","v":50.003102140070993},{"$f":"'[36]Com Forecast (High)'!AV199","v":49.553074220810359},{"$f":"'[36]Com Forecast (High)'!AW199","v":49.107096552823059},{"$f":"'[36]Com Forecast (High)'!AX199","v":48.665132683847652},{"$f":"'[36]Com Forecast (High)'!AY199","v":48.227146489693027},{"$f":"'[36]Com Forecast (High)'!AZ199","v":47.793102171285788},{"$f":"'[36]Com Forecast (High)'!BA199","v":47.362964251744209},{"$f":"'[36]Com Forecast (High)'!BB199","v":46.936697573478511},{"$f":"'[36]Com Forecast (High)'!BC199","v":46.514267295317204},{"$f":"'[36]Com Forecast (High)'!BD199","v":46.095638889659348},{"$f":"'[36]Com Forecast (High)'!BE199","v":45.680778139652418},{"$f":"'[36]Com Forecast (High)'!BF199","v":45.269651136395545},{"$f":"'[36]Com Forecast (High)'!BG199","v":44.862224276167979},{"$f":"'[36]Com Forecast (High)'!BH199","v":44.458464257682465},{"$f":"'[36]Com Forecast (High)'!BI199","v":44.058338079363324},{"$f":"'[36]Com Forecast (High)'!BJ199","v":43.66181303664905}]
[null,{"$f":"B91","v":"Lodging"},"Stock 2016",{"$f":"'[36]Com Forecast (High)'!AQ200","v":184.6245949562699},{"$f":"'[36]Com Forecast (High)'!AR200","v":183.94148395493167},{"$f":"'[36]Com Forecast (High)'!AS200","v":183.26090046429843},{"$f":"'[36]Com Forecast (High)'!AT200","v":182.58283513258053},{"$f":"'[36]Com Forecast (High)'!AU200","v":181.90727864258994},{"$f":"'[36]Com Forecast (High)'!AV200","v":181.23422171161238},{"$f":"'[36]Com Forecast (High)'!AW200","v":180.5636550912794},{"$f":"'[36]Com Forecast (High)'!AX200","v":179.89556956744164},{"$f":"'[36]Com Forecast (High)'!AY200","v":179.22995596004213},{"$f":"'[36]Com Forecast (High)'!AZ200","v":178.56680512298999},{"$f":"'[36]Com Forecast (High)'!BA200","v":177.90610794403491},{"$f":"'[36]Com Forecast (High)'!BB200","v":177.24785534464198},{"$f":"'[36]Com Forecast (High)'!BC200","v":176.59203827986678},{"$f":"'[36]Com Forecast (High)'!BD200","v":175.93864773823128},{"$f":"'[36]Com Forecast (High)'!BE200","v":175.2876747415998},{"$f":"'[36]Com Forecast (High)'!BF200","v":174.63911034505588},{"$f":"'[36]Com Forecast (High)'!BG200","v":173.99294563677915},{"$f":"'[36]Com Forecast (High)'!BH200","v":173.34917173792309},{"$f":"'[36]Com Forecast (High)'!BI200","v":172.70777980249278},{"$f":"'[36]Com Forecast (High)'!BJ200","v":172.06876101722352}]
[null,{"$f":"B92","v":"Hospital"},"Stock 2016",{"$f":"'[36]Com Forecast (High)'!AQ201","v":113.50221963251342},{"$f":"'[36]Com Forecast (High)'!AR201","v":113.03686053202011},{"$f":"'[36]Com Forecast (High)'!AS201","v":112.57340940383882},{"$f":"'[36]Com Forecast (High)'!AT201","v":112.11185842528309},{"$f":"'[36]Com Forecast (High)'!AU201","v":111.65219980573941},{"$f":"'[36]Com Forecast (High)'!AV201","v":111.1944257865359},{"$f":"'[36]Com Forecast (High)'!AW201","v":110.7385286408111},{"$f":"'[36]Com Forecast (High)'!AX201","v":110.28450067338377},{"$f":"'[36]Com Forecast (High)'!AY201","v":109.8323342206229},{"$f":"'[36]Com Forecast (High)'!AZ201","v":109.38202165031834},{"$f":"'[36]Com Forecast (High)'!BA201","v":108.93355536155204},{"$f":"'[36]Com Forecast (High)'!BB201","v":108.48692778456969},{"$f":"'[36]Com Forecast (High)'!BC201","v":108.04213138065295},{"$f":"'[36]Com Forecast (High)'!BD201","v":107.59915864199226},{"$f":"'[36]Com Forecast (High)'!BE201","v":107.15800209156011},{"$f":"'[36]Com Forecast (High)'!BF201","v":106.71865428298472},{"$f":"'[36]Com Forecast (High)'!BG201","v":106.28110780042448},{"$f":"'[36]Com Forecast (High)'!BH201","v":105.84535525844274},{"$f":"'[36]Com Forecast (High)'!BI201","v":105.41138930188312},{"$f":"'[36]Com Forecast (High)'!BJ201","v":104.9792026057454}]
[null,{"$f":"B93","v":"Residential Care"},"Stock 2016",{"$f":"'[36]Com Forecast (High)'!AQ202","v":139.33091416745748},{"$f":"'[36]Com Forecast (High)'!AR202","v":138.75965741937091},{"$f":"'[36]Com Forecast (High)'!AS202","v":138.1907428239515},{"$f":"'[36]Com Forecast (High)'!AT202","v":137.62416077837327},{"$f":"'[36]Com Forecast (High)'!AU202","v":137.05990171918194},{"$f":"'[36]Com Forecast (High)'!AV202","v":136.4979561221333},{"$f":"'[36]Com Forecast (High)'!AW202","v":135.93831450203254},{"$f":"'[36]Com Forecast (High)'!AX202","v":135.38096741257422},{"$f":"'[36]Com Forecast (High)'!AY202","v":134.82590544618267},{"$f":"'[36]Com Forecast (High)'!AZ202","v":134.27311923385332},{"$f":"'[36]Com Forecast (High)'!BA202","v":133.7225994449945},{"$f":"'[36]Com Forecast (High)'!BB202","v":133.17433678727002},{"$f":"'[36]Com Forecast (High)'!BC202","v":132.62832200644223},{"$f":"'[36]Com Forecast (High)'!BD202","v":132.08454588621584},{"$f":"'[36]Com Forecast (High)'!BE202","v":131.54299924808231},{"$f":"'[36]Com Forecast (High)'!BF202","v":131.00367295116519},{"$f":"'[36]Com Forecast (High)'!BG202","v":130.4665578920654},{"$f":"'[36]Com Forecast (High)'!BH202","v":129.93164500470795},{"$f":"'[36]Com Forecast (High)'!BI202","v":129.39892526018866},{"$f":"'[36]Com Forecast (High)'!BJ202","v":128.86838966662188}]
[null,{"$f":"B94","v":"Assembly"},"Stock 2016",{"$f":"'[36]Com Forecast (High)'!AQ203","v":374.0830802363385},{"$f":"'[36]Com Forecast (High)'!AR203","v":372.40469414967811},{"$f":"'[36]Com Forecast (High)'!AS203","v":370.73383842192658},{"$f":"'[36]Com Forecast (High)'!AT203","v":369.07047926687358},{"$f":"'[36]Com Forecast (High)'!AU203","v":367.41458304989618},{"$f":"'[36]Com Forecast (High)'!AV203","v":365.76611628727898},{"$f":"'[36]Com Forecast (High)'!AW203","v":364.12504564553672},{"$f":"'[36]Com Forecast (High)'!AX203","v":362.49133794074038},{"$f":"'[36]Com Forecast (High)'!AY203","v":360.86496013784631},{"$f":"'[36]Com Forecast (High)'!AZ203","v":359.24587935002785},{"$f":"'[36]Com Forecast (High)'!BA203","v":357.63406283801066},{"$f":"'[36]Com Forecast (High)'!BB203","v":356.02947800941081},{"$f":"'[36]Com Forecast (High)'!BC203","v":354.43209241807529},{"$f":"'[36]Com Forecast (High)'!BD203","v":352.84187376342618},{"$f":"'[36]Com Forecast (High)'!BE203","v":351.25878988980764},{"$f":"'[36]Com Forecast (High)'!BF203","v":349.68280878583539},{"$f":"'[36]Com Forecast (High)'!BG203","v":348.11389858374957},{"$f":"'[36]Com Forecast (High)'!BH203","v":346.55202755877053},{"$f":"'[36]Com Forecast (High)'!BI203","v":344.99716412845686},{"$f":"'[36]Com Forecast (High)'!BJ203","v":343.44927685206721}]
[null,{"$f":"B95","v":"Other"},"Stock 2016",{"$f":"'[36]Com Forecast (High)'!AQ204","v":368.64569216265329},{"$f":"'[36]Com Forecast (High)'!AR204","v":365.32788093318936},{"$f":"'[36]Com Forecast (High)'!AS204","v":362.03993000479068},{"$f":"'[36]Com Forecast (High)'!AT204","v":358.7815706347476},{"$f":"'[36]Com Forecast (High)'!AU204","v":355.55253649903483},{"$f":"'[36]Com Forecast (High)'!AV204","v":352.35256367054353},{"$f":"'[36]Com Forecast (High)'!AW204","v":349.18139059750865},{"$f":"'[36]Com Forecast (High)'!AX204","v":346.03875808213104},{"$f":"'[36]Com Forecast (High)'!AY204","v":342.92440925939184},{"$f":"'[36]Com Forecast (High)'!AZ204","v":339.83808957605731},{"$f":"'[36]Com Forecast (High)'!BA204","v":336.77954676987281},{"$f":"'[36]Com Forecast (High)'!BB204","v":333.74853084894391},{"$f":"'[36]Com Forecast (High)'!BC204","v":330.74479407130343},{"$f":"'[36]Com Forecast (High)'!BD204","v":327.76809092466175},{"$f":"'[36]Com Forecast (High)'!BE204","v":324.81817810633981},{"$f":"'[36]Com Forecast (High)'!BF204","v":321.89481450338269},{"$f":"'[36]Com Forecast (High)'!BG204","v":318.99776117285228},{"$f":"'[36]Com Forecast (High)'!BH204","v":316.12678132229661},{"$f":"'[36]Com Forecast (High)'!BI204","v":313.2816402903959},{"$f":"'[36]Com Forecast (High)'!BJ204","v":310.46210552778234}]
[]
[null,"Sum","New",{"$f":"SUM(D101:D118)","v":61.686199999999999},{"$f":"SUM(E101:E118)","v":61.768300000000039},52.342099999999839,53.17720000000007,65.213900000000024,75.922899999999927,62.687200000000097,57.318300000000058,70.62229999999991,66.453699999999969,70.083300000000023,66.772599999999983,70.958600000000089,77.058899999999952,76.078100000000006,80.063300000000027,82.05689999999997,84.925499999999886,83.512300000000124,80.382999999999825]
[null,"Sum","Existing",{"$f":"SUM(D119:D136)","v":3556.3000472426152},{"$f":"SUM(E119:E136)","v":3540.6449409662055},3525.0714504449411,3509.5790705032987,3494.1672995791614,3478.8356396952272,3463.5835964306689,3448.4106788930317,3433.316399690365,3418.3002749035886,3403.3618240590918,3388.5005701015561,3373.7160393670201,3359.0077615561527,3344.3752697077639,3329.8181001725329,3315.335792586955,3300.9278898475054,3286.5939380850268,3272.3334866393234]
[]
[]
[]
[]
[null,null,null,{"$f":"D18","v":2022},{"$f":"E18","v":2023},2024,2025,2026,2027,2028,2029,2030,2031,2032,2033,2034,2035,2036,2037,2038,2039,2040,2041]
[null,"New Construction","Base",{"$f":"D56","v":41.164999999999978},{"$f":"E56","v":46.966699999999946},42.260799999999961,43.532300000000063,47.097500000000053,54.625399999999935,54.086399999999998,50.787599999999962,62.337500000000013,61.21309999999994,62.950500000000119,59.599000000000032,59.74689999999994,60.940600000000053,62.373500000000092,65.242299999999858,67.034399999999977,68.888000000000005,64.532299999999992,65.284299999999945]
[null,"New Construction","Low",{"$f":"D97","v":28.537900000000018},{"$f":"E97","v":38.420899999999989},34.443500000000014,35.504800000000046,42.187299999999951,54.464700000000029,59.181900000000034,53.729799999999926,63.019799999999989,58.929799999999943,64.760400000000132,62.149399999999993,55.846999999999895,54.242699999999985,55.520300000000084,60.12989999999995,66.43030000000013,70.680899999999923,67.877999999999915,66.793700000000143]
[null,"New Construction","High",{"$f":"D138","v":61.686199999999999},{"$f":"E138","v":61.768300000000039},52.342099999999839,53.17720000000007,65.213900000000024,75.922899999999927,62.687200000000097,57.318300000000058,70.62229999999991,66.453699999999969,70.083300000000023,66.772599999999983,70.958600000000089,77.058899999999952,76.078100000000006,80.063300000000027,82.05689999999997,84.925499999999886,83.512300000000124,80.382999999999825]

{"sheet":"Sheet1","index":23,"n_rows":42,"n_cols":14,"rows_kept":42,"cut":false,"hidden":true,"merged":[[14,12,15,12],[16,12,17,12],[18,12,20,12],[12,12,13,12],[2,12,11,12],[39,5,41,5],[3,9,7,9],[8,9,9,9],[10,9,22,9],[23,9,33,9],[35,9,36,9],[37,9,38,9],[39,9,41,9],[3,5,7,5],[8,5,9,5],[10,5,22,5],[23,5,33,5],[35,5,36,5],[37,5,38,5]]}
[]
[null,"End Use  (BPA Taxonomy)","Base Measure Name",null,null,"End-Use","Measure Bundle",null,null,"End-Use","Measure Bundle",null,"End-Use","Measure Bundle"]
[null,"Compressed Air","Compressed Air",null,null,"Compressed Air","Compressed Air",null,null,"Compressed Air","Compressed Air",null,"Lighting","Bi-Level Stairwell Lighting"]
[null,"Electronics","Laptop",null,null,"Electronics","Data Centers",null,null,"Electronics","Data Centers",null,null,"Exterior Building Lighting"]
[null,"Electronics","Smart Plug Power Strips",null,null,null,"Desktop",null,null,null,"Desktop",null,null,"LEC Exit Sign"]
[null,"Electronics","Data Centers",null,null,null,"Laptop",null,null,null,"Laptop",null,null,"Lighting Controls Interior"]
[null,"Electronics","Monitor",null,null,null,"Monitor",null,null,null,"Monitor",null,null,"Low Power LF Lamps"]
[null,"Electronics","Desktop",null,null,null,"Smart Plug Power Strips",null,null,null,"Smart Plug Power Strips",null,null,"LPD Package"]
[null,"Food Preparation","Pre-Rinse Spray Valve",null,null,"Food Preparation","Cooking Equipment",null,null,"Food Preparation","Cooking Equipment",null,null,"Parking Lighting"]
[null,"Food Preparation","Cooking Equipment",null,null,null,"Pre-Rinse Spray Valve",null,null,null,"Pre-Rinse Spray Valve",null,null,"Perimeter Daylighting Controls Advanced"]
[null,"HVAC","DHP",null,null,"HVAC","Advanced Rooftop Controller",null,null,"HVAC","Advanced Rooftop Controller",null,null,"Street and Roadway Lighting"]
[null,"HVAC","WEPT",null,null,null,"Commercial EM",null,null,null,"Commercial EM",null,null,"Top Daylighting"]
[null,"HVAC","Advanced Rooftop Controller",null,null,null,"DCV Parking Garage",null,null,null,"DCV Parking Garage",null,"Motors/Drives","ECM-VAV"]
[null,"HVAC","Variable Speed Chiller",null,null,null,"DCV Restaurant Hood",null,null,null,"DCV Restaurant Hood",null,null,"MotorsRewind"]
[null,"HVAC","Commercial EM",null,null,null,"Demand Control Ventilation",null,null,null,"Demand Control Ventilation",null,"Process Loads","Municipal Sewage Treatment"]
[null,"HVAC","Economizer",null,null,null,"DHP",null,null,null,"DHP",null,null,"Municipal Water Supply"]
[null,"HVAC","Demand Control Ventilation",null,null,null,"Economizer",null,null,null,"Economizer",null,"Refrigeration","Grocery Refrigeration Bundle"]
[null,"HVAC","Premium Fume Hood",null,null,null,"Premium Fume Hood",null,null,null,"Premium Fume Hood",null,null,"Water Cooler Controls"]
[null,"HVAC","DCV Restaurant Hood",null,null,null,"Secondary Glazing Systems",null,null,null,"Secondary Glazing Systems",null,"Water Heating","WHTanks"]
[null,"HVAC","DCV Parking Garage",null,null,null,"Variable Speed Chiller",null,null,null,"Variable Speed Chiller",null,null,"Showerheads"]
[null,"HVAC","Web-Enabled Thermostats",null,null,null,"VRF",null,null,null,"VRF",null,null,"Washer"]
[null,"HVAC","VRF",null,null,null,"Web-Enabled Thermostats",null,null,null,"Web-Enabled Thermostats"]
[null,"HVAC","Secondary Glazing Systems",null,null,null,"WEPT",null,null,null,"WEPT"]
[null,"Lighting","LPD Package",null,null,"Lighting","Bi-Level Stairwell Lighting"]
[null,"Lighting","Top Daylighting",null,null,null,"ECM-VAV"]
[null,"Lighting","Perimeter Daylighting Controls Advanced",null,null,null,"Exterior Building Lighting"]
[null,"Lighting","Lighting Controls Interior",null,null,null,"LEC Exit Sign"]
[null,"Lighting","Exterior Building Lighting",null,null,null,"Lighting Controls Interior"]
[null,"Lighting","Street and Roadway Lighting",null,null,null,"Low Power LF Lamps"]
[null,"Lighting","Parking Lighting",null,null,null,"LPD Package"]
[null,"Lighting","Bi-Level Stairwell Lighting",null,null,null,"Parking Lighting"]
[null,"Lighting","Low Power LF Lamps",null,null,null,"Perimeter Daylighting Controls Advanced"]
[null,"Lighting","LEC Exit Sign",null,null,null,"Street and Roadway Lighting"]
[null,"Motors/Drives","ECM-VAV",null,null,null,"Top Daylighting"]
[null,"Motors/Drives","MotorsRewind",null,null,"Motors/Drives","MotorsRewind"]
[null,"Process Loads","Municipal Sewage Treatment",null,null,"Process Loads","Municipal Sewage Treatment"]
[null,"Process Loads","Municipal Water Supply",null,null,null,"Municipal Water Supply"]
[null,"Refrigeration","Grocery Refrigeration Bundle",null,null,"Refrigeration","Grocery Refrigeration Bundle"]
[null,"Refrigeration","Water Cooler Controls",null,null,null,"Water Cooler Controls"]
[null,"Water Heating","WHTanks",null,null,"Water Heating","WHTanks"]
[null,"Water Heating","Washer",null,null,null,"Showerheads"]
[null,"Water Heating","Showerheads",null,null,null,"Washer"]

{"sheet":"Sheet2","index":24,"n_rows":34,"n_cols":5,"rows_kept":34,"cut":false,"hidden":true,"merged":[]}
[]
[null,"Com-Bi-Level Stairwell-7P_V2.xlsx"]
[null,"COM-CompressedAir-7P_V3.xlsm"]
[null,"COM-Computers-7P_V2.xlsx"]
[null,"COM-Cooking-7P_V5.xlsm"]
[null,"Com-DataCenters-7P_V4.xlsx"]
[null,"Com-DCV-7P_V3.xlsm"]
[null,"COM-DCV-Garage-7P_V3.xlsm"]
[null,"COM-DCV-KitchenVent-7P_V2.xlsm"]
[null,"COM-DHP-7P_V1.xlsm"]
[null,"COM-ECM-VAV-7P_V3.xlsm"]
[null,"COM-Economizer-7P_v1.xlsm"]
[null,"Com-EM-7P_V4.xlsm"]
[null,"Com-ExitSign-7P_V2.xlsx"]
[null,"Com-ExteriorLighting-7P_V13.xlsx"]
[null,"COM-FumeHood-7P_V2.xlsm"]
[null,"Com-Grocery-7P_V6.xlsx",null,"Sheet Name","Contents"]
[null,"Com-HPLowPowerGSFL-7P_V5.xlsx",null,"Overview","Overview of model structure"]
[null,"Com-InteriorLightingControls-7P_V5.xlsx",null,"MLIST","Master list of measure bundles"]
[null,"Com-LightingInterior-7P_v36.xlsx",null,"FILES","List and links to measure-level files"]
[null,"COM-MotorsRewind-7P_v2.xlsm",null,"APPLIC","Applicability factors for the measure.  Fraction of stock for which the measure applies"]
[null,"Com-ParkingGarageLighting-7P_v6.xlsx",null,"BASE","Baseline penetration of the measure.  Estimated fraction of stock where the measure is already in place"]
[null,"COM-PowerStrips-7P_V4.xlsm",null,"STOCK","Vintage cohor that the measure applies to"]
[null,"COM-PreRinseSpray-7P_V3.xlsm",null,"TURN","Turnover rate for stock to which measure applies"]
[null,"Com-RooftopController-7P_V5.xlsm",null,"ACHEVE","Achievable rate of acquisition for measure bundles by year"]
[null,"COM-Showerhead-7P_v3.xlsm",null,"CHAR","Key characteristis for stock by vintage and building subtype.  Used to develp applicability"]
[null,"Com-Streetlight-7P_V9.xlsx",null,"FLOOR","Floor area by building segment"]
[null,"COM-VRF-7P_V5.xlsm",null,"labels","Building type list"]
[null,"COM-Wastewater-7P_V5.xlsm"]
[null,"Com-WaterCooler-7P_V4.xlsx"]
[null,"COM-WaterSupply-7P_V5.xlsm"]
[null,"COM-WEPT-7P_V1.xlsm"]
[null,"COM-WHTanks-7p_v5.xlsm"]
[null,"Com-WindowSGS-7P_V4.xlsx"]