{"text_format":"1","workbook":"xlsx","n_sheets":16,"sheets":["7PSourceSummary","forRPM","SC-RETRO","Measure InputOutput","M-IO New","M-IO NR","M-IO Retro_Out","M-IO Retro","MMap","Savings from 6P","Costs","Savings Retro","Savings New","Savings Fleet","Notes and Sources 2008","Applicability"],"not_rendered":{"charts":0,"images":3,"macros":0,"external_links":6,"defined_names":20,"comments":9,"pivot_tables":0},"unopened":[],"bounds":{"document_bytes":16777216,"sheet_cells":100000,"rows_first":2000,"rows_last":500,"rows_between":2000,"halvings":0,"cell_chars":16384,"cell_head_chars":4096},"cells_cut":0,"cells_raw":0,"read":"whole","date_system":"1900"}

{"sheet":"7PSourceSummary","index":0,"n_rows":18,"n_cols":5,"rows_kept":18,"cut":false,"hidden":false,"merged":[]}
[]
[null,null,"Measure:","Demand Control Ventilation"]
[null,null,"Item","Methods & Sources","Note"]
[null,null,"Measures Described","Evaluates retrofit Demand Control Ventilation (DCV), and new and retrofit Dedicated Outdoor Air Supply (DOAS).  Both the DVC and the DOAS measures aim to reduce the amount of ventilation air that needs to be conditioned and the amount of distribution fan energy used to move cooling or heating to occupants.   The single zone DOAS measures is a fleet strategy which involves designating some of the fleet of HVAC units as ventilation units and letting other units cycle on call for heating, cooling, or additional ventilation is needed.  The designated units can be stand alone heat recovery ventilation (HRV) or rooftops with added HRV/ERVs where only a small fraction of units operate, or they can be standard rooftops where half the units operate to provide ventilation.  ","Only retrofit measures included. Assume code covers new construction."]
[null,null,"Energy Savings Calculation Basis","Aggregated DOE2 Simulation Runs for select Btype, Climate Zones, LPD, equipment efficiency."]
[null,null,"Applicable Stock","Applies to a portion of the single-zone ducted systems.  Excludes the buildings where the ARC measure is applied.  See applicability tab.","Applicable stock assumptions are in MMap.  Summary data can be seen in Com_Master/APPLIC.  Measure overlap and measure density are assigned in MMAP in the measure density column where each measure gets applied to the fraction of stock by building type and vintage cohort.  For example the DCV measure applies to 100 percent of applicable new floor area minus any floor area assigned to the DOAS measure.  Retrofit and at replacement DCV is split 50/50 for the existing floor area minus any floor area assigned to retrofit DOAS.  For new big box retail, 70% of applicable floor area gets the fleet strategy DOAS measure and 30% gets the DCV measure.  The fleet strategy DOAS applies only in retail spaces.   For retrofit retail, 70% gets the DOAS measure and 30% are split 50/50 between NR and Retrofit. "]
[null,null,"Baseline Saturation","Baseline conditions are code level DCV and ASHRAE Standard 62 Ventilation requirements.  "]
[null,null,"Baseline HVAC Loads","Estimated from several sources.  EZ Sim cooling EUIs from 2002-2004 new building baseline, DOE2 runs.","Sheet 'Cooling EUI'"]
[null,null,"Permutations","Modeled four LPDs, two equipment internal gain levels, four Climate Zones, two HVAC unit sizes, three HVAC cooling efficiency levels, three space heat types","Sheet 'Cooling EUI'"]
[null,null,"Costs","From the Sixth Plan file.  Converted from 2006 to 2012$","Capital costs summarized in sheet 'Config'.  Detail in sheets 'Notes and Sources 2008'"]
[null,null,"Measure Life","15 years for one-time fixes."]
[null,null,"Savings Shape","C-All-HVAC-Vent-All-All-E"]
[null,null,"Achievability Ramp Rate","Retro12Med - strong accomplishments"]
[]
[]
[null,null,"File Version:"]
[null,null,"v2","Added the High/Low forecast option"]
[null,null,"v3","Corrected errors identified by reviewers"]

{"sheet":"forRPM","index":1,"n_rows":20,"n_cols":56,"rows_kept":20,"cut":false,"hidden":false,"merged":[]}
["Ramp Rate","Resource Type","Measure Category","Sector","End Use","kW per unit","kWh per unit","TRC Net Levelized Cost (Net of All Benefits)","segment","measure",2016,2017,2018,2019,2020,2021,2022,2023,2024,2025,2026,2027,2028,2029,2030,2031,2032,2033,2034,2035,"MAX","Savings Allocation by Category and Month for Segments 1",null,null,null,null,null,null,null,null,null,null,null,null,"Savings Allocation by Category and Month for Segments 2"]
[null,null,null,null,null,"Wholesale KW","Busbar Savings","lvlcost",1000,null,{"$f":"CONCATENATE(\"aMW_\",K$1)","v":"aMW_2016"},"aMW_2017","aMW_2018","aMW_2019","aMW_2020","aMW_2021","aMW_2022","aMW_2023","aMW_2024","aMW_2025","aMW_2026","aMW_2027","aMW_2028","aMW_2029","aMW_2030","aMW_2031","aMW_2032","aMW_2033","aMW_2034","aMW_2035","MAX","Jan","Feb","Mar","Apr","May","Jun","Jul","Aug","Sep","Oct","Nov","Dec",null,"Jan","Feb","Mar","Apr","May","Jun","Jul","Aug","Sep","Oct","Nov","Dec"]
[{"$f":"VLOOKUP(CONCATENATE($C3,\"-\",$B3),[2]ACHIEV!$B$19:$C$100,2,FALSE)","v":"Retro12Med"},{"$f":"'[3]SC-Retro'!$C$7","v":"Retro"},{"$f":"'7PSourceSummary'!$D$2","v":"Demand Control Ventilation"},"Commercial",{"$f":"'SC-RETRO'!$A$9","v":"HVAC"},{"$f":"VLOOKUP(J3,MeasureOutputR,14,FALSE)","v":2.7267185390552007E-2},{"$f":"INDEX('SC-RETRO'!$A$66:$D$83,MATCH($J3,'SC-RETRO'!$D$66:$D$83,0),1)","v":145.04873649444917},{"$f":"INDEX('SC-RETRO'!$A$66:$D$83,MATCH($J3,'SC-RETRO'!$D$66:$D$83,0),2)","v":55.408470004098852},null,{"$f":"'SC-RETRO'!D66","v":"Demand Control Ventilation-Retro-Large Off"},{"$f":"'SC-RETRO'!E66","v":6.042306352281647E-2},{"$f":"'SC-RETRO'!F66","v":6.0241794332248008E-2},{"$f":"'SC-RETRO'!G66","v":6.0061068949251277E-2},{"$f":"'SC-RETRO'!H66","v":5.9880885742403515E-2},{"$f":"'SC-RETRO'!I66","v":5.9701243085176318E-2},{"$f":"'SC-RETRO'!J66","v":5.3569925420328707E-2},{"$f":"'SC-RETRO'!K66","v":4.2727372515254172E-2},{"$f":"'SC-RETRO'!L66","v":3.4079352318166736E-2},{"$f":"'SC-RETRO'!M66","v":2.7181691408969783E-2},{"$f":"'SC-RETRO'!N66","v":2.1680117067794304E-2},{"$f":"'SC-RETRO'!O66","v":1.7292061373272737E-2},{"$f":"'SC-RETRO'!P66","v":1.3792148151322334E-2},{"$f":"'SC-RETRO'!Q66","v":1.1000617365494691E-2},{"$f":"'SC-RETRO'!R66","v":8.7740924107185675E-3},{"$f":"'SC-RETRO'!S66","v":6.9982161067891286E-3},{"$f":"'SC-RETRO'!T66","v":5.5817771667750074E-3},{"$f":"'SC-RETRO'!U66","v":3.7957784321937376E-5},{"$f":"'SC-RETRO'!V66","v":1.3515682488922582E-5},{"$f":"'SC-RETRO'!W66","v":4.5937961732499835E-6},{"$f":"'SC-RETRO'!X66","v":1.4934830819885843E-6},{"$f":"'SC-RETRO'!Y66","v":0.52335832126032888},{"$f":"VLOOKUP($J3,MeasureOutputR,COLUMN()-17,FALSE)","v":9.0953004606622407},8.1781505005465558,9.4109488245068196,8.75520295633393,8.9385436832799776,8.8479482763988138,8.4057018985760035,8.7584221816602561,8.1831659572698037,9.33036415429609,{"$f":"VLOOKUP($J3,MeasureOutputR,COLUMN()-17,FALSE)","v":8.2568649931552631},8.9895675095239547,0,3.8614978443965664,3.3176856109729189,3.182358989496159,3.3229133423038464,3.2602235152802908,2.8607557244587536,3.3588908679473075,2.754630263282638,3.3912486517000202,3.0458702992059541,3.6544184648633022,3.888061524331667]
[{"$f":"VLOOKUP(CONCATENATE($C4,\"-\",$B4),[2]ACHIEV!$B$19:$C$100,2,FALSE)","v":"Retro12Med"},{"$f":"'[3]SC-Retro'!$C$7","v":"Retro"},{"$f":"'7PSourceSummary'!$D$2","v":"Demand Control Ventilation"},"Commercial",{"$f":"'SC-RETRO'!$A$9","v":"HVAC"},2.1933530023717573E-2,{"$f":"INDEX('SC-RETRO'!$A$66:$D$83,MATCH($J4,'SC-RETRO'!$D$66:$D$83,0),1)","v":116.67617215474152},{"$f":"INDEX('SC-RETRO'!$A$66:$D$83,MATCH($J4,'SC-RETRO'!$D$66:$D$83,0),2)","v":101.95150814870991},null,{"$f":"'SC-RETRO'!D67","v":"Demand Control Ventilation-Retro-Medium Off"},{"$f":"'SC-RETRO'!E67","v":0.14692308258754302},{"$f":"'SC-RETRO'!F67","v":0.1464823133397804},{"$f":"'SC-RETRO'!G67","v":0.14604286639976108},{"$f":"'SC-RETRO'!H67","v":0.14560473780056177},{"$f":"'SC-RETRO'!I67","v":0.14516792358716007},{"$f":"'SC-RETRO'!J67","v":0.13025917783475874},{"$f":"'SC-RETRO'!K67","v":0.10389472024100357},{"$f":"'SC-RETRO'!L67","v":8.2866428864224462E-2},{"$f":"'SC-RETRO'!M67","v":6.6094263662105412E-2},{"$f":"'SC-RETRO'!N67","v":5.2716784696895294E-2},{"$f":"'SC-RETRO'!O67","v":4.204690747424368E-2},{"$f":"'SC-RETRO'!P67","v":3.353661340145677E-2},{"$f":"'SC-RETRO'!Q67","v":2.6748802849001916E-2},{"$f":"'SC-RETRO'!R67","v":2.1334845152363929E-2},{"$f":"'SC-RETRO'!S67","v":1.7016672493525471E-2},{"$f":"'SC-RETRO'!T67","v":1.357249798083591E-2},{"$f":"'SC-RETRO'!U67","v":9.2297118941449545E-5},{"$f":"'SC-RETRO'!V67","v":3.2864366994519121E-5},{"$f":"'SC-RETRO'!W67","v":1.1170150191042252E-5},{"$f":"'SC-RETRO'!X67","v":3.6315129588761883E-6},{"$f":"'SC-RETRO'!Y67","v":1.272583900489807},7.3161950113777028,6.5784461055658463,7.5701003105920917,7.0426229974227468,7.1901009743918936,7.1172266733455016,6.7614868319602603,7.0452125193824475,6.5824805032877354,7.5052785749342981,6.6417634836599184,7.2311441773781127,0,3.1061614058611182,2.6687227124932509,2.5598669405221095,2.6729278624000155,2.6225006113468416,2.3011715611351455,2.7018679281815525,2.2158049948523728,2.7278962993271492,2.4500764086612232,2.9395882255628898,3.1275290410992911]
[{"$f":"VLOOKUP(CONCATENATE($C5,\"-\",$B5),[2]ACHIEV!$B$19:$C$100,2,FALSE)","v":"Retro12Med"},{"$f":"'[3]SC-Retro'!$C$7","v":"Retro"},{"$f":"'7PSourceSummary'!$D$2","v":"Demand Control Ventilation"},"Commercial",{"$f":"'SC-RETRO'!$A$9","v":"HVAC"},2.8141316205169624E-2,{"$f":"INDEX('SC-RETRO'!$A$66:$D$83,MATCH($J5,'SC-RETRO'!$D$66:$D$83,0),1)","v":149.6987056194283},{"$f":"INDEX('SC-RETRO'!$A$66:$D$83,MATCH($J5,'SC-RETRO'!$D$66:$D$83,0),2)","v":71.206599212828948},null,{"$f":"'SC-RETRO'!D68","v":"Demand Control Ventilation-Retro-Small Off"},{"$f":"'SC-RETRO'!E68","v":0.20988920179458964},{"$f":"'SC-RETRO'!F68","v":0.20925953418920587},{"$f":"'SC-RETRO'!G68","v":0.20863175558663827},{"$f":"'SC-RETRO'!H68","v":0.20800586031987836},{"$f":"'SC-RETRO'!I68","v":0.20738184273891869},{"$f":"'SC-RETRO'!J68","v":0.18608372748963173},{"$f":"'SC-RETRO'!K68","v":0.14842038104573033},{"$f":"'SC-RETRO'!L68","v":0.11838009592207449},{"$f":"'SC-RETRO'!M68","v":9.4419964507446608E-2},{"$f":"'SC-RETRO'!N68","v":7.5309363691139428E-2},{"$f":"'SC-RETRO'!O68","v":6.0066748480052792E-2},{"$f":"'SC-RETRO'!P68","v":4.7909238587690098E-2},{"$f":"'SC-RETRO'!Q68","v":3.8212408697541632E-2},{"$f":"'SC-RETRO'!R68","v":3.0478217177159209E-2},{"$f":"'SC-RETRO'!S68","v":2.4309426020502182E-2},{"$f":"'SC-RETRO'!T68","v":1.9389198193952545E-2},{"$f":"'SC-RETRO'!U68","v":1.3185245150991427E-4},{"$f":"'SC-RETRO'!V68","v":4.6948890769794642E-5},{"$f":"'SC-RETRO'!W68","v":1.5957287760598082E-5},{"$f":"'SC-RETRO'!X68","v":5.1878530100338131E-6},{"$f":"'SC-RETRO'!Y68","v":1.817969065080707},9.3868773978119595,8.4403254649484669,9.7126448097896017,9.0358770553560657,9.2250953151938457,9.1315956028010099,8.6751717005666791,9.0391994825353397,8.4455017070702922,9.6294767580377254,8.5215633849869103,9.2777548621094201,0,3.985289655249773,3.424043901505164,3.2843789822475151,3.4294392233292585,3.3647396872440805,2.9524657669888357,3.4665701156788256,2.8429381381705214,3.4999652245337014,3.1435147406005934,3.771571729635232,4.0127049130374584]
[{"$f":"VLOOKUP(CONCATENATE($C6,\"-\",$B6),[2]ACHIEV!$B$19:$C$100,2,FALSE)","v":"Retro12Med"},{"$f":"'[3]SC-Retro'!$C$7","v":"Retro"},{"$f":"'7PSourceSummary'!$D$2","v":"Demand Control Ventilation"},"Commercial",{"$f":"'SC-RETRO'!$A$9","v":"HVAC"},0.14317330985670251,{"$f":"INDEX('SC-RETRO'!$A$66:$D$83,MATCH($J6,'SC-RETRO'!$D$66:$D$83,0),1)","v":761.61537749468994},{"$f":"INDEX('SC-RETRO'!$A$66:$D$83,MATCH($J6,'SC-RETRO'!$D$66:$D$83,0),2)","v":67.505143780900681},null,{"$f":"'SC-RETRO'!D69","v":"Demand Control Ventilation-Retro-Xlarge Ret"},{"$f":"'SC-RETRO'!E69","v":0.72620464194851608},{"$f":"'SC-RETRO'!F69","v":0.72286410059555273},{"$f":"'SC-RETRO'!G69","v":0.71953892573281319},{"$f":"'SC-RETRO'!H69","v":0.71622904667444232},{"$f":"'SC-RETRO'!I69","v":0.71293439305973982},{"$f":"'SC-RETRO'!J69","v":0.63868940536649843},{"$f":"'SC-RETRO'!K69","v":0.50860114728145001},{"$f":"'SC-RETRO'!L69","v":0.4050092656031643},{"$f":"'SC-RETRO'!M69","v":0.32251697838511179},{"$f":"'SC-RETRO'!N69","v":0.25682672022763214},{"$f":"'SC-RETRO'!O69","v":0.20451625385166811},{"$f":"'SC-RETRO'!P69","v":0.16286038326716032},{"$f":"'SC-RETRO'!Q69","v":0.12968898040330512},{"$f":"'SC-RETRO'!R69","v":0.1032739288747599},{"$f":"'SC-RETRO'!S69","v":8.2239095041548804E-2},{"$f":"'SC-RETRO'!T69","v":6.5488636163486144E-2},{"$f":"'SC-RETRO'!U69","v":4.4462797411561614E-4},{"$f":"'SC-RETRO'!V69","v":1.5806524479815021E-4},{"$f":"'SC-RETRO'!W69","v":5.3638003865789772E-5},{"$f":"'SC-RETRO'!X69","v":1.7410196428830098E-5},{"$f":"'SC-RETRO'!Y69","v":6.1108274290486557},47.757194314064186,42.941464580910122,49.414586536810432,45.971425644828507,46.934102882410016,46.458408597312108,44.136281220462685,45.988329008286932,42.967799515345966,48.991456177276554,43.354775096060848,47.202016492864097,0,20.2757790900686,17.420354289722052,16.709787356206935,17.447803826114239,17.118634903808946,15.02112740628478,17.636712998551729,14.463888611043437,17.80661579318005,15.993118684066461,19.188456003868339,20.415258465141914]
[{"$f":"VLOOKUP(CONCATENATE($C7,\"-\",$B7),[2]ACHIEV!$B$19:$C$100,2,FALSE)","v":"Retro12Med"},{"$f":"'[3]SC-Retro'!$C$7","v":"Retro"},{"$f":"'7PSourceSummary'!$D$2","v":"Demand Control Ventilation"},"Commercial",{"$f":"'SC-RETRO'!$A$9","v":"HVAC"},6.5836785077523594E-2,{"$f":"INDEX('SC-RETRO'!$A$66:$D$83,MATCH($J7,'SC-RETRO'!$D$66:$D$83,0),1)","v":350.22105705344597},{"$f":"INDEX('SC-RETRO'!$A$66:$D$83,MATCH($J7,'SC-RETRO'!$D$66:$D$83,0),2)","v":107.52309954890019},null,{"$f":"'SC-RETRO'!D70","v":"Demand Control Ventilation-Retro-Large Ret"},{"$f":"'SC-RETRO'!E70","v":0.29161992915645008},{"$f":"'SC-RETRO'!F70","v":0.29027847748233043},{"$f":"'SC-RETRO'!G70","v":0.28894319648591171},{"$f":"'SC-RETRO'!H70","v":0.28761405778207649},{"$f":"'SC-RETRO'!I70","v":0.2862910331162789},{"$f":"'SC-RETRO'!J70","v":0.2564766849275496},{"$f":"'SC-RETRO'!K70","v":0.20423751374150631},{"$f":"'SC-RETRO'!L70","v":0.16263841694263628},{"$f":"'SC-RETRO'!M70","v":0.12951222417976013},{"$f":"'SC-RETRO'!N70","v":0.10313317435882659},{"$f":"'SC-RETRO'!O70","v":8.2127009405420781E-2},{"$f":"'SC-RETRO'!P70","v":6.5399380129724696E-2},{"$f":"'SC-RETRO'!Q70","v":5.2078834384902337E-2},{"$f":"'SC-RETRO'!R70","v":4.1471417397385441E-2},{"$f":"'SC-RETRO'!S70","v":3.3024519101885974E-2},{"$f":"'SC-RETRO'!T70","v":2.6298085051213824E-2},{"$f":"'SC-RETRO'!U70","v":1.7854798884880192E-4},{"$f":"'SC-RETRO'!V70","v":6.3473810035768639E-5},{"$f":"'SC-RETRO'!W70","v":2.1539260401125232E-5},{"$f":"'SC-RETRO'!X70","v":6.9913629793835113E-6},{"$f":"'SC-RETRO'!Y70","v":2.4539075613245633},21.960658317583651,19.746194156976962,22.722793213168,21.139490823500321,21.582168124549742,21.363424963258424,20.295618392429798,21.147263662643411,19.758304007760039,22.52822103649423,19.936250778448478,21.705365463554219,0,9.3236100469301384,8.010572099608801,7.6838251484357665,8.0231944887240552,7.8718295198363224,6.907312107678945,8.1100624433546198,6.6510715357742995,8.188190509159698,7.3542723750401473,8.823615624732005,9.3877482138038371]
[{"$f":"VLOOKUP(CONCATENATE($C8,\"-\",$B8),[2]ACHIEV!$B$19:$C$100,2,FALSE)","v":"Retro12Med"},{"$f":"'[3]SC-Retro'!$C$7","v":"Retro"},{"$f":"'7PSourceSummary'!$D$2","v":"Demand Control Ventilation"},"Commercial",{"$f":"'SC-RETRO'!$A$9","v":"HVAC"},7.0869079636211391E-2,{"$f":"INDEX('SC-RETRO'!$A$66:$D$83,MATCH($J8,'SC-RETRO'!$D$66:$D$83,0),1)","v":376.99052214310177},{"$f":"INDEX('SC-RETRO'!$A$66:$D$83,MATCH($J8,'SC-RETRO'!$D$66:$D$83,0),2)","v":69.946766956221481},null,{"$f":"'SC-RETRO'!D71","v":"Demand Control Ventilation-Retro-Medium Ret"},{"$f":"'SC-RETRO'!E71","v":0.2015101089257175},{"$f":"'SC-RETRO'!F71","v":0.20058316242465918},{"$f":"'SC-RETRO'!G71","v":0.19966047987750574},{"$f":"'SC-RETRO'!H71","v":0.1987420416700692},{"$f":"'SC-RETRO'!I71","v":0.19782782827838691},{"$f":"'SC-RETRO'!J71","v":0.1772260382414757},{"$f":"'SC-RETRO'!K71","v":0.14112863877245191},{"$f":"'SC-RETRO'!L71","v":0.11238355762727889},{"$f":"'SC-RETRO'!M71","v":8.949327460975473E-2},{"$f":"'SC-RETRO'!N71","v":7.1265284437239881E-2},{"$f":"'SC-RETRO'!O71","v":5.6749971303062863E-2},{"$f":"'SC-RETRO'!P71","v":4.5191137148055019E-2},{"$f":"'SC-RETRO'!Q71","v":3.5986606333739166E-2},{"$f":"'SC-RETRO'!R71","v":2.8656854355683173E-2},{"$f":"'SC-RETRO'!S71","v":2.2820026260517625E-2},{"$f":"'SC-RETRO'!T71","v":1.8172043311775393E-2},{"$f":"'SC-RETRO'!U71","v":1.2337711207003108E-4},{"$f":"'SC-RETRO'!V71","v":4.3860563340909569E-5},{"$f":"'SC-RETRO'!W71","v":1.4883683437429227E-5},{"$f":"'SC-RETRO'!X71","v":4.8310495088248318E-6},{"$f":"'SC-RETRO'!Y71","v":1.6956563339361799},23.639241213553557,21.255512470347519,24.459630583190961,22.755307035049338,23.231820778305078,22.996357784491252,21.846932447044779,22.763673998223229,21.268547948591447,24.25018610519211,21.460096242574458,23.364434817988165,0,10.036268662493541,8.6228674652067738,8.2711453135812913,8.6364546581165573,8.4735199701361807,7.4352787921654535,8.7299624438825116,7.1594522390469262,8.8140622994699864,7.9164028741592043,9.4980567117930814,10.105309288498299]
[{"$f":"VLOOKUP(CONCATENATE($C9,\"-\",$B9),[2]ACHIEV!$B$19:$C$100,2,FALSE)","v":"Retro12Med"},{"$f":"'[3]SC-Retro'!$C$7","v":"Retro"},{"$f":"'7PSourceSummary'!$D$2","v":"Demand Control Ventilation"},"Commercial",{"$f":"'SC-RETRO'!$A$9","v":"HVAC"},7.097292051409744E-2,{"$f":"INDEX('SC-RETRO'!$A$66:$D$83,MATCH($J9,'SC-RETRO'!$D$66:$D$83,0),1)","v":377.54290728730024},{"$f":"INDEX('SC-RETRO'!$A$66:$D$83,MATCH($J9,'SC-RETRO'!$D$66:$D$83,0),2)","v":36.981788158699914},null,{"$f":"'SC-RETRO'!D72","v":"Demand Control Ventilation-Retro-Small Ret"},{"$f":"'SC-RETRO'!E72","v":0.18532772690562069},{"$f":"'SC-RETRO'!F72","v":0.18447521936185485},{"$f":"'SC-RETRO'!G72","v":0.18362663335279028},{"$f":"'SC-RETRO'!H72","v":0.18278195083936744},{"$f":"'SC-RETRO'!I72","v":0.18194115386550636},{"$f":"'SC-RETRO'!J72","v":0.16299380210195252},{"$f":"'SC-RETRO'!K72","v":0.1297952244898268},{"$f":"'SC-RETRO'!L72","v":0.1033585331657389},{"$f":"'SC-RETRO'!M72","v":8.2306467130541197E-2},{"$f":"'SC-RETRO'!N72","v":6.5542285905392558E-2},{"$f":"'SC-RETRO'!O72","v":5.2192633112182203E-2},{"$f":"'SC-RETRO'!P72","v":4.156203759989293E-2},{"$f":"'SC-RETRO'!Q72","v":3.3096681781546726E-2},{"$f":"'SC-RETRO'!R72","v":2.6355549636281297E-2},{"$f":"'SC-RETRO'!S72","v":2.098745128636352E-2},{"$f":"'SC-RETRO'!T72","v":1.6712727208356995E-2},{"$f":"'SC-RETRO'!U72","v":1.1346924406927726E-4},{"$f":"'SC-RETRO'!V72","v":4.033831626664048E-5},{"$f":"'SC-RETRO'!W72","v":1.3688440913197088E-5},{"$f":"'SC-RETRO'!X72","v":4.4430893755760163E-6},{"$f":"'SC-RETRO'!Y72","v":1.559485703505588},23.673878598048688,21.286657097682443,24.495470042734745,22.788649235501438,23.265861190243463,23.030053184414342,21.878943652157979,22.797028458363268,21.299711676153319,24.285718676335822,21.491540636163126,23.39866954257138,0,10.050974299337751,8.6355021167653749,8.2832646044609568,8.649109218301696,8.4859357903641364,7.4461733301087891,8.7427540162965798,7.1699426222930773,8.8269770991487384,7.928002378884992,9.5119737338882882,10.120116087079772]
[{"$f":"VLOOKUP(CONCATENATE($C10,\"-\",$B10),[2]ACHIEV!$B$19:$C$100,2,FALSE)","v":"Retro12Med"},{"$f":"'[3]SC-Retro'!$C$7","v":"Retro"},{"$f":"'7PSourceSummary'!$D$2","v":"Demand Control Ventilation"},"Commercial",{"$f":"'SC-RETRO'!$A$9","v":"HVAC"},0,{"$f":"INDEX('SC-RETRO'!$A$66:$D$83,MATCH($J10,'SC-RETRO'!$D$66:$D$83,0),1)","v":0},{"$f":"INDEX('SC-RETRO'!$A$66:$D$83,MATCH($J10,'SC-RETRO'!$D$66:$D$83,0),2)","v":9999},null,{"$f":"'SC-RETRO'!D73","v":"Demand Control Ventilation-Retro-School K-12"},{"$f":"'SC-RETRO'!E73","v":0},{"$f":"'SC-RETRO'!F73","v":0},{"$f":"'SC-RETRO'!G73","v":0},{"$f":"'SC-RETRO'!H73","v":0},{"$f":"'SC-RETRO'!I73","v":0},{"$f":"'SC-RETRO'!J73","v":0},{"$f":"'SC-RETRO'!K73","v":0},{"$f":"'SC-RETRO'!L73","v":0},{"$f":"'SC-RETRO'!M73","v":0},{"$f":"'SC-RETRO'!N73","v":0},{"$f":"'SC-RETRO'!O73","v":0},{"$f":"'SC-RETRO'!P73","v":0},{"$f":"'SC-RETRO'!Q73","v":0},{"$f":"'SC-RETRO'!R73","v":0},{"$f":"'SC-RETRO'!S73","v":0},{"$f":"'SC-RETRO'!T73","v":0},{"$f":"'SC-RETRO'!U73","v":0},{"$f":"'SC-RETRO'!V73","v":0},{"$f":"'SC-RETRO'!W73","v":0},{"$f":"'SC-RETRO'!X73","v":0},{"$f":"'SC-RETRO'!Y73","v":0},0,0,0,0,0,0,0,0,0,0,0,0,0,0,0,0,0,0,0,0,0,0,0,0,0]
[{"$f":"VLOOKUP(CONCATENATE($C11,\"-\",$B11),[2]ACHIEV!$B$19:$C$100,2,FALSE)","v":"Retro12Med"},{"$f":"'[3]SC-Retro'!$C$7","v":"Retro"},{"$f":"'7PSourceSummary'!$D$2","v":"Demand Control Ventilation"},"Commercial",{"$f":"'SC-RETRO'!$A$9","v":"HVAC"},0,{"$f":"INDEX('SC-RETRO'!$A$66:$D$83,MATCH($J11,'SC-RETRO'!$D$66:$D$83,0),1)","v":0},{"$f":"INDEX('SC-RETRO'!$A$66:$D$83,MATCH($J11,'SC-RETRO'!$D$66:$D$83,0),2)","v":9999},null,{"$f":"'SC-RETRO'!D74","v":"Demand Control Ventilation-Retro-University"},{"$f":"'SC-RETRO'!E74","v":0},{"$f":"'SC-RETRO'!F74","v":0},{"$f":"'SC-RETRO'!G74","v":0},{"$f":"'SC-RETRO'!H74","v":0},{"$f":"'SC-RETRO'!I74","v":0},{"$f":"'SC-RETRO'!J74","v":0},{"$f":"'SC-RETRO'!K74","v":0},{"$f":"'SC-RETRO'!L74","v":0},{"$f":"'SC-RETRO'!M74","v":0},{"$f":"'SC-RETRO'!N74","v":0},{"$f":"'SC-RETRO'!O74","v":0},{"$f":"'SC-RETRO'!P74","v":0},{"$f":"'SC-RETRO'!Q74","v":0},{"$f":"'SC-RETRO'!R74","v":0},{"$f":"'SC-RETRO'!S74","v":0},{"$f":"'SC-RETRO'!T74","v":0},{"$f":"'SC-RETRO'!U74","v":0},{"$f":"'SC-RETRO'!V74","v":0},{"$f":"'SC-RETRO'!W74","v":0},{"$f":"'SC-RETRO'!X74","v":0},{"$f":"'SC-RETRO'!Y74","v":0},0,0,0,0,0,0,0,0,0,0,0,0,0,0,0,0,0,0,0,0,0,0,0,0,0]
[{"$f":"VLOOKUP(CONCATENATE($C12,\"-\",$B12),[2]ACHIEV!$B$19:$C$100,2,FALSE)","v":"Retro12Med"},{"$f":"'[3]SC-Retro'!$C$7","v":"Retro"},{"$f":"'7PSourceSummary'!$D$2","v":"Demand Control Ventilation"},"Commercial",{"$f":"'SC-RETRO'!$A$9","v":"HVAC"},2.0857597733308535E-4,{"$f":"INDEX('SC-RETRO'!$A$66:$D$83,MATCH($J12,'SC-RETRO'!$D$66:$D$83,0),1)","v":1.1095271309425907},{"$f":"INDEX('SC-RETRO'!$A$66:$D$83,MATCH($J12,'SC-RETRO'!$D$66:$D$83,0),2)","v":2159.5021027350244},null,{"$f":"'SC-RETRO'!D75","v":"Demand Control Ventilation-Retro-Warehouse"},{"$f":"'SC-RETRO'!E75","v":1.1171981416047525E-3},{"$f":"'SC-RETRO'!F75","v":1.1130645084808149E-3},{"$f":"'SC-RETRO'!G75","v":1.108946169799436E-3},{"$f":"'SC-RETRO'!H75","v":1.1048430689711774E-3},{"$f":"'SC-RETRO'!I75","v":1.1007551496159847E-3},{"$f":"'SC-RETRO'!J75","v":9.8701412000616476E-4},{"$f":"'SC-RETRO'!K75","v":7.8668973420971367E-4},{"$f":"'SC-RETRO'!L75","v":6.2702318575451007E-4},{"$f":"'SC-RETRO'!M75","v":4.9976255997377476E-4},{"$f":"'SC-RETRO'!N75","v":3.9833075080149743E-4},{"$f":"'SC-RETRO'!O75","v":3.1748554161882547E-4},{"$f":"'SC-RETRO'!P75","v":2.5304867609186865E-4},{"$f":"'SC-RETRO'!Q75","v":2.0168991679226289E-4},{"$f":"'SC-RETRO'!R75","v":1.6075493128010526E-4},{"$f":"'SC-RETRO'!S75","v":1.2812811042749511E-4},{"$f":"'SC-RETRO'!T75","v":1.0212322913513069E-4},{"$f":"'SC-RETRO'!U75","v":6.9398146237362976E-7},{"$f":"'SC-RETRO'!V75","v":2.4693347534395007E-7},{"$f":"'SC-RETRO'!W75","v":8.3870393688610885E-8},{"$f":"'SC-RETRO'!X75","v":2.7247849967151247E-8},{"$f":"'SC-RETRO'!Y75","v":9.5551188578879148E-3},6.9573047439579663E-2,6.2557455380766999E-2,7.1987549158018291E-2,6.6971525927997475E-2,6.8373961520817414E-2,6.7680966433078193E-2,6.4298073437148703E-2,6.6996150877697142E-2,6.259582031549861E-2,7.137112960071805E-2,6.3159569313356007E-2,6.8764260126033872E-2,0,2.9537910691130223E-2,2.5378105913064393E-2,2.4342946547350034E-2,2.541809460848584E-2,2.4938558794539649E-2,2.1882893763833532E-2,2.5693298941666165E-2,2.10711040074767E-2,2.5940814637690046E-2,2.3298898121946493E-2,2.7953890068794739E-2,2.9741105315902416E-2]
[{"$f":"VLOOKUP(CONCATENATE($C13,\"-\",$B13),[2]ACHIEV!$B$19:$C$100,2,FALSE)","v":"Retro12Med"},{"$f":"'[3]SC-Retro'!$C$7","v":"Retro"},{"$f":"'7PSourceSummary'!$D$2","v":"Demand Control Ventilation"},"Commercial",{"$f":"'SC-RETRO'!$A$9","v":"HVAC"},9.6319130805848405E-2,{"$f":"INDEX('SC-RETRO'!$A$66:$D$83,MATCH($J13,'SC-RETRO'!$D$66:$D$83,0),1)","v":512.37295025223909},{"$f":"INDEX('SC-RETRO'!$A$66:$D$83,MATCH($J13,'SC-RETRO'!$D$66:$D$83,0),2)","v":51.38514173949627},null,{"$f":"'SC-RETRO'!D76","v":"Demand Control Ventilation-Retro-Supermarket"},{"$f":"'SC-RETRO'!E76","v":0.1267524332366059},{"$f":"'SC-RETRO'!F76","v":0.12561166133747645},{"$f":"'SC-RETRO'!G76","v":0.1244811563854392},{"$f":"'SC-RETRO'!H76","v":0.12336082597797025},{"$f":"'SC-RETRO'!I76","v":0.1222505785441685},{"$f":"'SC-RETRO'!J76","v":0.10903529100354388},{"$f":"'SC-RETRO'!K76","v":8.6443178707609605E-2},{"$f":"'SC-RETRO'!L76","v":6.8532152079392866E-2},{"$f":"'SC-RETRO'!M76","v":5.4332290168542685E-2},{"$f":"'SC-RETRO'!N76","v":4.3074639645620631E-2},{"$f":"'SC-RETRO'!O76","v":3.4149574311048043E-2},{"$f":"'SC-RETRO'!P76","v":2.707378251379889E-2},{"$f":"'SC-RETRO'!Q76","v":2.1464094776939755E-2},{"$f":"'SC-RETRO'!R76","v":1.7016734339157839E-2},{"$f":"'SC-RETRO'!S76","v":1.3490866984084334E-2},{"$f":"'SC-RETRO'!T76","v":1.0695559344982062E-2},{"$f":"'SC-RETRO'!U76","v":7.2295348726622149E-5},{"$f":"'SC-RETRO'!V76","v":2.5587389495751635E-5},{"$f":"'SC-RETRO'!W76","v":8.6444669285576123E-6},{"$f":"'SC-RETRO'!X76","v":2.7934782803040018E-6},{"$f":"'SC-RETRO'!Y76","v":0.98483988607610073},{"$f":"VLOOKUP($J13,MeasureOutputR,COLUMN()-17,FALSE)","v":32.128414511479747},28.888656329193338,33.243416870921386,30.92704753733317,31.574683852113001,31.254662892090511,29.692463269951013,30.938419190874185,28.906373025114029,32.958758029907926,{"$f":"VLOOKUP($J13,MeasureOutputR,COLUMN()-17,FALSE)","v":29.166708918828093},31.754921398593012,0,13.640429353218437,11.719456546721796,11.241426182793955,11.737923085554803,11.516476333248272,10.105388615694746,11.865010790020408,9.7305089927911226,11.979312048519381,10.75929090460949,12.908938164862432,13.734263407804802]
[{"$f":"VLOOKUP(CONCATENATE($C14,\"-\",$B14),[2]ACHIEV!$B$19:$C$100,2,FALSE)","v":"Retro12Med"},{"$f":"'[3]SC-Retro'!$C$7","v":"Retro"},{"$f":"'7PSourceSummary'!$D$2","v":"Demand Control Ventilation"},"Commercial",{"$f":"'SC-RETRO'!$A$9","v":"HVAC"},3.4878346336138247E-2,{"$f":"INDEX('SC-RETRO'!$A$66:$D$83,MATCH($J14,'SC-RETRO'!$D$66:$D$83,0),1)","v":185.53657059248951},{"$f":"INDEX('SC-RETRO'!$A$66:$D$83,MATCH($J14,'SC-RETRO'!$D$66:$D$83,0),2)","v":124.70393728670334},null,{"$f":"'SC-RETRO'!D77","v":"Demand Control Ventilation-Retro-MiniMart"},{"$f":"'SC-RETRO'!E77","v":2.5464593728231379E-2},{"$f":"'SC-RETRO'!F77","v":2.5344400845834128E-2},{"$f":"'SC-RETRO'!G77","v":2.5224775273841798E-2},{"$f":"'SC-RETRO'!H77","v":2.5105714334549264E-2},{"$f":"'SC-RETRO'!I77","v":2.498721536289019E-2},{"$f":"'SC-RETRO'!J77","v":2.2382348135739617E-2},{"$f":"'SC-RETRO'!K77","v":1.7821362762031143E-2},{"$f":"'SC-RETRO'!L77","v":1.4189796743835484E-2},{"$f":"'SC-RETRO'!M77","v":1.1298256722563668E-2},{"$f":"'SC-RETRO'!N77","v":8.9959431606665332E-3},{"$f":"'SC-RETRO'!O77","v":7.1627858471585478E-3},{"$f":"'SC-RETRO'!P77","v":5.703181998367968E-3},{"$f":"'SC-RETRO'!Q77","v":4.541010383468538E-3},{"$f":"'SC-RETRO'!R77","v":3.615661451566853E-3},{"$f":"'SC-RETRO'!S77","v":2.8788764236123659E-3},{"$f":"'SC-RETRO'!T77","v":2.2922305015143328E-3},{"$f":"'SC-RETRO'!U77","v":1.5560973564653069E-5},{"$f":"'SC-RETRO'!V77","v":5.5312592033688153E-6},{"$f":"'SC-RETRO'!W77","v":1.8767562477138296E-6},{"$f":"'SC-RETRO'!X77","v":6.0909716029525937E-7},{"$f":"'SC-RETRO'!Y77","v":0.21381357861235986},11.634095523776876,10.460939090763654,12.037851642969921,11.199065711417539,11.433582816148094,11.317699275826422,10.752007507106086,11.20318352754918,10.467354525071293,11.934773162491066,10.561625366063309,11.498849056782854,0,4.9393678615535359,4.2437598936790479,4.0706591975580118,4.2504468553621377,4.1702582525649543,3.6592859699899716,4.2964668820622451,3.5235374306022016,4.3378567788276081,3.8960720613089883,4.6744858719024736,4.9733463311120323]
[{"$f":"VLOOKUP(CONCATENATE($C15,\"-\",$B15),[2]ACHIEV!$B$19:$C$100,2,FALSE)","v":"Retro12Med"},{"$f":"'[3]SC-Retro'!$C$7","v":"Retro"},{"$f":"'7PSourceSummary'!$D$2","v":"Demand Control Ventilation"},"Commercial",{"$f":"'SC-RETRO'!$A$9","v":"HVAC"},9.1107281395536907E-2,{"$f":"INDEX('SC-RETRO'!$A$66:$D$83,MATCH($J15,'SC-RETRO'!$D$66:$D$83,0),1)","v":484.64833691437099},{"$f":"INDEX('SC-RETRO'!$A$66:$D$83,MATCH($J15,'SC-RETRO'!$D$66:$D$83,0),2)","v":58.498402543503737},null,{"$f":"'SC-RETRO'!D78","v":"Demand Control Ventilation-Retro-Restaurant"},{"$f":"'SC-RETRO'!E78","v":0.11936660561536501},{"$f":"'SC-RETRO'!F78","v":0.11880319523686049},{"$f":"'SC-RETRO'!G78","v":0.1182424441553425},{"$f":"'SC-RETRO'!H78","v":0.1176843398189293},{"$f":"'SC-RETRO'!I78","v":0.11712886973498395},{"$f":"'SC-RETRO'!J78","v":0.10491841932285134},{"$f":"'SC-RETRO'!K78","v":8.3538563506918018E-2},{"$f":"'SC-RETRO'!L78","v":6.6515409189732283E-2},{"$f":"'SC-RETRO'!M78","v":5.2961165166685406E-2},{"$f":"'SC-RETRO'!N78","v":4.2168950773678923E-2},{"$f":"'SC-RETRO'!O78","v":3.3575930660821728E-2},{"$f":"'SC-RETRO'!P78","v":2.6733961814482125E-2},{"$f":"'SC-RETRO'!Q78","v":2.1286222011774214E-2},{"$f":"'SC-RETRO'!R78","v":1.6948600835102912E-2},{"$f":"'SC-RETRO'!S78","v":1.349488275132898E-2},{"$f":"'SC-RETRO'!T78","v":1.0744949523794166E-2},{"$f":"'SC-RETRO'!U78","v":7.2942871749953969E-5},{"$f":"'SC-RETRO'!V78","v":2.5928064784041622E-5},{"$f":"'SC-RETRO'!W78","v":8.7973923812759024E-6},{"$f":"'SC-RETRO'!X78","v":2.8551745725987171E-6},{"$f":"'SC-RETRO'!Y78","v":1.0022622542426884},30.389938916601029,27.325484764060658,31.444608252468498,29.253578174377314,29.866170745333442,29.563466190035808,28.085797533980799,29.264334505237297,27.342242805657804,31.175352364121494,27.588491866748019,30.036655598423483,0,12.902342712629167,11.085314168347111,10.633150132837143,11.102781478691217,10.893317258990288,9.5585838090375912,11.222992439440022,9.2039890052059601,11.331108831633394,10.177103300886285,12.210432673799584,12.991099385827523]
[{"$f":"VLOOKUP(CONCATENATE($C16,\"-\",$B16),[2]ACHIEV!$B$19:$C$100,2,FALSE)","v":"Retro12Med"},{"$f":"'[3]SC-Retro'!$C$7","v":"Retro"},{"$f":"'7PSourceSummary'!$D$2","v":"Demand Control Ventilation"},"Commercial",{"$f":"'SC-RETRO'!$A$9","v":"HVAC"},3.5764980345271799E-2,{"$f":"INDEX('SC-RETRO'!$A$66:$D$83,MATCH($J16,'SC-RETRO'!$D$66:$D$83,0),1)","v":190.25305089347401},{"$f":"INDEX('SC-RETRO'!$A$66:$D$83,MATCH($J16,'SC-RETRO'!$D$66:$D$83,0),2)","v":56.106203430512835},null,{"$f":"'SC-RETRO'!D79","v":"Demand Control Ventilation-Retro-Lodging"},{"$f":"'SC-RETRO'!E79","v":8.3169527287748943E-2},{"$f":"'SC-RETRO'!F79","v":8.2969920422258356E-2},{"$f":"'SC-RETRO'!G79","v":8.2770792613244909E-2},{"$f":"'SC-RETRO'!H79","v":8.2572142710973129E-2},{"$f":"'SC-RETRO'!I79","v":8.2373969568466821E-2},{"$f":"'SC-RETRO'!J79","v":7.3958644837352233E-2},{"$f":"'SC-RETRO'!K79","v":5.9024915271794078E-2},{"$f":"'SC-RETRO'!L79","v":4.710660438011343E-2},{"$f":"'SC-RETRO'!M79","v":3.7594838823680921E-2},{"$f":"'SC-RETRO'!N79","v":3.0003688968403271E-2},{"$f":"'SC-RETRO'!O79","v":2.3945344091903287E-2},{"$f":"'SC-RETRO'!P79","v":1.911030021286618E-2},{"$f":"'SC-RETRO'!Q79","v":1.5251548393884238E-2},{"$f":"'SC-RETRO'!R79","v":1.2171955742191137E-2},{"$f":"'SC-RETRO'!S79","v":9.7141944387279001E-3},{"$f":"'SC-RETRO'!T79","v":7.7527042976599627E-3},{"$f":"'SC-RETRO'!U79","v":5.2752477467454076E-5},{"$f":"'SC-RETRO'!V79","v":1.8794954114838714E-5},{"$f":"'SC-RETRO'!W79","v":6.3919930312741691E-6},{"$f":"'SC-RETRO'!X79","v":2.0793431243633173E-6},{"$f":"'SC-RETRO'!Y79","v":0.72822184881325736},11.92984305313154,10.726864094086867,12.343862959008225,11.483754453096102,11.724233160443182,11.605403772661953,11.025331690265029,11.487976947235998,10.733442613598884,12.238164145399997,10.830109890846437,11.791158518400692,0,5.0649303376947019,4.3516394878567759,4.1741384407928814,4.3584964371760035,4.2762693792955506,3.7523077938709037,4.4056863278478788,3.6131084236853814,4.4481283871714385,3.9951131671659041,4.793314847029337,5.0997725657123452]
[{"$f":"VLOOKUP(CONCATENATE($C17,\"-\",$B17),[2]ACHIEV!$B$19:$C$100,2,FALSE)","v":"Retro12Med"},{"$f":"'[3]SC-Retro'!$C$7","v":"Retro"},{"$f":"'7PSourceSummary'!$D$2","v":"Demand Control Ventilation"},"Commercial",{"$f":"'SC-RETRO'!$A$9","v":"HVAC"},5.6007733841898933E-3,{"$f":"INDEX('SC-RETRO'!$A$66:$D$83,MATCH($J17,'SC-RETRO'!$D$66:$D$83,0),1)","v":29.793507878887006},{"$f":"INDEX('SC-RETRO'!$A$66:$D$83,MATCH($J17,'SC-RETRO'!$D$66:$D$83,0),2)","v":418.30386323535356},null,{"$f":"'SC-RETRO'!D80","v":"Demand Control Ventilation-Retro-Hospital"},{"$f":"'SC-RETRO'!E80","v":4.2053846110429007E-3},{"$f":"'SC-RETRO'!F80","v":4.1965533033597093E-3},{"$f":"'SC-RETRO'!G80","v":4.1877405414226538E-3},{"$f":"'SC-RETRO'!H80","v":4.1789462862856673E-3},{"$f":"'SC-RETRO'!I80","v":4.1701704990844664E-3},{"$f":"'SC-RETRO'!J80","v":3.7452718269327507E-3},{"$f":"'SC-RETRO'!K80","v":2.9899254048769541E-3},{"$f":"'SC-RETRO'!L80","v":2.3869172492213694E-3},{"$f":"'SC-RETRO'!M80","v":1.905523778398404E-3},{"$f":"'SC-RETRO'!N80","v":1.5212177427710136E-3},{"$f":"'SC-RETRO'!O80","v":1.2144185484089557E-3},{"$f":"'SC-RETRO'!P80","v":9.6949461556583734E-4},{"$f":"'SC-RETRO'!Q80","v":7.739669414985194E-4},{"$f":"'SC-RETRO'!R80","v":6.1787328873709804E-4},{"$f":"'SC-RETRO'!S80","v":4.9326060386460006E-4},{"$f":"'SC-RETRO'!T80","v":3.9377980527718751E-4},{"$f":"'SC-RETRO'!U80","v":2.6802398695675695E-6},{"$f":"'SC-RETRO'!V80","v":9.5521834494367901E-7},{"$f":"'SC-RETRO'!W80","v":3.2495876809935601E-7},{"$f":"'SC-RETRO'!X80","v":1.057422895724375E-7},{"$f":"'SC-RETRO'!Y80","v":3.7021641565560301E-2},1.8682059043372314,1.6798201574274452,1.9330411606961937,1.7983487106816138,1.8360075247106276,1.8173989174663434,1.7265599949047716,1.7990099506030488,1.6808503494374663,1.9164887930929591,1.6959883841379879,1.8464879935926792,0,0.79316489913538146,0.68146400154250508,0.65366744942744903,0.68253779548487858,0.66966109003750773,0.58760903594285863,0.68992770262662317,0.56581050229053598,0.69657410237114392,0.6256322043931305,0.75063008446007118,0.79862117008655209]
[{"$f":"VLOOKUP(CONCATENATE($C18,\"-\",$B18),[2]ACHIEV!$B$19:$C$100,2,FALSE)","v":"Retro12Med"},{"$f":"'[3]SC-Retro'!$C$7","v":"Retro"},{"$f":"'7PSourceSummary'!$D$2","v":"Demand Control Ventilation"},"Commercial",{"$f":"'SC-RETRO'!$A$9","v":"HVAC"},2.497017205244545E-2,{"$f":"INDEX('SC-RETRO'!$A$66:$D$83,MATCH($J18,'SC-RETRO'!$D$66:$D$83,0),1)","v":132.82969453499928},{"$f":"INDEX('SC-RETRO'!$A$66:$D$83,MATCH($J18,'SC-RETRO'!$D$66:$D$83,0),2)","v":74.603964615879462},null,{"$f":"'SC-RETRO'!D81","v":"Demand Control Ventilation-Retro-Residential Care"},{"$f":"'SC-RETRO'!E81","v":5.855489575241829E-2},{"$f":"'SC-RETRO'!F81","v":5.8414364002612483E-2},{"$f":"'SC-RETRO'!G81","v":5.8274169529006221E-2},{"$f":"'SC-RETRO'!H81","v":5.8134311522136606E-2},{"$f":"'SC-RETRO'!I81","v":5.7994789174483488E-2},{"$f":"'SC-RETRO'!J81","v":5.2070041512418251E-2},{"$f":"'SC-RETRO'!K81","v":4.1556058730230758E-2},{"$f":"'SC-RETRO'!L81","v":3.3165059351422568E-2},{"$f":"'SC-RETRO'!M81","v":2.646837056718333E-2},{"$f":"'SC-RETRO'!N81","v":2.112387718225767E-2},{"$f":"'SC-RETRO'!O81","v":1.6858543901616205E-2},{"$f":"'SC-RETRO'!P81","v":1.3454466717001859E-2},{"$f":"'SC-RETRO'!Q81","v":1.0737740797504846E-2},{"$f":"'SC-RETRO'!R81","v":8.5695761756726628E-3},{"$f":"'SC-RETRO'!S81","v":6.8392073542808433E-3},{"$f":"'SC-RETRO'!T81","v":5.4582346053044552E-3},{"$f":"'SC-RETRO'!U81","v":3.7139994893821791E-5},{"$f":"'SC-RETRO'!V81","v":1.3232449609317157E-5},{"$f":"'SC-RETRO'!W81","v":4.5002358171581888E-6},{"$f":"'SC-RETRO'!X81","v":1.4639462775753526E-6},{"$f":"'SC-RETRO'!Y81","v":0.51269925214754353},8.3291037970540174,7.4892154120240972,8.6181616459071311,8.0176564263023646,8.1855523580052942,8.1025887933915524,7.6975976663046799,8.0206044610599907,7.4938083619566731,8.5443655040930668,7.5612989217559576,8.2322778891460224,0,3.5362016348097112,3.0382006553056735,2.914274075677044,3.0429879976333649,2.9855792205889031,2.6197629721073015,3.0759347426850123,2.522577619576162,3.1055666763066254,2.7892833210045698,3.3465668169362495,3.560527565367817]
[{"$f":"VLOOKUP(CONCATENATE($C19,\"-\",$B19),[2]ACHIEV!$B$19:$C$100,2,FALSE)","v":"Retro12Med"},{"$f":"'[3]SC-Retro'!$C$7","v":"Retro"},{"$f":"'7PSourceSummary'!$D$2","v":"Demand Control Ventilation"},"Commercial",{"$f":"'SC-RETRO'!$A$9","v":"HVAC"},1.9567263000495896E-2,{"$f":"INDEX('SC-RETRO'!$A$66:$D$83,MATCH($J19,'SC-RETRO'!$D$66:$D$83,0),1)","v":104.08873282021779},{"$f":"INDEX('SC-RETRO'!$A$66:$D$83,MATCH($J19,'SC-RETRO'!$D$66:$D$83,0),2)","v":0},null,{"$f":"'SC-RETRO'!D82","v":"Demand Control Ventilation-Retro-Assembly"},{"$f":"'SC-RETRO'!E82","v":0.19547716888021138},{"$f":"'SC-RETRO'!F82","v":0.1946001279825022},{"$f":"'SC-RETRO'!G82","v":0.19372702207495401},{"$f":"'SC-RETRO'!H82","v":0.19285783350257779},{"$f":"'SC-RETRO'!I82","v":0.1919925446895962},{"$f":"'SC-RETRO'!J82","v":0.17201802432517999},{"$f":"'SC-RETRO'!K82","v":0.13699698943149949},{"$f":"'SC-RETRO'!L82","v":0.10910586368446677},{"$f":"'SC-RETRO'!M82","v":8.6893073634188647E-2},{"$f":"'SC-RETRO'!N82","v":6.9202570701719951E-2},{"$f":"'SC-RETRO'!O82","v":5.5113665467603913E-2},{"$f":"'SC-RETRO'!P82","v":4.3893111057498088E-2},{"$f":"'SC-RETRO'!Q82","v":3.4956941839376095E-2},{"$f":"'SC-RETRO'!R82","v":2.7840081354925408E-2},{"$f":"'SC-RETRO'!S82","v":2.2172137751930381E-2},{"$f":"'SC-RETRO'!T82","v":1.7658127008440043E-2},{"$f":"'SC-RETRO'!U82","v":1.1990158330037815E-4},{"$f":"'SC-RETRO'!V82","v":4.2629866022621645E-5},{"$f":"'SC-RETRO'!W82","v":1.4467704553628683E-5},{"$f":"'SC-RETRO'!X82","v":4.6965628649915343E-6},{"$f":"'SC-RETRO'!Y82","v":1.6482650257250504},6.5268979409945134,5.8687400041399007,6.7534110358577317,6.2828398463401891,6.4144073760089615,6.3493950130646413,6.0320336476750898,6.2851500014851309,5.8723391567244345,6.6955824989832236,5.9252264788810303,6.4510226926654965,0,2.7710576949880759,2.3808114395760813,2.2836994144265468,2.384562922994081,2.3395759426638509,2.0529130102315043,2.4103808318207336,1.9767560919380041,2.4336011699573525,2.1857534746000229,2.6224550202613006,2.7901201139398761]
[{"$f":"VLOOKUP(CONCATENATE($C20,\"-\",$B20),[2]ACHIEV!$B$19:$C$100,2,FALSE)","v":"Retro12Med"},{"$f":"'[3]SC-Retro'!$C$7","v":"Retro"},{"$f":"'7PSourceSummary'!$D$2","v":"Demand Control Ventilation"},"Commercial",{"$f":"'SC-RETRO'!$A$9","v":"HVAC"},1.2621199695761599E-2,{"$f":"INDEX('SC-RETRO'!$A$66:$D$83,MATCH($J20,'SC-RETRO'!$D$66:$D$83,0),1)","v":67.138908643965635},{"$f":"INDEX('SC-RETRO'!$A$66:$D$83,MATCH($J20,'SC-RETRO'!$D$66:$D$83,0),2)","v":165.04683406747512},null,{"$f":"'SC-RETRO'!D83","v":"Demand Control Ventilation-Retro-Other"},{"$f":"'SC-RETRO'!E83","v":8.4650829554743456E-2},{"$f":"'SC-RETRO'!F83","v":8.3888972088750763E-2},{"$f":"'SC-RETRO'!G83","v":8.3133971339951998E-2},{"$f":"'SC-RETRO'!H83","v":8.2385765597892444E-2},{"$f":"'SC-RETRO'!I83","v":8.1644293707511417E-2},{"$f":"'SC-RETRO'!J83","v":7.2818545557729417E-2},{"$f":"'SC-RETRO'!K83","v":5.7730542918167892E-2},{"$f":"'SC-RETRO'!L83","v":4.576877442552351E-2},{"$f":"'SC-RETRO'!M83","v":3.6285484364555039E-2},{"$f":"'SC-RETRO'!N83","v":2.8767132004219226E-2},{"$f":"'SC-RETRO'!O83","v":2.2806582252945008E-2},{"$f":"'SC-RETRO'!P83","v":1.8081058410134798E-2},{"$f":"'SC-RETRO'!Q83","v":1.433466310755487E-2},{"$f":"'SC-RETRO'!R83","v":1.1364520911669502E-2},{"$f":"'SC-RETRO'!S83","v":9.0097921787715782E-3},{"$f":"'SC-RETRO'!T83","v":7.1429632393301083E-3},{"$f":"'SC-RETRO'!U83","v":4.8282002060143644E-5},{"$f":"'SC-RETRO'!V83","v":1.7088380014863245E-5},{"$f":"'SC-RETRO'!W83","v":5.7731538391455135E-6},{"$f":"'SC-RETRO'!X83","v":1.8656072134684638E-6},{"$f":"'SC-RETRO'!Y83","v":0.65771923430708967},4.2099542641737502,3.7854317976345104,4.3560588575397823,4.0525328634432922,4.1373960385018353,4.0954620176123111,3.8907588269719251,4.0540229507085259,3.7877533090029516,4.3187585201349865,3.8218664833541909,4.1610135073033723,0,1.7873768311917198,1.5356617129376675,1.4730228930760938,1.538081480146434,1.5090641534798102,1.3241619463847465,1.5547344470442515,1.2750395078519943,1.5697119390224576,1.4098461848206636,1.6915257132809829,1.7996723983473737]

{"sheet":"SC-RETRO","index":2,"n_rows":164,"n_cols":25,"rows_kept":164,"cut":false,"hidden":false,"merged":[[0,1,5,18]]}
["Units Methodology"]
[]
["Forecast Version"]
[]
[]
[]
[null,"Vintage","Retro","Stock 2016"]
["End-Use:","Measure Bundle",{"$f":"[2]MLIST!$D$40","v":"Demand Control Ventilation-Retro"},{"$f":"[5]!switch_ForecastState","v":"Region"}]
[{"$f":"INDEX([2]ACHIEV!$A$19:$B$100,MATCH(C8,[2]ACHIEV!$B$19:$B$100,0),1)","v":"HVAC"},"Report Year",{"$f":"[2]FILES!$H$4","v":2035},{"$f":"[5]!switch_ForecastScenario","v":"Base"}]
[null,"Total Potential (aMW)",{"$f":"MIN(SUM(E85:X85),Y85)","v":21.228186154993367}]
["FLOOR AREA FOR EXISTING STOCK",null,null,null,2016,{"$f":"E11+1","v":2017},2018,2019,2020,2021,2022,2023,2024,2025,2026,2027,2028,2029,2030,2031,2032,2033,2034,2035]
["INCLUDES APPLICABILITY FACTOR",null,null,null,{"$f":"CONCATENATE(\"FLOOR_\",E11)","v":"FLOOR_2016"},"FLOOR_2017","FLOOR_2018","FLOOR_2019","FLOOR_2020","FLOOR_2021","FLOOR_2022","FLOOR_2023","FLOOR_2024","FLOOR_2025","FLOOR_2026","FLOOR_2027","FLOOR_2028","FLOOR_2029","FLOOR_2030","FLOOR_2031","FLOOR_2032","FLOOR_2033","FLOOR_2034",{"$f":"CONCATENATE(\"FLOOR_\",X11)","v":"FLOOR_2035"}]
[null,null,"Large Off",null,{"$f":"INDEX([5]!tbl_Forecast,MATCH($D$8&$C13&$D$7,[5]!rng_ForecastRowLookup,0),MATCH(E$11,[5]!rng_ForecastColumnLookup,0))","v":380.08828477966154},{"$f":"INDEX([5]!tbl_Forecast,MATCH($D$8&$C13&$D$7,[5]!rng_ForecastRowLookup,0),MATCH(F$11,[5]!rng_ForecastColumnLookup,0))","v":378.94801992532251},{"$f":"INDEX([5]!tbl_Forecast,MATCH($D$8&$C13&$D$7,[5]!rng_ForecastRowLookup,0),MATCH(G$11,[5]!rng_ForecastColumnLookup,0))","v":377.81117586554655},{"$f":"INDEX([5]!tbl_Forecast,MATCH($D$8&$C13&$D$7,[5]!rng_ForecastRowLookup,0),MATCH(H$11,[5]!rng_ForecastColumnLookup,0))","v":376.67774233794995},{"$f":"INDEX([5]!tbl_Forecast,MATCH($D$8&$C13&$D$7,[5]!rng_ForecastRowLookup,0),MATCH(I$11,[5]!rng_ForecastColumnLookup,0))","v":375.54770911093607},{"$f":"INDEX([5]!tbl_Forecast,MATCH($D$8&$C13&$D$7,[5]!rng_ForecastRowLookup,0),MATCH(J$11,[5]!rng_ForecastColumnLookup,0))","v":374.42106598360328},{"$f":"INDEX([5]!tbl_Forecast,MATCH($D$8&$C13&$D$7,[5]!rng_ForecastRowLookup,0),MATCH(K$11,[5]!rng_ForecastColumnLookup,0))","v":373.29780278565244},{"$f":"INDEX([5]!tbl_Forecast,MATCH($D$8&$C13&$D$7,[5]!rng_ForecastRowLookup,0),MATCH(L$11,[5]!rng_ForecastColumnLookup,0))","v":372.17790937729552},{"$f":"INDEX([5]!tbl_Forecast,MATCH($D$8&$C13&$D$7,[5]!rng_ForecastRowLookup,0),MATCH(M$11,[5]!rng_ForecastColumnLookup,0))","v":371.06137564916361},{"$f":"INDEX([5]!tbl_Forecast,MATCH($D$8&$C13&$D$7,[5]!rng_ForecastRowLookup,0),MATCH(N$11,[5]!rng_ForecastColumnLookup,0))","v":369.94819152221612},{"$f":"INDEX([5]!tbl_Forecast,MATCH($D$8&$C13&$D$7,[5]!rng_ForecastRowLookup,0),MATCH(O$11,[5]!rng_ForecastColumnLookup,0))","v":368.83834694764948},{"$f":"INDEX([5]!tbl_Forecast,MATCH($D$8&$C13&$D$7,[5]!rng_ForecastRowLookup,0),MATCH(P$11,[5]!rng_ForecastColumnLookup,0))","v":367.73183190680658},{"$f":"INDEX([5]!tbl_Forecast,MATCH($D$8&$C13&$D$7,[5]!rng_ForecastRowLookup,0),MATCH(Q$11,[5]!rng_ForecastColumnLookup,0))","v":366.62863641108612},{"$f":"INDEX([5]!tbl_Forecast,MATCH($D$8&$C13&$D$7,[5]!rng_ForecastRowLookup,0),MATCH(R$11,[5]!rng_ForecastColumnLookup,0))","v":365.52875050185287},{"$f":"INDEX([5]!tbl_Forecast,MATCH($D$8&$C13&$D$7,[5]!rng_ForecastRowLookup,0),MATCH(S$11,[5]!rng_ForecastColumnLookup,0))","v":364.43216425034728},{"$f":"INDEX([5]!tbl_Forecast,MATCH($D$8&$C13&$D$7,[5]!rng_ForecastRowLookup,0),MATCH(T$11,[5]!rng_ForecastColumnLookup,0))","v":363.33886775759629},{"$f":"INDEX([5]!tbl_Forecast,MATCH($D$8&$C13&$D$7,[5]!rng_ForecastRowLookup,0),MATCH(U$11,[5]!rng_ForecastColumnLookup,0))","v":362.24885115432346},{"$f":"INDEX([5]!tbl_Forecast,MATCH($D$8&$C13&$D$7,[5]!rng_ForecastRowLookup,0),MATCH(V$11,[5]!rng_ForecastColumnLookup,0))","v":361.16210460086046},{"$f":"INDEX([5]!tbl_Forecast,MATCH($D$8&$C13&$D$7,[5]!rng_ForecastRowLookup,0),MATCH(W$11,[5]!rng_ForecastColumnLookup,0))","v":360.07861828705791},{"$f":"INDEX([5]!tbl_Forecast,MATCH($D$8&$C13&$D$7,[5]!rng_ForecastRowLookup,0),MATCH(X$11,[5]!rng_ForecastColumnLookup,0))","v":358.99838243219671}]
[null,null,"Medium Off",null,{"$f":"INDEX([5]!tbl_Forecast,MATCH($D$8&$C14&$D$7,[5]!rng_ForecastRowLookup,0),MATCH(E$11,[5]!rng_ForecastColumnLookup,0))","v":190.73687138333023},{"$f":"INDEX([5]!tbl_Forecast,MATCH($D$8&$C14&$D$7,[5]!rng_ForecastRowLookup,0),MATCH(F$11,[5]!rng_ForecastColumnLookup,0))","v":190.16466076918024},{"$f":"INDEX([5]!tbl_Forecast,MATCH($D$8&$C14&$D$7,[5]!rng_ForecastRowLookup,0),MATCH(G$11,[5]!rng_ForecastColumnLookup,0))","v":189.59416678687271},{"$f":"INDEX([5]!tbl_Forecast,MATCH($D$8&$C14&$D$7,[5]!rng_ForecastRowLookup,0),MATCH(H$11,[5]!rng_ForecastColumnLookup,0))","v":189.02538428651209},{"$f":"INDEX([5]!tbl_Forecast,MATCH($D$8&$C14&$D$7,[5]!rng_ForecastRowLookup,0),MATCH(I$11,[5]!rng_ForecastColumnLookup,0))","v":188.45830813365254},{"$f":"INDEX([5]!tbl_Forecast,MATCH($D$8&$C14&$D$7,[5]!rng_ForecastRowLookup,0),MATCH(J$11,[5]!rng_ForecastColumnLookup,0))","v":187.89293320925157},{"$f":"INDEX([5]!tbl_Forecast,MATCH($D$8&$C14&$D$7,[5]!rng_ForecastRowLookup,0),MATCH(K$11,[5]!rng_ForecastColumnLookup,0))","v":187.32925440962381},{"$f":"INDEX([5]!tbl_Forecast,MATCH($D$8&$C14&$D$7,[5]!rng_ForecastRowLookup,0),MATCH(L$11,[5]!rng_ForecastColumnLookup,0))","v":186.76726664639497},{"$f":"INDEX([5]!tbl_Forecast,MATCH($D$8&$C14&$D$7,[5]!rng_ForecastRowLookup,0),MATCH(M$11,[5]!rng_ForecastColumnLookup,0))","v":186.20696484645578},{"$f":"INDEX([5]!tbl_Forecast,MATCH($D$8&$C14&$D$7,[5]!rng_ForecastRowLookup,0),MATCH(N$11,[5]!rng_ForecastColumnLookup,0))","v":185.64834395191642},{"$f":"INDEX([5]!tbl_Forecast,MATCH($D$8&$C14&$D$7,[5]!rng_ForecastRowLookup,0),MATCH(O$11,[5]!rng_ForecastColumnLookup,0))","v":185.09139892006067},{"$f":"INDEX([5]!tbl_Forecast,MATCH($D$8&$C14&$D$7,[5]!rng_ForecastRowLookup,0),MATCH(P$11,[5]!rng_ForecastColumnLookup,0))","v":184.5361247233005},{"$f":"INDEX([5]!tbl_Forecast,MATCH($D$8&$C14&$D$7,[5]!rng_ForecastRowLookup,0),MATCH(Q$11,[5]!rng_ForecastColumnLookup,0))","v":183.98251634913058},{"$f":"INDEX([5]!tbl_Forecast,MATCH($D$8&$C14&$D$7,[5]!rng_ForecastRowLookup,0),MATCH(R$11,[5]!rng_ForecastColumnLookup,0))","v":183.43056880008319},{"$f":"INDEX([5]!tbl_Forecast,MATCH($D$8&$C14&$D$7,[5]!rng_ForecastRowLookup,0),MATCH(S$11,[5]!rng_ForecastColumnLookup,0))","v":182.88027709368296},{"$f":"INDEX([5]!tbl_Forecast,MATCH($D$8&$C14&$D$7,[5]!rng_ForecastRowLookup,0),MATCH(T$11,[5]!rng_ForecastColumnLookup,0))","v":182.33163626240187},{"$f":"INDEX([5]!tbl_Forecast,MATCH($D$8&$C14&$D$7,[5]!rng_ForecastRowLookup,0),MATCH(U$11,[5]!rng_ForecastColumnLookup,0))","v":181.78464135361469},{"$f":"INDEX([5]!tbl_Forecast,MATCH($D$8&$C14&$D$7,[5]!rng_ForecastRowLookup,0),MATCH(V$11,[5]!rng_ForecastColumnLookup,0))","v":181.23928742955383},{"$f":"INDEX([5]!tbl_Forecast,MATCH($D$8&$C14&$D$7,[5]!rng_ForecastRowLookup,0),MATCH(W$11,[5]!rng_ForecastColumnLookup,0))","v":180.69556956726515},{"$f":"INDEX([5]!tbl_Forecast,MATCH($D$8&$C14&$D$7,[5]!rng_ForecastRowLookup,0),MATCH(X$11,[5]!rng_ForecastColumnLookup,0))","v":180.15348285856339}]
[null,null,"Small Off",null,{"$f":"INDEX([5]!tbl_Forecast,MATCH($D$8&$C15&$D$7,[5]!rng_ForecastRowLookup,0),MATCH(E$11,[5]!rng_ForecastColumnLookup,0))","v":184.0913556049378},{"$f":"INDEX([5]!tbl_Forecast,MATCH($D$8&$C15&$D$7,[5]!rng_ForecastRowLookup,0),MATCH(F$11,[5]!rng_ForecastColumnLookup,0))","v":183.53908153812301},{"$f":"INDEX([5]!tbl_Forecast,MATCH($D$8&$C15&$D$7,[5]!rng_ForecastRowLookup,0),MATCH(G$11,[5]!rng_ForecastColumnLookup,0))","v":182.98846429350866},{"$f":"INDEX([5]!tbl_Forecast,MATCH($D$8&$C15&$D$7,[5]!rng_ForecastRowLookup,0),MATCH(H$11,[5]!rng_ForecastColumnLookup,0))","v":182.43949890062811},{"$f":"INDEX([5]!tbl_Forecast,MATCH($D$8&$C15&$D$7,[5]!rng_ForecastRowLookup,0),MATCH(I$11,[5]!rng_ForecastColumnLookup,0))","v":181.89218040392623},{"$f":"INDEX([5]!tbl_Forecast,MATCH($D$8&$C15&$D$7,[5]!rng_ForecastRowLookup,0),MATCH(J$11,[5]!rng_ForecastColumnLookup,0))","v":181.34650386271446},{"$f":"INDEX([5]!tbl_Forecast,MATCH($D$8&$C15&$D$7,[5]!rng_ForecastRowLookup,0),MATCH(K$11,[5]!rng_ForecastColumnLookup,0))","v":180.80246435112633},{"$f":"INDEX([5]!tbl_Forecast,MATCH($D$8&$C15&$D$7,[5]!rng_ForecastRowLookup,0),MATCH(L$11,[5]!rng_ForecastColumnLookup,0))","v":180.26005695807294},{"$f":"INDEX([5]!tbl_Forecast,MATCH($D$8&$C15&$D$7,[5]!rng_ForecastRowLookup,0),MATCH(M$11,[5]!rng_ForecastColumnLookup,0))","v":179.71927678719871},{"$f":"INDEX([5]!tbl_Forecast,MATCH($D$8&$C15&$D$7,[5]!rng_ForecastRowLookup,0),MATCH(N$11,[5]!rng_ForecastColumnLookup,0))","v":179.18011895683713},{"$f":"INDEX([5]!tbl_Forecast,MATCH($D$8&$C15&$D$7,[5]!rng_ForecastRowLookup,0),MATCH(O$11,[5]!rng_ForecastColumnLookup,0))","v":178.64257859996661},{"$f":"INDEX([5]!tbl_Forecast,MATCH($D$8&$C15&$D$7,[5]!rng_ForecastRowLookup,0),MATCH(P$11,[5]!rng_ForecastColumnLookup,0))","v":178.10665086416668},{"$f":"INDEX([5]!tbl_Forecast,MATCH($D$8&$C15&$D$7,[5]!rng_ForecastRowLookup,0),MATCH(Q$11,[5]!rng_ForecastColumnLookup,0))","v":177.57233091157423},{"$f":"INDEX([5]!tbl_Forecast,MATCH($D$8&$C15&$D$7,[5]!rng_ForecastRowLookup,0),MATCH(R$11,[5]!rng_ForecastColumnLookup,0))","v":177.03961391883951},{"$f":"INDEX([5]!tbl_Forecast,MATCH($D$8&$C15&$D$7,[5]!rng_ForecastRowLookup,0),MATCH(S$11,[5]!rng_ForecastColumnLookup,0))","v":176.50849507708296},{"$f":"INDEX([5]!tbl_Forecast,MATCH($D$8&$C15&$D$7,[5]!rng_ForecastRowLookup,0),MATCH(T$11,[5]!rng_ForecastColumnLookup,0))","v":175.97896959185172},{"$f":"INDEX([5]!tbl_Forecast,MATCH($D$8&$C15&$D$7,[5]!rng_ForecastRowLookup,0),MATCH(U$11,[5]!rng_ForecastColumnLookup,0))","v":175.45103268307616},{"$f":"INDEX([5]!tbl_Forecast,MATCH($D$8&$C15&$D$7,[5]!rng_ForecastRowLookup,0),MATCH(V$11,[5]!rng_ForecastColumnLookup,0))","v":174.92467958502692},{"$f":"INDEX([5]!tbl_Forecast,MATCH($D$8&$C15&$D$7,[5]!rng_ForecastRowLookup,0),MATCH(W$11,[5]!rng_ForecastColumnLookup,0))","v":174.39990554627184},{"$f":"INDEX([5]!tbl_Forecast,MATCH($D$8&$C15&$D$7,[5]!rng_ForecastRowLookup,0),MATCH(X$11,[5]!rng_ForecastColumnLookup,0))","v":173.87670582963304}]
[null,null,"Xlarge Ret",null,{"$f":"INDEX([5]!tbl_Forecast,MATCH($D$8&$C16&$D$7,[5]!rng_ForecastRowLookup,0),MATCH(E$11,[5]!rng_ForecastColumnLookup,0))","v":138.35734062238015},{"$f":"INDEX([5]!tbl_Forecast,MATCH($D$8&$C16&$D$7,[5]!rng_ForecastRowLookup,0),MATCH(F$11,[5]!rng_ForecastColumnLookup,0))","v":137.7208968555172},{"$f":"INDEX([5]!tbl_Forecast,MATCH($D$8&$C16&$D$7,[5]!rng_ForecastRowLookup,0),MATCH(G$11,[5]!rng_ForecastColumnLookup,0))","v":137.08738072998179},{"$f":"INDEX([5]!tbl_Forecast,MATCH($D$8&$C16&$D$7,[5]!rng_ForecastRowLookup,0),MATCH(H$11,[5]!rng_ForecastColumnLookup,0))","v":136.45677877862389},{"$f":"INDEX([5]!tbl_Forecast,MATCH($D$8&$C16&$D$7,[5]!rng_ForecastRowLookup,0),MATCH(I$11,[5]!rng_ForecastColumnLookup,0))","v":135.8290775962422},{"$f":"INDEX([5]!tbl_Forecast,MATCH($D$8&$C16&$D$7,[5]!rng_ForecastRowLookup,0),MATCH(J$11,[5]!rng_ForecastColumnLookup,0))","v":135.20426383929947},{"$f":"INDEX([5]!tbl_Forecast,MATCH($D$8&$C16&$D$7,[5]!rng_ForecastRowLookup,0),MATCH(K$11,[5]!rng_ForecastColumnLookup,0))","v":134.5823242256387},{"$f":"INDEX([5]!tbl_Forecast,MATCH($D$8&$C16&$D$7,[5]!rng_ForecastRowLookup,0),MATCH(L$11,[5]!rng_ForecastColumnLookup,0))","v":133.96324553420075},{"$f":"INDEX([5]!tbl_Forecast,MATCH($D$8&$C16&$D$7,[5]!rng_ForecastRowLookup,0),MATCH(M$11,[5]!rng_ForecastColumnLookup,0))","v":133.34701460474344},{"$f":"INDEX([5]!tbl_Forecast,MATCH($D$8&$C16&$D$7,[5]!rng_ForecastRowLookup,0),MATCH(N$11,[5]!rng_ForecastColumnLookup,0))","v":132.73361833756161},{"$f":"INDEX([5]!tbl_Forecast,MATCH($D$8&$C16&$D$7,[5]!rng_ForecastRowLookup,0),MATCH(O$11,[5]!rng_ForecastColumnLookup,0))","v":132.12304369320884},{"$f":"INDEX([5]!tbl_Forecast,MATCH($D$8&$C16&$D$7,[5]!rng_ForecastRowLookup,0),MATCH(P$11,[5]!rng_ForecastColumnLookup,0))","v":131.51527769222005},{"$f":"INDEX([5]!tbl_Forecast,MATCH($D$8&$C16&$D$7,[5]!rng_ForecastRowLookup,0),MATCH(Q$11,[5]!rng_ForecastColumnLookup,0))","v":130.91030741483584},{"$f":"INDEX([5]!tbl_Forecast,MATCH($D$8&$C16&$D$7,[5]!rng_ForecastRowLookup,0),MATCH(R$11,[5]!rng_ForecastColumnLookup,0))","v":130.3081200007276},{"$f":"INDEX([5]!tbl_Forecast,MATCH($D$8&$C16&$D$7,[5]!rng_ForecastRowLookup,0),MATCH(S$11,[5]!rng_ForecastColumnLookup,0))","v":129.70870264872423},{"$f":"INDEX([5]!tbl_Forecast,MATCH($D$8&$C16&$D$7,[5]!rng_ForecastRowLookup,0),MATCH(T$11,[5]!rng_ForecastColumnLookup,0))","v":129.11204261654012},{"$f":"INDEX([5]!tbl_Forecast,MATCH($D$8&$C16&$D$7,[5]!rng_ForecastRowLookup,0),MATCH(U$11,[5]!rng_ForecastColumnLookup,0))","v":128.51812722050403},{"$f":"INDEX([5]!tbl_Forecast,MATCH($D$8&$C16&$D$7,[5]!rng_ForecastRowLookup,0),MATCH(V$11,[5]!rng_ForecastColumnLookup,0))","v":127.92694383528971},{"$f":"INDEX([5]!tbl_Forecast,MATCH($D$8&$C16&$D$7,[5]!rng_ForecastRowLookup,0),MATCH(W$11,[5]!rng_ForecastColumnLookup,0))","v":127.33847989364737},{"$f":"INDEX([5]!tbl_Forecast,MATCH($D$8&$C16&$D$7,[5]!rng_ForecastRowLookup,0),MATCH(X$11,[5]!rng_ForecastColumnLookup,0))","v":126.75272288613657}]
[null,null,"Large Ret",null,{"$f":"INDEX([5]!tbl_Forecast,MATCH($D$8&$C17&$D$7,[5]!rng_ForecastRowLookup,0),MATCH(E$11,[5]!rng_ForecastColumnLookup,0))","v":208.9574509880029},{"$f":"INDEX([5]!tbl_Forecast,MATCH($D$8&$C17&$D$7,[5]!rng_ForecastRowLookup,0),MATCH(F$11,[5]!rng_ForecastColumnLookup,0))","v":207.99624671345808},{"$f":"INDEX([5]!tbl_Forecast,MATCH($D$8&$C17&$D$7,[5]!rng_ForecastRowLookup,0),MATCH(G$11,[5]!rng_ForecastColumnLookup,0))","v":207.03946397857615},{"$f":"INDEX([5]!tbl_Forecast,MATCH($D$8&$C17&$D$7,[5]!rng_ForecastRowLookup,0),MATCH(H$11,[5]!rng_ForecastColumnLookup,0))","v":206.0870824442747},{"$f":"INDEX([5]!tbl_Forecast,MATCH($D$8&$C17&$D$7,[5]!rng_ForecastRowLookup,0),MATCH(I$11,[5]!rng_ForecastColumnLookup,0))","v":205.13908186503102},{"$f":"INDEX([5]!tbl_Forecast,MATCH($D$8&$C17&$D$7,[5]!rng_ForecastRowLookup,0),MATCH(J$11,[5]!rng_ForecastColumnLookup,0))","v":204.1954420884519},{"$f":"INDEX([5]!tbl_Forecast,MATCH($D$8&$C17&$D$7,[5]!rng_ForecastRowLookup,0),MATCH(K$11,[5]!rng_ForecastColumnLookup,0))","v":203.25614305484498},{"$f":"INDEX([5]!tbl_Forecast,MATCH($D$8&$C17&$D$7,[5]!rng_ForecastRowLookup,0),MATCH(L$11,[5]!rng_ForecastColumnLookup,0))","v":202.32116479679266},{"$f":"INDEX([5]!tbl_Forecast,MATCH($D$8&$C17&$D$7,[5]!rng_ForecastRowLookup,0),MATCH(M$11,[5]!rng_ForecastColumnLookup,0))","v":201.3904874387274},{"$f":"INDEX([5]!tbl_Forecast,MATCH($D$8&$C17&$D$7,[5]!rng_ForecastRowLookup,0),MATCH(N$11,[5]!rng_ForecastColumnLookup,0))","v":200.46409119650929},{"$f":"INDEX([5]!tbl_Forecast,MATCH($D$8&$C17&$D$7,[5]!rng_ForecastRowLookup,0),MATCH(O$11,[5]!rng_ForecastColumnLookup,0))","v":199.54195637700533},{"$f":"INDEX([5]!tbl_Forecast,MATCH($D$8&$C17&$D$7,[5]!rng_ForecastRowLookup,0),MATCH(P$11,[5]!rng_ForecastColumnLookup,0))","v":198.62406337767112},{"$f":"INDEX([5]!tbl_Forecast,MATCH($D$8&$C17&$D$7,[5]!rng_ForecastRowLookup,0),MATCH(Q$11,[5]!rng_ForecastColumnLookup,0))","v":197.71039268613379},{"$f":"INDEX([5]!tbl_Forecast,MATCH($D$8&$C17&$D$7,[5]!rng_ForecastRowLookup,0),MATCH(R$11,[5]!rng_ForecastColumnLookup,0))","v":196.8009248797776},{"$f":"INDEX([5]!tbl_Forecast,MATCH($D$8&$C17&$D$7,[5]!rng_ForecastRowLookup,0),MATCH(S$11,[5]!rng_ForecastColumnLookup,0))","v":195.8956406253306},{"$f":"INDEX([5]!tbl_Forecast,MATCH($D$8&$C17&$D$7,[5]!rng_ForecastRowLookup,0),MATCH(T$11,[5]!rng_ForecastColumnLookup,0))","v":194.99452067845405},{"$f":"INDEX([5]!tbl_Forecast,MATCH($D$8&$C17&$D$7,[5]!rng_ForecastRowLookup,0),MATCH(U$11,[5]!rng_ForecastColumnLookup,0))","v":194.09754588333314},{"$f":"INDEX([5]!tbl_Forecast,MATCH($D$8&$C17&$D$7,[5]!rng_ForecastRowLookup,0),MATCH(V$11,[5]!rng_ForecastColumnLookup,0))","v":193.20469717226982},{"$f":"INDEX([5]!tbl_Forecast,MATCH($D$8&$C17&$D$7,[5]!rng_ForecastRowLookup,0),MATCH(W$11,[5]!rng_ForecastColumnLookup,0))","v":192.31595556527733},{"$f":"INDEX([5]!tbl_Forecast,MATCH($D$8&$C17&$D$7,[5]!rng_ForecastRowLookup,0),MATCH(X$11,[5]!rng_ForecastColumnLookup,0))","v":191.43130216967708}]
[null,null,"Medium Ret",null,{"$f":"INDEX([5]!tbl_Forecast,MATCH($D$8&$C18&$D$7,[5]!rng_ForecastRowLookup,0),MATCH(E$11,[5]!rng_ForecastColumnLookup,0))","v":97.115689913224898},{"$f":"INDEX([5]!tbl_Forecast,MATCH($D$8&$C18&$D$7,[5]!rng_ForecastRowLookup,0),MATCH(F$11,[5]!rng_ForecastColumnLookup,0))","v":96.668957739624062},{"$f":"INDEX([5]!tbl_Forecast,MATCH($D$8&$C18&$D$7,[5]!rng_ForecastRowLookup,0),MATCH(G$11,[5]!rng_ForecastColumnLookup,0))","v":96.224280534021787},{"$f":"INDEX([5]!tbl_Forecast,MATCH($D$8&$C18&$D$7,[5]!rng_ForecastRowLookup,0),MATCH(H$11,[5]!rng_ForecastColumnLookup,0))","v":95.781648843565293},{"$f":"INDEX([5]!tbl_Forecast,MATCH($D$8&$C18&$D$7,[5]!rng_ForecastRowLookup,0),MATCH(I$11,[5]!rng_ForecastColumnLookup,0))","v":95.34105325888487},{"$f":"INDEX([5]!tbl_Forecast,MATCH($D$8&$C18&$D$7,[5]!rng_ForecastRowLookup,0),MATCH(J$11,[5]!rng_ForecastColumnLookup,0))","v":94.902484413894001},{"$f":"INDEX([5]!tbl_Forecast,MATCH($D$8&$C18&$D$7,[5]!rng_ForecastRowLookup,0),MATCH(K$11,[5]!rng_ForecastColumnLookup,0))","v":94.465932985590086},{"$f":"INDEX([5]!tbl_Forecast,MATCH($D$8&$C18&$D$7,[5]!rng_ForecastRowLookup,0),MATCH(L$11,[5]!rng_ForecastColumnLookup,0))","v":94.031389693856369},{"$f":"INDEX([5]!tbl_Forecast,MATCH($D$8&$C18&$D$7,[5]!rng_ForecastRowLookup,0),MATCH(M$11,[5]!rng_ForecastColumnLookup,0))","v":93.598845301264618},{"$f":"INDEX([5]!tbl_Forecast,MATCH($D$8&$C18&$D$7,[5]!rng_ForecastRowLookup,0),MATCH(N$11,[5]!rng_ForecastColumnLookup,0))","v":93.168290612878806},{"$f":"INDEX([5]!tbl_Forecast,MATCH($D$8&$C18&$D$7,[5]!rng_ForecastRowLookup,0),MATCH(O$11,[5]!rng_ForecastColumnLookup,0))","v":92.739716476059556},{"$f":"INDEX([5]!tbl_Forecast,MATCH($D$8&$C18&$D$7,[5]!rng_ForecastRowLookup,0),MATCH(P$11,[5]!rng_ForecastColumnLookup,0))","v":92.313113780269674},{"$f":"INDEX([5]!tbl_Forecast,MATCH($D$8&$C18&$D$7,[5]!rng_ForecastRowLookup,0),MATCH(Q$11,[5]!rng_ForecastColumnLookup,0))","v":91.888473456880433},{"$f":"INDEX([5]!tbl_Forecast,MATCH($D$8&$C18&$D$7,[5]!rng_ForecastRowLookup,0),MATCH(R$11,[5]!rng_ForecastColumnLookup,0))","v":91.465786478978771},{"$f":"INDEX([5]!tbl_Forecast,MATCH($D$8&$C18&$D$7,[5]!rng_ForecastRowLookup,0),MATCH(S$11,[5]!rng_ForecastColumnLookup,0))","v":91.045043861175472},{"$f":"INDEX([5]!tbl_Forecast,MATCH($D$8&$C18&$D$7,[5]!rng_ForecastRowLookup,0),MATCH(T$11,[5]!rng_ForecastColumnLookup,0))","v":90.626236659414062},{"$f":"INDEX([5]!tbl_Forecast,MATCH($D$8&$C18&$D$7,[5]!rng_ForecastRowLookup,0),MATCH(U$11,[5]!rng_ForecastColumnLookup,0))","v":90.209355970780734},{"$f":"INDEX([5]!tbl_Forecast,MATCH($D$8&$C18&$D$7,[5]!rng_ForecastRowLookup,0),MATCH(V$11,[5]!rng_ForecastColumnLookup,0))","v":89.794392933315152},{"$f":"INDEX([5]!tbl_Forecast,MATCH($D$8&$C18&$D$7,[5]!rng_ForecastRowLookup,0),MATCH(W$11,[5]!rng_ForecastColumnLookup,0))","v":89.381338725821905},{"$f":"INDEX([5]!tbl_Forecast,MATCH($D$8&$C18&$D$7,[5]!rng_ForecastRowLookup,0),MATCH(X$11,[5]!rng_ForecastColumnLookup,0))","v":88.97018456768312}]
[null,null,"Small Ret",null,{"$f":"INDEX([5]!tbl_Forecast,MATCH($D$8&$C19&$D$7,[5]!rng_ForecastRowLookup,0),MATCH(E$11,[5]!rng_ForecastColumnLookup,0))","v":109.47966092768364},{"$f":"INDEX([5]!tbl_Forecast,MATCH($D$8&$C19&$D$7,[5]!rng_ForecastRowLookup,0),MATCH(F$11,[5]!rng_ForecastColumnLookup,0))","v":108.97605448741629},{"$f":"INDEX([5]!tbl_Forecast,MATCH($D$8&$C19&$D$7,[5]!rng_ForecastRowLookup,0),MATCH(G$11,[5]!rng_ForecastColumnLookup,0))","v":108.47476463677417},{"$f":"INDEX([5]!tbl_Forecast,MATCH($D$8&$C19&$D$7,[5]!rng_ForecastRowLookup,0),MATCH(H$11,[5]!rng_ForecastColumnLookup,0))","v":107.975780719445},{"$f":"INDEX([5]!tbl_Forecast,MATCH($D$8&$C19&$D$7,[5]!rng_ForecastRowLookup,0),MATCH(I$11,[5]!rng_ForecastColumnLookup,0))","v":107.47909212813555},{"$f":"INDEX([5]!tbl_Forecast,MATCH($D$8&$C19&$D$7,[5]!rng_ForecastRowLookup,0),MATCH(J$11,[5]!rng_ForecastColumnLookup,0))","v":106.98468830434612},{"$f":"INDEX([5]!tbl_Forecast,MATCH($D$8&$C19&$D$7,[5]!rng_ForecastRowLookup,0),MATCH(K$11,[5]!rng_ForecastColumnLookup,0))","v":106.49255873814613},{"$f":"INDEX([5]!tbl_Forecast,MATCH($D$8&$C19&$D$7,[5]!rng_ForecastRowLookup,0),MATCH(L$11,[5]!rng_ForecastColumnLookup,0))","v":106.00269296795065},{"$f":"INDEX([5]!tbl_Forecast,MATCH($D$8&$C19&$D$7,[5]!rng_ForecastRowLookup,0),MATCH(M$11,[5]!rng_ForecastColumnLookup,0))","v":105.51508058029808},{"$f":"INDEX([5]!tbl_Forecast,MATCH($D$8&$C19&$D$7,[5]!rng_ForecastRowLookup,0),MATCH(N$11,[5]!rng_ForecastColumnLookup,0))","v":105.0297112096287},{"$f":"INDEX([5]!tbl_Forecast,MATCH($D$8&$C19&$D$7,[5]!rng_ForecastRowLookup,0),MATCH(O$11,[5]!rng_ForecastColumnLookup,0))","v":104.54657453806439},{"$f":"INDEX([5]!tbl_Forecast,MATCH($D$8&$C19&$D$7,[5]!rng_ForecastRowLookup,0),MATCH(P$11,[5]!rng_ForecastColumnLookup,0))","v":104.0656602951893},{"$f":"INDEX([5]!tbl_Forecast,MATCH($D$8&$C19&$D$7,[5]!rng_ForecastRowLookup,0),MATCH(Q$11,[5]!rng_ForecastColumnLookup,0))","v":103.58695825783141},{"$f":"INDEX([5]!tbl_Forecast,MATCH($D$8&$C19&$D$7,[5]!rng_ForecastRowLookup,0),MATCH(R$11,[5]!rng_ForecastColumnLookup,0))","v":103.11045824984539},{"$f":"INDEX([5]!tbl_Forecast,MATCH($D$8&$C19&$D$7,[5]!rng_ForecastRowLookup,0),MATCH(S$11,[5]!rng_ForecastColumnLookup,0))","v":102.6361501418961},{"$f":"INDEX([5]!tbl_Forecast,MATCH($D$8&$C19&$D$7,[5]!rng_ForecastRowLookup,0),MATCH(T$11,[5]!rng_ForecastColumnLookup,0))","v":102.16402385124337},{"$f":"INDEX([5]!tbl_Forecast,MATCH($D$8&$C19&$D$7,[5]!rng_ForecastRowLookup,0),MATCH(U$11,[5]!rng_ForecastColumnLookup,0))","v":101.69406934152764},{"$f":"INDEX([5]!tbl_Forecast,MATCH($D$8&$C19&$D$7,[5]!rng_ForecastRowLookup,0),MATCH(V$11,[5]!rng_ForecastColumnLookup,0))","v":101.2262766225566},{"$f":"INDEX([5]!tbl_Forecast,MATCH($D$8&$C19&$D$7,[5]!rng_ForecastRowLookup,0),MATCH(W$11,[5]!rng_ForecastColumnLookup,0))","v":100.76063575009285},{"$f":"INDEX([5]!tbl_Forecast,MATCH($D$8&$C19&$D$7,[5]!rng_ForecastRowLookup,0),MATCH(X$11,[5]!rng_ForecastColumnLookup,0))","v":100.29713682564241}]
[null,null,"School K-12",null,{"$f":"INDEX([5]!tbl_Forecast,MATCH($D$8&$C20&$D$7,[5]!rng_ForecastRowLookup,0),MATCH(E$11,[5]!rng_ForecastColumnLookup,0))","v":241.11763975818661},{"$f":"INDEX([5]!tbl_Forecast,MATCH($D$8&$C20&$D$7,[5]!rng_ForecastRowLookup,0),MATCH(F$11,[5]!rng_ForecastColumnLookup,0))","v":240.12905743517803},{"$f":"INDEX([5]!tbl_Forecast,MATCH($D$8&$C20&$D$7,[5]!rng_ForecastRowLookup,0),MATCH(G$11,[5]!rng_ForecastColumnLookup,0))","v":239.14452829969383},{"$f":"INDEX([5]!tbl_Forecast,MATCH($D$8&$C20&$D$7,[5]!rng_ForecastRowLookup,0),MATCH(H$11,[5]!rng_ForecastColumnLookup,0))","v":238.16403573366509},{"$f":"INDEX([5]!tbl_Forecast,MATCH($D$8&$C20&$D$7,[5]!rng_ForecastRowLookup,0),MATCH(I$11,[5]!rng_ForecastColumnLookup,0))","v":237.18756318715711},{"$f":"INDEX([5]!tbl_Forecast,MATCH($D$8&$C20&$D$7,[5]!rng_ForecastRowLookup,0),MATCH(J$11,[5]!rng_ForecastColumnLookup,0))","v":236.21509417808971},{"$f":"INDEX([5]!tbl_Forecast,MATCH($D$8&$C20&$D$7,[5]!rng_ForecastRowLookup,0),MATCH(K$11,[5]!rng_ForecastColumnLookup,0))","v":235.24661229195956},{"$f":"INDEX([5]!tbl_Forecast,MATCH($D$8&$C20&$D$7,[5]!rng_ForecastRowLookup,0),MATCH(L$11,[5]!rng_ForecastColumnLookup,0))","v":234.28210118156252},{"$f":"INDEX([5]!tbl_Forecast,MATCH($D$8&$C20&$D$7,[5]!rng_ForecastRowLookup,0),MATCH(M$11,[5]!rng_ForecastColumnLookup,0))","v":233.32154456671807},{"$f":"INDEX([5]!tbl_Forecast,MATCH($D$8&$C20&$D$7,[5]!rng_ForecastRowLookup,0),MATCH(N$11,[5]!rng_ForecastColumnLookup,0))","v":232.36492623399457},{"$f":"INDEX([5]!tbl_Forecast,MATCH($D$8&$C20&$D$7,[5]!rng_ForecastRowLookup,0),MATCH(O$11,[5]!rng_ForecastColumnLookup,0))","v":231.41223003643518},{"$f":"INDEX([5]!tbl_Forecast,MATCH($D$8&$C20&$D$7,[5]!rng_ForecastRowLookup,0),MATCH(P$11,[5]!rng_ForecastColumnLookup,0))","v":230.46343989328579},{"$f":"INDEX([5]!tbl_Forecast,MATCH($D$8&$C20&$D$7,[5]!rng_ForecastRowLookup,0),MATCH(Q$11,[5]!rng_ForecastColumnLookup,0))","v":229.51853978972335},{"$f":"INDEX([5]!tbl_Forecast,MATCH($D$8&$C20&$D$7,[5]!rng_ForecastRowLookup,0),MATCH(R$11,[5]!rng_ForecastColumnLookup,0))","v":228.57751377658545},{"$f":"INDEX([5]!tbl_Forecast,MATCH($D$8&$C20&$D$7,[5]!rng_ForecastRowLookup,0),MATCH(S$11,[5]!rng_ForecastColumnLookup,0))","v":227.64034597010144},{"$f":"INDEX([5]!tbl_Forecast,MATCH($D$8&$C20&$D$7,[5]!rng_ForecastRowLookup,0),MATCH(T$11,[5]!rng_ForecastColumnLookup,0))","v":226.70702055162403},{"$f":"INDEX([5]!tbl_Forecast,MATCH($D$8&$C20&$D$7,[5]!rng_ForecastRowLookup,0),MATCH(U$11,[5]!rng_ForecastColumnLookup,0))","v":225.77752176736234},{"$f":"INDEX([5]!tbl_Forecast,MATCH($D$8&$C20&$D$7,[5]!rng_ForecastRowLookup,0),MATCH(V$11,[5]!rng_ForecastColumnLookup,0))","v":224.85183392811618},{"$f":"INDEX([5]!tbl_Forecast,MATCH($D$8&$C20&$D$7,[5]!rng_ForecastRowLookup,0),MATCH(W$11,[5]!rng_ForecastColumnLookup,0))","v":223.92994140901092},{"$f":"INDEX([5]!tbl_Forecast,MATCH($D$8&$C20&$D$7,[5]!rng_ForecastRowLookup,0),MATCH(X$11,[5]!rng_ForecastColumnLookup,0))","v":223.01182864923393}]
[null,null,"University",null,{"$f":"INDEX([5]!tbl_Forecast,MATCH($D$8&$C21&$D$7,[5]!rng_ForecastRowLookup,0),MATCH(E$11,[5]!rng_ForecastColumnLookup,0))","v":122.15340627232256},{"$f":"INDEX([5]!tbl_Forecast,MATCH($D$8&$C21&$D$7,[5]!rng_ForecastRowLookup,0),MATCH(F$11,[5]!rng_ForecastColumnLookup,0))","v":121.65257730660603},{"$f":"INDEX([5]!tbl_Forecast,MATCH($D$8&$C21&$D$7,[5]!rng_ForecastRowLookup,0),MATCH(G$11,[5]!rng_ForecastColumnLookup,0))","v":121.15380173964894},{"$f":"INDEX([5]!tbl_Forecast,MATCH($D$8&$C21&$D$7,[5]!rng_ForecastRowLookup,0),MATCH(H$11,[5]!rng_ForecastColumnLookup,0))","v":120.65707115251638},{"$f":"INDEX([5]!tbl_Forecast,MATCH($D$8&$C21&$D$7,[5]!rng_ForecastRowLookup,0),MATCH(I$11,[5]!rng_ForecastColumnLookup,0))","v":120.16237716079107},{"$f":"INDEX([5]!tbl_Forecast,MATCH($D$8&$C21&$D$7,[5]!rng_ForecastRowLookup,0),MATCH(J$11,[5]!rng_ForecastColumnLookup,0))","v":119.66971141443182},{"$f":"INDEX([5]!tbl_Forecast,MATCH($D$8&$C21&$D$7,[5]!rng_ForecastRowLookup,0),MATCH(K$11,[5]!rng_ForecastColumnLookup,0))","v":119.17906559763266},{"$f":"INDEX([5]!tbl_Forecast,MATCH($D$8&$C21&$D$7,[5]!rng_ForecastRowLookup,0),MATCH(L$11,[5]!rng_ForecastColumnLookup,0))","v":118.69043142868237},{"$f":"INDEX([5]!tbl_Forecast,MATCH($D$8&$C21&$D$7,[5]!rng_ForecastRowLookup,0),MATCH(M$11,[5]!rng_ForecastColumnLookup,0))","v":118.20380065982476},{"$f":"INDEX([5]!tbl_Forecast,MATCH($D$8&$C21&$D$7,[5]!rng_ForecastRowLookup,0),MATCH(N$11,[5]!rng_ForecastColumnLookup,0))","v":117.71916507711948},{"$f":"INDEX([5]!tbl_Forecast,MATCH($D$8&$C21&$D$7,[5]!rng_ForecastRowLookup,0),MATCH(O$11,[5]!rng_ForecastColumnLookup,0))","v":117.23651650030328},{"$f":"INDEX([5]!tbl_Forecast,MATCH($D$8&$C21&$D$7,[5]!rng_ForecastRowLookup,0),MATCH(P$11,[5]!rng_ForecastColumnLookup,0))","v":116.75584678265207},{"$f":"INDEX([5]!tbl_Forecast,MATCH($D$8&$C21&$D$7,[5]!rng_ForecastRowLookup,0),MATCH(Q$11,[5]!rng_ForecastColumnLookup,0))","v":116.27714781084319},{"$f":"INDEX([5]!tbl_Forecast,MATCH($D$8&$C21&$D$7,[5]!rng_ForecastRowLookup,0),MATCH(R$11,[5]!rng_ForecastColumnLookup,0))","v":115.80041150481873},{"$f":"INDEX([5]!tbl_Forecast,MATCH($D$8&$C21&$D$7,[5]!rng_ForecastRowLookup,0),MATCH(S$11,[5]!rng_ForecastColumnLookup,0))","v":115.32562981764897},{"$f":"INDEX([5]!tbl_Forecast,MATCH($D$8&$C21&$D$7,[5]!rng_ForecastRowLookup,0),MATCH(T$11,[5]!rng_ForecastColumnLookup,0))","v":114.8527947353966},{"$f":"INDEX([5]!tbl_Forecast,MATCH($D$8&$C21&$D$7,[5]!rng_ForecastRowLookup,0),MATCH(U$11,[5]!rng_ForecastColumnLookup,0))","v":114.38189827698147},{"$f":"INDEX([5]!tbl_Forecast,MATCH($D$8&$C21&$D$7,[5]!rng_ForecastRowLookup,0),MATCH(V$11,[5]!rng_ForecastColumnLookup,0))","v":113.91293249404585},{"$f":"INDEX([5]!tbl_Forecast,MATCH($D$8&$C21&$D$7,[5]!rng_ForecastRowLookup,0),MATCH(W$11,[5]!rng_ForecastColumnLookup,0))","v":113.44588947082025},{"$f":"INDEX([5]!tbl_Forecast,MATCH($D$8&$C21&$D$7,[5]!rng_ForecastRowLookup,0),MATCH(X$11,[5]!rng_ForecastColumnLookup,0))","v":112.98076132398991}]
[null,null,"Warehouse",null,{"$f":"INDEX([5]!tbl_Forecast,MATCH($D$8&$C22&$D$7,[5]!rng_ForecastRowLookup,0),MATCH(E$11,[5]!rng_ForecastColumnLookup,0))","v":448.69829599576161},{"$f":"INDEX([5]!tbl_Forecast,MATCH($D$8&$C22&$D$7,[5]!rng_ForecastRowLookup,0),MATCH(F$11,[5]!rng_ForecastColumnLookup,0))","v":447.03811230057732},{"$f":"INDEX([5]!tbl_Forecast,MATCH($D$8&$C22&$D$7,[5]!rng_ForecastRowLookup,0),MATCH(G$11,[5]!rng_ForecastColumnLookup,0))","v":445.3840712850652},{"$f":"INDEX([5]!tbl_Forecast,MATCH($D$8&$C22&$D$7,[5]!rng_ForecastRowLookup,0),MATCH(H$11,[5]!rng_ForecastColumnLookup,0))","v":443.73615022131042},{"$f":"INDEX([5]!tbl_Forecast,MATCH($D$8&$C22&$D$7,[5]!rng_ForecastRowLookup,0),MATCH(I$11,[5]!rng_ForecastColumnLookup,0))","v":442.09432646549152},{"$f":"INDEX([5]!tbl_Forecast,MATCH($D$8&$C22&$D$7,[5]!rng_ForecastRowLookup,0),MATCH(J$11,[5]!rng_ForecastColumnLookup,0))","v":440.45857745756916},{"$f":"INDEX([5]!tbl_Forecast,MATCH($D$8&$C22&$D$7,[5]!rng_ForecastRowLookup,0),MATCH(K$11,[5]!rng_ForecastColumnLookup,0))","v":438.82888072097626},{"$f":"INDEX([5]!tbl_Forecast,MATCH($D$8&$C22&$D$7,[5]!rng_ForecastRowLookup,0),MATCH(L$11,[5]!rng_ForecastColumnLookup,0))","v":437.2052138623086},{"$f":"INDEX([5]!tbl_Forecast,MATCH($D$8&$C22&$D$7,[5]!rng_ForecastRowLookup,0),MATCH(M$11,[5]!rng_ForecastColumnLookup,0))","v":435.58755457101802},{"$f":"INDEX([5]!tbl_Forecast,MATCH($D$8&$C22&$D$7,[5]!rng_ForecastRowLookup,0),MATCH(N$11,[5]!rng_ForecastColumnLookup,0))","v":433.97588061910528},{"$f":"INDEX([5]!tbl_Forecast,MATCH($D$8&$C22&$D$7,[5]!rng_ForecastRowLookup,0),MATCH(O$11,[5]!rng_ForecastColumnLookup,0))","v":432.37016986081449},{"$f":"INDEX([5]!tbl_Forecast,MATCH($D$8&$C22&$D$7,[5]!rng_ForecastRowLookup,0),MATCH(P$11,[5]!rng_ForecastColumnLookup,0))","v":430.77040023232951},{"$f":"INDEX([5]!tbl_Forecast,MATCH($D$8&$C22&$D$7,[5]!rng_ForecastRowLookup,0),MATCH(Q$11,[5]!rng_ForecastColumnLookup,0))","v":429.17654975146979},{"$f":"INDEX([5]!tbl_Forecast,MATCH($D$8&$C22&$D$7,[5]!rng_ForecastRowLookup,0),MATCH(R$11,[5]!rng_ForecastColumnLookup,0))","v":427.58859651738936},{"$f":"INDEX([5]!tbl_Forecast,MATCH($D$8&$C22&$D$7,[5]!rng_ForecastRowLookup,0),MATCH(S$11,[5]!rng_ForecastColumnLookup,0))","v":426.00651871027503},{"$f":"INDEX([5]!tbl_Forecast,MATCH($D$8&$C22&$D$7,[5]!rng_ForecastRowLookup,0),MATCH(T$11,[5]!rng_ForecastColumnLookup,0))","v":424.43029459104702},{"$f":"INDEX([5]!tbl_Forecast,MATCH($D$8&$C22&$D$7,[5]!rng_ForecastRowLookup,0),MATCH(U$11,[5]!rng_ForecastColumnLookup,0))","v":422.85990250106011},{"$f":"INDEX([5]!tbl_Forecast,MATCH($D$8&$C22&$D$7,[5]!rng_ForecastRowLookup,0),MATCH(V$11,[5]!rng_ForecastColumnLookup,0))","v":421.2953208618062},{"$f":"INDEX([5]!tbl_Forecast,MATCH($D$8&$C22&$D$7,[5]!rng_ForecastRowLookup,0),MATCH(W$11,[5]!rng_ForecastColumnLookup,0))","v":419.73652817461749},{"$f":"INDEX([5]!tbl_Forecast,MATCH($D$8&$C22&$D$7,[5]!rng_ForecastRowLookup,0),MATCH(X$11,[5]!rng_ForecastColumnLookup,0))","v":418.18350302037135}]
[null,null,"Supermarket",null,{"$f":"INDEX([5]!tbl_Forecast,MATCH($D$8&$C23&$D$7,[5]!rng_ForecastRowLookup,0),MATCH(E$11,[5]!rng_ForecastColumnLookup,0))","v":53.720939527021244},{"$f":"INDEX([5]!tbl_Forecast,MATCH($D$8&$C23&$D$7,[5]!rng_ForecastRowLookup,0),MATCH(F$11,[5]!rng_ForecastColumnLookup,0))","v":53.237451071278059},{"$f":"INDEX([5]!tbl_Forecast,MATCH($D$8&$C23&$D$7,[5]!rng_ForecastRowLookup,0),MATCH(G$11,[5]!rng_ForecastColumnLookup,0))","v":52.758314011636557},{"$f":"INDEX([5]!tbl_Forecast,MATCH($D$8&$C23&$D$7,[5]!rng_ForecastRowLookup,0),MATCH(H$11,[5]!rng_ForecastColumnLookup,0))","v":52.283489185531828},{"$f":"INDEX([5]!tbl_Forecast,MATCH($D$8&$C23&$D$7,[5]!rng_ForecastRowLookup,0),MATCH(I$11,[5]!rng_ForecastColumnLookup,0))","v":51.812937782862043},{"$f":"INDEX([5]!tbl_Forecast,MATCH($D$8&$C23&$D$7,[5]!rng_ForecastRowLookup,0),MATCH(J$11,[5]!rng_ForecastColumnLookup,0))","v":51.346621342816277},{"$f":"INDEX([5]!tbl_Forecast,MATCH($D$8&$C23&$D$7,[5]!rng_ForecastRowLookup,0),MATCH(K$11,[5]!rng_ForecastColumnLookup,0))","v":50.884501750730934},{"$f":"INDEX([5]!tbl_Forecast,MATCH($D$8&$C23&$D$7,[5]!rng_ForecastRowLookup,0),MATCH(L$11,[5]!rng_ForecastColumnLookup,0))","v":50.426541234974358},{"$f":"INDEX([5]!tbl_Forecast,MATCH($D$8&$C23&$D$7,[5]!rng_ForecastRowLookup,0),MATCH(M$11,[5]!rng_ForecastColumnLookup,0))","v":49.97270236385959},{"$f":"INDEX([5]!tbl_Forecast,MATCH($D$8&$C23&$D$7,[5]!rng_ForecastRowLookup,0),MATCH(N$11,[5]!rng_ForecastColumnLookup,0))","v":49.522948042584851},{"$f":"INDEX([5]!tbl_Forecast,MATCH($D$8&$C23&$D$7,[5]!rng_ForecastRowLookup,0),MATCH(O$11,[5]!rng_ForecastColumnLookup,0))","v":49.077241510201581},{"$f":"INDEX([5]!tbl_Forecast,MATCH($D$8&$C23&$D$7,[5]!rng_ForecastRowLookup,0),MATCH(P$11,[5]!rng_ForecastColumnLookup,0))","v":48.635546336609778},{"$f":"INDEX([5]!tbl_Forecast,MATCH($D$8&$C23&$D$7,[5]!rng_ForecastRowLookup,0),MATCH(Q$11,[5]!rng_ForecastColumnLookup,0))","v":48.197826419580288},{"$f":"INDEX([5]!tbl_Forecast,MATCH($D$8&$C23&$D$7,[5]!rng_ForecastRowLookup,0),MATCH(R$11,[5]!rng_ForecastColumnLookup,0))","v":47.76404598180406},{"$f":"INDEX([5]!tbl_Forecast,MATCH($D$8&$C23&$D$7,[5]!rng_ForecastRowLookup,0),MATCH(S$11,[5]!rng_ForecastColumnLookup,0))","v":47.33416956796782},{"$f":"INDEX([5]!tbl_Forecast,MATCH($D$8&$C23&$D$7,[5]!rng_ForecastRowLookup,0),MATCH(T$11,[5]!rng_ForecastColumnLookup,0))","v":46.908162041856116},{"$f":"INDEX([5]!tbl_Forecast,MATCH($D$8&$C23&$D$7,[5]!rng_ForecastRowLookup,0),MATCH(U$11,[5]!rng_ForecastColumnLookup,0))","v":46.485988583479411},{"$f":"INDEX([5]!tbl_Forecast,MATCH($D$8&$C23&$D$7,[5]!rng_ForecastRowLookup,0),MATCH(V$11,[5]!rng_ForecastColumnLookup,0))","v":46.067614686228097},{"$f":"INDEX([5]!tbl_Forecast,MATCH($D$8&$C23&$D$7,[5]!rng_ForecastRowLookup,0),MATCH(W$11,[5]!rng_ForecastColumnLookup,0))","v":45.653006154052044},{"$f":"INDEX([5]!tbl_Forecast,MATCH($D$8&$C23&$D$7,[5]!rng_ForecastRowLookup,0),MATCH(X$11,[5]!rng_ForecastColumnLookup,0))","v":45.242129098665572}]
[null,null,"MiniMart",null,{"$f":"INDEX([5]!tbl_Forecast,MATCH($D$8&$C24&$D$7,[5]!rng_ForecastRowLookup,0),MATCH(E$11,[5]!rng_ForecastColumnLookup,0))","v":22.491017060912501},{"$f":"INDEX([5]!tbl_Forecast,MATCH($D$8&$C24&$D$7,[5]!rng_ForecastRowLookup,0),MATCH(F$11,[5]!rng_ForecastColumnLookup,0))","v":22.384859460384995},{"$f":"INDEX([5]!tbl_Forecast,MATCH($D$8&$C24&$D$7,[5]!rng_ForecastRowLookup,0),MATCH(G$11,[5]!rng_ForecastColumnLookup,0))","v":22.279202923731983},{"$f":"INDEX([5]!tbl_Forecast,MATCH($D$8&$C24&$D$7,[5]!rng_ForecastRowLookup,0),MATCH(H$11,[5]!rng_ForecastColumnLookup,0))","v":22.174045085931969},{"$f":"INDEX([5]!tbl_Forecast,MATCH($D$8&$C24&$D$7,[5]!rng_ForecastRowLookup,0),MATCH(I$11,[5]!rng_ForecastColumnLookup,0))","v":22.069383593126368},{"$f":"INDEX([5]!tbl_Forecast,MATCH($D$8&$C24&$D$7,[5]!rng_ForecastRowLookup,0),MATCH(J$11,[5]!rng_ForecastColumnLookup,0))","v":21.965216102566814},{"$f":"INDEX([5]!tbl_Forecast,MATCH($D$8&$C24&$D$7,[5]!rng_ForecastRowLookup,0),MATCH(K$11,[5]!rng_ForecastColumnLookup,0))","v":21.8615402825627},{"$f":"INDEX([5]!tbl_Forecast,MATCH($D$8&$C24&$D$7,[5]!rng_ForecastRowLookup,0),MATCH(L$11,[5]!rng_ForecastColumnLookup,0))","v":21.758353812429004},{"$f":"INDEX([5]!tbl_Forecast,MATCH($D$8&$C24&$D$7,[5]!rng_ForecastRowLookup,0),MATCH(M$11,[5]!rng_ForecastColumnLookup,0))","v":21.655654382434342},{"$f":"INDEX([5]!tbl_Forecast,MATCH($D$8&$C24&$D$7,[5]!rng_ForecastRowLookup,0),MATCH(N$11,[5]!rng_ForecastColumnLookup,0))","v":21.553439693749251},{"$f":"INDEX([5]!tbl_Forecast,MATCH($D$8&$C24&$D$7,[5]!rng_ForecastRowLookup,0),MATCH(O$11,[5]!rng_ForecastColumnLookup,0))","v":21.451707458394754},{"$f":"INDEX([5]!tbl_Forecast,MATCH($D$8&$C24&$D$7,[5]!rng_ForecastRowLookup,0),MATCH(P$11,[5]!rng_ForecastColumnLookup,0))","v":21.350455399191134},{"$f":"INDEX([5]!tbl_Forecast,MATCH($D$8&$C24&$D$7,[5]!rng_ForecastRowLookup,0),MATCH(Q$11,[5]!rng_ForecastColumnLookup,0))","v":21.249681249706953},{"$f":"INDEX([5]!tbl_Forecast,MATCH($D$8&$C24&$D$7,[5]!rng_ForecastRowLookup,0),MATCH(R$11,[5]!rng_ForecastColumnLookup,0))","v":21.149382754208336},{"$f":"INDEX([5]!tbl_Forecast,MATCH($D$8&$C24&$D$7,[5]!rng_ForecastRowLookup,0),MATCH(S$11,[5]!rng_ForecastColumnLookup,0))","v":21.049557667608472},{"$f":"INDEX([5]!tbl_Forecast,MATCH($D$8&$C24&$D$7,[5]!rng_ForecastRowLookup,0),MATCH(T$11,[5]!rng_ForecastColumnLookup,0))","v":20.950203755417366},{"$f":"INDEX([5]!tbl_Forecast,MATCH($D$8&$C24&$D$7,[5]!rng_ForecastRowLookup,0),MATCH(U$11,[5]!rng_ForecastColumnLookup,0))","v":20.851318793691796},{"$f":"INDEX([5]!tbl_Forecast,MATCH($D$8&$C24&$D$7,[5]!rng_ForecastRowLookup,0),MATCH(V$11,[5]!rng_ForecastColumnLookup,0))","v":20.75290056898557},{"$f":"INDEX([5]!tbl_Forecast,MATCH($D$8&$C24&$D$7,[5]!rng_ForecastRowLookup,0),MATCH(W$11,[5]!rng_ForecastColumnLookup,0))","v":20.654946878299963},{"$f":"INDEX([5]!tbl_Forecast,MATCH($D$8&$C24&$D$7,[5]!rng_ForecastRowLookup,0),MATCH(X$11,[5]!rng_ForecastColumnLookup,0))","v":20.557455529034385}]
[null,null,"Restaurant",null,{"$f":"INDEX([5]!tbl_Forecast,MATCH($D$8&$C25&$D$7,[5]!rng_ForecastRowLookup,0),MATCH(E$11,[5]!rng_ForecastColumnLookup,0))","v":51.550857208753726},{"$f":"INDEX([5]!tbl_Forecast,MATCH($D$8&$C25&$D$7,[5]!rng_ForecastRowLookup,0),MATCH(F$11,[5]!rng_ForecastColumnLookup,0))","v":51.307537162728408},{"$f":"INDEX([5]!tbl_Forecast,MATCH($D$8&$C25&$D$7,[5]!rng_ForecastRowLookup,0),MATCH(G$11,[5]!rng_ForecastColumnLookup,0))","v":51.065365587320336},{"$f":"INDEX([5]!tbl_Forecast,MATCH($D$8&$C25&$D$7,[5]!rng_ForecastRowLookup,0),MATCH(H$11,[5]!rng_ForecastColumnLookup,0))","v":50.824337061748189},{"$f":"INDEX([5]!tbl_Forecast,MATCH($D$8&$C25&$D$7,[5]!rng_ForecastRowLookup,0),MATCH(I$11,[5]!rng_ForecastColumnLookup,0))","v":50.584446190816735},{"$f":"INDEX([5]!tbl_Forecast,MATCH($D$8&$C25&$D$7,[5]!rng_ForecastRowLookup,0),MATCH(J$11,[5]!rng_ForecastColumnLookup,0))","v":50.345687604796083},{"$f":"INDEX([5]!tbl_Forecast,MATCH($D$8&$C25&$D$7,[5]!rng_ForecastRowLookup,0),MATCH(K$11,[5]!rng_ForecastColumnLookup,0))","v":50.108055959301453},{"$f":"INDEX([5]!tbl_Forecast,MATCH($D$8&$C25&$D$7,[5]!rng_ForecastRowLookup,0),MATCH(L$11,[5]!rng_ForecastColumnLookup,0))","v":49.871545935173543},{"$f":"INDEX([5]!tbl_Forecast,MATCH($D$8&$C25&$D$7,[5]!rng_ForecastRowLookup,0),MATCH(M$11,[5]!rng_ForecastColumnLookup,0))","v":49.636152238359529},{"$f":"INDEX([5]!tbl_Forecast,MATCH($D$8&$C25&$D$7,[5]!rng_ForecastRowLookup,0),MATCH(N$11,[5]!rng_ForecastColumnLookup,0))","v":49.40186959979448},{"$f":"INDEX([5]!tbl_Forecast,MATCH($D$8&$C25&$D$7,[5]!rng_ForecastRowLookup,0),MATCH(O$11,[5]!rng_ForecastColumnLookup,0))","v":49.168692775283453},{"$f":"INDEX([5]!tbl_Forecast,MATCH($D$8&$C25&$D$7,[5]!rng_ForecastRowLookup,0),MATCH(P$11,[5]!rng_ForecastColumnLookup,0))","v":48.936616545384119},{"$f":"INDEX([5]!tbl_Forecast,MATCH($D$8&$C25&$D$7,[5]!rng_ForecastRowLookup,0),MATCH(Q$11,[5]!rng_ForecastColumnLookup,0))","v":48.705635715289908},{"$f":"INDEX([5]!tbl_Forecast,MATCH($D$8&$C25&$D$7,[5]!rng_ForecastRowLookup,0),MATCH(R$11,[5]!rng_ForecastColumnLookup,0))","v":48.475745114713739},{"$f":"INDEX([5]!tbl_Forecast,MATCH($D$8&$C25&$D$7,[5]!rng_ForecastRowLookup,0),MATCH(S$11,[5]!rng_ForecastColumnLookup,0))","v":48.246939597772297},{"$f":"INDEX([5]!tbl_Forecast,MATCH($D$8&$C25&$D$7,[5]!rng_ForecastRowLookup,0),MATCH(T$11,[5]!rng_ForecastColumnLookup,0))","v":48.019214042870807},{"$f":"INDEX([5]!tbl_Forecast,MATCH($D$8&$C25&$D$7,[5]!rng_ForecastRowLookup,0),MATCH(U$11,[5]!rng_ForecastColumnLookup,0))","v":47.792563352588466},{"$f":"INDEX([5]!tbl_Forecast,MATCH($D$8&$C25&$D$7,[5]!rng_ForecastRowLookup,0),MATCH(V$11,[5]!rng_ForecastColumnLookup,0))","v":47.56698245356425},{"$f":"INDEX([5]!tbl_Forecast,MATCH($D$8&$C25&$D$7,[5]!rng_ForecastRowLookup,0),MATCH(W$11,[5]!rng_ForecastColumnLookup,0))","v":47.342466296383435},{"$f":"INDEX([5]!tbl_Forecast,MATCH($D$8&$C25&$D$7,[5]!rng_ForecastRowLookup,0),MATCH(X$11,[5]!rng_ForecastColumnLookup,0))","v":47.119009855464505}]
[null,null,"Lodging",null,{"$f":"INDEX([5]!tbl_Forecast,MATCH($D$8&$C26&$D$7,[5]!rng_ForecastRowLookup,0),MATCH(E$11,[5]!rng_ForecastColumnLookup,0))","v":170.15189589049527},{"$f":"INDEX([5]!tbl_Forecast,MATCH($D$8&$C26&$D$7,[5]!rng_ForecastRowLookup,0),MATCH(F$11,[5]!rng_ForecastColumnLookup,0))","v":169.74353134035809},{"$f":"INDEX([5]!tbl_Forecast,MATCH($D$8&$C26&$D$7,[5]!rng_ForecastRowLookup,0),MATCH(G$11,[5]!rng_ForecastColumnLookup,0))","v":169.33614686514122},{"$f":"INDEX([5]!tbl_Forecast,MATCH($D$8&$C26&$D$7,[5]!rng_ForecastRowLookup,0),MATCH(H$11,[5]!rng_ForecastColumnLookup,0))","v":168.92974011266489},{"$f":"INDEX([5]!tbl_Forecast,MATCH($D$8&$C26&$D$7,[5]!rng_ForecastRowLookup,0),MATCH(I$11,[5]!rng_ForecastColumnLookup,0))","v":168.52430873639449},{"$f":"INDEX([5]!tbl_Forecast,MATCH($D$8&$C26&$D$7,[5]!rng_ForecastRowLookup,0),MATCH(J$11,[5]!rng_ForecastColumnLookup,0))","v":168.11985039542716},{"$f":"INDEX([5]!tbl_Forecast,MATCH($D$8&$C26&$D$7,[5]!rng_ForecastRowLookup,0),MATCH(K$11,[5]!rng_ForecastColumnLookup,0))","v":167.71636275447813},{"$f":"INDEX([5]!tbl_Forecast,MATCH($D$8&$C26&$D$7,[5]!rng_ForecastRowLookup,0),MATCH(L$11,[5]!rng_ForecastColumnLookup,0))","v":167.31384348386743},{"$f":"INDEX([5]!tbl_Forecast,MATCH($D$8&$C26&$D$7,[5]!rng_ForecastRowLookup,0),MATCH(M$11,[5]!rng_ForecastColumnLookup,0))","v":166.91229025950614},{"$f":"INDEX([5]!tbl_Forecast,MATCH($D$8&$C26&$D$7,[5]!rng_ForecastRowLookup,0),MATCH(N$11,[5]!rng_ForecastColumnLookup,0))","v":166.51170076288332},{"$f":"INDEX([5]!tbl_Forecast,MATCH($D$8&$C26&$D$7,[5]!rng_ForecastRowLookup,0),MATCH(O$11,[5]!rng_ForecastColumnLookup,0))","v":166.11207268105238},{"$f":"INDEX([5]!tbl_Forecast,MATCH($D$8&$C26&$D$7,[5]!rng_ForecastRowLookup,0),MATCH(P$11,[5]!rng_ForecastColumnLookup,0))","v":165.7134037066179},{"$f":"INDEX([5]!tbl_Forecast,MATCH($D$8&$C26&$D$7,[5]!rng_ForecastRowLookup,0),MATCH(Q$11,[5]!rng_ForecastColumnLookup,0))","v":165.31569153772202},{"$f":"INDEX([5]!tbl_Forecast,MATCH($D$8&$C26&$D$7,[5]!rng_ForecastRowLookup,0),MATCH(R$11,[5]!rng_ForecastColumnLookup,0))","v":164.91893387803151},{"$f":"INDEX([5]!tbl_Forecast,MATCH($D$8&$C26&$D$7,[5]!rng_ForecastRowLookup,0),MATCH(S$11,[5]!rng_ForecastColumnLookup,0))","v":164.52312843672422},{"$f":"INDEX([5]!tbl_Forecast,MATCH($D$8&$C26&$D$7,[5]!rng_ForecastRowLookup,0),MATCH(T$11,[5]!rng_ForecastColumnLookup,0))","v":164.12827292847609},{"$f":"INDEX([5]!tbl_Forecast,MATCH($D$8&$C26&$D$7,[5]!rng_ForecastRowLookup,0),MATCH(U$11,[5]!rng_ForecastColumnLookup,0))","v":163.73436507344778},{"$f":"INDEX([5]!tbl_Forecast,MATCH($D$8&$C26&$D$7,[5]!rng_ForecastRowLookup,0),MATCH(V$11,[5]!rng_ForecastColumnLookup,0))","v":163.3414025972715},{"$f":"INDEX([5]!tbl_Forecast,MATCH($D$8&$C26&$D$7,[5]!rng_ForecastRowLookup,0),MATCH(W$11,[5]!rng_ForecastColumnLookup,0))","v":162.94938323103807},{"$f":"INDEX([5]!tbl_Forecast,MATCH($D$8&$C26&$D$7,[5]!rng_ForecastRowLookup,0),MATCH(X$11,[5]!rng_ForecastColumnLookup,0))","v":162.55830471128357}]
[null,null,"Hospital",null,{"$f":"INDEX([5]!tbl_Forecast,MATCH($D$8&$C27&$D$7,[5]!rng_ForecastRowLookup,0),MATCH(E$11,[5]!rng_ForecastColumnLookup,0))","v":105.02947953487826},{"$f":"INDEX([5]!tbl_Forecast,MATCH($D$8&$C27&$D$7,[5]!rng_ForecastRowLookup,0),MATCH(F$11,[5]!rng_ForecastColumnLookup,0))","v":104.80891762785501},{"$f":"INDEX([5]!tbl_Forecast,MATCH($D$8&$C27&$D$7,[5]!rng_ForecastRowLookup,0),MATCH(G$11,[5]!rng_ForecastColumnLookup,0))","v":104.58881890083651},{"$f":"INDEX([5]!tbl_Forecast,MATCH($D$8&$C27&$D$7,[5]!rng_ForecastRowLookup,0),MATCH(H$11,[5]!rng_ForecastColumnLookup,0))","v":104.36918238114475},{"$f":"INDEX([5]!tbl_Forecast,MATCH($D$8&$C27&$D$7,[5]!rng_ForecastRowLookup,0),MATCH(I$11,[5]!rng_ForecastColumnLookup,0))","v":104.15000709814436},{"$f":"INDEX([5]!tbl_Forecast,MATCH($D$8&$C27&$D$7,[5]!rng_ForecastRowLookup,0),MATCH(J$11,[5]!rng_ForecastColumnLookup,0))","v":103.93129208323826},{"$f":"INDEX([5]!tbl_Forecast,MATCH($D$8&$C27&$D$7,[5]!rng_ForecastRowLookup,0),MATCH(K$11,[5]!rng_ForecastColumnLookup,0))","v":103.71303636986346},{"$f":"INDEX([5]!tbl_Forecast,MATCH($D$8&$C27&$D$7,[5]!rng_ForecastRowLookup,0),MATCH(L$11,[5]!rng_ForecastColumnLookup,0))","v":103.49523899348674},{"$f":"INDEX([5]!tbl_Forecast,MATCH($D$8&$C27&$D$7,[5]!rng_ForecastRowLookup,0),MATCH(M$11,[5]!rng_ForecastColumnLookup,0))","v":103.27789899160042},{"$f":"INDEX([5]!tbl_Forecast,MATCH($D$8&$C27&$D$7,[5]!rng_ForecastRowLookup,0),MATCH(N$11,[5]!rng_ForecastColumnLookup,0))","v":103.06101540371807},{"$f":"INDEX([5]!tbl_Forecast,MATCH($D$8&$C27&$D$7,[5]!rng_ForecastRowLookup,0),MATCH(O$11,[5]!rng_ForecastColumnLookup,0))","v":102.84458727137024},{"$f":"INDEX([5]!tbl_Forecast,MATCH($D$8&$C27&$D$7,[5]!rng_ForecastRowLookup,0),MATCH(P$11,[5]!rng_ForecastColumnLookup,0))","v":102.62861363810038},{"$f":"INDEX([5]!tbl_Forecast,MATCH($D$8&$C27&$D$7,[5]!rng_ForecastRowLookup,0),MATCH(Q$11,[5]!rng_ForecastColumnLookup,0))","v":102.41309354946036},{"$f":"INDEX([5]!tbl_Forecast,MATCH($D$8&$C27&$D$7,[5]!rng_ForecastRowLookup,0),MATCH(R$11,[5]!rng_ForecastColumnLookup,0))","v":102.19802605300649},{"$f":"INDEX([5]!tbl_Forecast,MATCH($D$8&$C27&$D$7,[5]!rng_ForecastRowLookup,0),MATCH(S$11,[5]!rng_ForecastColumnLookup,0))","v":101.98341019829519},{"$f":"INDEX([5]!tbl_Forecast,MATCH($D$8&$C27&$D$7,[5]!rng_ForecastRowLookup,0),MATCH(T$11,[5]!rng_ForecastColumnLookup,0))","v":101.76924503687877},{"$f":"INDEX([5]!tbl_Forecast,MATCH($D$8&$C27&$D$7,[5]!rng_ForecastRowLookup,0),MATCH(U$11,[5]!rng_ForecastColumnLookup,0))","v":101.55552962230132},{"$f":"INDEX([5]!tbl_Forecast,MATCH($D$8&$C27&$D$7,[5]!rng_ForecastRowLookup,0),MATCH(V$11,[5]!rng_ForecastColumnLookup,0))","v":101.3422630100945},{"$f":"INDEX([5]!tbl_Forecast,MATCH($D$8&$C27&$D$7,[5]!rng_ForecastRowLookup,0),MATCH(W$11,[5]!rng_ForecastColumnLookup,0))","v":101.1294442577733},{"$f":"INDEX([5]!tbl_Forecast,MATCH($D$8&$C27&$D$7,[5]!rng_ForecastRowLookup,0),MATCH(X$11,[5]!rng_ForecastColumnLookup,0))","v":100.91707242483197}]
[null,null,"Residential Care",null,{"$f":"INDEX([5]!tbl_Forecast,MATCH($D$8&$C28&$D$7,[5]!rng_ForecastRowLookup,0),MATCH(E$11,[5]!rng_ForecastColumnLookup,0))","v":128.74820917277606},{"$f":"INDEX([5]!tbl_Forecast,MATCH($D$8&$C28&$D$7,[5]!rng_ForecastRowLookup,0),MATCH(F$11,[5]!rng_ForecastColumnLookup,0))","v":128.43921347076139},{"$f":"INDEX([5]!tbl_Forecast,MATCH($D$8&$C28&$D$7,[5]!rng_ForecastRowLookup,0),MATCH(G$11,[5]!rng_ForecastColumnLookup,0))","v":128.1309593584316},{"$f":"INDEX([5]!tbl_Forecast,MATCH($D$8&$C28&$D$7,[5]!rng_ForecastRowLookup,0),MATCH(H$11,[5]!rng_ForecastColumnLookup,0))","v":127.82344505597135},{"$f":"INDEX([5]!tbl_Forecast,MATCH($D$8&$C28&$D$7,[5]!rng_ForecastRowLookup,0),MATCH(I$11,[5]!rng_ForecastColumnLookup,0))","v":127.51666878783702},{"$f":"INDEX([5]!tbl_Forecast,MATCH($D$8&$C28&$D$7,[5]!rng_ForecastRowLookup,0),MATCH(J$11,[5]!rng_ForecastColumnLookup,0))","v":127.21062878274621},{"$f":"INDEX([5]!tbl_Forecast,MATCH($D$8&$C28&$D$7,[5]!rng_ForecastRowLookup,0),MATCH(K$11,[5]!rng_ForecastColumnLookup,0))","v":126.90532327366765},{"$f":"INDEX([5]!tbl_Forecast,MATCH($D$8&$C28&$D$7,[5]!rng_ForecastRowLookup,0),MATCH(L$11,[5]!rng_ForecastColumnLookup,0))","v":126.60075049781085},{"$f":"INDEX([5]!tbl_Forecast,MATCH($D$8&$C28&$D$7,[5]!rng_ForecastRowLookup,0),MATCH(M$11,[5]!rng_ForecastColumnLookup,0))","v":126.29690869661611},{"$f":"INDEX([5]!tbl_Forecast,MATCH($D$8&$C28&$D$7,[5]!rng_ForecastRowLookup,0),MATCH(N$11,[5]!rng_ForecastColumnLookup,0))","v":125.99379611574425},{"$f":"INDEX([5]!tbl_Forecast,MATCH($D$8&$C28&$D$7,[5]!rng_ForecastRowLookup,0),MATCH(O$11,[5]!rng_ForecastColumnLookup,0))","v":125.69141100506647},{"$f":"INDEX([5]!tbl_Forecast,MATCH($D$8&$C28&$D$7,[5]!rng_ForecastRowLookup,0),MATCH(P$11,[5]!rng_ForecastColumnLookup,0))","v":125.3897516186543},{"$f":"INDEX([5]!tbl_Forecast,MATCH($D$8&$C28&$D$7,[5]!rng_ForecastRowLookup,0),MATCH(Q$11,[5]!rng_ForecastColumnLookup,0))","v":125.08881621476955},{"$f":"INDEX([5]!tbl_Forecast,MATCH($D$8&$C28&$D$7,[5]!rng_ForecastRowLookup,0),MATCH(R$11,[5]!rng_ForecastColumnLookup,0))","v":124.78860305585408},{"$f":"INDEX([5]!tbl_Forecast,MATCH($D$8&$C28&$D$7,[5]!rng_ForecastRowLookup,0),MATCH(S$11,[5]!rng_ForecastColumnLookup,0))","v":124.48911040852005},{"$f":"INDEX([5]!tbl_Forecast,MATCH($D$8&$C28&$D$7,[5]!rng_ForecastRowLookup,0),MATCH(T$11,[5]!rng_ForecastColumnLookup,0))","v":124.1903365435396},{"$f":"INDEX([5]!tbl_Forecast,MATCH($D$8&$C28&$D$7,[5]!rng_ForecastRowLookup,0),MATCH(U$11,[5]!rng_ForecastColumnLookup,0))","v":123.8922797358351},{"$f":"INDEX([5]!tbl_Forecast,MATCH($D$8&$C28&$D$7,[5]!rng_ForecastRowLookup,0),MATCH(V$11,[5]!rng_ForecastColumnLookup,0))","v":123.59493826446912},{"$f":"INDEX([5]!tbl_Forecast,MATCH($D$8&$C28&$D$7,[5]!rng_ForecastRowLookup,0),MATCH(W$11,[5]!rng_ForecastColumnLookup,0))","v":123.29831041263438},{"$f":"INDEX([5]!tbl_Forecast,MATCH($D$8&$C28&$D$7,[5]!rng_ForecastRowLookup,0),MATCH(X$11,[5]!rng_ForecastColumnLookup,0))","v":123.00239446764408}]
[null,null,"Assembly",null,{"$f":"INDEX([5]!tbl_Forecast,MATCH($D$8&$C29&$D$7,[5]!rng_ForecastRowLookup,0),MATCH(E$11,[5]!rng_ForecastColumnLookup,0))","v":375.90224900649127},{"$f":"INDEX([5]!tbl_Forecast,MATCH($D$8&$C29&$D$7,[5]!rng_ForecastRowLookup,0),MATCH(F$11,[5]!rng_ForecastColumnLookup,0))","v":374.21570091594884},{"$f":"INDEX([5]!tbl_Forecast,MATCH($D$8&$C29&$D$7,[5]!rng_ForecastRowLookup,0),MATCH(G$11,[5]!rng_ForecastColumnLookup,0))","v":372.53671980450594},{"$f":"INDEX([5]!tbl_Forecast,MATCH($D$8&$C29&$D$7,[5]!rng_ForecastRowLookup,0),MATCH(H$11,[5]!rng_ForecastColumnLookup,0))","v":370.86527172164978},{"$f":"INDEX([5]!tbl_Forecast,MATCH($D$8&$C29&$D$7,[5]!rng_ForecastRowLookup,0),MATCH(I$11,[5]!rng_ForecastColumnLookup,0))","v":369.20132286919198},{"$f":"INDEX([5]!tbl_Forecast,MATCH($D$8&$C29&$D$7,[5]!rng_ForecastRowLookup,0),MATCH(J$11,[5]!rng_ForecastColumnLookup,0))","v":367.54483960058553},{"$f":"INDEX([5]!tbl_Forecast,MATCH($D$8&$C29&$D$7,[5]!rng_ForecastRowLookup,0),MATCH(K$11,[5]!rng_ForecastColumnLookup,0))","v":365.89578842024423},{"$f":"INDEX([5]!tbl_Forecast,MATCH($D$8&$C29&$D$7,[5]!rng_ForecastRowLookup,0),MATCH(L$11,[5]!rng_ForecastColumnLookup,0))","v":364.25413598286536},{"$f":"INDEX([5]!tbl_Forecast,MATCH($D$8&$C29&$D$7,[5]!rng_ForecastRowLookup,0),MATCH(M$11,[5]!rng_ForecastColumnLookup,0))","v":362.6198490927556},{"$f":"INDEX([5]!tbl_Forecast,MATCH($D$8&$C29&$D$7,[5]!rng_ForecastRowLookup,0),MATCH(N$11,[5]!rng_ForecastColumnLookup,0))","v":360.99289470315949},{"$f":"INDEX([5]!tbl_Forecast,MATCH($D$8&$C29&$D$7,[5]!rng_ForecastRowLookup,0),MATCH(O$11,[5]!rng_ForecastColumnLookup,0))","v":359.37323991559134},{"$f":"INDEX([5]!tbl_Forecast,MATCH($D$8&$C29&$D$7,[5]!rng_ForecastRowLookup,0),MATCH(P$11,[5]!rng_ForecastColumnLookup,0))","v":357.76085197917007},{"$f":"INDEX([5]!tbl_Forecast,MATCH($D$8&$C29&$D$7,[5]!rng_ForecastRowLookup,0),MATCH(Q$11,[5]!rng_ForecastColumnLookup,0))","v":356.15569828995689},{"$f":"INDEX([5]!tbl_Forecast,MATCH($D$8&$C29&$D$7,[5]!rng_ForecastRowLookup,0),MATCH(R$11,[5]!rng_ForecastColumnLookup,0))","v":354.55774639029596},{"$f":"INDEX([5]!tbl_Forecast,MATCH($D$8&$C29&$D$7,[5]!rng_ForecastRowLookup,0),MATCH(S$11,[5]!rng_ForecastColumnLookup,0))","v":352.96696396815821},{"$f":"INDEX([5]!tbl_Forecast,MATCH($D$8&$C29&$D$7,[5]!rng_ForecastRowLookup,0),MATCH(T$11,[5]!rng_ForecastColumnLookup,0))","v":351.38331885648773},{"$f":"INDEX([5]!tbl_Forecast,MATCH($D$8&$C29&$D$7,[5]!rng_ForecastRowLookup,0),MATCH(U$11,[5]!rng_ForecastColumnLookup,0))","v":349.80677903255156},{"$f":"INDEX([5]!tbl_Forecast,MATCH($D$8&$C29&$D$7,[5]!rng_ForecastRowLookup,0),MATCH(V$11,[5]!rng_ForecastColumnLookup,0))","v":348.23731261729228},{"$f":"INDEX([5]!tbl_Forecast,MATCH($D$8&$C29&$D$7,[5]!rng_ForecastRowLookup,0),MATCH(W$11,[5]!rng_ForecastColumnLookup,0))","v":346.67488787468267},{"$f":"INDEX([5]!tbl_Forecast,MATCH($D$8&$C29&$D$7,[5]!rng_ForecastRowLookup,0),MATCH(X$11,[5]!rng_ForecastColumnLookup,0))","v":345.11947321108494}]
[null,null,"Other",null,{"$f":"INDEX([5]!tbl_Forecast,MATCH($D$8&$C30&$D$7,[5]!rng_ForecastRowLookup,0),MATCH(E$11,[5]!rng_ForecastColumnLookup,0))","v":342.64988330108076},{"$f":"INDEX([5]!tbl_Forecast,MATCH($D$8&$C30&$D$7,[5]!rng_ForecastRowLookup,0),MATCH(F$11,[5]!rng_ForecastColumnLookup,0))","v":339.56603435137106},{"$f":"INDEX([5]!tbl_Forecast,MATCH($D$8&$C30&$D$7,[5]!rng_ForecastRowLookup,0),MATCH(G$11,[5]!rng_ForecastColumnLookup,0))","v":336.50994004220871},{"$f":"INDEX([5]!tbl_Forecast,MATCH($D$8&$C30&$D$7,[5]!rng_ForecastRowLookup,0),MATCH(H$11,[5]!rng_ForecastColumnLookup,0))","v":333.48135058182885},{"$f":"INDEX([5]!tbl_Forecast,MATCH($D$8&$C30&$D$7,[5]!rng_ForecastRowLookup,0),MATCH(I$11,[5]!rng_ForecastColumnLookup,0))","v":330.48001842659238},{"$f":"INDEX([5]!tbl_Forecast,MATCH($D$8&$C30&$D$7,[5]!rng_ForecastRowLookup,0),MATCH(J$11,[5]!rng_ForecastColumnLookup,0))","v":327.50569826075304},{"$f":"INDEX([5]!tbl_Forecast,MATCH($D$8&$C30&$D$7,[5]!rng_ForecastRowLookup,0),MATCH(K$11,[5]!rng_ForecastColumnLookup,0))","v":324.55814697640625},{"$f":"INDEX([5]!tbl_Forecast,MATCH($D$8&$C30&$D$7,[5]!rng_ForecastRowLookup,0),MATCH(L$11,[5]!rng_ForecastColumnLookup,0))","v":321.63712365361863},{"$f":"INDEX([5]!tbl_Forecast,MATCH($D$8&$C30&$D$7,[5]!rng_ForecastRowLookup,0),MATCH(M$11,[5]!rng_ForecastColumnLookup,0))","v":318.7423895407361},{"$f":"INDEX([5]!tbl_Forecast,MATCH($D$8&$C30&$D$7,[5]!rng_ForecastRowLookup,0),MATCH(N$11,[5]!rng_ForecastColumnLookup,0))","v":315.87370803486942},{"$f":"INDEX([5]!tbl_Forecast,MATCH($D$8&$C30&$D$7,[5]!rng_ForecastRowLookup,0),MATCH(O$11,[5]!rng_ForecastColumnLookup,0))","v":313.03084466255564},{"$f":"INDEX([5]!tbl_Forecast,MATCH($D$8&$C30&$D$7,[5]!rng_ForecastRowLookup,0),MATCH(P$11,[5]!rng_ForecastColumnLookup,0))","v":310.21356706059254},{"$f":"INDEX([5]!tbl_Forecast,MATCH($D$8&$C30&$D$7,[5]!rng_ForecastRowLookup,0),MATCH(Q$11,[5]!rng_ForecastColumnLookup,0))","v":307.42164495704725},{"$f":"INDEX([5]!tbl_Forecast,MATCH($D$8&$C30&$D$7,[5]!rng_ForecastRowLookup,0),MATCH(R$11,[5]!rng_ForecastColumnLookup,0))","v":304.65485015243382},{"$f":"INDEX([5]!tbl_Forecast,MATCH($D$8&$C30&$D$7,[5]!rng_ForecastRowLookup,0),MATCH(S$11,[5]!rng_ForecastColumnLookup,0))","v":301.9129565010619},{"$f":"INDEX([5]!tbl_Forecast,MATCH($D$8&$C30&$D$7,[5]!rng_ForecastRowLookup,0),MATCH(T$11,[5]!rng_ForecastColumnLookup,0))","v":299.19573989255235},{"$f":"INDEX([5]!tbl_Forecast,MATCH($D$8&$C30&$D$7,[5]!rng_ForecastRowLookup,0),MATCH(U$11,[5]!rng_ForecastColumnLookup,0))","v":296.50297823351934},{"$f":"INDEX([5]!tbl_Forecast,MATCH($D$8&$C30&$D$7,[5]!rng_ForecastRowLookup,0),MATCH(V$11,[5]!rng_ForecastColumnLookup,0))","v":293.83445142941764},{"$f":"INDEX([5]!tbl_Forecast,MATCH($D$8&$C30&$D$7,[5]!rng_ForecastRowLookup,0),MATCH(W$11,[5]!rng_ForecastColumnLookup,0))","v":291.18994136655289},{"$f":"INDEX([5]!tbl_Forecast,MATCH($D$8&$C30&$D$7,[5]!rng_ForecastRowLookup,0),MATCH(X$11,[5]!rng_ForecastColumnLookup,0))","v":288.5692318942539}]
[]
[null,null,"Total Regional Stock",null,{"$f":"SUM(E13:E30)","v":3371.0405269479006},3356.5369104716883,3342.1075656435023,3327.7520346049623,3313.4698627952139,3299.2605989245808,3285.1237949484457,3271.0590060413433,3257.0657905712806,3243.1437100742696,3229.2923292290834,3215.5112158322117,3201.7999407730422,3188.1580780092468,3174.5852045423726,3161.0809003936483,3147.644748579979,3134.2763350901637,3120.9752488612994,{"$f":"SUM(X13:X30)","v":3107.74108175539}]
[]
[]
[]
[]
["APPLY MEASURE APPLICABILITY, AND ACHIEVABLE PENETRATION RATE FOR MAX ANNUAL RATE",null,null,null,null,null,null,null,null,null,null,null,null,null,null,null,null,null,null,null,null,null,null,null,"Achievability"]
["Appicability",null,{"$f":"C8","v":"Demand Control Ventilation-Retro"},{"$f":"VLOOKUP(C38,[2]ACHIEV!$B$14:$C$96,2,FALSE)","v":"Retro12Med"},{"$f":"VLOOKUP($C$38,[2]!ACHIEV,MATCH(E$11,$E$11:$X$11,0)+2,FALSE)","v":0.10937459468255628},{"$f":"VLOOKUP($C$38,[2]!ACHIEV,MATCH(F$11,$E$11:$X$11,0)+2,FALSE)","v":0.10937459468255628},{"$f":"VLOOKUP($C$38,[2]!ACHIEV,MATCH(G$11,$E$11:$X$11,0)+2,FALSE)","v":0.10937459468255628},{"$f":"VLOOKUP($C$38,[2]!ACHIEV,MATCH(H$11,$E$11:$X$11,0)+2,FALSE)","v":0.10937459468255628},{"$f":"VLOOKUP($C$38,[2]!ACHIEV,MATCH(I$11,$E$11:$X$11,0)+2,FALSE)","v":0.10937459468255628},{"$f":"VLOOKUP($C$38,[2]!ACHIEV,MATCH(J$11,$E$11:$X$11,0)+2,FALSE)","v":9.8437135214300656E-2},{"$f":"VLOOKUP($C$38,[2]!ACHIEV,MATCH(K$11,$E$11:$X$11,0)+2,FALSE)","v":7.874970817144053E-2},{"$f":"VLOOKUP($C$38,[2]!ACHIEV,MATCH(L$11,$E$11:$X$11,0)+2,FALSE)","v":6.2999766537152418E-2},{"$f":"VLOOKUP($C$38,[2]!ACHIEV,MATCH(M$11,$E$11:$X$11,0)+2,FALSE)","v":5.0399813229721938E-2},{"$f":"VLOOKUP($C$38,[2]!ACHIEV,MATCH(N$11,$E$11:$X$11,0)+2,FALSE)","v":4.0319850583777551E-2},{"$f":"VLOOKUP($C$38,[2]!ACHIEV,MATCH(O$11,$E$11:$X$11,0)+2,FALSE)","v":3.225588046702204E-2},{"$f":"VLOOKUP($C$38,[2]!ACHIEV,MATCH(P$11,$E$11:$X$11,0)+2,FALSE)","v":2.5804704373617631E-2},{"$f":"VLOOKUP($C$38,[2]!ACHIEV,MATCH(Q$11,$E$11:$X$11,0)+2,FALSE)","v":2.0643763498894106E-2},{"$f":"VLOOKUP($C$38,[2]!ACHIEV,MATCH(R$11,$E$11:$X$11,0)+2,FALSE)","v":1.6515010799115284E-2},{"$f":"VLOOKUP($C$38,[2]!ACHIEV,MATCH(S$11,$E$11:$X$11,0)+2,FALSE)","v":1.3212008639292228E-2},{"$f":"VLOOKUP($C$38,[2]!ACHIEV,MATCH(T$11,$E$11:$X$11,0)+2,FALSE)","v":1.0569606911433781E-2},{"$f":"VLOOKUP($C$38,[2]!ACHIEV,MATCH(U$11,$E$11:$X$11,0)+2,FALSE)","v":7.2092823794611682E-5},{"$f":"VLOOKUP($C$38,[2]!ACHIEV,MATCH(V$11,$E$11:$X$11,0)+2,FALSE)","v":2.5747437069512102E-5},{"$f":"VLOOKUP($C$38,[2]!ACHIEV,MATCH(W$11,$E$11:$X$11,0)+2,FALSE)","v":8.7775353646568632E-6},{"$f":"VLOOKUP($C$38,[2]!ACHIEV,MATCH(X$11,$E$11:$X$11,0)+2,FALSE)","v":2.8622397928446119E-6},0.85]
[{"$f":"VLOOKUP($C$38,[2]!APPLIC,MATCH(C39,BLDGTYP,0)+1,FALSE)","v":0.10326972741610822},null,"Large Off",null,{"$f":"E13*E$38*$Y$38*$A39","v":3.6491599254994416},3.6382124457229428,3.6272978083857743,3.6164159149606165,3.6055666672157352,3.2352749704926795,2.5804553164649611,2.0581711604124528,1.6415973175449723,1.30933802047387,1.0443280051299588,0.83295601689165522,0.66436571907278408,0.52989809753245265,0.42264672259188418,0.33710302593928682,2.2924032204368508E-3,8.1625928956294443E-4,2.7743540171554584E-4,9.0196661580162508E-5,{"$f":"W13*$Y$38*A39","v":31.607437645042346}]
[{"$f":"VLOOKUP($C$38,[2]!APPLIC,MATCH(C40,BLDGTYP,0)+1,FALSE)","v":0.62207382538606792},null,"Medium Off",null,{"$f":"E14*E$38*$Y$38*$A40","v":11.030925849709352},10.997833072160226,10.964839572943745,10.931945054224915,10.899149219062236,9.7798065942645458,7.8003737395854014,6.2215780946933181,4.9623306883273894,3.9579549570099264,3.1568648737111169,2.5179154232719876,2.0082893416017371,1.6018115788615455,1.2776049152999687,1.0190176804432547,6.9296305063453432E-3,2.4674434338672986E-3,8.3865037622039991E-4,2.7265252992328837E-4,95.545086562369534]
[{"$f":"VLOOKUP($C$38,[2]!APPLIC,MATCH(C41,BLDGTYP,0)+1,FALSE)","v":0.71764122486097937},null,"Small Off",null,{"$f":"E15*E$38*$Y$38*$A41","v":12.282199769948999},12.245353170639152,12.208617111127236,12.171991259793854,12.135475286014472,10.889161974140785,8.6851955905746934,6.927312003042374,5.5252240536265971,4.4069187051725747,3.5149583592456453,2.803530787334326,2.2360961559778589,1.7835102940079406,1.4225278105007331,1.1346081816553848,7.7156811105850093E-3,2.7473335954484369E-3,9.3378122545835431E-4,3.0358039623555805E-4,106.38307755708578]
[{"$f":"VLOOKUP($C$38,[2]!APPLIC,MATCH(C42,BLDGTYP,0)+1,FALSE)","v":0.64936643170170361},null,"Xlarge Ret",null,{"$f":"E16*E$38*$Y$38*$A42","v":8.3527103725178584},8.3142879048042744,8.2760421804421753,8.2379723864121406,8.200077713434645,7.3461216203575601,5.8498635687231326,4.6583633570456042,3.709547908482556,2.9539871904828288,2.3523190795252864,1.8731987294075758,1.4916656122018408,1.1878431603085697,0.94590326541692027,0.75324168831680194,5.1140525366820781E-3,1.8180456767910385E-3,6.1693727273461508E-4,2.0024979172327047E-4,70.285934160828376]
[{"$f":"VLOOKUP($C$38,[2]!APPLIC,MATCH(C43,BLDGTYP,0)+1,FALSE)","v":0.3754791340852166},null,"Large Ret",null,{"$f":"E17*E$38*$Y$38*$A43","v":7.2942232568861671},7.2606698299044918,7.2272707486869301,7.1940253032429702,7.1609327868480515,6.4151932464256953,5.1085466859937094,4.0680378969905098,3.2394599381314833,2.5796467379328627,2.0542242903506973,1.6358198868920675,1.3026360923298905,1.0373151730441386,0.82603481859850847,0.65778804674636404,4.4659804166966932E-3,1.5876560381361635E-3,5.3875664330789409E-4,1.7487337915850467E-4,61.379034196458129]
[{"$f":"VLOOKUP($C$38,[2]!APPLIC,MATCH(C44,BLDGTYP,0)+1,FALSE)","v":0.51861578363233451},null,"Medium Ret",null,{"$f":"E18*E$38*$Y$38*$A44","v":4.6824215742994797},4.6608824350577018,4.6394423758564356,4.618100940927496,4.5968576765992291,4.1181409181581854,3.2793579759477267,2.6114183434066933,2.079524655221618,1.6559670734460787,1.3186796999265813,1.0500910186455352,0.83620847996781256,0.66588953676796847,0.53026115591906864,0.42225756368147271,2.8668718130882296E-3,1.0191729295531795E-3,3.4584706843740942E-4,1.1225744736691626E-4,39.401387071589369]
[{"$f":"VLOOKUP($C$38,[2]!APPLIC,MATCH(C45,BLDGTYP,0)+1,FALSE)","v":0.4224831216091387},null,"Small Ret",null,{"$f":"E19*E$38*$Y$38*$A45","v":4.3000963767485603},4.2803159334155172,4.2606264801218048,4.2410275983132442,4.2215188713610035,3.7818898960974687,3.0115945620603362,2.3981929816598866,1.909729035155401,1.5207554252749489,1.2110079602549473,0.96434985891021952,0.76793107964738583,0.61151887734480637,0.48696471240721617,0.38777973978411429,2.6327883767936025E-3,9.3595626795041386E-4,3.1760825083745398E-4,1.0309149550630465E-4,36.184217737967508]
[{"$f":"VLOOKUP($C$38,[2]!APPLIC,MATCH(C46,BLDGTYP,0)+1,FALSE)","v":0.32307857163168779},null,"School K-12",null,{"$f":"E20*E$38*$Y$38*$A46","v":7.2422334550073915},7.2125402978418602,7.1829688826207096,7.1535187102019639,7.1241892834901375,6.3854820966850445,5.0874412960709092,4.0532662294056143,3.2293182702920409,2.5728624523070751,2.0498509730020928,1.6331572672102272,1.3011690579317325,1.0366674118353698,0.82593366035747562,0.65803786588000801,4.4699206979504462E-3,1.5898550082465073E-3,5.3977384183697731E-4,1.7529155513788862E-4,61.494920773592163]
[{"$f":"VLOOKUP($C$38,[2]!APPLIC,MATCH(C47,BLDGTYP,0)+1,FALSE)","v":0.19213044434378573},null,"University",null,{"$f":"E21*E$38*$Y$38*$A47","v":2.1819116008927608},2.1729657633291004,2.1640566036994513,2.1551839716242829,2.1463477173406238,1.9237929225295742,1.5327242972377626,1.2211521020952703,0.97291630278134367,0.77514187675195212,0.6175710360458152,0.49203119583842209,0.39201109434838766,0.31232307908924734,0.24883404357198516,0.19825105919467198,1.3466801210592558E-3,4.7898526162975911E-4,1.626209393385749E-4,5.2811150050602992E-5,18.526947780053991]
[{"$f":"VLOOKUP($C$38,[2]!APPLIC,MATCH(C48,BLDGTYP,0)+1,FALSE)","v":0.21144946069810441},null,"Warehouse",null,{"$f":"E22*E$38*$Y$38*$A48","v":8.8205645878559533},8.7879284988808859,8.7554131634350281,8.7230181347303155,8.6907429676318149,7.7927284967864185,6.2111163210786486,4.9505081525525245,3.9457530179104645,3.1449229853953571,2.5066294162795146,1.9978839099514243,1.5923933915876829,1.269201228831047,1.0116041474274977,0.8062889696656127,5.4791608432579655E-3,1.949602838621283E-3,6.621781732259835E-4,2.151287328228437E-4,75.440103140144927]
[{"$f":"VLOOKUP($C$38,[2]!APPLIC,MATCH(C49,BLDGTYP,0)+1,FALSE)","v":0.43390558040018462},null,"Supermarket",null,{"$f":"E23*E$38*$Y$38*$A49","v":2.1670763739694814},2.1475726866037563,2.1282445324243224,2.1090903316325038,2.0901085186478112,1.8641677877819827,1.4779122221535561,1.1716888097233389,0.92891488834866331,0.73644372348282017,0.58385258397717987,0.46287832857710826,0.36696993889593138,0.29093376755669442,0.23065229091894729,0.18286113624054143,1.236027886588149E-3,4.3746558414615457E-4,1.4779377064477216E-4,4.7759878275026322E-5,16.837730012444077]
[{"$f":"VLOOKUP($C$38,[2]!APPLIC,MATCH(C50,BLDGTYP,0)+1,FALSE)","v":0.57499869036077145},null,"MiniMart",null,{"$f":"E24*E$38*$Y$38*$A50","v":1.2022958080283539},1.19662097181446,1.190972920827496,1.1853515286411904,1.1797566694260038,1.056769396151682,0.84142515568147691,0.66996290315732809,0.53344054260354057,0.42473816259396152,0.33818671877321438,0.26927238196848385,0.21440113306047412,0.17071132776994294,0.13592445624229504,0.10822631424706515,7.347022098719274E-4,2.6115514837198473E-4,8.8609941843123882E-5,2.8758163995095744E-5,10.095082293819715]
[{"$f":"VLOOKUP($C$38,[2]!APPLIC,MATCH(C51,BLDGTYP,0)+1,FALSE)","v":0.45018285377424883},null,"Restaurant",null,{"$f":"E25*E$38*$Y$38*$A51","v":2.1575467933058152},2.1473631724414117,2.1372276182674885,2.1271399039092662,2.1170998035628141,1.896396383240998,1.509956313849681,1.202263456038648,0.95727101802091674,0.76220215905268651,0.60688365188956617,0.4832153288421181,0.38474764199198663,0.30634530649742753,0.24391948532060775,0.19421454827991558,1.3184395939493205E-3,4.686487710951014E-4,1.5901252803348216E-4,5.1607170294249523E-5,18.115851594714524]
[{"$f":"VLOOKUP($C$38,[2]!APPLIC,MATCH(C52,BLDGTYP,0)+1,FALSE)","v":0.24208313482049432},null,"Lodging",null,{"$f":"E26*E$38*$Y$38*$A52","v":3.8294526979681236},3.8202620114930004,3.8110933826654163,3.8019467585470195,3.7928220863265074,3.4053473819873914,2.7177396386164974,2.1689736507870547,1.7310144912201326,1.3814880451529634,1.1025379790756771,0.87991351034071652,0.70224137433271905,0.56044479602745645,0.44727978281359243,0.35696504906787185,2.4289318906830148E-3,8.6539373362361509E-4,2.9431254159132335E-4,9.5741149400130129E-5,33.530202883190412]
[{"$f":"VLOOKUP($C$38,[2]!APPLIC,MATCH(C53,BLDGTYP,0)+1,FALSE)","v":0.12663145344947355},null,"Hospital",null,{"$f":"E27*E$38*$Y$38*$A53","v":1.2364831070745337},1.2338864925496771,1.2312953309153227,1.2287096107204005,1.2261293205378876,1.1011990040682824,0.87910918892779133,0.70181044770483425,0.56026931661172341,0.44727420083747099,0.35706794001256981,0.28505447787083471,0.22756469077384478,0.18166944393857576,0.14503035048504381,0.11578062939922018,7.8805427520839508E-4,2.8085691472524987E-4,9.5545607456569849E-5,3.1090748374446074E-5,10.885243235964447]
[{"$f":"VLOOKUP($C$38,[2]!APPLIC,MATCH(C54,BLDGTYP,0)+1,FALSE)","v":0.3226231781527627},null,"Residential Care",null,{"$f":"E28*E$38*$Y$38*$A54","v":3.8616432009939579},3.8523752573115719,3.8431295566940249,3.8339060457579595,3.8247046712481407,3.4339728420334303,2.7405850457700405,2.1872061133281542,1.7455654549249333,1.3931008782664909,1.1118059489269212,0.88731009171959718,0.70814443799957638,0.56515591307870161,0.45103963110985035,0.35996570879614936,2.4493495705823023E-3,8.7266826129059208E-4,2.9678654231880672E-4,9.6545952593311501E-5,33.812058851261483]
[{"$f":"VLOOKUP($C$38,[2]!APPLIC,MATCH(C55,BLDGTYP,0)+1,FALSE)","v":0.47074543668218816},null,"Assembly",null,{"$f":"E29*E$38*$Y$38*$A55","v":16.451156172188945},16.377345318163059,16.303865628835567,16.230715618380859,16.157893807639724,14.476858851680502,11.529524809306103,9.1822365397293453,7.3128311240968751,5.8240167107627432,4.6383090312963633,3.6939987878207581,2.9419400372741888,2.342992426378895,1.8659841602873668,1.4860896890839017,1.0090793126720619E-2,3.5876853934149393E-3,1.2175870380580745E-3,3.9525786876843028E-4,138.71627825741871]
[{"$f":"VLOOKUP($C$38,[2]!APPLIC,MATCH(C56,BLDGTYP,0)+1,FALSE)","v":0.34671695238562511},null,"Other",null,{"$f":"E30*E$38*$Y$38*$A56","v":11.044881155752917},10.945477225351141,10.846967930322981,10.749345218950074,10.652601111979523,9.5010549317745365,7.5324363499108529,5.9717155382093248,4.7343760786923532,3.7534133551872966,2.9757061079924894,2.3591398024164447,1.8703260353557578,1.4827944808300446,1.1755594644020593,0.93198354337795264,6.2996308189896778E-3,2.2296193362931044E-3,7.5325662350426243E-4,2.4341651540164862E-4,85.816415680566067]
[]
[null,null,"Applicable Retrofit Floor",null,{"$f":"SUM(E39:E56)","v":111.78698207864808},111.29189248748423,110.79937182827187,110.30940429097106,109.82197417836636,98.403359314656754,78.37535807795328,62.423857779982271,49.719084101993005,39.600172659583912,31.540783655415645,25.1217168039095,20.009101314351589,15.937025899700826,12.693704873671022,10.11046043979959,6.8659099015488875E-2,2.4413803482767768E-2,8.2864937865636257E-3,{"$f":"SUM(X39:X56)","v":2.6903105866076787E-3}]
[]
[]
[]
[]
["SUPPLY CURVE SAVINGS BY BUNDLE",null,"Retro","aMW"]
["kWh per 1000 SF","TRC Net Levelized Cost (Net of All Benefits) in mills/kWh",1000,null,{"$f":"E11","v":2016},2017,2018,2019,2020,2021,2022,2023,2024,2025,2026,2027,2028,2029,2030,2031,2032,2033,2034,{"$f":"X11","v":2035},"MAX"]
["Busbar Savings","lvlcost",{"$f":"C8","v":"Demand Control Ventilation-Retro"},null,{"$f":"CONCATENATE(\"aMW_\",E$11)","v":"aMW_2016"},{"$f":"CONCATENATE(\"aMW_\",F$11)","v":"aMW_2017"},"aMW_2018","aMW_2019","aMW_2020","aMW_2021","aMW_2022","aMW_2023","aMW_2024","aMW_2025","aMW_2026","aMW_2027","aMW_2028","aMW_2029","aMW_2030","aMW_2031","aMW_2032","aMW_2033","aMW_2034","aMW_2035","MAX"]
[{"$f":"VLOOKUP(CONCATENATE($C$65,\"-\",$C66),Outshapesave,3,FALSE)","v":145.04873649444917},{"$f":"VLOOKUP(CONCATENATE($C$65,\"-\",$C66),Outshapesave,11,FALSE)","v":55.408470004098852},{"$f":"C13","v":"Large Off"},{"$f":"CONCATENATE($C$65,\"-\",C66)","v":"Demand Control Ventilation-Retro-Large Off"},{"$f":"E39*1000*$A66/8760/1000","v":6.042306352281647E-2},{"$f":"F39*1000*$A66/8760/1000","v":6.0241794332248008E-2},6.0061068949251277E-2,5.9880885742403515E-2,5.9701243085176318E-2,5.3569925420328707E-2,4.2727372515254172E-2,3.4079352318166736E-2,2.7181691408969783E-2,2.1680117067794304E-2,1.7292061373272737E-2,1.3792148151322334E-2,1.1000617365494691E-2,8.7740924107185675E-3,6.9982161067891286E-3,5.5817771667750074E-3,3.7957784321937376E-5,1.3515682488922582E-5,4.5937961732499835E-6,{"$f":"X39*1000*$A66/8760/1000","v":1.4934830819885843E-6},{"$f":"Y39*A66/8760","v":0.52335832126032888}]
[116.67617215474152,101.95150814870991,"Medium Off",{"$f":"CONCATENATE($C$65,\"-\",C67)","v":"Demand Control Ventilation-Retro-Medium Off"},{"$f":"E40*1000*$A67/8760/1000","v":0.14692308258754302},0.1464823133397804,0.14604286639976108,0.14560473780056177,0.14516792358716007,0.13025917783475874,0.10389472024100357,8.2866428864224462E-2,6.6094263662105412E-2,5.2716784696895294E-2,4.204690747424368E-2,3.353661340145677E-2,2.6748802849001916E-2,2.1334845152363929E-2,1.7016672493525471E-2,1.357249798083591E-2,9.2297118941449545E-5,3.2864366994519121E-5,1.1170150191042252E-5,{"$f":"X40*1000*$A67/8760/1000","v":3.6315129588761883E-6},1.272583900489807]
[149.6987056194283,71.206599212828948,"Small Off","Demand Control Ventilation-Retro-Small Off",{"$f":"E41*1000*$A68/8760/1000","v":0.20988920179458964},0.20925953418920587,0.20863175558663827,0.20800586031987836,0.20738184273891869,0.18608372748963173,0.14842038104573033,0.11838009592207449,9.4419964507446608E-2,7.5309363691139428E-2,6.0066748480052792E-2,4.7909238587690098E-2,3.8212408697541632E-2,3.0478217177159209E-2,2.4309426020502182E-2,1.9389198193952545E-2,1.3185245150991427E-4,4.6948890769794642E-5,1.5957287760598082E-5,{"$f":"X41*1000*$A68/8760/1000","v":5.1878530100338131E-6},1.817969065080707]
[761.61537749468994,67.505143780900681,"Xlarge Ret","Demand Control Ventilation-Retro-Xlarge Ret",{"$f":"E42*1000*$A69/8760/1000","v":0.72620464194851608},0.72286410059555273,0.71953892573281319,0.71622904667444232,0.71293439305973982,0.63868940536649843,0.50860114728145001,0.4050092656031643,0.32251697838511179,0.25682672022763214,0.20451625385166811,0.16286038326716032,0.12968898040330512,0.1032739288747599,8.2239095041548804E-2,6.5488636163486144E-2,4.4462797411561614E-4,1.5806524479815021E-4,5.3638003865789772E-5,{"$f":"X42*1000*$A69/8760/1000","v":1.7410196428830098E-5},6.1108274290486557]
[350.22105705344597,107.52309954890019,"Large Ret","Demand Control Ventilation-Retro-Large Ret",{"$f":"E43*1000*$A70/8760/1000","v":0.29161992915645008},0.29027847748233043,0.28894319648591171,0.28761405778207649,0.2862910331162789,0.2564766849275496,0.20423751374150631,0.16263841694263628,0.12951222417976013,0.10313317435882659,8.2127009405420781E-2,6.5399380129724696E-2,5.2078834384902337E-2,4.1471417397385441E-2,3.3024519101885974E-2,2.6298085051213824E-2,1.7854798884880192E-4,6.3473810035768639E-5,2.1539260401125232E-5,{"$f":"X43*1000*$A70/8760/1000","v":6.9913629793835113E-6},2.4539075613245633]
[376.99052214310177,69.946766956221481,"Medium Ret","Demand Control Ventilation-Retro-Medium Ret",{"$f":"E44*1000*$A71/8760/1000","v":0.2015101089257175},0.20058316242465918,0.19966047987750574,0.1987420416700692,0.19782782827838691,0.1772260382414757,0.14112863877245191,0.11238355762727889,8.949327460975473E-2,7.1265284437239881E-2,5.6749971303062863E-2,4.5191137148055019E-2,3.5986606333739166E-2,2.8656854355683173E-2,2.2820026260517625E-2,1.8172043311775393E-2,1.2337711207003108E-4,4.3860563340909569E-5,1.4883683437429227E-5,{"$f":"X44*1000*$A71/8760/1000","v":4.8310495088248318E-6},1.6956563339361799]
[377.54290728730024,36.981788158699914,"Small Ret","Demand Control Ventilation-Retro-Small Ret",{"$f":"E45*1000*$A72/8760/1000","v":0.18532772690562069},0.18447521936185485,0.18362663335279028,0.18278195083936744,0.18194115386550636,0.16299380210195252,0.1297952244898268,0.1033585331657389,8.2306467130541197E-2,6.5542285905392558E-2,5.2192633112182203E-2,4.156203759989293E-2,3.3096681781546726E-2,2.6355549636281297E-2,2.098745128636352E-2,1.6712727208356995E-2,1.1346924406927726E-4,4.033831626664048E-5,1.3688440913197088E-5,{"$f":"X45*1000*$A72/8760/1000","v":4.4430893755760163E-6},1.559485703505588]
[0,9999,"School K-12","Demand Control Ventilation-Retro-School K-12",{"$f":"E46*1000*$A73/8760/1000","v":0},0,0,0,0,0,0,0,0,0,0,0,0,0,0,0,0,0,0,{"$f":"X46*1000*$A73/8760/1000","v":0},0]
[0,9999,"University","Demand Control Ventilation-Retro-University",{"$f":"E47*1000*$A74/8760/1000","v":0},0,0,0,0,0,0,0,0,0,0,0,0,0,0,0,0,0,0,{"$f":"X47*1000*$A74/8760/1000","v":0},0]
[1.1095271309425907,2159.5021027350244,"Warehouse","Demand Control Ventilation-Retro-Warehouse",{"$f":"E48*1000*$A75/8760/1000","v":1.1171981416047525E-3},1.1130645084808149E-3,1.108946169799436E-3,1.1048430689711774E-3,1.1007551496159847E-3,9.8701412000616476E-4,7.8668973420971367E-4,6.2702318575451007E-4,4.9976255997377476E-4,3.9833075080149743E-4,3.1748554161882547E-4,2.5304867609186865E-4,2.0168991679226289E-4,1.6075493128010526E-4,1.2812811042749511E-4,1.0212322913513069E-4,6.9398146237362976E-7,2.4693347534395007E-7,8.3870393688610885E-8,{"$f":"X48*1000*$A75/8760/1000","v":2.7247849967151247E-8},9.5551188578879148E-3]
[512.37295025223909,51.38514173949627,"Supermarket","Demand Control Ventilation-Retro-Supermarket",{"$f":"E49*1000*$A76/8760/1000","v":0.1267524332366059},0.12561166133747645,0.1244811563854392,0.12336082597797025,0.1222505785441685,0.10903529100354388,8.6443178707609605E-2,6.8532152079392866E-2,5.4332290168542685E-2,4.3074639645620631E-2,3.4149574311048043E-2,2.707378251379889E-2,2.1464094776939755E-2,1.7016734339157839E-2,1.3490866984084334E-2,1.0695559344982062E-2,7.2295348726622149E-5,2.5587389495751635E-5,8.6444669285576123E-6,{"$f":"X49*1000*$A76/8760/1000","v":2.7934782803040018E-6},0.98483988607610073]
[185.53657059248951,124.70393728670334,"MiniMart","Demand Control Ventilation-Retro-MiniMart",{"$f":"E50*1000*$A77/8760/1000","v":2.5464593728231379E-2},2.5344400845834128E-2,2.5224775273841798E-2,2.5105714334549264E-2,2.498721536289019E-2,2.2382348135739617E-2,1.7821362762031143E-2,1.4189796743835484E-2,1.1298256722563668E-2,8.9959431606665332E-3,7.1627858471585478E-3,5.703181998367968E-3,4.541010383468538E-3,3.615661451566853E-3,2.8788764236123659E-3,2.2922305015143328E-3,1.5560973564653069E-5,5.5312592033688153E-6,1.8767562477138296E-6,{"$f":"X50*1000*$A77/8760/1000","v":6.0909716029525937E-7},0.21381357861235986]
[484.64833691437099,58.498402543503737,"Restaurant","Demand Control Ventilation-Retro-Restaurant",{"$f":"E51*1000*$A78/8760/1000","v":0.11936660561536501},0.11880319523686049,0.1182424441553425,0.1176843398189293,0.11712886973498395,0.10491841932285134,8.3538563506918018E-2,6.6515409189732283E-2,5.2961165166685406E-2,4.2168950773678923E-2,3.3575930660821728E-2,2.6733961814482125E-2,2.1286222011774214E-2,1.6948600835102912E-2,1.349488275132898E-2,1.0744949523794166E-2,7.2942871749953969E-5,2.5928064784041622E-5,8.7973923812759024E-6,{"$f":"X51*1000*$A78/8760/1000","v":2.8551745725987171E-6},1.0022622542426884]
[190.25305089347401,56.106203430512835,"Lodging","Demand Control Ventilation-Retro-Lodging",{"$f":"E52*1000*$A79/8760/1000","v":8.3169527287748943E-2},8.2969920422258356E-2,8.2770792613244909E-2,8.2572142710973129E-2,8.2373969568466821E-2,7.3958644837352233E-2,5.9024915271794078E-2,4.710660438011343E-2,3.7594838823680921E-2,3.0003688968403271E-2,2.3945344091903287E-2,1.911030021286618E-2,1.5251548393884238E-2,1.2171955742191137E-2,9.7141944387279001E-3,7.7527042976599627E-3,5.2752477467454076E-5,1.8794954114838714E-5,6.3919930312741691E-6,{"$f":"X52*1000*$A79/8760/1000","v":2.0793431243633173E-6},0.72822184881325736]
[29.793507878887006,418.30386323535356,"Hospital","Demand Control Ventilation-Retro-Hospital",{"$f":"E53*1000*$A80/8760/1000","v":4.2053846110429007E-3},4.1965533033597093E-3,4.1877405414226538E-3,4.1789462862856673E-3,4.1701704990844664E-3,3.7452718269327507E-3,2.9899254048769541E-3,2.3869172492213694E-3,1.905523778398404E-3,1.5212177427710136E-3,1.2144185484089557E-3,9.6949461556583734E-4,7.739669414985194E-4,6.1787328873709804E-4,4.9326060386460006E-4,3.9377980527718751E-4,2.6802398695675695E-6,9.5521834494367901E-7,3.2495876809935601E-7,{"$f":"X53*1000*$A80/8760/1000","v":1.057422895724375E-7},3.7021641565560301E-2]
[132.82969453499928,74.603964615879462,"Residential Care","Demand Control Ventilation-Retro-Residential Care",{"$f":"E54*1000*$A81/8760/1000","v":5.855489575241829E-2},5.8414364002612483E-2,5.8274169529006221E-2,5.8134311522136606E-2,5.7994789174483488E-2,5.2070041512418251E-2,4.1556058730230758E-2,3.3165059351422568E-2,2.646837056718333E-2,2.112387718225767E-2,1.6858543901616205E-2,1.3454466717001859E-2,1.0737740797504846E-2,8.5695761756726628E-3,6.8392073542808433E-3,5.4582346053044552E-3,3.7139994893821791E-5,1.3232449609317157E-5,4.5002358171581888E-6,{"$f":"X54*1000*$A81/8760/1000","v":1.4639462775753526E-6},0.51269925214754353]
[104.08873282021779,0,"Assembly","Demand Control Ventilation-Retro-Assembly",{"$f":"E55*1000*$A82/8760/1000","v":0.19547716888021138},0.1946001279825022,0.19372702207495401,0.19285783350257779,0.1919925446895962,0.17201802432517999,0.13699698943149949,0.10910586368446677,8.6893073634188647E-2,6.9202570701719951E-2,5.5113665467603913E-2,4.3893111057498088E-2,3.4956941839376095E-2,2.7840081354925408E-2,2.2172137751930381E-2,1.7658127008440043E-2,1.1990158330037815E-4,4.2629866022621645E-5,1.4467704553628683E-5,{"$f":"X55*1000*$A82/8760/1000","v":4.6965628649915343E-6},1.6482650257250504]
[67.138908643965635,{"$f":"VLOOKUP(CONCATENATE($C$65,\"-\",$C83),Outshapesave,11,FALSE)","v":165.04683406747512},"Other","Demand Control Ventilation-Retro-Other",{"$f":"E56*1000*$A83/8760/1000","v":8.4650829554743456E-2},8.3888972088750763E-2,8.3133971339951998E-2,8.2385765597892444E-2,8.1644293707511417E-2,7.2818545557729417E-2,5.7730542918167892E-2,4.576877442552351E-2,3.6285484364555039E-2,2.8767132004219226E-2,2.2806582252945008E-2,1.8081058410134798E-2,1.433466310755487E-2,1.1364520911669502E-2,9.0097921787715782E-3,7.1429632393301083E-3,4.8282002060143644E-5,1.7088380014863245E-5,5.7731538391455135E-6,{"$f":"X56*1000*$A83/8760/1000","v":1.8656072134684638E-6},0.65771923430708967]
[]
[{"$f":"SUM(A66:A83)","v":3985.5647579087436},{"$f":"SUMPRODUCT(A66:A83,B66:B83)/A85","v":71.340841669027995},null,null,{"$f":"SUM(E66:E83)","v":2.5206563916492253},2.5091268614537672,2.4976559444676742,2.4862433036490841,2.474888604161968,2.2172323620239491,1.7656932245545609,1.4061132507327472,1.1197636296694615,0.89173008131505904,0.71013591562302769,0.56552334430110962,0.45036080998432498,0.35865066403465501,0.28561675290816119,0.2274556366318333,1.544379146971996E-3,5.4906138975979583E-4,1.8633115470297352E-4,{"$f":"SUM(X66:X83)","v":6.0484746976649283E-5},{"$f":"SUM(Y66:Y83)","v":21.228186154993367}]
[]
[]
["RECOMBINE MEASURE BUNDLES INTO SUPPLY CURVE CUMULATIVE"]
[null,null,null,null,{"$f":"E64","v":2016},{"$f":"F64","v":2017},2018,2019,2020,2021,2022,2023,2024,2025,2026,2027,2028,2029,2030,2031,2032,2033,2034,2035,"Max"]
[null,null,"lvlcost","lvlcost",{"$f":"CONCATENATE(\"aMW_\",E$11)","v":"aMW_2016"},{"$f":"CONCATENATE(\"aMW_\",F$11)","v":"aMW_2017"},"aMW_2018","aMW_2019","aMW_2020","aMW_2021","aMW_2022","aMW_2023","aMW_2024","aMW_2025","aMW_2026","aMW_2027","aMW_2028","aMW_2029","aMW_2030","aMW_2031","aMW_2032","aMW_2033","aMW_2034","aMW_2035","max"]
[null,"Block 1: <= 0 mills/kWh",">=-9999","<=0",{"$f":"DSUM($B$65:$Y$83,E$65,$C$90:$D91)","v":0.19547716888021138},{"$f":"DSUM($B$65:$Y$83,F$65,$C$90:$D91)","v":0.1946001279825022},{"$f":"DSUM($B$65:$Y$83,G$65,$C$90:$D91)","v":0.19372702207495401},{"$f":"DSUM($B$65:$Y$83,H$65,$C$90:$D91)","v":0.19285783350257779},{"$f":"DSUM($B$65:$Y$83,I$65,$C$90:$D91)","v":0.1919925446895962},{"$f":"DSUM($B$65:$Y$83,J$65,$C$90:$D91)","v":0.17201802432517999},{"$f":"DSUM($B$65:$Y$83,K$65,$C$90:$D91)","v":0.13699698943149949},{"$f":"DSUM($B$65:$Y$83,L$65,$C$90:$D91)","v":0.10910586368446677},{"$f":"DSUM($B$65:$Y$83,M$65,$C$90:$D91)","v":8.6893073634188647E-2},{"$f":"DSUM($B$65:$Y$83,N$65,$C$90:$D91)","v":6.9202570701719951E-2},{"$f":"DSUM($B$65:$Y$83,O$65,$C$90:$D91)","v":5.5113665467603913E-2},{"$f":"DSUM($B$65:$Y$83,P$65,$C$90:$D91)","v":4.3893111057498088E-2},{"$f":"DSUM($B$65:$Y$83,Q$65,$C$90:$D91)","v":3.4956941839376095E-2},{"$f":"DSUM($B$65:$Y$83,R$65,$C$90:$D91)","v":2.7840081354925408E-2},{"$f":"DSUM($B$65:$Y$83,S$65,$C$90:$D91)","v":2.2172137751930381E-2},{"$f":"DSUM($B$65:$Y$83,T$65,$C$90:$D91)","v":1.7658127008440043E-2},{"$f":"DSUM($B$65:$Y$83,U$65,$C$90:$D91)","v":1.1990158330037815E-4},{"$f":"DSUM($B$65:$Y$83,V$65,$C$90:$D91)","v":4.2629866022621645E-5},{"$f":"DSUM($B$65:$Y$83,W$65,$C$90:$D91)","v":1.4467704553628683E-5},{"$f":"DSUM($B$65:$Y$83,X$65,$C$90:$D91)","v":4.6965628649915343E-6},{"$f":"DSUM($B$65:$Y$83,Y$65,$C$90:$D91)","v":1.6482650257250504}]
[null,"Block 2: <= 10 mills/kWh",">0","<=10",{"$f":"DSUM($B$65:$Y$83,E$65,$C$90:$D92)","v":0.19547716888021138},{"$f":"DSUM($B$65:$Y$83,F$65,$C$90:$D92)","v":0.1946001279825022},{"$f":"DSUM($B$65:$Y$83,G$65,$C$90:$D92)","v":0.19372702207495401},{"$f":"DSUM($B$65:$Y$83,H$65,$C$90:$D92)","v":0.19285783350257779},{"$f":"DSUM($B$65:$Y$83,I$65,$C$90:$D92)","v":0.1919925446895962},{"$f":"DSUM($B$65:$Y$83,J$65,$C$90:$D92)","v":0.17201802432517999},{"$f":"DSUM($B$65:$Y$83,K$65,$C$90:$D92)","v":0.13699698943149949},{"$f":"DSUM($B$65:$Y$83,L$65,$C$90:$D92)","v":0.10910586368446677},{"$f":"DSUM($B$65:$Y$83,M$65,$C$90:$D92)","v":8.6893073634188647E-2},{"$f":"DSUM($B$65:$Y$83,N$65,$C$90:$D92)","v":6.9202570701719951E-2},{"$f":"DSUM($B$65:$Y$83,O$65,$C$90:$D92)","v":5.5113665467603913E-2},{"$f":"DSUM($B$65:$Y$83,P$65,$C$90:$D92)","v":4.3893111057498088E-2},{"$f":"DSUM($B$65:$Y$83,Q$65,$C$90:$D92)","v":3.4956941839376095E-2},{"$f":"DSUM($B$65:$Y$83,R$65,$C$90:$D92)","v":2.7840081354925408E-2},{"$f":"DSUM($B$65:$Y$83,S$65,$C$90:$D92)","v":2.2172137751930381E-2},{"$f":"DSUM($B$65:$Y$83,T$65,$C$90:$D92)","v":1.7658127008440043E-2},{"$f":"DSUM($B$65:$Y$83,U$65,$C$90:$D92)","v":1.1990158330037815E-4},{"$f":"DSUM($B$65:$Y$83,V$65,$C$90:$D92)","v":4.2629866022621645E-5},{"$f":"DSUM($B$65:$Y$83,W$65,$C$90:$D92)","v":1.4467704553628683E-5},{"$f":"DSUM($B$65:$Y$83,X$65,$C$90:$D92)","v":4.6965628649915343E-6},{"$f":"DSUM($B$65:$Y$83,Y$65,$C$90:$D92)","v":1.6482650257250504}]
[null,"Block 3: 10-20 mills/kWh",">10","<=20",{"$f":"DSUM($B$65:$Y$83,E$65,$C$90:$D93)","v":0.19547716888021138},{"$f":"DSUM($B$65:$Y$83,F$65,$C$90:$D93)","v":0.1946001279825022},{"$f":"DSUM($B$65:$Y$83,G$65,$C$90:$D93)","v":0.19372702207495401},{"$f":"DSUM($B$65:$Y$83,H$65,$C$90:$D93)","v":0.19285783350257779},{"$f":"DSUM($B$65:$Y$83,I$65,$C$90:$D93)","v":0.1919925446895962},{"$f":"DSUM($B$65:$Y$83,J$65,$C$90:$D93)","v":0.17201802432517999},{"$f":"DSUM($B$65:$Y$83,K$65,$C$90:$D93)","v":0.13699698943149949},{"$f":"DSUM($B$65:$Y$83,L$65,$C$90:$D93)","v":0.10910586368446677},{"$f":"DSUM($B$65:$Y$83,M$65,$C$90:$D93)","v":8.6893073634188647E-2},{"$f":"DSUM($B$65:$Y$83,N$65,$C$90:$D93)","v":6.9202570701719951E-2},{"$f":"DSUM($B$65:$Y$83,O$65,$C$90:$D93)","v":5.5113665467603913E-2},{"$f":"DSUM($B$65:$Y$83,P$65,$C$90:$D93)","v":4.3893111057498088E-2},{"$f":"DSUM($B$65:$Y$83,Q$65,$C$90:$D93)","v":3.4956941839376095E-2},{"$f":"DSUM($B$65:$Y$83,R$65,$C$90:$D93)","v":2.7840081354925408E-2},{"$f":"DSUM($B$65:$Y$83,S$65,$C$90:$D93)","v":2.2172137751930381E-2},{"$f":"DSUM($B$65:$Y$83,T$65,$C$90:$D93)","v":1.7658127008440043E-2},{"$f":"DSUM($B$65:$Y$83,U$65,$C$90:$D93)","v":1.1990158330037815E-4},{"$f":"DSUM($B$65:$Y$83,V$65,$C$90:$D93)","v":4.2629866022621645E-5},{"$f":"DSUM($B$65:$Y$83,W$65,$C$90:$D93)","v":1.4467704553628683E-5},{"$f":"DSUM($B$65:$Y$83,X$65,$C$90:$D93)","v":4.6965628649915343E-6},{"$f":"DSUM($B$65:$Y$83,Y$65,$C$90:$D93)","v":1.6482650257250504}]
[null,"Block 4: 20-30 mills/kWh",">20","<=30",{"$f":"DSUM($B$65:$Y$83,E$65,$C$90:$D94)","v":0.19547716888021138},{"$f":"DSUM($B$65:$Y$83,F$65,$C$90:$D94)","v":0.1946001279825022},{"$f":"DSUM($B$65:$Y$83,G$65,$C$90:$D94)","v":0.19372702207495401},{"$f":"DSUM($B$65:$Y$83,H$65,$C$90:$D94)","v":0.19285783350257779},{"$f":"DSUM($B$65:$Y$83,I$65,$C$90:$D94)","v":0.1919925446895962},{"$f":"DSUM($B$65:$Y$83,J$65,$C$90:$D94)","v":0.17201802432517999},{"$f":"DSUM($B$65:$Y$83,K$65,$C$90:$D94)","v":0.13699698943149949},{"$f":"DSUM($B$65:$Y$83,L$65,$C$90:$D94)","v":0.10910586368446677},{"$f":"DSUM($B$65:$Y$83,M$65,$C$90:$D94)","v":8.6893073634188647E-2},{"$f":"DSUM($B$65:$Y$83,N$65,$C$90:$D94)","v":6.9202570701719951E-2},{"$f":"DSUM($B$65:$Y$83,O$65,$C$90:$D94)","v":5.5113665467603913E-2},{"$f":"DSUM($B$65:$Y$83,P$65,$C$90:$D94)","v":4.3893111057498088E-2},{"$f":"DSUM($B$65:$Y$83,Q$65,$C$90:$D94)","v":3.4956941839376095E-2},{"$f":"DSUM($B$65:$Y$83,R$65,$C$90:$D94)","v":2.7840081354925408E-2},{"$f":"DSUM($B$65:$Y$83,S$65,$C$90:$D94)","v":2.2172137751930381E-2},{"$f":"DSUM($B$65:$Y$83,T$65,$C$90:$D94)","v":1.7658127008440043E-2},{"$f":"DSUM($B$65:$Y$83,U$65,$C$90:$D94)","v":1.1990158330037815E-4},{"$f":"DSUM($B$65:$Y$83,V$65,$C$90:$D94)","v":4.2629866022621645E-5},{"$f":"DSUM($B$65:$Y$83,W$65,$C$90:$D94)","v":1.4467704553628683E-5},{"$f":"DSUM($B$65:$Y$83,X$65,$C$90:$D94)","v":4.6965628649915343E-6},{"$f":"DSUM($B$65:$Y$83,Y$65,$C$90:$D94)","v":1.6482650257250504}]
[null,"Block 5: 30-40 mills/kWh",">30","<=40",{"$f":"DSUM($B$65:$Y$83,E$65,$C$90:$D95)","v":0.3808048957858321},{"$f":"DSUM($B$65:$Y$83,F$65,$C$90:$D95)","v":0.37907534734435705},{"$f":"DSUM($B$65:$Y$83,G$65,$C$90:$D95)","v":0.37735365542774429},{"$f":"DSUM($B$65:$Y$83,H$65,$C$90:$D95)","v":0.37563978434194523},{"$f":"DSUM($B$65:$Y$83,I$65,$C$90:$D95)","v":0.37393369855510256},{"$f":"DSUM($B$65:$Y$83,J$65,$C$90:$D95)","v":0.33501182642713251},{"$f":"DSUM($B$65:$Y$83,K$65,$C$90:$D95)","v":0.26679221392132629},{"$f":"DSUM($B$65:$Y$83,L$65,$C$90:$D95)","v":0.21246439685020568},{"$f":"DSUM($B$65:$Y$83,M$65,$C$90:$D95)","v":0.16919954076472984},{"$f":"DSUM($B$65:$Y$83,N$65,$C$90:$D95)","v":0.1347448566071125},{"$f":"DSUM($B$65:$Y$83,O$65,$C$90:$D95)","v":0.10730629857978612},{"$f":"DSUM($B$65:$Y$83,P$65,$C$90:$D95)","v":8.5455148657391011E-2},{"$f":"DSUM($B$65:$Y$83,Q$65,$C$90:$D95)","v":6.8053623620922821E-2},{"$f":"DSUM($B$65:$Y$83,R$65,$C$90:$D95)","v":5.4195630991206709E-2},{"$f":"DSUM($B$65:$Y$83,S$65,$C$90:$D95)","v":4.3159589038293901E-2},{"$f":"DSUM($B$65:$Y$83,T$65,$C$90:$D95)","v":3.4370854216797038E-2},{"$f":"DSUM($B$65:$Y$83,U$65,$C$90:$D95)","v":2.3337082736965542E-4},{"$f":"DSUM($B$65:$Y$83,V$65,$C$90:$D95)","v":8.2968182289262131E-5},{"$f":"DSUM($B$65:$Y$83,W$65,$C$90:$D95)","v":2.8156145466825772E-5},{"$f":"DSUM($B$65:$Y$83,X$65,$C$90:$D95)","v":9.1396522405675505E-6},{"$f":"DSUM($B$65:$Y$83,Y$65,$C$90:$D95)","v":3.2077507292306384}]
[null,"Block 6: 40-50 mills/kWh",">40","<=50",{"$f":"DSUM($B$65:$Y$83,E$65,$C$90:$D96)","v":0.3808048957858321},{"$f":"DSUM($B$65:$Y$83,F$65,$C$90:$D96)","v":0.37907534734435705},{"$f":"DSUM($B$65:$Y$83,G$65,$C$90:$D96)","v":0.37735365542774429},{"$f":"DSUM($B$65:$Y$83,H$65,$C$90:$D96)","v":0.37563978434194523},{"$f":"DSUM($B$65:$Y$83,I$65,$C$90:$D96)","v":0.37393369855510256},{"$f":"DSUM($B$65:$Y$83,J$65,$C$90:$D96)","v":0.33501182642713251},{"$f":"DSUM($B$65:$Y$83,K$65,$C$90:$D96)","v":0.26679221392132629},{"$f":"DSUM($B$65:$Y$83,L$65,$C$90:$D96)","v":0.21246439685020568},{"$f":"DSUM($B$65:$Y$83,M$65,$C$90:$D96)","v":0.16919954076472984},{"$f":"DSUM($B$65:$Y$83,N$65,$C$90:$D96)","v":0.1347448566071125},{"$f":"DSUM($B$65:$Y$83,O$65,$C$90:$D96)","v":0.10730629857978612},{"$f":"DSUM($B$65:$Y$83,P$65,$C$90:$D96)","v":8.5455148657391011E-2},{"$f":"DSUM($B$65:$Y$83,Q$65,$C$90:$D96)","v":6.8053623620922821E-2},{"$f":"DSUM($B$65:$Y$83,R$65,$C$90:$D96)","v":5.4195630991206709E-2},{"$f":"DSUM($B$65:$Y$83,S$65,$C$90:$D96)","v":4.3159589038293901E-2},{"$f":"DSUM($B$65:$Y$83,T$65,$C$90:$D96)","v":3.4370854216797038E-2},{"$f":"DSUM($B$65:$Y$83,U$65,$C$90:$D96)","v":2.3337082736965542E-4},{"$f":"DSUM($B$65:$Y$83,V$65,$C$90:$D96)","v":8.2968182289262131E-5},{"$f":"DSUM($B$65:$Y$83,W$65,$C$90:$D96)","v":2.8156145466825772E-5},{"$f":"DSUM($B$65:$Y$83,X$65,$C$90:$D96)","v":9.1396522405675505E-6},{"$f":"DSUM($B$65:$Y$83,Y$65,$C$90:$D96)","v":3.2077507292306384}]
[null,"Block 7: 50-60 mills/kWh",">50","<=60",{"$f":"DSUM($B$65:$Y$83,E$65,$C$90:$D97)","v":0.77051652544836835},{"$f":"DSUM($B$65:$Y$83,F$65,$C$90:$D97)","v":0.76670191867320026},{"$f":"DSUM($B$65:$Y$83,G$65,$C$90:$D97)","v":0.76290911753102231},{"$f":"DSUM($B$65:$Y$83,H$65,$C$90:$D97)","v":0.75913797859222143},{"$f":"DSUM($B$65:$Y$83,I$65,$C$90:$D97)","v":0.75538835948789806},{"$f":"DSUM($B$65:$Y$83,J$65,$C$90:$D97)","v":0.67649410701120871},{"$f":"DSUM($B$65:$Y$83,K$65,$C$90:$D97)","v":0.53852624392290216},{"$f":"DSUM($B$65:$Y$83,L$65,$C$90:$D97)","v":0.42869791481761099},{"$f":"DSUM($B$65:$Y$83,M$65,$C$90:$D97)","v":0.34126952633260865},{"$f":"DSUM($B$65:$Y$83,N$65,$C$90:$D97)","v":0.27167225306260967},{"$f":"DSUM($B$65:$Y$83,O$65,$C$90:$D97)","v":0.21626920901683191},{"$f":"DSUM($B$65:$Y$83,P$65,$C$90:$D97)","v":0.17216534134986056},{"$f":"DSUM($B$65:$Y$83,Q$65,$C$90:$D97)","v":0.1370561061690157},{"$f":"DSUM($B$65:$Y$83,R$65,$C$90:$D97)","v":0.10910701431837717},{"$f":"DSUM($B$65:$Y$83,S$65,$C$90:$D97)","v":8.6857749319224242E-2},{"$f":"DSUM($B$65:$Y$83,T$65,$C$90:$D97)","v":6.9145844550008245E-2},{"$f":"DSUM($B$65:$Y$83,U$65,$C$90:$D97)","v":4.6931930963562297E-4},{"$f":"DSUM($B$65:$Y$83,V$65,$C$90:$D97)","v":1.6679427317281667E-4},{"$f":"DSUM($B$65:$Y$83,W$65,$C$90:$D97)","v":5.6583793981183443E-5},{"$f":"DSUM($B$65:$Y$83,X$65,$C$90:$D97)","v":1.8361131299822173E-5},{"$f":"DSUM($B$65:$Y$83,Y$65,$C$90:$D97)","v":6.4464330396230132}]
[null,"Block 8: 60-70 mills/kWh",">60","<=70",{"$f":"DSUM($B$65:$Y$83,E$65,$C$90:$D98)","v":1.698231276322602},{"$f":"DSUM($B$65:$Y$83,F$65,$C$90:$D98)","v":1.6901491816934122},{"$f":"DSUM($B$65:$Y$83,G$65,$C$90:$D98)","v":1.6821085231413409},{"$f":"DSUM($B$65:$Y$83,H$65,$C$90:$D98)","v":1.6741090669367327},{"$f":"DSUM($B$65:$Y$83,I$65,$C$90:$D98)","v":1.6661505808260249},{"$f":"DSUM($B$65:$Y$83,J$65,$C$90:$D98)","v":1.492409550619183},{"$f":"DSUM($B$65:$Y$83,K$65,$C$90:$D98)","v":1.1882560299768041},{"$f":"DSUM($B$65:$Y$83,L$65,$C$90:$D98)","v":0.9460907380480541},{"$f":"DSUM($B$65:$Y$83,M$65,$C$90:$D98)","v":0.75327977932747525},{"$f":"DSUM($B$65:$Y$83,N$65,$C$90:$D98)","v":0.59976425772748165},{"$f":"DSUM($B$65:$Y$83,O$65,$C$90:$D98)","v":0.47753543417156291},{"$f":"DSUM($B$65:$Y$83,P$65,$C$90:$D98)","v":0.38021686176507585},{"$f":"DSUM($B$65:$Y$83,Q$65,$C$90:$D98)","v":0.30273169290606006},{"$f":"DSUM($B$65:$Y$83,R$65,$C$90:$D98)","v":0.24103779754882021},{"$f":"DSUM($B$65:$Y$83,S$65,$C$90:$D98)","v":0.19191687062129067},{"$f":"DSUM($B$65:$Y$83,T$65,$C$90:$D98)","v":0.15280652402526979},{"$f":"DSUM($B$65:$Y$83,U$65,$C$90:$D98)","v":1.0373243958212704E-3},{"$f":"DSUM($B$65:$Y$83,V$65,$C$90:$D98)","v":3.6872008131187646E-4},{"$f":"DSUM($B$65:$Y$83,W$65,$C$90:$D98)","v":1.2510548128440242E-4},{"$f":"DSUM($B$65:$Y$83,X$65,$C$90:$D98)","v":4.0602377237477111E-5},{"$f":"DSUM($B$65:$Y$83,Y$65,$C$90:$D98)","v":14.252916802607851}]
[null,"Block 9: 70-80 mills/kWh",">70","<=80",{"$f":"DSUM($B$65:$Y$83,E$65,$C$90:$D99)","v":1.9666753738696094},{"$f":"DSUM($B$65:$Y$83,F$65,$C$90:$D99)","v":1.9578230798852305},{"$f":"DSUM($B$65:$Y$83,G$65,$C$90:$D99)","v":1.9490144482569856},{"$f":"DSUM($B$65:$Y$83,H$65,$C$90:$D99)","v":1.940249238778748},{"$f":"DSUM($B$65:$Y$83,I$65,$C$90:$D99)","v":1.9315272127394272},{"$f":"DSUM($B$65:$Y$83,J$65,$C$90:$D99)","v":1.7305633196212327},{"$f":"DSUM($B$65:$Y$83,K$65,$C$90:$D99)","v":1.3782324697527653},{"$f":"DSUM($B$65:$Y$83,L$65,$C$90:$D99)","v":1.0976358933215513},{"$f":"DSUM($B$65:$Y$83,M$65,$C$90:$D99)","v":0.87416811440210518},{"$f":"DSUM($B$65:$Y$83,N$65,$C$90:$D99)","v":0.69619749860087876},{"$f":"DSUM($B$65:$Y$83,O$65,$C$90:$D99)","v":0.55446072655323186},{"$f":"DSUM($B$65:$Y$83,P$65,$C$90:$D99)","v":0.44158056706976784},{"$f":"DSUM($B$65:$Y$83,Q$65,$C$90:$D99)","v":0.3516818424011065},{"$f":"DSUM($B$65:$Y$83,R$65,$C$90:$D99)","v":0.28008559090165203},{"$f":"DSUM($B$65:$Y$83,S$65,$C$90:$D99)","v":0.22306550399607369},{"$f":"DSUM($B$65:$Y$83,T$65,$C$90:$D99)","v":0.17765395682452678},{"$f":"DSUM($B$65:$Y$83,U$65,$C$90:$D99)","v":1.2063168422250063E-3},{"$f":"DSUM($B$65:$Y$83,V$65,$C$90:$D99)","v":4.2890142169098826E-4},{"$f":"DSUM($B$65:$Y$83,W$65,$C$90:$D99)","v":1.4556300486215872E-4},{"$f":"DSUM($B$65:$Y$83,X$65,$C$90:$D99)","v":4.7254176525086275E-5},{"$f":"DSUM($B$65:$Y$83,Y$65,$C$90:$D99)","v":16.583585119836101}]
[null,"Block 10: 80-90 mills/kWh",">80","<=90",{"$f":"DSUM($B$65:$Y$83,E$65,$C$90:$D100)","v":1.9666753738696094},{"$f":"DSUM($B$65:$Y$83,F$65,$C$90:$D100)","v":1.9578230798852305},{"$f":"DSUM($B$65:$Y$83,G$65,$C$90:$D100)","v":1.9490144482569856},{"$f":"DSUM($B$65:$Y$83,H$65,$C$90:$D100)","v":1.940249238778748},{"$f":"DSUM($B$65:$Y$83,I$65,$C$90:$D100)","v":1.9315272127394272},{"$f":"DSUM($B$65:$Y$83,J$65,$C$90:$D100)","v":1.7305633196212327},{"$f":"DSUM($B$65:$Y$83,K$65,$C$90:$D100)","v":1.3782324697527653},{"$f":"DSUM($B$65:$Y$83,L$65,$C$90:$D100)","v":1.0976358933215513},{"$f":"DSUM($B$65:$Y$83,M$65,$C$90:$D100)","v":0.87416811440210518},{"$f":"DSUM($B$65:$Y$83,N$65,$C$90:$D100)","v":0.69619749860087876},{"$f":"DSUM($B$65:$Y$83,O$65,$C$90:$D100)","v":0.55446072655323186},{"$f":"DSUM($B$65:$Y$83,P$65,$C$90:$D100)","v":0.44158056706976784},{"$f":"DSUM($B$65:$Y$83,Q$65,$C$90:$D100)","v":0.3516818424011065},{"$f":"DSUM($B$65:$Y$83,R$65,$C$90:$D100)","v":0.28008559090165203},{"$f":"DSUM($B$65:$Y$83,S$65,$C$90:$D100)","v":0.22306550399607369},{"$f":"DSUM($B$65:$Y$83,T$65,$C$90:$D100)","v":0.17765395682452678},{"$f":"DSUM($B$65:$Y$83,U$65,$C$90:$D100)","v":1.2063168422250063E-3},{"$f":"DSUM($B$65:$Y$83,V$65,$C$90:$D100)","v":4.2890142169098826E-4},{"$f":"DSUM($B$65:$Y$83,W$65,$C$90:$D100)","v":1.4556300486215872E-4},{"$f":"DSUM($B$65:$Y$83,X$65,$C$90:$D100)","v":4.7254176525086275E-5},{"$f":"DSUM($B$65:$Y$83,Y$65,$C$90:$D100)","v":16.583585119836101}]
[null,"Block 11: 90-100 mills/kWh",">90","<=100",{"$f":"DSUM($B$65:$Y$83,E$65,$C$90:$D101)","v":1.9666753738696094},{"$f":"DSUM($B$65:$Y$83,F$65,$C$90:$D101)","v":1.9578230798852305},{"$f":"DSUM($B$65:$Y$83,G$65,$C$90:$D101)","v":1.9490144482569856},{"$f":"DSUM($B$65:$Y$83,H$65,$C$90:$D101)","v":1.940249238778748},{"$f":"DSUM($B$65:$Y$83,I$65,$C$90:$D101)","v":1.9315272127394272},{"$f":"DSUM($B$65:$Y$83,J$65,$C$90:$D101)","v":1.7305633196212327},{"$f":"DSUM($B$65:$Y$83,K$65,$C$90:$D101)","v":1.3782324697527653},{"$f":"DSUM($B$65:$Y$83,L$65,$C$90:$D101)","v":1.0976358933215513},{"$f":"DSUM($B$65:$Y$83,M$65,$C$90:$D101)","v":0.87416811440210518},{"$f":"DSUM($B$65:$Y$83,N$65,$C$90:$D101)","v":0.69619749860087876},{"$f":"DSUM($B$65:$Y$83,O$65,$C$90:$D101)","v":0.55446072655323186},{"$f":"DSUM($B$65:$Y$83,P$65,$C$90:$D101)","v":0.44158056706976784},{"$f":"DSUM($B$65:$Y$83,Q$65,$C$90:$D101)","v":0.3516818424011065},{"$f":"DSUM($B$65:$Y$83,R$65,$C$90:$D101)","v":0.28008559090165203},{"$f":"DSUM($B$65:$Y$83,S$65,$C$90:$D101)","v":0.22306550399607369},{"$f":"DSUM($B$65:$Y$83,T$65,$C$90:$D101)","v":0.17765395682452678},{"$f":"DSUM($B$65:$Y$83,U$65,$C$90:$D101)","v":1.2063168422250063E-3},{"$f":"DSUM($B$65:$Y$83,V$65,$C$90:$D101)","v":4.2890142169098826E-4},{"$f":"DSUM($B$65:$Y$83,W$65,$C$90:$D101)","v":1.4556300486215872E-4},{"$f":"DSUM($B$65:$Y$83,X$65,$C$90:$D101)","v":4.7254176525086275E-5},{"$f":"DSUM($B$65:$Y$83,Y$65,$C$90:$D101)","v":16.583585119836101}]
[null,"Block 12: 100-110 mills/kWh",">100","<=110",{"$f":"DSUM($B$65:$Y$83,E$65,$C$90:$D102)","v":2.4052183856136029},{"$f":"DSUM($B$65:$Y$83,F$65,$C$90:$D102)","v":2.3945838707073412},{"$f":"DSUM($B$65:$Y$83,G$65,$C$90:$D102)","v":2.3840005111426583},{"$f":"DSUM($B$65:$Y$83,H$65,$C$90:$D102)","v":2.3734680343613856},{"$f":"DSUM($B$65:$Y$83,I$65,$C$90:$D102)","v":2.3629861694428658},{"$f":"DSUM($B$65:$Y$83,J$65,$C$90:$D102)","v":2.1172991823835408},{"$f":"DSUM($B$65:$Y$83,K$65,$C$90:$D102)","v":1.6863647037352751},{"$f":"DSUM($B$65:$Y$83,L$65,$C$90:$D102)","v":1.343140739128412},{"$f":"DSUM($B$65:$Y$83,M$65,$C$90:$D102)","v":1.0697746022439707},{"$f":"DSUM($B$65:$Y$83,N$65,$C$90:$D102)","v":0.85204745765660073},{"$f":"DSUM($B$65:$Y$83,O$65,$C$90:$D102)","v":0.67863464343289637},{"$f":"DSUM($B$65:$Y$83,P$65,$C$90:$D102)","v":0.54051656060094921},{"$f":"DSUM($B$65:$Y$83,Q$65,$C$90:$D102)","v":0.43050947963501079},{"$f":"DSUM($B$65:$Y$83,R$65,$C$90:$D102)","v":0.3428918534514015},{"$f":"DSUM($B$65:$Y$83,S$65,$C$90:$D102)","v":0.27310669559148515},{"$f":"DSUM($B$65:$Y$83,T$65,$C$90:$D102)","v":0.21752453985657652},{"$f":"DSUM($B$65:$Y$83,U$65,$C$90:$D102)","v":1.4771619500152581E-3},{"$f":"DSUM($B$65:$Y$83,V$65,$C$90:$D102)","v":5.2523959872127616E-4},{"$f":"DSUM($B$65:$Y$83,W$65,$C$90:$D102)","v":1.782724154543262E-4},{"$f":"DSUM($B$65:$Y$83,X$65,$C$90:$D102)","v":5.7877052463345966E-5},{"$f":"DSUM($B$65:$Y$83,Y$65,$C$90:$D102)","v":20.310076581650467}]
[null,"Block 13: 110-120 mills/kWh",">110","<=120",{"$f":"DSUM($B$65:$Y$83,E$65,$C$90:$D103)","v":2.4052183856136029},{"$f":"DSUM($B$65:$Y$83,F$65,$C$90:$D103)","v":2.3945838707073412},{"$f":"DSUM($B$65:$Y$83,G$65,$C$90:$D103)","v":2.3840005111426583},{"$f":"DSUM($B$65:$Y$83,H$65,$C$90:$D103)","v":2.3734680343613856},{"$f":"DSUM($B$65:$Y$83,I$65,$C$90:$D103)","v":2.3629861694428658},{"$f":"DSUM($B$65:$Y$83,J$65,$C$90:$D103)","v":2.1172991823835408},{"$f":"DSUM($B$65:$Y$83,K$65,$C$90:$D103)","v":1.6863647037352751},{"$f":"DSUM($B$65:$Y$83,L$65,$C$90:$D103)","v":1.343140739128412},{"$f":"DSUM($B$65:$Y$83,M$65,$C$90:$D103)","v":1.0697746022439707},{"$f":"DSUM($B$65:$Y$83,N$65,$C$90:$D103)","v":0.85204745765660073},{"$f":"DSUM($B$65:$Y$83,O$65,$C$90:$D103)","v":0.67863464343289637},{"$f":"DSUM($B$65:$Y$83,P$65,$C$90:$D103)","v":0.54051656060094921},{"$f":"DSUM($B$65:$Y$83,Q$65,$C$90:$D103)","v":0.43050947963501079},{"$f":"DSUM($B$65:$Y$83,R$65,$C$90:$D103)","v":0.3428918534514015},{"$f":"DSUM($B$65:$Y$83,S$65,$C$90:$D103)","v":0.27310669559148515},{"$f":"DSUM($B$65:$Y$83,T$65,$C$90:$D103)","v":0.21752453985657652},{"$f":"DSUM($B$65:$Y$83,U$65,$C$90:$D103)","v":1.4771619500152581E-3},{"$f":"DSUM($B$65:$Y$83,V$65,$C$90:$D103)","v":5.2523959872127616E-4},{"$f":"DSUM($B$65:$Y$83,W$65,$C$90:$D103)","v":1.782724154543262E-4},{"$f":"DSUM($B$65:$Y$83,X$65,$C$90:$D103)","v":5.7877052463345966E-5},{"$f":"DSUM($B$65:$Y$83,Y$65,$C$90:$D103)","v":20.310076581650467}]
[null,"Block 14: 120-130 mills/kWh",">120","<=130",{"$f":"DSUM($B$65:$Y$83,E$65,$C$90:$D104)","v":2.4306829793418343},{"$f":"DSUM($B$65:$Y$83,F$65,$C$90:$D104)","v":2.4199282715531756},{"$f":"DSUM($B$65:$Y$83,G$65,$C$90:$D104)","v":2.4092252864165},{"$f":"DSUM($B$65:$Y$83,H$65,$C$90:$D104)","v":2.3985737486959349},{"$f":"DSUM($B$65:$Y$83,I$65,$C$90:$D104)","v":2.3879733848057563},{"$f":"DSUM($B$65:$Y$83,J$65,$C$90:$D104)","v":2.1396815305192805},{"$f":"DSUM($B$65:$Y$83,K$65,$C$90:$D104)","v":1.7041860664973063},{"$f":"DSUM($B$65:$Y$83,L$65,$C$90:$D104)","v":1.3573305358722476},{"$f":"DSUM($B$65:$Y$83,M$65,$C$90:$D104)","v":1.0810728589665344},{"$f":"DSUM($B$65:$Y$83,N$65,$C$90:$D104)","v":0.86104340081726727},{"$f":"DSUM($B$65:$Y$83,O$65,$C$90:$D104)","v":0.68579742928005494},{"$f":"DSUM($B$65:$Y$83,P$65,$C$90:$D104)","v":0.54621974259931716},{"$f":"DSUM($B$65:$Y$83,Q$65,$C$90:$D104)","v":0.43505049001847934},{"$f":"DSUM($B$65:$Y$83,R$65,$C$90:$D104)","v":0.34650751490296833},{"$f":"DSUM($B$65:$Y$83,S$65,$C$90:$D104)","v":0.27598557201509749},{"$f":"DSUM($B$65:$Y$83,T$65,$C$90:$D104)","v":0.21981677035809086},{"$f":"DSUM($B$65:$Y$83,U$65,$C$90:$D104)","v":1.4927229235799113E-3},{"$f":"DSUM($B$65:$Y$83,V$65,$C$90:$D104)","v":5.3077085792464492E-4},{"$f":"DSUM($B$65:$Y$83,W$65,$C$90:$D104)","v":1.8014917170204004E-4},{"$f":"DSUM($B$65:$Y$83,X$65,$C$90:$D104)","v":5.8486149623641231E-5},{"$f":"DSUM($B$65:$Y$83,Y$65,$C$90:$D104)","v":20.523890160262827}]
[null,"Block 15: 130-140 mills/kWh",">130","<=140",{"$f":"DSUM($B$65:$Y$83,E$65,$C$90:$D105)","v":2.4306829793418343},{"$f":"DSUM($B$65:$Y$83,F$65,$C$90:$D105)","v":2.4199282715531756},{"$f":"DSUM($B$65:$Y$83,G$65,$C$90:$D105)","v":2.4092252864165},{"$f":"DSUM($B$65:$Y$83,H$65,$C$90:$D105)","v":2.3985737486959349},{"$f":"DSUM($B$65:$Y$83,I$65,$C$90:$D105)","v":2.3879733848057563},{"$f":"DSUM($B$65:$Y$83,J$65,$C$90:$D105)","v":2.1396815305192805},{"$f":"DSUM($B$65:$Y$83,K$65,$C$90:$D105)","v":1.7041860664973063},{"$f":"DSUM($B$65:$Y$83,L$65,$C$90:$D105)","v":1.3573305358722476},{"$f":"DSUM($B$65:$Y$83,M$65,$C$90:$D105)","v":1.0810728589665344},{"$f":"DSUM($B$65:$Y$83,N$65,$C$90:$D105)","v":0.86104340081726727},{"$f":"DSUM($B$65:$Y$83,O$65,$C$90:$D105)","v":0.68579742928005494},{"$f":"DSUM($B$65:$Y$83,P$65,$C$90:$D105)","v":0.54621974259931716},{"$f":"DSUM($B$65:$Y$83,Q$65,$C$90:$D105)","v":0.43505049001847934},{"$f":"DSUM($B$65:$Y$83,R$65,$C$90:$D105)","v":0.34650751490296833},{"$f":"DSUM($B$65:$Y$83,S$65,$C$90:$D105)","v":0.27598557201509749},{"$f":"DSUM($B$65:$Y$83,T$65,$C$90:$D105)","v":0.21981677035809086},{"$f":"DSUM($B$65:$Y$83,U$65,$C$90:$D105)","v":1.4927229235799113E-3},{"$f":"DSUM($B$65:$Y$83,V$65,$C$90:$D105)","v":5.3077085792464492E-4},{"$f":"DSUM($B$65:$Y$83,W$65,$C$90:$D105)","v":1.8014917170204004E-4},{"$f":"DSUM($B$65:$Y$83,X$65,$C$90:$D105)","v":5.8486149623641231E-5},{"$f":"DSUM($B$65:$Y$83,Y$65,$C$90:$D105)","v":20.523890160262827}]
[null,"Block 16: 140-150 mills/kWh",">140","<=150",{"$f":"DSUM($B$65:$Y$83,E$65,$C$90:$D106)","v":2.4306829793418343},{"$f":"DSUM($B$65:$Y$83,F$65,$C$90:$D106)","v":2.4199282715531756},{"$f":"DSUM($B$65:$Y$83,G$65,$C$90:$D106)","v":2.4092252864165},{"$f":"DSUM($B$65:$Y$83,H$65,$C$90:$D106)","v":2.3985737486959349},{"$f":"DSUM($B$65:$Y$83,I$65,$C$90:$D106)","v":2.3879733848057563},{"$f":"DSUM($B$65:$Y$83,J$65,$C$90:$D106)","v":2.1396815305192805},{"$f":"DSUM($B$65:$Y$83,K$65,$C$90:$D106)","v":1.7041860664973063},{"$f":"DSUM($B$65:$Y$83,L$65,$C$90:$D106)","v":1.3573305358722476},{"$f":"DSUM($B$65:$Y$83,M$65,$C$90:$D106)","v":1.0810728589665344},{"$f":"DSUM($B$65:$Y$83,N$65,$C$90:$D106)","v":0.86104340081726727},{"$f":"DSUM($B$65:$Y$83,O$65,$C$90:$D106)","v":0.68579742928005494},{"$f":"DSUM($B$65:$Y$83,P$65,$C$90:$D106)","v":0.54621974259931716},{"$f":"DSUM($B$65:$Y$83,Q$65,$C$90:$D106)","v":0.43505049001847934},{"$f":"DSUM($B$65:$Y$83,R$65,$C$90:$D106)","v":0.34650751490296833},{"$f":"DSUM($B$65:$Y$83,S$65,$C$90:$D106)","v":0.27598557201509749},{"$f":"DSUM($B$65:$Y$83,T$65,$C$90:$D106)","v":0.21981677035809086},{"$f":"DSUM($B$65:$Y$83,U$65,$C$90:$D106)","v":1.4927229235799113E-3},{"$f":"DSUM($B$65:$Y$83,V$65,$C$90:$D106)","v":5.3077085792464492E-4},{"$f":"DSUM($B$65:$Y$83,W$65,$C$90:$D106)","v":1.8014917170204004E-4},{"$f":"DSUM($B$65:$Y$83,X$65,$C$90:$D106)","v":5.8486149623641231E-5},{"$f":"DSUM($B$65:$Y$83,Y$65,$C$90:$D106)","v":20.523890160262827}]
[null,"Block 17: 150-160 mills/kWh",">150","<=160",{"$f":"DSUM($B$65:$Y$83,E$65,$C$90:$D107)","v":2.4306829793418343},{"$f":"DSUM($B$65:$Y$83,F$65,$C$90:$D107)","v":2.4199282715531756},{"$f":"DSUM($B$65:$Y$83,G$65,$C$90:$D107)","v":2.4092252864165},{"$f":"DSUM($B$65:$Y$83,H$65,$C$90:$D107)","v":2.3985737486959349},{"$f":"DSUM($B$65:$Y$83,I$65,$C$90:$D107)","v":2.3879733848057563},{"$f":"DSUM($B$65:$Y$83,J$65,$C$90:$D107)","v":2.1396815305192805},{"$f":"DSUM($B$65:$Y$83,K$65,$C$90:$D107)","v":1.7041860664973063},{"$f":"DSUM($B$65:$Y$83,L$65,$C$90:$D107)","v":1.3573305358722476},{"$f":"DSUM($B$65:$Y$83,M$65,$C$90:$D107)","v":1.0810728589665344},{"$f":"DSUM($B$65:$Y$83,N$65,$C$90:$D107)","v":0.86104340081726727},{"$f":"DSUM($B$65:$Y$83,O$65,$C$90:$D107)","v":0.68579742928005494},{"$f":"DSUM($B$65:$Y$83,P$65,$C$90:$D107)","v":0.54621974259931716},{"$f":"DSUM($B$65:$Y$83,Q$65,$C$90:$D107)","v":0.43505049001847934},{"$f":"DSUM($B$65:$Y$83,R$65,$C$90:$D107)","v":0.34650751490296833},{"$f":"DSUM($B$65:$Y$83,S$65,$C$90:$D107)","v":0.27598557201509749},{"$f":"DSUM($B$65:$Y$83,T$65,$C$90:$D107)","v":0.21981677035809086},{"$f":"DSUM($B$65:$Y$83,U$65,$C$90:$D107)","v":1.4927229235799113E-3},{"$f":"DSUM($B$65:$Y$83,V$65,$C$90:$D107)","v":5.3077085792464492E-4},{"$f":"DSUM($B$65:$Y$83,W$65,$C$90:$D107)","v":1.8014917170204004E-4},{"$f":"DSUM($B$65:$Y$83,X$65,$C$90:$D107)","v":5.8486149623641231E-5},{"$f":"DSUM($B$65:$Y$83,Y$65,$C$90:$D107)","v":20.523890160262827}]
[null,"Block 18: 160-170 mills/kWh",">160","<=170",{"$f":"DSUM($B$65:$Y$83,E$65,$C$90:$D108)","v":2.5153338088965778},{"$f":"DSUM($B$65:$Y$83,F$65,$C$90:$D108)","v":2.5038172436419264},{"$f":"DSUM($B$65:$Y$83,G$65,$C$90:$D108)","v":2.4923592577564522},{"$f":"DSUM($B$65:$Y$83,H$65,$C$90:$D108)","v":2.4809595142938274},{"$f":"DSUM($B$65:$Y$83,I$65,$C$90:$D108)","v":2.4696176785132677},{"$f":"DSUM($B$65:$Y$83,J$65,$C$90:$D108)","v":2.2125000760770099},{"$f":"DSUM($B$65:$Y$83,K$65,$C$90:$D108)","v":1.7619166094154741},{"$f":"DSUM($B$65:$Y$83,L$65,$C$90:$D108)","v":1.4030993102977711},{"$f":"DSUM($B$65:$Y$83,M$65,$C$90:$D108)","v":1.1173583433310894},{"$f":"DSUM($B$65:$Y$83,N$65,$C$90:$D108)","v":0.88981053282148648},{"$f":"DSUM($B$65:$Y$83,O$65,$C$90:$D108)","v":0.7086040115329999},{"$f":"DSUM($B$65:$Y$83,P$65,$C$90:$D108)","v":0.5643008010094519},{"$f":"DSUM($B$65:$Y$83,Q$65,$C$90:$D108)","v":0.44938515312603422},{"$f":"DSUM($B$65:$Y$83,R$65,$C$90:$D108)","v":0.35787203581463783},{"$f":"DSUM($B$65:$Y$83,S$65,$C$90:$D108)","v":0.28499536419386906},{"$f":"DSUM($B$65:$Y$83,T$65,$C$90:$D108)","v":0.22695973359742097},{"$f":"DSUM($B$65:$Y$83,U$65,$C$90:$D108)","v":1.541004925640055E-3},{"$f":"DSUM($B$65:$Y$83,V$65,$C$90:$D108)","v":5.478592379395082E-4},{"$f":"DSUM($B$65:$Y$83,W$65,$C$90:$D108)","v":1.8592232554118555E-4},{"$f":"DSUM($B$65:$Y$83,X$65,$C$90:$D108)","v":6.0351756837109692E-5},{"$f":"DSUM($B$65:$Y$83,Y$65,$C$90:$D108)","v":21.181609394569918}]
[null,"Block 19: 170-180 mills/kWh",">170","<=180",{"$f":"DSUM($B$65:$Y$83,E$65,$C$90:$D109)","v":2.5153338088965778},{"$f":"DSUM($B$65:$Y$83,F$65,$C$90:$D109)","v":2.5038172436419264},{"$f":"DSUM($B$65:$Y$83,G$65,$C$90:$D109)","v":2.4923592577564522},{"$f":"DSUM($B$65:$Y$83,H$65,$C$90:$D109)","v":2.4809595142938274},{"$f":"DSUM($B$65:$Y$83,I$65,$C$90:$D109)","v":2.4696176785132677},{"$f":"DSUM($B$65:$Y$83,J$65,$C$90:$D109)","v":2.2125000760770099},{"$f":"DSUM($B$65:$Y$83,K$65,$C$90:$D109)","v":1.7619166094154741},{"$f":"DSUM($B$65:$Y$83,L$65,$C$90:$D109)","v":1.4030993102977711},{"$f":"DSUM($B$65:$Y$83,M$65,$C$90:$D109)","v":1.1173583433310894},{"$f":"DSUM($B$65:$Y$83,N$65,$C$90:$D109)","v":0.88981053282148648},{"$f":"DSUM($B$65:$Y$83,O$65,$C$90:$D109)","v":0.7086040115329999},{"$f":"DSUM($B$65:$Y$83,P$65,$C$90:$D109)","v":0.5643008010094519},{"$f":"DSUM($B$65:$Y$83,Q$65,$C$90:$D109)","v":0.44938515312603422},{"$f":"DSUM($B$65:$Y$83,R$65,$C$90:$D109)","v":0.35787203581463783},{"$f":"DSUM($B$65:$Y$83,S$65,$C$90:$D109)","v":0.28499536419386906},{"$f":"DSUM($B$65:$Y$83,T$65,$C$90:$D109)","v":0.22695973359742097},{"$f":"DSUM($B$65:$Y$83,U$65,$C$90:$D109)","v":1.541004925640055E-3},{"$f":"DSUM($B$65:$Y$83,V$65,$C$90:$D109)","v":5.478592379395082E-4},{"$f":"DSUM($B$65:$Y$83,W$65,$C$90:$D109)","v":1.8592232554118555E-4},{"$f":"DSUM($B$65:$Y$83,X$65,$C$90:$D109)","v":6.0351756837109692E-5},{"$f":"DSUM($B$65:$Y$83,Y$65,$C$90:$D109)","v":21.181609394569918}]
[null,"Block 20: 180-190 mills/kWh",">180","<=190",{"$f":"DSUM($B$65:$Y$83,E$65,$C$90:$D110)","v":2.5153338088965778},{"$f":"DSUM($B$65:$Y$83,F$65,$C$90:$D110)","v":2.5038172436419264},{"$f":"DSUM($B$65:$Y$83,G$65,$C$90:$D110)","v":2.4923592577564522},{"$f":"DSUM($B$65:$Y$83,H$65,$C$90:$D110)","v":2.4809595142938274},{"$f":"DSUM($B$65:$Y$83,I$65,$C$90:$D110)","v":2.4696176785132677},{"$f":"DSUM($B$65:$Y$83,J$65,$C$90:$D110)","v":2.2125000760770099},{"$f":"DSUM($B$65:$Y$83,K$65,$C$90:$D110)","v":1.7619166094154741},{"$f":"DSUM($B$65:$Y$83,L$65,$C$90:$D110)","v":1.4030993102977711},{"$f":"DSUM($B$65:$Y$83,M$65,$C$90:$D110)","v":1.1173583433310894},{"$f":"DSUM($B$65:$Y$83,N$65,$C$90:$D110)","v":0.88981053282148648},{"$f":"DSUM($B$65:$Y$83,O$65,$C$90:$D110)","v":0.7086040115329999},{"$f":"DSUM($B$65:$Y$83,P$65,$C$90:$D110)","v":0.5643008010094519},{"$f":"DSUM($B$65:$Y$83,Q$65,$C$90:$D110)","v":0.44938515312603422},{"$f":"DSUM($B$65:$Y$83,R$65,$C$90:$D110)","v":0.35787203581463783},{"$f":"DSUM($B$65:$Y$83,S$65,$C$90:$D110)","v":0.28499536419386906},{"$f":"DSUM($B$65:$Y$83,T$65,$C$90:$D110)","v":0.22695973359742097},{"$f":"DSUM($B$65:$Y$83,U$65,$C$90:$D110)","v":1.541004925640055E-3},{"$f":"DSUM($B$65:$Y$83,V$65,$C$90:$D110)","v":5.478592379395082E-4},{"$f":"DSUM($B$65:$Y$83,W$65,$C$90:$D110)","v":1.8592232554118555E-4},{"$f":"DSUM($B$65:$Y$83,X$65,$C$90:$D110)","v":6.0351756837109692E-5},{"$f":"DSUM($B$65:$Y$83,Y$65,$C$90:$D110)","v":21.181609394569918}]
[null,"Block 21: 190-200 mills/kWh",">190","<=200",{"$f":"DSUM($B$65:$Y$83,E$65,$C$90:$D111)","v":2.5153338088965778},{"$f":"DSUM($B$65:$Y$83,F$65,$C$90:$D111)","v":2.5038172436419264},{"$f":"DSUM($B$65:$Y$83,G$65,$C$90:$D111)","v":2.4923592577564522},{"$f":"DSUM($B$65:$Y$83,H$65,$C$90:$D111)","v":2.4809595142938274},{"$f":"DSUM($B$65:$Y$83,I$65,$C$90:$D111)","v":2.4696176785132677},{"$f":"DSUM($B$65:$Y$83,J$65,$C$90:$D111)","v":2.2125000760770099},{"$f":"DSUM($B$65:$Y$83,K$65,$C$90:$D111)","v":1.7619166094154741},{"$f":"DSUM($B$65:$Y$83,L$65,$C$90:$D111)","v":1.4030993102977711},{"$f":"DSUM($B$65:$Y$83,M$65,$C$90:$D111)","v":1.1173583433310894},{"$f":"DSUM($B$65:$Y$83,N$65,$C$90:$D111)","v":0.88981053282148648},{"$f":"DSUM($B$65:$Y$83,O$65,$C$90:$D111)","v":0.7086040115329999},{"$f":"DSUM($B$65:$Y$83,P$65,$C$90:$D111)","v":0.5643008010094519},{"$f":"DSUM($B$65:$Y$83,Q$65,$C$90:$D111)","v":0.44938515312603422},{"$f":"DSUM($B$65:$Y$83,R$65,$C$90:$D111)","v":0.35787203581463783},{"$f":"DSUM($B$65:$Y$83,S$65,$C$90:$D111)","v":0.28499536419386906},{"$f":"DSUM($B$65:$Y$83,T$65,$C$90:$D111)","v":0.22695973359742097},{"$f":"DSUM($B$65:$Y$83,U$65,$C$90:$D111)","v":1.541004925640055E-3},{"$f":"DSUM($B$65:$Y$83,V$65,$C$90:$D111)","v":5.478592379395082E-4},{"$f":"DSUM($B$65:$Y$83,W$65,$C$90:$D111)","v":1.8592232554118555E-4},{"$f":"DSUM($B$65:$Y$83,X$65,$C$90:$D111)","v":6.0351756837109692E-5},{"$f":"DSUM($B$65:$Y$83,Y$65,$C$90:$D111)","v":21.181609394569918}]
[null,"Block 22: 200-210 mills/kWh",">200","<=210",{"$f":"DSUM($B$65:$Y$83,E$65,$C$90:$D112)","v":2.5153338088965778},{"$f":"DSUM($B$65:$Y$83,F$65,$C$90:$D112)","v":2.5038172436419264},{"$f":"DSUM($B$65:$Y$83,G$65,$C$90:$D112)","v":2.4923592577564522},{"$f":"DSUM($B$65:$Y$83,H$65,$C$90:$D112)","v":2.4809595142938274},{"$f":"DSUM($B$65:$Y$83,I$65,$C$90:$D112)","v":2.4696176785132677},{"$f":"DSUM($B$65:$Y$83,J$65,$C$90:$D112)","v":2.2125000760770099},{"$f":"DSUM($B$65:$Y$83,K$65,$C$90:$D112)","v":1.7619166094154741},{"$f":"DSUM($B$65:$Y$83,L$65,$C$90:$D112)","v":1.4030993102977711},{"$f":"DSUM($B$65:$Y$83,M$65,$C$90:$D112)","v":1.1173583433310894},{"$f":"DSUM($B$65:$Y$83,N$65,$C$90:$D112)","v":0.88981053282148648},{"$f":"DSUM($B$65:$Y$83,O$65,$C$90:$D112)","v":0.7086040115329999},{"$f":"DSUM($B$65:$Y$83,P$65,$C$90:$D112)","v":0.5643008010094519},{"$f":"DSUM($B$65:$Y$83,Q$65,$C$90:$D112)","v":0.44938515312603422},{"$f":"DSUM($B$65:$Y$83,R$65,$C$90:$D112)","v":0.35787203581463783},{"$f":"DSUM($B$65:$Y$83,S$65,$C$90:$D112)","v":0.28499536419386906},{"$f":"DSUM($B$65:$Y$83,T$65,$C$90:$D112)","v":0.22695973359742097},{"$f":"DSUM($B$65:$Y$83,U$65,$C$90:$D112)","v":1.541004925640055E-3},{"$f":"DSUM($B$65:$Y$83,V$65,$C$90:$D112)","v":5.478592379395082E-4},{"$f":"DSUM($B$65:$Y$83,W$65,$C$90:$D112)","v":1.8592232554118555E-4},{"$f":"DSUM($B$65:$Y$83,X$65,$C$90:$D112)","v":6.0351756837109692E-5},{"$f":"DSUM($B$65:$Y$83,Y$65,$C$90:$D112)","v":21.181609394569918}]
[null,"Block 23: 210-220 mills/kWh",">210","<=220",{"$f":"DSUM($B$65:$Y$83,E$65,$C$90:$D113)","v":2.5153338088965778},{"$f":"DSUM($B$65:$Y$83,F$65,$C$90:$D113)","v":2.5038172436419264},{"$f":"DSUM($B$65:$Y$83,G$65,$C$90:$D113)","v":2.4923592577564522},{"$f":"DSUM($B$65:$Y$83,H$65,$C$90:$D113)","v":2.4809595142938274},{"$f":"DSUM($B$65:$Y$83,I$65,$C$90:$D113)","v":2.4696176785132677},{"$f":"DSUM($B$65:$Y$83,J$65,$C$90:$D113)","v":2.2125000760770099},{"$f":"DSUM($B$65:$Y$83,K$65,$C$90:$D113)","v":1.7619166094154741},{"$f":"DSUM($B$65:$Y$83,L$65,$C$90:$D113)","v":1.4030993102977711},{"$f":"DSUM($B$65:$Y$83,M$65,$C$90:$D113)","v":1.1173583433310894},{"$f":"DSUM($B$65:$Y$83,N$65,$C$90:$D113)","v":0.88981053282148648},{"$f":"DSUM($B$65:$Y$83,O$65,$C$90:$D113)","v":0.7086040115329999},{"$f":"DSUM($B$65:$Y$83,P$65,$C$90:$D113)","v":0.5643008010094519},{"$f":"DSUM($B$65:$Y$83,Q$65,$C$90:$D113)","v":0.44938515312603422},{"$f":"DSUM($B$65:$Y$83,R$65,$C$90:$D113)","v":0.35787203581463783},{"$f":"DSUM($B$65:$Y$83,S$65,$C$90:$D113)","v":0.28499536419386906},{"$f":"DSUM($B$65:$Y$83,T$65,$C$90:$D113)","v":0.22695973359742097},{"$f":"DSUM($B$65:$Y$83,U$65,$C$90:$D113)","v":1.541004925640055E-3},{"$f":"DSUM($B$65:$Y$83,V$65,$C$90:$D113)","v":5.478592379395082E-4},{"$f":"DSUM($B$65:$Y$83,W$65,$C$90:$D113)","v":1.8592232554118555E-4},{"$f":"DSUM($B$65:$Y$83,X$65,$C$90:$D113)","v":6.0351756837109692E-5},{"$f":"DSUM($B$65:$Y$83,Y$65,$C$90:$D113)","v":21.181609394569918}]
[null,"Block 24: 220-230 mills/kWh",">220","<=230",{"$f":"DSUM($B$65:$Y$83,E$65,$C$90:$D114)","v":2.5153338088965778},{"$f":"DSUM($B$65:$Y$83,F$65,$C$90:$D114)","v":2.5038172436419264},{"$f":"DSUM($B$65:$Y$83,G$65,$C$90:$D114)","v":2.4923592577564522},{"$f":"DSUM($B$65:$Y$83,H$65,$C$90:$D114)","v":2.4809595142938274},{"$f":"DSUM($B$65:$Y$83,I$65,$C$90:$D114)","v":2.4696176785132677},{"$f":"DSUM($B$65:$Y$83,J$65,$C$90:$D114)","v":2.2125000760770099},{"$f":"DSUM($B$65:$Y$83,K$65,$C$90:$D114)","v":1.7619166094154741},{"$f":"DSUM($B$65:$Y$83,L$65,$C$90:$D114)","v":1.4030993102977711},{"$f":"DSUM($B$65:$Y$83,M$65,$C$90:$D114)","v":1.1173583433310894},{"$f":"DSUM($B$65:$Y$83,N$65,$C$90:$D114)","v":0.88981053282148648},{"$f":"DSUM($B$65:$Y$83,O$65,$C$90:$D114)","v":0.7086040115329999},{"$f":"DSUM($B$65:$Y$83,P$65,$C$90:$D114)","v":0.5643008010094519},{"$f":"DSUM($B$65:$Y$83,Q$65,$C$90:$D114)","v":0.44938515312603422},{"$f":"DSUM($B$65:$Y$83,R$65,$C$90:$D114)","v":0.35787203581463783},{"$f":"DSUM($B$65:$Y$83,S$65,$C$90:$D114)","v":0.28499536419386906},{"$f":"DSUM($B$65:$Y$83,T$65,$C$90:$D114)","v":0.22695973359742097},{"$f":"DSUM($B$65:$Y$83,U$65,$C$90:$D114)","v":1.541004925640055E-3},{"$f":"DSUM($B$65:$Y$83,V$65,$C$90:$D114)","v":5.478592379395082E-4},{"$f":"DSUM($B$65:$Y$83,W$65,$C$90:$D114)","v":1.8592232554118555E-4},{"$f":"DSUM($B$65:$Y$83,X$65,$C$90:$D114)","v":6.0351756837109692E-5},{"$f":"DSUM($B$65:$Y$83,Y$65,$C$90:$D114)","v":21.181609394569918}]
[null,"Block 25: 230-240 mills/kWh",">230","<=240",{"$f":"DSUM($B$65:$Y$83,E$65,$C$90:$D115)","v":2.5153338088965778},{"$f":"DSUM($B$65:$Y$83,F$65,$C$90:$D115)","v":2.5038172436419264},{"$f":"DSUM($B$65:$Y$83,G$65,$C$90:$D115)","v":2.4923592577564522},{"$f":"DSUM($B$65:$Y$83,H$65,$C$90:$D115)","v":2.4809595142938274},{"$f":"DSUM($B$65:$Y$83,I$65,$C$90:$D115)","v":2.4696176785132677},{"$f":"DSUM($B$65:$Y$83,J$65,$C$90:$D115)","v":2.2125000760770099},{"$f":"DSUM($B$65:$Y$83,K$65,$C$90:$D115)","v":1.7619166094154741},{"$f":"DSUM($B$65:$Y$83,L$65,$C$90:$D115)","v":1.4030993102977711},{"$f":"DSUM($B$65:$Y$83,M$65,$C$90:$D115)","v":1.1173583433310894},{"$f":"DSUM($B$65:$Y$83,N$65,$C$90:$D115)","v":0.88981053282148648},{"$f":"DSUM($B$65:$Y$83,O$65,$C$90:$D115)","v":0.7086040115329999},{"$f":"DSUM($B$65:$Y$83,P$65,$C$90:$D115)","v":0.5643008010094519},{"$f":"DSUM($B$65:$Y$83,Q$65,$C$90:$D115)","v":0.44938515312603422},{"$f":"DSUM($B$65:$Y$83,R$65,$C$90:$D115)","v":0.35787203581463783},{"$f":"DSUM($B$65:$Y$83,S$65,$C$90:$D115)","v":0.28499536419386906},{"$f":"DSUM($B$65:$Y$83,T$65,$C$90:$D115)","v":0.22695973359742097},{"$f":"DSUM($B$65:$Y$83,U$65,$C$90:$D115)","v":1.541004925640055E-3},{"$f":"DSUM($B$65:$Y$83,V$65,$C$90:$D115)","v":5.478592379395082E-4},{"$f":"DSUM($B$65:$Y$83,W$65,$C$90:$D115)","v":1.8592232554118555E-4},{"$f":"DSUM($B$65:$Y$83,X$65,$C$90:$D115)","v":6.0351756837109692E-5},{"$f":"DSUM($B$65:$Y$83,Y$65,$C$90:$D115)","v":21.181609394569918}]
[null,"Block 26: 240-250 mills/kWh",">240","<=250",{"$f":"DSUM($B$65:$Y$83,E$65,$C$90:$D116)","v":2.5153338088965778},{"$f":"DSUM($B$65:$Y$83,F$65,$C$90:$D116)","v":2.5038172436419264},{"$f":"DSUM($B$65:$Y$83,G$65,$C$90:$D116)","v":2.4923592577564522},{"$f":"DSUM($B$65:$Y$83,H$65,$C$90:$D116)","v":2.4809595142938274},{"$f":"DSUM($B$65:$Y$83,I$65,$C$90:$D116)","v":2.4696176785132677},{"$f":"DSUM($B$65:$Y$83,J$65,$C$90:$D116)","v":2.2125000760770099},{"$f":"DSUM($B$65:$Y$83,K$65,$C$90:$D116)","v":1.7619166094154741},{"$f":"DSUM($B$65:$Y$83,L$65,$C$90:$D116)","v":1.4030993102977711},{"$f":"DSUM($B$65:$Y$83,M$65,$C$90:$D116)","v":1.1173583433310894},{"$f":"DSUM($B$65:$Y$83,N$65,$C$90:$D116)","v":0.88981053282148648},{"$f":"DSUM($B$65:$Y$83,O$65,$C$90:$D116)","v":0.7086040115329999},{"$f":"DSUM($B$65:$Y$83,P$65,$C$90:$D116)","v":0.5643008010094519},{"$f":"DSUM($B$65:$Y$83,Q$65,$C$90:$D116)","v":0.44938515312603422},{"$f":"DSUM($B$65:$Y$83,R$65,$C$90:$D116)","v":0.35787203581463783},{"$f":"DSUM($B$65:$Y$83,S$65,$C$90:$D116)","v":0.28499536419386906},{"$f":"DSUM($B$65:$Y$83,T$65,$C$90:$D116)","v":0.22695973359742097},{"$f":"DSUM($B$65:$Y$83,U$65,$C$90:$D116)","v":1.541004925640055E-3},{"$f":"DSUM($B$65:$Y$83,V$65,$C$90:$D116)","v":5.478592379395082E-4},{"$f":"DSUM($B$65:$Y$83,W$65,$C$90:$D116)","v":1.8592232554118555E-4},{"$f":"DSUM($B$65:$Y$83,X$65,$C$90:$D116)","v":6.0351756837109692E-5},{"$f":"DSUM($B$65:$Y$83,Y$65,$C$90:$D116)","v":21.181609394569918}]
[null,"Block 27: 250-260 mills/kWh",">250","<=260",{"$f":"DSUM($B$65:$Y$83,E$65,$C$90:$D117)","v":2.5153338088965778},{"$f":"DSUM($B$65:$Y$83,F$65,$C$90:$D117)","v":2.5038172436419264},{"$f":"DSUM($B$65:$Y$83,G$65,$C$90:$D117)","v":2.4923592577564522},{"$f":"DSUM($B$65:$Y$83,H$65,$C$90:$D117)","v":2.4809595142938274},{"$f":"DSUM($B$65:$Y$83,I$65,$C$90:$D117)","v":2.4696176785132677},{"$f":"DSUM($B$65:$Y$83,J$65,$C$90:$D117)","v":2.2125000760770099},{"$f":"DSUM($B$65:$Y$83,K$65,$C$90:$D117)","v":1.7619166094154741},{"$f":"DSUM($B$65:$Y$83,L$65,$C$90:$D117)","v":1.4030993102977711},{"$f":"DSUM($B$65:$Y$83,M$65,$C$90:$D117)","v":1.1173583433310894},{"$f":"DSUM($B$65:$Y$83,N$65,$C$90:$D117)","v":0.88981053282148648},{"$f":"DSUM($B$65:$Y$83,O$65,$C$90:$D117)","v":0.7086040115329999},{"$f":"DSUM($B$65:$Y$83,P$65,$C$90:$D117)","v":0.5643008010094519},{"$f":"DSUM($B$65:$Y$83,Q$65,$C$90:$D117)","v":0.44938515312603422},{"$f":"DSUM($B$65:$Y$83,R$65,$C$90:$D117)","v":0.35787203581463783},{"$f":"DSUM($B$65:$Y$83,S$65,$C$90:$D117)","v":0.28499536419386906},{"$f":"DSUM($B$65:$Y$83,T$65,$C$90:$D117)","v":0.22695973359742097},{"$f":"DSUM($B$65:$Y$83,U$65,$C$90:$D117)","v":1.541004925640055E-3},{"$f":"DSUM($B$65:$Y$83,V$65,$C$90:$D117)","v":5.478592379395082E-4},{"$f":"DSUM($B$65:$Y$83,W$65,$C$90:$D117)","v":1.8592232554118555E-4},{"$f":"DSUM($B$65:$Y$83,X$65,$C$90:$D117)","v":6.0351756837109692E-5},{"$f":"DSUM($B$65:$Y$83,Y$65,$C$90:$D117)","v":21.181609394569918}]
[null,"Block 28: 260-270 mills/kWh",">260","<=270",{"$f":"DSUM($B$65:$Y$83,E$65,$C$90:$D118)","v":2.5153338088965778},{"$f":"DSUM($B$65:$Y$83,F$65,$C$90:$D118)","v":2.5038172436419264},{"$f":"DSUM($B$65:$Y$83,G$65,$C$90:$D118)","v":2.4923592577564522},{"$f":"DSUM($B$65:$Y$83,H$65,$C$90:$D118)","v":2.4809595142938274},{"$f":"DSUM($B$65:$Y$83,I$65,$C$90:$D118)","v":2.4696176785132677},{"$f":"DSUM($B$65:$Y$83,J$65,$C$90:$D118)","v":2.2125000760770099},{"$f":"DSUM($B$65:$Y$83,K$65,$C$90:$D118)","v":1.7619166094154741},{"$f":"DSUM($B$65:$Y$83,L$65,$C$90:$D118)","v":1.4030993102977711},{"$f":"DSUM($B$65:$Y$83,M$65,$C$90:$D118)","v":1.1173583433310894},{"$f":"DSUM($B$65:$Y$83,N$65,$C$90:$D118)","v":0.88981053282148648},{"$f":"DSUM($B$65:$Y$83,O$65,$C$90:$D118)","v":0.7086040115329999},{"$f":"DSUM($B$65:$Y$83,P$65,$C$90:$D118)","v":0.5643008010094519},{"$f":"DSUM($B$65:$Y$83,Q$65,$C$90:$D118)","v":0.44938515312603422},{"$f":"DSUM($B$65:$Y$83,R$65,$C$90:$D118)","v":0.35787203581463783},{"$f":"DSUM($B$65:$Y$83,S$65,$C$90:$D118)","v":0.28499536419386906},{"$f":"DSUM($B$65:$Y$83,T$65,$C$90:$D118)","v":0.22695973359742097},{"$f":"DSUM($B$65:$Y$83,U$65,$C$90:$D118)","v":1.541004925640055E-3},{"$f":"DSUM($B$65:$Y$83,V$65,$C$90:$D118)","v":5.478592379395082E-4},{"$f":"DSUM($B$65:$Y$83,W$65,$C$90:$D118)","v":1.8592232554118555E-4},{"$f":"DSUM($B$65:$Y$83,X$65,$C$90:$D118)","v":6.0351756837109692E-5},{"$f":"DSUM($B$65:$Y$83,Y$65,$C$90:$D118)","v":21.181609394569918}]
[null,"Block 29: 270-280 mills/kWh",">270","<=280",{"$f":"DSUM($B$65:$Y$83,E$65,$C$90:$D119)","v":2.5153338088965778},{"$f":"DSUM($B$65:$Y$83,F$65,$C$90:$D119)","v":2.5038172436419264},{"$f":"DSUM($B$65:$Y$83,G$65,$C$90:$D119)","v":2.4923592577564522},{"$f":"DSUM($B$65:$Y$83,H$65,$C$90:$D119)","v":2.4809595142938274},{"$f":"DSUM($B$65:$Y$83,I$65,$C$90:$D119)","v":2.4696176785132677},{"$f":"DSUM($B$65:$Y$83,J$65,$C$90:$D119)","v":2.2125000760770099},{"$f":"DSUM($B$65:$Y$83,K$65,$C$90:$D119)","v":1.7619166094154741},{"$f":"DSUM($B$65:$Y$83,L$65,$C$90:$D119)","v":1.4030993102977711},{"$f":"DSUM($B$65:$Y$83,M$65,$C$90:$D119)","v":1.1173583433310894},{"$f":"DSUM($B$65:$Y$83,N$65,$C$90:$D119)","v":0.88981053282148648},{"$f":"DSUM($B$65:$Y$83,O$65,$C$90:$D119)","v":0.7086040115329999},{"$f":"DSUM($B$65:$Y$83,P$65,$C$90:$D119)","v":0.5643008010094519},{"$f":"DSUM($B$65:$Y$83,Q$65,$C$90:$D119)","v":0.44938515312603422},{"$f":"DSUM($B$65:$Y$83,R$65,$C$90:$D119)","v":0.35787203581463783},{"$f":"DSUM($B$65:$Y$83,S$65,$C$90:$D119)","v":0.28499536419386906},{"$f":"DSUM($B$65:$Y$83,T$65,$C$90:$D119)","v":0.22695973359742097},{"$f":"DSUM($B$65:$Y$83,U$65,$C$90:$D119)","v":1.541004925640055E-3},{"$f":"DSUM($B$65:$Y$83,V$65,$C$90:$D119)","v":5.478592379395082E-4},{"$f":"DSUM($B$65:$Y$83,W$65,$C$90:$D119)","v":1.8592232554118555E-4},{"$f":"DSUM($B$65:$Y$83,X$65,$C$90:$D119)","v":6.0351756837109692E-5},{"$f":"DSUM($B$65:$Y$83,Y$65,$C$90:$D119)","v":21.181609394569918}]
[null,"Block 30: 280-290 mills/kWh",">280","<=290",{"$f":"DSUM($B$65:$Y$83,E$65,$C$90:$D120)","v":2.5153338088965778},{"$f":"DSUM($B$65:$Y$83,F$65,$C$90:$D120)","v":2.5038172436419264},{"$f":"DSUM($B$65:$Y$83,G$65,$C$90:$D120)","v":2.4923592577564522},{"$f":"DSUM($B$65:$Y$83,H$65,$C$90:$D120)","v":2.4809595142938274},{"$f":"DSUM($B$65:$Y$83,I$65,$C$90:$D120)","v":2.4696176785132677},{"$f":"DSUM($B$65:$Y$83,J$65,$C$90:$D120)","v":2.2125000760770099},{"$f":"DSUM($B$65:$Y$83,K$65,$C$90:$D120)","v":1.7619166094154741},{"$f":"DSUM($B$65:$Y$83,L$65,$C$90:$D120)","v":1.4030993102977711},{"$f":"DSUM($B$65:$Y$83,M$65,$C$90:$D120)","v":1.1173583433310894},{"$f":"DSUM($B$65:$Y$83,N$65,$C$90:$D120)","v":0.88981053282148648},{"$f":"DSUM($B$65:$Y$83,O$65,$C$90:$D120)","v":0.7086040115329999},{"$f":"DSUM($B$65:$Y$83,P$65,$C$90:$D120)","v":0.5643008010094519},{"$f":"DSUM($B$65:$Y$83,Q$65,$C$90:$D120)","v":0.44938515312603422},{"$f":"DSUM($B$65:$Y$83,R$65,$C$90:$D120)","v":0.35787203581463783},{"$f":"DSUM($B$65:$Y$83,S$65,$C$90:$D120)","v":0.28499536419386906},{"$f":"DSUM($B$65:$Y$83,T$65,$C$90:$D120)","v":0.22695973359742097},{"$f":"DSUM($B$65:$Y$83,U$65,$C$90:$D120)","v":1.541004925640055E-3},{"$f":"DSUM($B$65:$Y$83,V$65,$C$90:$D120)","v":5.478592379395082E-4},{"$f":"DSUM($B$65:$Y$83,W$65,$C$90:$D120)","v":1.8592232554118555E-4},{"$f":"DSUM($B$65:$Y$83,X$65,$C$90:$D120)","v":6.0351756837109692E-5},{"$f":"DSUM($B$65:$Y$83,Y$65,$C$90:$D120)","v":21.181609394569918}]
[null,"Block 31: 290-300 mills/kWh",">290","<=300",{"$f":"DSUM($B$65:$Y$83,E$65,$C$90:$D121)","v":2.5153338088965778},{"$f":"DSUM($B$65:$Y$83,F$65,$C$90:$D121)","v":2.5038172436419264},{"$f":"DSUM($B$65:$Y$83,G$65,$C$90:$D121)","v":2.4923592577564522},{"$f":"DSUM($B$65:$Y$83,H$65,$C$90:$D121)","v":2.4809595142938274},{"$f":"DSUM($B$65:$Y$83,I$65,$C$90:$D121)","v":2.4696176785132677},{"$f":"DSUM($B$65:$Y$83,J$65,$C$90:$D121)","v":2.2125000760770099},{"$f":"DSUM($B$65:$Y$83,K$65,$C$90:$D121)","v":1.7619166094154741},{"$f":"DSUM($B$65:$Y$83,L$65,$C$90:$D121)","v":1.4030993102977711},{"$f":"DSUM($B$65:$Y$83,M$65,$C$90:$D121)","v":1.1173583433310894},{"$f":"DSUM($B$65:$Y$83,N$65,$C$90:$D121)","v":0.88981053282148648},{"$f":"DSUM($B$65:$Y$83,O$65,$C$90:$D121)","v":0.7086040115329999},{"$f":"DSUM($B$65:$Y$83,P$65,$C$90:$D121)","v":0.5643008010094519},{"$f":"DSUM($B$65:$Y$83,Q$65,$C$90:$D121)","v":0.44938515312603422},{"$f":"DSUM($B$65:$Y$83,R$65,$C$90:$D121)","v":0.35787203581463783},{"$f":"DSUM($B$65:$Y$83,S$65,$C$90:$D121)","v":0.28499536419386906},{"$f":"DSUM($B$65:$Y$83,T$65,$C$90:$D121)","v":0.22695973359742097},{"$f":"DSUM($B$65:$Y$83,U$65,$C$90:$D121)","v":1.541004925640055E-3},{"$f":"DSUM($B$65:$Y$83,V$65,$C$90:$D121)","v":5.478592379395082E-4},{"$f":"DSUM($B$65:$Y$83,W$65,$C$90:$D121)","v":1.8592232554118555E-4},{"$f":"DSUM($B$65:$Y$83,X$65,$C$90:$D121)","v":6.0351756837109692E-5},{"$f":"DSUM($B$65:$Y$83,Y$65,$C$90:$D121)","v":21.181609394569918}]
[null,"Block 32: >300 mills/kWh",">300","<=999",{"$f":"DSUM($B$65:$Y$83,E$65,$C$90:$D122)","v":2.5195391935076206},{"$f":"DSUM($B$65:$Y$83,F$65,$C$90:$D122)","v":2.5080137969452863},{"$f":"DSUM($B$65:$Y$83,G$65,$C$90:$D122)","v":2.496546998297875},{"$f":"DSUM($B$65:$Y$83,H$65,$C$90:$D122)","v":2.4851384605801132},{"$f":"DSUM($B$65:$Y$83,I$65,$C$90:$D122)","v":2.4737878490123522},{"$f":"DSUM($B$65:$Y$83,J$65,$C$90:$D122)","v":2.2162453479039428},{"$f":"DSUM($B$65:$Y$83,K$65,$C$90:$D122)","v":1.764906534820351},{"$f":"DSUM($B$65:$Y$83,L$65,$C$90:$D122)","v":1.4054862275469926},{"$f":"DSUM($B$65:$Y$83,M$65,$C$90:$D122)","v":1.1192638671094879},{"$f":"DSUM($B$65:$Y$83,N$65,$C$90:$D122)","v":0.89133175056425751},{"$f":"DSUM($B$65:$Y$83,O$65,$C$90:$D122)","v":0.70981843008140888},{"$f":"DSUM($B$65:$Y$83,P$65,$C$90:$D122)","v":0.56527029562501774},{"$f":"DSUM($B$65:$Y$83,Q$65,$C$90:$D122)","v":0.45015912006753273},{"$f":"DSUM($B$65:$Y$83,R$65,$C$90:$D122)","v":0.35848990910337492},{"$f":"DSUM($B$65:$Y$83,S$65,$C$90:$D122)","v":0.28548862479773368},{"$f":"DSUM($B$65:$Y$83,T$65,$C$90:$D122)","v":0.22735351340269816},{"$f":"DSUM($B$65:$Y$83,U$65,$C$90:$D122)","v":1.5436851655096224E-3},{"$f":"DSUM($B$65:$Y$83,V$65,$C$90:$D122)","v":5.4881445628445185E-4},{"$f":"DSUM($B$65:$Y$83,W$65,$C$90:$D122)","v":1.8624728430928492E-4},{"$f":"DSUM($B$65:$Y$83,X$65,$C$90:$D122)","v":6.0457499126682125E-5},{"$f":"DSUM($B$65:$Y$83,Y$65,$C$90:$D122)","v":21.218631036135477}]
[]
[null,null,null,null,{"$f":"E122","v":2.5195391935076206},{"$f":"F122","v":2.5080137969452863},2.496546998297875,2.4851384605801132,2.4737878490123522,2.2162453479039428,1.764906534820351,1.4054862275469926,1.1192638671094879,0.89133175056425751,0.70981843008140888,0.56527029562501774,0.45015912006753273,0.35848990910337492,0.28548862479773368,0.22735351340269816,1.5436851655096224E-3,5.4881445628445185E-4,1.8624728430928492E-4,6.0457499126682125E-5,{"$f":"DSUM($B$65:$Y$83,Y$65,$C$90:$D124)","v":21.228186154993367}]
["RECOMBINE MEASURE BUNDLES INTO SUPPLY CURVE INCREMENTAL"]
[null,null,null,{"$f":"C8","v":"Demand Control Ventilation-Retro"},{"$f":"E89","v":2016},{"$f":"F89","v":2017},2018,2019,2020,2021,2022,2023,2024,2025,2026,2027,2028,2029,2030,2031,2032,2033,2034,2035,"Max"]
[null,null,null,null,{"$f":"CONCATENATE(\"aMW_\",E$11)","v":"aMW_2016"},{"$f":"CONCATENATE(\"aMW_\",F$11)","v":"aMW_2017"},"aMW_2018","aMW_2019","aMW_2020","aMW_2021","aMW_2022","aMW_2023","aMW_2024","aMW_2025","aMW_2026","aMW_2027","aMW_2028","aMW_2029","aMW_2030","aMW_2031","aMW_2032","aMW_2033","aMW_2034","aMW_2035","aMW_"]
[null,null,"Block 1: <= 0 mills/kWh",null,{"$f":"E91","v":0.19547716888021138},{"$f":"F91","v":0.1946001279825022},0.19372702207495401,0.19285783350257779,0.1919925446895962,0.17201802432517999,0.13699698943149949,0.10910586368446677,8.6893073634188647E-2,6.9202570701719951E-2,5.5113665467603913E-2,4.3893111057498088E-2,3.4956941839376095E-2,2.7840081354925408E-2,2.2172137751930381E-2,1.7658127008440043E-2,1.1990158330037815E-4,4.2629866022621645E-5,{"$f":"W91","v":1.4467704553628683E-5},{"$f":"X91","v":4.6965628649915343E-6},1.6482650257250504]
[null,null,"Block 2: <= 10 mills/kWh",null,{"$f":"E92-E91","v":0},0,0,0,0,0,0,0,0,0,0,0,0,0,0,0,0,0,0,0,0]
[null,null,"Block 3: 10-20 mills/kWh",null,0,0,0,0,0,0,0,0,0,0,0,0,0,0,0,0,0,0,0,0,0]
[null,null,"Block 4: 20-30 mills/kWh",null,0,0,0,0,0,0,0,0,0,0,0,0,0,0,0,0,0,0,0,0,0]
[null,null,"Block 5: 30-40 mills/kWh",null,0.18532772690562072,0.18447521936185485,0.18362663335279028,0.18278195083936744,0.18194115386550636,0.16299380210195252,0.1297952244898268,0.10335853316573891,8.2306467130541197E-2,6.5542285905392544E-2,5.2192633112182203E-2,4.1562037599892923E-2,3.3096681781546726E-2,2.6355549636281301E-2,2.098745128636352E-2,1.6712727208356995E-2,1.1346924406927727E-4,4.0338316266640487E-5,1.368844091319709E-5,4.4430893755760163E-6,1.559485703505588]
[null,null,"Block 6: 40-50 mills/kWh",null,0,0,0,0,0,0,0,0,0,0,0,0,0,0,0,0,0,0,0,0,0]
[null,null,"Block 7: 50-60 mills/kWh",null,0.38971162966253625,0.38762657132884321,0.38555546210327801,0.3834981942502762,0.38145466093279551,0.3414822805840762,0.27173403000157587,0.21623351796740531,0.17206998556787881,0.13692739645549717,0.1089629104370458,8.6710192692469545E-2,6.9002482548092881E-2,5.4911383327170465E-2,4.3698160280930341E-2,3.4774990333211207E-2,2.3594848226596754E-4,8.3826090883554541E-5,2.8427648514357671E-5,9.2214790592546224E-6,3.2386823103923748]
[null,null,"Block 8: 60-70 mills/kWh",null,0.92771475087423361,0.92344726302021196,0.91919940561031854,0.91497108834451124,0.91076222133812679,0.8159154436079743,0.64972978605390197,0.51739282323044311,0.4120102529948666,0.32809200466487198,0.26126622515473097,0.2080515204152153,0.16567558673704436,0.13193078323044305,0.10505912130206643,8.366067947526154E-2,5.6800508618564738E-4,2.0192580813905978E-4,6.8521687303218967E-5,2.2241245937654938E-5,7.806483762984838]
[null,null,"Block 9: 70-80 mills/kWh",null,0.26844409754700749,0.2676738981918183,0.2669059251156447,0.26614017184201533,0.26537663191340233,0.23815376900204965,0.18997643977596113,0.15154515527349721,0.12088833507462993,9.6433240873397108E-2,7.6925292381668953E-2,6.1363705304691984E-2,4.8950149495046447E-2,3.9047793352831817E-2,3.1148633374783019E-2,2.4847432799256997E-2,1.68992446403736E-4,6.0181340379111803E-5,2.0457523577756303E-5,6.6517992876091633E-6,2.3306683172282501]
[null,null,"Block 10: 80-90 mills/kWh",null,0,0,0,0,0,0,0,0,0,0,0,0,0,0,0,0,0,0,0,0,0]
[null,null,"Block 11: 90-100 mills/kWh",null,0,0,0,0,0,0,0,0,0,0,0,0,0,0,0,0,0,0,0,0,0]
[null,null,"Block 12: 100-110 mills/kWh",null,0.43854301174399346,0.43676079082211072,0.43498606288567276,0.43321879558263765,0.43145895670343859,0.38673586276230809,0.30813223398250988,0.24550484580686072,0.19560648784186552,0.15584995905572196,0.1241739168796645,9.8935993531181377E-2,7.8827637233904291E-2,6.280626254974947E-2,5.0041191595411455E-2,3.9870583032049739E-2,2.7084510779025179E-4,9.6338177030287902E-5,3.2709410592167486E-5,1.0622875938259691E-5,3.7264914618143656]
[null,null,"Block 13: 110-120 mills/kWh",null,0,0,0,0,0,0,0,0,0,0,0,0,0,0,0,0,0,0,0,0,0]
[null,null,"Block 14: 120-130 mills/kWh",null,2.5464593728231399E-2,2.5344400845834336E-2,2.5224775273841704E-2,{"$f":"H104-H103","v":2.5105714334549223E-2},2.4987215362890502E-2,2.2382348135739694E-2,1.7821362762031168E-2,1.4189796743835581E-2,1.1298256722563682E-2,8.9959431606665419E-3,7.1627858471585704E-3,5.7031819983679455E-3,4.5410103834685467E-3,3.6156614515668317E-3,2.8788764236123421E-3,2.2922305015143363E-3,1.5560973564653123E-5,5.5312592033687552E-6,1.8767562477138317E-6,6.0909716029526519E-7,0.21381357861235983]
[null,null,"Block 15: 130-140 mills/kWh",null,{"$f":"E105-E104","v":0},0,0,0,0,0,0,0,0,0,0,0,0,0,0,0,0,0,0,0,0]
[null,null,"Block 16: 140-150 mills/kWh",null,0,0,0,0,0,0,0,0,0,0,0,0,0,0,0,0,0,0,0,0,0]
[null,null,"Block 17: 150-160 mills/kWh",null,0,0,0,0,0,0,0,0,0,0,0,0,0,0,0,0,0,0,0,0,0]
[null,null,"Block 18: 160-170 mills/kWh",null,8.4650829554743456E-2,8.3888972088750791E-2,8.3133971339952151E-2,8.2385765597892568E-2,8.1644293707511473E-2,7.2818545557729486E-2,5.7730542918167815E-2,4.5768774425523517E-2,3.6285484364555032E-2,2.8767132004219209E-2,2.2806582252944962E-2,1.8081058410134743E-2,1.4334663107554879E-2,1.1364520911669507E-2,9.0097921787715696E-3,7.1429632393301135E-3,4.8282002060143691E-5,1.7088380014863283E-5,5.7731538391455109E-6,1.8656072134684611E-6,0.65771923430709123]
[null,null,"Block 19: 170-180 mills/kWh",null,0,0,0,0,0,0,0,0,0,0,0,0,0,0,0,0,0,0,0,0,0]
[null,null,"Block 20: 180-190 mills/kWh",null,0,0,0,0,0,0,0,0,0,0,0,0,0,0,0,0,0,0,0,0,0]
[null,null,"Block 21: 190-200 mills/kWh",null,0,0,0,0,0,0,0,0,0,0,0,0,0,0,0,0,0,0,0,0,0]
[null,null,"Block 22: 200-210 mills/kWh",null,0,0,0,0,0,0,0,0,0,0,0,0,0,0,0,0,0,0,0,0,0]
[null,null,"Block 23: 210-220 mills/kWh",null,0,0,0,0,0,0,0,0,0,0,0,0,0,0,0,0,0,0,0,0,0]
[null,null,"Block 24: 220-230 mills/kWh",null,0,0,0,0,0,0,0,0,0,0,0,0,0,0,0,0,0,0,0,0,0]
[null,null,"Block 25: 230-240 mills/kWh",null,0,0,0,0,0,0,0,0,0,0,0,0,0,0,0,0,0,0,0,0,0]
[null,null,"Block 26: 240-250 mills/kWh",null,0,0,0,0,0,0,0,0,0,0,0,0,0,0,0,0,0,0,0,0,0]
[null,null,"Block 27: 250-260 mills/kWh",null,0,0,0,{"$f":"H117-H116","v":0},0,0,0,0,0,0,0,0,0,0,0,0,0,0,0,0,0]
[null,null,"Block 28: 260-270 mills/kWh",null,{"$f":"E118-E117","v":0},0,0,0,0,0,0,0,0,0,0,0,0,0,0,0,0,0,0,0,0]
[null,null,"Block 29: 270-280 mills/kWh",null,0,0,0,0,0,0,0,0,0,0,0,0,0,0,0,0,0,0,0,0,0]
[null,null,"Block 30: 280-290 mills/kWh",null,0,0,0,0,0,0,0,0,0,0,0,0,0,0,0,0,0,0,0,0,0]
[null,null,"Block 31: 290-300 mills/kWh",null,0,0,0,0,0,0,0,0,0,0,0,0,0,0,0,0,0,0,0,0,0]
[null,null,"Block 32: >300 mills/kWh",null,4.2053846110428061E-3,4.1965533033598845E-3,4.1877405414227908E-3,4.1789462862857896E-3,4.1701704990844135E-3,3.74527182693285E-3,2.9899254048768587E-3,2.3869172492214652E-3,1.9055237783984769E-3,1.5212177427710305E-3,1.2144185484089798E-3,9.6949461556583572E-4,7.7396694149850509E-4,6.1787328873708081E-4,4.9326060386462034E-4,3.9377980527718903E-4,2.6802398695674814E-6,9.5521834494365424E-7,3.2495876809936946E-7,1.0574228957243258E-7,3.7021641565559094E-2]
[]
[null,null,"Total per Year",null,{"$f":"SUM(E128:E159)","v":2.5195391935076206},2.5080137969452863,2.496546998297875,2.4851384605801132,2.4737878490123522,2.2162453479039428,1.764906534820351,1.4054862275469926,1.1192638671094879,0.89133175056425751,0.70981843008140877,0.56527029562501774,0.45015912006753273,0.35848990910337492,0.28548862479773368,0.22735351340269816,1.5436851655096224E-3,5.4881445628445185E-4,1.8624728430928492E-4,6.0457499126682125E-5]
[null,null,"Total Cumulative",null,{"$f":"D162+E161","v":2.5195391935076206},5.0275529904529073,7.5240999887507822,10.009238449330896,12.483026298343248,14.69927164624719,16.464178181067542,17.869664408614533,18.988928275724021,19.88026002628828,20.590078456369689,21.155348751994708,21.60550787206224,21.963997781165617,22.249486405963349,22.476839919366046,22.478383604531555,22.478932418987839,22.479118666272146,22.479179123771274,{"$f":"SUM(Y128:Y159)","v":21.218631036135477}]
[]
[null,null,"Ramp Rate",{"$f":"D38","v":"Retro12Med"},{"$f":"E38","v":0.10937459468255628},0.10937459468255628,0.10937459468255628,0.10937459468255628,0.10937459468255628,9.8437135214300656E-2,7.874970817144053E-2,6.2999766537152418E-2,5.0399813229721938E-2,4.0319850583777551E-2,3.225588046702204E-2,2.5804704373617631E-2,2.0643763498894106E-2,1.6515010799115284E-2,1.3212008639292228E-2,1.0569606911433781E-2,7.2092823794611682E-5,2.5747437069512102E-5,8.7775353646568632E-6,2.8622397928446119E-6]

{"sheet":"Measure InputOutput","index":3,"n_rows":452,"n_cols":105,"rows_kept":452,"cut":false,"hidden":true,"merged":[[8,8,8,13],[8,14,8,15],[8,17,8,19]]}
["Data Set Name"]
["Measure Index Name"]
["Costs must be denominated in the same year as 'Input Cost Reference Year' =",null,2012]
[]
["Retrofit Data",null,"name","column","referenece"]
[null,"Weighting Factor in MMap","WT BTYPE",{"$f":"MATCH(C6,MMap!$A$9:$BP$9,0)","v":13},{"$f":"LEFT(ADDRESS(11,MATCH(C6,MMap!$A$9:$BR$9,0),4,1),1)","v":"M"}]
[null,"Units are per thousand feet floor area for activity",1000]
[1,2,3,4,5,6,7,8,9,10,11,12,13,14,15,16,17,18,19,20,21,22,23,24,25,26,27,28,29,30,31,32,33,34,35,36,37,38,39,40,41,42,43,44,45,46,47,48,49,50,51,52,53,54,55,56,57,58,59,60,61,62,63,64,65,66,67,68,69,70,71,72,73,74,75,76,77,78,79,80,81,82,83,84,85,86,87,88,89,90,91,92,93,94,95,96,97,98,99,100,101,102,103,104,105]
["Input Data",null,null,null,null,null,null,null,"Periodic Replacement Costs and Savings and Replacement Period",null,null,null,null,null,"Gas Inputs",null,"Retro or LO","Early Retrofit Parameters"]
["Category Name","Measure Name","Savings (kwh/yr)","Life (yrs)","Capital Cost","Annual O&M","Shape Pointer","Non-E Val ($/yr)","Cost 1 ($)","Period 1 ","Cost 2 ($)","Period 2","Cost 3 ($)","Period 3","Savings (therms/yr)","Shape Pointer","R or L","Savings 2\n(kWh)","Remaining\nLife (yrs)","Salvage Value ($)"]
["Demand Control Ventilation-Retro-Large Off","Demand Control Ventilation-DCV Only-Large Off-ElecHt-Vent-Retro",{"$f":"MMap!#REF!*MMap!M266*$C$7","v":{"$error":"#REF!"}},15,{"$f":"MMap!Q266*MMap!M266*$C$7","v":0},null,"ComEconoMizer",null,null,null,null,null,null,null,1,"SmComWX","R"]
["Demand Control Ventilation-Retro-Medium Off","Demand Control Ventilation-DCV Only-Medium Off-ElecHt-Vent-Retro",{"$f":"MMap!#REF!*MMap!M267*$C$7","v":{"$error":"#REF!"}},15,{"$f":"MMap!Q267*MMap!M267*$C$7","v":0},null,"ComEconoMizer",null,null,null,null,null,null,null,1,"SmComWX","R"]
["Demand Control Ventilation-Retro-Small Off","Demand Control Ventilation-DCV Only-Small Off-ElecHt-Vent-Retro",{"$f":"MMap!#REF!*MMap!M268*$C$7","v":{"$error":"#REF!"}},15,{"$f":"MMap!Q268*MMap!M268*$C$7","v":0},null,"ComEconoMizer",null,null,null,null,null,null,null,1,"SmComWX","R"]
["Demand Control Ventilation-Retro-Big Box","Demand Control Ventilation-DCV Only-Big Box-ElecHt-Vent-Retro",{"$f":"MMap!#REF!*MMap!M269*$C$7","v":{"$error":"#REF!"}},15,{"$f":"MMap!Q269*MMap!M269*$C$7","v":0},null,"ComEconoMizer",null,null,null,null,null,null,null,1,"SmComWX"]
["Demand Control Ventilation-Retro-Small Box","Demand Control Ventilation-DCV Only-Small Box-ElecHt-Vent-Retro",{"$f":"MMap!#REF!*MMap!M270*$C$7","v":{"$error":"#REF!"}},15,{"$f":"MMap!Q270*MMap!M270*$C$7","v":0},null,"ComEconoMizer",null,null,null,null,null,null,null,1,"SmComWX"]
["Demand Control Ventilation-Retro-High End","Demand Control Ventilation-DCV Only-High End-ElecHt-Vent-Retro",{"$f":"MMap!#REF!*MMap!M271*$C$7","v":{"$error":"#REF!"}},15,{"$f":"MMap!Q271*MMap!M271*$C$7","v":0},null,"ComEconoMizer",null,null,null,null,null,null,null,1,"SmComWX"]
["Demand Control Ventilation-Retro-Anchor","Demand Control Ventilation-DCV Only-Anchor-ElecHt-Vent-Retro",{"$f":"MMap!#REF!*MMap!M272*$C$7","v":{"$error":"#REF!"}},15,{"$f":"MMap!Q272*MMap!M272*$C$7","v":0},null,"ComEconoMizer",null,null,null,null,null,null,null,1,"SmComWX"]
["Demand Control Ventilation-Retro-K-12","Demand Control Ventilation-DCV Only-K-12-ElecHt-Vent-Retro",{"$f":"MMap!#REF!*MMap!M273*$C$7","v":{"$error":"#REF!"}},15,{"$f":"MMap!Q273*MMap!M273*$C$7","v":0},null,"ComEconoMizer",null,null,null,null,null,null,null,1,"SmComWX"]
["Demand Control Ventilation-Retro-University","Demand Control Ventilation-DCV Only-University-ElecHt-Vent-Retro",{"$f":"MMap!#REF!*MMap!M274*$C$7","v":{"$error":"#REF!"}},15,{"$f":"MMap!Q274*MMap!M274*$C$7","v":0},null,"ComEconoMizer",null,null,null,null,null,null,null,1,"SmComWX"]
["Demand Control Ventilation-Retro-Warehouse","Demand Control Ventilation-DCV Only-Warehouse-ElecHt-Vent-Retro",{"$f":"MMap!#REF!*MMap!M275*$C$7","v":{"$error":"#REF!"}},15,{"$f":"MMap!Q275*MMap!M275*$C$7","v":0},null,"ComEconoMizer",null,null,null,null,null,null,null,1,"SmComWX"]
["Demand Control Ventilation-Retro-Supermarket","Demand Control Ventilation-DCV Only-Supermarket-ElecHt-Vent-Retro",{"$f":"MMap!#REF!*MMap!M276*$C$7","v":{"$error":"#REF!"}},15,{"$f":"MMap!Q276*MMap!M276*$C$7","v":0},null,"ComEconoMizer",null,null,null,null,null,null,null,1,"SmComWX"]
["Demand Control Ventilation-Retro-MIniMart","Demand Control Ventilation-DCV Only-MIniMart-ElecHt-Vent-Retro",{"$f":"MMap!#REF!*MMap!M277*$C$7","v":{"$error":"#REF!"}},15,{"$f":"MMap!Q277*MMap!M277*$C$7","v":0},null,"ComEconoMizer",null,null,null,null,null,null,null,1,"SmComWX"]
["Demand Control Ventilation-Retro-Restaurant","Demand Control Ventilation-DCV Only-Restaurant-ElecHt-Vent-Retro",{"$f":"MMap!#REF!*MMap!M278*$C$7","v":{"$error":"#REF!"}},15,{"$f":"MMap!Q278*MMap!M278*$C$7","v":0},null,"ComEconoMizer",null,null,null,null,null,null,null,1,"SmComWX"]
["Demand Control Ventilation-Retro-Lodging","Demand Control Ventilation-DCV Only-Lodging-ElecHt-Vent-Retro",{"$f":"MMap!#REF!*MMap!M279*$C$7","v":{"$error":"#REF!"}},15,{"$f":"MMap!Q279*MMap!M279*$C$7","v":0},null,"ComEconoMizer",null,null,null,null,null,null,null,1,"SmComWX"]
["Demand Control Ventilation-Retro-Hospital","Demand Control Ventilation-DCV Only-Hospital-ElecHt-Vent-Retro",{"$f":"MMap!#REF!*MMap!M280*$C$7","v":{"$error":"#REF!"}},15,{"$f":"MMap!Q280*MMap!M280*$C$7","v":0},null,"ComEconoMizer",null,null,null,null,null,null,null,1,"SmComWX"]
["Demand Control Ventilation-Retro-OtherHealth","Demand Control Ventilation-DCV Only-OtherHealth-ElecHt-Vent-Retro",{"$f":"MMap!#REF!*MMap!M281*$C$7","v":{"$error":"#REF!"}},15,{"$f":"MMap!Q281*MMap!M281*$C$7","v":23.900346945102008},null,"ComEconoMizer",null,null,null,null,null,null,null,1,"SmComWX"]
["Demand Control Ventilation-Retro-Other","Demand Control Ventilation-DCV Only-Other-ElecHt-Vent-Retro",{"$f":"MMap!#REF!*MMap!M282*$C$7","v":{"$error":"#REF!"}},15,{"$f":"MMap!Q282*MMap!M282*$C$7","v":25.929556174556225},null,"ComEconoMizer",null,null,null,null,null,null,null,1,"SmComWX"]
["Demand Control Ventilation-Retro-Large Off","Demand Control Ventilation-DCV Only-Large Off-ElecHt-Heat-Retro",{"$f":"MMap!#REF!*MMap!M283*$C$7","v":{"$error":"#REF!"}},15,{"$f":"MMap!Q283*MMap!M283*$C$7","v":33.494710708505288},null,"ExCOMM",null,null,null,null,null,null,null,1,"SmComWX"]
["Demand Control Ventilation-Retro-Medium Off","Demand Control Ventilation-DCV Only-Medium Off-ElecHt-Heat-Retro",{"$f":"MMap!#REF!*MMap!M284*$C$7","v":{"$error":"#REF!"}},15,{"$f":"MMap!Q284*MMap!M284*$C$7","v":1.8807267798531777},null,"ExCOMM",null,null,null,null,null,null,null,1,"SmComWX"]
["Demand Control Ventilation-Retro-Small Off","Demand Control Ventilation-DCV Only-Small Off-ElecHt-Heat-Retro",{"$f":"MMap!#REF!*MMap!M285*$C$7","v":{"$error":"#REF!"}},15,{"$f":"MMap!Q285*MMap!M285*$C$7","v":0.39232376913271416},null,"ExCOMM",null,null,null,null,null,null,null,1,"SmComWX"]
["Demand Control Ventilation-Retro-Big Box","Demand Control Ventilation-DCV Only-Big Box-ElecHt-Heat-Retro",{"$f":"MMap!#REF!*MMap!M286*$C$7","v":{"$error":"#REF!"}},15,{"$f":"MMap!Q286*MMap!M286*$C$7","v":9.1271198701145035},null,"ExCOMM",null,null,null,null,null,null,null,1,"SmComWX"]
["Demand Control Ventilation-Retro-Small Box","Demand Control Ventilation-DCV Only-Small Box-ElecHt-Heat-Retro",{"$f":"MMap!#REF!*MMap!M287*$C$7","v":{"$error":"#REF!"}},15,{"$f":"MMap!Q287*MMap!M287*$C$7","v":12.316566328359416},null,"ExCOMM",null,null,null,null,null,null,null,1,"SmComWX"]
["Demand Control Ventilation-Retro-High End","Demand Control Ventilation-DCV Only-High End-ElecHt-Heat-Retro",{"$f":"MMap!#REF!*MMap!M288*$C$7","v":{"$error":"#REF!"}},15,{"$f":"MMap!Q288*MMap!M288*$C$7","v":0},null,"ExCOMM",null,null,null,null,null,null,null,1,"SmComWX"]
["Demand Control Ventilation-Retro-Anchor","Demand Control Ventilation-DCV Only-Anchor-ElecHt-Heat-Retro",{"$f":"MMap!#REF!*MMap!M289*$C$7","v":{"$error":"#REF!"}},15,{"$f":"MMap!Q289*MMap!M289*$C$7","v":0},null,"ExCOMM",null,null,null,null,null,null,null,1,"SmComWX"]
["Demand Control Ventilation-Retro-K-12","Demand Control Ventilation-DCV Only-K-12-ElecHt-Heat-Retro",{"$f":"MMap!#REF!*MMap!M290*$C$7","v":{"$error":"#REF!"}},15,{"$f":"MMap!Q290*MMap!M290*$C$7","v":0.13928904583091797},null,"ExCOMM",null,null,null,null,null,null,null,1,"SmComWX"]
["Demand Control Ventilation-Retro-University","Demand Control Ventilation-DCV Only-University-ElecHt-Heat-Retro",{"$f":"MMap!#REF!*MMap!M291*$C$7","v":{"$error":"#REF!"}},15,{"$f":"MMap!Q291*MMap!M291*$C$7","v":1.2994168713647944},null,"ExCOMM",null,null,null,null,null,null,null,1,"SmComWX"]
["Demand Control Ventilation-Retro-Warehouse","Demand Control Ventilation-DCV Only-Warehouse-ElecHt-Heat-Retro",{"$f":"MMap!#REF!*MMap!M292*$C$7","v":{"$error":"#REF!"}},15,{"$f":"MMap!Q292*MMap!M292*$C$7","v":0.69682097845820612},null,"ExCOMM",null,null,null,null,null,null,null,1,"SmComWX"]
["Demand Control Ventilation-Retro-Supermarket","Demand Control Ventilation-DCV Only-Supermarket-ElecHt-Heat-Retro",{"$f":"MMap!#REF!*MMap!M293*$C$7","v":{"$error":"#REF!"}},15,{"$f":"MMap!Q293*MMap!M293*$C$7","v":2.5234720666831976},null,"ExCOMM",null,null,null,null,null,null,null,1,"SmComWX"]
["Demand Control Ventilation-Retro-MIniMart","Demand Control Ventilation-DCV Only-MIniMart-ElecHt-Heat-Retro",{"$f":"MMap!#REF!*MMap!M294*$C$7","v":{"$error":"#REF!"}},15,{"$f":"MMap!Q294*MMap!M294*$C$7","v":50.617877763921861},null,"ExCOMM",null,null,null,null,null,null,null,1,"SmComWX"]
["Demand Control Ventilation-Retro-Restaurant","Demand Control Ventilation-DCV Only-Restaurant-ElecHt-Heat-Retro",{"$f":"MMap!#REF!*MMap!M295*$C$7","v":{"$error":"#REF!"}},15,{"$f":"MMap!Q295*MMap!M295*$C$7","v":9.1172015115260017},null,"ExCOMM",null,null,null,null,null,null,null,1,"SmComWX"]
["Demand Control Ventilation-Retro-Lodging","Demand Control Ventilation-DCV Only-Lodging-ElecHt-Heat-Retro",{"$f":"MMap!#REF!*MMap!M296*$C$7","v":{"$error":"#REF!"}},15,{"$f":"MMap!Q296*MMap!M296*$C$7","v":34.342412570300901},null,"ExCOMM",null,null,null,null,null,null,null,1,"SmComWX"]
["Demand Control Ventilation-Retro-Hospital","Demand Control Ventilation-DCV Only-Hospital-ElecHt-Heat-Retro",{"$f":"MMap!#REF!*MMap!M297*$C$7","v":{"$error":"#REF!"}},15,{"$f":"MMap!Q297*MMap!M297*$C$7","v":23.276292568471867},null,"ExCOMM",null,null,null,null,null,null,null,1,"SmComWX"]
["Demand Control Ventilation-Retro-OtherHealth","Demand Control Ventilation-DCV Only-OtherHealth-ElecHt-Heat-Retro",{"$f":"MMap!#REF!*MMap!M298*$C$7","v":{"$error":"#REF!"}},15,{"$f":"MMap!Q298*MMap!M298*$C$7","v":17.825281313216578},null,"ExCOMM",null,null,null,null,null,null,null,1,"SmComWX"]
["Demand Control Ventilation-Retro-Other","Demand Control Ventilation-DCV Only-Other-ElecHt-Heat-Retro",{"$f":"MMap!#REF!*MMap!M299*$C$7","v":{"$error":"#REF!"}},15,{"$f":"MMap!Q299*MMap!M299*$C$7","v":0},null,"ExCOMM",null,null,null,null,null,null,null,1,"SmComWX"]
["Demand Control Ventilation-Retro-Large Off","Demand Control Ventilation-DCV Only-Large Off-GasHt-Vent-Retro",{"$f":"MMap!#REF!*MMap!M300*$C$7","v":{"$error":"#REF!"}},15,{"$f":"MMap!Q300*MMap!M300*$C$7","v":0},null,"ComEconoMizer",null,null,null,null,null,null,null,1,"SmComWX"]
["Demand Control Ventilation-Retro-Medium Off","Demand Control Ventilation-DCV Only-Medium Off-GasHt-Vent-Retro",{"$f":"MMap!#REF!*MMap!M301*$C$7","v":{"$error":"#REF!"}},15,{"$f":"MMap!Q301*MMap!M301*$C$7","v":0},null,"ComEconoMizer",null,null,null,null,null,null,null,1,"SmComWX"]
["Demand Control Ventilation-Retro-Small Off","Demand Control Ventilation-DCV Only-Small Off-GasHt-Vent-Retro",{"$f":"MMap!#REF!*MMap!M302*$C$7","v":{"$error":"#REF!"}},15,{"$f":"MMap!Q302*MMap!M302*$C$7","v":0},null,"ComEconoMizer",null,null,null,null,null,null,null,1,"SmComWX"]
["Demand Control Ventilation-Retro-Big Box","Demand Control Ventilation-DCV Only-Big Box-GasHt-Vent-Retro",{"$f":"MMap!#REF!*MMap!M303*$C$7","v":{"$error":"#REF!"}},15,{"$f":"MMap!Q303*MMap!M303*$C$7","v":0},null,"ComEconoMizer",null,null,null,null,null,null,null,1,"SmComWX"]
["Demand Control Ventilation-Retro-Small Box","Demand Control Ventilation-DCV Only-Small Box-GasHt-Vent-Retro",{"$f":"MMap!#REF!*MMap!M304*$C$7","v":{"$error":"#REF!"}},15,{"$f":"MMap!Q304*MMap!M304*$C$7","v":0},null,"ComEconoMizer",null,null,null,null,null,null,null,1,"SmComWX"]
["Demand Control Ventilation-Retro-High End","Demand Control Ventilation-DCV Only-High End-GasHt-Vent-Retro",{"$f":"MMap!#REF!*MMap!M305*$C$7","v":{"$error":"#REF!"}},15,{"$f":"MMap!Q305*MMap!M305*$C$7","v":0},null,"ComEconoMizer",null,null,null,null,null,null,null,1,"SmComWX"]
["Demand Control Ventilation-Retro-Anchor","Demand Control Ventilation-DCV Only-Anchor-GasHt-Vent-Retro",{"$f":"MMap!#REF!*MMap!M306*$C$7","v":{"$error":"#REF!"}},15,{"$f":"MMap!Q306*MMap!M306*$C$7","v":0},null,"ComEconoMizer",null,null,null,null,null,null,null,1,"SmComWX"]
["Demand Control Ventilation-Retro-K-12","Demand Control Ventilation-DCV Only-K-12-GasHt-Vent-Retro",{"$f":"MMap!#REF!*MMap!M307*$C$7","v":{"$error":"#REF!"}},15,{"$f":"MMap!Q307*MMap!M307*$C$7","v":0},null,"ComEconoMizer",null,null,null,null,null,null,null,1,"SmComWX"]
["Demand Control Ventilation-Retro-University","Demand Control Ventilation-DCV Only-University-GasHt-Vent-Retro",{"$f":"MMap!#REF!*MMap!M308*$C$7","v":{"$error":"#REF!"}},15,{"$f":"MMap!Q308*MMap!M308*$C$7","v":0},null,"ComEconoMizer",null,null,null,null,null,null,null,1,"SmComWX"]
["Demand Control Ventilation-Retro-Warehouse","Demand Control Ventilation-DCV Only-Warehouse-GasHt-Vent-Retro",{"$f":"MMap!#REF!*MMap!M309*$C$7","v":{"$error":"#REF!"}},15,{"$f":"MMap!Q309*MMap!M309*$C$7","v":0},null,"ComEconoMizer",null,null,null,null,null,null,null,1,"SmComWX"]
["Demand Control Ventilation-Retro-Supermarket","Demand Control Ventilation-DCV Only-Supermarket-GasHt-Vent-Retro",{"$f":"MMap!#REF!*MMap!M310*$C$7","v":{"$error":"#REF!"}},15,{"$f":"MMap!Q310*MMap!M310*$C$7","v":0},null,"ComEconoMizer",null,null,null,null,null,null,null,1,"SmComWX"]
["Demand Control Ventilation-Retro-MIniMart","Demand Control Ventilation-DCV Only-MIniMart-GasHt-Vent-Retro",{"$f":"MMap!#REF!*MMap!M311*$C$7","v":{"$error":"#REF!"}},15,{"$f":"MMap!Q311*MMap!M311*$C$7","v":0},null,"ComEconoMizer",null,null,null,null,null,null,null,1,"SmComWX"]
["Demand Control Ventilation-Retro-Restaurant","Demand Control Ventilation-DCV Only-Restaurant-GasHt-Vent-Retro",{"$f":"MMap!#REF!*MMap!M312*$C$7","v":{"$error":"#REF!"}},15,{"$f":"MMap!Q312*MMap!M312*$C$7","v":0},null,"ComEconoMizer",null,null,null,null,null,null,null,1,"SmComWX"]
["Demand Control Ventilation-Retro-Lodging","Demand Control Ventilation-DCV Only-Lodging-GasHt-Vent-Retro",{"$f":"MMap!#REF!*MMap!M313*$C$7","v":{"$error":"#REF!"}},15,{"$f":"MMap!Q313*MMap!M313*$C$7","v":0},null,"ComEconoMizer",null,null,null,null,null,null,null,1,"SmComWX"]
["Demand Control Ventilation-Retro-Hospital","Demand Control Ventilation-DCV Only-Hospital-GasHt-Vent-Retro",{"$f":"MMap!#REF!*MMap!M314*$C$7","v":{"$error":"#REF!"}},15,{"$f":"MMap!Q314*MMap!M314*$C$7","v":0},null,"ComEconoMizer",null,null,null,null,null,null,null,1,"SmComWX"]
["Demand Control Ventilation-Retro-OtherHealth","Demand Control Ventilation-DCV Only-OtherHealth-GasHt-Vent-Retro",{"$f":"MMap!#REF!*MMap!M315*$C$7","v":{"$error":"#REF!"}},15,{"$f":"MMap!Q315*MMap!M315*$C$7","v":0},null,"ComEconoMizer",null,null,null,null,null,null,null,1,"SmComWX"]
["Demand Control Ventilation-Retro-Other","Demand Control Ventilation-DCV Only-Other-GasHt-Vent-Retro",{"$f":"MMap!#REF!*MMap!M316*$C$7","v":{"$error":"#REF!"}},15,{"$f":"MMap!Q316*MMap!M316*$C$7","v":0},null,"ComEconoMizer",null,null,null,null,null,null,null,1,"SmComWX"]
["Demand Control Ventilation-Retro-Large Off","Demand Control Ventilation-DCV Only-Large Off-HtPmpHt-Vent-Retro",{"$f":"MMap!#REF!*MMap!M317*$C$7","v":{"$error":"#REF!"}},15,{"$f":"MMap!Q317*MMap!M317*$C$7","v":61.666771762584276},null,"ComEconoMizer",null,null,null,null,null,null,null,1,"SmComWX"]
["Demand Control Ventilation-Retro-Medium Off","Demand Control Ventilation-DCV Only-Medium Off-HtPmpHt-Vent-Retro",{"$f":"MMap!#REF!*MMap!M318*$C$7","v":{"$error":"#REF!"}},15,{"$f":"MMap!Q318*MMap!M318*$C$7","v":60.257071420031764},null,"ComEconoMizer",null,null,null,null,null,null,null,1,"SmComWX"]
["Demand Control Ventilation-Retro-Small Off","Demand Control Ventilation-DCV Only-Small Off-HtPmpHt-Vent-Retro",{"$f":"MMap!#REF!*MMap!M319*$C$7","v":{"$error":"#REF!"}},15,{"$f":"MMap!Q319*MMap!M319*$C$7","v":35.804779154175733},null,"ComEconoMizer",null,null,null,null,null,null,null,1,"SmComWX"]
["Demand Control Ventilation-Retro-Big Box","Demand Control Ventilation-DCV Only-Big Box-HtPmpHt-Vent-Retro",{"$f":"MMap!#REF!*MMap!M320*$C$7","v":{"$error":"#REF!"}},15,{"$f":"MMap!Q320*MMap!M320*$C$7","v":32.509550664045136},null,"ComEconoMizer",null,null,null,null,null,null,null,1,"SmComWX"]
["Demand Control Ventilation-Retro-Small Box","Demand Control Ventilation-DCV Only-Small Box-HtPmpHt-Vent-Retro",{"$f":"MMap!#REF!*MMap!M321*$C$7","v":{"$error":"#REF!"}},15,{"$f":"MMap!Q321*MMap!M321*$C$7","v":36.414411211188963},null,"ComEconoMizer",null,null,null,null,null,null,null,1,"SmComWX"]
["Demand Control Ventilation-Retro-High End","Demand Control Ventilation-DCV Only-High End-HtPmpHt-Vent-Retro",{"$f":"MMap!#REF!*MMap!M322*$C$7","v":{"$error":"#REF!"}},15,{"$f":"MMap!Q322*MMap!M322*$C$7","v":61.564638452869644},null,"ComEconoMizer",null,null,null,null,null,null,null,1,"SmComWX"]
["Demand Control Ventilation-Retro-Anchor","Demand Control Ventilation-DCV Only-Anchor-HtPmpHt-Vent-Retro",{"$f":"MMap!#REF!*MMap!M323*$C$7","v":{"$error":"#REF!"}},15,{"$f":"MMap!Q323*MMap!M323*$C$7","v":25.560996269303786},null,"ComEconoMizer",null,null,null,null,null,null,null,1,"SmComWX"]
["Demand Control Ventilation-Retro-K-12","Demand Control Ventilation-DCV Only-K-12-HtPmpHt-Vent-Retro",{"$f":"MMap!#REF!*MMap!M324*$C$7","v":{"$error":"#REF!"}},15,{"$f":"MMap!Q324*MMap!M324*$C$7","v":0},null,"ComEconoMizer",null,null,null,null,null,null,null,1,"SmComWX"]
["Demand Control Ventilation-Retro-University","Demand Control Ventilation-DCV Only-University-HtPmpHt-Vent-Retro",{"$f":"MMap!#REF!*MMap!M325*$C$7","v":{"$error":"#REF!"}},15,{"$f":"MMap!Q325*MMap!M325*$C$7","v":0},null,"ComEconoMizer",null,null,null,null,null,null,null,1,"SmComWX"]
["Demand Control Ventilation-Retro-Warehouse","Demand Control Ventilation-DCV Only-Warehouse-HtPmpHt-Vent-Retro",{"$f":"MMap!#REF!*MMap!M326*$C$7","v":{"$error":"#REF!"}},15,{"$f":"MMap!Q326*MMap!M326*$C$7","v":21.504876680134821},null,"ComEconoMizer",null,null,null,null,null,null,null,1,"SmComWX"]
["Demand Control Ventilation-Retro-Supermarket","Demand Control Ventilation-DCV Only-Supermarket-HtPmpHt-Vent-Retro",{"$f":"MMap!#REF!*MMap!M327*$C$7","v":{"$error":"#REF!"}},15,{"$f":"MMap!Q327*MMap!M327*$C$7","v":15.57245181871653},null,"ComEconoMizer",null,null,null,null,null,null,null,1,"SmComWX"]
["Demand Control Ventilation-Retro-MIniMart","Demand Control Ventilation-DCV Only-MIniMart-HtPmpHt-Vent-Retro",{"$f":"MMap!#REF!*MMap!M328*$C$7","v":{"$error":"#REF!"}},15,{"$f":"MMap!Q328*MMap!M328*$C$7","v":60.995248782503019},null,"ComEconoMizer",null,null,null,null,null,null,null,1,"SmComWX"]
["Demand Control Ventilation-Retro-Restaurant","Demand Control Ventilation-DCV Only-Restaurant-HtPmpHt-Vent-Retro",{"$f":"MMap!#REF!*MMap!M329*$C$7","v":{"$error":"#REF!"}},15,{"$f":"MMap!Q329*MMap!M329*$C$7","v":66.646380856655824},null,"ComEconoMizer",null,null,null,null,null,null,null,1,"SmComWX"]
["Demand Control Ventilation-Retro-Lodging","Demand Control Ventilation-DCV Only-Lodging-HtPmpHt-Vent-Retro",{"$f":"MMap!#REF!*MMap!M330*$C$7","v":{"$error":"#REF!"}},15,{"$f":"MMap!Q330*MMap!M330*$C$7","v":28.256969931769824},null,"ComEconoMizer",null,null,null,null,null,null,null,1,"SmComWX"]
["Demand Control Ventilation-Retro-Hospital","Demand Control Ventilation-DCV Only-Hospital-HtPmpHt-Vent-Retro",{"$f":"MMap!#REF!*MMap!M331*$C$7","v":{"$error":"#REF!"}},15,{"$f":"MMap!Q331*MMap!M331*$C$7","v":103.70816719360828},null,"ComEconoMizer",null,null,null,null,null,null,null,1,"SmComWX"]
["Demand Control Ventilation-Retro-OtherHealth","Demand Control Ventilation-DCV Only-OtherHealth-HtPmpHt-Vent-Retro",{"$f":"MMap!#REF!*MMap!M332*$C$7","v":{"$error":"#REF!"}},15,{"$f":"MMap!Q332*MMap!M332*$C$7","v":40.982312655199081},null,"ComEconoMizer",null,null,null,null,null,null,null,1,"SmComWX"]
["Demand Control Ventilation-Retro-Other","Demand Control Ventilation-DCV Only-Other-HtPmpHt-Vent-Retro",{"$f":"MMap!#REF!*MMap!M333*$C$7","v":{"$error":"#REF!"}},15,{"$f":"MMap!Q333*MMap!M333*$C$7","v":170.22755927639261},null,"ComEconoMizer",null,null,null,null,null,null,null,1,"SmComWX"]
["Demand Control Ventilation-Retro-Large Off","Demand Control Ventilation-DCV Only-Large Off-HtPmpHt-Heat-Retro",{"$f":"MMap!#REF!*MMap!M334*$C$7","v":{"$error":"#REF!"}},15,{"$f":"MMap!Q334*MMap!M334*$C$7","v":76.366375195433363},null,"SmComHP",null,null,null,null,null,null,null,1,"SmComWX"]
["Demand Control Ventilation-Retro-Medium Off","Demand Control Ventilation-DCV Only-Medium Off-HtPmpHt-Heat-Retro",{"$f":"MMap!#REF!*MMap!M335*$C$7","v":{"$error":"#REF!"}},15,{"$f":"MMap!Q335*MMap!M335*$C$7","v":0},null,"SmComHP",null,null,null,null,null,null,null,1,"SmComWX"]
["Demand Control Ventilation-Retro-Small Off","Demand Control Ventilation-DCV Only-Small Off-HtPmpHt-Heat-Retro",{"$f":"MMap!#REF!*MMap!M336*$C$7","v":{"$error":"#REF!"}},15,{"$f":"MMap!Q336*MMap!M336*$C$7","v":30.976459150819956},null,"SmComHP",null,null,null,null,null,null,null,1,"SmComWX"]
["Demand Control Ventilation-Retro-Big Box","Demand Control Ventilation-DCV Only-Big Box-HtPmpHt-Heat-Retro",{"$f":"MMap!#REF!*MMap!M337*$C$7","v":{"$error":"#REF!"}},15,{"$f":"MMap!Q337*MMap!M337*$C$7","v":40.014087824945307},null,"SmComHP",null,null,null,null,null,null,null,1,"SmComWX"]
["Demand Control Ventilation-Retro-Small Box","Demand Control Ventilation-DCV Only-Small Box-HtPmpHt-Heat-Retro",{"$f":"MMap!#REF!*MMap!M338*$C$7","v":{"$error":"#REF!"}},15,{"$f":"MMap!Q338*MMap!M338*$C$7","v":1.0978910168503657},null,"SmComHP",null,null,null,null,null,null,null,1,"SmComWX"]
["Demand Control Ventilation-Retro-High End","Demand Control Ventilation-DCV Only-High End-HtPmpHt-Heat-Retro",{"$f":"MMap!#REF!*MMap!M339*$C$7","v":{"$error":"#REF!"}},15,{"$f":"MMap!Q339*MMap!M339*$C$7","v":0.22902249621888685},null,"SmComHP",null,null,null,null,null,null,null,1,"SmComWX"]
["Demand Control Ventilation-Retro-Anchor","Demand Control Ventilation-DCV Only-Anchor-HtPmpHt-Heat-Retro",{"$f":"MMap!#REF!*MMap!M340*$C$7","v":{"$error":"#REF!"}},15,{"$f":"MMap!Q340*MMap!M340*$C$7","v":5.3280375557248494},null,"SmComHP",null,null,null,null,null,null,null,1,"SmComWX"]
["Demand Control Ventilation-Retro-K-12","Demand Control Ventilation-DCV Only-K-12-HtPmpHt-Heat-Retro",{"$f":"MMap!#REF!*MMap!M341*$C$7","v":{"$error":"#REF!"}},15,{"$f":"MMap!Q341*MMap!M341*$C$7","v":7.1899053468059479},null,"SmComHP",null,null,null,null,null,null,null,1,"SmComWX"]
["Demand Control Ventilation-Retro-University","Demand Control Ventilation-DCV Only-University-HtPmpHt-Heat-Retro",{"$f":"MMap!#REF!*MMap!M342*$C$7","v":{"$error":"#REF!"}},15,{"$f":"MMap!Q342*MMap!M342*$C$7","v":0},null,"SmComHP",null,null,null,null,null,null,null,1,"SmComWX"]
["Demand Control Ventilation-Retro-Warehouse","Demand Control Ventilation-DCV Only-Warehouse-HtPmpHt-Heat-Retro",{"$f":"MMap!#REF!*MMap!M343*$C$7","v":{"$error":"#REF!"}},15,{"$f":"MMap!Q343*MMap!M343*$C$7","v":0},null,"SmComHP",null,null,null,null,null,null,null,1,"SmComWX"]
["Demand Control Ventilation-Retro-Supermarket","Demand Control Ventilation-DCV Only-Supermarket-HtPmpHt-Heat-Retro",{"$f":"MMap!#REF!*MMap!M344*$C$7","v":{"$error":"#REF!"}},15,{"$f":"MMap!Q344*MMap!M344*$C$7","v":0.14387214433766035},null,"SmComHP",null,null,null,null,null,null,null,1,"SmComWX"]
["Demand Control Ventilation-Retro-MIniMart","Demand Control Ventilation-DCV Only-MIniMart-HtPmpHt-Heat-Retro",{"$f":"MMap!#REF!*MMap!M345*$C$7","v":{"$error":"#REF!"}},15,{"$f":"MMap!Q345*MMap!M345*$C$7","v":2.0676374139521294},null,"SmComHP",null,null,null,null,null,null,null,1,"SmComWX"]
["Demand Control Ventilation-Retro-Restaurant","Demand Control Ventilation-DCV Only-Restaurant-HtPmpHt-Heat-Retro",{"$f":"MMap!#REF!*MMap!M346*$C$7","v":{"$error":"#REF!"}},15,{"$f":"MMap!Q346*MMap!M346*$C$7","v":1.1087843767748338},null,"SmComHP",null,null,null,null,null,null,null,1,"SmComWX"]
["Demand Control Ventilation-Retro-Lodging","Demand Control Ventilation-DCV Only-Lodging-HtPmpHt-Heat-Retro",{"$f":"MMap!#REF!*MMap!M347*$C$7","v":{"$error":"#REF!"}},15,{"$f":"MMap!Q347*MMap!M347*$C$7","v":14.804369436006805},null,"SmComHP",null,null,null,null,null,null,null,1,"SmComWX"]
["Demand Control Ventilation-Retro-Hospital","Demand Control Ventilation-DCV Only-Hospital-HtPmpHt-Heat-Retro",{"$f":"MMap!#REF!*MMap!M348*$C$7","v":{"$error":"#REF!"}},15,{"$f":"MMap!Q348*MMap!M348*$C$7","v":34.417008719361846},null,"SmComHP",null,null,null,null,null,null,null,1,"SmComWX"]
["Demand Control Ventilation-Retro-OtherHealth","Demand Control Ventilation-DCV Only-OtherHealth-HtPmpHt-Heat-Retro",{"$f":"MMap!#REF!*MMap!M349*$C$7","v":{"$error":"#REF!"}},15,{"$f":"MMap!Q349*MMap!M349*$C$7","v":1.1396501889407502},null,"SmComHP",null,null,null,null,null,null,null,1,"SmComWX"]
["Demand Control Ventilation-Retro-Other","Demand Control Ventilation-DCV Only-Other-HtPmpHt-Heat-Retro",{"$f":"MMap!#REF!*MMap!M350*$C$7","v":{"$error":"#REF!"}},15,{"$f":"MMap!Q350*MMap!M350*$C$7","v":25.724897203622934},null,"SmComHP",null,null,null,null,null,null,null,1,"SmComWX"]
["Demand Control Ventilation-Retro-Large Off","Demand Control Ventilation-DOAS-Large Off-ElecHt-Vent-Retro",{"$f":"MMap!#REF!*MMap!M351*$C$7","v":{"$error":"#REF!"}},15,{"$f":"MMap!Q351*MMap!M351*$C$7","v":25.254364518996283},null,"SmComCAC",null,null,null,null,null,null,null,1,"SmComWX"]
["Demand Control Ventilation-Retro-Medium Off","Demand Control Ventilation-DOAS-Medium Off-ElecHt-Vent-Retro",{"$f":"MMap!#REF!*MMap!M352*$C$7","v":{"$error":"#REF!"}},15,{"$f":"MMap!Q352*MMap!M352*$C$7","v":11.037345803409295},null,"SmComCAC",null,null,null,null,null,null,null,1,"SmComWX"]
["Demand Control Ventilation-Retro-Small Off","Demand Control Ventilation-DOAS-Small Off-ElecHt-Vent-Retro",{"$f":"MMap!#REF!*MMap!M371*$C$7","v":{"$error":"#REF!"}},15,{"$f":"MMap!Q371*MMap!M371*$C$7","v":0},null,"SmComCAC",null,null,null,null,null,null,null,1,"SmComWX"]
["Demand Control Ventilation-Retro-Big Box","Demand Control Ventilation-DOAS-Big Box-ElecHt-Vent-Retro",{"$f":"MMap!#REF!*MMap!M372*$C$7","v":{"$error":"#REF!"}},15,{"$f":"MMap!Q372*MMap!M372*$C$7","v":0},null,"SmComCAC",null,null,null,null,null,null,null,1,"SmComWX"]
["Demand Control Ventilation-Retro-Small Box","Demand Control Ventilation-DOAS-Small Box-ElecHt-Vent-Retro",{"$f":"MMap!#REF!*MMap!M373*$C$7","v":{"$error":"#REF!"}},15,{"$f":"MMap!Q373*MMap!M373*$C$7","v":0},null,"SmComCAC",null,null,null,null,null,null,null,1,"SmComWX"]
["Demand Control Ventilation-Retro-High End","Demand Control Ventilation-DOAS-High End-ElecHt-Vent-Retro",{"$f":"MMap!#REF!*MMap!M374*$C$7","v":{"$error":"#REF!"}},15,{"$f":"MMap!Q374*MMap!M374*$C$7","v":0},null,"SmComCAC",null,null,null,null,null,null,null,1,"SmComWX"]
["Demand Control Ventilation-Retro-Anchor","Demand Control Ventilation-DOAS-Anchor-ElecHt-Vent-Retro",{"$f":"MMap!#REF!*MMap!M375*$C$7","v":{"$error":"#REF!"}},15,{"$f":"MMap!Q375*MMap!M375*$C$7","v":0},null,"SmComCAC",null,null,null,null,null,null,null,1,"SmComWX"]
["Demand Control Ventilation-Retro-K-12","Demand Control Ventilation-DOAS-K-12-ElecHt-Vent-Retro",{"$f":"MMap!#REF!*MMap!M376*$C$7","v":{"$error":"#REF!"}},15,{"$f":"MMap!Q376*MMap!M376*$C$7","v":0},null,"SmComCAC",null,null,null,null,null,null,null,1,"SmComWX"]
["Demand Control Ventilation-Retro-University","Demand Control Ventilation-DOAS-University-ElecHt-Vent-Retro",{"$f":"MMap!#REF!*MMap!M377*$C$7","v":{"$error":"#REF!"}},15,{"$f":"MMap!Q377*MMap!M377*$C$7","v":0},null,"SmComCAC",null,null,null,null,null,null,null,1,"SmComWX"]
["Demand Control Ventilation-Retro-Warehouse","Demand Control Ventilation-DOAS-Warehouse-ElecHt-Vent-Retro",{"$f":"MMap!#REF!*MMap!M378*$C$7","v":{"$error":"#REF!"}},15,{"$f":"MMap!Q378*MMap!M378*$C$7","v":0},null,"SmComCAC",null,null,null,null,null,null,null,1,"SmComWX"]
["Demand Control Ventilation-Retro-Supermarket","Demand Control Ventilation-DOAS-Supermarket-ElecHt-Vent-Retro",{"$f":"MMap!#REF!*MMap!M379*$C$7","v":{"$error":"#REF!"}},15,{"$f":"MMap!Q379*MMap!M379*$C$7","v":0},null,"SmComCAC",null,null,null,null,null,null,null,1,"SmComWX"]
["Demand Control Ventilation-Retro-MIniMart","Demand Control Ventilation-DOAS-MIniMart-ElecHt-Vent-Retro",{"$f":"MMap!#REF!*MMap!M380*$C$7","v":{"$error":"#REF!"}},15,{"$f":"MMap!Q380*MMap!M380*$C$7","v":0},null,"SmComCAC",null,null,null,null,null,null,null,1,"SmComWX"]
["Demand Control Ventilation-Retro-Restaurant","Demand Control Ventilation-DOAS-Restaurant-ElecHt-Vent-Retro",{"$f":"MMap!#REF!*MMap!M381*$C$7","v":{"$error":"#REF!"}},15,{"$f":"MMap!Q381*MMap!M381*$C$7","v":0},null,"SmComCAC",null,null,null,null,null,null,null,1,"SmComWX"]
["Demand Control Ventilation-Retro-Lodging","Demand Control Ventilation-DOAS-Lodging-ElecHt-Vent-Retro",{"$f":"MMap!#REF!*MMap!M382*$C$7","v":{"$error":"#REF!"}},15,{"$f":"MMap!Q382*MMap!M382*$C$7","v":0},null,"SmComCAC",null,null,null,null,null,null,null,1,"SmComWX"]
["Demand Control Ventilation-Retro-Hospital","Demand Control Ventilation-DOAS-Hospital-ElecHt-Vent-Retro",{"$f":"MMap!#REF!*MMap!M383*$C$7","v":{"$error":"#REF!"}},15,{"$f":"MMap!Q383*MMap!M383*$C$7","v":0},null,"SmComCAC",null,null,null,null,null,null,null,1,"SmComWX"]
["Demand Control Ventilation-Retro-OtherHealth","Demand Control Ventilation-DOAS-OtherHealth-ElecHt-Vent-Retro",{"$f":"MMap!#REF!*MMap!M384*$C$7","v":{"$error":"#REF!"}},15,{"$f":"MMap!Q384*MMap!M384*$C$7","v":0},null,"SmComCAC",null,null,null,null,null,null,null,1,"SmComWX"]
["Demand Control Ventilation-Retro-Other","Demand Control Ventilation-DOAS-Other-ElecHt-Vent-Retro",{"$f":"MMap!#REF!*MMap!M385*$C$7","v":{"$error":"#REF!"}},15,{"$f":"MMap!Q385*MMap!M385*$C$7","v":0},null,"SmComCAC",null,null,null,null,null,null,null,1,"SmComWX"]
["Demand Control Ventilation-Retro-Large Off","Demand Control Ventilation-DOAS-Large Off-ElecHt-Heat-Retro",{"$f":"MMap!#REF!*MMap!M386*$C$7","v":{"$error":"#REF!"}},15,{"$f":"MMap!Q386*MMap!M386*$C$7","v":0},null,"ExCOMM",null,null,null,null,null,null,null,1,"SmComWX"]
["Demand Control Ventilation-Retro-Medium Off","Demand Control Ventilation-DOAS-Medium Off-ElecHt-Heat-Retro",{"$f":"MMap!#REF!*MMap!M387*$C$7","v":{"$error":"#REF!"}},15,{"$f":"MMap!Q387*MMap!M387*$C$7","v":0},null,"ExCOMM",null,null,null,null,null,null,null,1,"SmComWX"]
["Demand Control Ventilation-Retro-Small Off","Demand Control Ventilation-DOAS-Small Off-ElecHt-Heat-Retro",{"$f":"MMap!#REF!*MMap!M388*$C$7","v":{"$error":"#REF!"}},15,{"$f":"MMap!Q388*MMap!M388*$C$7","v":0},null,"ExCOMM",null,null,null,null,null,null,null,1,"SmComWX"]
["Demand Control Ventilation-Retro-Big Box","Demand Control Ventilation-DOAS-Big Box-ElecHt-Heat-Retro",{"$f":"MMap!#REF!*MMap!M389*$C$7","v":{"$error":"#REF!"}},15,{"$f":"MMap!Q389*MMap!M389*$C$7","v":0},null,"ExCOMM",null,null,null,null,null,null,null,1,"SmComWX"]
["Demand Control Ventilation-Retro-Small Box","Demand Control Ventilation-DOAS-Small Box-ElecHt-Heat-Retro",{"$f":"MMap!#REF!*MMap!M390*$C$7","v":{"$error":"#REF!"}},15,{"$f":"MMap!Q390*MMap!M390*$C$7","v":0},null,"ExCOMM",null,null,null,null,null,null,null,1,"SmComWX"]
["Demand Control Ventilation-Retro-High End","Demand Control Ventilation-DOAS-High End-ElecHt-Heat-Retro",{"$f":"MMap!#REF!*MMap!M391*$C$7","v":{"$error":"#REF!"}},15,{"$f":"MMap!Q391*MMap!M391*$C$7","v":0},null,"ExCOMM",null,null,null,null,null,null,null,1,"SmComWX"]
["Demand Control Ventilation-Retro-Anchor","Demand Control Ventilation-DOAS-Anchor-ElecHt-Heat-Retro",{"$f":"MMap!#REF!*MMap!M392*$C$7","v":{"$error":"#REF!"}},15,{"$f":"MMap!Q392*MMap!M392*$C$7","v":26.21675262599026},null,"ExCOMM",null,null,null,null,null,null,null,1,"SmComWX"]
["Demand Control Ventilation-Retro-K-12","Demand Control Ventilation-DOAS-K-12-ElecHt-Heat-Retro",{"$f":"MMap!#REF!*MMap!M393*$C$7","v":{"$error":"#REF!"}},15,{"$f":"MMap!Q393*MMap!M393*$C$7","v":3.5157038314526661},null,"ExCOMM",null,null,null,null,null,null,null,1,"SmComWX"]
["Demand Control Ventilation-Retro-University","Demand Control Ventilation-DOAS-University-ElecHt-Heat-Retro",{"$f":"MMap!#REF!*MMap!M394*$C$7","v":{"$error":"#REF!"}},15,{"$f":"MMap!Q394*MMap!M394*$C$7","v":23.368636404150756},null,"ExCOMM",null,null,null,null,null,null,null,1,"SmComWX"]
["Demand Control Ventilation-Retro-Warehouse","Demand Control Ventilation-DOAS-Warehouse-ElecHt-Heat-Retro",{"$f":"MMap!#REF!*MMap!M395*$C$7","v":{"$error":"#REF!"}},15,{"$f":"MMap!Q395*MMap!M395*$C$7","v":31.534740900847439},null,"ExCOMM",null,null,null,null,null,null,null,1,"SmComWX"]
["Demand Control Ventilation-Retro-Supermarket","Demand Control Ventilation-DOAS-Supermarket-ElecHt-Heat-Retro",{"$f":"MMap!#REF!*MMap!M396*$C$7","v":{"$error":"#REF!"}},15,{"$f":"MMap!Q396*MMap!M396*$C$7","v":0},null,"ExCOMM",null,null,null,null,null,null,null,1,"SmComWX"]
["Demand Control Ventilation-Retro-MIniMart","Demand Control Ventilation-DOAS-MIniMart-ElecHt-Heat-Retro",{"$f":"MMap!#REF!*MMap!M397*$C$7","v":{"$error":"#REF!"}},15,{"$f":"MMap!Q397*MMap!M397*$C$7","v":0},null,"ExCOMM",null,null,null,null,null,null,null,1,"SmComWX"]
["Demand Control Ventilation-Retro-Restaurant","Demand Control Ventilation-DOAS-Restaurant-ElecHt-Heat-Retro",{"$f":"MMap!#REF!*MMap!M398*$C$7","v":{"$error":"#REF!"}},15,{"$f":"MMap!Q398*MMap!M398*$C$7","v":0},null,"ExCOMM",null,null,null,null,null,null,null,1,"SmComWX"]
["Demand Control Ventilation-Retro-Lodging","Demand Control Ventilation-DOAS-Lodging-ElecHt-Heat-Retro",{"$f":"MMap!#REF!*MMap!M399*$C$7","v":{"$error":"#REF!"}},15,{"$f":"MMap!Q399*MMap!M399*$C$7","v":18.113471366249421},null,"ExCOMM",null,null,null,null,null,null,null,1,"SmComWX"]
["Demand Control Ventilation-Retro-Hospital","Demand Control Ventilation-DOAS-Hospital-ElecHt-Heat-Retro",{"$f":"MMap!#REF!*MMap!M400*$C$7","v":{"$error":"#REF!"}},15,{"$f":"MMap!Q400*MMap!M400*$C$7","v":1.7841067408014759},null,"ExCOMM",null,null,null,null,null,null,null,1,"SmComWX"]
["Demand Control Ventilation-Retro-OtherHealth","Demand Control Ventilation-DOAS-OtherHealth-ElecHt-Heat-Retro",{"$f":"MMap!#REF!*MMap!M401*$C$7","v":{"$error":"#REF!"}},15,{"$f":"MMap!Q401*MMap!M401*$C$7","v":6.4609758655016671},null,"ExCOMM",null,null,null,null,null,null,null,1,"SmComWX"]
["Demand Control Ventilation-Retro-Other","Demand Control Ventilation-DOAS-Other-ElecHt-Heat-Retro",{"$f":"MMap!#REF!*MMap!M402*$C$7","v":{"$error":"#REF!"}},15,{"$f":"MMap!Q402*MMap!M402*$C$7","v":0},null,"ExCOMM",null,null,null,null,null,null,null,1,"SmComWX"]
["Demand Control Ventilation-Retro-Large Off","Demand Control Ventilation-DOAS-Large Off-GasHt-Vent-Retro",{"$f":"MMap!#REF!*MMap!M403*$C$7","v":{"$error":"#REF!"}},15,{"$f":"MMap!Q403*MMap!M403*$C$7","v":0},null,"SmComCAC",null,null,null,null,null,null,null,1,"SmComWX"]
["Demand Control Ventilation-Retro-Medium Off","Demand Control Ventilation-DOAS-Medium Off-GasHt-Vent-Retro",{"$f":"MMap!#REF!*MMap!M404*$C$7","v":{"$error":"#REF!"}},15,{"$f":"MMap!Q404*MMap!M404*$C$7","v":0},null,"SmComCAC",null,null,null,null,null,null,null,1,"SmComWX"]
["Demand Control Ventilation-Retro-Small Off","Demand Control Ventilation-DOAS-Small Off-GasHt-Vent-Retro",{"$f":"MMap!#REF!*MMap!M405*$C$7","v":{"$error":"#REF!"}},15,{"$f":"MMap!Q405*MMap!M405*$C$7","v":0},null,"SmComCAC",null,null,null,null,null,null,null,1,"SmComWX"]
["Demand Control Ventilation-Retro-Big Box","Demand Control Ventilation-DOAS-Big Box-GasHt-Vent-Retro",{"$f":"MMap!#REF!*MMap!M406*$C$7","v":{"$error":"#REF!"}},15,{"$f":"MMap!Q406*MMap!M406*$C$7","v":0},null,"SmComCAC",null,null,null,null,null,null,null,1,"SmComWX"]
["Demand Control Ventilation-Retro-Small Box","Demand Control Ventilation-DOAS-Small Box-GasHt-Vent-Retro",{"$f":"MMap!#REF!*MMap!M407*$C$7","v":{"$error":"#REF!"}},15,{"$f":"MMap!Q407*MMap!M407*$C$7","v":0},null,"SmComCAC",null,null,null,null,null,null,null,1,"SmComWX"]
["Demand Control Ventilation-Retro-High End","Demand Control Ventilation-DOAS-High End-GasHt-Vent-Retro",{"$f":"MMap!#REF!*MMap!M408*$C$7","v":{"$error":"#REF!"}},15,{"$f":"MMap!Q408*MMap!M408*$C$7","v":0},null,"SmComCAC",null,null,null,null,null,null,null,1,"SmComWX"]
["Demand Control Ventilation-Retro-Anchor","Demand Control Ventilation-DOAS-Anchor-GasHt-Vent-Retro",{"$f":"MMap!#REF!*MMap!M409*$C$7","v":{"$error":"#REF!"}},15,{"$f":"MMap!Q409*MMap!M409*$C$7","v":0},null,"SmComCAC",null,null,null,null,null,null,null,1,"SmComWX"]
["Demand Control Ventilation-Retro-K-12","Demand Control Ventilation-DOAS-K-12-GasHt-Vent-Retro",{"$f":"MMap!#REF!*MMap!M410*$C$7","v":{"$error":"#REF!"}},15,{"$f":"MMap!Q410*MMap!M410*$C$7","v":0},null,"SmComCAC",null,null,null,null,null,null,null,1,"SmComWX"]
["Demand Control Ventilation-Retro-University","Demand Control Ventilation-DOAS-University-GasHt-Vent-Retro",{"$f":"MMap!#REF!*MMap!M411*$C$7","v":{"$error":"#REF!"}},15,{"$f":"MMap!Q411*MMap!M411*$C$7","v":0},null,"SmComCAC",null,null,null,null,null,null,null,1,"SmComWX"]
["Demand Control Ventilation-Retro-Warehouse","Demand Control Ventilation-DOAS-Warehouse-GasHt-Vent-Retro",{"$f":"MMap!#REF!*MMap!M412*$C$7","v":{"$error":"#REF!"}},15,{"$f":"MMap!Q412*MMap!M412*$C$7","v":0},null,"SmComCAC",null,null,null,null,null,null,null,1,"SmComWX"]
["Demand Control Ventilation-Retro-Supermarket","Demand Control Ventilation-DOAS-Supermarket-GasHt-Vent-Retro",{"$f":"MMap!#REF!*MMap!M413*$C$7","v":{"$error":"#REF!"}},15,{"$f":"MMap!Q413*MMap!M413*$C$7","v":0},null,"SmComCAC",null,null,null,null,null,null,null,1,"SmComWX"]
["Demand Control Ventilation-Retro-MIniMart","Demand Control Ventilation-DOAS-MIniMart-GasHt-Vent-Retro",{"$f":"MMap!#REF!*MMap!M414*$C$7","v":{"$error":"#REF!"}},15,{"$f":"MMap!Q414*MMap!M414*$C$7","v":0},null,"SmComCAC",null,null,null,null,null,null,null,1,"SmComWX"]
["Demand Control Ventilation-Retro-Restaurant","Demand Control Ventilation-DOAS-Restaurant-GasHt-Vent-Retro",{"$f":"MMap!#REF!*MMap!M415*$C$7","v":{"$error":"#REF!"}},15,{"$f":"MMap!Q415*MMap!M415*$C$7","v":0},null,"SmComCAC",null,null,null,null,null,null,null,1,"SmComWX"]
["Demand Control Ventilation-Retro-Lodging","Demand Control Ventilation-DOAS-Lodging-GasHt-Vent-Retro",{"$f":"MMap!#REF!*MMap!M416*$C$7","v":{"$error":"#REF!"}},15,{"$f":"MMap!Q416*MMap!M416*$C$7","v":0},null,"SmComCAC",null,null,null,null,null,null,null,1,"SmComWX"]
["Demand Control Ventilation-Retro-Hospital","Demand Control Ventilation-DOAS-Hospital-GasHt-Vent-Retro",{"$f":"MMap!#REF!*MMap!M417*$C$7","v":{"$error":"#REF!"}},15,{"$f":"MMap!Q417*MMap!M417*$C$7","v":0},null,"SmComCAC",null,null,null,null,null,null,null,1,"SmComWX"]
["Demand Control Ventilation-Retro-OtherHealth","Demand Control Ventilation-DOAS-OtherHealth-GasHt-Vent-Retro",{"$f":"MMap!#REF!*MMap!M418*$C$7","v":{"$error":"#REF!"}},15,{"$f":"MMap!Q418*MMap!M418*$C$7","v":0},null,"SmComCAC",null,null,null,null,null,null,null,1,"SmComWX"]
["Demand Control Ventilation-Retro-Other","Demand Control Ventilation-DOAS-Other-GasHt-Vent-Retro",{"$f":"MMap!#REF!*MMap!M419*$C$7","v":{"$error":"#REF!"}},15,{"$f":"MMap!Q419*MMap!M419*$C$7","v":0},null,"SmComCAC",null,null,null,null,null,null,null,1,"SmComWX"]
["Demand Control Ventilation-Retro-Large Off","Demand Control Ventilation-DOAS-Large Off-HtPmpHt-Vent-Retro",{"$f":"MMap!#REF!*MMap!M420*$C$7","v":{"$error":"#REF!"}},15,{"$f":"MMap!Q420*MMap!M420*$C$7","v":0},null,"SmComHP",null,null,null,null,null,null,null,1,"SmComWX"]
["Demand Control Ventilation-Retro-Medium Off","Demand Control Ventilation-DOAS-Medium Off-HtPmpHt-Vent-Retro",{"$f":"MMap!#REF!*MMap!M421*$C$7","v":{"$error":"#REF!"}},15,{"$f":"MMap!Q421*MMap!M421*$C$7","v":0},null,"SmComHP",null,null,null,null,null,null,null,1,"SmComWX"]
["Demand Control Ventilation-Retro-Small Off","Demand Control Ventilation-DOAS-Small Off-HtPmpHt-Vent-Retro",{"$f":"MMap!#REF!*MMap!M422*$C$7","v":{"$error":"#REF!"}},15,{"$f":"MMap!Q422*MMap!M422*$C$7","v":0},null,"SmComHP",null,null,null,null,null,null,null,1,"SmComWX"]
["Demand Control Ventilation-Retro-Big Box","Demand Control Ventilation-DOAS-Big Box-HtPmpHt-Vent-Retro",{"$f":"MMap!#REF!*MMap!M423*$C$7","v":{"$error":"#REF!"}},15,{"$f":"MMap!Q423*MMap!M423*$C$7","v":0},null,"SmComHP",null,null,null,null,null,null,null,1,"SmComWX"]
["Demand Control Ventilation-Retro-Small Box","Demand Control Ventilation-DOAS-Small Box-HtPmpHt-Vent-Retro",{"$f":"MMap!#REF!*MMap!M424*$C$7","v":{"$error":"#REF!"}},15,{"$f":"MMap!Q424*MMap!M424*$C$7","v":0},null,"SmComHP",null,null,null,null,null,null,null,1,"SmComWX"]
["Demand Control Ventilation-Retro-High End","Demand Control Ventilation-DOAS-High End-HtPmpHt-Vent-Retro",{"$f":"MMap!#REF!*MMap!M425*$C$7","v":{"$error":"#REF!"}},15,{"$f":"MMap!Q425*MMap!M425*$C$7","v":0},null,"SmComHP",null,null,null,null,null,null,null,1,"SmComWX"]
["Demand Control Ventilation-Retro-Anchor","Demand Control Ventilation-DOAS-Anchor-HtPmpHt-Vent-Retro",{"$f":"MMap!#REF!*MMap!M426*$C$7","v":{"$error":"#REF!"}},15,{"$f":"MMap!Q426*MMap!M426*$C$7","v":0},null,"SmComHP",null,null,null,null,null,null,null,1,"SmComWX"]
["Demand Control Ventilation-Retro-K-12","Demand Control Ventilation-DOAS-K-12-HtPmpHt-Vent-Retro",{"$f":"MMap!#REF!*MMap!M427*$C$7","v":{"$error":"#REF!"}},15,{"$f":"MMap!Q427*MMap!M427*$C$7","v":0},null,"SmComHP",null,null,null,null,null,null,null,1,"SmComWX"]
["Demand Control Ventilation-Retro-University","Demand Control Ventilation-DOAS-University-HtPmpHt-Vent-Retro",{"$f":"MMap!#REF!*MMap!M428*$C$7","v":{"$error":"#REF!"}},15,{"$f":"MMap!Q428*MMap!M428*$C$7","v":453.17313331812323},null,"SmComHP",null,null,null,null,null,null,null,1,"SmComWX"]
["Demand Control Ventilation-Retro-Warehouse","Demand Control Ventilation-DOAS-Warehouse-HtPmpHt-Vent-Retro",{"$f":"MMap!#REF!*MMap!M429*$C$7","v":{"$error":"#REF!"}},15,{"$f":"MMap!Q429*MMap!M429*$C$7","v":326.31794218912842},null,"SmComHP",null,null,null,null,null,null,null,1,"SmComWX"]
["Demand Control Ventilation-Retro-Supermarket","Demand Control Ventilation-DOAS-Supermarket-HtPmpHt-Vent-Retro",{"$f":"MMap!#REF!*MMap!M430*$C$7","v":{"$error":"#REF!"}},15,{"$f":"MMap!Q430*MMap!M430*$C$7","v":157.6271235429781},null,"SmComHP",null,null,null,null,null,null,null,1,"SmComWX"]
["Demand Control Ventilation-Retro-MIniMart","Demand Control Ventilation-DOAS-MIniMart-HtPmpHt-Vent-Retro",{"$f":"MMap!#REF!*MMap!M431*$C$7","v":{"$error":"#REF!"}},15,{"$f":"MMap!Q431*MMap!M431*$C$7","v":65.445138931622296},null,"SmComHP",null,null,null,null,null,null,null,1,"SmComWX"]
["Demand Control Ventilation-Retro-Restaurant","Demand Control Ventilation-DOAS-Restaurant-HtPmpHt-Vent-Retro",{"$f":"MMap!#REF!*MMap!M432*$C$7","v":{"$error":"#REF!"}},15,{"$f":"MMap!Q432*MMap!M432*$C$7","v":0},null,"SmComHP",null,null,null,null,null,null,null,1,"SmComWX"]
["Demand Control Ventilation-Retro-Lodging","Demand Control Ventilation-DOAS-Lodging-HtPmpHt-Vent-Retro",{"$f":"MMap!#REF!*MMap!M433*$C$7","v":{"$error":"#REF!"}},15,{"$f":"MMap!Q433*MMap!M433*$C$7","v":0},null,"SmComHP",null,null,null,null,null,null,null,1,"SmComWX"]
["Demand Control Ventilation-Retro-Hospital","Demand Control Ventilation-DOAS-Hospital-HtPmpHt-Vent-Retro",{"$f":"MMap!#REF!*MMap!M434*$C$7","v":{"$error":"#REF!"}},15,{"$f":"MMap!Q434*MMap!M434*$C$7","v":0},null,"SmComHP",null,null,null,null,null,null,null,1,"SmComWX"]
["Demand Control Ventilation-Retro-OtherHealth","Demand Control Ventilation-DOAS-OtherHealth-HtPmpHt-Vent-Retro",{"$f":"MMap!#REF!*MMap!M435*$C$7","v":{"$error":"#REF!"}},15,{"$f":"MMap!Q435*MMap!M435*$C$7","v":217.07518682927179},null,"SmComHP",null,null,null,null,null,null,null,1,"SmComWX"]
["Demand Control Ventilation-Retro-Other","Demand Control Ventilation-DOAS-Other-HtPmpHt-Vent-Retro",{"$f":"MMap!#REF!*MMap!M436*$C$7","v":{"$error":"#REF!"}},15,{"$f":"MMap!Q436*MMap!M436*$C$7","v":156.16928576190045},null,"SmComHP",null,null,null,null,null,null,null,1,"SmComWX"]
["Demand Control Ventilation-Retro-Large Off","Demand Control Ventilation-DOAS-Large Off-HtPmpHt-Heat-Retro",{"$f":"MMap!#REF!*MMap!M437*$C$7","v":{"$error":"#REF!"}},15,{"$f":"MMap!Q437*MMap!M437*$C$7","v":170.63817108301046},null,"SmComHP",null,null,null,null,null,null,null,1,"SmComWX"]
["Demand Control Ventilation-Retro-Medium Off","Demand Control Ventilation-DOAS-Medium Off-HtPmpHt-Heat-Retro",{"$f":"MMap!#REF!*MMap!M438*$C$7","v":{"$error":"#REF!"}},15,{"$f":"MMap!Q438*MMap!M438*$C$7","v":0},null,"SmComHP",null,null,null,null,null,null,null,1,"SmComWX"]
["Demand Control Ventilation-Retro-Small Off","Demand Control Ventilation-DOAS-Small Off-HtPmpHt-Heat-Retro",{"$f":"MMap!#REF!*MMap!M439*$C$7","v":{"$error":"#REF!"}},15,{"$f":"MMap!Q439*MMap!M439*$C$7","v":0},null,"SmComHP",null,null,null,null,null,null,null,1,"SmComWX"]
["Demand Control Ventilation-Retro-Big Box","Demand Control Ventilation-DOAS-Big Box-HtPmpHt-Heat-Retro",{"$f":"MMap!#REF!*MMap!M440*$C$7","v":{"$error":"#REF!"}},15,{"$f":"MMap!Q440*MMap!M440*$C$7","v":0},null,"SmComHP",null,null,null,null,null,null,null,1,"SmComWX"]
["Demand Control Ventilation-Retro-Small Box","Demand Control Ventilation-DOAS-Small Box-HtPmpHt-Heat-Retro",{"$f":"MMap!#REF!*MMap!M441*$C$7","v":{"$error":"#REF!"}},15,{"$f":"MMap!Q441*MMap!M441*$C$7","v":0},null,"SmComHP",null,null,null,null,null,null,null,1,"SmComWX"]
["Demand Control Ventilation-Retro-High End","Demand Control Ventilation-DOAS-High End-HtPmpHt-Heat-Retro",{"$f":"MMap!#REF!*MMap!M442*$C$7","v":{"$error":"#REF!"}},15,{"$f":"MMap!Q442*MMap!M442*$C$7","v":0},null,"SmComHP",null,null,null,null,null,null,null,1,"SmComWX"]
["Demand Control Ventilation-Retro-Anchor","Demand Control Ventilation-DOAS-Anchor-HtPmpHt-Heat-Retro",{"$f":"MMap!#REF!*MMap!M443*$C$7","v":{"$error":"#REF!"}},15,{"$f":"MMap!Q443*MMap!M443*$C$7","v":0},null,"SmComHP",null,null,null,null,null,null,null,1,"SmComWX"]
["Demand Control Ventilation-Retro-K-12","Demand Control Ventilation-DOAS-K-12-HtPmpHt-Heat-Retro",{"$f":"MMap!#REF!*MMap!M444*$C$7","v":{"$error":"#REF!"}},15,{"$f":"MMap!Q444*MMap!M444*$C$7","v":0},null,"SmComHP",null,null,null,null,null,null,null,1,"SmComWX"]
["Demand Control Ventilation-Retro-University","Demand Control Ventilation-DOAS-University-HtPmpHt-Heat-Retro",{"$f":"MMap!#REF!*MMap!M445*$C$7","v":{"$error":"#REF!"}},15,{"$f":"MMap!Q445*MMap!M445*$C$7","v":0},null,"SmComHP",null,null,null,null,null,null,null,1,"SmComWX"]
["Demand Control Ventilation-Retro-Warehouse","Demand Control Ventilation-DOAS-Warehouse-HtPmpHt-Heat-Retro",{"$f":"MMap!#REF!*MMap!M446*$C$7","v":{"$error":"#REF!"}},15,{"$f":"MMap!Q446*MMap!M446*$C$7","v":15.304262962273526},null,"SmComHP",null,null,null,null,null,null,null,1,"SmComWX"]
["Demand Control Ventilation-Retro-Supermarket","Demand Control Ventilation-DOAS-Supermarket-HtPmpHt-Heat-Retro",{"$f":"MMap!#REF!*MMap!M447*$C$7","v":{"$error":"#REF!"}},15,{"$f":"MMap!Q447*MMap!M447*$C$7","v":2.0523234399627261},null,"SmComHP",null,null,null,null,null,null,null,1,"SmComWX"]
["Demand Control Ventilation-Retro-MIniMart","Demand Control Ventilation-DOAS-MIniMart-HtPmpHt-Heat-Retro",{"$f":"MMap!#REF!*MMap!M448*$C$7","v":{"$error":"#REF!"}},15,{"$f":"MMap!Q448*MMap!M448*$C$7","v":13.641649738279606},null,"SmComHP",null,null,null,null,null,null,null,1,"SmComWX"]
["Demand Control Ventilation-Retro-Restaurant","Demand Control Ventilation-DOAS-Restaurant-HtPmpHt-Heat-Retro",{"$f":"MMap!#REF!*MMap!M449*$C$7","v":{"$error":"#REF!"}},15,{"$f":"MMap!Q449*MMap!M449*$C$7","v":18.408686006186937},null,"SmComHP",null,null,null,null,null,null,null,1,"SmComWX"]
["Demand Control Ventilation-Retro-Lodging","Demand Control Ventilation-DOAS-Lodging-HtPmpHt-Heat-Retro",{"$f":"MMap!#REF!*MMap!M450*$C$7","v":{"$error":"#REF!"}},15,{"$f":"MMap!Q450*MMap!M450*$C$7","v":0},null,"SmComHP",null,null,null,null,null,null,null,1,"SmComWX"]
["Demand Control Ventilation-Retro-Hospital","Demand Control Ventilation-DOAS-Hospital-HtPmpHt-Heat-Retro",{"$f":"MMap!#REF!*MMap!M451*$C$7","v":{"$error":"#REF!"}},15,{"$f":"MMap!Q451*MMap!M451*$C$7","v":0},null,"SmComHP",null,null,null,null,null,null,null,1,"SmComWX"]
["Demand Control Ventilation-Retro-OtherHealth","Demand Control Ventilation-DOAS-OtherHealth-HtPmpHt-Heat-Retro",{"$f":"MMap!#REF!*MMap!M452*$C$7","v":{"$error":"#REF!"}},15,{"$f":"MMap!Q452*MMap!M452*$C$7","v":0},null,"SmComHP",null,null,null,null,null,null,null,1,"SmComWX"]
[{"$f":"[6]MMap!D180","v":"Demand Control Ventilation-New-Other"},{"$f":"[6]MMap!A180","v":"Demand Control Ventilation-DOAS-Other-HtPmpHt-Heat-New"},{"$f":"MMap!#REF!*MMap!M453*$C$7","v":{"$error":"#REF!"}},15,{"$f":"MMap!Q453*MMap!M453*$C$7","v":28.822229354365302},null,"SmComHP",null,null,null,null,null,null,null,1,"SmComWX"]
[]
[]
[]
["ProCost Results"]
["Version:    ","ProCost 2.3 - Build 257e"]
["Run Time:","Saturday, 28 November , 2009 at 3:04 PM"]
[]
["Regurgitation of ProData input parameters which were used for this run"]
[null,"Run Parameters",null,null,null,null,"Marginal Cost & Conservation Load Shape Parameters",null,null,null,null,null,null,null,null,null,"Sponsor Parameters",null,null,null,null,null,null,null,"Program Parameters",null,null,"Program",null,"Utility System Parameters",null,null,null,"Electric","Gas"]
[null,"Run Type",null,true,false,null,"Marginal Costs and Savings Shape File",null,null,null,"Q:\\CG\\Main\\ProCostGas\\MC files\\MC_AND_LOADSHAPE_6P.XLS",null,null,null,null,null,null,null,null,"Customer","Wholesale Elec","Retail Elec","Nat Gas",null,"Program Life (yrs)",null,null,20,null,"Bulk System T&D Loss Factor by Time Segment",null,null,null,"WECCTrans","Flat1.0"]
[null,"Negative B/C Ratios",null,true,false,null,"Marginal Elec Avoided Cost Input Worksheet",null,null,null,"6P MidC Final",null,null,null,null,null,"Real After-Tax Cost of Capital",null,null,6.7000000000000004E-2,4.3999999999999997E-2,4.9000000000000002E-2,0.05,null,"Program Start Date",null,null,2010,null,"Bulk System T&D Credit ($/kw-yr)($/dailytherm-yr)",null,null,null,0,0]
[null,"Admin Cost @ Category Level",null,false,true,null,"Elec Savings Shape Input Worksheet",null,null,null,"Conservation Load Shapes",null,null,null,null,null,"Financial Life (years)",null,null,20,1,1,1,null,"Present Value Time Zero",null,null,2010,null,"Local System Dist Loss Factor by Time Segment",null,null,null,"Flat5.0","NoLoss"]
[null,"Repeat Periodic Replacement ",null,false,true,null,"Marginal Gas Avoided Cost Input Worksheet",null,null,null,"6P_Gas_Final",null,null,null,null,null,null,null,null,"Customer","Wholesale Elec","Retail Elec","Nat Gas",null,"Input Cost Reference Year",null,null,2006,null,"Local System Dist Credit ($/kw-yr)($/dailytherm-yr)",null,null,null,23,0]
[null,null,null,null,null,null,"Gas Savings Shape Input Worksheet",null,null,null,"Conservation Load Shapes",null,null,null,null,null,"Sponsor Share of Initial Capital Cost ",null,null,0.35,0.1,0.55000000000000004,0,null,"Real Discount Rate",null,null,0.05,null,"Risk-Mitigation Credit (mills/kWh)(mills/therm)",null,null,null,0,0]
[null,"Run Type:","Electric",null,null,null,"Marginal Elec CO2 per kWh Input Worksheet",null,null,null,"6P CO2 lbs per kWh HCap",null,null,null,null,null,"Sponsor Share of Annual O&M",null,null,1,0,0,0,null,"Capital Real Escalation Rate",null,null,0]
[null,"Negative B/C Ratios:","False:  (Converts Negative B/C Ratios)",null,null,null,"Marginal Gas CO2 per therm Input Worksheet",null,null,null,"CO2 lbs per therm",null,null,null,null,null,"Sponsor Share of Periodic Replacement Cost",null,null,1,0,0,0,null,"Admin Cost (As % of Initial Capital Cost)",null,null,0.2]
[null,"Admin Cost / Category Level:","True:  Admin Costs added at Category Results",null,null,null,"Marginal Avoided Cost CO2 Input Worksheet",null,null,null,"Zero Dollars per ton CO2",null,null,null,null,null,"Sponsor Share of Admin Cost",null,null,null,0.5,0.5,0,null,"Regional Act Conservation Credit (%)",null,null,0.1]
[null,"Periodic O&M Treatment:","True:  (Periodic O&M Repeats over measure life)",null,null,null,"Line Loss Shape Input Worksheet",null,null,null,"LineLossShapes",null,null,null,null,null,"Last Year of non-Customer O&M & Period Repl",null,null,null,20,null,null,null,"Report Annual Carbon Saved for Year",null,null,2020]
[]
[]
[]
[]
[]
[]
[]
["Measure Results; Sorted in same order as input"]
["Total Results",null,"Measure Input Data",null,null,null,null,null,null,null,null,"Savings",null,null,null,null,null,"PV Capital",null,null,null,"PV Admin",null,null,null,"PV O&M",null,null,null,"PV Periodic Repl.",null,null,null,"Total PV Capital, O&M and Periodic Repl Costs",null,null,null,null,"PV Wholesale Electric Utility Costs & Benefits",null,null,null,null,null,null,"PV Retail Electric Utility Costs & Benefits",null,null,null,null,null,null,"PV Electric Utility System Costs & Benefits",null,null,null,null,null,"Electric Utility System Economics",null,"Sponsor Levelized Cost (mills/kwh)",null,null,null,null,"PV Regional Costs & Benefits",null,null,null,null,null,null,null,null,null,null,null,null,null,null,null,"TRC Economics",null,"Physical CO2",null,null,null,null,null,null,"Gas Inputs",null,null,null,"PV Gas Utility System Costs & Benefits",null,null,null,null,"Gas Utility System Economics"]
["Category","Measure","Measure Life","Site Savings (kWh)","Site Savings (therms)","Capital Cost ($/unit)","Annual O&M Cost ($/unit)","PV Per. Repl. Cost ($/unit)","Load Shape (electric)","Diversified Load Factor (electric)","Wholesale Power Coincidence Factor (electric)","Wholesale Electric Energy (kWh)","Wholesale Electric Demand (kw)","Retail Electric Demand (kW)","Wholesale Gas Energy (therms/yr)","Wholesale Gas Demand (therms/day)","Retail Gas Demand (therms/day)","Wholesale Electric","Retail Electric","Natural Gas","Customer","Wholesale Electric","Retail Electric","Natural Gas","Customer","Wholesale Electric","Retail Electric","Natural Gas","Customer","Wholesale Electric","Retail Electric","Natural Gas","Customer","Wholesale Electric","Retail Electric","Natural Gas","Customer","Total","Wholesale Utility System Energy","Wholesale Utility System T&D Def. Cap.","Wholesale Utility System Act C-E Credit","Wholesale Utility System Risk Mitigation Benefit","Wholesale Utility System Total System Benefit","Wholesale Utility System Total Non-Consumer Cost","Wholesale Utility System B/C Ratio","Retail Utility System Energy","Retail Utility System T&D Def. Cap.","Retail Utility System Act C-E Credit","Retail Utility System Risk Mitigation Benefit","Retail Utility System Total System Benefit","Retail Utility System Total Non-Consumer Cost","Retail Utility System System B/C Ratio","Utility System Energy","Utility System T&D Def. Cap.","Utility System Act C-E Credit","Utility System Total Risk Mitigation Benefit","Utility System Total System Benefit","Utility System Total Non-Consumer Cost","Utility System Net Levelized Cost (Net of Elec T&D Capacity Benefits, Act Credit & Risk-Mitigation Benefit) in mills/kwh","Utility System System B/C Ratio","Wholesale Electric Levelized Cost","Retail Electric Levelized Cost","Natural Gas Levelized Cost","Customer Levelized Cost","Total Levelized Cost","PV Regional Electric Energy","PV Regional Gas Energy","PV Regional Electric T&D Def. Cap.","PV Regional Gas T&D Def. Cap.","PV Regional Electric System CO2","PV Regional Gas System CO2","PV Regional Electric System Risk-Mitigation Benefit","PV Regional Gas System Risk-Mitigation Benefit","PV Regional Non-E Value","PV Regional Act Credit","PV Regional Capital Cost","PV Regional Admin Cost","PV Regional Annual O&M Cost","PV Regional Periodic Replacement Cost","PV Total Regional Benefit","PV Total Regional Cost","TRC B/C Ratio","TRC Net Levelized Cost (Net of All Benefits) in mills/kWh","Electric System CO2 Avoided (Lifetime Tons)","Gas System CO2 Avoided (Lifetime Tons)","Total System CO2 Avoided (Lifetime Tons)","Electric System CO2 Avoided (Annual Tons in 2020)","Gas System CO2 Avoided (Annual Tons in 2020)","Total System CO2 Avoided (Annual Tons in 2020)",null,"Gas Site Savings (therms)","Load Shape (gas)","Diversitfied Load Factor (gas)","Wholesale Coincidence Factor (gas)","Total Gas Utility System Energy","Gas Utility System T&D Def. Cap.","Gas Utility System Risk Mitigation Benefit","Gas Utility System Total System Benefit","Gas Utility System Total Non-Consumer Cost","Gas Utility System Net Levelized Cost (Net of Gas T&D Capacity Benefits & Risk-Mitigation Benefits) in cents/therm","Gas Utility System System B/C Ratio"]
["Demand Control Ventilation-New-Large Off","Demand Control Ventilation-DCV Only-Large Off-ElecHt-Vent-New",15,0.20663999999999999,0,5.4667000000000003,0,0,"ComEconoMizer",0.40000000596046448,6.6115702502429485E-3,0.22516491933279206,4.2485550011406303E-7,6.4259395003318787E-5,0,0,0,0.54354619979858398,3.0038216114044189,0,3.4588632583618164,"(na)","(na)","(na)","(na)",0,0,0,0,0,0,0,0,0.54354619979858398,3.0038216114044189,0,3.4588632583618164,7.0062310695648193,0.11817650657194954,0,1.1817650869488716E-2,0,0.12999415397644043,0.54354619979858398,0.23915935294848681,0.11817650657194954,1.8418731167912483E-2,1.365952380001545E-2,0,0.1502547562122345,3.0038216114044189,5.0021199983852162E-2,0.11817650657194954,1.8418731167912483E-2,1.365952380001545E-2,0,0.1502547562122345,3.5473678112030029,1252.7525634765625,4.2356690801939219E-2,193.70492553710937,1070.4793701171875,0,1232.643798828125,2496.828125,0.11817650657194954,0,1.8418731167912483E-2,0,0,0,0,0,0,1.365952380001545E-2,7.0062313079833984,null,0,0,0.1502547562122345,7.0062313079833984,2.1445875098166759E-2,2485.396240234375,1.6539787772686585E-3,0,1.6539787772686585E-3,7.9893707842010811E-5,0,7.9893707842010811E-5,null,0,"SmComWX",0,0,0,0,0,0,0,9999,9999]
["Demand Control Ventilation-New-Medium Off","Demand Control Ventilation-DCV Only-Medium Off-ElecHt-Vent-New",15,0.2268,0,6,0,0,"ComEconoMizer",0.40000000596046448,6.6115702502429485E-3,0.24713222853599123,4.6630478323095303E-7,7.0528600190300494E-5,0,0,0,0.59657144546508789,3.2968573570251465,0,3.796290397644043,"(na)","(na)","(na)","(na)",0,0,0,0,0,0,0,0,0.59657144546508789,3.2968573570251465,0,3.796290397644043,7.6897192001342773,0.12970592184726173,0,1.2970592826604843E-2,0,0.14267651736736298,0.59657144546508789,0.23916081763289188,0.12970592184726173,2.0215678960084915E-2,1.4992160722613335E-2,0,0.16491375863552094,3.2968573570251465,5.0021503410983673E-2,0.12970592184726173,2.0215678960084915E-2,1.4992160722613335E-2,0,0.16491375863552094,3.8934288024902344,1252.744873046875,4.2356948051671388E-2,193.7037353515625,1070.472900390625,0,1232.63623046875,2496.81298828125,0.12970592184726173,0,2.0215678960084915E-2,0,0,0,0,0,0,1.4992160722613335E-2,7.6897192001342773,null,0,0,0.16491375863552094,7.6897192001342773,2.14460056652108E-2,2485.381103515625,1.8153425604168179E-3,0,1.8153425604168179E-3,8.7688215924158156E-5,0,8.7688215924158156E-5,null,0,"SmComWX",0,0,0,0,0,0,0,9999,9999]
["Demand Control Ventilation-New-Small Off","Demand Control Ventilation-DCV Only-Small Off-ElecHt-Vent-New",15,0.23939999999999997,0,6.3333000000000004,0,0,"ComEconoMizer",0.40000000596046448,6.6115702502429485E-3,0.26086179678799076,4.9221063136428711E-7,7.4446856160648167E-5,0,0,0,0.62971097230911255,3.4799976348876953,0,4.0071744918823242,"(na)","(na)","(na)","(na)",0,0,0,0,0,0,0,0,0.62971097230911255,3.4799976348876953,0,4.0071744918823242,8.1168830990791321,0.13691180639433165,0,1.3691180385649204E-2,0,0.15060298144817352,0.62971097230911255,0.23916208133983863,0.13691180639433165,2.1338772028684616E-2,1.5825057402253151E-2,0,0.17407563328742981,3.4799976348876953,5.002176842884179E-2,0.13691180639433165,2.1338772028684616E-2,1.5825057402253151E-2,0,0.17407563328742981,4.1097087860107422,1252.7381591796875,4.2357172360208944E-2,193.70271301269531,1070.4671630859375,0,1232.6298828125,2496.7998046875,0.13691180639433165,0,2.1338772028684616E-2,0,0,0,0,0,0,1.5825057402253151E-2,8.1168832778930664,null,0,0,0.17407563328742981,8.1168832778930664,2.1446117908258865E-2,2485.3681640625,1.9161949248844216E-3,0,1.9161949248844216E-3,9.2559783475500317E-5,0,9.2559783475500317E-5,null,0,"SmComWX",0,0,0,0,0,0,0,9999,9999]
["Demand Control Ventilation-New-Big Box","Demand Control Ventilation-DCV Only-Big Box-ElecHt-Vent-New",15,0.207856704,0,0.89059999999999995,0,0,"ComEconoMizer",0.40000000596046448,6.6115702502429485E-3,0.22649069874632227,4.2735703686958004E-7,6.4637752075213939E-5,0,0,0,8.855108916759491E-2,0.48936352133750916,0,0.56349605321884155,"(na)","(na)","(na)","(na)",0,0,0,0,0,0,0,0,8.855108916759491E-2,0.48936352133750916,0,0.56349605321884155,1.1414106637239456,0.11887233423480355,0,1.1887233704328537E-2,0,0.13075956702232361,8.855108916759491E-2,1.4766567996882785,0.11887233423480355,1.8527181819081306E-2,1.3739951886236668E-2,0,0.15113946795463562,0.48936352133750916,0.30884906894374359,0.11887233423480355,1.8527181819081306E-2,1.3739951886236668E-2,0,0.15113946795463562,0.57791459560394287,193.31550598144531,0.26152560463564656,31.37244987487793,173.37486267089844,0,199.63900756835937,404.38632202148437,0.11887233423480355,0,1.8527181819081306E-2,0,0,0,0,0,0,1.3739951886236668E-2,1.1414105892181396,null,0,0,0.15113946795463562,1.1414105892181396,0.13241463621224267,392.95449829101562,1.6637174657811338E-3,0,1.6637174657811338E-3,8.0364124963120965E-5,0,8.0364124963120965E-5,null,0,"SmComWX",0,0,0,0,0,0,0,9999,9999]
["Demand Control Ventilation-New-Small Box","Demand Control Ventilation-DCV Only-Small Box-ElecHt-Vent-New",15,0.27056972800000001,0,1.1593,0,0,"ComEconoMizer",0.40000000596046448,6.6115702502429485E-3,0.29482583710324961,5.5629612916163751E-7,8.4139792306814343E-5,0,0,0,0.1152675449848175,0.63700777292251587,0,0.73350656032562256,"(na)","(na)","(na)","(na)",0,0,0,0,0,0,0,0,0.1152675449848175,0.63700777292251587,0,0.73350656032562256,1.4857818782329559,0.15473763665874271,0,1.5473763458430767E-2,0,0.17021140456199646,0.1152675449848175,1.4766637056388501,0.15473763665874271,2.4117067456245422E-2,1.7885470762848854E-2,0,0.19674018025398254,0.63700777292251587,0.30885050895880983,0.15473763665874271,2.4117067456245422E-2,1.7885470762848854E-2,0,0.19674018025398254,0.75227534770965576,193.31454467773437,0.26152682428173429,31.372304916381836,173.37405395507812,0,199.6380615234375,404.38442993164062,0.15473763665874271,0,2.4117067456245422E-2,0,0,0,0,0,0,1.7885470762848854E-2,1.4857819080352783,null,0,0,0.19674018025398254,1.4857819080352783,0.13241524466938495,392.95263671875,2.1656822874726745E-3,0,2.1656822874726745E-3,1.0461100851589395E-4,0,1.0461100851589395E-4,null,0,"SmComWX",0,0,0,0,0,0,0,9999,9999]
["Demand Control Ventilation-New-High End","Demand Control Ventilation-DCV Only-High End-ElecHt-Vent-New",15,0.20692672000000001,0,2.0287000000000002,0,0,"ComEconoMizer",0.40000000596046448,6.6115702502429485E-3,0.22547734328590419,4.2544499478935904E-7,6.434855458792299E-5,0,0,0,0.20171074569225311,1.1147223711013794,0,1.2835891246795654,"(na)","(na)","(na)","(na)",0,0,0,0,0,0,0,0,0.20171074569225311,1.1147223711013794,0,1.2835891246795654,2.6000222414731979,0.11834048047808725,0,1.1834048666059971E-2,0,0.13017453253269196,0.20171074569225311,0.64535247588025102,0.11834048047808725,1.8444288522005081E-2,1.3678477145731449E-2,0,0.15046325325965881,1.1147223711013794,0.13497822421663752,0.11834048047808725,1.8444288522005081E-2,1.3678477145731449E-2,0,0.15046325325965881,1.3164330720901489,457.0587158203125,0.1142961569610914,71.784553527832031,396.70596313476562,0,456.80203247070312,925.29254150390625,0.11834048047808725,0,1.8444288522005081E-2,0,0,0,0,0,0,1.3678477145731449E-2,2.6000223159790039,null,0,0,0.15046325325965881,2.6000223159790039,5.7869982584810568E-2,913.86077880859375,1.6562737288512118E-3,0,1.6562737288512118E-3,8.0004563068068003E-5,0,8.0004563068068003E-5,null,0,"SmComWX",0,0,0,0,0,0,0,9999,9999]
["Demand Control Ventilation-New-Anchor","Demand Control Ventilation-DCV Only-Anchor-ElecHt-Vent-New",15,0.20692672000000001,0,2.0287000000000002,0,0,"ComEconoMizer",0.40000000596046448,6.6115702502429485E-3,0.22547734328590419,4.2544499478935904E-7,6.434855458792299E-5,0,0,0,0.20171074569225311,1.1147223711013794,0,1.2835891246795654,"(na)","(na)","(na)","(na)",0,0,0,0,0,0,0,0,0.20171074569225311,1.1147223711013794,0,1.2835891246795654,2.6000222414731979,0.11834048047808725,0,1.1834048666059971E-2,0,0.13017453253269196,0.20171074569225311,0.64535247588025102,0.11834048047808725,1.8444288522005081E-2,1.3678477145731449E-2,0,0.15046325325965881,1.1147223711013794,0.13497822421663752,0.11834048047808725,1.8444288522005081E-2,1.3678477145731449E-2,0,0.15046325325965881,1.3164330720901489,457.0587158203125,0.1142961569610914,71.784553527832031,396.70596313476562,0,456.80203247070312,925.29254150390625,0.11834048047808725,0,1.8444288522005081E-2,0,0,0,0,0,0,1.3678477145731449E-2,2.6000223159790039,null,0,0,0.15046325325965881,2.6000223159790039,5.7869982584810568E-2,913.86077880859375,1.6562737288512118E-3,0,1.6562737288512118E-3,8.0004563068068003E-5,0,8.0004563068068003E-5,null,0,"SmComWX",0,0,0,0,0,0,0,9999,9999]
["Demand Control Ventilation-New-K-12","Demand Control Ventilation-DCV Only-K-12-ElecHt-Vent-New",15,0,0,2.6671,0,0,"ComEconoMizer",0,0,0,0,0,0,0,0,0.26518595218658447,1.465507984161377,0,1.6875143051147461,"(na)","(na)","(na)","(na)",0,0,0,0,0,0,0,0,0.26518595218658447,1.465507984161377,0,1.6875143051147461,3.4182082414627075,0,0,0,0,0,0.26518595218658447,0,0,0,0,0,0,1.465507984161377,0,0,0,0,0,0,1.7306939363479614,9999,0,9999,9999,9999,9999,9999,0,0,0,0,0,0,0,0,0,0,3.418208122253418,null,0,0,0,3.418208122253418,0,9999,0,0,0,0,0,0,null,0,"SmComWX",0,0,0,0,0,0,0,9999,9999]
["Demand Control Ventilation-New-University","Demand Control Ventilation-DCV Only-University-ElecHt-Vent-New",15,0,0,18.96,0,0,"ComEconoMizer",0,0,0,0,0,0,0,0,1.885165810585022,10.418068885803223,0,11.996277809143066,"(na)","(na)","(na)","(na)",0,0,0,0,0,0,0,0,1.885165810585022,10.418068885803223,0,11.996277809143066,24.299512505531311,0,0,0,0,0,1.885165810585022,0,0,0,0,0,0,10.418068885803223,0,0,0,0,0,0,12.303235054016113,9999,0,9999,9999,9999,9999,9999,0,0,0,0,0,0,0,0,0,0,24.29951286315918,null,0,0,0,24.29951286315918,0,9999,0,0,0,0,0,0,null,0,"SmComWX",0,0,0,0,0,0,0,9999,9999]
["Demand Control Ventilation-New-Warehouse","Demand Control Ventilation-DCV Only-Warehouse-ElecHt-Vent-New",15,0.12253247999999999,0,3.2416,0,0,"ComEconoMizer",0.40000000596046448,6.6115702502429485E-3,0.13351730533704484,2.5192892394443334E-7,3.8104251871118322E-5,0,0,0,0.32230767607688904,1.7811820507049561,0,2.0510091781616211,"(na)","(na)","(na)","(na)",0,0,0,0,0,0,0,0,0.32230767607688904,1.7811820507049561,0,2.0510091781616211,4.1544989049434662,7.0075786043347243E-2,0,7.0075788535177708E-3,0,7.7083364129066467E-2,0.32230767607688904,0.23916081005305059,7.0075786043347243E-2,1.0921858251094818E-2,8.0997645854949951E-3,0,8.9097410440444946E-2,1.7811820507049561,5.0021506136710782E-2,7.0075786043347243E-2,1.0921858251094818E-2,8.0997645854949951E-3,0,8.9097410440444946E-2,2.1034896373748779,1252.7447509765625,4.2356949856012981E-2,193.7037353515625,1070.4727783203125,0,1232.6363525390625,2496.81298828125,7.0075786043347243E-2,0,1.0921858251094818E-2,0,0,0,0,0,0,8.0997645854949951E-3,4.1544990539550781,null,0,0,8.9097410440444946E-2,4.1544990539550781,2.1446005336098566E-2,2485.381103515625,9.8076907397452793E-4,0,9.8076907397452793E-4,4.7375020123291847E-5,0,4.7375020123291847E-5,null,0,"SmComWX",0,0,0,0,0,0,0,9999,9999]
["Demand Control Ventilation-New-Supermarket","Demand Control Ventilation-DCV Only-Supermarket-ElecHt-Vent-New",15,1.4639184E-2,0,0.38729999999999998,0,0,"ComEconoMizer",0.40000000596046448,6.6115702502429485E-3,1.5951561577903117E-2,3.0098419756541261E-8,4.5523861444962677E-6,0,0,0,3.8508687168359756E-2,0.212812140583992,0,0.24505053460597992,"(na)","(na)","(na)","(na)",0,0,0,0,0,0,0,0,3.8508687168359756E-2,0.212812140583992,0,0.24505053460597992,0.49637136235833168,8.3720849021679221E-3,0,8.3720852853730321E-4,0,9.2092938721179962E-3,3.8508687168359756E-2,0.23914846513573024,8.3720849021679221E-3,1.3048547552898526E-3,9.6769398078322411E-4,0,1.0644633322954178E-2,0.212812140583992,5.0018920955497884E-2,8.3720849021679221E-3,1.3048547552898526E-3,9.6769398078322411E-4,0,1.0644633322954178E-2,0.25132083892822266,1252.81005859375,4.2354761176937081E-2,193.71372985839844,1070.5281982421875,0,1232.699951171875,2496.94189453125,8.3720849021679221E-3,0,1.3048547552898526E-3,0,0,0,0,0,0,9.6769398078322411E-4,0.49637138843536377,null,0,0,1.0644633322954178E-2,0.49637138843536377,2.1444897683958904E-2,2485.51025390625,1.171743111330378E-4,0,1.171743111330378E-4,5.6599820438513302E-6,0,5.6599820438513302E-6,null,0,"SmComWX",0,0,0,0,0,0,0,9999,9999]
["Demand Control Ventilation-New-MIniMart","Demand Control Ventilation-DCV Only-MIniMart-ElecHt-Vent-New",15,3.4158095999999992E-2,0,0.90369999999999995,0,0,"ComEconoMizer",0.40000000596046448,6.6115702502429485E-3,3.7220310348440588E-2,7.0229646098596277E-8,1.0622234185575508E-5,0,0,0,8.985360711812973E-2,0.49656164646148682,0,0.5717846155166626,"(na)","(na)","(na)","(na)",0,0,0,0,0,0,0,0,8.985360711812973E-2,0.49656164646148682,0,0.5717846155166626,1.1581998690962791,1.9534864771725134E-2,0,1.9534865859895945E-3,0,2.1488351747393608E-2,8.985360711812973E-2,0.23914845543667698,1.9534864771725134E-2,3.0446613673120737E-3,2.2579526994377375E-3,0,2.4837478995323181E-2,0.49656164646148682,5.0018923159828317E-2,1.9534864771725134E-2,3.0446613673120737E-3,2.2579526994377375E-3,0,2.4837478995323181E-2,0.58641523122787476,1252.81005859375,4.2354762579692694E-2,193.7137451171875,1070.5281982421875,0,1232.699951171875,2496.94189453125,1.9534864771725134E-2,0,3.0446613673120737E-3,0,0,0,0,0,0,2.2579526994377375E-3,1.1581997871398926,null,0,0,2.4837478995323181E-2,1.1581997871398926,2.1444900192746249E-2,2485.510009765625,2.7340672597708803E-4,0,2.7340672597708803E-4,1.3206624768986433E-5,0,1.3206624768986433E-5,null,0,"SmComWX",0,0,0,0,0,0,0,9999,9999]
["Demand Control Ventilation-New-Restaurant","Demand Control Ventilation-DCV Only-Restaurant-ElecHt-Vent-New",15,0.22437519999999994,0,0.96130000000000004,0,0,"ComEconoMizer",0.40000000596046448,6.6115702502429485E-3,0.24449004940127309,4.6131938802318473E-7,6.9774556322954595E-5,0,0,0,9.5580689609050751E-2,0.52821147441864014,0,0.60822898149490356,"(na)","(na)","(na)","(na)",0,0,0,0,0,0,0,0,9.5580689609050751E-2,0.52821147441864014,0,0.60822898149490356,1.2320211455225945,0.12831918939886991,0,1.2831918895244598E-2,0,0.14115111529827118,9.5580689609050751E-2,1.4767743240968267,0.12831918939886991,1.9999546930193901E-2,1.4831873588263988E-2,0,0.1631506085395813,0.52821147441864014,0.30887365727314908,0.12831918939886991,1.9999546930193901E-2,1.4831873588263988E-2,0,0.1631506085395813,0.62379217147827148,193.29920959472656,0.26154642415496154,31.369953155517578,173.36106872558594,0,199.62312316894531,404.3541259765625,0.12831918939886991,0,1.9999546930193901E-2,0,0,0,0,0,0,1.4831873588263988E-2,1.2320210933685303,null,0,0,0.1631506085395813,1.2320210933685303,0.13242517583140528,392.92230224609375,1.7959340831659449E-3,0,1.7959340831659449E-3,8.6750709813166531E-5,0,8.6750709813166531E-5,null,0,"SmComWX",0,0,0,0,0,0,0,9999,9999]
["Demand Control Ventilation-New-Lodging","Demand Control Ventilation-DCV Only-Lodging-ElecHt-Vent-New",15,1.6627564800000001,0,43.988300000000002,0,0,"ComEconoMizer",0.40000000596046448,6.6115702502429485E-3,1.8118197284614659,3.4186566608696012E-6,5.1707180682569742E-4,0,0,0,4.3736939430236816,24.170524597167969,0,27.832061767578125,"(na)","(na)","(na)","(na)",0,0,0,0,0,0,0,0,4.3736939430236816,24.170524597167969,0,27.832061767578125,56.376280307769775,0.9509231130771949,0,9.5092311501502991E-2,0,1.0460153818130493,4.3736939430236816,0.23916063588472133,0.9509231130771949,0.14820878207683563,0.10991319268941879,0,1.2090450525283813,24.170524597167969,5.0021466558699004E-2,0.9509231130771949,0.14820878207683563,0.10991319268941879,0,1.2090450525283813,28.544218063354492,1252.7457275390625,4.2356916730477485E-2,193.70387268066406,1070.4737548828125,0,1232.6373291015625,2496.81494140625,0.9509231130771949,0,0.14820878207683563,0,0,0,0,0,0,0.10991319268941879,56.37628173828125,null,0,0,1.2090450525283813,56.37628173828125,2.1445988464728245E-2,2485.383056640625,1.3308962106494097E-2,0,1.3308962106494097E-2,6.4287543759935302E-4,0,6.4287543759935302E-4,null,0,"SmComWX",0,0,0,0,0,0,0,9999,9999]
["Demand Control Ventilation-New-Hospital","Demand Control Ventilation-DCV Only-Hospital-ElecHt-Vent-New",15,0.86902199999999985,0,22.99,0,0,"ComEconoMizer",0.40000000596046448,6.6115702502429485E-3,0.94692832234040636,1.786724624253111E-6,2.7024210430681705E-4,0,0,0,2.285862922668457,12.632457733154297,0,14.546119689941406,"(na)","(na)","(na)","(na)",0,0,0,0,0,0,0,0,2.285862922668457,12.632457733154297,0,14.546119689941406,29.46444034576416,0.49698985721142463,0,4.9698986113071442E-2,0,0.54668885469436646,2.285862922668457,0.23916081664525435,0.49698985721142463,7.7459752559661865E-2,5.7444963604211807E-2,0,0.63189458847045898,12.632457733154297,5.0021507035552581E-2,0.49698985721142463,7.7459752559661865E-2,5.7444963604211807E-2,0,0.63189458847045898,14.918320655822754,1252.7447509765625,4.2356950755624373E-2,193.7037353515625,1070.472900390625,0,1232.6363525390625,2496.812744140625,0.49698985721142463,0,7.7459752559661865E-2,0,0,0,0,0,0,5.7444963604211807E-2,29.464439392089844,null,0,0,0.63189458847045898,29.464439392089844,2.1446006997334541E-2,2485.381103515625,6.9557875773304436E-3,0,6.9557875773304436E-3,3.3599201401606605E-4,0,3.3599201401606605E-4,null,0,"SmComWX",0,0,0,0,0,0,0,9999,9999]
["Demand Control Ventilation-New-OtherHealth","Demand Control Ventilation-DCV Only-OtherHealth-ElecHt-Vent-New",15,2.7291599999999992E-2,0,0.72199999999999998,0,0,"ComEconoMizer",0.40000000596046448,6.6115702502429485E-3,2.9738244833830939E-2,5.6112011037612319E-8,8.4869416241417639E-6,0,0,0,7.1787431836128235E-2,0.39672183990478516,0,0.4568202793598175,"(na)","(na)","(na)","(na)",0,0,0,0,0,0,0,0,7.1787431836128235E-2,0.39672183990478516,0,0.4568202793598175,0.9253295511007309,1.5607945928953811E-2,0,1.5607946552336216E-3,0,1.7168739810585976E-2,7.1787431836128235E-2,0.23916081332146186,1.5607945928953811E-2,2.4326201528310776E-3,1.8040565773844719E-3,0,1.9844623282551765E-2,0.39672183990478516,5.0021502884570586E-2,1.5607945928953811E-2,2.4326201528310776E-3,1.8040565773844719E-3,0,1.9844623282551765E-2,0.4685092568397522,1252.744873046875,4.2356947569958614E-2,193.7037353515625,1070.472900390625,0,1232.6363525390625,2496.81298828125,1.5607945928953811E-2,0,2.4326201528310776E-3,0,0,0,0,0,0,1.8040565773844719E-3,0.92532956600189209,null,0,0,1.9844623282551765E-2,0.92532956600189209,2.1446005172959946E-2,2485.381103515625,2.1844622143682397E-4,0,2.1844622143682397E-4,1.0551815316207031E-5,0,1.0551815316207031E-5,null,0,"SmComWX",0,0,0,0,0,0,0,9999,9999]
["Demand Control Ventilation-New-Other","Demand Control Ventilation-DCV Only-Other-ElecHt-Vent-New",15,0.29423519999999992,0,7.7839999999999998,0,0,"ComEconoMizer",0.40000000596046448,6.6115702502429485E-3,0.32061287782069259,6.0495278830785537E-7,9.1499110567383468E-5,0,0,0,0.77395200729370117,4.277122974395752,0,4.9250540733337402,"(na)","(na)","(na)","(na)",0,0,0,0,0,0,0,0,0.77395200729370117,4.277122974395752,0,4.9250540733337402,9.9761290550231934,0.16827181594318069,0,1.6827180981636047E-2,0,0.18509899079799652,0.77395200729370117,0.23916082028400881,0.16827181594318069,2.6226477697491646E-2,1.9449830055236816E-2,0,0.21394813060760498,4.277122974395752,5.002150393539586E-2,0.16827181594318069,2.6226477697491646E-2,1.9449830055236816E-2,0,0.21394813060760498,5.0510749816894531,1252.744873046875,4.2356948663697935E-2,193.7037353515625,1070.472900390625,0,1232.6363525390625,2496.813232421875,0.16827181594318069,0,2.6226477697491646E-2,0,0,0,0,0,0,1.9449830055236816E-2,9.9761295318603516,null,0,0,0.21394813060760498,9.9761295318603516,2.1446004987468525E-2,2485.38134765625,2.355104415047419E-3,0,2.355104415047419E-3,1.1376084545894116E-4,0,1.1376084545894116E-4,null,0,"SmComWX",0,0,0,0,0,0,0,9999,9999]
["Demand Control Ventilation-New-Large Off","Demand Control Ventilation-DCV Only-Large Off-ElecHt-Heat-New",15,21.248403164371524,0,0,0,0,"ExCOMM",0.47692599892616272,0.4638296365737915,23.168145554932163,2.5721404235810041E-3,5.5454419925808907E-3,0,0,0,0,0,0,0,"(na)","(na)","(na)","(na)",0,0,0,0,0,0,0,0,0,0,0,0,0,11.337101230212873,0,1.1337101459503174,0,12.47081184387207,0,9999,11.337101230212873,1.5894954204559326,1.2926596403121948,0,14.219256401062012,0,9999,11.337101230212873,1.5894954204559326,1.2926596403121948,0,14.219256401062012,0,-9.9823083877563477,9999,0,0,0,0,0,11.337101230212873,0,1.5894954204559326,0,0,0,0,0,0,1.2926596403121948,0,null,0,0,14.219256401062012,0,9999,-9.9823083877563477,0.17439889355709878,0,0.17439889355709878,8.5259302290860168E-3,0,8.5259302290860168E-3,null,0,"SmComWX",0,0,0,0,0,0,0,9999,9999]
["Demand Control Ventilation-New-Medium Off","Demand Control Ventilation-DCV Only-Medium Off-ElecHt-Heat-New",15,23.321418107237044,0,0,0,0,"ExCOMM",0.47692599892616272,0.4638296365737915,25.428452438340191,2.8230808675289154E-3,6.086460780352354E-3,0,0,0,0,0,0,0,"(na)","(na)","(na)","(na)",0,0,0,0,0,0,0,0,0,0,0,0,0,12.443159886818998,0,1.2443159818649292,0,13.68747615814209,0,9999,12.443159886818998,1.7445681095123291,1.41877281665802,0,15.606500625610352,0,9999,12.443159886818998,1.7445681095123291,1.41877281665802,0,15.606500625610352,0,-9.9823083877563477,9999,0,0,0,0,0,12.443159886818998,0,1.7445681095123291,0,0,0,0,0,0,1.41877281665802,0,null,0,0,15.606500625610352,0,9999,-9.9823083877563477,0.19141341975779136,0,0.19141341975779136,9.3577283002163579E-3,0,9.3577283002163579E-3,null,0,"SmComWX",0,0,0,0,0,0,0,9999,9999]
["Demand Control Ventilation-New-Small Off","Demand Control Ventilation-DCV Only-Small Off-ElecHt-Heat-New",15,24.617052446527989,0,0,0,0,"ExCOMM",0.47692599892616272,0.4638296365737915,26.841144240470204,2.9799186158925295E-3,6.4245974645018578E-3,0,0,0,0,0,0,0,"(na)","(na)","(na)","(na)",0,0,0,0,0,0,0,0,0,0,0,0,0,13.134446547197804,0,1.3134447336196899,0,14.447891235351563,0,9999,13.134446547197804,1.8414888381958008,1.4975935220718384,0,16.473529815673828,0,9999,13.134446547197804,1.8414888381958008,1.4975935220718384,0,16.473529815673828,0,-9.9823093414306641,9999,0,0,0,0,0,13.134446547197804,0,1.8414888381958008,0,0,0,0,0,0,1.4975935220718384,0,null,0,0,16.473529815673828,0,9999,-9.9823093414306641,0.20204749863322399,0,0.20204749863322399,9.8776020946728244E-3,0,9.8776020946728244E-3,null,0,"SmComWX",0,0,0,0,0,0,0,9999,9999]
["Demand Control Ventilation-New-Big Box","Demand Control Ventilation-DCV Only-Big Box-ElecHt-Heat-New",15,13.448421447406977,0,0,0,0,"ExCOMM",0.47692599892616272,0.4638296365737915,14.663454150758632,1.627944759093225E-3,3.5097904037684202E-3,0,0,0,0,0,0,0,"(na)","(na)","(na)","(na)",0,0,0,0,0,0,0,0,0,0,0,0,0,7.175415213857943,0,0.71754151582717896,0,7.8929567337036133,0,9999,7.175415213857943,1.0060145854949951,0.81814301013946533,0,8.99957275390625,0,9999,7.175415213857943,1.0060145854949951,0.81814301013946533,0,8.99957275390625,0,-9.9823083877563477,9999,0,0,0,0,0,7.175415213857943,0,1.0060145854949951,0,0,0,0,0,0,0.81814301013946533,0,null,0,0,8.99957275390625,0,9999,-9.9823083877563477,0.11037958016769892,0,0.11037958016769892,5.396184459837138E-3,0,5.396184459837138E-3,null,0,"SmComWX",0,0,0,0,0,0,0,9999,9999]
["Demand Control Ventilation-New-Small Box","Demand Control Ventilation-DCV Only-Small Box-ElecHt-Heat-New",15,17.505982068561387,0,0,0,0,"ExCOMM",0.47692599892616272,0.4638296365737915,19.087605666600176,2.119116485118866E-3,4.5687388628721237E-3,0,0,0,0,0,0,0,"(na)","(na)","(na)","(na)",0,0,0,0,0,0,0,0,0,0,0,0,0,9.3403296854962523,0,0.93403297662734985,0,10.274362564086914,0,9999,9.3403296854962523,1.3095420598983765,1.0649871826171875,0,11.714859008789063,0,9999,9.3403296854962523,1.3095420598983765,1.0649871826171875,0,11.714859008789063,0,-9.9823083877563477,9999,0,0,0,0,0,9.3403296854962523,0,1.3095420598983765,0,0,0,0,0,0,1.0649871826171875,0,null,0,0,11.714859008789063,0,9999,-9.9823083877563477,0.14368251015241948,0,0.14368251015241948,7.0242822744652081E-3,0,7.0242822744652081E-3,null,0,"SmComWX",0,0,0,0,0,0,0,9999,9999]
["Demand Control Ventilation-New-High End","Demand Control Ventilation-DCV Only-High End-ElecHt-Heat-New",15,18.770019947260476,0,0,0,0,"ExCOMM",0.47692599892616272,0.4638296365737915,20.465846343516205,2.2721295244991779E-3,4.898629616945982E-3,0,0,0,0,0,0,0,"(na)","(na)","(na)","(na)",0,0,0,0,0,0,0,0,0,0,0,0,0,10.014758030947812,0,1.0014758110046387,0,11.016233444213867,0,9999,10.014758030947812,1.4040988683700562,1.1418857574462891,0,12.560742378234863,0,9999,10.014758030947812,1.4040988683700562,1.1418857574462891,0,12.560742378234863,0,-9.9823083877563477,9999,0,0,0,0,0,10.014758030947812,0,1.4040988683700562,0,0,0,0,0,0,1.1418857574462891,0,null,0,0,12.560742378234863,0,9999,-9.9823083877563477,0.1540572571747762,0,0.1540572571747762,7.5314779765300564E-3,0,7.5314779765300564E-3,null,0,"SmComWX",0,0,0,0,0,0,0,9999,9999]
["Demand Control Ventilation-New-Anchor","Demand Control Ventilation-DCV Only-Anchor-ElecHt-Heat-New",15,18.770019947260476,0,0,0,0,"ExCOMM",0.47692599892616272,0.4638296365737915,20.465846343516205,2.2721295244991779E-3,4.898629616945982E-3,0,0,0,0,0,0,0,"(na)","(na)","(na)","(na)",0,0,0,0,0,0,0,0,0,0,0,0,0,10.014758030947812,0,1.0014758110046387,0,11.016233444213867,0,9999,10.014758030947812,1.4040988683700562,1.1418857574462891,0,12.560742378234863,0,9999,10.014758030947812,1.4040988683700562,1.1418857574462891,0,12.560742378234863,0,-9.9823083877563477,9999,0,0,0,0,0,10.014758030947812,0,1.4040988683700562,0,0,0,0,0,0,1.1418857574462891,0,null,0,0,12.560742378234863,0,9999,-9.9823083877563477,0.1540572571747762,0,0.1540572571747762,7.5314779765300564E-3,0,7.5314779765300564E-3,null,0,"SmComWX",0,0,0,0,0,0,0,9999,9999]
["Demand Control Ventilation-New-K-12","Demand Control Ventilation-DCV Only-K-12-ElecHt-Heat-New",15,0,0,0,0,0,"ExCOMM",0,0,0,0,0,0,0,0,0,0,0,0,"(na)","(na)","(na)","(na)",0,0,0,0,0,0,0,0,0,0,0,0,0,0,0,0,0,0,0,9999,0,0,0,0,0,0,9999,0,0,0,0,0,0,9999,9999,9999,9999,9999,9999,9999,0,0,0,0,0,0,0,0,0,0,0,null,0,0,0,0,9999,9999,0,0,0,0,0,0,null,0,"SmComWX",0,0,0,0,0,0,0,9999,9999]
["Demand Control Ventilation-New-University","Demand Control Ventilation-DCV Only-University-ElecHt-Heat-New",15,0,0,0,0,0,"ExCOMM",0,0,0,0,0,0,0,0,0,0,0,0,"(na)","(na)","(na)","(na)",0,0,0,0,0,0,0,0,0,0,0,0,0,0,0,0,0,0,0,9999,0,0,0,0,0,0,9999,0,0,0,0,0,0,9999,9999,9999,9999,9999,9999,9999,0,0,0,0,0,0,0,0,0,0,0,null,0,0,0,0,9999,9999,0,0,0,0,0,0,null,0,"SmComWX",0,0,0,0,0,0,0,9999,9999]
["Demand Control Ventilation-New-Warehouse","Demand Control Ventilation-DCV Only-Warehouse-ElecHt-Heat-New",15,12.599784822736598,0,0,0,0,"ExCOMM",0.47692599892616272,0.4638296365737915,13.73814523735393,1.5252165030688047E-3,3.2883118838071823E-3,0,0,0,0,0,0,0,"(na)","(na)","(na)","(na)",0,0,0,0,0,0,0,0,0,0,0,0,0,6.7226245148520762,0,0.67226248979568481,0,7.3948869705200195,0,9999,6.7226245148520762,0.94253194332122803,0.76651567220687866,0,8.4316720962524414,0,9999,6.7226245148520762,0.94253194332122803,0.76651567220687866,0,8.4316720962524414,0,-9.9823083877563477,9999,0,0,0,0,0,6.7226245148520762,0,0.94253194332122803,0,0,0,0,0,0,0.76651567220687866,0,null,0,0,8.4316720962524414,0,9999,-9.9823083877563477,0.10341429024780943,0,0.10341429024780943,5.0556686763302272E-3,0,5.0556686763302272E-3,null,0,"SmComWX",0,0,0,0,0,0,0,9999,9999]
["Demand Control Ventilation-New-Supermarket","Demand Control Ventilation-DCV Only-Supermarket-ElecHt-Heat-New",15,5.8483478464693821,0,0,0,0,"ExCOMM",0.47692599892616272,0.4638296365737915,6.3767320826286831,7.079483475536108E-4,1.5263111563399434E-3,0,0,0,0,0,0,0,"(na)","(na)","(na)","(na)",0,0,0,0,0,0,0,0,0,0,0,0,0,3.1203903207228074,0,0.31203904747962952,0,3.432429313659668,0,9999,3.1203903207228074,0.43748804926872253,0.35578784346580505,0,3.9136662483215332,0,9999,3.1203903207228074,0.43748804926872253,0.35578784346580505,0,3.9136662483215332,0,-9.9823083877563477,9999,0,0,0,0,0,3.1203903207228074,0,0.43748804926872253,0,0,0,0,0,0,0.35578784346580505,0,null,0,0,3.9136662483215332,0,9999,-9.9823083877563477,4.800103733307861E-2,0,4.800103733307861E-2,2.3466519017311866E-3,0,2.3466519017311866E-3,null,0,"SmComWX",0,0,0,0,0,0,0,9999,9999]
["Demand Control Ventilation-New-MIniMart","Demand Control Ventilation-DCV Only-MIniMart-ElecHt-Heat-New",15,13.646144975095222,0,0,0,0,"ExCOMM",0.47692599892616272,0.4638296365737915,14.879041526133596,1.6518795164301991E-3,3.5613926593214273E-3,0,0,0,0,0,0,0,"(na)","(na)","(na)","(na)",0,0,0,0,0,0,0,0,0,0,0,0,0,7.2809107483532207,0,0.72809106111526489,0,8.0090017318725586,0,9999,7.2809107483532207,1.0208053588867187,0.83017164468765259,0,9.1318874359130859,0,9999,7.2809107483532207,1.0208053588867187,0.83017164468765259,0,9.1318874359130859,0,-9.9823083877563477,9999,0,0,0,0,0,7.2809107483532207,0,1.0208053588867187,0,0,0,0,0,0,0.83017164468765259,0,null,0,0,9.1318874359130859,0,9999,-9.9823083877563477,0.11200242044384984,0,0.11200242044384984,5.4755211040394373E-3,0,5.4755211040394373E-3,null,0,"SmComWX",0,0,0,0,0,0,0,9999,9999]
["Demand Control Ventilation-New-Restaurant","Demand Control Ventilation-DCV Only-Restaurant-ElecHt-Heat-New",15,14.51717550542045,0,0,0,0,"ExCOMM",0.47692599892616272,0.4638296365737915,15.82876758099319,1.7573185032233596E-3,3.788715461269021E-3,0,0,0,0,0,0,0,"(na)","(na)","(na)","(na)",0,0,0,0,0,0,0,0,0,0,0,0,0,7.7456497322906701,0,0.77456498146057129,0,8.5202150344848633,0,9999,7.7456497322906701,1.0859633684158325,0.88316130638122559,0,9.7147741317749023,0,9999,7.7456497322906701,1.0859633684158325,0.88316130638122559,0,9.7147741317749023,0,-9.9823093414306641,9999,0,0,0,0,0,7.7456497322906701,0,1.0859633684158325,0,0,0,0,0,0,0.88316130638122559,0,null,0,0,9.7147741317749023,0,9999,-9.9823093414306641,0.1191515111104787,0,0.1191515111104787,5.8250224511057829E-3,0,5.8250224511057829E-3,null,0,"SmComWX",0,0,0,0,0,0,0,9999,9999]
["Demand Control Ventilation-New-Lodging","Demand Control Ventilation-DCV Only-Lodging-ElecHt-Heat-New",15,170.97812645766194,0,0,0,0,"ExCOMM",0.47692599892616272,0.4638296365737915,186.42559112972651,2.0697072148323059E-2,4.4622141867876053E-2,0,0,0,0,0,0,0,"(na)","(na)","(na)","(na)",0,0,0,0,0,0,0,0,0,0,0,0,0,91.225505879560799,0,9.1225509643554687,0,100.34806060791016,0,9999,91.225505879560799,12.79008674621582,10.401559829711914,0,114.41715240478516,0,9999,91.225505879560799,12.79008674621582,10.401559829711914,0,114.41715240478516,0,-9.9823083877563477,9999,0,0,0,0,0,91.225505879560799,0,12.79008674621582,0,0,0,0,0,0,10.401559829711914,0,null,0,0,114.41715240478516,0,9999,-9.9823083877563477,1.4033240919807188,0,1.4033240919807188,6.8605041310688467E-2,0,6.8605041310688467E-2,null,0,"SmComWX",0,0,0,0,0,0,0,9999,9999]
["Demand Control Ventilation-New-Hospital","Demand Control Ventilation-DCV Only-Hospital-ElecHt-Heat-New",15,89.35990038089659,0,0,0,0,"ExCOMM",0.47692599892616272,0.4638296365737915,97.433353592906883,1.0817104950547218E-2,2.3321289569139481E-2,0,0,0,0,0,0,0,"(na)","(na)","(na)","(na)",0,0,0,0,0,0,0,0,0,0,0,0,0,47.67804096632814,0,4.7678041458129883,0,52.445846557617188,0,9999,47.67804096632814,6.6846041679382324,5.4362645149230957,0,59.798908233642578,0,9999,47.67804096632814,6.6846041679382324,5.4362645149230957,0,59.798908233642578,0,-9.9823093414306641,9999,0,0,0,0,0,47.67804096632814,0,6.6846041679382324,0,0,0,0,0,0,5.4362645149230957,0,null,0,0,59.798908233642578,0,9999,-9.9823093414306641,0.73343242003860509,0,0.73343242003860509,3.5855695603662377E-2,0,3.5855695603662377E-2,null,0,"SmComWX",0,0,0,0,0,0,0,9999,9999]
["Demand Control Ventilation-New-OtherHealth","Demand Control Ventilation-DCV Only-OtherHealth-ElecHt-Heat-New",15,2.8063439789041897,0,0,0,0,"ExCOMM",0.47692599892616272,0.4638296365737915,3.0598904434136021,3.3971073571592569E-4,7.3240412166342139E-4,0,0,0,0,0,0,0,"(na)","(na)","(na)","(na)",0,0,0,0,0,0,0,0,0,0,0,0,0,1.4973269063805543,0,0.14973269402980804,0,1.6470595598220825,0,9999,1.4973269063805543,0.2099297046661377,0.17072565853595734,0,1.8779822587966919,0,9999,1.4973269063805543,0.2099297046661377,0.17072565853595734,0,1.8779822587966919,0,-9.9823083877563477,9999,0,0,0,0,0,1.4973269063805543,0,0.2099297046661377,0,0,0,0,0,0,0.17072565853595734,0,null,0,0,1.8779822587966919,0,9999,-9.9823083877563477,2.3033414844187534E-2,0,2.3033414844187534E-2,1.1260466387927016E-3,0,1.1260466387927016E-3,null,0,"SmComWX",0,0,0,0,0,0,0,9999,9999]
["Demand Control Ventilation-New-Other","Demand Control Ventilation-DCV Only-Other-ElecHt-Heat-New",15,30.255653091122184,0,0,0,0,"ExCOMM",0.47692599892616272,0.4638296365737915,32.989178963339988,3.6624767817556858E-3,7.8961681574583054E-3,0,0,0,0,0,0,0,"(na)","(na)","(na)","(na)",0,0,0,0,0,0,0,0,0,0,0,0,0,16.142926093166523,0,1.6142926216125488,0,17.757219314575195,0,9999,16.142926093166523,2.2632861137390137,1.8406212329864502,0,20.246833801269531,0,9999,16.142926093166523,2.2632861137390137,1.8406212329864502,0,20.246833801269531,0,-9.9823074340820312,9999,0,0,0,0,0,16.142926093166523,0,2.2632861137390137,0,0,0,0,0,0,1.8406212329864502,0,null,0,0,20.246833801269531,0,9999,-9.9823074340820312,0.24832700989910791,0,0.24832700989910791,1.2140092848147354E-2,0,1.2140092848147354E-2,null,0,"SmComWX",0,0,0,0,0,0,0,9999,9999]
["Demand Control Ventilation-New-Large Off","Demand Control Ventilation-DCV Only-Large Off-GasHt-Vent-New",15,3.5128799999999996,15.187630000000002,92.933300000000003,0,0,"ComEconoMizer",0.40000000596046448,6.6115702502429485E-3,3.8278036286574624,7.2225434450956527E-6,1.0924097150564194E-3,15.339506300000002,3.8745637983083725E-2,8.8058270514011383E-2,9.2402257919311523,51.06463623046875,0,58.800296783447266,"(na)","(na)","(na)","(na)",0,0,0,0,0,0,0,0,9.2402257919311523,51.06463623046875,0,58.800296783447266,119.10515880584717,2.0090006117231418,0,0.20090006291866302,0,2.2099006175994873,9.2402257919311523,0.23916089545902197,2.0090006117231418,0.31311842799186707,0.23221190273761749,0,2.5543308258056641,51.06463623046875,5.0021524307433195E-2,2.0090006117231418,0.31311842799186707,0.23221190273761749,0,2.5543308258056641,60.304862976074219,1252.744384765625,4.2356965206285263E-2,193.70365905761719,1070.4725341796875,0,1232.6358642578125,2496.81201171875,2.0090006117231418,128.8863447945825,0.31311842799186707,0,0,0,0,0,0,0.23221190273761749,119.10516357421875,null,0,0,131.440673828125,119.10516357421875,1.1035682399708024,-216.47557067871094,2.8117639213567181E-2,1.4357777896799984,1.4638954288935655,1.3581930333141825E-3,8.9736111854999967E-2,9.1094304888314145E-2,null,15.187630000000002,"SmComWX",0.47692599892616272,0.43999999761581421,128.8863447945825,0,0,128.88633728027344,0,0,9999]
["Demand Control Ventilation-New-Medium Off","Demand Control Ventilation-DCV Only-Medium Off-GasHt-Vent-New",15,3.8555999999999995,16.669350000000001,102,0,0,"ComEconoMizer",0.40000000596046448,6.6115702502429485E-3,4.20124788511185,7.9271812865044922E-6,1.1989861959591508E-3,16.836043499999995,4.2525704950094223E-2,9.6649326384067535E-2,10.141715049743652,56.046573638916016,0,64.536933898925781,"(na)","(na)","(na)","(na)",0,0,0,0,0,0,0,0,10.141715049743652,56.046573638916016,0,64.536933898925781,130.72522258758545,2.2050006714034471,0,0.22050006687641144,0,2.4255006313323975,10.141715049743652,0.23916080528619929,2.2050006714034471,0.34366655349731445,0.25486671924591064,0,2.8035340309143066,56.046573638916016,5.0021504654479618E-2,2.2050006714034471,0.34366655349731445,0.25486671924591064,0,2.8035340309143066,66.188285827636719,1252.744873046875,4.2356948633830049E-2,193.7037353515625,1070.472900390625,0,1232.63623046875,2496.812744140625,2.2050006714034471,141.46062233551734,0.34366655349731445,0,0,0,0,0,0,0.25486671924591064,130.7252197265625,null,0,0,144.26416015625,130.7252197265625,1.1035679005276935,-216.47480773925781,3.0860823527085954E-2,1.5758536716000024,1.6067144951270884,1.4906996707106889E-3,9.8490854474999973E-2,9.9981554145710666E-2,null,16.669350000000001,"SmComWX",0.47692599892616272,0.43999999761581421,141.46062233551734,0,0,141.46061706542969,0,0,9999]
["Demand Control Ventilation-New-Small Off","Demand Control Ventilation-DCV Only-Small Off-GasHt-Vent-New",15,4.069799999999999,17.595425000000002,107.66670000000001,0,0,"ComEconoMizer",0.40000000596046448,6.6115702502429485E-3,4.4346505453958409,8.3675804489757866E-6,1.2655965983867645E-3,17.77137925000001,4.4888239353895187E-2,0.10201872885227203,10.705146789550781,59.160289764404297,0,68.122344970703125,"(na)","(na)","(na)","(na)",0,0,0,0,0,0,0,0,10.705146789550781,59.160289764404297,0,68.122344970703125,137.9877815246582,2.3275007087036363,0,0.23275007307529449,0,2.5602507591247559,10.705146789550781,0.23916073568257595,2.3275007087036363,0.36275914311408997,0.26902598142623901,0,2.9592857360839844,59.160289764404297,5.0021489837673433E-2,2.3275007087036363,0.36275914311408997,0.26902598142623901,0,2.9592857360839844,69.865432739257813,1252.7452392578125,4.2356936121891883E-2,193.70379638671875,1070.47314453125,0,1232.63671875,2496.813720703125,2.3275007087036363,149.31954579860161,0.36275914311408997,0,0,0,0,0,0,0.26902598142623901,137.98777770996094,null,0,0,152.27883911132812,137.98777770996094,1.1035675344516618,-216.47398376464844,3.257531372303514E-2,1.6634010978000118,1.6959764115230469,1.5735163190835047E-3,0.10396256861250003,0.10553608493158353,null,17.595425000000002,"SmComWX",0.47692599892616272,0.43999999761581421,149.31954579860161,0,0,149.31954956054687,0,0,9999]
["Demand Control Ventilation-New-Big Box","Demand Control Ventilation-DCV Only-Big Box-GasHt-Vent-New",15,7.9437409920000004,21.92697144000001,34.0349,0,0,"ComEconoMizer",0.40000000596046448,6.6115702502429485E-3,8.6558836607833598,1.6332471204805188E-5,2.4702863302081823E-3,22.14624115440002,5.5938582867383957E-2,0.12713314592838287,3.3840415477752686,18.70136833190918,0,21.534393310546875,"(na)","(na)","(na)","(na)",0,0,0,0,0,0,0,0,3.3840415477752686,18.70136833190918,0,21.534393310546875,43.619803190231323,4.542990512712703,0,0.45429906249046326,0,4.9972896575927734,3.3840415477752686,1.4767222874342298,4.542990512712703,0.70806050300598145,0.52510511875152588,0,5.776155948638916,18.70136833190918,0.30886275442287575,4.542990512712703,0.70806050300598145,0.52510511875152588,0,5.776155948638916,22.085409164428711,193.30642700195312,0.26153719428062244,31.371059417724609,173.3671875,0,199.63014221191406,404.368408203125,4.542990512712703,186.07822295623478,0.70806050300598145,0,0,0,0,0,0,0.52510511875152588,43.619804382324219,null,0,0,191.85438537597656,43.619804382324219,4.3983319459462988,-1332.063232421875,6.3582941409635441E-2,2.0728881720518459,2.1364711134614813,3.0713072105471003E-3,0.12955551075324009,0.1326268179637872,null,21.92697144000001,"SmComWX",0.47692599892616272,0.43999999761581421,186.07822295623478,0,0,186.07821655273437,0,0,9999]
["Demand Control Ventilation-New-Small Box","Demand Control Ventilation-DCV Only-Small Box-GasHt-Vent-New",15,9.1205002239999988,25.175159680000004,39.076700000000002,0,0,"ComEconoMizer",0.40000000596046448,6.6115702502429485E-3,9.9381373268083237,1.8751909010461532E-5,2.8362262528389692E-3,25.426911276800002,6.4225144684314728E-2,0.14596623182296753,3.885340690612793,21.471717834472656,0,24.724416732788086,"(na)","(na)","(na)","(na)",0,0,0,0,0,0,0,0,3.885340690612793,21.471717834472656,0,24.724416732788086,50.081475257873535,5.2159739385453152,0,0.52159738540649414,0,5.7375712394714355,3.885340690612793,1.4767228361245417,5.2159739385453152,0.8129502534866333,0.60289239883422852,0,6.6318163871765137,21.471717834472656,0.30886287915999217,5.2159739385453152,0.8129502534866333,0.60289239883422852,0,6.6318163871765137,25.357059478759766,193.30635070800781,0.26153729874880388,31.37104606628418,173.36711120605469,0,199.63006591796875,404.36822509765625,5.2159739385453152,213.64322878389544,0.8129502534866333,0,0,0,0,0,0,0.60289239883422852,50.081474304199219,null,0,0,220.27503967285156,50.081474304199219,4.3983338836391255,-1332.0633544921875,7.300190577124481E-2,2.3799588955084632,2.4529608012797079,3.5262803923211874E-3,0.14874743096928,0.1522737113616012,null,25.175159680000004,"SmComWX",0.47692599892616272,0.43999999761581421,213.64322878389544,0,0,213.64323425292969,0,0,9999]
["Demand Control Ventilation-New-High End","Demand Control Ventilation-DCV Only-High End-GasHt-Vent-New",15,6.9751897600000001,26.992958608000002,68.384200000000007,0,0,"ComEconoMizer",0.40000000596046448,6.6115702502429485E-3,7.600503482584771,1.4341113455884624E-5,2.1690933499485254E-3,27.262888194080006,6.8862579762935638E-2,0.15650586783885956,6.7993435859680176,37.575492858886719,0,43.267711639404297,"(na)","(na)","(na)","(na)",0,0,0,0,0,0,0,0,6.7993435859680176,37.575492858886719,0,43.267711639404297,87.642548084259033,3.9890803257512366,0,0.39890804886817932,0,4.3879885673522949,6.7993435859680176,0.64535470507403425,3.9890803257512366,0.62172931432723999,0.46108096837997437,0,5.0718908309936523,37.575492858886719,0.13497868484402151,3.9890803257512366,0.62172931432723999,0.46108096837997437,0,5.0718908309936523,44.374835968017578,457.05709838867187,0.11429654765626832,71.784309387207031,396.70458984375,0,456.80038452148437,925.289306640625,3.9890803257512366,229.06956320219641,0.62172931432723999,0,0,0,0,0,0,0.46108096837997437,87.642547607421875,null,0,0,234.14144897460937,87.642547607421875,2.6715500656079394,-1504.552490234375,5.5830506341761912E-2,2.5518063349658915,2.6076368413076536,2.6968339761325268E-3,0.159487895935368,0.16218472991150051,null,26.992958608000002,"SmComWX",0.47692599892616272,0.43999999761581421,229.06956320219641,0,0,229.06956481933594,0,0,9999]
["Demand Control Ventilation-New-Anchor","Demand Control Ventilation-DCV Only-Anchor-GasHt-Vent-New",15,6.9751897600000001,26.992958608000002,68.384200000000007,0,0,"ComEconoMizer",0.40000000596046448,6.6115702502429485E-3,7.600503482584771,1.4341113455884624E-5,2.1690933499485254E-3,27.262888194080006,6.8862579762935638E-2,0.15650586783885956,6.7993435859680176,37.575492858886719,0,43.267711639404297,"(na)","(na)","(na)","(na)",0,0,0,0,0,0,0,0,6.7993435859680176,37.575492858886719,0,43.267711639404297,87.642548084259033,3.9890803257512366,0,0.39890804886817932,0,4.3879885673522949,6.7993435859680176,0.64535470507403425,3.9890803257512366,0.62172931432723999,0.46108096837997437,0,5.0718908309936523,37.575492858886719,0.13497868484402151,3.9890803257512366,0.62172931432723999,0.46108096837997437,0,5.0718908309936523,44.374835968017578,457.05709838867187,0.11429654765626832,71.784309387207031,396.70458984375,0,456.80038452148437,925.289306640625,3.9890803257512366,229.06956320219641,0.62172931432723999,0,0,0,0,0,0,0.46108096837997437,87.642547607421875,null,0,0,234.14144897460937,87.642547607421875,2.6715500656079394,-1504.552490234375,5.5830506341761912E-2,2.5518063349658915,2.6076368413076536,2.6968339761325268E-3,0.159487895935368,0.16218472991150051,null,26.992958608000002,"SmComWX",0.47692599892616272,0.43999999761581421,229.06956320219641,0,0,229.06956481933594,0,0,9999]
["Demand Control Ventilation-New-K-12","Demand Control Ventilation-DCV Only-K-12-GasHt-Vent-New",15,0,0,102.88679999999999,0,0,"ComEconoMizer",0,0,0,0,0,0,0,0,10.229887962341309,56.533847808837891,0,65.098030090332031,"(na)","(na)","(na)","(na)",0,0,0,0,0,0,0,0,10.229887962341309,56.533847808837891,0,65.098030090332031,131.86176586151123,0,0,0,0,0,10.229887962341309,0,0,0,0,0,0,56.533847808837891,0,0,0,0,0,0,66.76373291015625,9999,0,9999,9999,9999,9999,9999,0,0,0,0,0,0,0,0,0,0,131.86175537109375,null,0,0,0,131.86175537109375,0,9999,0,0,0,0,0,0,null,0,"SmComWX",0,0,0,0,0,0,0,9999,9999]
["Demand Control Ventilation-New-University","Demand Control Ventilation-DCV Only-University-GasHt-Vent-New",15,0,0,73.62,0,0,"ComEconoMizer",0,0,0,0,0,0,0,0,7.3199315071105957,40.452438354492187,0,46.580482482910156,"(na)","(na)","(na)","(na)",0,0,0,0,0,0,0,0,7.3199315071105957,40.452438354492187,0,46.580482482910156,94.352852344512939,0,0,0,0,0,7.3199315071105957,0,0,0,0,0,0,40.452438354492187,0,0,0,0,0,0,47.772369384765625,9999,0,9999,9999,9999,9999,9999,0,0,0,0,0,0,0,0,0,0,94.352851867675781,null,0,0,0,94.352851867675781,0,9999,0,0,0,0,0,0,null,0,"SmComWX",0,0,0,0,0,0,0,9999,9999]
["Demand Control Ventilation-New-Warehouse","Demand Control Ventilation-DCV Only-Warehouse-GasHt-Vent-New",15,1.0409817599999998,4.500593760000001,27.539200000000001,0,0,"ComEconoMizer",0.40000000596046448,6.6115702502429485E-3,1.1343039780163948,2.1402768197731348E-6,3.2371687120757997E-4,4.5455996976000019,1.1481606401503086E-2,2.6094559580087662E-2,2.7381834983825684,15.132135391235352,0,17.424467086791992,"(na)","(na)","(na)","(na)",0,0,0,0,0,0,0,0,2.7381834983825684,15.132135391235352,0,17.424467086791992,35.294785976409912,0.59533288715601751,0,5.9533290565013885E-2,0,0.65486615896224976,2.7381834983825684,0.23916080792534819,0.59533288715601751,9.2787280678749084E-2,6.8812020123004913E-2,0,0.75693219900131226,15.132135391235352,5.0021505120565628E-2,0.59533288715601751,9.2787280678749084E-2,6.8812020123004913E-2,0,0.75693219900131226,17.870319366455078,1252.744873046875,4.2356949119555148E-2,193.70375061035156,1070.472900390625,0,1232.6363525390625,2496.81298828125,0.59533288715601751,38.193258535512577,9.2787280678749084E-2,0,0,0,0,0,0,6.8812020123004913E-2,35.294784545898437,null,0,0,38.950191497802734,35.294784545898437,1.10356788473431,-216.47476196289062,8.3321803066384852E-3,0.42546813169535774,0.4338003120019962,4.0247721932976273E-4,2.6591758230960015E-2,2.6994235450289776E-2,null,4.500593760000001,"SmComWX",0.47692599892616272,0.43999999761581421,38.193258535512577,0,0,38.193260192871094,0,0,9999]
["Demand Control Ventilation-New-Supermarket","Demand Control Ventilation-DCV Only-Supermarket-GasHt-Vent-New",15,1.4030876160000001,23.913735360000004,37.118699999999997,0,0,"ComEconoMizer",0.40000000596046448,6.6115702502429485E-3,1.5288719990005786,2.8847730391134974E-6,4.3632191955111921E-4,24.152872713600015,6.1007082462310791E-2,0.13865245878696442,3.6906595230102539,20.395843505859375,0,23.485561370849609,"(na)","(na)","(na)","(na)",0,0,0,0,0,0,0,0,3.6906595230102539,20.395843505859375,0,23.485561370849609,47.572064399719238,0.80241963256506565,0,8.0241963267326355E-2,0,0.88266158103942871,3.6906595230102539,0.239160938669427,0.80241963256506565,0.12506335973739624,9.2748299241065979E-2,0,1.0202312469482422,20.395843505859375,5.0021529693068736E-2,0.80241963256506565,0.12506335973739624,9.2748299241065979E-2,0,1.0202312469482422,24.086502075195313,1252.744140625,4.2356970221899701E-2,193.70362854003906,1070.472412109375,0,1232.6356201171875,2496.8115234375,0.80241963256506565,202.93844009469274,0.12506335973739624,0,0,0,0,0,0,9.2748299241065979E-2,47.572063446044922,null,0,0,203.95866394042969,47.572063446044922,4.2873623007242738,-8165.8095703125,1.1230532034032516E-2,2.2607088859929578,2.2719394180269905,5.4247905569806151E-4,0.14129430537456009,0.14183678443025816,null,23.913735360000004,"SmComWX",0.47692599892616272,0.43999999761581421,202.93844009469274,0,0,202.93844604492187,0,0,9999]
["Demand Control Ventilation-New-MIniMart","Demand Control Ventilation-DCV Only-MIniMart-GasHt-Vent-New",15,3.2738711039999995,55.79871584,86.610299999999995,0,0,"ComEconoMizer",0.40000000596046448,6.6115702502429485E-3,3.5673679976680162,6.7311370912648272E-6,1.0180844692513347E-3,56.35670299840001,0.14234985411167145,0.32352238893508911,8.6115388870239258,47.590301513671875,0,54.799640655517578,"(na)","(na)","(na)","(na)",0,0,0,0,0,0,0,0,8.6115388870239258,47.590301513671875,0,54.799640655517578,111.00148105621338,1.872312475985151,0,0.18723125755786896,0,2.0595438480377197,8.6115388870239258,0.23916093982300771,1.872312475985151,0.29181450605392456,0.21641270816326141,0,2.3805396556854248,47.590301513671875,5.0021529901810954E-2,1.872312475985151,0.29181450605392456,0.21641270816326141,0,2.3805396556854248,56.201839447021484,1252.744140625,4.2356970398657351E-2,193.70364379882812,1070.4722900390625,0,1232.6356201171875,2496.8115234375,1.872312475985151,473.52302688761586,0.29181450605392456,0,0,0,0,0,0,0.21641270816326141,111.00148010253906,null,0,0,475.903564453125,111.00148010253906,4.2873623499271911,-8165.8095703125,2.6204574746075869E-2,5.2749874006502502,5.3011919753963257,1.2657844632954767E-3,0.32968671254064014,0.33095249700393559,null,55.79871584,"SmComWX",0.47692599892616272,0.43999999761581421,473.52302688761586,0,0,473.52304077148437,0,0,9999]
["Demand Control Ventilation-New-Restaurant","Demand Control Ventilation-DCV Only-Restaurant-GasHt-Vent-New",15,21.505164799999996,59.360335999999997,92.1387,0,0,"ComEconoMizer",0.40000000596046448,6.6115702502429485E-3,23.433065705722015,4.4215001253178343E-5,6.6875186748802662E-3,59.953939359999978,0.15143601596355438,0.34417277574539185,9.161219596862793,50.628025054931641,0,58.297542572021484,"(na)","(na)","(na)","(na)",0,0,0,0,0,0,0,0,9.161219596862793,50.628025054931641,0,58.297542572021484,118.08678722381592,12.298709104326623,0,1.2298709154129028,0,13.528579711914063,9.161219596862793,1.4767225997259481,12.298709104326623,1.9168498516082764,1.4215558767318726,0,15.637114524841309,50.628025054931641,0.30886282480306965,12.298709104326623,1.9168498516082764,1.4215558767318726,0,15.637114524841309,59.78924560546875,193.30638122558594,0.261537253459807,31.371053695678711,173.36714172363281,0,199.63011169433594,404.36831665039062,12.298709104326623,503.74790094427237,1.9168498516082764,0,0,0,0,0,0,1.4215558767318726,118.0867919921875,null,0,0,519.385009765625,118.0867919921875,4.3983328449747461,-1332.0633544921875,0.17213069193217667,5.6116887240959805,5.7838194160281571,8.3145923036464075E-3,0.35073054525599995,0.35904513755964634,null,59.360335999999997,"SmComWX",0.47692599892616272,0.43999999761581421,503.74790094427237,0,0,503.74789428710937,0,0,9999]
["Demand Control Ventilation-New-Lodging","Demand Control Ventilation-DCV Only-Lodging-GasHt-Vent-New",15,1.6791667199999998,7.2597307200000003,44.422400000000003,0,0,"ComEconoMizer",0.40000000596046448,6.6115702502429485E-3,1.8297011181528697,3.4523966405686224E-6,5.2217498887330294E-4,7.3323280272000018,1.8520526587963104E-2,4.2092107236385345E-2,4.4168558120727539,24.409051895141602,0,28.106721878051758,"(na)","(na)","(na)","(na)",0,0,0,0,0,0,0,0,4.4168558120727539,24.409051895141602,0,28.106721878051758,56.932629585266113,0.96030805711129974,0,9.6030808985233307E-2,0,1.056338906288147,4.4168558120727539,0.23916082186998344,0.96030805711129974,0.14967150986194611,0.11099795997142792,0,1.2209775447845459,24.409051895141602,5.0021505636099618E-2,0.96030805711129974,0.14967150986194611,0.11099795997142792,0,1.2209775447845459,28.825908660888672,1252.7447509765625,4.235694984339021E-2,193.7037353515625,1070.472900390625,0,1232.6363525390625,2496.81298828125,0.96030805711129974,61.608042643502806,0.14967150986194611,0,0,0,0,0,0,0.11099795997142792,56.932632446289063,null,0,0,62.829021453857422,56.932632446289063,1.1035678041011214,-216.47459411621094,1.3440312225976695E-2,0.6863059033459229,0.69974621557189964,6.4922016717822064E-4,4.2894118959120014E-2,4.3543339126298236E-2,null,7.2597307200000003,"SmComWX",0.47692599892616272,0.43999999761581421,61.608042643502806,0,0,61.608043670654297,0,0,9999]
["Demand Control Ventilation-New-Hospital","Demand Control Ventilation-DCV Only-Hospital-GasHt-Vent-New",15,3.7490039999999993,16.208491500000001,99.18,0,0,"ComEconoMizer",0.40000000596046448,6.6115702502429485E-3,4.0850957376999357,7.7080185292288661E-6,1.1658378643915057E-3,16.370576414999999,4.1349988430738449E-2,9.3977250158786774E-2,9.8613262176513672,54.497051239013672,0,62.752677917480469,"(na)","(na)","(na)","(na)",0,0,0,0,0,0,0,0,9.8613262176513672,54.497051239013672,0,62.752677917480469,127.11105537414551,2.1440388881352352,0,0.21440389752388,0,2.3584427833557129,9.8613262176513672,0.23916081200494108,2.1440388881352352,0.33416518568992615,0.2478204071521759,0,2.7260243892669678,54.497051239013672,5.0021504264909929E-2,2.1440388881352352,0.33416518568992615,0.2478204071521759,0,2.7260243892669678,64.358375549316406,1252.744873046875,4.2356948523335193E-2,193.7037353515625,1070.472900390625,0,1232.63623046875,2496.81298828125,2.1440388881352352,137.54965218859411,0.33416518568992615,0,0,0,0,0,0,0.2478204071521759,127.11105346679687,null,0,0,140.27568054199219,127.11105346679687,1.1035678868495362,-216.47477722167969,3.0007612523690053E-2,1.5322859524439947,1.5622935649676848,1.4494862092263349E-3,9.5767872027750015E-2,9.7217358236976345E-2,null,16.208491500000001,"SmComWX",0.47692599892616272,0.43999999761581421,137.54965218859411,0,0,137.54965209960937,0,0,9999]
["Demand Control Ventilation-New-OtherHealth","Demand Control Ventilation-DCV Only-OtherHealth-GasHt-Vent-New",15,4.7607083999999986,20.582507150000001,125.9447,0,0,"ComEconoMizer",0.40000000596046448,6.6115702502429485E-3,5.1874976909259818,9.788101124286186E-6,1.4804502716287971E-3,20.788332221500003,5.2508678287267685E-2,0.11933790892362595,12.522501945495605,69.20361328125,0,79.687110900878906,"(na)","(na)","(na)","(na)",0,0,0,0,0,0,0,0,12.522501945495605,69.20361328125,0,79.687110900878906,161.41322612762451,2.7226281819576799,0,0.2722628116607666,0,2.9948909282684326,12.522501945495605,0.23916075291133981,2.7226281819576799,0.42434290051460266,0.31469711661338806,0,3.4616682529449463,69.20361328125,5.00214950484901E-2,2.7226281819576799,0.42434290051460266,0.31469711661338806,0,3.4616682529449463,81.726112365722656,1252.7451171875,4.2356940489357904E-2,193.70378112792969,1070.4730224609375,0,1232.6365966796875,2496.8134765625,2.7226281819576799,174.66873457358776,0.42434290051460266,0,0,0,0,0,0,0.31469711661338806,161.41322326660156,null,0,0,178.13040161132812,161.41322326660156,1.1035675960603337,-216.47412109375,3.8105452276251554E-2,1.9457878959324011,1.9838933482086527,1.840643854193798E-3,0.12161174349577501,0.12345238734996881,null,20.582507150000001,"SmComWX",0.47692599892616272,0.43999999761581421,174.66873457358776,0,0,174.66873168945312,0,0,9999]
["Demand Control Ventilation-New-Other","Demand Control Ventilation-DCV Only-Other-GasHt-Vent-New",15,3.0104423999999992,13.015384899999999,79.641300000000001,0,0,"ComEconoMizer",0.40000000596046448,6.6115702502429485E-3,3.2803233650407306,6.1895229919173289E-6,9.3616533558815718E-4,13.145538749000004,3.3203959465026855E-2,7.5463540852069855E-2,7.9186210632324219,43.761001586914063,0,50.390247344970703,"(na)","(na)","(na)","(na)",0,0,0,0,0,0,0,0,7.9186210632324219,43.761001586914063,0,50.390247344970703,102.06986999511719,1.7216587595241726,0,0.1721658855676651,0,1.8938246965408325,7.9186210632324219,0.23916091324096883,1.7216587595241726,0.26833397150039673,0.19899927079677582,0,2.1889920234680176,43.761001586914063,5.0021524243995447E-2,1.7216587595241726,0.26833397150039673,0.19899927079677582,0,2.1889920234680176,51.679622650146484,1252.744384765625,4.2356965658206881E-2,193.70365905761719,1070.472412109375,0,1232.6356201171875,2496.811767578125,1.7216587595241726,110.45208408787978,0.26833397150039673,0,0,0,0,0,0,0.19899927079677582,102.06986999511719,null,0,0,112.64107513427734,102.06986999511719,1.1035683311352278,-216.47578430175781,2.4096050328057093E-2,1.2304224269064055,1.2545184772344626,1.1639344056368645E-3,7.6901401681649981E-2,7.8065336087286843E-2,null,13.015384899999999,"SmComWX",0.47692599892616272,0.43999999761581421,110.45208408787978,0,0,110.45208740234375,0,0,9999]
["Demand Control Ventilation-New-Large Off","Demand Control Ventilation-DCV Only-Large Off-HtPmpHt-Vent-New",15,0.41327999999999998,0,10.933299999999999,0,0,"ComEconoMizer",0.40000000596046448,6.6115702502429485E-3,0.45032983866558413,8.4971100022812607E-7,1.2851879000663757E-4,0,0,0,1.0870825052261353,6.0075883865356445,0,6.91766357421875,"(na)","(na)","(na)","(na)",0,0,0,0,0,0,0,0,1.0870825052261353,6.0075883865356445,0,6.91766357421875,14.01233446598053,0.23635301314389909,0,2.3635301738977432E-2,0,0.25998830795288086,1.0870825052261353,0.23916152972105248,0.23635301314389909,3.6837462335824966E-2,2.7319047600030899E-2,0,0.30050951242446899,6.0075883865356445,5.0021656569092576E-2,0.23635301314389909,3.6837462335824966E-2,2.7319047600030899E-2,0,0.30050951242446899,7.0946707725524902,1252.740966796875,4.2357077257621903E-2,193.70315551757813,1070.4696044921875,0,1232.632568359375,2496.805419921875,0.23635301314389909,0,3.6837462335824966E-2,0,0,0,0,0,0,2.7319047600030899E-2,14.012334823608398,null,0,0,0.30050951242446899,14.012334823608398,2.1446070684340741E-2,2485.37353515625,3.3079575545373169E-3,0,3.3079575545373169E-3,1.5978741568402162E-4,0,1.5978741568402162E-4,null,0,"SmComWX",0,0,0,0,0,0,0,9999,9999]
["Demand Control Ventilation-New-Medium Off","Demand Control Ventilation-DCV Only-Medium Off-HtPmpHt-Vent-New",15,0.4536,0,12,0,0,"ComEconoMizer",0.40000000596046448,6.6115702502429485E-3,0.49426445707198247,9.3260956646190607E-7,1.4105720038060099E-4,0,0,0,1.1931428909301758,6.593714714050293,0,7.5925807952880859,"(na)","(na)","(na)","(na)",0,0,0,0,0,0,0,0,1.1931428909301758,6.593714714050293,0,7.5925807952880859,15.379438400268555,0.25941184369452347,0,2.5941185653209686E-2,0,0.28535303473472595,1.1931428909301758,0.23916081763289188,0.25941184369452347,4.043135792016983E-2,2.9984321445226669E-2,0,0.32982751727104187,6.593714714050293,5.0021503410983673E-2,0.25941184369452347,4.043135792016983E-2,2.9984321445226669E-2,0,0.32982751727104187,7.7868576049804687,1252.744873046875,4.2356948051671388E-2,193.7037353515625,1070.472900390625,0,1232.63623046875,2496.81298828125,0.25941184369452347,0,4.043135792016983E-2,0,0,0,0,0,0,2.9984321445226669E-2,15.379438400268555,null,0,0,0.32982751727104187,15.379438400268555,2.14460056652108E-2,2485.381103515625,3.6306851208336359E-3,0,3.6306851208336359E-3,1.7537643184831631E-4,0,1.7537643184831631E-4,null,0,"SmComWX",0,0,0,0,0,0,0,9999,9999]
["Demand Control Ventilation-New-Small Off","Demand Control Ventilation-DCV Only-Small Off-HtPmpHt-Vent-New",15,0.47879999999999995,0,12.666700000000001,0,0,"ComEconoMizer",0.40000000596046448,6.6115702502429485E-3,0.52172359357598153,9.8442126272857422E-7,1.4889371232129633E-4,0,0,0,1.2594319581985474,6.9600505828857422,0,8.0144119262695313,"(na)","(na)","(na)","(na)",0,0,0,0,0,0,0,0,1.2594319581985474,6.9600505828857422,0,8.0144119262695313,16.233894467353821,0.2738236127886633,0,2.7382360771298409E-2,0,0.30120596289634705,1.2594319581985474,0.23916017979311677,0.2738236127886633,4.2677544057369232E-2,3.1650114804506302E-2,0,0.34815126657485962,6.9600505828857422,5.0021370894432503E-2,0.2738236127886633,4.2677544057369232E-2,3.1650114804506302E-2,0,0.34815126657485962,8.219482421875,1252.7481689453125,4.2356835714455053E-2,193.70425415039062,1070.475830078125,0,1232.6395263671875,2496.819580078125,0.2738236127886633,0,4.2677544057369232E-2,0,0,0,0,0,0,3.1650114804506302E-2,16.233894348144531,null,0,0,0.34815126657485962,16.233894348144531,2.144594908555205E-2,2485.3876953125,3.8323898497688432E-3,0,3.8323898497688432E-3,1.8511956695100063E-4,0,1.8511956695100063E-4,null,0,"SmComWX",0,0,0,0,0,0,0,9999,9999]
["Demand Control Ventilation-New-Big Box","Demand Control Ventilation-DCV Only-Big Box-HtPmpHt-Vent-New",15,6.4082304000000007E-2,0,0.27460000000000001,0,0,"ComEconoMizer",0.40000000596046448,6.6115702502429485E-3,6.9827171945506472E-2,1.3175434787626727E-7,1.992784564208705E-5,0,0,0,2.7303086593747139E-2,0.1508861631155014,0,0.17374356091022491,"(na)","(na)","(na)","(na)",0,0,0,0,0,0,0,0,2.7303086593747139E-2,0.1508861631155014,0,0.17374356091022491,0.35193281061947346,3.6648387629702198E-2,0,3.6648388486355543E-3,0,4.0313225239515305E-2,2.7303086593747139E-2,1.4765080255640457,3.6648387629702198E-2,5.7119373232126236E-3,4.2360327206552029E-3,0,4.6596359461545944E-2,0.1508861631155014,0.308817963897068,3.6648387629702198E-2,5.7119373232126236E-3,4.2360327206552029E-3,0,4.6596359461545944E-2,0.17818924784660339,193.33613586425781,0.26149926412284308,31.375612258911133,173.392333984375,0,199.65913391113281,404.42709350585937,3.6648387629702198E-2,0,5.7119373232126236E-3,0,0,0,0,0,0,4.2360327206552029E-3,0.3519328236579895,null,0,0,4.6596359461545944E-2,0.3519328236579895,0.13240128382811106,392.99526977539062,5.1292475229616048E-4,0,5.1292475229616048E-4,2.4776291490606461E-5,0,2.4776291490606461E-5,null,0,"SmComWX",0,0,0,0,0,0,0,9999,9999]
["Demand Control Ventilation-New-Small Box","Demand Control Ventilation-DCV Only-Small Box-HtPmpHt-Vent-New",15,1.5631700479999999,0,6.6974,0,0,"ComEconoMizer",0.40000000596046448,6.6115702502429485E-3,1.7033055447220122,3.2139053018909181E-6,4.8610317753627896E-4,0,0,0,0.665912926197052,3.6800620555877686,0,4.2375459671020508,"(na)","(na)","(na)","(na)",0,0,0,0,0,0,0,0,0.665912926197052,3.6800620555877686,0,4.2375459671020508,8.5835209488868713,0.89397007089889025,0,8.939700573682785E-2,0,0.98336708545684814,0.665912926197052,1.476720210631153,0.89397007089889025,0.13933220505714417,0.10333023220300674,0,1.1366325616836548,3.6800620555877686,0.30886232106689343,0.89397007089889025,0.13933220505714417,0.10333023220300674,0,1.1366325616836548,4.3459749221801758,193.30671691894531,0.26153682727649868,31.371103286743164,173.36741638183594,0,199.63044738769531,404.36895751953125,0.89397007089889025,0,0.13933220505714417,0,0,0,0,0,0,0.10333023220300674,8.5835208892822266,null,0,0,1.1366325616836548,8.5835208892822266,0.13242031129420237,392.93716430664062,1.2511856778232815E-2,0,1.2511856778232815E-2,6.0437210183069085E-4,0,6.0437210183069085E-4,null,0,"SmComWX",0,0,0,0,0,0,0,9999,9999]
["Demand Control Ventilation-New-High End","Demand Control Ventilation-DCV Only-High End-HtPmpHt-Vent-New",15,1.1954835199999998,0,11.7204,0,0,"ComEconoMizer",0.40000000596046448,6.6115702502429485E-3,1.3026565541254462,2.4579351247666636E-6,3.7176269688643515E-4,0,0,0,1.1653426885604858,6.4400811195373535,0,7.4156737327575684,"(na)","(na)","(na)","(na)",0,0,0,0,0,0,0,0,1.1653426885604858,6.4400811195373535,0,7.4156737327575684,15.021097540855408,0.68369176373372631,0,6.8369179964065552E-2,0,0.75206094980239868,1.1653426885604858,0.6453560408284631,0.68369176373372631,0.10655868798494339,7.9025045037269592E-2,0,0.86927551031112671,6.4400811195373535,0.13497896697586736,0.68369176373372631,0.10655868798494339,7.9025045037269592E-2,0,0.86927551031112671,7.6054239273071289,457.05612182617187,0.11429678591091562,71.784156799316406,396.70376586914062,0,456.79946899414062,925.28741455078125,0.68369176373372631,0,0.10655868798494339,0,0,0,0,0,0,7.9025045037269592E-2,15.021097183227539,null,0,0,0.86927551031112671,15.021097183227539,5.7870306419864369E-2,913.8555908203125,9.5688364820675064E-3,0,9.5688364820675064E-3,4.622125971584332E-4,0,4.622125971584332E-4,null,0,"SmComWX",0,0,0,0,0,0,0,9999,9999]
["Demand Control Ventilation-New-Anchor","Demand Control Ventilation-DCV Only-Anchor-HtPmpHt-Vent-New",15,1.1954835199999998,0,11.7204,0,0,"ComEconoMizer",0.40000000596046448,6.6115702502429485E-3,1.3026565541254462,2.4579351247666636E-6,3.7176269688643515E-4,0,0,0,1.1653426885604858,6.4400811195373535,0,7.4156737327575684,"(na)","(na)","(na)","(na)",0,0,0,0,0,0,0,0,1.1653426885604858,6.4400811195373535,0,7.4156737327575684,15.021097540855408,0.68369176373372631,0,6.8369179964065552E-2,0,0.75206094980239868,1.1653426885604858,0.6453560408284631,0.68369176373372631,0.10655868798494339,7.9025045037269592E-2,0,0.86927551031112671,6.4400811195373535,0.13497896697586736,0.68369176373372631,0.10655868798494339,7.9025045037269592E-2,0,0.86927551031112671,7.6054239273071289,457.05612182617187,0.11429678591091562,71.784156799316406,396.70376586914062,0,456.79946899414062,925.28741455078125,0.68369176373372631,0,0.10655868798494339,0,0,0,0,0,0,7.9025045037269592E-2,15.021097183227539,null,0,0,0.86927551031112671,15.021097183227539,5.7870306419864369E-2,913.8555908203125,9.5688364820675064E-3,0,9.5688364820675064E-3,4.622125971584332E-4,0,4.622125971584332E-4,null,0,"SmComWX",0,0,0,0,0,0,0,9999,9999]
["Demand Control Ventilation-New-K-12","Demand Control Ventilation-DCV Only-K-12-HtPmpHt-Vent-New",15,0,0,5.1128,0,0,"ComEconoMizer",0,0,0,0,0,0,0,0,0.5083584189414978,2.8093619346618652,0,3.23494553565979,"(na)","(na)","(na)","(na)",0,0,0,0,0,0,0,0,0.5083584189414978,2.8093619346618652,0,3.23494553565979,6.5526658892631531,0,0,0,0,0,0.5083584189414978,0,0,0,0,0,0,2.8093619346618652,0,0,0,0,0,0,3.3177204132080078,9999,0,9999,9999,9999,9999,9999,0,0,0,0,0,0,0,0,0,0,6.5526657104492188,null,0,0,0,6.5526657104492188,0,9999,0,0,0,0,0,0,null,0,"SmComWX",0,0,0,0,0,0,0,9999,9999]
["Demand Control Ventilation-New-University","Demand Control Ventilation-DCV Only-University-HtPmpHt-Vent-New",15,0,0,7.42,0,0,"ComEconoMizer",0,0,0,0,0,0,0,0,0.73776000738143921,4.0771136283874512,0,4.6947455406188965,"(na)","(na)","(na)","(na)",0,0,0,0,0,0,0,0,0.73776000738143921,4.0771136283874512,0,4.6947455406188965,9.5096191763877869,0,0,0,0,0,0.73776000738143921,0,0,0,0,0,0,4.0771136283874512,0,0,0,0,0,0,4.8148736953735352,9999,0,9999,9999,9999,9999,9999,0,0,0,0,0,0,0,0,0,0,9.5096187591552734,null,0,0,0,9.5096187591552734,0,9999,0,0,0,0,0,0,null,0,"SmComWX",0,0,0,0,0,0,0,9999,9999]
["Demand Control Ventilation-New-Warehouse","Demand Control Ventilation-DCV Only-Warehouse-HtPmpHt-Vent-New",15,4.608575999999999E-2,0,1.2192000000000001,0,0,"ComEconoMizer",0.40000000596046448,6.6115702502429485E-3,5.0217268838513421E-2,9.4753133339509077E-8,1.4331411875900812E-5,0,0,0,0.1212233230471611,0.6699213981628418,0,0.77140617370605469,"(na)","(na)","(na)","(na)",0,0,0,0,0,0,0,0,0.1212233230471611,0.6699213981628418,0,0.77140617370605469,1.5625508949160576,2.6356243319363568E-2,0,2.6356242597103119E-3,0,2.8991866856813431E-2,0.1212233230471611,0.23916080544826174,2.6356243319363568E-2,4.1078259237110615E-3,3.0464068986475468E-3,0,3.3510476350784302E-2,0.6699213981628418,5.0021504363974026E-2,2.6356243319363568E-2,4.1078259237110615E-3,3.0464068986475468E-3,0,3.3510476350784302E-2,0.7911447286605835,1252.744873046875,4.2356948410741009E-2,193.7037353515625,1070.472900390625,0,1232.63623046875,2496.81298828125,2.6356243319363568E-2,0,4.1078259237110615E-3,0,0,0,0,0,0,3.0464068986475468E-3,1.5625509023666382,null,0,0,3.3510476350784302E-2,1.5625509023666382,2.1446006073125193E-2,2485.381103515625,3.6887760827669766E-4,0,3.6887760827669766E-4,1.7818245475788938E-5,0,1.7818245475788938E-5,null,0,"SmComWX",0,0,0,0,0,0,0,9999,9999]
["Demand Control Ventilation-New-Supermarket","Demand Control Ventilation-DCV Only-Supermarket-HtPmpHt-Vent-New",15,3.5532000000000003E-3,0,9.4E-2,0,0,"ComEconoMizer",0.40000000596046448,6.6115702502429485E-3,3.8717382470638642E-3,7.3054415850037913E-9,1.1049480690417113E-6,0,0,0,9.3462858349084854E-3,5.1650762557983398E-2,0,5.9475213289260864E-2,"(na)","(na)","(na)","(na)",0,0,0,0,0,0,0,0,9.3462858349084854E-3,5.1650762557983398E-2,0,5.9475213289260864E-2,0.12047226168215275,2.0320594422737694E-3,0,2.0320594194345176E-4,0,2.2352654486894608E-3,9.3462858349084854E-3,0.23916081999851527,2.0320594422737694E-3,3.1671233591623604E-4,2.3487718135584146E-4,0,2.5836490094661713E-3,5.1650762557983398E-2,5.002150658754418E-2,2.0320594422737694E-3,3.1671233591623604E-4,2.3487718135584146E-4,0,2.5836490094661713E-3,6.0997046530246735E-2,1252.7447509765625,4.2356950502000439E-2,193.7037353515625,1070.472900390625,0,1232.63623046875,2496.812744140625,2.0320594422737694E-3,0,3.1671233591623604E-4,0,0,0,0,0,0,2.3487718135584146E-4,0.1204722598195076,null,0,0,2.5836490094661713E-3,0.1204722598195076,2.144600726687362E-2,2485.380859375,2.844036677986355E-5,0,2.844036677986355E-5,1.3737820494784786E-6,0,1.3737820494784786E-6,null,0,"SmComWX",0,0,0,0,0,0,0,9999,9999]
["Demand Control Ventilation-New-MIniMart","Demand Control Ventilation-DCV Only-MIniMart-HtPmpHt-Vent-New",15,8.2907999999999975E-3,0,0.21929999999999999,0,0,"ComEconoMizer",0.40000000596046448,6.6115702502429485E-3,9.0340559098156751E-3,1.7046030365008846E-8,2.5782121610973263E-6,0,0,0,2.1804686635732651E-2,0.12050013244152069,0,0.13875441253185272,"(na)","(na)","(na)","(na)",0,0,0,0,0,0,0,0,2.1804686635732651E-2,0.12050013244152069,0,0.13875441253185272,0.28105923160910606,4.7414720319721212E-3,0,4.7414720756933093E-4,0,5.2156192250549793E-3,2.1804686635732651E-2,0.2391971655760603,4.7414720319721212E-3,7.3899544076994061E-4,5.4804678075015545E-4,0,6.0285143554210663E-3,0.12050013244152069,5.0029108942414524E-2,4.7414720319721212E-3,7.3899544076994061E-4,5.4804678075015545E-4,0,6.0285143554210663E-3,0.14230482280254364,1252.552734375,4.2363387920260828E-2,193.67430114746094,1070.3101806640625,0,1232.448974609375,2496.43359375,4.7414720319721212E-3,0,7.3899544076994061E-4,0,0,0,0,0,0,5.4804678075015545E-4,0.28105923533439636,null,0,0,6.0285143554210663E-3,0.28105923533439636,2.1449265832946783E-2,2485.001708984375,6.6360855819681529E-5,0,6.6360855819681529E-5,3.2054914487831141E-6,0,3.2054914487831141E-6,null,0,"SmComWX",0,0,0,0,0,0,0,9999,9999]
["Demand Control Ventilation-New-Restaurant","Demand Control Ventilation-DCV Only-Restaurant-HtPmpHt-Vent-New",15,5.4459999999999981E-2,0,0.23330000000000001,0,0,"ComEconoMizer",0.40000000596046448,6.6115702502429485E-3,5.9342245000308984E-2,1.1197072069535352E-7,1.6935571693466045E-5,0,0,0,2.3196686059236526E-2,0.12819279730319977,0,0.14761242270469666,"(na)","(na)","(na)","(na)",0,0,0,0,0,0,0,0,2.3196686059236526E-2,0.12819279730319977,0,0.14761242270469666,0.29900190606713295,3.1145434320114046E-2,0,3.1145433895289898E-3,0,3.425997868180275E-2,2.3196686059236526E-2,1.4769341457721412,3.1145434320114046E-2,4.8542586155235767E-3,3.5999694373458624E-3,0,3.9599660784006119E-2,0.12819279730319977,0.30890707751171798,3.1145434320114046E-2,4.8542586155235767E-3,3.5999694373458624E-3,0,3.9599660784006119E-2,0.151389479637146,193.27705383300781,0.26157472430353246,31.366559982299805,173.34230041503906,0,199.60153198242187,404.31036376953125,3.1145434320114046E-2,0,4.8542586155235767E-3,0,0,0,0,0,0,3.5999694373458624E-3,0.29900190234184265,null,0,0,3.9599660784006119E-2,0.29900190234184265,0.13243949975846647,392.87857055664062,4.3590633086552054E-4,0,4.3590633086552054E-4,2.1055997527467601E-5,0,2.1055997527467601E-5,null,0,"SmComWX",0,0,0,0,0,0,0,9999,9999]
["Demand Control Ventilation-New-Lodging","Demand Control Ventilation-DCV Only-Lodging-HtPmpHt-Vent-New",15,1.0937203199999999,0,28.9344,0,0,"ComEconoMizer",0.40000000596046448,6.6115702502429485E-3,1.191770458891964,2.2487083697342314E-6,3.4011714160442352E-4,0,0,0,2.876906156539917,15.898764610290527,0,18.307229995727539,"(na)","(na)","(na)","(na)",0,0,0,0,0,0,0,0,2.876906156539917,15.898764610290527,0,18.307229995727539,37.082900762557983,0.62549383751623433,0,6.2549382448196411E-2,0,0.68804323673248291,2.876906156539917,0.2391608146134134,0.62549383751623433,9.7488105297088623E-2,7.2298198938369751E-2,0,0.79528015851974487,15.898764610290527,5.0021505522318696E-2,0.62549383751623433,9.7488105297088623E-2,7.2298198938369751E-2,0,0.79528015851974487,18.775671005249023,1252.744873046875,4.235694967322573E-2,193.7037353515625,1070.472900390625,0,1232.63623046875,2496.81298828125,0.62549383751623433,0,9.7488105297088623E-2,0,0,0,0,0,0,7.2298198938369751E-2,37.082901000976563,null,0,0,0.79528015851974487,37.082901000976563,2.1446006657643891E-2,2485.381103515625,8.754307963354066E-3,0,8.754307963354066E-3,4.2286765247266027E-4,0,4.2286765247266027E-4,null,0,"SmComWX",0,0,0,0,0,0,0,9999,9999]
["Demand Control Ventilation-New-Hospital","Demand Control Ventilation-DCV Only-Hospital-HtPmpHt-Vent-New",15,0.16949519999999998,0,4.484,0,0,"ComEconoMizer",0.40000000596046448,6.6115702502429485E-3,0.18469015212589751,3.4848511631935253E-7,5.2708375733345747E-5,0,0,0,0.44583773612976074,2.4638514518737793,0,2.8370943069458008,"(na)","(na)","(na)","(na)",0,0,0,0,0,0,0,0,0.44583773612976074,2.4638514518737793,0,2.8370943069458008,5.7467834949493408,9.6933558927186941E-2,0,9.6933562308549881E-3,0,0.10662691295146942,0.44583773612976074,0.23916081237010464,9.6933558927186941E-2,1.5107851475477219E-2,1.1204141192138195E-2,0,0.12324555218219757,2.4638514518737793,5.0021502514314774E-2,9.6933558927186941E-2,1.5107851475477219E-2,1.1204141192138195E-2,0,0.12324555218219757,2.90968918800354,1252.744873046875,4.2356947299710145E-2,193.7037353515625,1070.4730224609375,0,1232.63623046875,2496.812744140625,9.6933558927186941E-2,0,1.5107851475477219E-2,0,0,0,0,0,0,1.1204141192138195E-2,5.7467832565307617,null,0,0,0.12324555218219757,5.7467832565307617,2.1446006590685945E-2,2485.381103515625,1.3566660068181718E-3,0,1.3566660068181718E-3,6.553232670065425E-5,0,6.553232670065425E-5,null,0,"SmComWX",0,0,0,0,0,0,0,9999,9999]
["Demand Control Ventilation-New-OtherHealth","Demand Control Ventilation-DCV Only-OtherHealth-HtPmpHt-Vent-New",15,0,0,0,0,0,"ComEconoMizer",0,0,0,0,0,0,0,0,0,0,0,0,"(na)","(na)","(na)","(na)",0,0,0,0,0,0,0,0,0,0,0,0,0,0,0,0,0,0,0,9999,0,0,0,0,0,0,9999,0,0,0,0,0,0,9999,9999,9999,9999,9999,9999,9999,0,0,0,0,0,0,0,0,0,0,0,null,0,0,0,0,9999,9999,0,0,0,0,0,0,null,0,"SmComWX",0,0,0,0,0,0,0,9999,9999]
["Demand Control Ventilation-New-Other","Demand Control Ventilation-DCV Only-Other-HtPmpHt-Vent-New",15,0.22296959999999999,0,5.8986999999999998,0,0,"ComEconoMizer",0.40000000596046448,6.6115702502429485E-3,0.24295843978738338,4.5842944018659182E-7,6.9337453169282526E-5,0,0,0,0.58649933338165283,3.2411954402923584,0,3.7321963310241699,"(na)","(na)","(na)","(na)",0,0,0,0,0,0,0,0,0.58649933338165283,3.2411954402923584,0,3.7321963310241699,7.5598911046981812,0.12751533294495238,0,1.2751533649861813E-2,0,0.14026686549186707,0.58649933338165283,0.23915946465967813,0.12751533294495238,1.987425796687603E-2,1.4738959260284901E-2,0,0.16212855279445648,3.2411954402923584,5.0021219996992584E-2,0.12751533294495238,1.987425796687603E-2,1.4738959260284901E-2,0,0.16212855279445648,3.8276948928833008,1252.751953125,4.2356708086338422E-2,193.70481872558594,1070.47900390625,0,1232.6431884765625,2496.8271484375,0.12751533294495238,0,1.987425796687603E-2,0,0,0,0,0,0,1.4738959260284901E-2,7.5598912239074707,null,0,0,0.16212855279445648,7.5598912239074707,2.144588399094903E-2,2485.395263671875,1.7846834416186696E-3,0,1.7846834416186696E-3,8.6207259388550173E-5,0,8.6207259388550173E-5,null,0,"SmComWX",0,0,0,0,0,0,0,9999,9999]
["Demand Control Ventilation-New-Large Off","Demand Control Ventilation-DCV Only-Large Off-HtPmpHt-Heat-New",15,20.236574442258597,0,0,0,0,"SmComHP",0.15800000727176666,0.15000000596046448,22.064867126129403,2.3912852630019188E-3,1.5941901132464409E-2,0,0,0,0,0,0,0,"(na)","(na)","(na)","(na)",0,0,0,0,0,0,0,0,0,0,0,0,0,11.198820026938879,0,1.1198819875717163,0,12.31870174407959,0,9999,11.198820026938879,4.5694422721862793,1.5768262147903442,0,17.345088958740234,0,9999,11.198820026938879,4.5694422721862793,1.5768262147903442,0,17.345088958740234,0,-22.351934432983398,9999,0,0,0,0,0,11.198820026938879,0,4.5694422721862793,0,0,0,0,0,0,1.5768262147903442,0,null,0,0,17.345088958740234,0,9999,-22.351934432983398,0.16613835909697447,0,0.16613835909697447,8.1224792444122996E-3,0,8.1224792444122996E-3,null,0,"SmComWX",0,0,0,0,0,0,0,9999,9999]
["Demand Control Ventilation-New-Medium Off","Demand Control Ventilation-DCV Only-Medium Off-HtPmpHt-Heat-New",15,22.210874387844804,0,0,0,0,"SmComHP",0.15800000727176666,0.15000000596046448,24.217537089654222,2.6245813351124525E-3,1.7497207969427109E-2,0,0,0,0,0,0,0,"(na)","(na)","(na)","(na)",0,0,0,0,0,0,0,0,0,0,0,0,0,12.291387834445105,0,1.2291388511657715,0,13.520526885986328,0,9999,12.291387834445105,5.0152411460876465,1.7306629419326782,0,19.03729248046875,0,9999,12.291387834445105,5.0152411460876465,1.7306629419326782,0,19.03729248046875,0,-22.351934432983398,9999,0,0,0,0,0,12.291387834445105,0,5.0152411460876465,0,0,0,0,0,0,1.7306629419326782,0,null,0,0,19.03729248046875,0,9999,-22.351934432983398,0.18234697949667908,0,0.18234697949667908,8.9149162438671558E-3,0,8.9149162438671558E-3,null,0,"SmComWX",0,0,0,0,0,0,0,9999,9999]
["Demand Control Ventilation-New-Small Off","Demand Control Ventilation-DCV Only-Small Off-HtPmpHt-Heat-New",15,23.444811853836178,0,0,0,0,"SmComHP",0.15800000727176666,0.15000000596046448,25.562955816857237,2.7703915257006884E-3,1.8469275906682014E-2,0,0,0,0,0,0,0,"(na)","(na)","(na)","(na)",0,0,0,0,0,0,0,0,0,0,0,0,0,12.974242714136489,0,1.29742431640625,0,14.27166748046875,0,9999,12.974242714136489,5.2938656806945801,1.8268108367919922,0,20.094919204711914,0,9999,12.974242714136489,5.2938656806945801,1.8268108367919922,0,20.094919204711914,0,-22.351934432983398,9999,0,0,0,0,0,12.974242714136489,0,5.2938656806945801,0,0,0,0,0,0,1.8268108367919922,0,null,0,0,20.094919204711914,0,9999,-22.351934432983398,0.19247736724649475,0,0.19247736724649475,9.4101893685264448E-3,0,9.4101893685264448E-3,null,0,"SmComWX",0,0,0,0,0,0,0,9999,9999]
["Demand Control Ventilation-New-Big Box","Demand Control Ventilation-DCV Only-Big Box-HtPmpHt-Heat-New",15,1.9743588799129383,0,0,0,0,"SmComHP",0.15800000727176666,0.15000000596046448,2.1527342223297006,2.3330308613367379E-4,1.555353868752718E-3,0,0,0,0,0,0,0,"(na)","(na)","(na)","(na)",0,0,0,0,0,0,0,0,0,0,0,0,0,1.0926004214706349,0,0.10926004499197006,0,1.2018604278564453,0,9999,1.0926004214706349,0.44581258296966553,0.1538413017988205,0,1.6922543048858643,0,9999,1.0926004214706349,0.44581258296966553,0.1538413017988205,0,1.6922543048858643,0,-22.351936340332031,9999,0,0,0,0,0,1.0926004214706349,0,0.44581258296966553,0,0,0,0,0,0,0.1538413017988205,0,null,0,0,1.6922543048858643,0,9999,-22.351936340332031,1.6209104239119719E-2,0,1.6209104239119719E-2,7.9246065429066314E-4,0,7.9246065429066314E-4,null,0,"SmComWX",0,0,0,0,0,0,0,9999,9999]
["Demand Control Ventilation-New-Small Box","Demand Control Ventilation-DCV Only-Small Box-HtPmpHt-Heat-New",15,48.160856780098499,0,0,0,0,"SmComHP",0.15800000727176666,0.15000000596046448,52.511995474606543,5.691000260412693E-3,3.7939999252557755E-2,0,0,0,0,0,0,0,"(na)","(na)","(na)","(na)",0,0,0,0,0,0,0,0,0,0,0,0,0,26.651979511770861,0,2.6651980876922607,0,29.317176818847656,0,9999,26.651979511770861,10.874777793884277,3.7526757717132568,0,41.279434204101563,0,9999,26.651979511770861,10.874777793884277,3.7526757717132568,0,41.279434204101563,0,-22.351934432983398,9999,0,0,0,0,0,26.651979511770861,0,10.874777793884277,0,0,0,0,0,0,3.7526757717132568,0,null,0,0,41.279434204101563,0,9999,-22.351934432983398,0.39539131195254434,0,0.39539131195254434,1.9330621430303858E-2,0,1.9330621430303858E-2,null,0,"SmComWX",0,0,0,0,0,0,0,9999,9999]
["Demand Control Ventilation-New-High End","Demand Control Ventilation-DCV Only-High End-HtPmpHt-Heat-New",15,51.638362183807011,0,0,0,0,"SmComHP",0.15800000727176666,0.15000000596046448,56.303679431896967,6.1019244603812695E-3,4.067949578166008E-2,0,0,0,0,0,0,0,"(na)","(na)","(na)","(na)",0,0,0,0,0,0,0,0,0,0,0,0,0,28.576413771628356,0,2.8576414585113525,0,31.434055328369141,0,9999,28.576413771628356,11.660001754760742,4.0236415863037109,0,44.260055541992188,0,9999,28.576413771628356,11.660001754760742,4.0236415863037109,0,44.260055541992188,0,-22.351932525634766,9999,0,0,0,0,0,28.576413771628356,0,11.660001754760742,0,0,0,0,0,0,4.0236415863037109,0,null,0,0,44.260055541992188,0,9999,-22.351932525634766,0.42394095819684774,0,0.42394095819684774,2.0726409316467544E-2,0,2.0726409316467544E-2,null,0,"SmComWX",0,0,0,0,0,0,0,9999,9999]
["Demand Control Ventilation-New-Anchor","Demand Control Ventilation-DCV Only-Anchor-HtPmpHt-Heat-New",15,51.638362183807011,0,0,0,0,"SmComHP",0.15800000727176666,0.15000000596046448,56.303679431896967,6.1019244603812695E-3,4.067949578166008E-2,0,0,0,0,0,0,0,"(na)","(na)","(na)","(na)",0,0,0,0,0,0,0,0,0,0,0,0,0,28.576413771628356,0,2.8576414585113525,0,31.434055328369141,0,9999,28.576413771628356,11.660001754760742,4.0236415863037109,0,44.260055541992188,0,9999,28.576413771628356,11.660001754760742,4.0236415863037109,0,44.260055541992188,0,-22.351932525634766,9999,0,0,0,0,0,28.576413771628356,0,11.660001754760742,0,0,0,0,0,0,4.0236415863037109,0,null,0,0,44.260055541992188,0,9999,-22.351932525634766,0.42394095819684774,0,0.42394095819684774,2.0726409316467544E-2,0,2.0726409316467544E-2,null,0,"SmComWX",0,0,0,0,0,0,0,9999,9999]
["Demand Control Ventilation-New-K-12","Demand Control Ventilation-DCV Only-K-12-HtPmpHt-Heat-New",15,0,0,0,0,0,"SmComHP",0,0,0,0,0,0,0,0,0,0,0,0,"(na)","(na)","(na)","(na)",0,0,0,0,0,0,0,0,0,0,0,0,0,0,0,0,0,0,0,9999,0,0,0,0,0,0,9999,0,0,0,0,0,0,9999,9999,9999,9999,9999,9999,9999,0,0,0,0,0,0,0,0,0,0,0,null,0,0,0,0,9999,9999,0,0,0,0,0,0,null,0,"SmComWX",0,0,0,0,0,0,0,9999,9999]
["Demand Control Ventilation-New-University","Demand Control Ventilation-DCV Only-University-HtPmpHt-Heat-New",15,0,0,0,0,0,"SmComHP",0,0,0,0,0,0,0,0,0,0,0,0,"(na)","(na)","(na)","(na)",0,0,0,0,0,0,0,0,0,0,0,0,0,0,0,0,0,0,0,9999,0,0,0,0,0,0,9999,0,0,0,0,0,0,9999,9999,9999,9999,9999,9999,9999,0,0,0,0,0,0,0,0,0,0,0,null,0,0,0,0,9999,9999,0,0,0,0,0,0,null,0,"SmComWX",0,0,0,0,0,0,0,9999,9999]
["Demand Control Ventilation-New-Warehouse","Demand Control Ventilation-DCV Only-Warehouse-HtPmpHt-Heat-New",15,2.2566248378050315,0,0,0,0,"SmComHP",0.15800000727176666,0.15000000596046448,2.4605017683088684,2.6665747282095253E-4,1.7777163302525878E-3,0,0,0,0,0,0,0,"(na)","(na)","(na)","(na)",0,0,0,0,0,0,0,0,0,0,0,0,0,1.2488050039796208,0,0.12488050013780594,0,1.3736854791641235,0,9999,1.2488050039796208,0.50954854488372803,0.17583535611629486,0,1.9341889619827271,0,9999,1.2488050039796208,0.50954854488372803,0.17583535611629486,0,1.9341889619827271,0,-22.351934432983398,9999,0,0,0,0,0,1.2488050039796208,0,0.50954854488372803,0,0,0,0,0,0,0.17583535611629486,0,null,0,0,1.9341889619827271,0,9999,-22.351934432983398,1.8526453116862577E-2,0,1.8526453116862577E-2,9.0575549037690288E-4,0,9.0575549037690288E-4,null,0,"SmComWX",0,0,0,0,0,0,0,9999,9999]
["Demand Control Ventilation-New-Supermarket","Demand Control Ventilation-DCV Only-Supermarket-HtPmpHt-Heat-New",15,0.67595328784898079,0,0,0,0,"SmComHP",0.15800000727176666,0.15000000596046448,0.73702293450973178,7.9875033407006413E-5,5.3250021301209927E-4,0,0,0,0,0,0,0,"(na)","(na)","(na)","(na)",0,0,0,0,0,0,0,0,0,0,0,0,0,0.37406920024125778,0,3.740692138671875E-2,0,0.41147613525390625,0,9999,0.37406920024125778,0.15263104438781738,5.2670024335384369E-2,0,0.57937026023864746,0,9999,0.37406920024125778,0.15263104438781738,5.2670024335384369E-2,0,0.57937026023864746,0,-22.351934432983398,9999,0,0,0,0,0,0.37406920024125778,0,0.15263104438781738,0,0,0,0,0,0,5.2670024335384369E-2,0,null,0,0,0.57937026023864746,0,9999,-22.351934432983398,5.5494456529620257E-3,0,5.5494456529620257E-3,2.7131155850569036E-4,0,2.7131155850569036E-4,null,0,"SmComWX",0,0,0,0,0,0,0,9999,9999]
["Demand Control Ventilation-New-MIniMart","Demand Control Ventilation-DCV Only-MIniMart-HtPmpHt-Heat-New",15,1.5772243383142881,0,0,0,0,"SmComHP",0.15800000727176666,0.15000000596046448,1.7197201805227067,1.8637508037500083E-4,1.2425004970282316E-3,0,0,0,0,0,0,0,"(na)","(na)","(na)","(na)",0,0,0,0,0,0,0,0,0,0,0,0,0,0.8728281338962669,0,8.7282814085483551E-2,0,0.96011096239089966,0,9999,0.8728281338962669,0.35613906383514404,0.12289672344923019,0,1.3518639802932739,0,9999,0.8728281338962669,0.35613906383514404,0.12289672344923019,0,1.3518639802932739,0,-22.351932525634766,9999,0,0,0,0,0,0.8728281338962669,0,0.35613906383514404,0,0,0,0,0,0,0.12289672344923019,0,null,0,0,1.3518639802932739,0,9999,-22.351932525634766,1.2948706523578074E-2,0,1.2948706523578074E-2,6.3306030317994389E-4,0,6.3306030317994389E-4,null,0,"SmComWX",0,0,0,0,0,0,0,9999,9999]
["Demand Control Ventilation-New-Restaurant","Demand Control Ventilation-DCV Only-Restaurant-HtPmpHt-Heat-New",15,1.6778982322492428,0,0,0,0,"SmComHP",0.15800000727176666,0.15000000596046448,1.8294895537475599,1.9827135838568211E-4,1.3218090170994401E-3,0,0,0,0,0,0,0,"(na)","(na)","(na)","(na)",0,0,0,0,0,0,0,0,0,0,0,0,0,0.9285405679747526,0,9.2854060232639313E-2,0,1.0213946104049683,0,9999,0.9285405679747526,0.37887144088745117,0.13074120879173279,0,1.4381532669067383,0,9999,0.9285405679747526,0.37887144088745117,0.13074120879173279,0,1.4381532669067383,0,-22.351938247680664,9999,0,0,0,0,0,0.9285405679747526,0,0.37887144088745117,0,0,0,0,0,0,0.13074120879173279,0,null,0,0,1.4381532669067383,0,9999,-22.351938247680664,1.3775219705934108E-2,0,1.3775219705934108E-2,6.7346840763823825E-4,0,6.7346840763823825E-4,null,0,"SmComWX",0,0,0,0,0,0,0,9999,9999]
["Demand Control Ventilation-New-Lodging","Demand Control Ventilation-DCV Only-Lodging-HtPmpHt-Heat-New",15,53.55486032397139,0,0,0,0,"SmComHP",0.15800000727176666,0.15000000596046448,58.393325430574279,6.3283909112215042E-3,4.2189270257949829E-2,0,0,0,0,0,0,0,"(na)","(na)","(na)","(na)",0,0,0,0,0,0,0,0,0,0,0,0,0,29.63699434641401,0,2.9636995792388916,0,32.600692749023437,0,9999,29.63699434641401,12.092752456665039,4.1729745864868164,0,45.902721405029297,0,9999,29.63699434641401,12.092752456665039,4.1729745864868164,0,45.902721405029297,0,-22.351938247680664,9999,0,0,0,0,0,29.63699434641401,0,12.092752456665039,0,0,0,0,0,0,4.1729745864868164,0,null,0,0,45.902721405029297,0,9999,-22.351938247680664,0.43967503696239274,0,0.43967503696239274,2.1495646047212505E-2,0,2.1495646047212505E-2,null,0,"SmComWX",0,0,0,0,0,0,0,9999,9999]
["Demand Control Ventilation-New-Hospital","Demand Control Ventilation-DCV Only-Hospital-HtPmpHt-Heat-New",15,8.2994633962580071,0,0,0,0,"SmComHP",0.15800000727176666,0.15000000596046448,9.0492863591674624,9.8071852698922157E-4,6.538123358041048E-3,0,0,0,0,0,0,0,"(na)","(na)","(na)","(na)",0,0,0,0,0,0,0,0,0,0,0,0,0,4.5928819208043139,0,0.45928820967674255,0,5.0521702766418457,0,9999,4.5928819208043139,1.8740286827087402,0.64669108390808105,0,7.1136016845703125,0,9999,4.5928819208043139,1.8740286827087402,0.64669108390808105,0,7.1136016845703125,0,-22.351936340332031,9999,0,0,0,0,0,4.5928819208043139,0,1.8740286827087402,0,0,0,0,0,0,0.64669108390808105,0,null,0,0,7.1136016845703125,0,9999,-22.351936340332031,6.8136988005259067E-2,0,6.8136988005259067E-2,3.3312070364583616E-3,0,3.3312070364583616E-3,null,0,"SmComWX",0,0,0,0,0,0,0,9999,9999]
["Demand Control Ventilation-New-OtherHealth","Demand Control Ventilation-DCV Only-OtherHealth-HtPmpHt-Heat-New",15,0,0,0,0,0,"SmComHP",0,0,0,0,0,0,0,0,0,0,0,0,"(na)","(na)","(na)","(na)",0,0,0,0,0,0,0,0,0,0,0,0,0,0,0,0,0,0,0,9999,0,0,0,0,0,0,9999,0,0,0,0,0,0,9999,9999,9999,9999,9999,9999,9999,0,0,0,0,0,0,0,0,0,0,0,null,0,0,0,0,9999,9999,0,0,0,0,0,0,null,0,"SmComWX",0,0,0,0,0,0,0,9999,9999]
["Demand Control Ventilation-New-Other","Demand Control Ventilation-DCV Only-Other-HtPmpHt-Heat-New",15,10.917878699091711,0,0,0,0,"SmComHP",0.15800000727176666,0.15000000596046448,11.904264898292251,1.2901275185868144E-3,8.6008496582508087E-3,0,0,0,0,0,0,0,"(na)","(na)","(na)","(na)",0,0,0,0,0,0,0,0,0,0,0,0,0,6.0418999755094571,0,0.60418999195098877,0,6.646090030670166,0,9999,6.0418999755094571,2.4652695655822754,0.85071694850921631,0,9.3578863143920898,0,9999,6.0418999755094571,2.4652695655822754,0.85071694850921631,0,9.3578863143920898,0,-22.351932525634766,9999,0,0,0,0,0,6.0418999755094571,0,2.4652695655822754,0,0,0,0,0,0,0.85071694850921631,0,null,0,0,9.3578863143920898,0,9999,-22.351932525634766,8.9633670810367591E-2,0,8.9633670810367591E-2,4.3821766069853671E-3,0,4.3821766069853671E-3,null,0,"SmComWX",0,0,0,0,0,0,0,9999,9999]
["Demand Control Ventilation-New-Large Off","Demand Control Ventilation-DOAS-Large Off-ElecHt-Vent-New",15,0,0,0,0,0,"SmComCAC",0,0,0,0,0,0,0,0,0,0,0,0,"(na)","(na)","(na)","(na)",0,0,0,0,0,0,0,0,0,0,0,0,0,0,0,0,0,0,0,9999,0,0,0,0,0,0,9999,0,0,0,0,0,0,9999,9999,9999,9999,9999,9999,9999,0,0,0,0,0,0,0,0,0,0,0,null,0,0,0,0,9999,9999,0,0,0,0,0,0,null,0,"SmComWX",0,0,0,0,0,0,0,9999,9999]
["Demand Control Ventilation-New-Medium Off","Demand Control Ventilation-DOAS-Medium Off-ElecHt-Vent-New",15,0,0,0,0,0,"SmComCAC",0,0,0,0,0,0,0,0,0,0,0,0,"(na)","(na)","(na)","(na)",0,0,0,0,0,0,0,0,0,0,0,0,0,0,0,0,0,0,0,9999,0,0,0,0,0,0,9999,0,0,0,0,0,0,9999,9999,9999,9999,9999,9999,9999,0,0,0,0,0,0,0,0,0,0,0,null,0,0,0,0,9999,9999,0,0,0,0,0,0,null,0,"SmComWX",0,0,0,0,0,0,0,9999,9999]
["Demand Control Ventilation-New-Small Off","Demand Control Ventilation-DOAS-Small Off-ElecHt-Vent-New",15,0,0,0,0,0,"SmComCAC",0,0,0,0,0,0,0,0,0,0,0,0,"(na)","(na)","(na)","(na)",0,0,0,0,0,0,0,0,0,0,0,0,0,0,0,0,0,0,0,9999,0,0,0,0,0,0,9999,0,0,0,0,0,0,9999,9999,9999,9999,9999,9999,9999,0,0,0,0,0,0,0,0,0,0,0,null,0,0,0,0,9999,9999,0,0,0,0,0,0,null,0,"SmComWX",0,0,0,0,0,0,0,9999,9999]
["Demand Control Ventilation-New-Big Box","Demand Control Ventilation-DOAS-Big Box-ElecHt-Vent-New",15,8.8907231686274564,0,10.086499999999999,0,0,"SmComCAC",0.17000000178813934,0,9.7002469991926006,0,6.5137301571667194E-3,0,0,0,1.0028862953186035,5.5422916412353516,0,6.3818802833557129,"(na)","(na)","(na)","(na)",0,0,0,0,0,0,0,0,1.0028862953186035,5.5422916412353516,0,6.3818802833557129,12.927058219909668,4.5233125441953854,0,0.45233127474784851,0,4.9756436347961426,1.0028862953186035,4.9613239727865048,4.5233125441953854,1.8670369386672974,0.63903498649597168,0,7.0293846130371094,5.5422916412353516,1.2683173178869087,4.5233125441953854,1.8670369386672974,0.63903498649597168,0,7.0293846130371094,6.5451779365539551,33.412376403808594,1.073979124402481,8.2960968017578125,45.847057342529297,0,52.792324066162109,106.93548583984375,4.5233125441953854,0,1.8670369386672974,0,0,0,0,0,0,0.63903498649597168,12.927058219909668,null,0,0,7.0293846130371094,12.927058219909668,0.54377294120423436,86.204696655273438,7.2986294960227696E-2,0,7.2986294960227696E-2,3.5670480863400377E-3,0,3.5670480863400377E-3,null,0,"SmComWX",0,0,0,0,0,0,0,9999,9999]
["Demand Control Ventilation-New-Small Box","Demand Control Ventilation-DOAS-Small Box-ElecHt-Vent-New",15,7.4398936961636899,0,8.4405000000000001,0,0,"SmComCAC",0.17000000178813934,0,8.1173156706964615,0,5.450789351016283E-3,0,0,0,0.83922690153121948,4.6378540992736816,0,5.3404312133789062,"(na)","(na)","(na)","(na)",0,0,0,0,0,0,0,0,0.83922690153121948,4.6378540992736816,0,5.3404312133789062,10.817512214183807,3.7851774085248793,0,0.378517746925354,0,4.1636953353881836,0.83922690153121948,4.9613461482863848,3.7851774085248793,1.5623650550842285,0.53475427627563477,0,5.8822965621948242,4.6378540992736816,1.2683229385775521,3.7851774085248793,1.5623650550842285,0.53475427627563477,0,5.8822965621948242,5.4770808219909668,33.412136077880859,1.0739838864936069,8.2960596084594727,45.846855163574219,0,52.792083740234375,106.93500518798828,3.7851774085248793,0,1.5623650550842285,0,0,0,0,0,0,0.53475427627563477,10.817512512207031,null,0,0,5.8822965621948242,10.817512512207031,0.54377535808226329,86.2042236328125,6.1076052586706522E-2,0,6.1076052586706522E-2,2.9849606233517422E-3,0,2.9849606233517422E-3,null,0,"SmComWX",0,0,0,0,0,0,0,9999,9999]
["Demand Control Ventilation-New-High End","Demand Control Ventilation-DOAS-High End-ElecHt-Vent-New",15,3.4888496960818447,0,4.2202999999999999,0,0,"SmComCAC",0.17000000178813934,0,3.8065186771838868,0,2.5560827925801277E-3,0,0,0,0.41961842775344849,2.3189544677734375,0,2.6702473163604736,"(na)","(na)","(na)","(na)",0,0,0,0,0,0,0,0,0.41961842775344849,2.3189544677734375,0,2.6702473163604736,5.4088202118873596,1.7750139438359716,0,0.17750139534473419,0,1.9525153636932373,0.41961842775344849,4.6530733877300738,1.7750139438359716,0.73265242576599121,0.25076663494110107,0,2.7584331035614014,2.3189544677734375,1.1895158110592809,1.7750139438359716,0.73265242576599121,0.25076663494110107,0,2.7584331035614014,2.7385728359222412,36.999183654785156,1.0072519921045799,8.8456859588623047,48.88427734375,0,56.289634704589844,114.01959991455078,1.7750139438359716,0,0.73265242576599121,0,0,0,0,0,0,0.25076663494110107,5.4088201522827148,null,0,0,2.7584331035614014,5.4088201522827148,0.5099879320962275,93.288818359375,2.8640888728677032E-2,0,2.8640888728677032E-2,1.3997617961889592E-3,0,1.3997617961889592E-3,null,0,"SmComWX",0,0,0,0,0,0,0,9999,9999]
["Demand Control Ventilation-New-Anchor","Demand Control Ventilation-DOAS-Anchor-ElecHt-Vent-New",15,3.4888496960818447,0,4.2202999999999999,0,0,"SmComCAC",0.17000000178813934,0,3.8065186771838868,0,2.5560827925801277E-3,0,0,0,0.41961842775344849,2.3189544677734375,0,2.6702473163604736,"(na)","(na)","(na)","(na)",0,0,0,0,0,0,0,0,0.41961842775344849,2.3189544677734375,0,2.6702473163604736,5.4088202118873596,1.7750139438359716,0,0.17750139534473419,0,1.9525153636932373,0.41961842775344849,4.6530733877300738,1.7750139438359716,0.73265242576599121,0.25076663494110107,0,2.7584331035614014,2.3189544677734375,1.1895158110592809,1.7750139438359716,0.73265242576599121,0.25076663494110107,0,2.7584331035614014,2.7385728359222412,36.999183654785156,1.0072519921045799,8.8456859588623047,48.88427734375,0,56.289634704589844,114.01959991455078,1.7750139438359716,0,0.73265242576599121,0,0,0,0,0,0,0.25076663494110107,5.4088201522827148,null,0,0,2.7584331035614014,5.4088201522827148,0.5099879320962275,93.288818359375,2.8640888728677032E-2,0,2.8640888728677032E-2,1.3997617961889592E-3,0,1.3997617961889592E-3,null,0,"SmComWX",0,0,0,0,0,0,0,9999,9999]
["Demand Control Ventilation-New-K-12","Demand Control Ventilation-DOAS-K-12-ElecHt-Vent-New",15,0,0,0,0,0,"SmComCAC",0,0,0,0,0,0,0,0,0,0,0,0,"(na)","(na)","(na)","(na)",0,0,0,0,0,0,0,0,0,0,0,0,0,0,0,0,0,0,0,9999,0,0,0,0,0,0,9999,0,0,0,0,0,0,9999,9999,9999,9999,9999,9999,9999,0,0,0,0,0,0,0,0,0,0,0,null,0,0,0,0,9999,9999,0,0,0,0,0,0,null,0,"SmComWX",0,0,0,0,0,0,0,9999,9999]
["Demand Control Ventilation-New-University","Demand Control Ventilation-DOAS-University-ElecHt-Vent-New",15,0,0,0,0,0,"SmComCAC",0,0,0,0,0,0,0,0,0,0,0,0,"(na)","(na)","(na)","(na)",0,0,0,0,0,0,0,0,0,0,0,0,0,0,0,0,0,0,0,9999,0,0,0,0,0,0,9999,0,0,0,0,0,0,9999,9999,9999,9999,9999,9999,9999,0,0,0,0,0,0,0,0,0,0,0,null,0,0,0,0,9999,9999,0,0,0,0,0,0,null,0,"SmComWX",0,0,0,0,0,0,0,9999,9999]
["Demand Control Ventilation-New-Warehouse","Demand Control Ventilation-DOAS-Warehouse-ElecHt-Vent-New",15,0,0,0,0,0,"SmComCAC",0,0,0,0,0,0,0,0,0,0,0,0,"(na)","(na)","(na)","(na)",0,0,0,0,0,0,0,0,0,0,0,0,0,0,0,0,0,0,0,9999,0,0,0,0,0,0,9999,0,0,0,0,0,0,9999,9999,9999,9999,9999,9999,9999,0,0,0,0,0,0,0,0,0,0,0,null,0,0,0,0,9999,9999,0,0,0,0,0,0,null,0,"SmComWX",0,0,0,0,0,0,0,9999,9999]
["Demand Control Ventilation-New-Supermarket","Demand Control Ventilation-DOAS-Supermarket-ElecHt-Vent-New",15,3.8663304760443333,0,4.3863000000000003,0,0,"SmComCAC",0.17000000178813934,0,4.2183700793290848,0,2.8326418250799179E-3,0,0,0,0.4361235499382019,2.4101674556732178,0,2.7752780914306641,"(na)","(na)","(na)","(na)",0,0,0,0,0,0,0,0,0.4361235499382019,2.4101674556732178,0,2.7752780914306641,5.6215690970420837,1.9670639621316757,0,0.19670639932155609,0,2.1637704372406006,0.4361235499382019,4.961370147885467,1.9670639621316757,0.81192284822463989,0.27789869904518127,0,3.0568854808807373,2.4101674556732178,1.2683290956427071,1.9670639621316757,0.81192284822463989,0.27789869904518127,0,3.0568854808807373,2.8462910652160645,33.411872863769531,1.0739890978733002,8.2960195541381836,45.846633911132813,0,52.791831970214844,106.93449401855469,1.9670639621316757,0,0.81192284822463989,0,0,0,0,0,0,0.27789869904518127,5.6215691566467285,null,0,0,3.0568854808807373,5.6215691566467285,0.54377797803788508,86.203704833984375,3.1739728162276444E-2,0,3.1739728162276444E-2,1.551210904237524E-3,0,1.551210904237524E-3,null,0,"SmComWX",0,0,0,0,0,0,0,9999,9999]
["Demand Control Ventilation-New-MIniMart","Demand Control Ventilation-DOAS-MIniMart-ElecHt-Vent-New",15,1.6569987754475715,0,1.8798999999999999,0,0,"SmComCAC",0.17000000178813934,0,1.8078728911410367,0,1.2139893369749188E-3,0,0,0,0.18691578507423401,1.0329602956771851,0,1.1894410848617554,"(na)","(na)","(na)","(na)",0,0,0,0,0,0,0,0,0.18691578507423401,1.0329602956771851,0,1.1894410848617554,2.4093171656131744,0.84302741234214784,0,8.4302745759487152E-2,0,0.9273301362991333,0.18691578507423401,4.9612190737841848,0.84302741234214784,0.34796693921089172,0.11909943819046021,0,1.3100937604904175,1.0329602956771851,1.2682905579489212,0.84302741234214784,0.34796693921089172,0.11909943819046021,0,1.3100937604904175,1.2198760509490967,33.413520812988281,1.0739564537870996,8.2962722778320312,45.848026275634766,0,52.793437957763672,106.93772888183594,0.84302741234214784,0,0.34796693921089172,0,0,0,0,0,0,0.11909943819046021,2.4093170166015625,null,0,0,1.3100937604904175,2.4093170166015625,0.54376148124809209,86.206954956054687,1.3602740640975632E-2,0,1.3602740640975632E-2,6.6480467324465324E-4,0,6.6480467324465324E-4,null,0,"SmComWX",0,0,0,0,0,0,0,9999,9999]
["Demand Control Ventilation-New-Restaurant","Demand Control Ventilation-DOAS-Restaurant-ElecHt-Vent-New",15,1.7627646547314588,0,1.9998,0,0,"SmComCAC",0.17000000178813934,0,1.9232690331287623,0,1.2914779363200068E-3,0,0,0,0.19883726537227631,1.0988425016403198,0,1.2653036117553711,"(na)","(na)","(na)","(na)",0,0,0,0,0,0,0,0,0.19883726537227631,1.0988425016403198,0,1.2653036117553711,2.5629833787679672,0.89683767270441372,0,8.9683771133422852E-2,0,0.98652142286300659,0.19883726537227631,4.9614514763658901,0.89683767270441372,0.37017756700515747,0.12670151889324188,0,1.3937168121337891,1.0988425016403198,1.2683498831928266,0.89683767270441372,0.37017756700515747,0.12670151889324188,0,1.3937168121337891,1.2976797819137573,33.410987854003906,1.0740066956667629,8.2958841323852539,45.845882415771484,0,52.790966033935547,106.93273162841797,0.89683767270441372,0,0.37017756700515747,0,0,0,0,0,0,0.12670151889324188,2.562983512878418,null,0,0,1.3937168121337891,2.562983512878418,0.54378686074245053,86.201957702636719,1.4471000681888986E-2,0,1.4471000681888986E-2,7.0723901409005662E-4,0,7.0723901409005662E-4,null,0,"SmComWX",0,0,0,0,0,0,0,9999,9999]
["Demand Control Ventilation-New-Lodging","Demand Control Ventilation-DOAS-Lodging-ElecHt-Vent-New",15,0,0,0,0,0,"SmComCAC",0,0,0,0,0,0,0,0,0,0,0,0,"(na)","(na)","(na)","(na)",0,0,0,0,0,0,0,0,0,0,0,0,0,0,0,0,0,0,0,9999,0,0,0,0,0,0,9999,0,0,0,0,0,0,9999,9999,9999,9999,9999,9999,9999,0,0,0,0,0,0,0,0,0,0,0,null,0,0,0,0,9999,9999,0,0,0,0,0,0,null,0,"SmComWX",0,0,0,0,0,0,0,9999,9999]
["Demand Control Ventilation-New-Hospital","Demand Control Ventilation-DOAS-Hospital-ElecHt-Vent-New",15,0,0,0,0,0,"SmComCAC",0,0,0,0,0,0,0,0,0,0,0,0,"(na)","(na)","(na)","(na)",0,0,0,0,0,0,0,0,0,0,0,0,0,0,0,0,0,0,0,9999,0,0,0,0,0,0,9999,0,0,0,0,0,0,9999,9999,9999,9999,9999,9999,9999,0,0,0,0,0,0,0,0,0,0,0,null,0,0,0,0,9999,9999,0,0,0,0,0,0,null,0,"SmComWX",0,0,0,0,0,0,0,9999,9999]
["Demand Control Ventilation-New-OtherHealth","Demand Control Ventilation-DOAS-OtherHealth-ElecHt-Vent-New",15,0,0,0,0,0,"SmComCAC",0,0,0,0,0,0,0,0,0,0,0,0,"(na)","(na)","(na)","(na)",0,0,0,0,0,0,0,0,0,0,0,0,0,0,0,0,0,0,0,9999,0,0,0,0,0,0,9999,0,0,0,0,0,0,9999,9999,9999,9999,9999,9999,9999,0,0,0,0,0,0,0,0,0,0,0,null,0,0,0,0,9999,9999,0,0,0,0,0,0,null,0,"SmComWX",0,0,0,0,0,0,0,9999,9999]
["Demand Control Ventilation-New-Other","Demand Control Ventilation-DOAS-Other-ElecHt-Vent-New",15,0,0,0,0,0,"SmComCAC",0,0,0,0,0,0,0,0,0,0,0,0,"(na)","(na)","(na)","(na)",0,0,0,0,0,0,0,0,0,0,0,0,0,0,0,0,0,0,0,9999,0,0,0,0,0,0,9999,0,0,0,0,0,0,9999,9999,9999,9999,9999,9999,9999,0,0,0,0,0,0,0,0,0,0,0,null,0,0,0,0,9999,9999,0,0,0,0,0,0,null,0,"SmComWX",0,0,0,0,0,0,0,9999,9999]
["Demand Control Ventilation-New-Large Off","Demand Control Ventilation-DOAS-Large Off-ElecHt-Heat-New",15,0,0,0,0,0,"ExCOMM",0,0,0,0,0,0,0,0,0,0,0,0,"(na)","(na)","(na)","(na)",0,0,0,0,0,0,0,0,0,0,0,0,0,0,0,0,0,0,0,9999,0,0,0,0,0,0,9999,0,0,0,0,0,0,9999,9999,9999,9999,9999,9999,9999,0,0,0,0,0,0,0,0,0,0,0,null,0,0,0,0,9999,9999,0,0,0,0,0,0,null,0,"SmComWX",0,0,0,0,0,0,0,9999,9999]
["Demand Control Ventilation-New-Medium Off","Demand Control Ventilation-DOAS-Medium Off-ElecHt-Heat-New",15,0,0,0,0,0,"ExCOMM",0,0,0,0,0,0,0,0,0,0,0,0,"(na)","(na)","(na)","(na)",0,0,0,0,0,0,0,0,0,0,0,0,0,0,0,0,0,0,0,9999,0,0,0,0,0,0,9999,0,0,0,0,0,0,9999,9999,9999,9999,9999,9999,9999,0,0,0,0,0,0,0,0,0,0,0,null,0,0,0,0,9999,9999,0,0,0,0,0,0,null,0,"SmComWX",0,0,0,0,0,0,0,9999,9999]
["Demand Control Ventilation-New-Small Off","Demand Control Ventilation-DOAS-Small Off-ElecHt-Heat-New",15,0,0,0,0,0,"ExCOMM",0,0,0,0,0,0,0,0,0,0,0,0,"(na)","(na)","(na)","(na)",0,0,0,0,0,0,0,0,0,0,0,0,0,0,0,0,0,0,0,9999,0,0,0,0,0,0,9999,0,0,0,0,0,0,9999,9999,9999,9999,9999,9999,9999,0,0,0,0,0,0,0,0,0,0,0,null,0,0,0,0,9999,9999,0,0,0,0,0,0,null,0,"SmComWX",0,0,0,0,0,0,0,9999,9999]
["Demand Control Ventilation-New-Big Box","Demand Control Ventilation-DOAS-Big Box-ElecHt-Heat-New",15,50.82480454731909,0,0,0,0,"ExCOMM",0.47692599892616272,0.4638296365737915,55.416704043326874,6.1523932963609695E-3,1.3264338485896587E-2,0,0,0,0,0,0,0,"(na)","(na)","(na)","(na)",0,0,0,0,0,0,0,0,0,0,0,0,0,27.117612071899089,0,2.7117612361907959,0,29.829372406005859,0,9999,27.117612071899089,3.8019702434539795,3.0919582843780518,0,34.011539459228516,0,9999,27.117612071899089,3.8019702434539795,3.0919582843780518,0,34.011539459228516,0,-9.9823083877563477,9999,0,0,0,0,0,27.117612071899089,0,3.8019702434539795,0,0,0,0,0,0,3.0919582843780518,0,null,0,0,34.011539459228516,0,9999,-9.9823083877563477,0.41715086116074401,0,0.41715086116074401,2.0393473058905653E-2,0,2.0393473058905653E-2,null,0,"SmComWX",0,0,0,0,0,0,0,9999,9999]
["Demand Control Ventilation-New-Small Box","Demand Control Ventilation-DOAS-Small Box-ElecHt-Heat-New",15,42.530977040726647,0,0,0,0,"ExCOMM",0.47692599892616272,0.4638296365737915,46.373549063924592,5.1484173163771629E-3,1.1099802330136299E-2,0,0,0,0,0,0,0,"(na)","(na)","(na)","(na)",0,0,0,0,0,0,0,0,0,0,0,0,0,22.692434269087759,0,2.2692434787750244,0,24.961677551269531,0,9999,22.692434269087759,3.181546688079834,2.5873980522155762,0,28.46137809753418,0,9999,22.692434269087759,3.181546688079834,2.5873980522155762,0,28.46137809753418,0,-9.9823074340820312,9999,0,0,0,0,0,22.692434269087759,0,3.181546688079834,0,0,0,0,0,0,2.5873980522155762,0,null,0,0,28.46137809753418,0,9999,-9.9823074340820312,0.34907824745354177,0,0.34907824745354177,1.7065571469959455E-2,0,1.7065571469959455E-2,null,0,"SmComWX",0,0,0,0,0,0,0,9999,9999]
["Demand Control Ventilation-New-High End","Demand Control Ventilation-DOAS-High End-ElecHt-Heat-New",15,10.381312300029302,0,0,0,0,"ExCOMM",0.47692599892616272,0.4638296365737915,11.319239029762659,1.2566682416945696E-3,2.7093314565718174E-3,0,0,0,0,0,0,0,"(na)","(na)","(na)","(na)",0,0,0,0,0,0,0,0,0,0,0,0,0,5.5389568588961513,0,0.55389571189880371,0,6.0928525924682617,0,9999,5.5389568588961513,0.77657824754714966,0.6315535306930542,0,6.9470887184143066,0,9999,5.5389568588961513,0.77657824754714966,0.6315535306930542,0,6.9470887184143066,0,-9.9823083877563477,9999,0,0,0,0,0,5.5389568588961513,0,0.77657824754714966,0,0,0,0,0,0,0.6315535306930542,0,null,0,0,6.9470887184143066,0,9999,-9.9823083877563477,8.5205902993763377E-2,0,8.5205902993763377E-2,4.1655056933790156E-3,0,4.1655056933790156E-3,null,0,"SmComWX",0,0,0,0,0,0,0,9999,9999]
["Demand Control Ventilation-New-Anchor","Demand Control Ventilation-DOAS-Anchor-ElecHt-Heat-New",15,10.381312300029302,0,0,0,0,"ExCOMM",0.47692599892616272,0.4638296365737915,11.319239029762659,1.2566682416945696E-3,2.7093314565718174E-3,0,0,0,0,0,0,0,"(na)","(na)","(na)","(na)",0,0,0,0,0,0,0,0,0,0,0,0,0,5.5389568588961513,0,0.55389571189880371,0,6.0928525924682617,0,9999,5.5389568588961513,0.77657824754714966,0.6315535306930542,0,6.9470887184143066,0,9999,5.5389568588961513,0.77657824754714966,0.6315535306930542,0,6.9470887184143066,0,-9.9823083877563477,9999,0,0,0,0,0,5.5389568588961513,0,0.77657824754714966,0,0,0,0,0,0,0.6315535306930542,0,null,0,0,6.9470887184143066,0,9999,-9.9823083877563477,8.5205902993763377E-2,0,8.5205902993763377E-2,4.1655056933790156E-3,0,4.1655056933790156E-3,null,0,"SmComWX",0,0,0,0,0,0,0,9999,9999]
["Demand Control Ventilation-New-K-12","Demand Control Ventilation-DOAS-K-12-ElecHt-Heat-New",15,0,0,0,0,0,"ExCOMM",0,0,0,0,0,0,0,0,0,0,0,0,"(na)","(na)","(na)","(na)",0,0,0,0,0,0,0,0,0,0,0,0,0,0,0,0,0,0,0,9999,0,0,0,0,0,0,9999,0,0,0,0,0,0,9999,9999,9999,9999,9999,9999,9999,0,0,0,0,0,0,0,0,0,0,0,null,0,0,0,0,9999,9999,0,0,0,0,0,0,null,0,"SmComWX",0,0,0,0,0,0,0,9999,9999]
["Demand Control Ventilation-New-University","Demand Control Ventilation-DOAS-University-ElecHt-Heat-New",15,0,0,0,0,0,"ExCOMM",0,0,0,0,0,0,0,0,0,0,0,0,"(na)","(na)","(na)","(na)",0,0,0,0,0,0,0,0,0,0,0,0,0,0,0,0,0,0,0,9999,0,0,0,0,0,0,9999,0,0,0,0,0,0,9999,9999,9999,9999,9999,9999,9999,0,0,0,0,0,0,0,0,0,0,0,null,0,0,0,0,9999,9999,0,0,0,0,0,0,null,0,"SmComWX",0,0,0,0,0,0,0,9999,9999]
["Demand Control Ventilation-New-Warehouse","Demand Control Ventilation-DOAS-Warehouse-ElecHt-Heat-New",15,0,0,0,0,0,"ExCOMM",0,0,0,0,0,0,0,0,0,0,0,0,"(na)","(na)","(na)","(na)",0,0,0,0,0,0,0,0,0,0,0,0,0,0,0,0,0,0,0,9999,0,0,0,0,0,0,9999,0,0,0,0,0,0,9999,9999,9999,9999,9999,9999,9999,0,0,0,0,0,0,0,0,0,0,0,null,0,0,0,0,9999,9999,0,0,0,0,0,0,null,0,"SmComWX",0,0,0,0,0,0,0,9999,9999]
["Demand Control Ventilation-New-Supermarket","Demand Control Ventilation-DOAS-Supermarket-ElecHt-Heat-New",15,22.102306756519194,0,0,0,0,"ExCOMM",0.47692599892616272,0.4638296365737915,24.099197293724881,2.6755060534924269E-3,5.7682949118316174E-3,0,0,0,0,0,0,0,"(na)","(na)","(na)","(na)",0,0,0,0,0,0,0,0,0,0,0,0,0,11.792702123613301,0,1.1792702674865723,0,12.971972465515137,0,9999,11.792702123613301,1.6533718109130859,1.3446074724197388,0,14.790681838989258,0,9999,11.792702123613301,1.6533718109130859,1.3446074724197388,0,14.790681838989258,0,-9.9823083877563477,9999,0,0,0,0,0,11.792702123613301,0,1.6533718109130859,0,0,0,0,0,0,1.3446074724197388,0,null,0,0,14.790681838989258,0,9999,-9.9823083877563477,0.18140741276312947,0,0.18140741276312947,8.8685593853900652E-3,0,8.8685593853900652E-3,null,0,"SmComWX",0,0,0,0,0,0,0,9999,9999]
["Demand Control Ventilation-New-MIniMart","Demand Control Ventilation-DOAS-MIniMart-ElecHt-Heat-New",15,9.472417181365369,0,0,0,0,"ExCOMM",0.47692599892616272,0.4638296365737915,10.328227411596378,1.1466455180197954E-3,2.4721263907849789E-3,0,0,0,0,0,0,0,"(na)","(na)","(na)","(na)",0,0,0,0,0,0,0,0,0,0,0,0,0,5.0540151958342845,0,0.50540155172348022,0,5.5594167709350586,0,9999,5.0540151958342845,0.70858806371688843,0.57626032829284668,0,6.3388633728027344,0,9999,5.0540151958342845,0.70858806371688843,0.57626032829284668,0,6.3388633728027344,0,-9.9823093414306641,9999,0,0,0,0,0,5.0540151958342845,0,0.70858806371688843,0,0,0,0,0,0,0.57626032829284668,0,null,0,0,6.3388633728027344,0,9999,-9.9823093414306641,7.7746034041341311E-2,0,7.7746034041341311E-2,3.8008111651671728E-3,0,3.8008111651671728E-3,null,0,"SmComWX",0,0,0,0,0,0,0,9999,9999]
["Demand Control Ventilation-New-Restaurant","Demand Control Ventilation-DOAS-Restaurant-ElecHt-Heat-New",15,10.07703955464401,0,0,0,0,"ExCOMM",0.47692599892616272,0.4638296365737915,10.987475969783381,1.2198357144370675E-3,2.6299217715859413E-3,0,0,0,0,0,0,0,"(na)","(na)","(na)","(na)",0,0,0,0,0,0,0,0,0,0,0,0,0,5.3766119104619987,0,0.53766119480133057,0,5.9142732620239258,0,9999,5.3766119104619987,0.75381714105606079,0.61304289102554321,0,6.7434720993041992,0,9999,5.3766119104619987,0.75381714105606079,0.61304289102554321,0,6.7434720993041992,0,-9.9823093414306641,9999,0,0,0,0,0,5.3766119104619987,0,0.75381714105606079,0,0,0,0,0,0,0.61304289102554321,0,null,0,0,6.7434720993041992,0,9999,-9.9823093414306641,8.2708546852490711E-2,0,8.2708546852490711E-2,4.0434161331565667E-3,0,4.0434161331565667E-3,null,0,"SmComWX",0,0,0,0,0,0,0,9999,9999]
["Demand Control Ventilation-New-Lodging","Demand Control Ventilation-DOAS-Lodging-ElecHt-Heat-New",15,0,0,0,0,0,"ExCOMM",0,0,0,0,0,0,0,0,0,0,0,0,"(na)","(na)","(na)","(na)",0,0,0,0,0,0,0,0,0,0,0,0,0,0,0,0,0,0,0,9999,0,0,0,0,0,0,9999,0,0,0,0,0,0,9999,9999,9999,9999,9999,9999,9999,0,0,0,0,0,0,0,0,0,0,0,null,0,0,0,0,9999,9999,0,0,0,0,0,0,null,0,"SmComWX",0,0,0,0,0,0,0,9999,9999]
["Demand Control Ventilation-New-Hospital","Demand Control Ventilation-DOAS-Hospital-ElecHt-Heat-New",15,0,0,0,0,0,"ExCOMM",0,0,0,0,0,0,0,0,0,0,0,0,"(na)","(na)","(na)","(na)",0,0,0,0,0,0,0,0,0,0,0,0,0,0,0,0,0,0,0,9999,0,0,0,0,0,0,9999,0,0,0,0,0,0,9999,9999,9999,9999,9999,9999,9999,0,0,0,0,0,0,0,0,0,0,0,null,0,0,0,0,9999,9999,0,0,0,0,0,0,null,0,"SmComWX",0,0,0,0,0,0,0,9999,9999]
["Demand Control Ventilation-New-OtherHealth","Demand Control Ventilation-DOAS-OtherHealth-ElecHt-Heat-New",15,0,0,0,0,0,"ExCOMM",0,0,0,0,0,0,0,0,0,0,0,0,"(na)","(na)","(na)","(na)",0,0,0,0,0,0,0,0,0,0,0,0,0,0,0,0,0,0,0,9999,0,0,0,0,0,0,9999,0,0,0,0,0,0,9999,9999,9999,9999,9999,9999,9999,0,0,0,0,0,0,0,0,0,0,0,null,0,0,0,0,9999,9999,0,0,0,0,0,0,null,0,"SmComWX",0,0,0,0,0,0,0,9999,9999]
["Demand Control Ventilation-New-Other","Demand Control Ventilation-DOAS-Other-ElecHt-Heat-New",15,0,0,0,0,0,"ExCOMM",0,0,0,0,0,0,0,0,0,0,0,0,"(na)","(na)","(na)","(na)",0,0,0,0,0,0,0,0,0,0,0,0,0,0,0,0,0,0,0,9999,0,0,0,0,0,0,9999,0,0,0,0,0,0,9999,9999,9999,9999,9999,9999,9999,0,0,0,0,0,0,0,0,0,0,0,null,0,0,0,0,9999,9999,0,0,0,0,0,0,null,0,"SmComWX",0,0,0,0,0,0,0,9999,9999]
["Demand Control Ventilation-New-Large Off","Demand Control Ventilation-DOAS-Large Off-GasHt-Vent-New",15,0,0,0,0,0,"SmComCAC",0,0,0,0,0,0,0,0,0,0,0,0,"(na)","(na)","(na)","(na)",0,0,0,0,0,0,0,0,0,0,0,0,0,0,0,0,0,0,0,9999,0,0,0,0,0,0,9999,0,0,0,0,0,0,9999,9999,9999,9999,9999,9999,9999,0,0,0,0,0,0,0,0,0,0,0,null,0,0,0,0,9999,9999,0,0,0,0,0,0,null,0,"SmComWX",0,0,0,0,0,0,0,9999,9999]
["Demand Control Ventilation-New-Medium Off","Demand Control Ventilation-DOAS-Medium Off-GasHt-Vent-New",15,0,0,0,0,0,"SmComCAC",0,0,0,0,0,0,0,0,0,0,0,0,"(na)","(na)","(na)","(na)",0,0,0,0,0,0,0,0,0,0,0,0,0,0,0,0,0,0,0,9999,0,0,0,0,0,0,9999,0,0,0,0,0,0,9999,9999,9999,9999,9999,9999,9999,0,0,0,0,0,0,0,0,0,0,0,null,0,0,0,0,9999,9999,0,0,0,0,0,0,null,0,"SmComWX",0,0,0,0,0,0,0,9999,9999]
["Demand Control Ventilation-New-Small Off","Demand Control Ventilation-DOAS-Small Off-GasHt-Vent-New",15,0,0,0,0,0,"SmComCAC",0,0,0,0,0,0,0,0,0,0,0,0,"(na)","(na)","(na)","(na)",0,0,0,0,0,0,0,0,0,0,0,0,0,0,0,0,0,0,0,9999,0,0,0,0,0,0,9999,0,0,0,0,0,0,9999,9999,9999,9999,9999,9999,9999,0,0,0,0,0,0,0,0,0,0,0,null,0,0,0,0,9999,9999,0,0,0,0,0,0,null,0,"SmComWX",0,0,0,0,0,0,0,9999,9999]
["Demand Control Ventilation-New-Big Box","Demand Control Ventilation-DOAS-Big Box-GasHt-Vent-New",15,339.78024631406674,8.9545739363609727,385.47910000000002,0,0,"SmComCAC",0.17000000178813934,0,370.71813531696949,0,0.24893777072429657,9.0441196757245788,2.284429594874382E-2,5.191885307431221E-2,38.32763671875,211.81159973144531,0,243.8984375,"(na)","(na)","(na)","(na)",0,0,0,0,0,0,0,0,38.32763671875,211.81159973144531,0,243.8984375,494.03767395019531,172.86920549338026,0,17.286920547485352,0,190.1561279296875,38.32763671875,4.961331882689251,172.86920549338026,71.353263854980469,24.422246932983398,0,268.64471435546875,211.81159973144531,1.2683191884767273,172.86920549338026,71.353263854980469,24.422246932983398,0,268.64471435546875,250.13923645019531,33.412296295166016,1.0739807160754382,8.2960834503173828,45.846988677978516,0,52.792240142822266,106.93531036376953,172.86920549338026,75.990941565629555,71.353263854980469,0,0,0,0,0,0,24.422246932983398,494.03765869140625,null,0,0,344.63565063476562,494.03765869140625,0.69758985329141787,69.75616455078125,2.7893457943495648,0.84652960164782098,3.6358753959973855,0.13632327251708232,5.2908100102988791E-2,0.18923137262007111,null,8.9545739363609727,"SmComWX",0.47692599892616272,0.43999999761581421,75.990941565629555,0,0,75.990943908691406,0,0,9999]
["Demand Control Ventilation-New-Small Box","Demand Control Ventilation-DOAS-Small Box-GasHt-Vent-New",15,250.78767171764727,6.609262230764724,284.51740000000001,0,0,"SmComCAC",0.17000000178813934,0,273.62255171748478,0,0.18373794853687286,6.6753548530723723,1.6861096024513245E-2,3.8320671766996384E-2,28.289159774780273,156.33554077148437,0,180.01844787597656,"(na)","(na)","(na)","(na)",0,0,0,0,0,0,0,0,28.289159774780273,156.33554077148437,0,180.01844787597656,364.64314842224121,127.59266033756312,0,12.759265899658203,0,140.3519287109375,28.289159774780273,4.9613324451702088,127.59266033756312,52.66497802734375,18.025764465332031,0,198.28340148925781,156.33554077148437,1.2683194227732881,127.59266033756312,52.66497802734375,18.025764465332031,0,198.28340148925781,184.62469482421875,33.412288665771484,1.0739809041994983,8.2960824966430664,45.846981048583984,0,52.792236328125,106.93528747558594,127.59266033756312,56.087990734048219,52.66497802734375,0,0,0,0,0,0,18.025764465332031,364.64312744140625,null,0,0,254.37139892578125,364.64312744140625,0.69758998434753594,69.756141662597656,2.0587822422547299,0.62481321424757008,2.6835954565022999,0.10061855121468263,3.9050825890473387E-2,0.13966937710515603,null,6.609262230764724,"SmComWX",0.47692599892616272,0.43999999761581421,56.087990734048219,0,0,56.087989807128906,0,0,9999]
["Demand Control Ventilation-New-High End","Demand Control Ventilation-DOAS-High End-GasHt-Vent-New",15,117.60389704282362,7.168277628362147,142.2587,0,0,"SmComCAC",0.17000000178813934,0,128.31204253535645,0,8.6161725223064423E-2,7.2399604046457693,1.8287219107151031E-2,4.1561860591173172E-2,14.144579887390137,78.167770385742187,0,90.009223937988281,"(na)","(na)","(na)","(na)",0,0,0,0,0,0,0,0,14.144579887390137,78.167770385742187,0,90.009223937988281,182.32157421112061,59.833061118940428,0,5.9833064079284668,0,65.816368103027344,14.144579887390137,4.6531157553533316,59.833061118940428,24.696617126464844,8.452967643737793,0,92.982643127441406,78.167770385742187,1.189526648007132,59.833061118940428,24.696617126464844,8.452967643737793,0,92.982643127441406,92.312347412109375,36.9986572265625,1.0072611694321236,8.8456048965454102,48.883831024169922,0,56.289127349853516,114.0185546875,59.833061118940428,60.831946919458481,24.696617126464844,0,0,0,0,0,0,8.452967643737793,182.32156372070312,null,0,0,153.81459045410156,182.32156372070312,0.84364454576656023,55.245262145996094,0.96544145568811623,0.67766029387484261,1.643101749562959,4.7183873340361435E-2,4.2353768367177747E-2,8.9537641707539181E-2,null,7.168277628362147,"SmComWX",0.47692599892616272,0.43999999761581421,60.831946919458481,0,0,60.831947326660156,0,0,9999]
["Demand Control Ventilation-New-Anchor","Demand Control Ventilation-DOAS-Anchor-GasHt-Vent-New",15,117.60389704282362,7.168277628362147,142.2587,0,0,"SmComCAC",0.17000000178813934,0,128.31204253535645,0,8.6161725223064423E-2,7.2399604046457693,1.8287219107151031E-2,4.1561860591173172E-2,14.144579887390137,78.167770385742187,0,90.009223937988281,"(na)","(na)","(na)","(na)",0,0,0,0,0,0,0,0,14.144579887390137,78.167770385742187,0,90.009223937988281,182.32157421112061,59.833061118940428,0,5.9833064079284668,0,65.816368103027344,14.144579887390137,4.6531157553533316,59.833061118940428,24.696617126464844,8.452967643737793,0,92.982643127441406,78.167770385742187,1.189526648007132,59.833061118940428,24.696617126464844,8.452967643737793,0,92.982643127441406,92.312347412109375,36.9986572265625,1.0072611694321236,8.8456048965454102,48.883831024169922,0,56.289127349853516,114.0185546875,59.833061118940428,60.831946919458481,24.696617126464844,0,0,0,0,0,0,8.452967643737793,182.32156372070312,null,0,0,153.81459045410156,182.32156372070312,0.84364454576656023,55.245262145996094,0.96544145568811623,0.67766029387484261,1.643101749562959,4.7183873340361435E-2,4.2353768367177747E-2,8.9537641707539181E-2,null,7.168277628362147,"SmComWX",0.47692599892616272,0.43999999761581421,60.831946919458481,0,0,60.831947326660156,0,0,9999]
["Demand Control Ventilation-New-K-12","Demand Control Ventilation-DOAS-K-12-GasHt-Vent-New",15,0,0,0,0,0,"SmComCAC",0,0,0,0,0,0,0,0,0,0,0,0,"(na)","(na)","(na)","(na)",0,0,0,0,0,0,0,0,0,0,0,0,0,0,0,0,0,0,0,9999,0,0,0,0,0,0,9999,0,0,0,0,0,0,9999,9999,9999,9999,9999,9999,9999,0,0,0,0,0,0,0,0,0,0,0,null,0,0,0,0,9999,9999,0,0,0,0,0,0,null,0,"SmComWX",0,0,0,0,0,0,0,9999,9999]
["Demand Control Ventilation-New-University","Demand Control Ventilation-DOAS-University-GasHt-Vent-New",15,0,0,0,0,0,"SmComCAC",0,0,0,0,0,0,0,0,0,0,0,0,"(na)","(na)","(na)","(na)",0,0,0,0,0,0,0,0,0,0,0,0,0,0,0,0,0,0,0,9999,0,0,0,0,0,0,9999,0,0,0,0,0,0,9999,9999,9999,9999,9999,9999,9999,0,0,0,0,0,0,0,0,0,0,0,null,0,0,0,0,9999,9999,0,0,0,0,0,0,null,0,"SmComWX",0,0,0,0,0,0,0,9999,9999]
["Demand Control Ventilation-New-Warehouse","Demand Control Ventilation-DOAS-Warehouse-GasHt-Vent-New",15,0,0,0,0,0,"SmComCAC",0,0,0,0,0,0,0,0,0,0,0,0,"(na)","(na)","(na)","(na)",0,0,0,0,0,0,0,0,0,0,0,0,0,0,0,0,0,0,0,9999,0,0,0,0,0,0,9999,0,0,0,0,0,0,9999,9999,9999,9999,9999,9999,9999,0,0,0,0,0,0,0,0,0,0,0,null,0,0,0,0,9999,9999,0,0,0,0,0,0,null,0,"SmComWX",0,0,0,0,0,0,0,9999,9999]
["Demand Control Ventilation-New-Supermarket","Demand Control Ventilation-DOAS-Supermarket-GasHt-Vent-New",15,370.56713067485111,90.375731488,420.40660000000003,0,0,"SmComCAC",0.17000000178813934,0,404.30824682657016,0,0.2714935839176178,91.279488802880039,0.23056036233901978,0.52400082349777222,41.800430297851563,231.00343322753906,0,265.99758911132812,"(na)","(na)","(na)","(na)",0,0,0,0,0,0,0,0,41.800430297851563,231.00343322753906,0,265.99758911132812,538.80145263671875,188.5325770307177,0,18.85325813293457,0,207.38583374023437,41.800430297851563,4.9613325433712436,188.5325770307177,77.818458557128906,26.635103225708008,0,292.98614501953125,231.00343322753906,1.2683194129195576,188.5325770307177,77.818458557128906,26.635103225708008,0,292.98614501953125,272.80386352539062,33.412288665771484,1.0739808997840148,8.2960824966430664,45.846981048583984,0,52.792232513427734,106.93529510498047,188.5325770307177,766.95295379364461,77.818458557128906,0,0,0,0,0,0,26.635103225708008,538.80145263671875,null,0,0,1059.9390869140625,538.80145263671875,1.9672164717080896,-66.011741638183594,3.0420834603688651,8.5437601519495932,11.585843612318458,0.14867528200614405,0.53398500949684846,0.68266029150299246,null,90.375731488,"SmComWX",0.47692599892616272,0.43999999761581421,766.95295379364461,0,0,766.95294189453125,0,0,9999]
["Demand Control Ventilation-New-MIniMart","Demand Control Ventilation-DOAS-MIniMart-GasHt-Vent-New",15,158.81448457493616,38.732456352,180.17429999999999,0,0,"SmComCAC",0.17000000178813934,0,173.2749629256729,0,0.11635439097881317,39.119780915520003,9.881158173084259E-2,0.22457177937030792,17.914474487304688,99.001495361328125,0,113.99899291992187,"(na)","(na)","(na)","(na)",0,0,0,0,0,0,0,0,17.914474487304688,99.001495361328125,0,113.99899291992187,230.91496276855469,80.799675870307638,0,8.0799674987792969,0,88.879646301269531,17.914474487304688,4.9613313207748622,80.799675870307638,33.35076904296875,11.415044784545898,0,125.56549072265625,99.001495361328125,1.2683191222470218,80.799675870307638,33.35076904296875,11.415044784545898,0,125.56549072265625,116.91596984863281,33.412300109863281,1.0739806534589562,8.2960844039916992,45.846992492675781,0,52.792243957519531,106.93532562255859,80.799675870307638,328.69412305441909,33.35076904296875,0,0,0,0,0,0,11.415044784545898,230.91496276855469,null,0,0,454.25961303710937,230.91496276855469,1.96721601452715,-66.011711120605469,1.3037500544438001,3.6616114936926696,4.9653615481364692,6.371797800263318E-2,0.22885071835579202,0.2925686963584252,null,38.732456352,"SmComWX",0.47692599892616272,0.43999999761581421,328.69412305441909,0,0,328.69412231445312,0,0,9999]
["Demand Control Ventilation-New-Restaurant","Demand Control Ventilation-DOAS-Restaurant-GasHt-Vent-New",15,168.9515793350385,4.4525525695868744,191.6748,0,0,"SmComCAC",0.17000000178813934,0,184.33506694220529,0,0.12378127127885818,4.4970780952827436,1.1359047144651413E-2,2.5816015899181366E-2,19.057952880859375,105.32074737548828,0,121.27553558349609,"(na)","(na)","(na)","(na)",0,0,0,0,0,0,0,0,19.057952880859375,105.32074737548828,0,121.27553558349609,245.65423583984375,85.957101989688923,0,8.5957107543945313,0,94.552810668945313,19.057952880859375,4.9613310167770655,85.957101989688923,35.479541778564453,12.143664360046387,0,133.58030700683594,105.32074737548828,1.2683190297924949,85.957101989688923,35.479541778564453,12.143664360046387,0,133.58030700683594,124.37870025634766,33.412303924560547,1.0739805758782439,8.2960853576660156,45.846996307373047,0,52.792247772216797,106.93532562255859,85.957101989688923,37.785567972078461,35.479541778564453,0,0,0,0,0,0,12.143664360046387,245.65423583984375,null,0,0,171.36587524414062,245.65423583984375,0.6975897464764319,69.756179809570313,1.3869681430253178,0.42092650971846468,1.8078946527437825,6.7785082981524664E-2,2.6307906857404046E-2,9.4092989838928706E-2,null,4.4525525695868744,"SmComWX",0.47692599892616272,0.43999999761581421,37.785567972078461,0,0,37.785568237304688,0,0,9999]
["Demand Control Ventilation-New-Lodging","Demand Control Ventilation-DOAS-Lodging-GasHt-Vent-New",15,0,0,0,0,0,"SmComCAC",0,0,0,0,0,0,0,0,0,0,0,0,"(na)","(na)","(na)","(na)",0,0,0,0,0,0,0,0,0,0,0,0,0,0,0,0,0,0,0,9999,0,0,0,0,0,0,9999,0,0,0,0,0,0,9999,9999,9999,9999,9999,9999,9999,0,0,0,0,0,0,0,0,0,0,0,null,0,0,0,0,9999,9999,0,0,0,0,0,0,null,0,"SmComWX",0,0,0,0,0,0,0,9999,9999]
["Demand Control Ventilation-New-Hospital","Demand Control Ventilation-DOAS-Hospital-GasHt-Vent-New",15,0,0,0,0,0,"SmComCAC",0,0,0,0,0,0,0,0,0,0,0,0,"(na)","(na)","(na)","(na)",0,0,0,0,0,0,0,0,0,0,0,0,0,0,0,0,0,0,0,9999,0,0,0,0,0,0,9999,0,0,0,0,0,0,9999,9999,9999,9999,9999,9999,9999,0,0,0,0,0,0,0,0,0,0,0,null,0,0,0,0,9999,9999,0,0,0,0,0,0,null,0,"SmComWX",0,0,0,0,0,0,0,9999,9999]
["Demand Control Ventilation-New-OtherHealth","Demand Control Ventilation-DOAS-OtherHealth-GasHt-Vent-New",15,0,0,0,0,0,"SmComCAC",0,0,0,0,0,0,0,0,0,0,0,0,"(na)","(na)","(na)","(na)",0,0,0,0,0,0,0,0,0,0,0,0,0,0,0,0,0,0,0,9999,0,0,0,0,0,0,9999,0,0,0,0,0,0,9999,9999,9999,9999,9999,9999,9999,0,0,0,0,0,0,0,0,0,0,0,null,0,0,0,0,9999,9999,0,0,0,0,0,0,null,0,"SmComWX",0,0,0,0,0,0,0,9999,9999]
["Demand Control Ventilation-New-Other","Demand Control Ventilation-DOAS-Other-GasHt-Vent-New",15,0,0,0,0,0,"SmComCAC",0,0,0,0,0,0,0,0,0,0,0,0,"(na)","(na)","(na)","(na)",0,0,0,0,0,0,0,0,0,0,0,0,0,0,0,0,0,0,0,9999,0,0,0,0,0,0,9999,0,0,0,0,0,0,9999,9999,9999,9999,9999,9999,9999,0,0,0,0,0,0,0,0,0,0,0,null,0,0,0,0,9999,9999,0,0,0,0,0,0,null,0,"SmComWX",0,0,0,0,0,0,0,9999,9999]
["Demand Control Ventilation-New-Large Off","Demand Control Ventilation-DOAS-Large Off-HtPmpHt-Vent-New",15,0,0,0,0,0,"SmComHP",0,0,0,0,0,0,0,0,0,0,0,0,"(na)","(na)","(na)","(na)",0,0,0,0,0,0,0,0,0,0,0,0,0,0,0,0,0,0,0,9999,0,0,0,0,0,0,9999,0,0,0,0,0,0,9999,9999,9999,9999,9999,9999,9999,0,0,0,0,0,0,0,0,0,0,0,null,0,0,0,0,9999,9999,0,0,0,0,0,0,null,0,"SmComWX",0,0,0,0,0,0,0,9999,9999]
["Demand Control Ventilation-New-Medium Off","Demand Control Ventilation-DOAS-Medium Off-HtPmpHt-Vent-New",15,0,0,0,0,0,"SmComHP",0,0,0,0,0,0,0,0,0,0,0,0,"(na)","(na)","(na)","(na)",0,0,0,0,0,0,0,0,0,0,0,0,0,0,0,0,0,0,0,9999,0,0,0,0,0,0,9999,0,0,0,0,0,0,9999,9999,9999,9999,9999,9999,9999,0,0,0,0,0,0,0,0,0,0,0,null,0,0,0,0,9999,9999,0,0,0,0,0,0,null,0,"SmComWX",0,0,0,0,0,0,0,9999,9999]
["Demand Control Ventilation-New-Small Off","Demand Control Ventilation-DOAS-Small Off-HtPmpHt-Vent-New",15,0,0,0,0,0,"SmComHP",0,0,0,0,0,0,0,0,0,0,0,0,"(na)","(na)","(na)","(na)",0,0,0,0,0,0,0,0,0,0,0,0,0,0,0,0,0,0,0,9999,0,0,0,0,0,0,9999,0,0,0,0,0,0,9999,9999,9999,9999,9999,9999,9999,0,0,0,0,0,0,0,0,0,0,0,null,0,0,0,0,9999,9999,0,0,0,0,0,0,null,0,"SmComWX",0,0,0,0,0,0,0,9999,9999]
["Demand Control Ventilation-New-Big Box","Demand Control Ventilation-DOAS-Big Box-HtPmpHt-Vent-New",15,2.643620171007675,0,3.1097000000000001,0,0,"SmComHP",0.15800000727176666,0.15000000596046448,2.8824605652343562,3.1238736119121313E-4,2.0825823303312063E-3,0,0,0,0.30919304490089417,1.7087061405181885,0,1.967553973197937,"(na)","(na)","(na)","(na)",0,0,0,0,0,0,0,0,0.30919304490089417,1.7087061405181885,0,1.967553973197937,3.9854531586170197,1.4629663038660037,0,0.14629663527011871,0,1.6092629432678223,0.30919304490089417,5.2047190765624771,1.4629663038660037,0.59693259000778198,0.20598989725112915,0,2.2658886909484863,1.7087061405181885,1.3260845369454535,1.4629663038660037,0.59693259000778198,0.20598989725112915,0,2.2658886909484863,2.0178992748260498,33.822795867919922,1.1228949431655224,8.6073856353759766,47.567348480224609,0,54.773208618164063,110.94793701171875,1.4629663038660037,0,0.59693259000778198,0,0,0,0,0,0,0.20598989725112915,3.9854531288146973,null,0,0,2.2658886909484863,3.9854531288146973,0.5685398166503608,88.596000671386719,2.1703609894059613E-2,0,2.1703609894059613E-2,1.0610862046038544E-3,0,1.0610862046038544E-3,null,0,"SmComWX",0,0,0,0,0,0,0,9999,9999]
["Demand Control Ventilation-New-Small Box","Demand Control Ventilation-DOAS-Small Box-HtPmpHt-Vent-New",15,41.455450373933537,0,48.7637,0,0,"SmComHP",0.15800000727176666,0.15000000596046448,45.200782709773904,4.8986454494297504E-3,3.265763446688652E-2,0,0,0,4.8485050201416016,26.794492721557617,0,30.85352897644043,"(na)","(na)","(na)","(na)",0,0,0,0,0,0,0,0,4.8485050201416016,26.794492721557617,0,30.85352897644043,62.496526718139648,22.941240830953703,0,2.2941241264343262,0,25.23536491394043,4.8485050201416016,5.2047723685044316,22.941240830953703,9.3606882095336914,3.2301928997039795,0,35.532123565673828,26.794492721557617,1.3260979526439722,22.941240830953703,9.3606882095336914,3.2301928997039795,0,35.532123565673828,31.642997741699219,33.822227478027344,1.122906313435881,8.6072969436645508,47.566860198974609,0,54.772655487060547,110.94681549072266,22.941240830953703,0,9.3606882095336914,0,0,0,0,0,0,3.2301928997039795,62.496528625488281,null,0,0,35.532123565673828,62.496528625488281,0.56854552919440271,88.594886779785156,0.3403412232837702,0,0.3403412232837702,1.6639230922743956E-2,0,1.6639230922743956E-2,null,0,"SmComWX",0,0,0,0,0,0,0,9999,9999]
["Demand Control Ventilation-New-High End","Demand Control Ventilation-DOAS-High End-HtPmpHt-Vent-New",15,20.727725186966769,0,24.381799999999998,0,0,"SmComHP",0.15800000727176666,0.15000000596046448,22.600391354886952,2.4493227247148752E-3,1.632881723344326E-2,0,0,0,2.4242477416992187,13.397218704223633,0,15.426732063293457,"(na)","(na)","(na)","(na)",0,0,0,0,0,0,0,0,2.4242477416992187,13.397218704223633,0,15.426732063293457,31.248198509216309,11.470620415476851,0,1.1470620632171631,0,12.617682456970215,2.4242477416992187,5.2047826060260451,11.470620415476851,4.6803441047668457,1.6150964498519897,0,17.766061782836914,13.397218704223633,1.3261006901749484,11.470620415476851,4.6803441047668457,1.6150964498519897,0,17.766061782836914,15.821466445922852,33.822109222412109,1.1229086147494218,8.6072807312011719,47.566764831542969,0,54.772541046142578,110.94658660888672,11.470620415476851,0,4.6803441047668457,0,0,0,0,0,0,1.6150964498519897,31.248199462890625,null,0,0,17.766061782836914,31.248199462890625,0.56854670910540306,88.594657897949219,0.1701706116418851,0,0.1701706116418851,8.3196154613719778E-3,0,8.3196154613719778E-3,null,0,"SmComWX",0,0,0,0,0,0,0,9999,9999]
["Demand Control Ventilation-New-Anchor","Demand Control Ventilation-DOAS-Anchor-HtPmpHt-Vent-New",15,20.727725186966769,0,24.381799999999998,0,0,"SmComHP",0.15800000727176666,0.15000000596046448,22.600391354886952,2.4493227247148752E-3,1.632881723344326E-2,0,0,0,2.4242477416992187,13.397218704223633,0,15.426732063293457,"(na)","(na)","(na)","(na)",0,0,0,0,0,0,0,0,2.4242477416992187,13.397218704223633,0,15.426732063293457,31.248198509216309,11.470620415476851,0,1.1470620632171631,0,12.617682456970215,2.4242477416992187,5.2047826060260451,11.470620415476851,4.6803441047668457,1.6150964498519897,0,17.766061782836914,13.397218704223633,1.3261006901749484,11.470620415476851,4.6803441047668457,1.6150964498519897,0,17.766061782836914,15.821466445922852,33.822109222412109,1.1229086147494218,8.6072807312011719,47.566764831542969,0,54.772541046142578,110.94658660888672,11.470620415476851,0,4.6803441047668457,0,0,0,0,0,0,1.6150964498519897,31.248199462890625,null,0,0,17.766061782836914,31.248199462890625,0.56854670910540306,88.594657897949219,0.1701706116418851,0,0.1701706116418851,8.3196154613719778E-3,0,8.3196154613719778E-3,null,0,"SmComWX",0,0,0,0,0,0,0,9999,9999]
["Demand Control Ventilation-New-K-12","Demand Control Ventilation-DOAS-K-12-HtPmpHt-Vent-New",15,0,0,0,0,0,"SmComHP",0,0,0,0,0,0,0,0,0,0,0,0,"(na)","(na)","(na)","(na)",0,0,0,0,0,0,0,0,0,0,0,0,0,0,0,0,0,0,0,9999,0,0,0,0,0,0,9999,0,0,0,0,0,0,9999,9999,9999,9999,9999,9999,9999,0,0,0,0,0,0,0,0,0,0,0,null,0,0,0,0,9999,9999,0,0,0,0,0,0,null,0,"SmComWX",0,0,0,0,0,0,0,9999,9999]
["Demand Control Ventilation-New-University","Demand Control Ventilation-DOAS-University-HtPmpHt-Vent-New",15,0,0,0,0,0,"SmComHP",0,0,0,0,0,0,0,0,0,0,0,0,"(na)","(na)","(na)","(na)",0,0,0,0,0,0,0,0,0,0,0,0,0,0,0,0,0,0,0,9999,0,0,0,0,0,0,9999,0,0,0,0,0,0,9999,9999,9999,9999,9999,9999,9999,0,0,0,0,0,0,0,0,0,0,0,null,0,0,0,0,9999,9999,0,0,0,0,0,0,null,0,"SmComWX",0,0,0,0,0,0,0,9999,9999]
["Demand Control Ventilation-New-Warehouse","Demand Control Ventilation-DOAS-Warehouse-HtPmpHt-Vent-New",15,0,0,0,0,0,"SmComHP",0,0,0,0,0,0,0,0,0,0,0,0,"(na)","(na)","(na)","(na)",0,0,0,0,0,0,0,0,0,0,0,0,0,0,0,0,0,0,0,9999,0,0,0,0,0,0,9999,0,0,0,0,0,0,9999,9999,9999,9999,9999,9999,9999,0,0,0,0,0,0,0,0,0,0,0,null,0,0,0,0,9999,9999,0,0,0,0,0,0,null,0,"SmComWX",0,0,0,0,0,0,0,9999,9999]
["Demand Control Ventilation-New-Supermarket","Demand Control Ventilation-DOAS-Supermarket-HtPmpHt-Vent-New",15,0.90508557719522642,0,1.0646,0,0,"SmComHP",0.15800000727176666,0.15000000596046448,0.98685639981071338,1.069507998181507E-4,7.1300531271845102E-4,0,0,0,0.1058516651391983,0.58497238159179688,0,0.67358845472335815,"(na)","(na)","(na)","(na)",0,0,0,0,0,0,0,0,0.1058516651391983,0.58497238159179688,0,0.67358845472335815,1.3644125014543533,0.50086987384689907,0,5.0086986273527145E-2,0,0.5509568452835083,0.1058516651391983,5.2049900149978789,0.50086987384689907,0.20436938107013702,7.0523925125598907E-2,0,0.77576315402984619,0.58497238159179688,1.3261535150286377,0.50086987384689907,0.20436938107013702,7.0523925125598907E-2,0,0.77576315402984619,0.69082403182983398,33.819873809814453,1.1229533536268388,8.6069374084472656,47.564872741699219,0,54.770359039306641,110.94217681884766,0.50086987384689907,0,0.20436938107013702,0,0,0,0,0,0,7.0523925125598907E-2,1.3644125461578369,null,0,0,0.77576315402984619,1.3644125461578369,0.56856936872001895,88.590232849121094,7.4305773967133044E-3,0,7.4305773967133044E-3,3.6327980489788135E-4,0,3.6327980489788135E-4,null,0,"SmComWX",0,0,0,0,0,0,0,9999,9999]
["Demand Control Ventilation-New-MIniMart","Demand Control Ventilation-DOAS-MIniMart-HtPmpHt-Vent-New",15,0.3878938187979542,0,0.45629999999999998,0,0,"SmComHP",0.15800000727176666,0.15000000596046448,0.42293845706173433,4.5836055505787954E-5,3.0557368882000446E-4,0,0,0,4.5369260013103485E-2,0.25072598457336426,0,0.28870788216590881,"(na)","(na)","(na)","(na)",0,0,0,0,0,0,0,0,4.5369260013103485E-2,0.25072598457336426,0,0.28870788216590881,0.58480312675237656,0.2146585173629566,0,2.1465852856636047E-2,0,0.23612436652183533,4.5369260013103485E-2,5.2045012449265329,0.2146585173629566,8.7586872279644012E-2,3.0224539339542389E-2,0,0.33246994018554688,0.25072598457336426,1.3260290095096221,0.2146585173629566,8.7586872279644012E-2,3.0224539339542389E-2,0,0.33246994018554688,0.29609525203704834,33.825145721435547,1.1228479182314355,8.6077451705932617,47.5693359375,0,54.775505065917969,110.95257568359375,0.2146585173629566,0,8.7586872279644012E-2,0,0,0,0,0,0,3.0224539339542389E-2,0.58480310440063477,null,0,0,0.33246994018554688,0.58480310440063477,0.56851601244985139,88.60064697265625,3.1845331700199883E-3,0,3.1845331700199883E-3,1.5569134495623484E-4,0,1.5569134495623484E-4,null,0,"SmComWX",0,0,0,0,0,0,0,9999,9999]
["Demand Control Ventilation-New-Restaurant","Demand Control Ventilation-DOAS-Restaurant-HtPmpHt-Vent-New",15,0.41265299872122796,0,0.4854,0,0,"SmComHP",0.15800000727176666,0.15000000596046448,0.44993452878907914,4.8761761718196794E-5,3.2507840660400689E-4,0,0,0,4.826262965798378E-2,0.26671576499938965,0,0.30711990594863892,"(na)","(na)","(na)","(na)",0,0,0,0,0,0,0,0,4.826262965798378E-2,0.26671576499938965,0,0.30711990594863892,0.62209830060601234,0.22836012485420898,0,2.283601276576519E-2,0,0.25119614601135254,4.826262965798378E-2,5.2047751935626323,0.22836012485420898,9.3177527189254761E-2,3.2153766602277756E-2,0,0.35369142889976501,0.26671576499938965,1.3260986602968552,0.22836012485420898,9.3177527189254761E-2,3.2153766602277756E-2,0,0.35369142889976501,0.31497839093208313,33.822196960449219,1.122906918839558,8.6072931289672852,47.566837310791016,0,54.772624969482422,110.94676208496094,0.22836012485420898,0,9.3177527189254761E-2,0,0,0,0,0,0,3.2153766602277756E-2,0.62209832668304443,null,0,0,0.35369142889976501,0.62209832668304443,0.5685458447245515,88.594825744628906,3.3878012447021186E-3,0,3.3878012447021186E-3,1.6562909037897333E-4,0,1.6562909037897333E-4,null,0,"SmComWX",0,0,0,0,0,0,0,9999,9999]
["Demand Control Ventilation-New-Lodging","Demand Control Ventilation-DOAS-Lodging-HtPmpHt-Vent-New",15,0,0,0,0,0,"SmComHP",0,0,0,0,0,0,0,0,0,0,0,0,"(na)","(na)","(na)","(na)",0,0,0,0,0,0,0,0,0,0,0,0,0,0,0,0,0,0,0,9999,0,0,0,0,0,0,9999,0,0,0,0,0,0,9999,9999,9999,9999,9999,9999,9999,0,0,0,0,0,0,0,0,0,0,0,null,0,0,0,0,9999,9999,0,0,0,0,0,0,null,0,"SmComWX",0,0,0,0,0,0,0,9999,9999]
["Demand Control Ventilation-New-Hospital","Demand Control Ventilation-DOAS-Hospital-HtPmpHt-Vent-New",15,0,0,0,0,0,"SmComHP",0,0,0,0,0,0,0,0,0,0,0,0,"(na)","(na)","(na)","(na)",0,0,0,0,0,0,0,0,0,0,0,0,0,0,0,0,0,0,0,9999,0,0,0,0,0,0,9999,0,0,0,0,0,0,9999,9999,9999,9999,9999,9999,9999,0,0,0,0,0,0,0,0,0,0,0,null,0,0,0,0,9999,9999,0,0,0,0,0,0,null,0,"SmComWX",0,0,0,0,0,0,0,9999,9999]
["Demand Control Ventilation-New-OtherHealth","Demand Control Ventilation-DOAS-OtherHealth-HtPmpHt-Vent-New",15,0,0,0,0,0,"SmComHP",0,0,0,0,0,0,0,0,0,0,0,0,"(na)","(na)","(na)","(na)",0,0,0,0,0,0,0,0,0,0,0,0,0,0,0,0,0,0,0,9999,0,0,0,0,0,0,9999,0,0,0,0,0,0,9999,9999,9999,9999,9999,9999,9999,0,0,0,0,0,0,0,0,0,0,0,null,0,0,0,0,9999,9999,0,0,0,0,0,0,null,0,"SmComWX",0,0,0,0,0,0,0,9999,9999]
["Demand Control Ventilation-New-Other","Demand Control Ventilation-DOAS-Other-HtPmpHt-Vent-New",15,0,0,0,0,0,"SmComHP",0,0,0,0,0,0,0,0,0,0,0,0,"(na)","(na)","(na)","(na)",0,0,0,0,0,0,0,0,0,0,0,0,0,0,0,0,0,0,0,9999,0,0,0,0,0,0,9999,0,0,0,0,0,0,9999,9999,9999,9999,9999,9999,9999,0,0,0,0,0,0,0,0,0,0,0,null,0,0,0,0,9999,9999,0,0,0,0,0,0,null,0,"SmComWX",0,0,0,0,0,0,0,9999,9999]
["Demand Control Ventilation-New-Large Off","Demand Control Ventilation-DOAS-Large Off-HtPmpHt-Heat-New",15,0,0,0,0,0,"SmComHP",0,0,0,0,0,0,0,0,0,0,0,0,"(na)","(na)","(na)","(na)",0,0,0,0,0,0,0,0,0,0,0,0,0,0,0,0,0,0,0,9999,0,0,0,0,0,0,9999,0,0,0,0,0,0,9999,9999,9999,9999,9999,9999,9999,0,0,0,0,0,0,0,0,0,0,0,null,0,0,0,0,9999,9999,0,0,0,0,0,0,null,0,"SmComWX",0,0,0,0,0,0,0,9999,9999]
["Demand Control Ventilation-New-Medium Off","Demand Control Ventilation-DOAS-Medium Off-HtPmpHt-Heat-New",15,0,0,0,0,0,"SmComHP",0,0,0,0,0,0,0,0,0,0,0,0,"(na)","(na)","(na)","(na)",0,0,0,0,0,0,0,0,0,0,0,0,0,0,0,0,0,0,0,9999,0,0,0,0,0,0,9999,0,0,0,0,0,0,9999,9999,9999,9999,9999,9999,9999,0,0,0,0,0,0,0,0,0,0,0,null,0,0,0,0,9999,9999,0,0,0,0,0,0,null,0,"SmComWX",0,0,0,0,0,0,0,9999,9999]
["Demand Control Ventilation-New-Small Off","Demand Control Ventilation-DOAS-Small Off-HtPmpHt-Heat-New",15,0,0,0,0,0,"SmComHP",0,0,0,0,0,0,0,0,0,0,0,0,"(na)","(na)","(na)","(na)",0,0,0,0,0,0,0,0,0,0,0,0,0,0,0,0,0,0,0,9999,0,0,0,0,0,0,9999,0,0,0,0,0,0,9999,9999,9999,9999,9999,9999,9999,0,0,0,0,0,0,0,0,0,0,0,null,0,0,0,0,9999,9999,0,0,0,0,0,0,null,0,"SmComWX",0,0,0,0,0,0,0,9999,9999]
["Demand Control Ventilation-New-Big Box","Demand Control Ventilation-DOAS-Big Box-HtPmpHt-Heat-New",15,7.4615749194257281,0,0,0,0,"SmComHP",0.15800000727176666,0.15000000596046448,8.1356980460578967,8.8170822709798813E-4,5.8780545368790627E-3,0,0,0,0,0,0,0,"(na)","(na)","(na)","(na)",0,0,0,0,0,0,0,0,0,0,0,0,0,4.129198589346009,0,0.41291987895965576,0,4.5421185493469238,0,9999,4.129198589346009,1.6848323345184326,0.58140307664871216,0,6.3954339027404785,0,9999,4.129198589346009,1.6848323345184326,0.58140307664871216,0,6.3954339027404785,0,-22.351934432983398,9999,0,0,0,0,0,4.129198589346009,0,1.6848323345184326,0,0,0,0,0,0,0.58140307664871216,0,null,0,0,6.3954339027404785,0,9999,-22.351934432983398,6.1258085795580473E-2,0,6.1258085795580473E-2,2.9948985480024067E-3,0,2.9948985480024067E-3,null,0,"SmComWX",0,0,0,0,0,0,0,9999,9999]
["Demand Control Ventilation-New-Small Box","Demand Control Ventilation-DOAS-Small Box-HtPmpHt-Heat-New",15,117.00733417604958,0,0,0,0,"SmComHP",0.15800000727176666,0.15000000596046448,127.57847375521553,1.3826347887516022E-2,9.2175647616386414E-2,0,0,0,0,0,0,0,"(na)","(na)","(na)","(na)",0,0,0,0,0,0,0,0,0,0,0,0,0,64.75127897798626,0,6.475128173828125,0,71.226409912109375,0,9999,64.75127897798626,26.420391082763672,9.1171674728393555,0,100.28884124755859,0,9999,64.75127897798626,26.420391082763672,9.1171674728393555,0,100.28884124755859,0,-22.351934432983398,9999,0,0,0,0,0,64.75127897798626,0,26.420391082763672,0,0,0,0,0,0,9.1171674728393555,0,null,0,0,100.28884124755859,0,9999,-22.351934432983398,0.96060756516805823,0,0.96060756516805823,4.6963958549444296E-2,0,4.6963958549444296E-2,null,0,"SmComWX",0,0,0,0,0,0,0,9999,9999]
["Demand Control Ventilation-New-High End","Demand Control Ventilation-DOAS-High End-HtPmpHt-Heat-New",15,28.560116931061906,0,0,0,0,"SmComHP",0.15800000727176666,0.15000000596046448,31.140408026501255,3.3748492132872343E-3,2.2498993203043938E-2,0,0,0,0,0,0,0,"(na)","(na)","(na)","(na)",0,0,0,0,0,0,0,0,0,0,0,0,0,15.805027198249215,0,1.5805027484893799,0,17.385530471801758,0,9999,15.805027198249215,6.4489083290100098,2.225393533706665,0,24.479328155517578,0,9999,15.805027198249215,6.4489083290100098,2.225393533706665,0,24.479328155517578,0,-22.351936340332031,9999,0,0,0,0,0,15.805027198249215,0,6.4489083290100098,0,0,0,0,0,0,2.225393533706665,0,null,0,0,24.479328155517578,0,9999,-22.351936340332031,0.23447303179118284,0,0.23447303179118284,1.1463351055409531E-2,0,1.1463351055409531E-2,null,0,"SmComWX",0,0,0,0,0,0,0,9999,9999]
["Demand Control Ventilation-New-Anchor","Demand Control Ventilation-DOAS-Anchor-HtPmpHt-Heat-New",15,28.560116931061906,0,0,0,0,"SmComHP",0.15800000727176666,0.15000000596046448,31.140408026501255,3.3748492132872343E-3,2.2498993203043938E-2,0,0,0,0,0,0,0,"(na)","(na)","(na)","(na)",0,0,0,0,0,0,0,0,0,0,0,0,0,15.805027198249215,0,1.5805027484893799,0,17.385530471801758,0,9999,15.805027198249215,6.4489083290100098,2.225393533706665,0,24.479328155517578,0,9999,15.805027198249215,6.4489083290100098,2.225393533706665,0,24.479328155517578,0,-22.351936340332031,9999,0,0,0,0,0,15.805027198249215,0,6.4489083290100098,0,0,0,0,0,0,2.225393533706665,0,null,0,0,24.479328155517578,0,9999,-22.351936340332031,0.23447303179118284,0,0.23447303179118284,1.1463351055409531E-2,0,1.1463351055409531E-2,null,0,"SmComWX",0,0,0,0,0,0,0,9999,9999]
["Demand Control Ventilation-New-K-12","Demand Control Ventilation-DOAS-K-12-HtPmpHt-Heat-New",15,0,0,0,0,0,"SmComHP",0,0,0,0,0,0,0,0,0,0,0,0,"(na)","(na)","(na)","(na)",0,0,0,0,0,0,0,0,0,0,0,0,0,0,0,0,0,0,0,9999,0,0,0,0,0,0,9999,0,0,0,0,0,0,9999,9999,9999,9999,9999,9999,9999,0,0,0,0,0,0,0,0,0,0,0,null,0,0,0,0,9999,9999,0,0,0,0,0,0,null,0,"SmComWX",0,0,0,0,0,0,0,9999,9999]
["Demand Control Ventilation-New-University","Demand Control Ventilation-DOAS-University-HtPmpHt-Heat-New",15,0,0,0,0,0,"SmComHP",0,0,0,0,0,0,0,0,0,0,0,0,"(na)","(na)","(na)","(na)",0,0,0,0,0,0,0,0,0,0,0,0,0,0,0,0,0,0,0,9999,0,0,0,0,0,0,9999,0,0,0,0,0,0,9999,9999,9999,9999,9999,9999,9999,0,0,0,0,0,0,0,0,0,0,0,null,0,0,0,0,9999,9999,0,0,0,0,0,0,null,0,"SmComWX",0,0,0,0,0,0,0,9999,9999]
["Demand Control Ventilation-New-Warehouse","Demand Control Ventilation-DOAS-Warehouse-HtPmpHt-Heat-New",15,0,0,0,0,0,"SmComHP",0,0,0,0,0,0,0,0,0,0,0,0,"(na)","(na)","(na)","(na)",0,0,0,0,0,0,0,0,0,0,0,0,0,0,0,0,0,0,0,9999,0,0,0,0,0,0,9999,0,0,0,0,0,0,9999,9999,9999,9999,9999,9999,9999,0,0,0,0,0,0,0,0,0,0,0,null,0,0,0,0,9999,9999,0,0,0,0,0,0,null,0,"SmComWX",0,0,0,0,0,0,0,9999,9999]
["Demand Control Ventilation-New-Supermarket","Demand Control Ventilation-DOAS-Supermarket-HtPmpHt-Heat-New",15,2.5545893153628287,0,0,0,0,"SmComHP",0.15800000727176666,0.15000000596046448,2.7853861317360216,3.0186687945388258E-4,2.0124458242207766E-3,0,0,0,0,0,0,0,"(na)","(na)","(na)","(na)",0,0,0,0,0,0,0,0,0,0,0,0,0,1.4136970694876325,0,0.14136971533298492,0,1.5550668239593506,0,9999,1.4136970694876325,0.57682931423187256,0.19905264675617218,0,2.1895790100097656,0,9999,1.4136970694876325,0.57682931423187256,0.19905264675617218,0,2.1895790100097656,0,-22.351936340332031,9999,0,0,0,0,0,1.4136970694876325,0,0.57682931423187256,0,0,0,0,0,0,0.19905264675617218,0,null,0,0,2.1895790100097656,0,9999,-22.351936340332031,2.0972683802391347E-2,0,2.0972683802391347E-2,1.0253513385497742E-3,0,1.0253513385497742E-3,null,0,"SmComWX",0,0,0,0,0,0,0,9999,9999]
["Demand Control Ventilation-New-MIniMart","Demand Control Ventilation-DOAS-MIniMart-HtPmpHt-Heat-New",15,1.0948239922983549,0,0,0,0,"SmComHP",0.15800000727176666,0.15000000596046448,1.1937369136011515,1.2937151768710464E-4,8.6247676517814398E-4,0,0,0,0,0,0,0,"(na)","(na)","(na)","(na)",0,0,0,0,0,0,0,0,0,0,0,0,0,0.6058701726375566,0,6.0587018728256226E-2,0,0.66645717620849609,0,9999,0.6058701726375566,0.24721252918243408,8.5308268666267395E-2,0,0.93839097023010254,0,9999,0.6058701726375566,0.24721252918243408,8.5308268666267395E-2,0,0.93839097023010254,0,-22.351934432983398,9999,0,0,0,0,0,0.6058701726375566,0,0.24721252918243408,0,0,0,0,0,0,8.5308268666267395E-2,0,null,0,0,0.93839097023010254,0,9999,-22.351934432983398,8.9882930581677168E-3,0,8.9882930581677168E-3,4.3943628794990304E-4,0,4.3943628794990304E-4,null,0,"SmComWX",0,0,0,0,0,0,0,9999,9999]
["Demand Control Ventilation-New-Restaurant","Demand Control Ventilation-DOAS-Restaurant-HtPmpHt-Heat-New",15,1.1647063747854842,0,0,0,0,"SmComHP",0.15800000727176666,0.15000000596046448,1.2699328868097366,1.3762927846983075E-4,9.175284649245441E-4,0,0,0,0,0,0,0,"(na)","(na)","(na)","(na)",0,0,0,0,0,0,0,0,0,0,0,0,0,0.64454273684846553,0,6.4454272389411926E-2,0,0.70899701118469238,0,9999,0.64454273684846553,0.26299202442169189,9.0753480792045593E-2,0,0.99828821420669556,0,9999,0.64454273684846553,0.26299202442169189,9.0753480792045593E-2,0,0.99828821420669556,0,-22.351932525634766,9999,0,0,0,0,0,0.64454273684846553,0,0.26299202442169189,0,0,0,0,0,0,9.0753480792045593E-2,0,null,0,0,0.99828821420669556,0,9999,-22.351932525634766,9.5620138916678015E-3,0,9.5620138916678015E-3,4.6748541271266321E-4,0,4.6748541271266321E-4,null,0,"SmComWX",0,0,0,0,0,0,0,9999,9999]
["Demand Control Ventilation-New-Lodging","Demand Control Ventilation-DOAS-Lodging-HtPmpHt-Heat-New",15,0,0,0,0,0,"SmComHP",0,0,0,0,0,0,0,0,0,0,0,0,"(na)","(na)","(na)","(na)",0,0,0,0,0,0,0,0,0,0,0,0,0,0,0,0,0,0,0,9999,0,0,0,0,0,0,9999,0,0,0,0,0,0,9999,9999,9999,9999,9999,9999,9999,0,0,0,0,0,0,0,0,0,0,0,null,0,0,0,0,9999,9999,0,0,0,0,0,0,null,0,"SmComWX",0,0,0,0,0,0,0,9999,9999]
["Demand Control Ventilation-New-Hospital","Demand Control Ventilation-DOAS-Hospital-HtPmpHt-Heat-New",15,0,0,0,0,0,"SmComHP",0,0,0,0,0,0,0,0,0,0,0,0,"(na)","(na)","(na)","(na)",0,0,0,0,0,0,0,0,0,0,0,0,0,0,0,0,0,0,0,9999,0,0,0,0,0,0,9999,0,0,0,0,0,0,9999,9999,9999,9999,9999,9999,9999,0,0,0,0,0,0,0,0,0,0,0,null,0,0,0,0,9999,9999,0,0,0,0,0,0,null,0,"SmComWX",0,0,0,0,0,0,0,9999,9999]
["Demand Control Ventilation-New-OtherHealth","Demand Control Ventilation-DOAS-OtherHealth-HtPmpHt-Heat-New",15,0,0,0,0,0,"SmComHP",0,0,0,0,0,0,0,0,0,0,0,0,"(na)","(na)","(na)","(na)",0,0,0,0,0,0,0,0,0,0,0,0,0,0,0,0,0,0,0,9999,0,0,0,0,0,0,9999,0,0,0,0,0,0,9999,9999,9999,9999,9999,9999,9999,0,0,0,0,0,0,0,0,0,0,0,null,0,0,0,0,9999,9999,0,0,0,0,0,0,null,0,"SmComWX",0,0,0,0,0,0,0,9999,9999]
["Demand Control Ventilation-New-Other","Demand Control Ventilation-DOAS-Other-HtPmpHt-Heat-New",15,0,0,0,0,0,"SmComHP",0,0,0,0,0,0,0,0,0,0,0,0,"(na)","(na)","(na)","(na)",0,0,0,0,0,0,0,0,0,0,0,0,0,0,0,0,0,0,0,9999,0,0,0,0,0,0,9999,0,0,0,0,0,0,9999,9999,9999,9999,9999,9999,9999,0,0,0,0,0,0,0,0,0,0,0,null,0,0,0,0,9999,9999,0,0,0,0,0,0,null,0,"SmComWX",0,0,0,0,0,0,0,9999,9999]
[]
[]
["Category Results; Sorted by TRC Levelized Cost"]
["Total Results",null,"Measure Input Data",null,null,null,null,null,null,null,null,"Savings",null,null,null,null,null,"PV Capital",null,null,null,"PV Admin",null,null,null,"PV O&M",null,null,null,"PV Periodic Repl.",null,null,null,"Total PV Capital, O&M and Periodic Repl Costs",null,null,null,null,"PV Wholesale Electric Utility Costs & Benefits",null,null,null,null,null,null,"PV Retail Electric Utility Costs & Benefits",null,null,null,null,null,null,"PV Electric Utility System Costs & Benefits",null,null,null,null,null,"Electric Utility System Economics",null,"Sponsor Levelized Cost (mills/kwh)",null,null,null,null,"PV Regional Costs & Benefits",null,null,null,null,null,null,null,null,null,null,null,null,null,null,null,"TRC Economics",null,"Physical CO2",null,null,null,null,null,null,"Gas Inputs",null,null,null,"PV Gas Utility System Costs & Benefits",null,null,null,null,"Gas Utility System Economics"]
["Category","Measure","Measure Life","Site Savings (kWh)","Site Savings (therms)","Capital Cost ($/unit)","Annual O&M Cost ($/unit)","PV Per. Repl. Cost ($/unit)","Load Shape (electric)","Diversified Load Factor (electric)","Wholesale Power Coincidence Factor (electric)","Wholesale Electric Energy (kWh)","Wholesale Electric Demand (kw)","Retail Electric Demand (kW)","Wholesale Gas Energy (therms/yr)","Wholesale Gas Demand (therms/day)","Retail Gas Demand (therms/day)","Wholesale Electric","Retail Electric","Natural Gas","Customer","Wholesale Electric","Retail Electric","Natural Gas","Customer","Wholesale Electric","Retail Electric","Natural Gas","Customer","Wholesale Electric","Retail Electric","Natural Gas","Customer","Wholesale Electric","Retail Electric","Natural Gas","Customer","Total","Wholesale Utility System Energy","Wholesale Utility System T&D Def. Cap.","Wholesale Utility System Act C-E Credit","Wholesale Utility System Risk Mitigation Benefit","Wholesale Utility System Total System Benefit","Wholesale Utility System Total Non-Consumer Cost","Wholesale Utility System B/C Ratio","Retail Utility System Energy","Retail Utility System T&D Def. Cap.","Retail Utility System Act C-E Credit","Retail Utility System Risk Mitigation Benefit","Retail Utility System Total System Benefit","Retail Utility System Total Non-Consumer Cost","Retail Utility System System B/C Ratio","Utility System Energy","Utility System T&D Def. Cap.","Utility System Act C-E Credit","Utility System Total Risk Mitigation Benefit","Utility System Total System Benefit","Utility System Total Non-Consumer Cost","Utility System Net Levelized Cost (Net of Elec T&D Capacity Benefits, Act Credit & Risk-Mitigation Benefit) in mills/kwh","Utility System System B/C Ratio","Wholesale Electric Levelized Cost","Retail Electric Levelized Cost","Natural Gas Levelized Cost","Customer Levelized Cost","Total Levelized Cost","PV Regional Electric Energy","PV Regional Gas Energy","PV Regional Electric T&D Def. Cap.","PV Regional Gas T&D Def. Cap.","PV Regional Electric System CO2","PV Regional Gas System CO2","PV Regional Electric System Risk-Mitigation Benefit","PV Regional Gas System Risk-Mitigation Benefit","PV Regional Non-E Value","PV Regional Act Credit","PV Regional Capital Cost","PV Regional Admin Cost","PV Regional Annual O&M Cost","PV Regional Periodic Replacement Cost","PV Total Regional Benefit","PV Total Regional Cost","TRC B/C Ratio","TRC Net Levelized Cost (Net of All Benefits) in mills/kWh","Electric System CO2 Avoided (Lifetime Tons)","Gas System CO2 Avoided (Lifetime Tons)","Total System CO2 Avoided (Lifetime Tons)","Electric System CO2 Avoided (Annual Tons in 2020)","Gas System CO2 Avoided (Annual Tons in 2020)","Total System CO2 Avoided (Annual Tons in 2020)",null,"Gas Site Savings (therms)","Load Shape (gas)","Diversitfied Load Factor (gas)","Wholesale Coincidence Factor (gas)","Total Gas Utility System Energy","Gas Utility System T&D Def. Cap.","Gas Utility System Risk Mitigation Benefit","Gas Utility System Total System Benefit","Gas Utility System Total Non-Consumer Cost","Gas Utility System Net Levelized Cost (Net of Gas T&D Capacity Benefits & Risk-Mitigation Benefits) in cents/therm","Gas Utility System System B/C Ratio"]
["Demand Control Ventilation-New-MIniMart",null,15,189.96630859375,94.531173706054687,270.24380493164063,0,0,null,0.21117424964904785,5.8978836983442307E-2,207.24012756347656,3.166925860568881E-3,0.12704373896121979,95.476486206054688,0.24116143584251404,0.54809415340423584,26.869956970214844,148.4925537109375,0,170.98731994628906,27.024379730224609,27.024379730224609,0,0,0,0,0,0,0,0,0,0,53.894336700439453,175.51693725585937,0,170.98731994628906,400.39859008789062,97.567581176757813,0,9.7567577362060547,0,107.3243408203125,53.894336700439453,1.9913843547143748,97.567581176757813,36.414665222167969,13.398224830627441,0,147.38047790527344,175.51693725585937,0.83969374544114306,97.567581176757813,36.414665222167969,13.398224830627441,0,147.38047790527344,229.41127014160156,69.539802551269531,0.64242908004730659,20.867679595947266,67.959487915039063,0,66.205635070800781,155.03280639648437,97.567581176757813,802.2171630859375,36.414665222167969,0,0,0,0,0,0,13.398224830627441,346.34982299804687,54.048759460449219,0,0,949.59765625,400.39859008789062,2.3716308596420235,-174.86997985839844,1.5587671246496053,8.9365988943429198,10.495366018992526,7.6169499460683757E-2,0.55853743089643215,0.63470693035711589,null,95.476486206054688,null,0.47692599892616272,0.43999999761581421,802.2171630859375,0,0,802.2171630859375,0,0,9999]
["Demand Control Ventilation-New-Supermarket",null,14.999999046325684,407.9410400390625,114.28946685791016,463.45751953125,0,0,null,0.19170913100242615,3.332364559173584E-2,445.06051635742187,3.8750693202018738E-3,0.28532072901725769,115.43235778808594,0.29156744480133057,0.66265326738357544,46.080917358398438,254.65888977050781,0,293.23654174804687,46.345752716064453,46.345752716064453,0,0,0,0,0,0,0,0,0,0,92.426666259765625,301.004638671875,0,293.23654174804687,686.66790771484375,208.51419067382812,0,20.851419448852539,0,229.36561584472656,92.426666259765625,2.4815955171585635,208.51419067382812,81.781753540039063,29.029594421386719,0,319.32553100585937,301.004638671875,1.060865825846852,208.51419067382812,81.781753540039063,29.029594421386719,0,319.32553100585937,393.43130493164062,50.955219268798828,0.81164240984432368,16.664148330688477,54.2698974609375,0,52.869342803955078,123.80341339111328,208.51419067382812,969.89141845703125,81.781753540039063,0,0,0,0,0,0,29.029594421386719,593.97637939453125,92.691505432128906,0,0,1289.2169189453125,686.66790771484375,1.8774970922336498,-71.042869567871094,3.3485604921913619,10.804469037942551,14.153029530133914,0.16365115971924757,0.67527931487140858,0.83893047459065617,null,115.43235778808594,null,0.47692599892616272,0.43999999761581421,969.89141845703125,0,0,969.89141845703125,0,0,9999]
["Demand Control Ventilation-New-Restaurant",null,15.000000953674316,220.34780883789062,63.812889099121094,287.49331665039062,0,0,null,0.22681865096092224,5.4640166461467743E-2,240.36082458496094,3.4066049847751856E-3,0.14083003997802734,64.451019287109375,0.16279506683349609,0.36998879909515381,28.585050582885742,157.97071838378906,0,181.90133666992187,28.749330520629883,28.749330520629883,0,0,0,0,0,0,0,0,0,0,57.334381103515625,186.72004699707031,0,181.90133666992187,425.95578002929687,114.23582458496094,0,11.423582077026367,0,125.65940856933594,57.334381103515625,2.1916937837893942,114.23582458496094,40.366245269775391,15.460206985473633,0,170.06227111816406,186.72004699707031,0.91078744804348244,114.23582458496094,40.366245269775391,15.460206985473633,0,170.06227111816406,244.05442810058594,62.83843994140625,0.69682110189387259,19.140636444091797,62.335029602050781,0,60.726345062255859,142.20201110839844,114.23582458496094,541.533447265625,40.366245269775391,0,0,0,0,0,0,15.460206985473633,368.45712280273437,57.498661041259766,0,0,711.595703125,425.95578002929687,1.6705858943482645,-57.221927642822266,1.8043867688586885,6.032615233814445,7.8370020026731337,8.8089742501593973E-2,0.37703845211340398,0.46512819461499794,null,64.451019287109375,null,0.47692599892616272,0.43999999761581421,541.533447265625,0,0,541.533447265625,0,0,9999]
["Demand Control Ventilation-New-High End",null,15,259.54788208007812,34.161235809326172,252.99411010742187,0,0,null,0.20723026990890503,0.11063689738512039,283.07675170898437,1.5472118742763996E-2,0.17843827605247498,34.502849578857422,8.714979887008667E-2,0.19806772470474243,25.154842376708984,139.01423645019531,0,160.07316589355469,25.299411773681641,25.299411773681641,0,0,0,0,0,0,0,0,0,0,50.454254150390625,164.31364440917969,0,160.07316589355469,374.841064453125,137.80496215820312,0,13.780495643615723,0,151.58546447753906,50.454254150390625,3.0044138072080737,137.80496215820312,51.14593505859375,18.895090103149414,0,207.84599304199219,164.31364440917969,1.264934407863409,137.80496215820312,51.14593505859375,18.895090103149414,0,207.84599304199219,214.76789855957031,41.025123596191406,0.96777025347922452,14.302056312561035,46.577301025390625,0,45.375270843505859,106.25463104248047,137.80496215820312,289.90151977539062,51.14593505859375,0,0,0,0,0,0,18.895090103149414,324.24224853515625,50.598823547363281,0,0,497.74749755859375,374.841064453125,1.327889455469704,4.2232232093811035,2.1289857227679292,3.2294666288407341,5.3584523516086637,0.10402904577606754,0.20184166430254574,0.30587071007861327,null,34.502849578857422,null,0.47692599892616272,0.43999999761581421,289.90151977539062,0,0,289.90151977539062,0,0,9999]
["Demand Control Ventilation-New-Anchor",null,15,259.54788208007812,34.161235809326172,252.99411010742187,0,0,null,0.20723026990890503,0.11063689738512039,283.07675170898437,1.5472118742763996E-2,0.17843827605247498,34.502849578857422,8.714979887008667E-2,0.19806772470474243,25.154842376708984,139.01423645019531,0,160.07316589355469,25.299411773681641,25.299411773681641,0,0,0,0,0,0,0,0,0,0,50.454254150390625,164.31364440917969,0,160.07316589355469,374.841064453125,137.80496215820312,0,13.780495643615723,0,151.58546447753906,50.454254150390625,3.0044138072080737,137.80496215820312,51.14593505859375,18.895090103149414,0,207.84599304199219,164.31364440917969,1.264934407863409,137.80496215820312,51.14593505859375,18.895090103149414,0,207.84599304199219,214.76789855957031,41.025123596191406,0.96777025347922452,14.302056312561035,46.577301025390625,0,45.375270843505859,106.25463104248047,137.80496215820312,289.90151977539062,51.14593505859375,0,0,0,0,0,0,18.895090103149414,324.24224853515625,50.598823547363281,0,0,497.74749755859375,374.841064453125,1.327889455469704,4.2232232093811035,2.1289857227679292,3.2294666288407341,5.3584523516086637,0.10402904577606754,0.20184166430254574,0.30587071007861327,null,34.502849578857422,null,0.47692599892616272,0.43999999761581421,289.90151977539062,0,0,289.90151977539062,0,0,9999]
["Demand Control Ventilation-New-Lodging",null,15.000000953674316,228.9686279296875,7.2597308158874512,117.34510040283203,0,0,null,0.40084022283554077,0.38156872987747192,249.65220642089844,2.7034580707550049E-2,8.8190771639347076E-2,7.3323278427124023,1.8520526587963104E-2,4.2092107236385345E-2,11.66745662689209,64.478340148925781,0,74.246009826660156,11.73451042175293,11.73451042175293,0,0,0,0,0,0,0,0,0,0,23.401966094970703,76.212852478027344,0,74.246009826660156,173.86083984375,123.39922332763672,0,12.339923858642578,0,135.73915100097656,23.401966094970703,5.8003306689613785,123.39922332763672,25.278207778930664,14.867743492126465,0,163.54518127441406,76.212852478027344,2.1459002435163397,123.39922332763672,25.278207778930664,14.867743492126465,0,163.54518127441406,99.614814758300781,19.11433219909668,1.6417755762368491,7.5218009948730469,24.496143341064453,0,23.863964080810547,55.881912231445313,123.39922332763672,61.608043670654297,25.278207778930664,0,0,0,0,0,0,14.867743492126465,150.39181518554687,23.469020843505859,0,0,225.15321350097656,173.86083984375,1.2950197606994382,23.176399230957031,1.8785027112389365,0.6863059033459229,2.5648086145848596,9.1815650615151206E-2,4.2894118959120014E-2,0.13470976957427122,null,7.3323278427124023,null,0.47692599892616272,0.43999999761581421,61.608043670654297,0,0,61.608043670654297,0,0,9999]
["Demand Control Ventilation-New-Small Box",null,14.999999046325684,535.8424072265625,31.784421920776367,388.65499877929687,0,0,null,0.20446330308914185,0.10994444042444229,584.42852783203125,3.1706050038337708E-2,0.37103700637817383,32.102264404296875,8.1086240708827972E-2,0.18428690731525421,38.643409729003906,213.55667114257812,0,245.90788269042969,38.865501403808594,38.865501403808594,0,0,0,0,0,0,0,0,0,0,77.5089111328125,252.42218017578125,0,245.90788269042969,575.83892822265625,284.019775390625,0,28.401979446411133,0,312.4217529296875,77.5089111328125,4.0307849803450022,284.019775390625,106.35069274902344,39.03704833984375,0,429.40753173828125,252.42218017578125,1.701148168355066,284.019775390625,106.35069274902344,39.03704833984375,0,429.40753173828125,329.93109130859375,25.337974548339844,1.3015067016147426,10.642046928405762,34.657802581787109,0,33.763381958007812,79.063224792480469,284.019775390625,269.73123168945312,106.35069274902344,0,0,0,0,0,0,39.03704833984375,498.10794067382812,77.731002807617188,0,0,699.13873291015625,575.83892822265625,1.214122032007849,22.06700325012207,4.396638597688721,3.0047721097560331,7.4014107074447537,0.21486243998761889,0.18779825685975338,0.40266069684737227,null,32.102264404296875,null,0.47692599892616272,0.43999999761581421,269.73123168945312,0,0,269.73123168945312,0,0,9999]
["Demand Control Ventilation-New-Hospital",null,15.000001907348633,102.44687652587891,16.208492279052734,126.65399932861328,0,0,null,0.44749420881271362,0.41703900694847107,111.69935607910156,1.1807665228843689E-2,3.1348202377557755E-2,16.370576858520508,4.1349988430738449E-2,9.3977250158786774E-2,12.593027114868164,69.593360900878906,0,80.135894775390625,12.665399551391602,12.665399551391602,0,0,0,0,0,0,0,0,0,0,25.258426666259766,82.258758544921875,0,80.135894775390625,187.653076171875,55.008884429931641,0,5.5008883476257324,0,60.509773254394531,25.258426666259766,2.3956271535465983,55.008884429931641,8.9853649139404297,6.3994255065917969,0,70.3936767578125,82.258758544921875,0.85575900321654874,55.008884429931641,8.9853649139404297,6.3994255065917969,0,70.3936767578125,107.51718902587891,66.186073303222656,0.65472020555057586,18.145149230957031,59.093048095703125,0,57.568027496337891,134.80622863769531,55.008884429931641,137.54965209960937,8.9853649139404297,0,0,0,0,0,0,6.3994255065917969,162.32228088378906,25.330799102783203,0,0,207.94332885742187,187.653076171875,1.1081263732252775,24.94117546081543,0.83988947415170268,1.5322859524439947,2.3721754265956974,4.1037913190063793E-2,9.5767872027750015E-2,0.13680578521781381,null,16.370576858520508,null,0.47692596912384033,0.43999996781349182,137.54965209960937,0,0,137.54965209960937,0,0,9999]
["Demand Control Ventilation-New-Warehouse",null,15,16.066009521484375,4.5005936622619629,32,0,0,null,0.42633810639381409,0.38532561063766479,17.516685485839844,1.7943609273061156E-3,5.4421806707978249E-3,4.5455994606018066,1.1481606401503086E-2,2.6094559580087662E-2,3.1817142963409424,17.58323860168457,0,20.246881484985352,3.2000000476837158,3.2000000476837158,0,0,0,0,0,0,0,0,0,0,6.3817143440246582,20.783239364624023,0,20.246881484985352,47.411834716796875,8.6631946563720703,0,0.86631947755813599,0,9.5295143127441406,6.3817143440246582,1.4932530069843855,8.6631946563720703,1.5598974227905273,1.0223091840744019,0,11.245401382446289,20.783239364624023,0.54108031250359567,8.6631946563720703,1.5598974227905273,1.0223091840744019,0,11.245401382446289,27.164953231811523,112.61166381835937,0.41396726384809518,29.234140396118164,95.2064208984375,0,92.749397277832031,217.18995666503906,8.6631946563720703,38.193260192871094,1.5598974227905273,0,0,0,0,0,0,1.0223091840744019,41.011833190917969,6.4000000953674316,0,0,49.43865966796875,47.411834716796875,1.0427494156908921,30.40068244934082,0.13162257035356173,0.42546813169535774,0.55709070204891953,6.4290946516359733E-3,2.6591758230960015E-2,3.3020852882595986E-2,null,4.5455994606018066,null,0.47692602872848511,0.43999999761581421,38.193260192871094,0,0,38.193260192871094,0,0,9999]
["Demand Control Ventilation-New-Other",null,15.000001907348633,44.701175689697266,13.015384674072266,93.323997497558594,0,0,null,0.39296036958694458,0.35109758377075195,48.737339019775391,4.9598570913076401E-3,1.7594020813703537E-2,13.145538330078125,3.3203959465026855E-2,7.5463540852069855E-2,9.2790727615356445,51.279319763183594,0,59.047496795654297,9.3324003219604492,9.3324003219604492,0,0,0,0,0,0,0,0,0,0,18.611473083496094,60.611721038818359,0,59.047496795654297,138.27069091796875,24.202272415161133,0,2.4202272891998291,0,26.622499465942383,18.611473083496094,1.4304348497792323,24.202272415161133,5.0429906845092773,2.9245262145996094,0,32.169788360595703,60.611721038818359,0.53075196132166602,24.202272415161133,5.0429906845092773,2.9245262145996094,0,32.169788360595703,79.223190307617188,117.31743621826172,0.40606529511870487,30.642473220825195,99.792915344238281,0,97.217529296875,227.65290832519531,24.202272415161133,110.45208740234375,5.0429906845092773,0,0,0,0,0,0,2.9245262145996094,119.60588836669922,18.664800643920898,0,0,142.62187194824219,138.27069091796875,1.0314686195398899,32.683406829833984,0.36619651889419874,1.2304224269064055,1.5966189458006042,1.7886171965617079E-2,7.6901401681649981E-2,9.4787573647267059E-2,null,13.145538330078125,null,0.47692599892616272,0.4400000274181366,110.45208740234375,0,0,110.45208740234375,0,0,9999]
["Demand Control Ventilation-New-Large Off",null,15,45.617778778076172,15.187629699707031,109.33329772949219,0,0,null,0.32847753167152405,0.28318890929222107,49.736312866210937,4.9719228409230709E-3,2.277253195643425E-2,15.339506149291992,3.8745637983083725E-2,8.8058270514011383E-2,10.870854377746582,60.076045989990234,0,69.17681884765625,10.933330535888672,10.933330535888672,0,0,0,0,0,0,0,0,0,0,21.804183959960938,71.009376525878906,0,69.17681884765625,161.99038696289062,24.899450302124023,0,2.4899451732635498,0,27.389394760131836,21.804183959960938,1.2561531460072881,24.899450302124023,6.5273122787475586,3.1426763534545898,0,34.569438934326172,71.009376525878906,0.48682921362825321,24.899450302124023,6.5273122787475586,3.1426763534545898,0,34.569438934326172,92.813560485839844,134.14053344726562,0.3724610757109541,35.178001403808594,114.56369781494141,0,111.60712432861328,261.34884643554687,24.899450302124023,128.88633728027344,6.5273122787475586,0,0,0,0,0,0,3.1426763534545898,140.12373352050781,21.866661071777344,0,0,163.45578002929687,161.99038696289062,1.0090461019371098,37.807594299316406,0.37361682819944642,1.4357777896799984,1.8093946178794447,1.824628363033853E-2,8.9736111854999967E-2,0.1079823954853385,null,15.339506149291992,null,0.47692602872848511,0.43999999761581421,128.88633728027344,0,0,128.88633728027344,0,0,9999]
["Demand Control Ventilation-New-Medium Off",null,15,50.068290710449219,16.669349670410156,120,0,0,null,0.32847753167152405,0.28318896889686584,54.588634490966797,5.456988699734211E-3,2.4994241073727608E-2,16.836044311523438,4.2525704950094223E-2,9.6649326384067535E-2,11.931429862976074,65.937141418457031,0,75.925804138183594,12,12,0,0,0,0,0,0,0,0,0,0,23.931430816650391,77.937141418457031,0,75.925804138183594,177.79437255859375,27.328666687011719,0,2.7328667640686035,0,30.061532974243164,23.931430816650391,1.2561528342937851,27.328666687011719,7.1641225814819336,3.4492788314819336,0,37.942070007324219,77.937141418457031,0.48682909597952184,27.328666687011719,7.1641225814819336,3.4492788314819336,0,37.942070007324219,101.86856842041016,134.14057922363281,0.37246098205454098,35.178016662597656,114.56373596191406,0,111.60717010498047,261.34890747070312,27.328666687011719,141.46061706542969,7.1641225814819336,0,0,0,0,0,0,3.4492788314819336,153.79437255859375,24,0,0,179.40267944335938,177.79437255859375,1.0090459140166625,37.807647705078125,0.4100672504628069,1.5758536716000024,1.9859209220628093,2.0026408862566673E-2,9.8490854474999973E-2,0.11851726333756665,null,16.836044311523438,null,0.47692602872848511,0.4400000274181366,141.46061706542969,0,0,141.46061706542969,0,0,9999]
["Demand Control Ventilation-New-Small Off",null,15,52.849864959716797,17.595424652099609,126.66670227050781,0,0,null,0.32847753167152405,0.28318893909454346,57.621334075927734,5.7601542212069035E-3,2.6382811367511749E-2,17.771379470825195,4.4888239353895187E-2,0.10201872885227203,12.594289779663086,69.600341796875,0,80.143928527832031,12.666670799255371,12.666670799255371,0,0,0,0,0,0,0,0,0,0,25.260959625244141,82.267013549804687,0,80.143928527832031,187.67190551757812,28.846925735473633,0,2.8846926689147949,0,31.731618881225586,25.260959625244141,1.2561524849878456,28.846925735473633,7.5621299743652344,3.6409053802490234,0,40.049961090087891,82.267013549804687,0.4868289223859788,28.846925735473633,7.5621299743652344,3.6409053802490234,0,40.049961090087891,107.52796936035156,134.140625,0.37246085746347191,35.178020477294922,114.56378173828125,0,111.60720062255859,261.3489990234375,28.846925735473633,149.31954956054687,7.5621299743652344,0,0,0,0,0,0,3.6409053802490234,162.33856201171875,25.333341598510742,0,0,189.3695068359375,187.67190551757812,1.0090456110251378,37.807723999023438,0.43284876437740716,1.6634010978000118,2.096249862177419,2.1138987132709276E-2,0.10396256861250003,0.12510155574520931,null,17.771379470825195,null,0.47692602872848511,0.43999999761581421,149.31954956054687,0,0,149.31954956054687,0,0,9999]
["Demand Control Ventilation-New-OtherHealth",null,15,7.5943441390991211,20.582508087158203,126.66670227050781,0,0,null,0.42842653393745422,0.17556771636009216,8.2771263122558594,3.4955496084876359E-4,2.2213412448763847E-3,20.788331985473633,5.2508678287267685E-2,0.11933790892362595,12.594289779663086,69.600334167480469,0,80.143928527832031,12.666669845581055,12.666669845581055,0,0,0,0,0,0,0,0,0,0,25.260959625244141,82.267005920410156,0,80.143928527832031,187.67189025878906,4.235562801361084,0,0.42355629801750183,0,4.6591191291809082,25.260959625244141,0.18443951332405317,4.235562801361084,0.63670521974563599,0.48722684383392334,0,5.359494686126709,82.267005920410156,6.5147563464079919E-2,4.235562801361084,0.63670521974563599,0.48722684383392334,0,5.359494686126709,107.52796173095703,1031.53369140625,4.984280073384912E-2,244.89231872558594,797.537353515625,0,776.9552001953125,1819.384765625,4.235562801361084,174.66873168945312,0.63670521974563599,0,0,0,0,0,0,0.48722684383392334,162.33854675292969,25.333339691162109,0,0,180.02822875976562,187.67189025878906,0.95927115118558204,115.16310119628906,6.1357313341875913E-2,1.9457878959324011,2.007145209274277,2.9772423083027069E-3,0.12161174349577501,0.12458898580407772,null,20.788331985473633,null,0.47692596912384033,0.43999996781349182,174.66873168945312,0,0,174.66873168945312,0,0,9999]
["Demand Control Ventilation-New-Big Box",null,15,433.23944091796875,30.881546020507813,433.87539672851562,0,0,null,0.21956101059913635,7.3119103908538818E-2,472.62164306640625,9.2246280983090401E-3,0.28429648280143738,31.190359115600586,7.8782878816127777E-2,0.17905199527740479,43.139610290527344,238.40422058105469,0,274.51950073242187,43.387542724609375,43.387542724609375,0,0,0,0,0,0,0,0,0,0,86.527153015136719,281.791748046875,0,274.51950073242187,642.83843994140625,223.06881713867187,0,22.306882858276367,0,245.37570190429687,86.527153015136719,2.8358231080828835,223.06881713867187,81.4881591796875,30.455698013305664,0,335.01266479492187,281.791748046875,1.1888660988585085,223.06881713867187,81.4881591796875,30.455698013305664,0,335.01266479492187,368.31890869140625,43.527835845947266,0.90957227415350439,14.690741539001465,47.843128204345703,0,46.608432769775391,109.14231109619141,223.06881713867187,262.06915283203125,81.4881591796875,0,0,0,0,0,0,30.455698013305664,556.0633544921875,86.77508544921875,0,0,597.08184814453125,642.83843994140625,0.92882097594866819,45.641681671142578,3.5547929141947079,2.9194177736996672,6.4742106878943755,0.1737048711560629,0.18246361085622889,0.35616848201229179,null,31.190359115600586,null,0.47692596912384033,0.43999999761581421,262.06915283203125,0,0,262.06915283203125,0,0,9999]
["Demand Control Ventilation-New-K-12",null,0,0,0,110.66670227050781,0,0,null,0,0,0,0,0,0,0,0,11.003432273864746,60.8087158203125,0,70.020492553710937,11.066670417785645,11.066670417785645,0,0,0,0,0,0,0,0,0,0,22.070102691650391,71.875389099121094,0,70.020492553710937,163.96598815917969,0,0,0,0,0,22.070102691650391,0,0,0,0,0,0,71.875389099121094,0,0,0,0,0,0,93.945487976074219,9999,0,9999,9999,9999,9999,9999,0,0,0,0,0,0,0,0,0,0,141.8326416015625,22.133340835571289,0,0,0,163.96598815917969,0,9999,0,0,0,0,0,0,null,0,null,0,0,0,0,0,0,0,9999,9999]
["Demand Control Ventilation-New-University",null,0,0,0,100,0,0,null,0,0,0,0,0,0,0,0,9.9428567886352539,54.947620391845703,0,63.271503448486328,10,10,0,0,0,0,0,0,0,0,0,0,19.942855834960938,64.947616577148437,0,63.271503448486328,148.1619873046875,0,0,0,0,0,19.942855834960938,0,0,0,0,0,0,64.947616577148437,0,0,0,0,0,0,84.890480041503906,9999,0,9999,9999,9999,9999,9999,0,0,0,0,0,0,0,0,0,0,128.1619873046875,20,0,0,0,148.1619873046875,0,9999,0,0,0,0,0,0,null,0,null,0,0,0,0,0,0,0,9999,9999]
[]
[]
["Supply Curve Results; Categories sorted by TRC Net Levelized Cost"]
["Totals for Categories with Benefits Exceeding Costs.    Levelized cost is TRC Net Levelized Cost (Net of Benefits)",null,null,null,null,null,null,null,null,null,null,null,null,"Savings Allocation by Cost Bin and Month for Segments 1 & 2",null,null,null,null,null,null,null,null,null,null,null,null,"Savings Allocation by Cost Bin and Month for Segments 3 & 4"]
[null,"Totals Basis","Busbar Electric Savings in kWh","First Cost","Admin Cost","First Year Program Cost","PV Cost","PV Benefits","Unit Program Cost: First Year Program Cost in $/average annual kW saved","Utility System Net Levelized Cost (Net of T&D Capacity Benefits, Act Credit & Risk-Mitigation) in mills/kWh","TRC Net Levelized Cost (Net of All Benefits) in mills/kWh","TRC B/C Ratio","Net Electric & Gas System CO2 Avoided (Lifetime Tons)","Jan","Feb","Mar","Apr","May","Jun","Jul","Aug","Sep","Oct","Nov","Dec",null,"Jan","Feb","Mar","Apr","May","Jun","Jul","Aug","Sep","Oct","Nov","Dec"]
[null,"Measures with B/C > 1.00",1887.037841796875,1705.65625,0,1705.65625,2186.0029296875,5393.99267578125,7917.9912109375,30.259254455566406,-97.167861938476563,6460.75732421875,59.591957092285156,160.25242124796461,103.092687027615,111.29501445425805,108.05448971086366,138.12323038407192,138.75122021695631,166.6476047015577,160.80676043617012,111.23647886203068,94.255437730983715,101.30371991950426,165.23620850009524,null,36.621718802938105,22.052861454137499,20.052389611020153,20.776493858485445,22.373641692371503,38.172019641359967,36.068506131891553,26.253096766442482,20.294085998825359,20.507255124775789,24.030765445948038,40.779990277557182]
[null,"Categories with B/C > 1.00",2632.79541015625,2641.1611328125,528.232177734375,3169.393310546875,3913.19677734375,5802.4296875,10545.4013671875,50.063526153564453,-18.803054809570312,1.469550609588623,63.585971832275391,11.869736671090575,7.881188184087196,8.1038524173832069,6.6562797000033411,6.450020204431679,4.7622373945763936,4.4351713558466308,4.6278813984237361,4.5870344598659063,6.6405892125461712,7.7577166449862869,12.246584488508297,null,2.7115771275142126,1.6810182535070526,1.4424034431953083,1.2074540006620711,0.9102053740353363,1.021899789613558,0.79416212221396498,0.62481872850657538,0.68321300219877878,1.3808179664810241,1.8307772725863916,3.0193334307316051]
[null,"Supply Curve Results:  By TRC Net Levelized Cost - Net of Benefits"]
[null,"Block 1: <= 0 mills/kWh",892.6614990234375,1021.194580078125,204.23892211914063,1225.4334716796875,1513.0223388671875,2950.41015625,12025.6083984375,58.469524383544922,-91.425872802734375,1.9365015029907227,32.485397338867188,9.0034232485876409,7.3908492455138788,17.367159389630938,44.111500934565655,90.661384306885722,122.30880628120129,162.39126009184622,152.11697806393215,87.526932487551107,26.388180138513199,7.4454423643772802,9.3738053377702037,null,2.0466400628169898,1.5229984201104732,3.0105991933552225,8.6605881424644817,15.580284233104148,36.218436890459479,36.682062051644202,26.028604950471028,17.247964856158632,5.6458426565799797,1.653500487470545,2.2782203773606167]
[null,"Block 2: <= 10 mills/kWh",566.15350341796875,505.98822021484375,101.19764709472656,607.18585205078125,749.68212890625,995.4949951171875,9394.88671875,41.025123596191406,4.2232232093811035,1.3278894424438477,10.716904640197754,48.491674331986268,26.643442491553976,28.995629904205231,28.291542337969567,42.76280779894747,45.352684953138017,58.755176448967532,55.369308031250384,33.254496362554846,21.994310749381203,26.217523951586301,49.974928361089169,null,11.085707298542232,5.7125197015589952,5.2664108435936772,5.5608280399589063,7.212588450478572,13.047742718507809,13.069432905586972,9.3107136379800082,6.3322272722453299,4.8596248747676007,6.24507196480321,12.34713212754772]
[null,"Block 3: 10-20 mills/kWh",0,0,0,0,0,0,0,0,0,0,0,0,0,0,0,0,0,0,0,0,0,0,0,null,0,0,0,0,0,0,0,0,0,0,0,0]
[null,"Block 4: 20-30 mills/kWh",945.78009033203125,632.65411376953125,126.53083038330078,759.1849365234375,937.35284423828125,1132.2352294921875,7031.71923828125,28.519433975219727,22.69929313659668,1.2229578495025635,12.338394165039063,86.009745482081399,54.386400678563518,57.512593121682059,52.926978484909228,65.875271067260599,64.756319800096861,79.535083983124935,76.536032505157095,51.727115754738321,45.993878099898602,53.217030930104272,88.582138114895599,null,19.667476296367912,11.700306766495419,10.559735400869698,10.676339887333828,11.291659673918611,18.836973875253488,17.762537258834065,12.938708020093532,10.044356894830656,10.589674538385214,12.752698744594822,21.901049417493532]
[null,"Block 5: 30-40 mills/kWh",228.2003173828125,481.32400512695312,96.264808654785156,577.58880615234375,713.13922119140625,724.28851318359375,22172.08984375,128.89505004882812,36.144695281982422,1.0164217948913574,8.0452747344970703,26.92416533366595,17.55907934568004,17.998176646219939,14.551858463690682,14.122764429059355,10.197560715806347,9.4383940361244818,9.8529646154834385,9.8051411855117685,14.516768019810645,17.292070275155986,27.77932582428263,null,6.1507280061493805,3.7446204787563544,3.2010060347647551,2.6258801619784373,1.9756864490557744,2.1370338490630134,1.6607805912718279,1.3066435534270995,1.428759773373558,3.0022714532495556,4.0796172834839144,6.8490087365897967]
[null,"Block 6: 40-50 mills/kWh",472.62164306640625,433.87539672851562,86.775077819824219,520.65045166015625,642.83843994140625,597.08184814453125,9650.2099609375,43.52783203125,45.641681671142578,0.92882096767425537,6.4742107391357422,8.3036595725035962,6.438551907914337,11.249786797284816,23.66632681492159,46.057834580540231,61.22493734716506,81.37175633448966,76.313916874752366,44.124831504237633,14.845091632590149,6.3378398056814635,8.5761407497520707,null,1.89564627588013,1.3687228099736473,2.0283187887740155,4.7936724251509011,8.0838487918601238,18.409581657562171,18.524394790103173,13.175174508695337,8.8656582248192564,3.3689677822172208,1.4867168159026587,2.1102580825730732]
[null,"Block 7: 50-60 mills/kWh",0,0,0,0,0,0,0,0,0,0,0,0,0,0,0,0,0,0,0,0,0,0,0,null,0,0,0,0,0,0,0,0,0,0,0,0]
[null,"Block 8: 60-70 mills/kWh",0,0,0,0,0,0,0,0,0,0,0,0,0,0,0,0,0,0,0,0,0,0,0,null,0,0,0,0,0,0,0,0,0,0,0,0]
[null,"Block 9: 70-80 mills/kWh",0,0,0,0,0,0,0,0,0,0,0,0,0,0,0,0,0,0,0,0,0,0,0,null,0,0,0,0,0,0,0,0,0,0,0,0]
[null,"Block 10: 80-90 mills/kWh",0,0,0,0,0,0,0,0,0,0,0,0,0,0,0,0,0,0,0,0,0,0,0,null,0,0,0,0,0,0,0,0,0,0,0,0]
[null,"Block 11: 90-100 mills/kWh",0,0,0,0,0,0,0,0,0,0,0,0,0,0,0,0,0,0,0,0,0,0,0,null,0,0,0,0,0,0,0,0,0,0,0,0]
[null,"Block 12: 100-110 mills/kWh",0,0,0,0,0,0,0,0,0,0,0,0,0,0,0,0,0,0,0,0,0,0,0,null,0,0,0,0,0,0,0,0,0,0,0,0]
[null,"Block 13: 110-120 mills/kWh",8.2771263122558594,126.66670227050781,25.333341598510742,152.00004577636719,187.67189025878906,180.02822875976562,160867.46875,1031.53369140625,115.16312408447266,0.9592711329460144,2.0071451663970947,0.25907288728470995,0.28172599473544879,0.45307015807989398,0.74650825489803618,1.0402560127785865,1.0320014063064502,0.76824565943816103,0.81628190843012449,0.93745444744608886,0.78108447201048592,0.32181160677056553,0.28691434550147044,null,5.6891205765186928E-2,4.7409338137655778E-2,4.2821337672721345E-2,4.0372506909050088E-2,3.486880353350167E-2,5.3526672090901686E-2,4.1597870882072174E-2,3.2727736649865599E-2,3.5786403626488557E-2,5.1997338602590204E-2,5.1385605207265615E-2,6.3314406416095134E-2]
[null,"Block 14: 120-130 mills/kWh",0,0,0,0,0,0,0,0,0,0,0,0,0,0,0,0,0,0,0,0,0,0,0,null,0,0,0,0,0,0,0,0,0,0,0,0]
[null,"Block 15: 130-140 mills/kWh",0,0,0,0,0,0,0,0,0,0,0,0,0,0,0,0,0,0,0,0,0,0,0,null,0,0,0,0,0,0,0,0,0,0,0,0]
[null,"Block 16: 140-150 mills/kWh",0,0,0,0,0,0,0,0,0,0,0,0,0,0,0,0,0,0,0,0,0,0,0,null,0,0,0,0,0,0,0,0,0,0,0,0]
[null,"Block 17: 150-160 mills/kWh",0,0,0,0,0,0,0,0,0,0,0,0,0,0,0,0,0,0,0,0,0,0,0,null,0,0,0,0,0,0,0,0,0,0,0,0]
[null,"Block 18: 160-170 mills/kWh",0,0,0,0,0,0,0,0,0,0,0,0,0,0,0,0,0,0,0,0,0,0,0,null,0,0,0,0,0,0,0,0,0,0,0,0]
[null,"Block 19: 170-180 mills/kWh",0,0,0,0,0,0,0,0,0,0,0,0,0,0,0,0,0,0,0,0,0,0,0,null,0,0,0,0,0,0,0,0,0,0,0,0]
[null,"Block 20: 180-190 mills/kWh",0,0,0,0,0,0,0,0,0,0,0,0,0,0,0,0,0,0,0,0,0,0,0,null,0,0,0,0,0,0,0,0,0,0,0,0]
[null,"Block 21: 190-200 mills/kWh",0,0,0,0,0,0,0,0,0,0,0,0,0,0,0,0,0,0,0,0,0,0,0,null,0,0,0,0,0,0,0,0,0,0,0,0]
[null,"Block 22: > 200 mills/kWh",0,210.66670227050781,42.133338928222656,252.800048828125,312.12799072265625,0,0,0,0,0,0,0,0,0,0,0,0,0,0,0,0,0,0,null,0,0,0,0,0,0,0,0,0,0,0,0]
[]
[]
["Shaped Savings Results; By Category and sorted by TRC BC ratio"]
[null,null,null,null,null,null,null,null,null,null,null,null,null,"Savings Allocation by Category and Month for Segments 1&2",null,null,null,null,null,null,null,null,null,null,null,null,"Savings Allocation by Category and Month for Segments 3&4"]
["Category","Measure","Busbar Savings","First Cost","Admin Cost","First Year Program Cost","PV Cost","PV Benefits","Unit Program Cost: First Year Program Cost in $/average annual kW saved","Utility System Net Levelized Cost (Net of T&D Capacity Benefits, Act Credit & Risk-Mitigation) in mills/kWh","TRC Net Levelized Cost (Net of All Benefits) in mills/kWh","TRC B/C Ratio","Net Electric & Gas System CO2 Avoided (Lifetime Tons)","Jan","Feb","Mar","Apr","May","Jun","Jul","Aug","Sep","Oct","Nov","Dec",null,"Jan","Feb","Mar","Apr","May","Jun","Jul","Aug","Sep","Oct","Nov","Dec"]
["Demand Control Ventilation-Retro-MIniMart",null,207.24012756347656,270.24380493164063,54.048763275146484,324.29257202148437,400.39859008789062,949.59765625,13707.7841796875,69.539802551269531,-174.86997985839844,2.3716308596420235,10.495366018992526,2.7119695390853051,2.181388879176458,4.3750303589073019,10.219612883361926,20.570411096316647,27.694624489399818,36.977712267877223,34.631073239393217,19.835716222136568,6.1636070091362214,2.1515595469025479,2.8035000956746705,null,0.6188020756344691,0.46222321112570952,0.7877537472474937,2.0756702082194023,3.6217478166590213,8.3495211859905005,8.4298319052127972,5.9883456706462699,3.997900887332305,1.4015043565364809,0.50180039764352269,0.68881558003987342]
["Demand Control Ventilation-Retro-Supermarket",null,445.06051635742187,463.45751953125,92.691505432128906,556.1490478515625,686.66790771484375,1289.2169189453125,10946.5234375,50.955219268798828,-71.042869567871094,1.8774970922336498,14.153029530133914,3.3667134926900686,2.6508364647567735,7.4850172750330586,20.996981259723498,44.974758667109498,61.879350591106359,83.834413542631779,78.244530085341225,43.673921926131428,11.505734367377514,2.5884941723216341,3.4688596146175059,null,0.76953790672031952,0.56904838863826412,1.3848095447806079,4.3965912577979624,8.1056132072334002,18.986446357670573,19.284323864290123,13.669678779137238,8.9969779184728083,2.7533762186217099,0.61786987956795536,0.856622265363431]
["Demand Control Ventilation-Retro-Restaurant",null,240.36082458496094,287.49331665039062,57.498664855957031,344.99197387695312,425.95578002929687,711.595703125,12573.3037109375,62.83843994140625,-57.221927642822266,1.6705858943482645,7.8370020026731337,2.9247402168122671,2.5586239015806482,5.5071117556905786,12.894906791480228,25.116214543459577,32.734831200695112,41.57913428133719,39.24137473919771,24.017294339283112,8.7188387619994607,2.7053886451530982,3.1014456274780278,null,0.65830008046220123,0.49172682034649956,0.83803590132712125,2.1883266764471179,3.8529232092117258,8.8824693467984073,8.9679062821412785,6.3705805006875238,4.2530860503535175,1.4909620814217888,0.53383021025906685,0.73278253195731224]
["Demand Control Ventilation-Retro-High End",null,283.07675170898437,252.99411010742187,50.598823547363281,303.59292602539062,374.841064453125,497.74749755859375,9394.88671875,41.025123596191406,4.2232232093811035,1.327889455469704,5.3584523516086637,24.245837165993134,13.321721245776988,14.497814952102615,14.145771168984783,21.381403899473735,22.676342476569008,29.377588224483766,27.684654015625192,16.627248181277423,10.997155374690601,13.108761975793151,24.987464180544585,null,5.542853649271116,2.8562598507794976,2.6332054217968386,2.7804140199794531,3.606294225239286,6.5238713592539046,6.5347164527934858,4.6553568189900041,3.1661136361226649,2.4298124373838004,3.122535982401605,6.1735660637738601]
["Demand Control Ventilation-Retro-Anchor",null,283.07675170898437,252.99411010742187,50.598823547363281,303.59292602539062,374.841064453125,497.74749755859375,9394.88671875,41.025123596191406,4.2232232093811035,1.327889455469704,5.3584523516086637,24.245837165993134,13.321721245776988,14.497814952102615,14.145771168984783,21.381403899473735,22.676342476569008,29.377588224483766,27.684654015625192,16.627248181277423,10.997155374690601,13.108761975793151,24.987464180544585,null,5.542853649271116,2.8562598507794976,2.6332054217968386,2.7804140199794531,3.606294225239286,6.5238713592539046,6.5347164527934858,4.6553568189900041,3.1661136361226649,2.4298124373838004,3.122535982401605,6.1735660637738601]
["Demand Control Ventilation-Retro-Lodging",null,249.65220642089844,117.34510040283203,23.469020843505859,140.81411743164062,173.86083984375,225.15321350097656,4941.00048828125,19.11433219909668,23.176399230957031,1.2950197606994382,2.5648086145848596,26.645303834500069,19.221372839520409,19.595144622630492,16.299233568116531,14.68785934618548,11.379847422478342,11.539240324381762,11.969128209280415,11.237203080845653,16.153298182838181,18.735392260304302,27.428624239476932,null,6.093768642891761,4.1427472209143819,3.6190811488875054,3.3313697634173098,2.5196699160430036,3.2611433874152489,2.5343742896484218,1.9939562425910378,2.1803072933004808,3.7953824031686465,4.5043813677019156,6.7843782592688449]
["Demand Control Ventilation-Retro-Small Box",null,584.42852783203125,388.65499877929687,77.731002807617188,466.385986328125,575.83892822265625,699.13873291015625,6990.66064453125,25.337974548339844,22.06700325012207,1.214122032007849,7.4014107074447537,49.655979811526777,27.220265811659544,29.550577734684182,28.810307622369677,43.875545092561474,46.986287399092703,61.661848775116738,57.986772293961423,34.222566009948729,22.05568730554667,26.722834438698513,51.148257295218755,null,11.354963387474969,5.8535650574240909,5.420585959293291,5.8122793456714454,7.6004384807894834,13.871428560733211,13.90359918583545,9.9026317420725629,6.7245351702656704,5.0413561932741526,6.3992100507892085,12.647020042926828]
["Demand Control Ventilation-Retro-Hospital",null,111.69935607910156,126.65399932861328,25.330801010131836,151.98480224609375,187.653076171875,207.94332885742187,11919.3779296875,66.186073303222656,24.94117546081543,1.1081263732252775,2.3721754265956974,9.7084618360545463,7.9447620273835691,8.3668707643673841,7.8174372944230157,7.3118666285136396,6.3901849785258129,6.3339948836264366,6.5801320019152607,6.2673466639439432,7.7848926115137527,7.7588042311014522,10.005256580199926,null,2.2187442660011829,1.703994488156948,1.5200682926889026,1.5326907782450725,1.1715512770861241,1.7044019271050288,1.324563783350194,1.0421200354299318,1.1395144312645051,1.7529359419424151,1.8491073261036981,2.46965111529786]
["Demand Control Ventilation-Retro-Warehouse",null,17.516685485839844,32,6.4000000953674316,38.400001525878906,47.411834716796875,49.43865966796875,19203.6328125,112.61166381835937,30.40068244934082,1.0427494156908921,0.55709070204891953,1.603046487090015,1.2448848595879662,1.3144822430793823,1.2152812729667504,1.1698777767256923,0.99684052708554194,0.95871935617691451,0.99807069585474362,0.96906699869136548,1.2133811026830164,1.2214697059779205,1.6540222062042362,null,0.3661473589037606,0.26570841588034522,0.23482220603391335,0.22688034376615351,0.17320751952336666,0.24032141308845845,0.18676406960017342,0.14693937828837172,0.16067203046485506,0.25989226242182628,0.28859104890217158,0.40759627885781324]
["Demand Control Ventilation-Retro-Other",null,48.737339019775391,93.323997497558594,18.664800643920898,111.98880004882812,138.27069091796875,142.62187194824219,20128.75390625,117.31743621826172,32.683406829833984,1.0314686195398899,1.5966189458006042,5.0300508191488635,3.5932188779830225,3.7412208992015028,3.2595182640437192,3.1434779427866024,2.5053817365368634,2.3786442418970015,2.478552997811045,2.4265057851432807,3.2527259729284816,3.5308265140413155,5.1896086599133309,null,1.1490329649389204,0.76683496060758283,0.66759985732978278,0.60158324597552237,0.4565069559859779,0.57707979993847447,0.44847344452361454,0.35284307767666723,0.38581906624458012,0.68849869986405499,0.83404051224977271,1.2792932475110739]
["Demand Control Ventilation-Retro-Large Off",null,49.736312866210937,109.33329772949219,21.866659164428711,131.199951171875,161.99038696289062,163.45578002929687,23108.09765625,134.14053344726562,37.807594299316406,1.0090461019371098,1.8093946178794447,6.2317137762135566,3.9068164788949131,3.9748420498988857,3.0948270860965441,3.012627393943291,2.0562462662137939,1.8737247038207725,1.9582769872248957,1.9684816814139472,3.0867198405405611,3.8511665637498629,6.4296890882754134,null,1.4236513481241551,0.8329225557528499,0.70593215601081194,0.5520155764921888,0.41336966977830414,0.40528043503729805,0.3149607952289859,0.24780003742280504,0.27095891942493638,0.630779776251016,0.908137937195586,1.5853699447120393]
["Demand Control Ventilation-Retro-Medium Off",null,54.588634490966797,120,24,144,177.79437255859375,179.40267944335938,23108.107421875,134.14057922363281,37.807647705078125,1.0090459140166625,1.9859209220628093,6.8396858519417094,4.2879693061041735,4.3626315181817041,3.3967614359596223,3.3065422616450761,2.2568556580395303,2.0565271139496293,2.1493284006126911,2.1605286747226256,3.3878632396176895,4.2268901309449713,7.0569758285949664,null,1.5625441625752923,0.91418329289946954,0.77480358586552545,0.60587075468654872,0.45369841804935834,0.4448199896750834,0.34568867769035055,0.2719756508299081,0.29739393595419861,0.69231926661696896,0.99673676033661884,1.7400401832205312]
["Demand Control Ventilation-Retro-Small Off",null,57.621334075927734,126.66670227050781,25.333341598510742,152.00004577636719,187.67190551757812,189.3695068359375,23108.115234375,134.140625,37.807723999023438,1.0090456110251378,2.096249862177419,7.2196683992718054,4.5261898231099611,4.6049999358584657,3.5854704046240462,3.4902390539586916,2.3822365279306159,2.1707786202801644,2.2687355339800632,2.2805580455405492,3.576077864040895,4.4617173604419147,7.4490300412946873,null,1.6493521716072532,0.96497125361610681,0.81784822952472136,0.6395302410580237,0.47890388571876719,0.46953221132369921,0.36489360422870337,0.2870854092093475,0.31391582128498746,0.73078144809568957,1.0521110247997645,1.8367090822883387]
["Demand Control Ventilation-Retro-OtherHealth",null,8.2771263122558594,126.66670227050781,25.333341598510742,152.00004577636719,187.67189025878906,180.02822875976562,160867.46875,1031.53369140625,115.16310119628906,0.95927115118558204,2.007145209274277,0.25907288728470995,0.28172599473544879,0.45307015807989398,0.74650825489803618,1.0402560127785865,1.0320014063064502,0.76824565943816103,0.81628190843012449,0.93745444744608886,0.78108447201048592,0.32181160677056553,0.28691434550147044,null,5.6891205765186928E-2,4.7409338137655778E-2,4.2821337672721345E-2,4.0372506909050088E-2,3.486880353350167E-2,5.3526672090901686E-2,4.1597870882072174E-2,3.2727736649865599E-2,3.5786403626488557E-2,5.1997338602590204E-2,5.1385605207265615E-2,6.3314406416095134E-2]
["Demand Control Ventilation-Retro-Big Box",null,472.62164306640625,433.87539672851562,86.775077819824219,520.65045166015625,642.83843994140625,597.08184814453125,9650.2099609375,43.527835845947266,45.641681671142578,0.92882097594866819,6.4742106878943755,8.3036595725035962,6.438551907914337,11.249786797284816,23.66632681492159,46.057834580540231,61.22493734716506,81.37175633448966,76.313916874752366,44.124831504237633,14.845091632590149,6.3378398056814635,8.5761407497520707,null,1.89564627588013,1.3687228099736473,2.0283187887740155,4.7936724251509011,8.0838487918601238,18.409581657562171,18.524394790103173,13.175174508695337,8.8656582248192564,3.3689677822172208,1.4867168159026587,2.1102580825730732]
["Demand Control Ventilation-Retro-K-12",null,0,110.66670227050781,22.133340835571289,132.800048828125,163.96598815917969,0,0,9999,9999,0,0,0,0,0,0,0,0,0,0,0,0,0,0,null,0,0,0,0,0,0,0,0,0,0,0,0]
["Demand Control Ventilation-Retro-University",null,0,100,20,120,148.1619873046875,0,0,9999,9999,0,0,0,0,0,0,0,0,0,0,0,0,0,0,null,0,0,0,0,0,0,0,0,0,0,0,0]

{"sheet":"M-IO New","index":4,"n_rows":452,"n_cols":105,"rows_kept":452,"cut":false,"hidden":true,"merged":[[8,8,8,13],[8,14,8,15],[8,17,8,19]]}
["Data Set Name"]
["Measure Index Name"]
["Costs must be denominated in the same year as 'Input Cost Reference Year' =",null,2012]
[]
["Retrofit Data",null,"name","column","referenece"]
[null,"Weighting Factor in MMap","WT BTYPE",{"$f":"MATCH(C6,MMap!$A$9:$BP$9,0)","v":13},{"$f":"LEFT(ADDRESS(11,MATCH(C6,MMap!$A$9:$BR$9,0),4,1),1)","v":"M"}]
[null,"Units are per thousand feet floor area for activity",1000]
[1,2,3,4,5,6,7,8,9,10,11,12,13,14,15,16,17,18,19,20,21,22,23,24,25,26,27,28,29,30,31,32,33,34,35,36,37,38,39,40,41,42,43,44,45,46,47,48,49,50,51,52,53,54,55,56,57,58,59,60,61,62,63,64,65,66,67,68,69,70,71,72,73,74,75,76,77,78,79,80,81,82,83,84,85,86,87,88,89,90,91,92,93,94,95,96,97,98,99,100,101,102,103,104,105]
["Input Data",null,null,null,null,null,null,null,"Periodic Replacement Costs and Savings and Replacement Period",null,null,null,null,null,"Gas Inputs",null,"Retro or LO","Early Retrofit Parameters"]
["Category Name","Measure Name","Savings (kwh/yr)","Life (yrs)","Capital Cost","Annual O&M","Shape Pointer","Non-E Val ($/yr)","Cost 1 ($)","Period 1 ","Cost 2 ($)","Period 2","Cost 3 ($)","Period 3","Savings (therms/yr)","Shape Pointer","R or L","Savings 2\n(kWh)","Remaining\nLife (yrs)","Salvage Value ($)"]
["Demand Control Ventilation-New-Large Off","Demand Control Ventilation-DCV Only-Large Off-ElecHt-Vent-New",{"$f":"VLOOKUP(B11,MMap!$A$11:$O$460,14,FALSE)","v":1.0041226885550736},15,{"$f":"VLOOKUP(B11,MMap!$A$11:$O$460,15,FALSE)","v":29.415811624740929},null,"ComEconoMizer",null,null,null,null,null,null,null,1,"SmComWX","R"]
["Demand Control Ventilation-New-Medium Off","Demand Control Ventilation-DCV Only-Medium Off-ElecHt-Vent-New",{"$f":"VLOOKUP(B12,MMap!$A$11:$O$460,14,FALSE)","v":1.089375636213137},16,{"$f":"VLOOKUP(B12,MMap!$A$11:$O$460,15,FALSE)","v":31.913299907146122},null,"ComEconoMizer",null,null,null,null,null,null,null,1,"SmComWX","R"]
["Demand Control Ventilation-New-Small Off","Demand Control Ventilation-DCV Only-Small Off-ElecHt-Vent-New",{"$f":"VLOOKUP(B13,MMap!$A$11:$O$460,14,FALSE)","v":1.4072096545816564},17,{"$f":"VLOOKUP(B13,MMap!$A$11:$O$460,15,FALSE)","v":41.224259333544964},null,"ComEconoMizer",null,null,null,null,null,null,null,1,"SmComWX","R"]
["Demand Control Ventilation-New-Xlarge Ret","Demand Control Ventilation-DCV Only-Xlarge Ret-ElecHt-Vent-New",{"$f":"VLOOKUP(B14,MMap!$A$11:$O$460,14,FALSE)","v":0.48788485325710801},18,{"$f":"VLOOKUP(B14,MMap!$A$11:$O$460,15,FALSE)","v":2.314740652126988},null,"ComEconoMizer",null,null,null,null,null,null,null,1,"SmComWX"]
["Demand Control Ventilation-New-Large Ret","Demand Control Ventilation-DCV Only-Large Ret-ElecHt-Vent-New",{"$f":"VLOOKUP(B15,MMap!$A$11:$O$460,14,FALSE)","v":0.10177386028795338},19,{"$f":"VLOOKUP(B15,MMap!$A$11:$O$460,15,FALSE)","v":0.48286002354795582},null,"ComEconoMizer",null,null,null,null,null,null,null,1,"SmComWX"]
["Demand Control Ventilation-New-Medium Ret","Demand Control Ventilation-DCV Only-Medium Ret-ElecHt-Vent-New",{"$f":"VLOOKUP(B16,MMap!$A$11:$O$460,14,FALSE)","v":1.0347244256720787},20,{"$f":"VLOOKUP(B16,MMap!$A$11:$O$460,15,FALSE)","v":11.233378301679389},null,"ComEconoMizer",null,null,null,null,null,null,null,1,"SmComWX"]
["Demand Control Ventilation-New-Small Ret","Demand Control Ventilation-DCV Only-Small Ret-ElecHt-Vent-New",{"$f":"VLOOKUP(B17,MMap!$A$11:$O$460,14,FALSE)","v":1.3963059762251018},21,{"$f":"VLOOKUP(B17,MMap!$A$11:$O$460,15,FALSE)","v":15.158850865673125},null,"ComEconoMizer",null,null,null,null,null,null,null,1,"SmComWX"]
["Demand Control Ventilation-New-School K-12","Demand Control Ventilation-DCV Only-School K-12-ElecHt-Vent-New",{"$f":"VLOOKUP(B18,MMap!$A$11:$O$460,14,FALSE)","v":0},22,{"$f":"VLOOKUP(B18,MMap!$A$11:$O$460,15,FALSE)","v":0},null,"ComEconoMizer",null,null,null,null,null,null,null,1,"SmComWX"]
["Demand Control Ventilation-New-University","Demand Control Ventilation-DCV Only-University-ElecHt-Vent-New",{"$f":"VLOOKUP(B19,MMap!$A$11:$O$460,14,FALSE)","v":0},23,{"$f":"VLOOKUP(B19,MMap!$A$11:$O$460,15,FALSE)","v":0},null,"ComEconoMizer",null,null,null,null,null,null,null,1,"SmComWX"]
["Demand Control Ventilation-New-Warehouse","Demand Control Ventilation-DCV Only-Warehouse-ElecHt-Vent-New",{"$f":"VLOOKUP(B20,MMap!$A$11:$O$460,14,FALSE)","v":5.851935601908699E-3},24,{"$f":"VLOOKUP(B20,MMap!$A$11:$O$460,15,FALSE)","v":0.17143267179189906},null,"ComEconoMizer",null,null,null,null,null,null,null,1,"SmComWX"]
["Demand Control Ventilation-New-Supermarket","Demand Control Ventilation-DCV Only-Supermarket-ElecHt-Vent-New",{"$f":"VLOOKUP(B21,MMap!$A$11:$O$460,14,FALSE)","v":5.4592260331017162E-2},25,{"$f":"VLOOKUP(B21,MMap!$A$11:$O$460,15,FALSE)","v":1.5992823032182082},null,"ComEconoMizer",null,null,null,null,null,null,null,1,"SmComWX"]
["Demand Control Ventilation-New-MiniMart","Demand Control Ventilation-DCV Only-MiniMart-ElecHt-Vent-New",{"$f":"VLOOKUP(B22,MMap!$A$11:$O$460,14,FALSE)","v":2.9275464324354586E-2},26,{"$f":"VLOOKUP(B22,MMap!$A$11:$O$460,15,FALSE)","v":0.85762581964086892},null,"ComEconoMizer",null,null,null,null,null,null,null,1,"SmComWX"]
["Demand Control Ventilation-New-Restaurant","Demand Control Ventilation-DCV Only-Restaurant-ElecHt-Vent-New",{"$f":"VLOOKUP(B23,MMap!$A$11:$O$460,14,FALSE)","v":0.65462129435316274},27,{"$f":"VLOOKUP(B23,MMap!$A$11:$O$460,15,FALSE)","v":3.1058117743793203},null,"ComEconoMizer",null,null,null,null,null,null,null,1,"SmComWX"]
["Demand Control Ventilation-New-Lodging","Demand Control Ventilation-DCV Only-Lodging-ElecHt-Vent-New",{"$f":"VLOOKUP(B24,MMap!$A$11:$O$460,14,FALSE)","v":2.126603418184998},28,{"$f":"VLOOKUP(B24,MMap!$A$11:$O$460,15,FALSE)","v":62.29892647867306},null,"ComEconoMizer",null,null,null,null,null,null,null,1,"SmComWX"]
["Demand Control Ventilation-New-Hospital","Demand Control Ventilation-DCV Only-Hospital-ElecHt-Vent-New",{"$f":"VLOOKUP(B25,MMap!$A$11:$O$460,14,FALSE)","v":0.38303999999999999},29,{"$f":"VLOOKUP(B25,MMap!$A$11:$O$460,15,FALSE)","v":11.221171091108927},null,"ComEconoMizer",null,null,null,null,null,null,null,1,"SmComWX"]
["Demand Control Ventilation-New-Residential Care","Demand Control Ventilation-DCV Only-Residential Care-ElecHt-Vent-New",{"$f":"VLOOKUP(B26,MMap!$A$11:$O$460,14,FALSE)","v":1.4428240611220515},30,{"$f":"VLOOKUP(B26,MMap!$A$11:$O$460,15,FALSE)","v":42.267584701908795},null,"ComEconoMizer",null,null,null,null,null,null,null,1,"SmComWX"]
["Demand Control Ventilation-New-Assembly","Demand Control Ventilation-DCV Only-Assembly-ElecHt-Vent-New",{"$f":"VLOOKUP(B27,MMap!$A$11:$O$460,14,FALSE)","v":0.48895217979750333},31,{"$f":"VLOOKUP(B27,MMap!$A$11:$O$460,15,FALSE)","v":14.323872349828839},null,"ComEconoMizer",null,null,null,null,null,null,null,1,"SmComWX"]
["Demand Control Ventilation-New-Other","Demand Control Ventilation-DCV Only-Other-ElecHt-Vent-New",{"$f":"VLOOKUP(B28,MMap!$A$11:$O$460,14,FALSE)","v":0.74889161389958869},32,{"$f":"VLOOKUP(B28,MMap!$A$11:$O$460,15,FALSE)","v":21.938807770112714},null,"ExCOMM",null,null,null,null,null,null,null,1,"SmComWX"]
["Demand Control Ventilation-New-Large Off","Demand Control Ventilation-DCV Only-Large Off-ElecHt-Heat-New",{"$f":"VLOOKUP(B29,MMap!$A$11:$O$460,14,FALSE)","v":103.25205048834142},33,{"$f":"VLOOKUP(B29,MMap!$A$11:$O$460,15,FALSE)","v":0},null,"ExCOMM",null,null,null,null,null,null,null,1,"SmComWX"]
["Demand Control Ventilation-New-Medium Off","Demand Control Ventilation-DCV Only-Medium Off-ElecHt-Heat-New",{"$f":"VLOOKUP(B30,MMap!$A$11:$O$460,14,FALSE)","v":112.01845100513196},34,{"$f":"VLOOKUP(B30,MMap!$A$11:$O$460,15,FALSE)","v":0},null,"ExCOMM",null,null,null,null,null,null,null,1,"SmComWX"]
["Demand Control Ventilation-New-Small Off","Demand Control Ventilation-DCV Only-Small Off-ElecHt-Heat-New",{"$f":"VLOOKUP(B31,MMap!$A$11:$O$460,14,FALSE)","v":144.70072627442428},35,{"$f":"VLOOKUP(B31,MMap!$A$11:$O$460,15,FALSE)","v":0},null,"ExCOMM",null,null,null,null,null,null,null,1,"SmComWX"]
["Demand Control Ventilation-New-Xlarge Ret","Demand Control Ventilation-DCV Only-Xlarge Ret-ElecHt-Heat-New",{"$f":"VLOOKUP(B32,MMap!$A$11:$O$460,14,FALSE)","v":31.566367589509628},36,{"$f":"VLOOKUP(B32,MMap!$A$11:$O$460,15,FALSE)","v":0},null,"ExCOMM",null,null,null,null,null,null,null,1,"SmComWX"]
["Demand Control Ventilation-New-Large Ret","Demand Control Ventilation-DCV Only-Large Ret-ElecHt-Heat-New",{"$f":"VLOOKUP(B33,MMap!$A$11:$O$460,14,FALSE)","v":6.5848141490875998},37,{"$f":"VLOOKUP(B33,MMap!$A$11:$O$460,15,FALSE)","v":0},null,"ExCOMM",null,null,null,null,null,null,null,1,"SmComWX"]
["Demand Control Ventilation-New-Medium Ret","Demand Control Ventilation-DCV Only-Medium Ret-ElecHt-Heat-New",{"$f":"VLOOKUP(B34,MMap!$A$11:$O$460,14,FALSE)","v":93.8583384000991},38,{"$f":"VLOOKUP(B34,MMap!$A$11:$O$460,15,FALSE)","v":0},null,"ExCOMM",null,null,null,null,null,null,null,1,"SmComWX"]
["Demand Control Ventilation-New-Small Ret","Demand Control Ventilation-DCV Only-Small Ret-ElecHt-Heat-New",{"$f":"VLOOKUP(B35,MMap!$A$11:$O$460,14,FALSE)","v":126.65687169943143},39,{"$f":"VLOOKUP(B35,MMap!$A$11:$O$460,15,FALSE)","v":0},null,"ExCOMM",null,null,null,null,null,null,null,1,"SmComWX"]
["Demand Control Ventilation-New-School K-12","Demand Control Ventilation-DCV Only-School K-12-ElecHt-Heat-New",{"$f":"VLOOKUP(B36,MMap!$A$11:$O$460,14,FALSE)","v":0},40,{"$f":"VLOOKUP(B36,MMap!$A$11:$O$460,15,FALSE)","v":0},null,"ExCOMM",null,null,null,null,null,null,null,1,"SmComWX"]
["Demand Control Ventilation-New-University","Demand Control Ventilation-DCV Only-University-ElecHt-Heat-New",{"$f":"VLOOKUP(B37,MMap!$A$11:$O$460,14,FALSE)","v":0},41,{"$f":"VLOOKUP(B37,MMap!$A$11:$O$460,15,FALSE)","v":0},null,"ExCOMM",null,null,null,null,null,null,null,1,"SmComWX"]
["Demand Control Ventilation-New-Warehouse","Demand Control Ventilation-DCV Only-Warehouse-ElecHt-Heat-New",{"$f":"VLOOKUP(B38,MMap!$A$11:$O$460,14,FALSE)","v":0.60174354898032911},42,{"$f":"VLOOKUP(B38,MMap!$A$11:$O$460,15,FALSE)","v":0},null,"ExCOMM",null,null,null,null,null,null,null,1,"SmComWX"]
["Demand Control Ventilation-New-Supermarket","Demand Control Ventilation-DCV Only-Supermarket-ElecHt-Heat-New",{"$f":"VLOOKUP(B39,MMap!$A$11:$O$460,14,FALSE)","v":21.809585024739093},43,{"$f":"VLOOKUP(B39,MMap!$A$11:$O$460,15,FALSE)","v":0},null,"ExCOMM",null,null,null,null,null,null,null,1,"SmComWX"]
["Demand Control Ventilation-New-MiniMart","Demand Control Ventilation-DCV Only-MiniMart-ElecHt-Heat-New",{"$f":"VLOOKUP(B40,MMap!$A$11:$O$460,14,FALSE)","v":11.695535675740558},44,{"$f":"VLOOKUP(B40,MMap!$A$11:$O$460,15,FALSE)","v":0},null,"ExCOMM",null,null,null,null,null,null,null,1,"SmComWX"]
["Demand Control Ventilation-New-Restaurant","Demand Control Ventilation-DCV Only-Restaurant-ElecHt-Heat-New",{"$f":"VLOOKUP(B41,MMap!$A$11:$O$460,14,FALSE)","v":42.354289688478794},45,{"$f":"VLOOKUP(B41,MMap!$A$11:$O$460,15,FALSE)","v":0},null,"ExCOMM",null,null,null,null,null,null,null,1,"SmComWX"]
["Demand Control Ventilation-New-Lodging","Demand Control Ventilation-DCV Only-Lodging-ElecHt-Heat-New",{"$f":"VLOOKUP(B42,MMap!$A$11:$O$460,14,FALSE)","v":218.67463608364992},46,{"$f":"VLOOKUP(B42,MMap!$A$11:$O$460,15,FALSE)","v":0},null,"ExCOMM",null,null,null,null,null,null,null,1,"SmComWX"]
["Demand Control Ventilation-New-Hospital","Demand Control Ventilation-DCV Only-Hospital-ElecHt-Heat-New",{"$f":"VLOOKUP(B43,MMap!$A$11:$O$460,14,FALSE)","v":39.387283914444779},47,{"$f":"VLOOKUP(B43,MMap!$A$11:$O$460,15,FALSE)","v":0},null,"ExCOMM",null,null,null,null,null,null,null,1,"SmComWX"]
["Demand Control Ventilation-New-Residential Care","Demand Control Ventilation-DCV Only-Residential Care-ElecHt-Heat-New",{"$f":"VLOOKUP(B44,MMap!$A$11:$O$460,14,FALSE)","v":148.36288882102778},48,{"$f":"VLOOKUP(B44,MMap!$A$11:$O$460,15,FALSE)","v":0},null,"ExCOMM",null,null,null,null,null,null,null,1,"SmComWX"]
["Demand Control Ventilation-New-Assembly","Demand Control Ventilation-DCV Only-Assembly-ElecHt-Heat-New",{"$f":"VLOOKUP(B45,MMap!$A$11:$O$460,14,FALSE)","v":50.278034477524315},49,{"$f":"VLOOKUP(B45,MMap!$A$11:$O$460,15,FALSE)","v":0},null,"ComEconoMizer",null,null,null,null,null,null,null,1,"SmComWX"]
["Demand Control Ventilation-New-Other","Demand Control Ventilation-DCV Only-Other-ElecHt-Heat-New",{"$f":"VLOOKUP(B46,MMap!$A$11:$O$460,14,FALSE)","v":77.007118363120995},50,{"$f":"VLOOKUP(B46,MMap!$A$11:$O$460,15,FALSE)","v":0},null,"ComEconoMizer",null,null,null,null,null,null,null,1,"SmComWX"]
["Demand Control Ventilation-New-Large Off","Demand Control Ventilation-DCV Only-Large Off-GasHt-Vent-New",{"$f":"VLOOKUP(B47,MMap!$A$11:$O$460,14,FALSE)","v":2.5907994055060333},51,{"$f":"VLOOKUP(B47,MMap!$A$11:$O$460,15,FALSE)","v":75.897565246257571},null,"ComEconoMizer",null,null,null,null,null,null,null,1,"SmComWX"]
["Demand Control Ventilation-New-Medium Off","Demand Control Ventilation-DCV Only-Medium Off-GasHt-Vent-New",{"$f":"VLOOKUP(B48,MMap!$A$11:$O$460,14,FALSE)","v":2.5315738176402087},52,{"$f":"VLOOKUP(B48,MMap!$A$11:$O$460,15,FALSE)","v":74.162549440039086},null,"ComEconoMizer",null,null,null,null,null,null,null,1,"SmComWX"]
["Demand Control Ventilation-New-Small Off","Demand Control Ventilation-DCV Only-Small Off-GasHt-Vent-New",{"$f":"VLOOKUP(B49,MMap!$A$11:$O$460,14,FALSE)","v":1.5042623100824677},53,{"$f":"VLOOKUP(B49,MMap!$A$11:$O$460,15,FALSE)","v":44.067420497447053},null,"ComEconoMizer",null,null,null,null,null,null,null,1,"SmComWX"]
["Demand Control Ventilation-New-Xlarge Ret","Demand Control Ventilation-DCV Only-Xlarge Ret-GasHt-Vent-New",{"$f":"VLOOKUP(B50,MMap!$A$11:$O$460,14,FALSE)","v":8.4333979422680372},54,{"$f":"VLOOKUP(B50,MMap!$A$11:$O$460,15,FALSE)","v":40.011754663440165},null,"ComEconoMizer",null,null,null,null,null,null,null,1,"SmComWX"]
["Demand Control Ventilation-New-Large Ret","Demand Control Ventilation-DCV Only-Large Ret-GasHt-Vent-New",{"$f":"VLOOKUP(B51,MMap!$A$11:$O$460,14,FALSE)","v":9.4463692762442886},55,{"$f":"VLOOKUP(B51,MMap!$A$11:$O$460,15,FALSE)","v":44.817736875309492},null,"ComEconoMizer",null,null,null,null,null,null,null,1,"SmComWX"]
["Demand Control Ventilation-New-Medium Ret","Demand Control Ventilation-DCV Only-Medium Ret-GasHt-Vent-New",{"$f":"VLOOKUP(B52,MMap!$A$11:$O$460,14,FALSE)","v":6.9794673534900697},56,{"$f":"VLOOKUP(B52,MMap!$A$11:$O$460,15,FALSE)","v":75.771862711224173},null,"ComEconoMizer",null,null,null,null,null,null,null,1,"SmComWX"]
["Demand Control Ventilation-New-Small Ret","Demand Control Ventilation-DCV Only-Small Ret-GasHt-Vent-New",{"$f":"VLOOKUP(B53,MMap!$A$11:$O$460,14,FALSE)","v":2.8978021063318957},57,{"$f":"VLOOKUP(B53,MMap!$A$11:$O$460,15,FALSE)","v":31.459687716066199},null,"ComEconoMizer",null,null,null,null,null,null,null,1,"SmComWX"]
["Demand Control Ventilation-New-School K-12","Demand Control Ventilation-DCV Only-School K-12-GasHt-Vent-New",{"$f":"VLOOKUP(B54,MMap!$A$11:$O$460,14,FALSE)","v":0},58,{"$f":"VLOOKUP(B54,MMap!$A$11:$O$460,15,FALSE)","v":0},null,"ComEconoMizer",null,null,null,null,null,null,null,1,"SmComWX"]
["Demand Control Ventilation-New-University","Demand Control Ventilation-DCV Only-University-GasHt-Vent-New",{"$f":"VLOOKUP(B55,MMap!$A$11:$O$460,14,FALSE)","v":0},59,{"$f":"VLOOKUP(B55,MMap!$A$11:$O$460,15,FALSE)","v":0},null,"ComEconoMizer",null,null,null,null,null,null,null,1,"SmComWX"]
["Demand Control Ventilation-New-Warehouse","Demand Control Ventilation-DCV Only-Warehouse-GasHt-Vent-New",{"$f":"VLOOKUP(B56,MMap!$A$11:$O$460,14,FALSE)","v":0.90348205566645678},60,{"$f":"VLOOKUP(B56,MMap!$A$11:$O$460,15,FALSE)","v":26.467540529396697},null,"ComEconoMizer",null,null,null,null,null,null,null,1,"SmComWX"]
["Demand Control Ventilation-New-Supermarket","Demand Control Ventilation-DCV Only-Supermarket-GasHt-Vent-New",{"$f":"VLOOKUP(B57,MMap!$A$11:$O$460,14,FALSE)","v":0.6542437322571365},61,{"$f":"VLOOKUP(B57,MMap!$A$11:$O$460,15,FALSE)","v":19.16609454611265},null,"ComEconoMizer",null,null,null,null,null,null,null,1,"SmComWX"]
["Demand Control Ventilation-New-MiniMart","Demand Control Ventilation-DCV Only-MiniMart-GasHt-Vent-New",{"$f":"VLOOKUP(B58,MMap!$A$11:$O$460,14,FALSE)","v":2.5625867832485185},62,{"$f":"VLOOKUP(B58,MMap!$A$11:$O$460,15,FALSE)","v":75.071075424619096},null,"ComEconoMizer",null,null,null,null,null,null,null,1,"SmComWX"]
["Demand Control Ventilation-New-Restaurant","Demand Control Ventilation-DCV Only-Restaurant-GasHt-Vent-New",{"$f":"VLOOKUP(B59,MMap!$A$11:$O$460,14,FALSE)","v":17.288933242554908},63,{"$f":"VLOOKUP(B59,MMap!$A$11:$O$460,15,FALSE)","v":82.026314900499472},null,"ComEconoMizer",null,null,null,null,null,null,null,1,"SmComWX"]
["Demand Control Ventilation-New-Lodging","Demand Control Ventilation-DCV Only-Lodging-GasHt-Vent-New",{"$f":"VLOOKUP(B60,MMap!$A$11:$O$460,14,FALSE)","v":1.1871570184098639},64,{"$f":"VLOOKUP(B60,MMap!$A$11:$O$460,15,FALSE)","v":34.777809146793629},null,"ComEconoMizer",null,null,null,null,null,null,null,1,"SmComWX"]
["Demand Control Ventilation-New-Hospital","Demand Control Ventilation-DCV Only-Hospital-GasHt-Vent-New",{"$f":"VLOOKUP(B61,MMap!$A$11:$O$460,14,FALSE)","v":4.357079999999999},65,{"$f":"VLOOKUP(B61,MMap!$A$11:$O$460,15,FALSE)","v":127.64082116136402},null,"ComEconoMizer",null,null,null,null,null,null,null,1,"SmComWX"]
["Demand Control Ventilation-New-Residential Care","Demand Control Ventilation-DCV Only-Residential Care-GasHt-Vent-New",{"$f":"VLOOKUP(B62,MMap!$A$11:$O$460,14,FALSE)","v":1.7217854644983057},66,{"$f":"VLOOKUP(B62,MMap!$A$11:$O$460,15,FALSE)","v":50.439769421783488},null,"ComEconoMizer",null,null,null,null,null,null,null,1,"SmComWX"]
["Demand Control Ventilation-New-Assembly","Demand Control Ventilation-DCV Only-Assembly-GasHt-Vent-New",{"$f":"VLOOKUP(B63,MMap!$A$11:$O$460,14,FALSE)","v":3.5758760088168664},67,{"$f":"VLOOKUP(B63,MMap!$A$11:$O$460,15,FALSE)","v":104.75542109316467},null,"ComEconoMizer",null,null,null,null,null,null,null,1,"SmComWX"]
["Demand Control Ventilation-New-Other","Demand Control Ventilation-DCV Only-Other-GasHt-Vent-New",{"$f":"VLOOKUP(B64,MMap!$A$11:$O$460,14,FALSE)","v":3.2083722530295162},68,{"$f":"VLOOKUP(B64,MMap!$A$11:$O$460,15,FALSE)","v":93.98938485591799},null,"ComEconoMizer",null,null,null,null,null,null,null,1,"SmComWX"]
["Demand Control Ventilation-New-Large Off","Demand Control Ventilation-DCV Only-Large Off-HtPmpHt-Vent-New",{"$f":"VLOOKUP(B65,MMap!$A$11:$O$460,14,FALSE)","v":1.1995641280956124},69,{"$f":"VLOOKUP(B65,MMap!$A$11:$O$460,15,FALSE)","v":35.141275887943223},null,"ComEconoMizer",null,null,null,null,null,null,null,1,"SmComWX"]
["Demand Control Ventilation-New-Medium Off","Demand Control Ventilation-DCV Only-Medium Off-HtPmpHt-Vent-New",{"$f":"VLOOKUP(B66,MMap!$A$11:$O$460,14,FALSE)","v":1.3014106245353918},70,{"$f":"VLOOKUP(B66,MMap!$A$11:$O$460,15,FALSE)","v":38.124872801009175},null,"ComEconoMizer",null,null,null,null,null,null,null,1,"SmComWX"]
["Demand Control Ventilation-New-Small Off","Demand Control Ventilation-DCV Only-Small Off-HtPmpHt-Vent-New",{"$f":"VLOOKUP(B67,MMap!$A$11:$O$460,14,FALSE)","v":1.6811075395328923},71,{"$f":"VLOOKUP(B67,MMap!$A$11:$O$460,15,FALSE)","v":49.248108092240365},null,"ComEconoMizer",null,null,null,null,null,null,null,1,"SmComWX"]
["Demand Control Ventilation-New-Xlarge Ret","Demand Control Ventilation-DCV Only-Xlarge Ret-HtPmpHt-Vent-New",{"$f":"VLOOKUP(B68,MMap!$A$11:$O$460,14,FALSE)","v":0.28480713061902257},72,{"$f":"VLOOKUP(B68,MMap!$A$11:$O$460,15,FALSE)","v":1.351250482277373},null,"ComEconoMizer",null,null,null,null,null,null,null,1,"SmComWX"]
["Demand Control Ventilation-New-Large Ret","Demand Control Ventilation-DCV Only-Large Ret-HtPmpHt-Vent-New",{"$f":"VLOOKUP(B69,MMap!$A$11:$O$460,14,FALSE)","v":5.9411397847512488E-2},73,{"$f":"VLOOKUP(B69,MMap!$A$11:$O$460,15,FALSE)","v":0.28187384150016842},null,"ComEconoMizer",null,null,null,null,null,null,null,1,"SmComWX"]
["Demand Control Ventilation-New-Medium Ret","Demand Control Ventilation-DCV Only-Medium Ret-HtPmpHt-Vent-New",{"$f":"VLOOKUP(B70,MMap!$A$11:$O$460,14,FALSE)","v":0.60402960389053117},74,{"$f":"VLOOKUP(B70,MMap!$A$11:$O$460,15,FALSE)","v":6.5575846839690444},null,"ComEconoMizer",null,null,null,null,null,null,null,1,"SmComWX"]
["Demand Control Ventilation-New-Small Ret","Demand Control Ventilation-DCV Only-Small Ret-HtPmpHt-Vent-New",{"$f":"VLOOKUP(B71,MMap!$A$11:$O$460,14,FALSE)","v":0.81510605607035358},75,{"$f":"VLOOKUP(B71,MMap!$A$11:$O$460,15,FALSE)","v":8.849114272991935},null,"ComEconoMizer",null,null,null,null,null,null,null,1,"SmComWX"]
["Demand Control Ventilation-New-School K-12","Demand Control Ventilation-DCV Only-School K-12-HtPmpHt-Vent-New",{"$f":"VLOOKUP(B72,MMap!$A$11:$O$460,14,FALSE)","v":0},76,{"$f":"VLOOKUP(B72,MMap!$A$11:$O$460,15,FALSE)","v":0},null,"ComEconoMizer",null,null,null,null,null,null,null,1,"SmComWX"]
["Demand Control Ventilation-New-University","Demand Control Ventilation-DCV Only-University-HtPmpHt-Vent-New",{"$f":"VLOOKUP(B73,MMap!$A$11:$O$460,14,FALSE)","v":0},77,{"$f":"VLOOKUP(B73,MMap!$A$11:$O$460,15,FALSE)","v":0},null,"ComEconoMizer",null,null,null,null,null,null,null,1,"SmComWX"]
["Demand Control Ventilation-New-Warehouse","Demand Control Ventilation-DCV Only-Warehouse-HtPmpHt-Vent-New",{"$f":"VLOOKUP(B74,MMap!$A$11:$O$460,14,FALSE)","v":6.0444848232682662E-3},78,{"$f":"VLOOKUP(B74,MMap!$A$11:$O$460,15,FALSE)","v":0.17707340841558197},null,"ComEconoMizer",null,null,null,null,null,null,null,1,"SmComWX"]
["Demand Control Ventilation-New-Supermarket","Demand Control Ventilation-DCV Only-Supermarket-HtPmpHt-Vent-New",{"$f":"VLOOKUP(B75,MMap!$A$11:$O$460,14,FALSE)","v":8.6867426812820711E-2},79,{"$f":"VLOOKUP(B75,MMap!$A$11:$O$460,15,FALSE)","v":2.5447845094795438},null,"ComEconoMizer",null,null,null,null,null,null,null,1,"SmComWX"]
["Demand Control Ventilation-New-MiniMart","Demand Control Ventilation-DCV Only-MiniMart-HtPmpHt-Vent-New",{"$f":"VLOOKUP(B76,MMap!$A$11:$O$460,14,FALSE)","v":4.6583237975261788E-2},80,{"$f":"VLOOKUP(B76,MMap!$A$11:$O$460,15,FALSE)","v":1.3646576944921029},null,"ComEconoMizer",null,null,null,null,null,null,null,1,"SmComWX"]
["Demand Control Ventilation-New-Restaurant","Demand Control Ventilation-DCV Only-Restaurant-HtPmpHt-Vent-New",{"$f":"VLOOKUP(B77,MMap!$A$11:$O$460,14,FALSE)","v":3.8404449211990577},81,{"$f":"VLOOKUP(B77,MMap!$A$11:$O$460,15,FALSE)","v":18.220762382777608},null,"ComEconoMizer",null,null,null,null,null,null,null,1,"SmComWX"]
["Demand Control Ventilation-New-Lodging","Demand Control Ventilation-DCV Only-Lodging-HtPmpHt-Vent-New",{"$f":"VLOOKUP(B78,MMap!$A$11:$O$460,14,FALSE)","v":1.4459580610561524},82,{"$f":"VLOOKUP(B78,MMap!$A$11:$O$460,15,FALSE)","v":42.359395346906886},null,"ComEconoMizer",null,null,null,null,null,null,null,1,"SmComWX"]
["Demand Control Ventilation-New-Hospital","Demand Control Ventilation-DCV Only-Hospital-HtPmpHt-Vent-New",{"$f":"VLOOKUP(B79,MMap!$A$11:$O$460,14,FALSE)","v":4.7879999999999999E-2},83,{"$f":"VLOOKUP(B79,MMap!$A$11:$O$460,15,FALSE)","v":1.4026463863886158},null,"SmComHP",null,null,null,null,null,null,null,1,"SmComWX"]
["Demand Control Ventilation-New-Residential Care","Demand Control Ventilation-DCV Only-Residential Care-HtPmpHt-Vent-New",{"$f":"VLOOKUP(B80,MMap!$A$11:$O$460,14,FALSE)","v":1.0807773210253919},84,{"$f":"VLOOKUP(B80,MMap!$A$11:$O$460,15,FALSE)","v":31.661411942920534},null,"SmComHP",null,null,null,null,null,null,null,1,"SmComWX"]
["Demand Control Ventilation-New-Assembly","Demand Control Ventilation-DCV Only-Assembly-HtPmpHt-Vent-New",{"$f":"VLOOKUP(B81,MMap!$A$11:$O$460,14,FALSE)","v":0.53050444114496886},85,{"$f":"VLOOKUP(B81,MMap!$A$11:$O$460,15,FALSE)","v":15.541147396305403},null,"SmComHP",null,null,null,null,null,null,null,1,"SmComWX"]
["Demand Control Ventilation-New-Other","Demand Control Ventilation-DCV Only-Other-HtPmpHt-Vent-New",{"$f":"VLOOKUP(B82,MMap!$A$11:$O$460,14,FALSE)","v":0.46371081424416949},86,{"$f":"VLOOKUP(B82,MMap!$A$11:$O$460,15,FALSE)","v":13.584425604196053},null,"SmComHP",null,null,null,null,null,null,null,1,"SmComWX"]
["Demand Control Ventilation-New-Large Off","Demand Control Ventilation-DCV Only-Large Off-HtPmpHt-Heat-New",{"$f":"VLOOKUP(B83,MMap!$A$11:$O$460,14,FALSE)","v":58.737584147478444},87,{"$f":"VLOOKUP(B83,MMap!$A$11:$O$460,15,FALSE)","v":0},null,"SmComHP",null,null,null,null,null,null,null,1,"SmComWX"]
["Demand Control Ventilation-New-Medium Off","Demand Control Ventilation-DCV Only-Medium Off-HtPmpHt-Heat-New",{"$f":"VLOOKUP(B84,MMap!$A$11:$O$460,14,FALSE)","v":63.724576517994358},88,{"$f":"VLOOKUP(B84,MMap!$A$11:$O$460,15,FALSE)","v":0},null,"SmComHP",null,null,null,null,null,null,null,1,"SmComWX"]
["Demand Control Ventilation-New-Small Off","Demand Control Ventilation-DCV Only-Small Off-HtPmpHt-Heat-New",{"$f":"VLOOKUP(B85,MMap!$A$11:$O$460,14,FALSE)","v":82.316729261516571},89,{"$f":"VLOOKUP(B85,MMap!$A$11:$O$460,15,FALSE)","v":0},null,"SmComHP",null,null,null,null,null,null,null,1,"SmComWX"]
["Demand Control Ventilation-New-Xlarge Ret","Demand Control Ventilation-DCV Only-Xlarge Ret-HtPmpHt-Heat-New",{"$f":"VLOOKUP(B86,MMap!$A$11:$O$460,14,FALSE)","v":8.774832555961023},90,{"$f":"VLOOKUP(B86,MMap!$A$11:$O$460,15,FALSE)","v":0},null,"SmComHP",null,null,null,null,null,null,null,1,"SmComWX"]
["Demand Control Ventilation-New-Large Ret","Demand Control Ventilation-DCV Only-Large Ret-HtPmpHt-Heat-New",{"$f":"VLOOKUP(B87,MMap!$A$11:$O$460,14,FALSE)","v":1.8304494936429985},91,{"$f":"VLOOKUP(B87,MMap!$A$11:$O$460,15,FALSE)","v":0},null,"SmComHP",null,null,null,null,null,null,null,1,"SmComWX"]
["Demand Control Ventilation-New-Medium Ret","Demand Control Ventilation-DCV Only-Medium Ret-HtPmpHt-Heat-New",{"$f":"VLOOKUP(B88,MMap!$A$11:$O$460,14,FALSE)","v":26.090781624025009},92,{"$f":"VLOOKUP(B88,MMap!$A$11:$O$460,15,FALSE)","v":0},null,"SmComHP",null,null,null,null,null,null,null,1,"SmComWX"]
["Demand Control Ventilation-New-Small Ret","Demand Control Ventilation-DCV Only-Small Ret-HtPmpHt-Heat-New",{"$f":"VLOOKUP(B89,MMap!$A$11:$O$460,14,FALSE)","v":35.208132138513648},93,{"$f":"VLOOKUP(B89,MMap!$A$11:$O$460,15,FALSE)","v":0},null,"SmComHP",null,null,null,null,null,null,null,1,"SmComWX"]
["Demand Control Ventilation-New-School K-12","Demand Control Ventilation-DCV Only-School K-12-HtPmpHt-Heat-New",{"$f":"VLOOKUP(B90,MMap!$A$11:$O$460,14,FALSE)","v":0},94,{"$f":"VLOOKUP(B90,MMap!$A$11:$O$460,15,FALSE)","v":0},null,"SmComHP",null,null,null,null,null,null,null,1,"SmComWX"]
["Demand Control Ventilation-New-University","Demand Control Ventilation-DCV Only-University-HtPmpHt-Heat-New",{"$f":"VLOOKUP(B91,MMap!$A$11:$O$460,14,FALSE)","v":0},95,{"$f":"VLOOKUP(B91,MMap!$A$11:$O$460,15,FALSE)","v":0},null,"SmComHP",null,null,null,null,null,null,null,1,"SmComWX"]
["Demand Control Ventilation-New-Warehouse","Demand Control Ventilation-DCV Only-Warehouse-HtPmpHt-Heat-New",{"$f":"VLOOKUP(B92,MMap!$A$11:$O$460,14,FALSE)","v":0.29597286849392801},96,{"$f":"VLOOKUP(B92,MMap!$A$11:$O$460,15,FALSE)","v":0},null,"SmComHP",null,null,null,null,null,null,null,1,"SmComWX"]
["Demand Control Ventilation-New-Supermarket","Demand Control Ventilation-DCV Only-Supermarket-HtPmpHt-Heat-New",{"$f":"VLOOKUP(B93,MMap!$A$11:$O$460,14,FALSE)","v":16.525476404679413},97,{"$f":"VLOOKUP(B93,MMap!$A$11:$O$460,15,FALSE)","v":0},null,"SmComHP",null,null,null,null,null,null,null,1,"SmComWX"]
["Demand Control Ventilation-New-MiniMart","Demand Control Ventilation-DCV Only-MiniMart-HtPmpHt-Heat-New",{"$f":"VLOOKUP(B94,MMap!$A$11:$O$460,14,FALSE)","v":8.8618971259793167},98,{"$f":"VLOOKUP(B94,MMap!$A$11:$O$460,15,FALSE)","v":0},null,"SmComHP",null,null,null,null,null,null,null,1,"SmComWX"]
["Demand Control Ventilation-New-Restaurant","Demand Control Ventilation-DCV Only-Restaurant-HtPmpHt-Heat-New",{"$f":"VLOOKUP(B95,MMap!$A$11:$O$460,14,FALSE)","v":118.32309482795598},99,{"$f":"VLOOKUP(B95,MMap!$A$11:$O$460,15,FALSE)","v":0},null,"SmComHP",null,null,null,null,null,null,null,1,"SmComWX"]
["Demand Control Ventilation-New-Lodging","Demand Control Ventilation-DCV Only-Lodging-HtPmpHt-Heat-New",{"$f":"VLOOKUP(B96,MMap!$A$11:$O$460,14,FALSE)","v":70.802453404342643},100,{"$f":"VLOOKUP(B96,MMap!$A$11:$O$460,15,FALSE)","v":0},null,"SmComCAC",null,null,null,null,null,null,null,1,"SmComWX"]
["Demand Control Ventilation-New-Hospital","Demand Control Ventilation-DCV Only-Hospital-HtPmpHt-Heat-New",{"$f":"VLOOKUP(B97,MMap!$A$11:$O$460,14,FALSE)","v":2.3444811853836174},101,{"$f":"VLOOKUP(B97,MMap!$A$11:$O$460,15,FALSE)","v":0},null,"SmComCAC",null,null,null,null,null,null,null,1,"SmComWX"]
["Demand Control Ventilation-New-Residential Care","Demand Control Ventilation-DCV Only-Residential Care-HtPmpHt-Heat-New",{"$f":"VLOOKUP(B98,MMap!$A$11:$O$460,14,FALSE)","v":52.921096381231038},102,{"$f":"VLOOKUP(B98,MMap!$A$11:$O$460,15,FALSE)","v":0},null,"SmComCAC",null,null,null,null,null,null,null,1,"SmComWX"]
["Demand Control Ventilation-New-Assembly","Demand Control Ventilation-DCV Only-Assembly-HtPmpHt-Heat-New",{"$f":"VLOOKUP(B99,MMap!$A$11:$O$460,14,FALSE)","v":25.976559754110912},103,{"$f":"VLOOKUP(B99,MMap!$A$11:$O$460,15,FALSE)","v":0},null,"SmComCAC",null,null,null,null,null,null,null,1,"SmComWX"]
["Demand Control Ventilation-New-Other","Demand Control Ventilation-DCV Only-Other-HtPmpHt-Heat-New",{"$f":"VLOOKUP(B100,MMap!$A$11:$O$460,14,FALSE)","v":22.705958217509885},104,{"$f":"VLOOKUP(B100,MMap!$A$11:$O$460,15,FALSE)","v":0},null,"SmComCAC",null,null,null,null,null,null,null,1,"SmComWX"]
["Demand Control Ventilation-New-Large Off","Demand Control Ventilation-DOAS-Large Off-ElecHt-Vent-New",{"$f":"VLOOKUP(B101,MMap!$A$11:$O$460,14,FALSE)","v":0},105,{"$f":"VLOOKUP(B101,MMap!$A$11:$O$460,15,FALSE)","v":0},null,"SmComCAC",null,null,null,null,null,null,null,1,"SmComWX"]
["Demand Control Ventilation-New-Medium Off","Demand Control Ventilation-DOAS-Medium Off-ElecHt-Vent-New",{"$f":"VLOOKUP(B102,MMap!$A$11:$O$460,14,FALSE)","v":0},106,{"$f":"VLOOKUP(B102,MMap!$A$11:$O$460,15,FALSE)","v":0},null,"SmComCAC",null,null,null,null,null,null,null,1,"SmComWX"]
["Demand Control Ventilation-New-Small Off","Demand Control Ventilation-DOAS-Small Off-ElecHt-Vent-New",{"$f":"VLOOKUP(B103,MMap!$A$11:$O$460,14,FALSE)","v":0},107,{"$f":"VLOOKUP(B103,MMap!$A$11:$O$460,15,FALSE)","v":0},null,"SmComCAC",null,null,null,null,null,null,null,1,"SmComWX"]
["Demand Control Ventilation-New-Xlarge Ret","Demand Control Ventilation-DOAS-Xlarge Ret-ElecHt-Vent-New",{"$f":"VLOOKUP(B104,MMap!$A$11:$O$460,14,FALSE)","v":20.868459303941318},108,{"$f":"VLOOKUP(B104,MMap!$A$11:$O$460,15,FALSE)","v":24.191354555379146},null,"SmComCAC",null,null,null,null,null,null,null,1,"SmComWX"]
["Demand Control Ventilation-New-Large Ret","Demand Control Ventilation-DOAS-Large Ret-ElecHt-Vent-New",{"$f":"VLOOKUP(B105,MMap!$A$11:$O$460,14,FALSE)","v":2.7984900867793616},109,{"$f":"VLOOKUP(B105,MMap!$A$11:$O$460,15,FALSE)","v":3.2440950682069412},null,"SmComCAC",null,null,null,null,null,null,null,1,"SmComWX"]
["Demand Control Ventilation-New-Medium Ret","Demand Control Ventilation-DOAS-Medium Ret-ElecHt-Vent-New",{"$f":"VLOOKUP(B106,MMap!$A$11:$O$460,14,FALSE)","v":17.445779829857127},110,{"$f":"VLOOKUP(B106,MMap!$A$11:$O$460,15,FALSE)","v":21.563272034237997},null,"SmComCAC",null,null,null,null,null,null,null,1,"SmComWX"]
["Demand Control Ventilation-New-Small Ret","Demand Control Ventilation-DOAS-Small Ret-ElecHt-Vent-New",{"$f":"VLOOKUP(B107,MMap!$A$11:$O$460,14,FALSE)","v":23.54215869651928},111,{"$f":"VLOOKUP(B107,MMap!$A$11:$O$460,15,FALSE)","v":29.098497011721403},null,"SmComCAC",null,null,null,null,null,null,null,1,"SmComWX"]
["Demand Control Ventilation-New-School K-12","Demand Control Ventilation-DOAS-School K-12-ElecHt-Vent-New",{"$f":"VLOOKUP(B108,MMap!$A$11:$O$460,14,FALSE)","v":0},112,{"$f":"VLOOKUP(B108,MMap!$A$11:$O$460,15,FALSE)","v":0},null,"SmComCAC",null,null,null,null,null,null,null,1,"SmComWX"]
["Demand Control Ventilation-New-University","Demand Control Ventilation-DOAS-University-ElecHt-Vent-New",{"$f":"VLOOKUP(B109,MMap!$A$11:$O$460,14,FALSE)","v":0},113,{"$f":"VLOOKUP(B109,MMap!$A$11:$O$460,15,FALSE)","v":0},null,"SmComCAC",null,null,null,null,null,null,null,1,"SmComWX"]
["Demand Control Ventilation-New-Warehouse","Demand Control Ventilation-DOAS-Warehouse-ElecHt-Vent-New",{"$f":"VLOOKUP(B110,MMap!$A$11:$O$460,14,FALSE)","v":0},114,{"$f":"VLOOKUP(B110,MMap!$A$11:$O$460,15,FALSE)","v":0},null,"SmComCAC",null,null,null,null,null,null,null,1,"SmComWX"]
["Demand Control Ventilation-New-Supermarket","Demand Control Ventilation-DOAS-Supermarket-ElecHt-Vent-New",{"$f":"VLOOKUP(B111,MMap!$A$11:$O$460,14,FALSE)","v":14.418270845831143},115,{"$f":"VLOOKUP(B111,MMap!$A$11:$O$460,15,FALSE)","v":16.714099350933491},null,"SmComCAC",null,null,null,null,null,null,null,1,"SmComWX"]
["Demand Control Ventilation-New-MiniMart","Demand Control Ventilation-DOAS-MiniMart-ElecHt-Vent-New",{"$f":"VLOOKUP(B112,MMap!$A$11:$O$460,14,FALSE)","v":1.4201438082530893},116,{"$f":"VLOOKUP(B112,MMap!$A$11:$O$460,15,FALSE)","v":1.646274019787765},null,"SmComCAC",null,null,null,null,null,null,null,1,"SmComWX"]
["Demand Control Ventilation-New-Restaurant","Demand Control Ventilation-DOAS-Restaurant-ElecHt-Vent-New",{"$f":"VLOOKUP(B113,MMap!$A$11:$O$460,14,FALSE)","v":5.1429181118069831},117,{"$f":"VLOOKUP(B113,MMap!$A$11:$O$460,15,FALSE)","v":5.9618275446192772},null,"ExCOMM",null,null,null,null,null,null,null,1,"SmComWX"]
["Demand Control Ventilation-New-Lodging","Demand Control Ventilation-DOAS-Lodging-ElecHt-Vent-New",{"$f":"VLOOKUP(B114,MMap!$A$11:$O$460,14,FALSE)","v":0},118,{"$f":"VLOOKUP(B114,MMap!$A$11:$O$460,15,FALSE)","v":0},null,"ExCOMM",null,null,null,null,null,null,null,1,"SmComWX"]
["Demand Control Ventilation-New-Hospital","Demand Control Ventilation-DOAS-Hospital-ElecHt-Vent-New",{"$f":"VLOOKUP(B115,MMap!$A$11:$O$460,14,FALSE)","v":0},119,{"$f":"VLOOKUP(B115,MMap!$A$11:$O$460,15,FALSE)","v":0},null,"ExCOMM",null,null,null,null,null,null,null,1,"SmComWX"]
["Demand Control Ventilation-New-Residential Care","Demand Control Ventilation-DOAS-Residential Care-ElecHt-Vent-New",{"$f":"VLOOKUP(B116,MMap!$A$11:$O$460,14,FALSE)","v":0},120,{"$f":"VLOOKUP(B116,MMap!$A$11:$O$460,15,FALSE)","v":0},null,"ExCOMM",null,null,null,null,null,null,null,1,"SmComWX"]
["Demand Control Ventilation-New-Assembly","Demand Control Ventilation-DOAS-Assembly-ElecHt-Vent-New",{"$f":"VLOOKUP(B117,MMap!$A$11:$O$460,14,FALSE)","v":0},121,{"$f":"VLOOKUP(B117,MMap!$A$11:$O$460,15,FALSE)","v":0},null,"ExCOMM",null,null,null,null,null,null,null,1,"SmComWX"]
["Demand Control Ventilation-New-Other","Demand Control Ventilation-DOAS-Other-ElecHt-Vent-New",{"$f":"VLOOKUP(B118,MMap!$A$11:$O$460,14,FALSE)","v":0},122,{"$f":"VLOOKUP(B118,MMap!$A$11:$O$460,15,FALSE)","v":0},null,"ExCOMM",null,null,null,null,null,null,null,1,"SmComWX"]
["Demand Control Ventilation-New-Large Off","Demand Control Ventilation-DOAS-Large Off-ElecHt-Heat-New",{"$f":"VLOOKUP(B119,MMap!$A$11:$O$460,14,FALSE)","v":0},123,{"$f":"VLOOKUP(B119,MMap!$A$11:$O$460,15,FALSE)","v":0},null,"ExCOMM",null,null,null,null,null,null,null,1,"SmComWX"]
["Demand Control Ventilation-New-Medium Off","Demand Control Ventilation-DOAS-Medium Off-ElecHt-Heat-New",{"$f":"VLOOKUP(B120,MMap!$A$11:$O$460,14,FALSE)","v":0},124,{"$f":"VLOOKUP(B120,MMap!$A$11:$O$460,15,FALSE)","v":0},null,"ExCOMM",null,null,null,null,null,null,null,1,"SmComWX"]
["Demand Control Ventilation-New-Small Off","Demand Control Ventilation-DOAS-Small Off-ElecHt-Heat-New",{"$f":"VLOOKUP(B121,MMap!$A$11:$O$460,14,FALSE)","v":0},125,{"$f":"VLOOKUP(B121,MMap!$A$11:$O$460,15,FALSE)","v":0},null,"ExCOMM",null,null,null,null,null,null,null,1,"SmComWX"]
["Demand Control Ventilation-New-Xlarge Ret","Demand Control Ventilation-DOAS-Xlarge Ret-ElecHt-Heat-New",{"$f":"VLOOKUP(B122,MMap!$A$11:$O$460,14,FALSE)","v":119.29686092005944},126,{"$f":"VLOOKUP(B122,MMap!$A$11:$O$460,15,FALSE)","v":0},null,"ExCOMM",null,null,null,null,null,null,null,1,"SmComWX"]
["Demand Control Ventilation-New-Large Ret","Demand Control Ventilation-DOAS-Large Ret-ElecHt-Heat-New",{"$f":"VLOOKUP(B123,MMap!$A$11:$O$460,14,FALSE)","v":15.997878799113352},127,{"$f":"VLOOKUP(B123,MMap!$A$11:$O$460,15,FALSE)","v":0},null,"ExCOMM",null,null,null,null,null,null,null,1,"SmComWX"]
["Demand Control Ventilation-New-Medium Ret","Demand Control Ventilation-DOAS-Medium Ret-ElecHt-Heat-New",{"$f":"VLOOKUP(B124,MMap!$A$11:$O$460,14,FALSE)","v":51.911118135784037},128,{"$f":"VLOOKUP(B124,MMap!$A$11:$O$460,15,FALSE)","v":0},null,"ExCOMM",null,null,null,null,null,null,null,1,"SmComWX"]
["Demand Control Ventilation-New-Small Ret","Demand Control Ventilation-DOAS-Small Ret-ElecHt-Heat-New",{"$f":"VLOOKUP(B125,MMap!$A$11:$O$460,14,FALSE)","v":70.051312878250187},129,{"$f":"VLOOKUP(B125,MMap!$A$11:$O$460,15,FALSE)","v":0},null,"ExCOMM",null,null,null,null,null,null,null,1,"SmComWX"]
["Demand Control Ventilation-New-School K-12","Demand Control Ventilation-DOAS-School K-12-ElecHt-Heat-New",{"$f":"VLOOKUP(B126,MMap!$A$11:$O$460,14,FALSE)","v":0},130,{"$f":"VLOOKUP(B126,MMap!$A$11:$O$460,15,FALSE)","v":0},null,"ExCOMM",null,null,null,null,null,null,null,1,"SmComWX"]
["Demand Control Ventilation-New-University","Demand Control Ventilation-DOAS-University-ElecHt-Heat-New",{"$f":"VLOOKUP(B127,MMap!$A$11:$O$460,14,FALSE)","v":0},131,{"$f":"VLOOKUP(B127,MMap!$A$11:$O$460,15,FALSE)","v":0},null,"ExCOMM",null,null,null,null,null,null,null,1,"SmComWX"]
["Demand Control Ventilation-New-Warehouse","Demand Control Ventilation-DOAS-Warehouse-ElecHt-Heat-New",{"$f":"VLOOKUP(B128,MMap!$A$11:$O$460,14,FALSE)","v":0},132,{"$f":"VLOOKUP(B128,MMap!$A$11:$O$460,15,FALSE)","v":0},null,"ExCOMM",null,null,null,null,null,null,null,1,"SmComWX"]
["Demand Control Ventilation-New-Supermarket","Demand Control Ventilation-DOAS-Supermarket-ElecHt-Heat-New",{"$f":"VLOOKUP(B129,MMap!$A$11:$O$460,14,FALSE)","v":82.423643583405706},133,{"$f":"VLOOKUP(B129,MMap!$A$11:$O$460,15,FALSE)","v":0},null,"ExCOMM",null,null,null,null,null,null,null,1,"SmComWX"]
["Demand Control Ventilation-New-MiniMart","Demand Control Ventilation-DOAS-MiniMart-ElecHt-Heat-New",{"$f":"VLOOKUP(B130,MMap!$A$11:$O$460,14,FALSE)","v":8.1184095055668593},134,{"$f":"VLOOKUP(B130,MMap!$A$11:$O$460,15,FALSE)","v":0},null,"SmComCAC",null,null,null,null,null,null,null,1,"SmComWX"]
["Demand Control Ventilation-New-Restaurant","Demand Control Ventilation-DOAS-Restaurant-ElecHt-Heat-New",{"$f":"VLOOKUP(B131,MMap!$A$11:$O$460,14,FALSE)","v":29.400061488565058},135,{"$f":"VLOOKUP(B131,MMap!$A$11:$O$460,15,FALSE)","v":0},null,"SmComCAC",null,null,null,null,null,null,null,1,"SmComWX"]
["Demand Control Ventilation-New-Lodging","Demand Control Ventilation-DOAS-Lodging-ElecHt-Heat-New",{"$f":"VLOOKUP(B132,MMap!$A$11:$O$460,14,FALSE)","v":0},136,{"$f":"VLOOKUP(B132,MMap!$A$11:$O$460,15,FALSE)","v":0},null,"SmComCAC",null,null,null,null,null,null,null,1,"SmComWX"]
["Demand Control Ventilation-New-Hospital","Demand Control Ventilation-DOAS-Hospital-ElecHt-Heat-New",{"$f":"VLOOKUP(B133,MMap!$A$11:$O$460,14,FALSE)","v":0},137,{"$f":"VLOOKUP(B133,MMap!$A$11:$O$460,15,FALSE)","v":0},null,"SmComCAC",null,null,null,null,null,null,null,1,"SmComWX"]
["Demand Control Ventilation-New-Residential Care","Demand Control Ventilation-DOAS-Residential Care-ElecHt-Heat-New",{"$f":"VLOOKUP(B134,MMap!$A$11:$O$460,14,FALSE)","v":0},138,{"$f":"VLOOKUP(B134,MMap!$A$11:$O$460,15,FALSE)","v":0},null,"SmComCAC",null,null,null,null,null,null,null,1,"SmComWX"]
["Demand Control Ventilation-New-Assembly","Demand Control Ventilation-DOAS-Assembly-ElecHt-Heat-New",{"$f":"VLOOKUP(B135,MMap!$A$11:$O$460,14,FALSE)","v":0},139,{"$f":"VLOOKUP(B135,MMap!$A$11:$O$460,15,FALSE)","v":0},null,"SmComCAC",null,null,null,null,null,null,null,1,"SmComWX"]
["Demand Control Ventilation-New-Other","Demand Control Ventilation-DOAS-Other-ElecHt-Heat-New",{"$f":"VLOOKUP(B136,MMap!$A$11:$O$460,14,FALSE)","v":0},140,{"$f":"VLOOKUP(B136,MMap!$A$11:$O$460,15,FALSE)","v":0},null,"SmComCAC",null,null,null,null,null,null,null,1,"SmComWX"]
["Demand Control Ventilation-New-Large Off","Demand Control Ventilation-DOAS-Large Off-GasHt-Vent-New",{"$f":"VLOOKUP(B137,MMap!$A$11:$O$460,14,FALSE)","v":0},141,{"$f":"VLOOKUP(B137,MMap!$A$11:$O$460,15,FALSE)","v":0},null,"SmComCAC",null,null,null,null,null,null,null,1,"SmComWX"]
["Demand Control Ventilation-New-Medium Off","Demand Control Ventilation-DOAS-Medium Off-GasHt-Vent-New",{"$f":"VLOOKUP(B138,MMap!$A$11:$O$460,14,FALSE)","v":0},142,{"$f":"VLOOKUP(B138,MMap!$A$11:$O$460,15,FALSE)","v":0},null,"SmComCAC",null,null,null,null,null,null,null,1,"SmComWX"]
["Demand Control Ventilation-New-Small Off","Demand Control Ventilation-DOAS-Small Off-GasHt-Vent-New",{"$f":"VLOOKUP(B139,MMap!$A$11:$O$460,14,FALSE)","v":0},143,{"$f":"VLOOKUP(B139,MMap!$A$11:$O$460,15,FALSE)","v":0},null,"SmComCAC",null,null,null,null,null,null,null,1,"SmComWX"]
["Demand Control Ventilation-New-Xlarge Ret","Demand Control Ventilation-DOAS-Xlarge Ret-GasHt-Vent-New",{"$f":"VLOOKUP(B140,MMap!$A$11:$O$460,14,FALSE)","v":360.72450410633644},144,{"$f":"VLOOKUP(B140,MMap!$A$11:$O$460,15,FALSE)","v":418.16284798761319},null,"SmComCAC",null,null,null,null,null,null,null,1,"SmComWX"]
["Demand Control Ventilation-New-Large Ret","Demand Control Ventilation-DOAS-Large Ret-GasHt-Vent-New",{"$f":"VLOOKUP(B141,MMap!$A$11:$O$460,14,FALSE)","v":259.74813867560323},145,{"$f":"VLOOKUP(B141,MMap!$A$11:$O$460,15,FALSE)","v":301.10796519676688},null,"SmComCAC",null,null,null,null,null,null,null,1,"SmComWX"]
["Demand Control Ventilation-New-Medium Ret","Demand Control Ventilation-DOAS-Medium Ret-GasHt-Vent-New",{"$f":"VLOOKUP(B142,MMap!$A$11:$O$460,14,FALSE)","v":117.67601861681753},146,{"$f":"VLOOKUP(B142,MMap!$A$11:$O$460,15,FALSE)","v":145.44950275010279},null,"SmComCAC",null,null,null,null,null,null,null,1,"SmComWX"]
["Demand Control Ventilation-New-Small Ret","Demand Control Ventilation-DOAS-Small Ret-GasHt-Vent-New",{"$f":"VLOOKUP(B143,MMap!$A$11:$O$460,14,FALSE)","v":48.85785652998976},147,{"$f":"VLOOKUP(B143,MMap!$A$11:$O$460,15,FALSE)","v":60.389117691540228},null,"SmComCAC",null,null,null,null,null,null,null,1,"SmComWX"]
["Demand Control Ventilation-New-School K-12","Demand Control Ventilation-DOAS-School K-12-GasHt-Vent-New",{"$f":"VLOOKUP(B144,MMap!$A$11:$O$460,14,FALSE)","v":0},148,{"$f":"VLOOKUP(B144,MMap!$A$11:$O$460,15,FALSE)","v":0},null,"SmComCAC",null,null,null,null,null,null,null,1,"SmComWX"]
["Demand Control Ventilation-New-University","Demand Control Ventilation-DOAS-University-GasHt-Vent-New",{"$f":"VLOOKUP(B145,MMap!$A$11:$O$460,14,FALSE)","v":0},149,{"$f":"VLOOKUP(B145,MMap!$A$11:$O$460,15,FALSE)","v":0},null,"SmComCAC",null,null,null,null,null,null,null,1,"SmComWX"]
["Demand Control Ventilation-New-Warehouse","Demand Control Ventilation-DOAS-Warehouse-GasHt-Vent-New",{"$f":"VLOOKUP(B146,MMap!$A$11:$O$460,14,FALSE)","v":0},150,{"$f":"VLOOKUP(B146,MMap!$A$11:$O$460,15,FALSE)","v":0},null,"SmComCAC",null,null,null,null,null,null,null,1,"SmComWX"]
["Demand Control Ventilation-New-Supermarket","Demand Control Ventilation-DOAS-Supermarket-GasHt-Vent-New",{"$f":"VLOOKUP(B147,MMap!$A$11:$O$460,14,FALSE)","v":172.79122120377443},151,{"$f":"VLOOKUP(B147,MMap!$A$11:$O$460,15,FALSE)","v":200.30485410142327},null,"SmComHP",null,null,null,null,null,null,null,1,"SmComWX"]
["Demand Control Ventilation-New-MiniMart","Demand Control Ventilation-DOAS-MiniMart-GasHt-Vent-New",{"$f":"VLOOKUP(B148,MMap!$A$11:$O$460,14,FALSE)","v":124.31030001850591},152,{"$f":"VLOOKUP(B148,MMap!$A$11:$O$460,15,FALSE)","v":144.10429149722953},null,"SmComHP",null,null,null,null,null,null,null,1,"SmComWX"]
["Demand Control Ventilation-New-Restaurant","Demand Control Ventilation-DOAS-Restaurant-GasHt-Vent-New",{"$f":"VLOOKUP(B149,MMap!$A$11:$O$460,14,FALSE)","v":135.82749090803065},153,{"$f":"VLOOKUP(B149,MMap!$A$11:$O$460,15,FALSE)","v":157.45537047400163},null,"SmComHP",null,null,null,null,null,null,null,1,"SmComWX"]
["Demand Control Ventilation-New-Lodging","Demand Control Ventilation-DOAS-Lodging-GasHt-Vent-New",{"$f":"VLOOKUP(B150,MMap!$A$11:$O$460,14,FALSE)","v":0},154,{"$f":"VLOOKUP(B150,MMap!$A$11:$O$460,15,FALSE)","v":0},null,"SmComHP",null,null,null,null,null,null,null,1,"SmComWX"]
["Demand Control Ventilation-New-Hospital","Demand Control Ventilation-DOAS-Hospital-GasHt-Vent-New",{"$f":"VLOOKUP(B151,MMap!$A$11:$O$460,14,FALSE)","v":0},155,{"$f":"VLOOKUP(B151,MMap!$A$11:$O$460,15,FALSE)","v":0},null,"SmComHP",null,null,null,null,null,null,null,1,"SmComWX"]
["Demand Control Ventilation-New-Residential Care","Demand Control Ventilation-DOAS-Residential Care-GasHt-Vent-New",{"$f":"VLOOKUP(B152,MMap!$A$11:$O$460,14,FALSE)","v":0},156,{"$f":"VLOOKUP(B152,MMap!$A$11:$O$460,15,FALSE)","v":0},null,"SmComHP",null,null,null,null,null,null,null,1,"SmComWX"]
["Demand Control Ventilation-New-Assembly","Demand Control Ventilation-DOAS-Assembly-GasHt-Vent-New",{"$f":"VLOOKUP(B153,MMap!$A$11:$O$460,14,FALSE)","v":0},157,{"$f":"VLOOKUP(B153,MMap!$A$11:$O$460,15,FALSE)","v":0},null,"SmComHP",null,null,null,null,null,null,null,1,"SmComWX"]
["Demand Control Ventilation-New-Other","Demand Control Ventilation-DOAS-Other-GasHt-Vent-New",{"$f":"VLOOKUP(B154,MMap!$A$11:$O$460,14,FALSE)","v":0},158,{"$f":"VLOOKUP(B154,MMap!$A$11:$O$460,15,FALSE)","v":0},null,"SmComHP",null,null,null,null,null,null,null,1,"SmComWX"]
["Demand Control Ventilation-New-Large Off","Demand Control Ventilation-DOAS-Large Off-HtPmpHt-Vent-New",{"$f":"VLOOKUP(B155,MMap!$A$11:$O$460,14,FALSE)","v":0},159,{"$f":"VLOOKUP(B155,MMap!$A$11:$O$460,15,FALSE)","v":0},null,"SmComHP",null,null,null,null,null,null,null,1,"SmComWX"]
["Demand Control Ventilation-New-Medium Off","Demand Control Ventilation-DOAS-Medium Off-HtPmpHt-Vent-New",{"$f":"VLOOKUP(B156,MMap!$A$11:$O$460,14,FALSE)","v":0},160,{"$f":"VLOOKUP(B156,MMap!$A$11:$O$460,15,FALSE)","v":0},null,"SmComHP",null,null,null,null,null,null,null,1,"SmComWX"]
["Demand Control Ventilation-New-Small Off","Demand Control Ventilation-DOAS-Small Off-HtPmpHt-Vent-New",{"$f":"VLOOKUP(B157,MMap!$A$11:$O$460,14,FALSE)","v":0},161,{"$f":"VLOOKUP(B157,MMap!$A$11:$O$460,15,FALSE)","v":0},null,"SmComHP",null,null,null,null,null,null,null,1,"SmComWX"]
["Demand Control Ventilation-New-Xlarge Ret","Demand Control Ventilation-DOAS-Xlarge Ret-HtPmpHt-Vent-New",{"$f":"VLOOKUP(B158,MMap!$A$11:$O$460,14,FALSE)","v":11.749294709367279},162,{"$f":"VLOOKUP(B158,MMap!$A$11:$O$460,15,FALSE)","v":14.121918790280827},null,"SmComHP",null,null,null,null,null,null,null,1,"SmComWX"]
["Demand Control Ventilation-New-Large Ret","Demand Control Ventilation-DOAS-Large Ret-HtPmpHt-Vent-New",{"$f":"VLOOKUP(B159,MMap!$A$11:$O$460,14,FALSE)","v":1.5755971388172194},163,{"$f":"VLOOKUP(B159,MMap!$A$11:$O$460,15,FALSE)","v":1.8937694041188813},null,"SmComHP",null,null,null,null,null,null,null,1,"SmComWX"]
["Demand Control Ventilation-New-Medium Ret","Demand Control Ventilation-DOAS-Medium Ret-HtPmpHt-Vent-New",{"$f":"VLOOKUP(B160,MMap!$A$11:$O$460,14,FALSE)","v":10.472883502597615},164,{"$f":"VLOOKUP(B160,MMap!$A$11:$O$460,15,FALSE)","v":12.587752199784582},null,"SmComHP",null,null,null,null,null,null,null,1,"SmComWX"]
["Demand Control Ventilation-New-Small Ret","Demand Control Ventilation-DOAS-Small Ret-HtPmpHt-Vent-New",{"$f":"VLOOKUP(B161,MMap!$A$11:$O$460,14,FALSE)","v":14.132603290473311},165,{"$f":"VLOOKUP(B161,MMap!$A$11:$O$460,15,FALSE)","v":16.986506926598949},null,"SmComHP",null,null,null,null,null,null,null,1,"SmComWX"]
["Demand Control Ventilation-New-School K-12","Demand Control Ventilation-DOAS-School K-12-HtPmpHt-Vent-New",{"$f":"VLOOKUP(B162,MMap!$A$11:$O$460,14,FALSE)","v":0},166,{"$f":"VLOOKUP(B162,MMap!$A$11:$O$460,15,FALSE)","v":0},null,"SmComHP",null,null,null,null,null,null,null,1,"SmComWX"]
["Demand Control Ventilation-New-University","Demand Control Ventilation-DOAS-University-HtPmpHt-Vent-New",{"$f":"VLOOKUP(B163,MMap!$A$11:$O$460,14,FALSE)","v":0},167,{"$f":"VLOOKUP(B163,MMap!$A$11:$O$460,15,FALSE)","v":0},null,"SmComHP",null,null,null,null,null,null,null,1,"SmComWX"]
["Demand Control Ventilation-New-Warehouse","Demand Control Ventilation-DOAS-Warehouse-HtPmpHt-Vent-New",{"$f":"VLOOKUP(B164,MMap!$A$11:$O$460,14,FALSE)","v":0},168,{"$f":"VLOOKUP(B164,MMap!$A$11:$O$460,15,FALSE)","v":0},null,"SmComHP",null,null,null,null,null,null,null,1,"SmComWX"]
["Demand Control Ventilation-New-Supermarket","Demand Control Ventilation-DOAS-Supermarket-HtPmpHt-Vent-New",{"$f":"VLOOKUP(B165,MMap!$A$11:$O$460,14,FALSE)","v":22.127224793523002},169,{"$f":"VLOOKUP(B165,MMap!$A$11:$O$460,15,FALSE)","v":26.595542908570703},null,"SmComHP",null,null,null,null,null,null,null,1,"SmComWX"]
["Demand Control Ventilation-New-MiniMart","Demand Control Ventilation-DOAS-MiniMart-HtPmpHt-Vent-New",{"$f":"VLOOKUP(B166,MMap!$A$11:$O$460,14,FALSE)","v":2.1794459002989068},170,{"$f":"VLOOKUP(B166,MMap!$A$11:$O$460,15,FALSE)","v":2.6195579201271983},null,"SmComHP",null,null,null,null,null,null,null,1,"SmComWX"]
["Demand Control Ventilation-New-Restaurant","Demand Control Ventilation-DOAS-Restaurant-HtPmpHt-Vent-New",{"$f":"VLOOKUP(B167,MMap!$A$11:$O$460,14,FALSE)","v":29.099726646281699},171,{"$f":"VLOOKUP(B167,MMap!$A$11:$O$460,15,FALSE)","v":34.976054876768963},null,"SmComHP",null,null,null,null,null,null,null,1,"SmComWX"]
["Demand Control Ventilation-New-Lodging","Demand Control Ventilation-DOAS-Lodging-HtPmpHt-Vent-New",{"$f":"VLOOKUP(B168,MMap!$A$11:$O$460,14,FALSE)","v":0},172,{"$f":"VLOOKUP(B168,MMap!$A$11:$O$460,15,FALSE)","v":0},null,"SmComHP",null,null,null,null,null,null,null,1,"SmComWX"]
["Demand Control Ventilation-New-Hospital","Demand Control Ventilation-DOAS-Hospital-HtPmpHt-Vent-New",{"$f":"VLOOKUP(B169,MMap!$A$11:$O$460,14,FALSE)","v":0},173,{"$f":"VLOOKUP(B169,MMap!$A$11:$O$460,15,FALSE)","v":0},null,"SmComHP",null,null,null,null,null,null,null,1,"SmComWX"]
["Demand Control Ventilation-New-Residential Care","Demand Control Ventilation-DOAS-Residential Care-HtPmpHt-Vent-New",{"$f":"VLOOKUP(B170,MMap!$A$11:$O$460,14,FALSE)","v":0},174,{"$f":"VLOOKUP(B170,MMap!$A$11:$O$460,15,FALSE)","v":0},null,"SmComHP",null,null,null,null,null,null,null,1,"SmComWX"]
["Demand Control Ventilation-New-Assembly","Demand Control Ventilation-DOAS-Assembly-HtPmpHt-Vent-New",{"$f":"VLOOKUP(B171,MMap!$A$11:$O$460,14,FALSE)","v":0},175,{"$f":"VLOOKUP(B171,MMap!$A$11:$O$460,15,FALSE)","v":0},null,"SmComHP",null,null,null,null,null,null,null,1,"SmComWX"]
["Demand Control Ventilation-New-Other","Demand Control Ventilation-DOAS-Other-HtPmpHt-Vent-New",{"$f":"VLOOKUP(B172,MMap!$A$11:$O$460,14,FALSE)","v":0},176,{"$f":"VLOOKUP(B172,MMap!$A$11:$O$460,15,FALSE)","v":0},null,"SmComHP",null,null,null,null,null,null,null,1,"SmComWX"]
["Demand Control Ventilation-New-Large Off","Demand Control Ventilation-DOAS-Large Off-HtPmpHt-Heat-New",{"$f":"VLOOKUP(B173,MMap!$A$11:$O$460,14,FALSE)","v":0},177,{"$f":"VLOOKUP(B173,MMap!$A$11:$O$460,15,FALSE)","v":0},null,"SmComHP",null,null,null,null,null,null,null,1,"SmComWX"]
["Demand Control Ventilation-New-Medium Off","Demand Control Ventilation-DOAS-Medium Off-HtPmpHt-Heat-New",{"$f":"VLOOKUP(B174,MMap!$A$11:$O$460,14,FALSE)","v":0},178,{"$f":"VLOOKUP(B174,MMap!$A$11:$O$460,15,FALSE)","v":0},null,"SmComHP",null,null,null,null,null,null,null,1,"SmComWX"]
["Demand Control Ventilation-New-Small Off","Demand Control Ventilation-DOAS-Small Off-HtPmpHt-Heat-New",{"$f":"VLOOKUP(B175,MMap!$A$11:$O$460,14,FALSE)","v":0},179,{"$f":"VLOOKUP(B175,MMap!$A$11:$O$460,15,FALSE)","v":0},null,"SmComHP",null,null,null,null,null,null,null,1,"SmComWX"]
["Demand Control Ventilation-New-Xlarge Ret","Demand Control Ventilation-DOAS-Xlarge Ret-HtPmpHt-Heat-New",{"$f":"VLOOKUP(B176,MMap!$A$11:$O$460,14,FALSE)","v":33.162193149305402},180,{"$f":"VLOOKUP(B176,MMap!$A$11:$O$460,15,FALSE)","v":0},null,"SmComHP",null,null,null,null,null,null,null,1,"SmComWX"]
["Demand Control Ventilation-New-Large Ret","Demand Control Ventilation-DOAS-Large Ret-HtPmpHt-Heat-New",{"$f":"VLOOKUP(B177,MMap!$A$11:$O$460,14,FALSE)","v":4.4470972884263755},181,{"$f":"VLOOKUP(B177,MMap!$A$11:$O$460,15,FALSE)","v":0},null,"SmComHP",null,null,null,null,null,null,null,1,"SmComWX"]
["Demand Control Ventilation-New-Medium Ret","Demand Control Ventilation-DOAS-Medium Ret-HtPmpHt-Heat-New",{"$f":"VLOOKUP(B178,MMap!$A$11:$O$460,14,FALSE)","v":14.430275138327778},182,{"$f":"VLOOKUP(B178,MMap!$A$11:$O$460,15,FALSE)","v":0},null,"SmComHP",null,null,null,null,null,null,null,1,"SmComWX"]
["Demand Control Ventilation-New-Small Ret","Demand Control Ventilation-DOAS-Small Ret-HtPmpHt-Heat-New",{"$f":"VLOOKUP(B179,MMap!$A$11:$O$460,14,FALSE)","v":19.472894342019874},183,{"$f":"VLOOKUP(B179,MMap!$A$11:$O$460,15,FALSE)","v":0},null,"SmComHP",null,null,null,null,null,null,null,1,"SmComWX"]
["Demand Control Ventilation-New-School K-12","Demand Control Ventilation-DOAS-School K-12-HtPmpHt-Heat-New",{"$f":"VLOOKUP(B180,MMap!$A$11:$O$460,14,FALSE)","v":0},184,{"$f":"VLOOKUP(B180,MMap!$A$11:$O$460,15,FALSE)","v":0},null,"SmComHP",null,null,null,null,null,null,null,1,"SmComWX"]
["Demand Control Ventilation-New-University","Demand Control Ventilation-DOAS-University-HtPmpHt-Heat-New",{"$f":"VLOOKUP(B181,MMap!$A$11:$O$460,14,FALSE)","v":0},185,{"$f":"VLOOKUP(B181,MMap!$A$11:$O$460,15,FALSE)","v":0}]
["Demand Control Ventilation-New-Warehouse","Demand Control Ventilation-DOAS-Warehouse-HtPmpHt-Heat-New",{"$f":"VLOOKUP(B182,MMap!$A$11:$O$460,14,FALSE)","v":0},186,{"$f":"VLOOKUP(B182,MMap!$A$11:$O$460,15,FALSE)","v":0}]
["Demand Control Ventilation-New-Supermarket","Demand Control Ventilation-DOAS-Supermarket-HtPmpHt-Heat-New",{"$f":"VLOOKUP(B183,MMap!$A$11:$O$460,14,FALSE)","v":62.453731956854185},187,{"$f":"VLOOKUP(B183,MMap!$A$11:$O$460,15,FALSE)","v":0}]
["Demand Control Ventilation-New-MiniMart","Demand Control Ventilation-DOAS-MiniMart-HtPmpHt-Heat-New",{"$f":"VLOOKUP(B184,MMap!$A$11:$O$460,14,FALSE)","v":6.151450592736583},188,{"$f":"VLOOKUP(B184,MMap!$A$11:$O$460,15,FALSE)","v":0}]
["Demand Control Ventilation-New-Restaurant","Demand Control Ventilation-DOAS-Restaurant-HtPmpHt-Heat-New",{"$f":"VLOOKUP(B185,MMap!$A$11:$O$460,14,FALSE)","v":82.133504989590151},189,{"$f":"VLOOKUP(B185,MMap!$A$11:$O$460,15,FALSE)","v":0}]
["Demand Control Ventilation-New-Lodging","Demand Control Ventilation-DOAS-Lodging-HtPmpHt-Heat-New",{"$f":"VLOOKUP(B186,MMap!$A$11:$O$460,14,FALSE)","v":0},190,{"$f":"VLOOKUP(B186,MMap!$A$11:$O$460,15,FALSE)","v":0}]
["Demand Control Ventilation-New-Hospital","Demand Control Ventilation-DOAS-Hospital-HtPmpHt-Heat-New",{"$f":"VLOOKUP(B187,MMap!$A$11:$O$460,14,FALSE)","v":0},191,{"$f":"VLOOKUP(B187,MMap!$A$11:$O$460,15,FALSE)","v":0}]
["Demand Control Ventilation-New-Residential Care","Demand Control Ventilation-DOAS-Residential Care-HtPmpHt-Heat-New",{"$f":"VLOOKUP(B188,MMap!$A$11:$O$460,14,FALSE)","v":0},192,{"$f":"VLOOKUP(B188,MMap!$A$11:$O$460,15,FALSE)","v":0}]
["Demand Control Ventilation-New-Assembly","Demand Control Ventilation-DOAS-Assembly-HtPmpHt-Heat-New",{"$f":"VLOOKUP(B189,MMap!$A$11:$O$460,14,FALSE)","v":0},193,{"$f":"VLOOKUP(B189,MMap!$A$11:$O$460,15,FALSE)","v":0},null,"Marginal Cost & Conservation Load Shape Parameters",null,null,null,null,null,null,null,null,null,"Sponsor Parameters",null,null,null,null,null,null,null,"Program Parameters",null,null,"Program",null,"Utility System Parameters",null,null,null,"Electric","Gas"]
["Demand Control Ventilation-New-Other","Demand Control Ventilation-DOAS-Other-HtPmpHt-Heat-New",{"$f":"VLOOKUP(B190,MMap!$A$11:$O$460,14,FALSE)","v":0},194,{"$f":"VLOOKUP(B190,MMap!$A$11:$O$460,15,FALSE)","v":0},null,"Marginal Costs and Savings Shape File",null,null,null,"Q:\\CG\\Main\\ProCostGas\\MC files\\MC_AND_LOADSHAPE_6P.XLS",null,null,null,null,null,null,null,null,"Customer","Wholesale Elec","Retail Elec","Nat Gas",null,"Program Life (yrs)",null,null,20,null,"Bulk System T&D Loss Factor by Time Segment",null,null,null,"WECCTrans","Flat1.0"]
[]
[]
[]
[]
[]
[]
[]
[]
[]
[]
[]
[]
[]
[]
[]
["Measure Results; Sorted in same order as input"]
["Total Results",null,"Measure Input Data",null,null,null,null,null,null,null,null,"Savings",null,null,null,null,null,"PV Capital",null,null,null,"PV Admin",null,null,null,"PV O&M",null,null,null,"PV Periodic Repl.",null,null,null,"Total PV Capital, O&M and Periodic Repl Costs",null,null,null,null,"PV Wholesale Electric Utility Costs & Benefits",null,null,null,null,null,null,"PV Retail Electric Utility Costs & Benefits",null,null,null,null,null,null,"PV Electric Utility System Costs & Benefits",null,null,null,null,null,"Electric Utility System Economics",null,"Sponsor Levelized Cost (mills/kwh)",null,null,null,null,"PV Regional Costs & Benefits",null,null,null,null,null,null,null,null,null,null,null,null,null,null,null,"TRC Economics",null,"Physical CO2",null,null,null,null,null,null,"Gas Inputs",null,null,null,"PV Gas Utility System Costs & Benefits",null,null,null,null,"Gas Utility System Economics"]
["Category","Measure","Measure Life","Site Savings (kWh)","Site Savings (therms)","Capital Cost ($/unit)","Annual O&M Cost ($/unit)","PV Per. Repl. Cost ($/unit)","Load Shape (electric)","Diversified Load Factor (electric)","Wholesale Power Coincidence Factor (electric)","Wholesale Electric Energy (kWh)","Wholesale Electric Demand (kw)","Retail Electric Demand (kW)","Wholesale Gas Energy (therms/yr)","Wholesale Gas Demand (therms/day)","Retail Gas Demand (therms/day)","Wholesale Electric","Retail Electric","Natural Gas","Customer","Wholesale Electric","Retail Electric","Natural Gas","Customer","Wholesale Electric","Retail Electric","Natural Gas","Customer","Wholesale Electric","Retail Electric","Natural Gas","Customer","Wholesale Electric","Retail Electric","Natural Gas","Customer","Total","Wholesale Utility System Energy","Wholesale Utility System T&D Def. Cap.","Wholesale Utility System Act C-E Credit","Wholesale Utility System Risk Mitigation Benefit","Wholesale Utility System Total System Benefit","Wholesale Utility System Total Non-Consumer Cost","Wholesale Utility System B/C Ratio","Retail Utility System Energy","Retail Utility System T&D Def. Cap.","Retail Utility System Act C-E Credit","Retail Utility System Risk Mitigation Benefit","Retail Utility System Total System Benefit","Retail Utility System Total Non-Consumer Cost","Retail Utility System System B/C Ratio","Utility System Energy","Utility System T&D Def. Cap.","Utility System Act C-E Credit","Utility System Total Risk Mitigation Benefit","Utility System Total System Benefit","Utility System Total Non-Consumer Cost","Utility System Net Levelized Cost (Net of Elec T&D Capacity Benefits, Act Credit & Risk-Mitigation Benefit) in mills/kwh","Utility System System B/C Ratio","Wholesale Electric Levelized Cost","Retail Electric Levelized Cost","Natural Gas Levelized Cost","Customer Levelized Cost","Total Levelized Cost","PV Regional Electric Energy","PV Regional Gas Energy","PV Regional Electric T&D Def. Cap.","PV Regional Gas T&D Def. Cap.","PV Regional Electric System CO2","PV Regional Gas System CO2","PV Regional Electric System Risk-Mitigation Benefit","PV Regional Gas System Risk-Mitigation Benefit","PV Regional Non-E Value","PV Regional Act Credit","PV Regional Capital Cost","PV Regional Admin Cost","PV Regional Annual O&M Cost","PV Regional Periodic Replacement Cost","PV Total Regional Benefit","PV Total Regional Cost","TRC B/C Ratio","TRC Net Levelized Cost (Net of All Benefits) in mills/kWh","Electric System CO2 Avoided (Lifetime Tons)","Gas System CO2 Avoided (Lifetime Tons)","Total System CO2 Avoided (Lifetime Tons)","Electric System CO2 Avoided (Annual Tons in 2020)","Gas System CO2 Avoided (Annual Tons in 2020)","Total System CO2 Avoided (Annual Tons in 2020)",null,"Gas Site Savings (therms)","Load Shape (gas)","Diversitfied Load Factor (gas)","Wholesale Coincidence Factor (gas)","Total Gas Utility System Energy","Gas Utility System T&D Def. Cap.","Gas Utility System Risk Mitigation Benefit","Gas Utility System Total System Benefit","Gas Utility System Total Non-Consumer Cost","Gas Utility System Net Levelized Cost (Net of Gas T&D Capacity Benefits & Risk-Mitigation Benefits) in cents/therm","Gas Utility System System B/C Ratio"]
["Demand Control Ventilation-New-Large Off","Demand Control Ventilation-DCV Only-Large Off-ElecHt-Vent-New",15,0.20663999999999999,0,5.4667000000000003,0,0,"ComEconoMizer",0.40000000596046448,6.6115702502429485E-3,0.22516491933279206,4.2485550011406303E-7,6.4259395003318787E-5,0,0,0,0.54354619979858398,3.0038216114044189,0,3.4588632583618164,"(na)","(na)","(na)","(na)",0,0,0,0,0,0,0,0,0.54354619979858398,3.0038216114044189,0,3.4588632583618164,7.0062310695648193,0.11817650657194954,0,1.1817650869488716E-2,0,0.12999415397644043,0.54354619979858398,0.23915935294848681,0.11817650657194954,1.8418731167912483E-2,1.365952380001545E-2,0,0.1502547562122345,3.0038216114044189,5.0021199983852162E-2,0.11817650657194954,1.8418731167912483E-2,1.365952380001545E-2,0,0.1502547562122345,3.5473678112030029,1252.7525634765625,4.2356690801939219E-2,193.70492553710937,1070.4793701171875,0,1232.643798828125,2496.828125,0.11817650657194954,0,1.8418731167912483E-2,0,0,0,0,0,0,1.365952380001545E-2,7.0062313079833984,null,0,0,0.1502547562122345,7.0062313079833984,2.1445875098166759E-2,2485.396240234375,1.6539787772686585E-3,0,1.6539787772686585E-3,7.9893707842010811E-5,0,7.9893707842010811E-5,null,0,"SmComWX",0,0,0,0,0,0,0,9999,9999]
["Demand Control Ventilation-New-Medium Off","Demand Control Ventilation-DCV Only-Medium Off-ElecHt-Vent-New",15,0.2268,0,6,0,0,"ComEconoMizer",0.40000000596046448,6.6115702502429485E-3,0.24713222853599123,4.6630478323095303E-7,7.0528600190300494E-5,0,0,0,0.59657144546508789,3.2968573570251465,0,3.796290397644043,"(na)","(na)","(na)","(na)",0,0,0,0,0,0,0,0,0.59657144546508789,3.2968573570251465,0,3.796290397644043,7.6897192001342773,0.12970592184726173,0,1.2970592826604843E-2,0,0.14267651736736298,0.59657144546508789,0.23916081763289188,0.12970592184726173,2.0215678960084915E-2,1.4992160722613335E-2,0,0.16491375863552094,3.2968573570251465,5.0021503410983673E-2,0.12970592184726173,2.0215678960084915E-2,1.4992160722613335E-2,0,0.16491375863552094,3.8934288024902344,1252.744873046875,4.2356948051671388E-2,193.7037353515625,1070.472900390625,0,1232.63623046875,2496.81298828125,0.12970592184726173,0,2.0215678960084915E-2,0,0,0,0,0,0,1.4992160722613335E-2,7.6897192001342773,null,0,0,0.16491375863552094,7.6897192001342773,2.14460056652108E-2,2485.381103515625,1.8153425604168179E-3,0,1.8153425604168179E-3,8.7688215924158156E-5,0,8.7688215924158156E-5,null,0,"SmComWX",0,0,0,0,0,0,0,9999,9999]
["Demand Control Ventilation-New-Small Off","Demand Control Ventilation-DCV Only-Small Off-ElecHt-Vent-New",15,0.23939999999999997,0,6.3333000000000004,0,0,"ComEconoMizer",0.40000000596046448,6.6115702502429485E-3,0.26086179678799076,4.9221063136428711E-7,7.4446856160648167E-5,0,0,0,0.62971097230911255,3.4799976348876953,0,4.0071744918823242,"(na)","(na)","(na)","(na)",0,0,0,0,0,0,0,0,0.62971097230911255,3.4799976348876953,0,4.0071744918823242,8.1168830990791321,0.13691180639433165,0,1.3691180385649204E-2,0,0.15060298144817352,0.62971097230911255,0.23916208133983863,0.13691180639433165,2.1338772028684616E-2,1.5825057402253151E-2,0,0.17407563328742981,3.4799976348876953,5.002176842884179E-2,0.13691180639433165,2.1338772028684616E-2,1.5825057402253151E-2,0,0.17407563328742981,4.1097087860107422,1252.7381591796875,4.2357172360208944E-2,193.70271301269531,1070.4671630859375,0,1232.6298828125,2496.7998046875,0.13691180639433165,0,2.1338772028684616E-2,0,0,0,0,0,0,1.5825057402253151E-2,8.1168832778930664,null,0,0,0.17407563328742981,8.1168832778930664,2.1446117908258865E-2,2485.3681640625,1.9161949248844216E-3,0,1.9161949248844216E-3,9.2559783475500317E-5,0,9.2559783475500317E-5,null,0,"SmComWX",0,0,0,0,0,0,0,9999,9999]
["Demand Control Ventilation-New-Big Box","Demand Control Ventilation-DCV Only-Big Box-ElecHt-Vent-New",15,0.207856704,0,0.89059999999999995,0,0,"ComEconoMizer",0.40000000596046448,6.6115702502429485E-3,0.22649069874632227,4.2735703686958004E-7,6.4637752075213939E-5,0,0,0,8.855108916759491E-2,0.48936352133750916,0,0.56349605321884155,"(na)","(na)","(na)","(na)",0,0,0,0,0,0,0,0,8.855108916759491E-2,0.48936352133750916,0,0.56349605321884155,1.1414106637239456,0.11887233423480355,0,1.1887233704328537E-2,0,0.13075956702232361,8.855108916759491E-2,1.4766567996882785,0.11887233423480355,1.8527181819081306E-2,1.3739951886236668E-2,0,0.15113946795463562,0.48936352133750916,0.30884906894374359,0.11887233423480355,1.8527181819081306E-2,1.3739951886236668E-2,0,0.15113946795463562,0.57791459560394287,193.31550598144531,0.26152560463564656,31.37244987487793,173.37486267089844,0,199.63900756835937,404.38632202148437,0.11887233423480355,0,1.8527181819081306E-2,0,0,0,0,0,0,1.3739951886236668E-2,1.1414105892181396,null,0,0,0.15113946795463562,1.1414105892181396,0.13241463621224267,392.95449829101562,1.6637174657811338E-3,0,1.6637174657811338E-3,8.0364124963120965E-5,0,8.0364124963120965E-5,null,0,"SmComWX",0,0,0,0,0,0,0,9999,9999]
["Demand Control Ventilation-New-Small Box","Demand Control Ventilation-DCV Only-Small Box-ElecHt-Vent-New",15,0.27056972800000001,0,1.1593,0,0,"ComEconoMizer",0.40000000596046448,6.6115702502429485E-3,0.29482583710324961,5.5629612916163751E-7,8.4139792306814343E-5,0,0,0,0.1152675449848175,0.63700777292251587,0,0.73350656032562256,"(na)","(na)","(na)","(na)",0,0,0,0,0,0,0,0,0.1152675449848175,0.63700777292251587,0,0.73350656032562256,1.4857818782329559,0.15473763665874271,0,1.5473763458430767E-2,0,0.17021140456199646,0.1152675449848175,1.4766637056388501,0.15473763665874271,2.4117067456245422E-2,1.7885470762848854E-2,0,0.19674018025398254,0.63700777292251587,0.30885050895880983,0.15473763665874271,2.4117067456245422E-2,1.7885470762848854E-2,0,0.19674018025398254,0.75227534770965576,193.31454467773437,0.26152682428173429,31.372304916381836,173.37405395507812,0,199.6380615234375,404.38442993164062,0.15473763665874271,0,2.4117067456245422E-2,0,0,0,0,0,0,1.7885470762848854E-2,1.4857819080352783,null,0,0,0.19674018025398254,1.4857819080352783,0.13241524466938495,392.95263671875,2.1656822874726745E-3,0,2.1656822874726745E-3,1.0461100851589395E-4,0,1.0461100851589395E-4,null,0,"SmComWX",0,0,0,0,0,0,0,9999,9999]
["Demand Control Ventilation-New-High End","Demand Control Ventilation-DCV Only-High End-ElecHt-Vent-New",15,0.20692672000000001,0,2.0287000000000002,0,0,"ComEconoMizer",0.40000000596046448,6.6115702502429485E-3,0.22547734328590419,4.2544499478935904E-7,6.434855458792299E-5,0,0,0,0.20171074569225311,1.1147223711013794,0,1.2835891246795654,"(na)","(na)","(na)","(na)",0,0,0,0,0,0,0,0,0.20171074569225311,1.1147223711013794,0,1.2835891246795654,2.6000222414731979,0.11834048047808725,0,1.1834048666059971E-2,0,0.13017453253269196,0.20171074569225311,0.64535247588025102,0.11834048047808725,1.8444288522005081E-2,1.3678477145731449E-2,0,0.15046325325965881,1.1147223711013794,0.13497822421663752,0.11834048047808725,1.8444288522005081E-2,1.3678477145731449E-2,0,0.15046325325965881,1.3164330720901489,457.0587158203125,0.1142961569610914,71.784553527832031,396.70596313476562,0,456.80203247070312,925.29254150390625,0.11834048047808725,0,1.8444288522005081E-2,0,0,0,0,0,0,1.3678477145731449E-2,2.6000223159790039,null,0,0,0.15046325325965881,2.6000223159790039,5.7869982584810568E-2,913.86077880859375,1.6562737288512118E-3,0,1.6562737288512118E-3,8.0004563068068003E-5,0,8.0004563068068003E-5,null,0,"SmComWX",0,0,0,0,0,0,0,9999,9999]
["Demand Control Ventilation-New-Anchor","Demand Control Ventilation-DCV Only-Anchor-ElecHt-Vent-New",15,0.20692672000000001,0,2.0287000000000002,0,0,"ComEconoMizer",0.40000000596046448,6.6115702502429485E-3,0.22547734328590419,4.2544499478935904E-7,6.434855458792299E-5,0,0,0,0.20171074569225311,1.1147223711013794,0,1.2835891246795654,"(na)","(na)","(na)","(na)",0,0,0,0,0,0,0,0,0.20171074569225311,1.1147223711013794,0,1.2835891246795654,2.6000222414731979,0.11834048047808725,0,1.1834048666059971E-2,0,0.13017453253269196,0.20171074569225311,0.64535247588025102,0.11834048047808725,1.8444288522005081E-2,1.3678477145731449E-2,0,0.15046325325965881,1.1147223711013794,0.13497822421663752,0.11834048047808725,1.8444288522005081E-2,1.3678477145731449E-2,0,0.15046325325965881,1.3164330720901489,457.0587158203125,0.1142961569610914,71.784553527832031,396.70596313476562,0,456.80203247070312,925.29254150390625,0.11834048047808725,0,1.8444288522005081E-2,0,0,0,0,0,0,1.3678477145731449E-2,2.6000223159790039,null,0,0,0.15046325325965881,2.6000223159790039,5.7869982584810568E-2,913.86077880859375,1.6562737288512118E-3,0,1.6562737288512118E-3,8.0004563068068003E-5,0,8.0004563068068003E-5,null,0,"SmComWX",0,0,0,0,0,0,0,9999,9999]
["Demand Control Ventilation-New-K-12","Demand Control Ventilation-DCV Only-K-12-ElecHt-Vent-New",15,0,0,2.6671,0,0,"ComEconoMizer",0,0,0,0,0,0,0,0,0.26518595218658447,1.465507984161377,0,1.6875143051147461,"(na)","(na)","(na)","(na)",0,0,0,0,0,0,0,0,0.26518595218658447,1.465507984161377,0,1.6875143051147461,3.4182082414627075,0,0,0,0,0,0.26518595218658447,0,0,0,0,0,0,1.465507984161377,0,0,0,0,0,0,1.7306939363479614,9999,0,9999,9999,9999,9999,9999,0,0,0,0,0,0,0,0,0,0,3.418208122253418,null,0,0,0,3.418208122253418,0,9999,0,0,0,0,0,0,null,0,"SmComWX",0,0,0,0,0,0,0,9999,9999]
["Demand Control Ventilation-New-University","Demand Control Ventilation-DCV Only-University-ElecHt-Vent-New",15,0,0,18.96,0,0,"ComEconoMizer",0,0,0,0,0,0,0,0,1.885165810585022,10.418068885803223,0,11.996277809143066,"(na)","(na)","(na)","(na)",0,0,0,0,0,0,0,0,1.885165810585022,10.418068885803223,0,11.996277809143066,24.299512505531311,0,0,0,0,0,1.885165810585022,0,0,0,0,0,0,10.418068885803223,0,0,0,0,0,0,12.303235054016113,9999,0,9999,9999,9999,9999,9999,0,0,0,0,0,0,0,0,0,0,24.29951286315918,null,0,0,0,24.29951286315918,0,9999,0,0,0,0,0,0,null,0,"SmComWX",0,0,0,0,0,0,0,9999,9999]
["Demand Control Ventilation-New-Warehouse","Demand Control Ventilation-DCV Only-Warehouse-ElecHt-Vent-New",15,0.12253247999999999,0,3.2416,0,0,"ComEconoMizer",0.40000000596046448,6.6115702502429485E-3,0.13351730533704484,2.5192892394443334E-7,3.8104251871118322E-5,0,0,0,0.32230767607688904,1.7811820507049561,0,2.0510091781616211,"(na)","(na)","(na)","(na)",0,0,0,0,0,0,0,0,0.32230767607688904,1.7811820507049561,0,2.0510091781616211,4.1544989049434662,7.0075786043347243E-2,0,7.0075788535177708E-3,0,7.7083364129066467E-2,0.32230767607688904,0.23916081005305059,7.0075786043347243E-2,1.0921858251094818E-2,8.0997645854949951E-3,0,8.9097410440444946E-2,1.7811820507049561,5.0021506136710782E-2,7.0075786043347243E-2,1.0921858251094818E-2,8.0997645854949951E-3,0,8.9097410440444946E-2,2.1034896373748779,1252.7447509765625,4.2356949856012981E-2,193.7037353515625,1070.4727783203125,0,1232.6363525390625,2496.81298828125,7.0075786043347243E-2,0,1.0921858251094818E-2,0,0,0,0,0,0,8.0997645854949951E-3,4.1544990539550781,null,0,0,8.9097410440444946E-2,4.1544990539550781,2.1446005336098566E-2,2485.381103515625,9.8076907397452793E-4,0,9.8076907397452793E-4,4.7375020123291847E-5,0,4.7375020123291847E-5,null,0,"SmComWX",0,0,0,0,0,0,0,9999,9999]
["Demand Control Ventilation-New-Supermarket","Demand Control Ventilation-DCV Only-Supermarket-ElecHt-Vent-New",15,1.4639184E-2,0,0.38729999999999998,0,0,"ComEconoMizer",0.40000000596046448,6.6115702502429485E-3,1.5951561577903117E-2,3.0098419756541261E-8,4.5523861444962677E-6,0,0,0,3.8508687168359756E-2,0.212812140583992,0,0.24505053460597992,"(na)","(na)","(na)","(na)",0,0,0,0,0,0,0,0,3.8508687168359756E-2,0.212812140583992,0,0.24505053460597992,0.49637136235833168,8.3720849021679221E-3,0,8.3720852853730321E-4,0,9.2092938721179962E-3,3.8508687168359756E-2,0.23914846513573024,8.3720849021679221E-3,1.3048547552898526E-3,9.6769398078322411E-4,0,1.0644633322954178E-2,0.212812140583992,5.0018920955497884E-2,8.3720849021679221E-3,1.3048547552898526E-3,9.6769398078322411E-4,0,1.0644633322954178E-2,0.25132083892822266,1252.81005859375,4.2354761176937081E-2,193.71372985839844,1070.5281982421875,0,1232.699951171875,2496.94189453125,8.3720849021679221E-3,0,1.3048547552898526E-3,0,0,0,0,0,0,9.6769398078322411E-4,0.49637138843536377,null,0,0,1.0644633322954178E-2,0.49637138843536377,2.1444897683958904E-2,2485.51025390625,1.171743111330378E-4,0,1.171743111330378E-4,5.6599820438513302E-6,0,5.6599820438513302E-6,null,0,"SmComWX",0,0,0,0,0,0,0,9999,9999]
["Demand Control Ventilation-New-MIniMart","Demand Control Ventilation-DCV Only-MIniMart-ElecHt-Vent-New",15,3.4158095999999992E-2,0,0.90369999999999995,0,0,"ComEconoMizer",0.40000000596046448,6.6115702502429485E-3,3.7220310348440588E-2,7.0229646098596277E-8,1.0622234185575508E-5,0,0,0,8.985360711812973E-2,0.49656164646148682,0,0.5717846155166626,"(na)","(na)","(na)","(na)",0,0,0,0,0,0,0,0,8.985360711812973E-2,0.49656164646148682,0,0.5717846155166626,1.1581998690962791,1.9534864771725134E-2,0,1.9534865859895945E-3,0,2.1488351747393608E-2,8.985360711812973E-2,0.23914845543667698,1.9534864771725134E-2,3.0446613673120737E-3,2.2579526994377375E-3,0,2.4837478995323181E-2,0.49656164646148682,5.0018923159828317E-2,1.9534864771725134E-2,3.0446613673120737E-3,2.2579526994377375E-3,0,2.4837478995323181E-2,0.58641523122787476,1252.81005859375,4.2354762579692694E-2,193.7137451171875,1070.5281982421875,0,1232.699951171875,2496.94189453125,1.9534864771725134E-2,0,3.0446613673120737E-3,0,0,0,0,0,0,2.2579526994377375E-3,1.1581997871398926,null,0,0,2.4837478995323181E-2,1.1581997871398926,2.1444900192746249E-2,2485.510009765625,2.7340672597708803E-4,0,2.7340672597708803E-4,1.3206624768986433E-5,0,1.3206624768986433E-5,null,0,"SmComWX",0,0,0,0,0,0,0,9999,9999]
["Demand Control Ventilation-New-Restaurant","Demand Control Ventilation-DCV Only-Restaurant-ElecHt-Vent-New",15,0.22437519999999994,0,0.96130000000000004,0,0,"ComEconoMizer",0.40000000596046448,6.6115702502429485E-3,0.24449004940127309,4.6131938802318473E-7,6.9774556322954595E-5,0,0,0,9.5580689609050751E-2,0.52821147441864014,0,0.60822898149490356,"(na)","(na)","(na)","(na)",0,0,0,0,0,0,0,0,9.5580689609050751E-2,0.52821147441864014,0,0.60822898149490356,1.2320211455225945,0.12831918939886991,0,1.2831918895244598E-2,0,0.14115111529827118,9.5580689609050751E-2,1.4767743240968267,0.12831918939886991,1.9999546930193901E-2,1.4831873588263988E-2,0,0.1631506085395813,0.52821147441864014,0.30887365727314908,0.12831918939886991,1.9999546930193901E-2,1.4831873588263988E-2,0,0.1631506085395813,0.62379217147827148,193.29920959472656,0.26154642415496154,31.369953155517578,173.36106872558594,0,199.62312316894531,404.3541259765625,0.12831918939886991,0,1.9999546930193901E-2,0,0,0,0,0,0,1.4831873588263988E-2,1.2320210933685303,null,0,0,0.1631506085395813,1.2320210933685303,0.13242517583140528,392.92230224609375,1.7959340831659449E-3,0,1.7959340831659449E-3,8.6750709813166531E-5,0,8.6750709813166531E-5,null,0,"SmComWX",0,0,0,0,0,0,0,9999,9999]
["Demand Control Ventilation-New-Lodging","Demand Control Ventilation-DCV Only-Lodging-ElecHt-Vent-New",15,1.6627564800000001,0,43.988300000000002,0,0,"ComEconoMizer",0.40000000596046448,6.6115702502429485E-3,1.8118197284614659,3.4186566608696012E-6,5.1707180682569742E-4,0,0,0,4.3736939430236816,24.170524597167969,0,27.832061767578125,"(na)","(na)","(na)","(na)",0,0,0,0,0,0,0,0,4.3736939430236816,24.170524597167969,0,27.832061767578125,56.376280307769775,0.9509231130771949,0,9.5092311501502991E-2,0,1.0460153818130493,4.3736939430236816,0.23916063588472133,0.9509231130771949,0.14820878207683563,0.10991319268941879,0,1.2090450525283813,24.170524597167969,5.0021466558699004E-2,0.9509231130771949,0.14820878207683563,0.10991319268941879,0,1.2090450525283813,28.544218063354492,1252.7457275390625,4.2356916730477485E-2,193.70387268066406,1070.4737548828125,0,1232.6373291015625,2496.81494140625,0.9509231130771949,0,0.14820878207683563,0,0,0,0,0,0,0.10991319268941879,56.37628173828125,null,0,0,1.2090450525283813,56.37628173828125,2.1445988464728245E-2,2485.383056640625,1.3308962106494097E-2,0,1.3308962106494097E-2,6.4287543759935302E-4,0,6.4287543759935302E-4,null,0,"SmComWX",0,0,0,0,0,0,0,9999,9999]
["Demand Control Ventilation-New-Hospital","Demand Control Ventilation-DCV Only-Hospital-ElecHt-Vent-New",15,0.86902199999999985,0,22.99,0,0,"ComEconoMizer",0.40000000596046448,6.6115702502429485E-3,0.94692832234040636,1.786724624253111E-6,2.7024210430681705E-4,0,0,0,2.285862922668457,12.632457733154297,0,14.546119689941406,"(na)","(na)","(na)","(na)",0,0,0,0,0,0,0,0,2.285862922668457,12.632457733154297,0,14.546119689941406,29.46444034576416,0.49698985721142463,0,4.9698986113071442E-2,0,0.54668885469436646,2.285862922668457,0.23916081664525435,0.49698985721142463,7.7459752559661865E-2,5.7444963604211807E-2,0,0.63189458847045898,12.632457733154297,5.0021507035552581E-2,0.49698985721142463,7.7459752559661865E-2,5.7444963604211807E-2,0,0.63189458847045898,14.918320655822754,1252.7447509765625,4.2356950755624373E-2,193.7037353515625,1070.472900390625,0,1232.6363525390625,2496.812744140625,0.49698985721142463,0,7.7459752559661865E-2,0,0,0,0,0,0,5.7444963604211807E-2,29.464439392089844,null,0,0,0.63189458847045898,29.464439392089844,2.1446006997334541E-2,2485.381103515625,6.9557875773304436E-3,0,6.9557875773304436E-3,3.3599201401606605E-4,0,3.3599201401606605E-4,null,0,"SmComWX",0,0,0,0,0,0,0,9999,9999]
["Demand Control Ventilation-New-OtherHealth","Demand Control Ventilation-DCV Only-OtherHealth-ElecHt-Vent-New",15,2.7291599999999992E-2,0,0.72199999999999998,0,0,"ComEconoMizer",0.40000000596046448,6.6115702502429485E-3,2.9738244833830939E-2,5.6112011037612319E-8,8.4869416241417639E-6,0,0,0,7.1787431836128235E-2,0.39672183990478516,0,0.4568202793598175,"(na)","(na)","(na)","(na)",0,0,0,0,0,0,0,0,7.1787431836128235E-2,0.39672183990478516,0,0.4568202793598175,0.9253295511007309,1.5607945928953811E-2,0,1.5607946552336216E-3,0,1.7168739810585976E-2,7.1787431836128235E-2,0.23916081332146186,1.5607945928953811E-2,2.4326201528310776E-3,1.8040565773844719E-3,0,1.9844623282551765E-2,0.39672183990478516,5.0021502884570586E-2,1.5607945928953811E-2,2.4326201528310776E-3,1.8040565773844719E-3,0,1.9844623282551765E-2,0.4685092568397522,1252.744873046875,4.2356947569958614E-2,193.7037353515625,1070.472900390625,0,1232.6363525390625,2496.81298828125,1.5607945928953811E-2,0,2.4326201528310776E-3,0,0,0,0,0,0,1.8040565773844719E-3,0.92532956600189209,null,0,0,1.9844623282551765E-2,0.92532956600189209,2.1446005172959946E-2,2485.381103515625,2.1844622143682397E-4,0,2.1844622143682397E-4,1.0551815316207031E-5,0,1.0551815316207031E-5,null,0,"SmComWX",0,0,0,0,0,0,0,9999,9999]
["Demand Control Ventilation-New-Other","Demand Control Ventilation-DCV Only-Other-ElecHt-Vent-New",15,0.29423519999999992,0,7.7839999999999998,0,0,"ComEconoMizer",0.40000000596046448,6.6115702502429485E-3,0.32061287782069259,6.0495278830785537E-7,9.1499110567383468E-5,0,0,0,0.77395200729370117,4.277122974395752,0,4.9250540733337402,"(na)","(na)","(na)","(na)",0,0,0,0,0,0,0,0,0.77395200729370117,4.277122974395752,0,4.9250540733337402,9.9761290550231934,0.16827181594318069,0,1.6827180981636047E-2,0,0.18509899079799652,0.77395200729370117,0.23916082028400881,0.16827181594318069,2.6226477697491646E-2,1.9449830055236816E-2,0,0.21394813060760498,4.277122974395752,5.002150393539586E-2,0.16827181594318069,2.6226477697491646E-2,1.9449830055236816E-2,0,0.21394813060760498,5.0510749816894531,1252.744873046875,4.2356948663697935E-2,193.7037353515625,1070.472900390625,0,1232.6363525390625,2496.813232421875,0.16827181594318069,0,2.6226477697491646E-2,0,0,0,0,0,0,1.9449830055236816E-2,9.9761295318603516,null,0,0,0.21394813060760498,9.9761295318603516,2.1446004987468525E-2,2485.38134765625,2.355104415047419E-3,0,2.355104415047419E-3,1.1376084545894116E-4,0,1.1376084545894116E-4,null,0,"SmComWX",0,0,0,0,0,0,0,9999,9999]
["Demand Control Ventilation-New-Large Off","Demand Control Ventilation-DCV Only-Large Off-ElecHt-Heat-New",15,21.248403164371524,0,0,0,0,"ExCOMM",0.47692599892616272,0.4638296365737915,23.168145554932163,2.5721404235810041E-3,5.5454419925808907E-3,0,0,0,0,0,0,0,"(na)","(na)","(na)","(na)",0,0,0,0,0,0,0,0,0,0,0,0,0,11.337101230212873,0,1.1337101459503174,0,12.47081184387207,0,9999,11.337101230212873,1.5894954204559326,1.2926596403121948,0,14.219256401062012,0,9999,11.337101230212873,1.5894954204559326,1.2926596403121948,0,14.219256401062012,0,-9.9823083877563477,9999,0,0,0,0,0,11.337101230212873,0,1.5894954204559326,0,0,0,0,0,0,1.2926596403121948,0,null,0,0,14.219256401062012,0,9999,-9.9823083877563477,0.17439889355709878,0,0.17439889355709878,8.5259302290860168E-3,0,8.5259302290860168E-3,null,0,"SmComWX",0,0,0,0,0,0,0,9999,9999]
["Demand Control Ventilation-New-Medium Off","Demand Control Ventilation-DCV Only-Medium Off-ElecHt-Heat-New",15,23.321418107237044,0,0,0,0,"ExCOMM",0.47692599892616272,0.4638296365737915,25.428452438340191,2.8230808675289154E-3,6.086460780352354E-3,0,0,0,0,0,0,0,"(na)","(na)","(na)","(na)",0,0,0,0,0,0,0,0,0,0,0,0,0,12.443159886818998,0,1.2443159818649292,0,13.68747615814209,0,9999,12.443159886818998,1.7445681095123291,1.41877281665802,0,15.606500625610352,0,9999,12.443159886818998,1.7445681095123291,1.41877281665802,0,15.606500625610352,0,-9.9823083877563477,9999,0,0,0,0,0,12.443159886818998,0,1.7445681095123291,0,0,0,0,0,0,1.41877281665802,0,null,0,0,15.606500625610352,0,9999,-9.9823083877563477,0.19141341975779136,0,0.19141341975779136,9.3577283002163579E-3,0,9.3577283002163579E-3,null,0,"SmComWX",0,0,0,0,0,0,0,9999,9999]
["Demand Control Ventilation-New-Small Off","Demand Control Ventilation-DCV Only-Small Off-ElecHt-Heat-New",15,24.617052446527989,0,0,0,0,"ExCOMM",0.47692599892616272,0.4638296365737915,26.841144240470204,2.9799186158925295E-3,6.4245974645018578E-3,0,0,0,0,0,0,0,"(na)","(na)","(na)","(na)",0,0,0,0,0,0,0,0,0,0,0,0,0,13.134446547197804,0,1.3134447336196899,0,14.447891235351563,0,9999,13.134446547197804,1.8414888381958008,1.4975935220718384,0,16.473529815673828,0,9999,13.134446547197804,1.8414888381958008,1.4975935220718384,0,16.473529815673828,0,-9.9823093414306641,9999,0,0,0,0,0,13.134446547197804,0,1.8414888381958008,0,0,0,0,0,0,1.4975935220718384,0,null,0,0,16.473529815673828,0,9999,-9.9823093414306641,0.20204749863322399,0,0.20204749863322399,9.8776020946728244E-3,0,9.8776020946728244E-3,null,0,"SmComWX",0,0,0,0,0,0,0,9999,9999]
["Demand Control Ventilation-New-Big Box","Demand Control Ventilation-DCV Only-Big Box-ElecHt-Heat-New",15,13.448421447406977,0,0,0,0,"ExCOMM",0.47692599892616272,0.4638296365737915,14.663454150758632,1.627944759093225E-3,3.5097904037684202E-3,0,0,0,0,0,0,0,"(na)","(na)","(na)","(na)",0,0,0,0,0,0,0,0,0,0,0,0,0,7.175415213857943,0,0.71754151582717896,0,7.8929567337036133,0,9999,7.175415213857943,1.0060145854949951,0.81814301013946533,0,8.99957275390625,0,9999,7.175415213857943,1.0060145854949951,0.81814301013946533,0,8.99957275390625,0,-9.9823083877563477,9999,0,0,0,0,0,7.175415213857943,0,1.0060145854949951,0,0,0,0,0,0,0.81814301013946533,0,null,0,0,8.99957275390625,0,9999,-9.9823083877563477,0.11037958016769892,0,0.11037958016769892,5.396184459837138E-3,0,5.396184459837138E-3,null,0,"SmComWX",0,0,0,0,0,0,0,9999,9999]
["Demand Control Ventilation-New-Small Box","Demand Control Ventilation-DCV Only-Small Box-ElecHt-Heat-New",15,17.505982068561387,0,0,0,0,"ExCOMM",0.47692599892616272,0.4638296365737915,19.087605666600176,2.119116485118866E-3,4.5687388628721237E-3,0,0,0,0,0,0,0,"(na)","(na)","(na)","(na)",0,0,0,0,0,0,0,0,0,0,0,0,0,9.3403296854962523,0,0.93403297662734985,0,10.274362564086914,0,9999,9.3403296854962523,1.3095420598983765,1.0649871826171875,0,11.714859008789063,0,9999,9.3403296854962523,1.3095420598983765,1.0649871826171875,0,11.714859008789063,0,-9.9823083877563477,9999,0,0,0,0,0,9.3403296854962523,0,1.3095420598983765,0,0,0,0,0,0,1.0649871826171875,0,null,0,0,11.714859008789063,0,9999,-9.9823083877563477,0.14368251015241948,0,0.14368251015241948,7.0242822744652081E-3,0,7.0242822744652081E-3,null,0,"SmComWX",0,0,0,0,0,0,0,9999,9999]
["Demand Control Ventilation-New-High End","Demand Control Ventilation-DCV Only-High End-ElecHt-Heat-New",15,18.770019947260476,0,0,0,0,"ExCOMM",0.47692599892616272,0.4638296365737915,20.465846343516205,2.2721295244991779E-3,4.898629616945982E-3,0,0,0,0,0,0,0,"(na)","(na)","(na)","(na)",0,0,0,0,0,0,0,0,0,0,0,0,0,10.014758030947812,0,1.0014758110046387,0,11.016233444213867,0,9999,10.014758030947812,1.4040988683700562,1.1418857574462891,0,12.560742378234863,0,9999,10.014758030947812,1.4040988683700562,1.1418857574462891,0,12.560742378234863,0,-9.9823083877563477,9999,0,0,0,0,0,10.014758030947812,0,1.4040988683700562,0,0,0,0,0,0,1.1418857574462891,0,null,0,0,12.560742378234863,0,9999,-9.9823083877563477,0.1540572571747762,0,0.1540572571747762,7.5314779765300564E-3,0,7.5314779765300564E-3,null,0,"SmComWX",0,0,0,0,0,0,0,9999,9999]
["Demand Control Ventilation-New-Anchor","Demand Control Ventilation-DCV Only-Anchor-ElecHt-Heat-New",15,18.770019947260476,0,0,0,0,"ExCOMM",0.47692599892616272,0.4638296365737915,20.465846343516205,2.2721295244991779E-3,4.898629616945982E-3,0,0,0,0,0,0,0,"(na)","(na)","(na)","(na)",0,0,0,0,0,0,0,0,0,0,0,0,0,10.014758030947812,0,1.0014758110046387,0,11.016233444213867,0,9999,10.014758030947812,1.4040988683700562,1.1418857574462891,0,12.560742378234863,0,9999,10.014758030947812,1.4040988683700562,1.1418857574462891,0,12.560742378234863,0,-9.9823083877563477,9999,0,0,0,0,0,10.014758030947812,0,1.4040988683700562,0,0,0,0,0,0,1.1418857574462891,0,null,0,0,12.560742378234863,0,9999,-9.9823083877563477,0.1540572571747762,0,0.1540572571747762,7.5314779765300564E-3,0,7.5314779765300564E-3,null,0,"SmComWX",0,0,0,0,0,0,0,9999,9999]
["Demand Control Ventilation-New-K-12","Demand Control Ventilation-DCV Only-K-12-ElecHt-Heat-New",15,0,0,0,0,0,"ExCOMM",0,0,0,0,0,0,0,0,0,0,0,0,"(na)","(na)","(na)","(na)",0,0,0,0,0,0,0,0,0,0,0,0,0,0,0,0,0,0,0,9999,0,0,0,0,0,0,9999,0,0,0,0,0,0,9999,9999,9999,9999,9999,9999,9999,0,0,0,0,0,0,0,0,0,0,0,null,0,0,0,0,9999,9999,0,0,0,0,0,0,null,0,"SmComWX",0,0,0,0,0,0,0,9999,9999]
["Demand Control Ventilation-New-University","Demand Control Ventilation-DCV Only-University-ElecHt-Heat-New",15,0,0,0,0,0,"ExCOMM",0,0,0,0,0,0,0,0,0,0,0,0,"(na)","(na)","(na)","(na)",0,0,0,0,0,0,0,0,0,0,0,0,0,0,0,0,0,0,0,9999,0,0,0,0,0,0,9999,0,0,0,0,0,0,9999,9999,9999,9999,9999,9999,9999,0,0,0,0,0,0,0,0,0,0,0,null,0,0,0,0,9999,9999,0,0,0,0,0,0,null,0,"SmComWX",0,0,0,0,0,0,0,9999,9999]
["Demand Control Ventilation-New-Warehouse","Demand Control Ventilation-DCV Only-Warehouse-ElecHt-Heat-New",15,12.599784822736598,0,0,0,0,"ExCOMM",0.47692599892616272,0.4638296365737915,13.73814523735393,1.5252165030688047E-3,3.2883118838071823E-3,0,0,0,0,0,0,0,"(na)","(na)","(na)","(na)",0,0,0,0,0,0,0,0,0,0,0,0,0,6.7226245148520762,0,0.67226248979568481,0,7.3948869705200195,0,9999,6.7226245148520762,0.94253194332122803,0.76651567220687866,0,8.4316720962524414,0,9999,6.7226245148520762,0.94253194332122803,0.76651567220687866,0,8.4316720962524414,0,-9.9823083877563477,9999,0,0,0,0,0,6.7226245148520762,0,0.94253194332122803,0,0,0,0,0,0,0.76651567220687866,0,null,0,0,8.4316720962524414,0,9999,-9.9823083877563477,0.10341429024780943,0,0.10341429024780943,5.0556686763302272E-3,0,5.0556686763302272E-3,null,0,"SmComWX",0,0,0,0,0,0,0,9999,9999]
["Demand Control Ventilation-New-Supermarket","Demand Control Ventilation-DCV Only-Supermarket-ElecHt-Heat-New",15,5.8483478464693821,0,0,0,0,"ExCOMM",0.47692599892616272,0.4638296365737915,6.3767320826286831,7.079483475536108E-4,1.5263111563399434E-3,0,0,0,0,0,0,0,"(na)","(na)","(na)","(na)",0,0,0,0,0,0,0,0,0,0,0,0,0,3.1203903207228074,0,0.31203904747962952,0,3.432429313659668,0,9999,3.1203903207228074,0.43748804926872253,0.35578784346580505,0,3.9136662483215332,0,9999,3.1203903207228074,0.43748804926872253,0.35578784346580505,0,3.9136662483215332,0,-9.9823083877563477,9999,0,0,0,0,0,3.1203903207228074,0,0.43748804926872253,0,0,0,0,0,0,0.35578784346580505,0,null,0,0,3.9136662483215332,0,9999,-9.9823083877563477,4.800103733307861E-2,0,4.800103733307861E-2,2.3466519017311866E-3,0,2.3466519017311866E-3,null,0,"SmComWX",0,0,0,0,0,0,0,9999,9999]
["Demand Control Ventilation-New-MIniMart","Demand Control Ventilation-DCV Only-MIniMart-ElecHt-Heat-New",15,13.646144975095222,0,0,0,0,"ExCOMM",0.47692599892616272,0.4638296365737915,14.879041526133596,1.6518795164301991E-3,3.5613926593214273E-3,0,0,0,0,0,0,0,"(na)","(na)","(na)","(na)",0,0,0,0,0,0,0,0,0,0,0,0,0,7.2809107483532207,0,0.72809106111526489,0,8.0090017318725586,0,9999,7.2809107483532207,1.0208053588867187,0.83017164468765259,0,9.1318874359130859,0,9999,7.2809107483532207,1.0208053588867187,0.83017164468765259,0,9.1318874359130859,0,-9.9823083877563477,9999,0,0,0,0,0,7.2809107483532207,0,1.0208053588867187,0,0,0,0,0,0,0.83017164468765259,0,null,0,0,9.1318874359130859,0,9999,-9.9823083877563477,0.11200242044384984,0,0.11200242044384984,5.4755211040394373E-3,0,5.4755211040394373E-3,null,0,"SmComWX",0,0,0,0,0,0,0,9999,9999]
["Demand Control Ventilation-New-Restaurant","Demand Control Ventilation-DCV Only-Restaurant-ElecHt-Heat-New",15,14.51717550542045,0,0,0,0,"ExCOMM",0.47692599892616272,0.4638296365737915,15.82876758099319,1.7573185032233596E-3,3.788715461269021E-3,0,0,0,0,0,0,0,"(na)","(na)","(na)","(na)",0,0,0,0,0,0,0,0,0,0,0,0,0,7.7456497322906701,0,0.77456498146057129,0,8.5202150344848633,0,9999,7.7456497322906701,1.0859633684158325,0.88316130638122559,0,9.7147741317749023,0,9999,7.7456497322906701,1.0859633684158325,0.88316130638122559,0,9.7147741317749023,0,-9.9823093414306641,9999,0,0,0,0,0,7.7456497322906701,0,1.0859633684158325,0,0,0,0,0,0,0.88316130638122559,0,null,0,0,9.7147741317749023,0,9999,-9.9823093414306641,0.1191515111104787,0,0.1191515111104787,5.8250224511057829E-3,0,5.8250224511057829E-3,null,0,"SmComWX",0,0,0,0,0,0,0,9999,9999]
["Demand Control Ventilation-New-Lodging","Demand Control Ventilation-DCV Only-Lodging-ElecHt-Heat-New",15,170.97812645766194,0,0,0,0,"ExCOMM",0.47692599892616272,0.4638296365737915,186.42559112972651,2.0697072148323059E-2,4.4622141867876053E-2,0,0,0,0,0,0,0,"(na)","(na)","(na)","(na)",0,0,0,0,0,0,0,0,0,0,0,0,0,91.225505879560799,0,9.1225509643554687,0,100.34806060791016,0,9999,91.225505879560799,12.79008674621582,10.401559829711914,0,114.41715240478516,0,9999,91.225505879560799,12.79008674621582,10.401559829711914,0,114.41715240478516,0,-9.9823083877563477,9999,0,0,0,0,0,91.225505879560799,0,12.79008674621582,0,0,0,0,0,0,10.401559829711914,0,null,0,0,114.41715240478516,0,9999,-9.9823083877563477,1.4033240919807188,0,1.4033240919807188,6.8605041310688467E-2,0,6.8605041310688467E-2,null,0,"SmComWX",0,0,0,0,0,0,0,9999,9999]
["Demand Control Ventilation-New-Hospital","Demand Control Ventilation-DCV Only-Hospital-ElecHt-Heat-New",15,89.35990038089659,0,0,0,0,"ExCOMM",0.47692599892616272,0.4638296365737915,97.433353592906883,1.0817104950547218E-2,2.3321289569139481E-2,0,0,0,0,0,0,0,"(na)","(na)","(na)","(na)",0,0,0,0,0,0,0,0,0,0,0,0,0,47.67804096632814,0,4.7678041458129883,0,52.445846557617188,0,9999,47.67804096632814,6.6846041679382324,5.4362645149230957,0,59.798908233642578,0,9999,47.67804096632814,6.6846041679382324,5.4362645149230957,0,59.798908233642578,0,-9.9823093414306641,9999,0,0,0,0,0,47.67804096632814,0,6.6846041679382324,0,0,0,0,0,0,5.4362645149230957,0,null,0,0,59.798908233642578,0,9999,-9.9823093414306641,0.73343242003860509,0,0.73343242003860509,3.5855695603662377E-2,0,3.5855695603662377E-2,null,0,"SmComWX",0,0,0,0,0,0,0,9999,9999]
["Demand Control Ventilation-New-OtherHealth","Demand Control Ventilation-DCV Only-OtherHealth-ElecHt-Heat-New",15,2.8063439789041897,0,0,0,0,"ExCOMM",0.47692599892616272,0.4638296365737915,3.0598904434136021,3.3971073571592569E-4,7.3240412166342139E-4,0,0,0,0,0,0,0,"(na)","(na)","(na)","(na)",0,0,0,0,0,0,0,0,0,0,0,0,0,1.4973269063805543,0,0.14973269402980804,0,1.6470595598220825,0,9999,1.4973269063805543,0.2099297046661377,0.17072565853595734,0,1.8779822587966919,0,9999,1.4973269063805543,0.2099297046661377,0.17072565853595734,0,1.8779822587966919,0,-9.9823083877563477,9999,0,0,0,0,0,1.4973269063805543,0,0.2099297046661377,0,0,0,0,0,0,0.17072565853595734,0,null,0,0,1.8779822587966919,0,9999,-9.9823083877563477,2.3033414844187534E-2,0,2.3033414844187534E-2,1.1260466387927016E-3,0,1.1260466387927016E-3,null,0,"SmComWX",0,0,0,0,0,0,0,9999,9999]
["Demand Control Ventilation-New-Other","Demand Control Ventilation-DCV Only-Other-ElecHt-Heat-New",15,30.255653091122184,0,0,0,0,"ExCOMM",0.47692599892616272,0.4638296365737915,32.989178963339988,3.6624767817556858E-3,7.8961681574583054E-3,0,0,0,0,0,0,0,"(na)","(na)","(na)","(na)",0,0,0,0,0,0,0,0,0,0,0,0,0,16.142926093166523,0,1.6142926216125488,0,17.757219314575195,0,9999,16.142926093166523,2.2632861137390137,1.8406212329864502,0,20.246833801269531,0,9999,16.142926093166523,2.2632861137390137,1.8406212329864502,0,20.246833801269531,0,-9.9823074340820312,9999,0,0,0,0,0,16.142926093166523,0,2.2632861137390137,0,0,0,0,0,0,1.8406212329864502,0,null,0,0,20.246833801269531,0,9999,-9.9823074340820312,0.24832700989910791,0,0.24832700989910791,1.2140092848147354E-2,0,1.2140092848147354E-2,null,0,"SmComWX",0,0,0,0,0,0,0,9999,9999]
["Demand Control Ventilation-New-Large Off","Demand Control Ventilation-DCV Only-Large Off-GasHt-Vent-New",15,3.5128799999999996,15.187630000000002,92.933300000000003,0,0,"ComEconoMizer",0.40000000596046448,6.6115702502429485E-3,3.8278036286574624,7.2225434450956527E-6,1.0924097150564194E-3,15.339506300000002,3.8745637983083725E-2,8.8058270514011383E-2,9.2402257919311523,51.06463623046875,0,58.800296783447266,"(na)","(na)","(na)","(na)",0,0,0,0,0,0,0,0,9.2402257919311523,51.06463623046875,0,58.800296783447266,119.10515880584717,2.0090006117231418,0,0.20090006291866302,0,2.2099006175994873,9.2402257919311523,0.23916089545902197,2.0090006117231418,0.31311842799186707,0.23221190273761749,0,2.5543308258056641,51.06463623046875,5.0021524307433195E-2,2.0090006117231418,0.31311842799186707,0.23221190273761749,0,2.5543308258056641,60.304862976074219,1252.744384765625,4.2356965206285263E-2,193.70365905761719,1070.4725341796875,0,1232.6358642578125,2496.81201171875,2.0090006117231418,128.8863447945825,0.31311842799186707,0,0,0,0,0,0,0.23221190273761749,119.10516357421875,null,0,0,131.440673828125,119.10516357421875,1.1035682399708024,-216.47557067871094,2.8117639213567181E-2,1.4357777896799984,1.4638954288935655,1.3581930333141825E-3,8.9736111854999967E-2,9.1094304888314145E-2,null,15.187630000000002,"SmComWX",0.47692599892616272,0.43999999761581421,128.8863447945825,0,0,128.88633728027344,0,0,9999]
["Demand Control Ventilation-New-Medium Off","Demand Control Ventilation-DCV Only-Medium Off-GasHt-Vent-New",15,3.8555999999999995,16.669350000000001,102,0,0,"ComEconoMizer",0.40000000596046448,6.6115702502429485E-3,4.20124788511185,7.9271812865044922E-6,1.1989861959591508E-3,16.836043499999995,4.2525704950094223E-2,9.6649326384067535E-2,10.141715049743652,56.046573638916016,0,64.536933898925781,"(na)","(na)","(na)","(na)",0,0,0,0,0,0,0,0,10.141715049743652,56.046573638916016,0,64.536933898925781,130.72522258758545,2.2050006714034471,0,0.22050006687641144,0,2.4255006313323975,10.141715049743652,0.23916080528619929,2.2050006714034471,0.34366655349731445,0.25486671924591064,0,2.8035340309143066,56.046573638916016,5.0021504654479618E-2,2.2050006714034471,0.34366655349731445,0.25486671924591064,0,2.8035340309143066,66.188285827636719,1252.744873046875,4.2356948633830049E-2,193.7037353515625,1070.472900390625,0,1232.63623046875,2496.812744140625,2.2050006714034471,141.46062233551734,0.34366655349731445,0,0,0,0,0,0,0.25486671924591064,130.7252197265625,null,0,0,144.26416015625,130.7252197265625,1.1035679005276935,-216.47480773925781,3.0860823527085954E-2,1.5758536716000024,1.6067144951270884,1.4906996707106889E-3,9.8490854474999973E-2,9.9981554145710666E-2,null,16.669350000000001,"SmComWX",0.47692599892616272,0.43999999761581421,141.46062233551734,0,0,141.46061706542969,0,0,9999]
["Demand Control Ventilation-New-Small Off","Demand Control Ventilation-DCV Only-Small Off-GasHt-Vent-New",15,4.069799999999999,17.595425000000002,107.66670000000001,0,0,"ComEconoMizer",0.40000000596046448,6.6115702502429485E-3,4.4346505453958409,8.3675804489757866E-6,1.2655965983867645E-3,17.77137925000001,4.4888239353895187E-2,0.10201872885227203,10.705146789550781,59.160289764404297,0,68.122344970703125,"(na)","(na)","(na)","(na)",0,0,0,0,0,0,0,0,10.705146789550781,59.160289764404297,0,68.122344970703125,137.9877815246582,2.3275007087036363,0,0.23275007307529449,0,2.5602507591247559,10.705146789550781,0.23916073568257595,2.3275007087036363,0.36275914311408997,0.26902598142623901,0,2.9592857360839844,59.160289764404297,5.0021489837673433E-2,2.3275007087036363,0.36275914311408997,0.26902598142623901,0,2.9592857360839844,69.865432739257813,1252.7452392578125,4.2356936121891883E-2,193.70379638671875,1070.47314453125,0,1232.63671875,2496.813720703125,2.3275007087036363,149.31954579860161,0.36275914311408997,0,0,0,0,0,0,0.26902598142623901,137.98777770996094,null,0,0,152.27883911132812,137.98777770996094,1.1035675344516618,-216.47398376464844,3.257531372303514E-2,1.6634010978000118,1.6959764115230469,1.5735163190835047E-3,0.10396256861250003,0.10553608493158353,null,17.595425000000002,"SmComWX",0.47692599892616272,0.43999999761581421,149.31954579860161,0,0,149.31954956054687,0,0,9999]
["Demand Control Ventilation-New-Big Box","Demand Control Ventilation-DCV Only-Big Box-GasHt-Vent-New",15,7.9437409920000004,21.92697144000001,34.0349,0,0,"ComEconoMizer",0.40000000596046448,6.6115702502429485E-3,8.6558836607833598,1.6332471204805188E-5,2.4702863302081823E-3,22.14624115440002,5.5938582867383957E-2,0.12713314592838287,3.3840415477752686,18.70136833190918,0,21.534393310546875,"(na)","(na)","(na)","(na)",0,0,0,0,0,0,0,0,3.3840415477752686,18.70136833190918,0,21.534393310546875,43.619803190231323,4.542990512712703,0,0.45429906249046326,0,4.9972896575927734,3.3840415477752686,1.4767222874342298,4.542990512712703,0.70806050300598145,0.52510511875152588,0,5.776155948638916,18.70136833190918,0.30886275442287575,4.542990512712703,0.70806050300598145,0.52510511875152588,0,5.776155948638916,22.085409164428711,193.30642700195312,0.26153719428062244,31.371059417724609,173.3671875,0,199.63014221191406,404.368408203125,4.542990512712703,186.07822295623478,0.70806050300598145,0,0,0,0,0,0,0.52510511875152588,43.619804382324219,null,0,0,191.85438537597656,43.619804382324219,4.3983319459462988,-1332.063232421875,6.3582941409635441E-2,2.0728881720518459,2.1364711134614813,3.0713072105471003E-3,0.12955551075324009,0.1326268179637872,null,21.92697144000001,"SmComWX",0.47692599892616272,0.43999999761581421,186.07822295623478,0,0,186.07821655273437,0,0,9999]
["Demand Control Ventilation-New-Small Box","Demand Control Ventilation-DCV Only-Small Box-GasHt-Vent-New",15,9.1205002239999988,25.175159680000004,39.076700000000002,0,0,"ComEconoMizer",0.40000000596046448,6.6115702502429485E-3,9.9381373268083237,1.8751909010461532E-5,2.8362262528389692E-3,25.426911276800002,6.4225144684314728E-2,0.14596623182296753,3.885340690612793,21.471717834472656,0,24.724416732788086,"(na)","(na)","(na)","(na)",0,0,0,0,0,0,0,0,3.885340690612793,21.471717834472656,0,24.724416732788086,50.081475257873535,5.2159739385453152,0,0.52159738540649414,0,5.7375712394714355,3.885340690612793,1.4767228361245417,5.2159739385453152,0.8129502534866333,0.60289239883422852,0,6.6318163871765137,21.471717834472656,0.30886287915999217,5.2159739385453152,0.8129502534866333,0.60289239883422852,0,6.6318163871765137,25.357059478759766,193.30635070800781,0.26153729874880388,31.37104606628418,173.36711120605469,0,199.63006591796875,404.36822509765625,5.2159739385453152,213.64322878389544,0.8129502534866333,0,0,0,0,0,0,0.60289239883422852,50.081474304199219,null,0,0,220.27503967285156,50.081474304199219,4.3983338836391255,-1332.0633544921875,7.300190577124481E-2,2.3799588955084632,2.4529608012797079,3.5262803923211874E-3,0.14874743096928,0.1522737113616012,null,25.175159680000004,"SmComWX",0.47692599892616272,0.43999999761581421,213.64322878389544,0,0,213.64323425292969,0,0,9999]
["Demand Control Ventilation-New-High End","Demand Control Ventilation-DCV Only-High End-GasHt-Vent-New",15,6.9751897600000001,26.992958608000002,68.384200000000007,0,0,"ComEconoMizer",0.40000000596046448,6.6115702502429485E-3,7.600503482584771,1.4341113455884624E-5,2.1690933499485254E-3,27.262888194080006,6.8862579762935638E-2,0.15650586783885956,6.7993435859680176,37.575492858886719,0,43.267711639404297,"(na)","(na)","(na)","(na)",0,0,0,0,0,0,0,0,6.7993435859680176,37.575492858886719,0,43.267711639404297,87.642548084259033,3.9890803257512366,0,0.39890804886817932,0,4.3879885673522949,6.7993435859680176,0.64535470507403425,3.9890803257512366,0.62172931432723999,0.46108096837997437,0,5.0718908309936523,37.575492858886719,0.13497868484402151,3.9890803257512366,0.62172931432723999,0.46108096837997437,0,5.0718908309936523,44.374835968017578,457.05709838867187,0.11429654765626832,71.784309387207031,396.70458984375,0,456.80038452148437,925.289306640625,3.9890803257512366,229.06956320219641,0.62172931432723999,0,0,0,0,0,0,0.46108096837997437,87.642547607421875,null,0,0,234.14144897460937,87.642547607421875,2.6715500656079394,-1504.552490234375,5.5830506341761912E-2,2.5518063349658915,2.6076368413076536,2.6968339761325268E-3,0.159487895935368,0.16218472991150051,null,26.992958608000002,"SmComWX",0.47692599892616272,0.43999999761581421,229.06956320219641,0,0,229.06956481933594,0,0,9999]
["Demand Control Ventilation-New-Anchor","Demand Control Ventilation-DCV Only-Anchor-GasHt-Vent-New",15,6.9751897600000001,26.992958608000002,68.384200000000007,0,0,"ComEconoMizer",0.40000000596046448,6.6115702502429485E-3,7.600503482584771,1.4341113455884624E-5,2.1690933499485254E-3,27.262888194080006,6.8862579762935638E-2,0.15650586783885956,6.7993435859680176,37.575492858886719,0,43.267711639404297,"(na)","(na)","(na)","(na)",0,0,0,0,0,0,0,0,6.7993435859680176,37.575492858886719,0,43.267711639404297,87.642548084259033,3.9890803257512366,0,0.39890804886817932,0,4.3879885673522949,6.7993435859680176,0.64535470507403425,3.9890803257512366,0.62172931432723999,0.46108096837997437,0,5.0718908309936523,37.575492858886719,0.13497868484402151,3.9890803257512366,0.62172931432723999,0.46108096837997437,0,5.0718908309936523,44.374835968017578,457.05709838867187,0.11429654765626832,71.784309387207031,396.70458984375,0,456.80038452148437,925.289306640625,3.9890803257512366,229.06956320219641,0.62172931432723999,0,0,0,0,0,0,0.46108096837997437,87.642547607421875,null,0,0,234.14144897460937,87.642547607421875,2.6715500656079394,-1504.552490234375,5.5830506341761912E-2,2.5518063349658915,2.6076368413076536,2.6968339761325268E-3,0.159487895935368,0.16218472991150051,null,26.992958608000002,"SmComWX",0.47692599892616272,0.43999999761581421,229.06956320219641,0,0,229.06956481933594,0,0,9999]
["Demand Control Ventilation-New-K-12","Demand Control Ventilation-DCV Only-K-12-GasHt-Vent-New",15,0,0,102.88679999999999,0,0,"ComEconoMizer",0,0,0,0,0,0,0,0,10.229887962341309,56.533847808837891,0,65.098030090332031,"(na)","(na)","(na)","(na)",0,0,0,0,0,0,0,0,10.229887962341309,56.533847808837891,0,65.098030090332031,131.86176586151123,0,0,0,0,0,10.229887962341309,0,0,0,0,0,0,56.533847808837891,0,0,0,0,0,0,66.76373291015625,9999,0,9999,9999,9999,9999,9999,0,0,0,0,0,0,0,0,0,0,131.86175537109375,null,0,0,0,131.86175537109375,0,9999,0,0,0,0,0,0,null,0,"SmComWX",0,0,0,0,0,0,0,9999,9999]
["Demand Control Ventilation-New-University","Demand Control Ventilation-DCV Only-University-GasHt-Vent-New",15,0,0,73.62,0,0,"ComEconoMizer",0,0,0,0,0,0,0,0,7.3199315071105957,40.452438354492187,0,46.580482482910156,"(na)","(na)","(na)","(na)",0,0,0,0,0,0,0,0,7.3199315071105957,40.452438354492187,0,46.580482482910156,94.352852344512939,0,0,0,0,0,7.3199315071105957,0,0,0,0,0,0,40.452438354492187,0,0,0,0,0,0,47.772369384765625,9999,0,9999,9999,9999,9999,9999,0,0,0,0,0,0,0,0,0,0,94.352851867675781,null,0,0,0,94.352851867675781,0,9999,0,0,0,0,0,0,null,0,"SmComWX",0,0,0,0,0,0,0,9999,9999]
["Demand Control Ventilation-New-Warehouse","Demand Control Ventilation-DCV Only-Warehouse-GasHt-Vent-New",15,1.0409817599999998,4.500593760000001,27.539200000000001,0,0,"ComEconoMizer",0.40000000596046448,6.6115702502429485E-3,1.1343039780163948,2.1402768197731348E-6,3.2371687120757997E-4,4.5455996976000019,1.1481606401503086E-2,2.6094559580087662E-2,2.7381834983825684,15.132135391235352,0,17.424467086791992,"(na)","(na)","(na)","(na)",0,0,0,0,0,0,0,0,2.7381834983825684,15.132135391235352,0,17.424467086791992,35.294785976409912,0.59533288715601751,0,5.9533290565013885E-2,0,0.65486615896224976,2.7381834983825684,0.23916080792534819,0.59533288715601751,9.2787280678749084E-2,6.8812020123004913E-2,0,0.75693219900131226,15.132135391235352,5.0021505120565628E-2,0.59533288715601751,9.2787280678749084E-2,6.8812020123004913E-2,0,0.75693219900131226,17.870319366455078,1252.744873046875,4.2356949119555148E-2,193.70375061035156,1070.472900390625,0,1232.6363525390625,2496.81298828125,0.59533288715601751,38.193258535512577,9.2787280678749084E-2,0,0,0,0,0,0,6.8812020123004913E-2,35.294784545898437,null,0,0,38.950191497802734,35.294784545898437,1.10356788473431,-216.47476196289062,8.3321803066384852E-3,0.42546813169535774,0.4338003120019962,4.0247721932976273E-4,2.6591758230960015E-2,2.6994235450289776E-2,null,4.500593760000001,"SmComWX",0.47692599892616272,0.43999999761581421,38.193258535512577,0,0,38.193260192871094,0,0,9999]
["Demand Control Ventilation-New-Supermarket","Demand Control Ventilation-DCV Only-Supermarket-GasHt-Vent-New",15,1.4030876160000001,23.913735360000004,37.118699999999997,0,0,"ComEconoMizer",0.40000000596046448,6.6115702502429485E-3,1.5288719990005786,2.8847730391134974E-6,4.3632191955111921E-4,24.152872713600015,6.1007082462310791E-2,0.13865245878696442,3.6906595230102539,20.395843505859375,0,23.485561370849609,"(na)","(na)","(na)","(na)",0,0,0,0,0,0,0,0,3.6906595230102539,20.395843505859375,0,23.485561370849609,47.572064399719238,0.80241963256506565,0,8.0241963267326355E-2,0,0.88266158103942871,3.6906595230102539,0.239160938669427,0.80241963256506565,0.12506335973739624,9.2748299241065979E-2,0,1.0202312469482422,20.395843505859375,5.0021529693068736E-2,0.80241963256506565,0.12506335973739624,9.2748299241065979E-2,0,1.0202312469482422,24.086502075195313,1252.744140625,4.2356970221899701E-2,193.70362854003906,1070.472412109375,0,1232.6356201171875,2496.8115234375,0.80241963256506565,202.93844009469274,0.12506335973739624,0,0,0,0,0,0,9.2748299241065979E-2,47.572063446044922,null,0,0,203.95866394042969,47.572063446044922,4.2873623007242738,-8165.8095703125,1.1230532034032516E-2,2.2607088859929578,2.2719394180269905,5.4247905569806151E-4,0.14129430537456009,0.14183678443025816,null,23.913735360000004,"SmComWX",0.47692599892616272,0.43999999761581421,202.93844009469274,0,0,202.93844604492187,0,0,9999]
["Demand Control Ventilation-New-MIniMart","Demand Control Ventilation-DCV Only-MIniMart-GasHt-Vent-New",15,3.2738711039999995,55.79871584,86.610299999999995,0,0,"ComEconoMizer",0.40000000596046448,6.6115702502429485E-3,3.5673679976680162,6.7311370912648272E-6,1.0180844692513347E-3,56.35670299840001,0.14234985411167145,0.32352238893508911,8.6115388870239258,47.590301513671875,0,54.799640655517578,"(na)","(na)","(na)","(na)",0,0,0,0,0,0,0,0,8.6115388870239258,47.590301513671875,0,54.799640655517578,111.00148105621338,1.872312475985151,0,0.18723125755786896,0,2.0595438480377197,8.6115388870239258,0.23916093982300771,1.872312475985151,0.29181450605392456,0.21641270816326141,0,2.3805396556854248,47.590301513671875,5.0021529901810954E-2,1.872312475985151,0.29181450605392456,0.21641270816326141,0,2.3805396556854248,56.201839447021484,1252.744140625,4.2356970398657351E-2,193.70364379882812,1070.4722900390625,0,1232.6356201171875,2496.8115234375,1.872312475985151,473.52302688761586,0.29181450605392456,0,0,0,0,0,0,0.21641270816326141,111.00148010253906,null,0,0,475.903564453125,111.00148010253906,4.2873623499271911,-8165.8095703125,2.6204574746075869E-2,5.2749874006502502,5.3011919753963257,1.2657844632954767E-3,0.32968671254064014,0.33095249700393559,null,55.79871584,"SmComWX",0.47692599892616272,0.43999999761581421,473.52302688761586,0,0,473.52304077148437,0,0,9999]
["Demand Control Ventilation-New-Restaurant","Demand Control Ventilation-DCV Only-Restaurant-GasHt-Vent-New",15,21.505164799999996,59.360335999999997,92.1387,0,0,"ComEconoMizer",0.40000000596046448,6.6115702502429485E-3,23.433065705722015,4.4215001253178343E-5,6.6875186748802662E-3,59.953939359999978,0.15143601596355438,0.34417277574539185,9.161219596862793,50.628025054931641,0,58.297542572021484,"(na)","(na)","(na)","(na)",0,0,0,0,0,0,0,0,9.161219596862793,50.628025054931641,0,58.297542572021484,118.08678722381592,12.298709104326623,0,1.2298709154129028,0,13.528579711914063,9.161219596862793,1.4767225997259481,12.298709104326623,1.9168498516082764,1.4215558767318726,0,15.637114524841309,50.628025054931641,0.30886282480306965,12.298709104326623,1.9168498516082764,1.4215558767318726,0,15.637114524841309,59.78924560546875,193.30638122558594,0.261537253459807,31.371053695678711,173.36714172363281,0,199.63011169433594,404.36831665039062,12.298709104326623,503.74790094427237,1.9168498516082764,0,0,0,0,0,0,1.4215558767318726,118.0867919921875,null,0,0,519.385009765625,118.0867919921875,4.3983328449747461,-1332.0633544921875,0.17213069193217667,5.6116887240959805,5.7838194160281571,8.3145923036464075E-3,0.35073054525599995,0.35904513755964634,null,59.360335999999997,"SmComWX",0.47692599892616272,0.43999999761581421,503.74790094427237,0,0,503.74789428710937,0,0,9999]
["Demand Control Ventilation-New-Lodging","Demand Control Ventilation-DCV Only-Lodging-GasHt-Vent-New",15,1.6791667199999998,7.2597307200000003,44.422400000000003,0,0,"ComEconoMizer",0.40000000596046448,6.6115702502429485E-3,1.8297011181528697,3.4523966405686224E-6,5.2217498887330294E-4,7.3323280272000018,1.8520526587963104E-2,4.2092107236385345E-2,4.4168558120727539,24.409051895141602,0,28.106721878051758,"(na)","(na)","(na)","(na)",0,0,0,0,0,0,0,0,4.4168558120727539,24.409051895141602,0,28.106721878051758,56.932629585266113,0.96030805711129974,0,9.6030808985233307E-2,0,1.056338906288147,4.4168558120727539,0.23916082186998344,0.96030805711129974,0.14967150986194611,0.11099795997142792,0,1.2209775447845459,24.409051895141602,5.0021505636099618E-2,0.96030805711129974,0.14967150986194611,0.11099795997142792,0,1.2209775447845459,28.825908660888672,1252.7447509765625,4.235694984339021E-2,193.7037353515625,1070.472900390625,0,1232.6363525390625,2496.81298828125,0.96030805711129974,61.608042643502806,0.14967150986194611,0,0,0,0,0,0,0.11099795997142792,56.932632446289063,null,0,0,62.829021453857422,56.932632446289063,1.1035678041011214,-216.47459411621094,1.3440312225976695E-2,0.6863059033459229,0.69974621557189964,6.4922016717822064E-4,4.2894118959120014E-2,4.3543339126298236E-2,null,7.2597307200000003,"SmComWX",0.47692599892616272,0.43999999761581421,61.608042643502806,0,0,61.608043670654297,0,0,9999]
["Demand Control Ventilation-New-Hospital","Demand Control Ventilation-DCV Only-Hospital-GasHt-Vent-New",15,3.7490039999999993,16.208491500000001,99.18,0,0,"ComEconoMizer",0.40000000596046448,6.6115702502429485E-3,4.0850957376999357,7.7080185292288661E-6,1.1658378643915057E-3,16.370576414999999,4.1349988430738449E-2,9.3977250158786774E-2,9.8613262176513672,54.497051239013672,0,62.752677917480469,"(na)","(na)","(na)","(na)",0,0,0,0,0,0,0,0,9.8613262176513672,54.497051239013672,0,62.752677917480469,127.11105537414551,2.1440388881352352,0,0.21440389752388,0,2.3584427833557129,9.8613262176513672,0.23916081200494108,2.1440388881352352,0.33416518568992615,0.2478204071521759,0,2.7260243892669678,54.497051239013672,5.0021504264909929E-2,2.1440388881352352,0.33416518568992615,0.2478204071521759,0,2.7260243892669678,64.358375549316406,1252.744873046875,4.2356948523335193E-2,193.7037353515625,1070.472900390625,0,1232.63623046875,2496.81298828125,2.1440388881352352,137.54965218859411,0.33416518568992615,0,0,0,0,0,0,0.2478204071521759,127.11105346679687,null,0,0,140.27568054199219,127.11105346679687,1.1035678868495362,-216.47477722167969,3.0007612523690053E-2,1.5322859524439947,1.5622935649676848,1.4494862092263349E-3,9.5767872027750015E-2,9.7217358236976345E-2,null,16.208491500000001,"SmComWX",0.47692599892616272,0.43999999761581421,137.54965218859411,0,0,137.54965209960937,0,0,9999]
["Demand Control Ventilation-New-OtherHealth","Demand Control Ventilation-DCV Only-OtherHealth-GasHt-Vent-New",15,4.7607083999999986,20.582507150000001,125.9447,0,0,"ComEconoMizer",0.40000000596046448,6.6115702502429485E-3,5.1874976909259818,9.788101124286186E-6,1.4804502716287971E-3,20.788332221500003,5.2508678287267685E-2,0.11933790892362595,12.522501945495605,69.20361328125,0,79.687110900878906,"(na)","(na)","(na)","(na)",0,0,0,0,0,0,0,0,12.522501945495605,69.20361328125,0,79.687110900878906,161.41322612762451,2.7226281819576799,0,0.2722628116607666,0,2.9948909282684326,12.522501945495605,0.23916075291133981,2.7226281819576799,0.42434290051460266,0.31469711661338806,0,3.4616682529449463,69.20361328125,5.00214950484901E-2,2.7226281819576799,0.42434290051460266,0.31469711661338806,0,3.4616682529449463,81.726112365722656,1252.7451171875,4.2356940489357904E-2,193.70378112792969,1070.4730224609375,0,1232.6365966796875,2496.8134765625,2.7226281819576799,174.66873457358776,0.42434290051460266,0,0,0,0,0,0,0.31469711661338806,161.41322326660156,null,0,0,178.13040161132812,161.41322326660156,1.1035675960603337,-216.47412109375,3.8105452276251554E-2,1.9457878959324011,1.9838933482086527,1.840643854193798E-3,0.12161174349577501,0.12345238734996881,null,20.582507150000001,"SmComWX",0.47692599892616272,0.43999999761581421,174.66873457358776,0,0,174.66873168945312,0,0,9999]
["Demand Control Ventilation-New-Other","Demand Control Ventilation-DCV Only-Other-GasHt-Vent-New",15,3.0104423999999992,13.015384899999999,79.641300000000001,0,0,"ComEconoMizer",0.40000000596046448,6.6115702502429485E-3,3.2803233650407306,6.1895229919173289E-6,9.3616533558815718E-4,13.145538749000004,3.3203959465026855E-2,7.5463540852069855E-2,7.9186210632324219,43.761001586914063,0,50.390247344970703,"(na)","(na)","(na)","(na)",0,0,0,0,0,0,0,0,7.9186210632324219,43.761001586914063,0,50.390247344970703,102.06986999511719,1.7216587595241726,0,0.1721658855676651,0,1.8938246965408325,7.9186210632324219,0.23916091324096883,1.7216587595241726,0.26833397150039673,0.19899927079677582,0,2.1889920234680176,43.761001586914063,5.0021524243995447E-2,1.7216587595241726,0.26833397150039673,0.19899927079677582,0,2.1889920234680176,51.679622650146484,1252.744384765625,4.2356965658206881E-2,193.70365905761719,1070.472412109375,0,1232.6356201171875,2496.811767578125,1.7216587595241726,110.45208408787978,0.26833397150039673,0,0,0,0,0,0,0.19899927079677582,102.06986999511719,null,0,0,112.64107513427734,102.06986999511719,1.1035683311352278,-216.47578430175781,2.4096050328057093E-2,1.2304224269064055,1.2545184772344626,1.1639344056368645E-3,7.6901401681649981E-2,7.8065336087286843E-2,null,13.015384899999999,"SmComWX",0.47692599892616272,0.43999999761581421,110.45208408787978,0,0,110.45208740234375,0,0,9999]
["Demand Control Ventilation-New-Large Off","Demand Control Ventilation-DCV Only-Large Off-HtPmpHt-Vent-New",15,0.41327999999999998,0,10.933299999999999,0,0,"ComEconoMizer",0.40000000596046448,6.6115702502429485E-3,0.45032983866558413,8.4971100022812607E-7,1.2851879000663757E-4,0,0,0,1.0870825052261353,6.0075883865356445,0,6.91766357421875,"(na)","(na)","(na)","(na)",0,0,0,0,0,0,0,0,1.0870825052261353,6.0075883865356445,0,6.91766357421875,14.01233446598053,0.23635301314389909,0,2.3635301738977432E-2,0,0.25998830795288086,1.0870825052261353,0.23916152972105248,0.23635301314389909,3.6837462335824966E-2,2.7319047600030899E-2,0,0.30050951242446899,6.0075883865356445,5.0021656569092576E-2,0.23635301314389909,3.6837462335824966E-2,2.7319047600030899E-2,0,0.30050951242446899,7.0946707725524902,1252.740966796875,4.2357077257621903E-2,193.70315551757813,1070.4696044921875,0,1232.632568359375,2496.805419921875,0.23635301314389909,0,3.6837462335824966E-2,0,0,0,0,0,0,2.7319047600030899E-2,14.012334823608398,null,0,0,0.30050951242446899,14.012334823608398,2.1446070684340741E-2,2485.37353515625,3.3079575545373169E-3,0,3.3079575545373169E-3,1.5978741568402162E-4,0,1.5978741568402162E-4,null,0,"SmComWX",0,0,0,0,0,0,0,9999,9999]
["Demand Control Ventilation-New-Medium Off","Demand Control Ventilation-DCV Only-Medium Off-HtPmpHt-Vent-New",15,0.4536,0,12,0,0,"ComEconoMizer",0.40000000596046448,6.6115702502429485E-3,0.49426445707198247,9.3260956646190607E-7,1.4105720038060099E-4,0,0,0,1.1931428909301758,6.593714714050293,0,7.5925807952880859,"(na)","(na)","(na)","(na)",0,0,0,0,0,0,0,0,1.1931428909301758,6.593714714050293,0,7.5925807952880859,15.379438400268555,0.25941184369452347,0,2.5941185653209686E-2,0,0.28535303473472595,1.1931428909301758,0.23916081763289188,0.25941184369452347,4.043135792016983E-2,2.9984321445226669E-2,0,0.32982751727104187,6.593714714050293,5.0021503410983673E-2,0.25941184369452347,4.043135792016983E-2,2.9984321445226669E-2,0,0.32982751727104187,7.7868576049804687,1252.744873046875,4.2356948051671388E-2,193.7037353515625,1070.472900390625,0,1232.63623046875,2496.81298828125,0.25941184369452347,0,4.043135792016983E-2,0,0,0,0,0,0,2.9984321445226669E-2,15.379438400268555,null,0,0,0.32982751727104187,15.379438400268555,2.14460056652108E-2,2485.381103515625,3.6306851208336359E-3,0,3.6306851208336359E-3,1.7537643184831631E-4,0,1.7537643184831631E-4,null,0,"SmComWX",0,0,0,0,0,0,0,9999,9999]
["Demand Control Ventilation-New-Small Off","Demand Control Ventilation-DCV Only-Small Off-HtPmpHt-Vent-New",15,0.47879999999999995,0,12.666700000000001,0,0,"ComEconoMizer",0.40000000596046448,6.6115702502429485E-3,0.52172359357598153,9.8442126272857422E-7,1.4889371232129633E-4,0,0,0,1.2594319581985474,6.9600505828857422,0,8.0144119262695313,"(na)","(na)","(na)","(na)",0,0,0,0,0,0,0,0,1.2594319581985474,6.9600505828857422,0,8.0144119262695313,16.233894467353821,0.2738236127886633,0,2.7382360771298409E-2,0,0.30120596289634705,1.2594319581985474,0.23916017979311677,0.2738236127886633,4.2677544057369232E-2,3.1650114804506302E-2,0,0.34815126657485962,6.9600505828857422,5.0021370894432503E-2,0.2738236127886633,4.2677544057369232E-2,3.1650114804506302E-2,0,0.34815126657485962,8.219482421875,1252.7481689453125,4.2356835714455053E-2,193.70425415039062,1070.475830078125,0,1232.6395263671875,2496.819580078125,0.2738236127886633,0,4.2677544057369232E-2,0,0,0,0,0,0,3.1650114804506302E-2,16.233894348144531,null,0,0,0.34815126657485962,16.233894348144531,2.144594908555205E-2,2485.3876953125,3.8323898497688432E-3,0,3.8323898497688432E-3,1.8511956695100063E-4,0,1.8511956695100063E-4,null,0,"SmComWX",0,0,0,0,0,0,0,9999,9999]
["Demand Control Ventilation-New-Big Box","Demand Control Ventilation-DCV Only-Big Box-HtPmpHt-Vent-New",15,6.4082304000000007E-2,0,0.27460000000000001,0,0,"ComEconoMizer",0.40000000596046448,6.6115702502429485E-3,6.9827171945506472E-2,1.3175434787626727E-7,1.992784564208705E-5,0,0,0,2.7303086593747139E-2,0.1508861631155014,0,0.17374356091022491,"(na)","(na)","(na)","(na)",0,0,0,0,0,0,0,0,2.7303086593747139E-2,0.1508861631155014,0,0.17374356091022491,0.35193281061947346,3.6648387629702198E-2,0,3.6648388486355543E-3,0,4.0313225239515305E-2,2.7303086593747139E-2,1.4765080255640457,3.6648387629702198E-2,5.7119373232126236E-3,4.2360327206552029E-3,0,4.6596359461545944E-2,0.1508861631155014,0.308817963897068,3.6648387629702198E-2,5.7119373232126236E-3,4.2360327206552029E-3,0,4.6596359461545944E-2,0.17818924784660339,193.33613586425781,0.26149926412284308,31.375612258911133,173.392333984375,0,199.65913391113281,404.42709350585937,3.6648387629702198E-2,0,5.7119373232126236E-3,0,0,0,0,0,0,4.2360327206552029E-3,0.3519328236579895,null,0,0,4.6596359461545944E-2,0.3519328236579895,0.13240128382811106,392.99526977539062,5.1292475229616048E-4,0,5.1292475229616048E-4,2.4776291490606461E-5,0,2.4776291490606461E-5,null,0,"SmComWX",0,0,0,0,0,0,0,9999,9999]
["Demand Control Ventilation-New-Small Box","Demand Control Ventilation-DCV Only-Small Box-HtPmpHt-Vent-New",15,1.5631700479999999,0,6.6974,0,0,"ComEconoMizer",0.40000000596046448,6.6115702502429485E-3,1.7033055447220122,3.2139053018909181E-6,4.8610317753627896E-4,0,0,0,0.665912926197052,3.6800620555877686,0,4.2375459671020508,"(na)","(na)","(na)","(na)",0,0,0,0,0,0,0,0,0.665912926197052,3.6800620555877686,0,4.2375459671020508,8.5835209488868713,0.89397007089889025,0,8.939700573682785E-2,0,0.98336708545684814,0.665912926197052,1.476720210631153,0.89397007089889025,0.13933220505714417,0.10333023220300674,0,1.1366325616836548,3.6800620555877686,0.30886232106689343,0.89397007089889025,0.13933220505714417,0.10333023220300674,0,1.1366325616836548,4.3459749221801758,193.30671691894531,0.26153682727649868,31.371103286743164,173.36741638183594,0,199.63044738769531,404.36895751953125,0.89397007089889025,0,0.13933220505714417,0,0,0,0,0,0,0.10333023220300674,8.5835208892822266,null,0,0,1.1366325616836548,8.5835208892822266,0.13242031129420237,392.93716430664062,1.2511856778232815E-2,0,1.2511856778232815E-2,6.0437210183069085E-4,0,6.0437210183069085E-4,null,0,"SmComWX",0,0,0,0,0,0,0,9999,9999]
["Demand Control Ventilation-New-High End","Demand Control Ventilation-DCV Only-High End-HtPmpHt-Vent-New",15,1.1954835199999998,0,11.7204,0,0,"ComEconoMizer",0.40000000596046448,6.6115702502429485E-3,1.3026565541254462,2.4579351247666636E-6,3.7176269688643515E-4,0,0,0,1.1653426885604858,6.4400811195373535,0,7.4156737327575684,"(na)","(na)","(na)","(na)",0,0,0,0,0,0,0,0,1.1653426885604858,6.4400811195373535,0,7.4156737327575684,15.021097540855408,0.68369176373372631,0,6.8369179964065552E-2,0,0.75206094980239868,1.1653426885604858,0.6453560408284631,0.68369176373372631,0.10655868798494339,7.9025045037269592E-2,0,0.86927551031112671,6.4400811195373535,0.13497896697586736,0.68369176373372631,0.10655868798494339,7.9025045037269592E-2,0,0.86927551031112671,7.6054239273071289,457.05612182617187,0.11429678591091562,71.784156799316406,396.70376586914062,0,456.79946899414062,925.28741455078125,0.68369176373372631,0,0.10655868798494339,0,0,0,0,0,0,7.9025045037269592E-2,15.021097183227539,null,0,0,0.86927551031112671,15.021097183227539,5.7870306419864369E-2,913.8555908203125,9.5688364820675064E-3,0,9.5688364820675064E-3,4.622125971584332E-4,0,4.622125971584332E-4,null,0,"SmComWX",0,0,0,0,0,0,0,9999,9999]
["Demand Control Ventilation-New-Anchor","Demand Control Ventilation-DCV Only-Anchor-HtPmpHt-Vent-New",15,1.1954835199999998,0,11.7204,0,0,"ComEconoMizer",0.40000000596046448,6.6115702502429485E-3,1.3026565541254462,2.4579351247666636E-6,3.7176269688643515E-4,0,0,0,1.1653426885604858,6.4400811195373535,0,7.4156737327575684,"(na)","(na)","(na)","(na)",0,0,0,0,0,0,0,0,1.1653426885604858,6.4400811195373535,0,7.4156737327575684,15.021097540855408,0.68369176373372631,0,6.8369179964065552E-2,0,0.75206094980239868,1.1653426885604858,0.6453560408284631,0.68369176373372631,0.10655868798494339,7.9025045037269592E-2,0,0.86927551031112671,6.4400811195373535,0.13497896697586736,0.68369176373372631,0.10655868798494339,7.9025045037269592E-2,0,0.86927551031112671,7.6054239273071289,457.05612182617187,0.11429678591091562,71.784156799316406,396.70376586914062,0,456.79946899414062,925.28741455078125,0.68369176373372631,0,0.10655868798494339,0,0,0,0,0,0,7.9025045037269592E-2,15.021097183227539,null,0,0,0.86927551031112671,15.021097183227539,5.7870306419864369E-2,913.8555908203125,9.5688364820675064E-3,0,9.5688364820675064E-3,4.622125971584332E-4,0,4.622125971584332E-4,null,0,"SmComWX",0,0,0,0,0,0,0,9999,9999]
["Demand Control Ventilation-New-K-12","Demand Control Ventilation-DCV Only-K-12-HtPmpHt-Vent-New",15,0,0,5.1128,0,0,"ComEconoMizer",0,0,0,0,0,0,0,0,0.5083584189414978,2.8093619346618652,0,3.23494553565979,"(na)","(na)","(na)","(na)",0,0,0,0,0,0,0,0,0.5083584189414978,2.8093619346618652,0,3.23494553565979,6.5526658892631531,0,0,0,0,0,0.5083584189414978,0,0,0,0,0,0,2.8093619346618652,0,0,0,0,0,0,3.3177204132080078,9999,0,9999,9999,9999,9999,9999,0,0,0,0,0,0,0,0,0,0,6.5526657104492188,null,0,0,0,6.5526657104492188,0,9999,0,0,0,0,0,0,null,0,"SmComWX",0,0,0,0,0,0,0,9999,9999]
["Demand Control Ventilation-New-University","Demand Control Ventilation-DCV Only-University-HtPmpHt-Vent-New",15,0,0,7.42,0,0,"ComEconoMizer",0,0,0,0,0,0,0,0,0.73776000738143921,4.0771136283874512,0,4.6947455406188965,"(na)","(na)","(na)","(na)",0,0,0,0,0,0,0,0,0.73776000738143921,4.0771136283874512,0,4.6947455406188965,9.5096191763877869,0,0,0,0,0,0.73776000738143921,0,0,0,0,0,0,4.0771136283874512,0,0,0,0,0,0,4.8148736953735352,9999,0,9999,9999,9999,9999,9999,0,0,0,0,0,0,0,0,0,0,9.5096187591552734,null,0,0,0,9.5096187591552734,0,9999,0,0,0,0,0,0,null,0,"SmComWX",0,0,0,0,0,0,0,9999,9999]
["Demand Control Ventilation-New-Warehouse","Demand Control Ventilation-DCV Only-Warehouse-HtPmpHt-Vent-New",15,4.608575999999999E-2,0,1.2192000000000001,0,0,"ComEconoMizer",0.40000000596046448,6.6115702502429485E-3,5.0217268838513421E-2,9.4753133339509077E-8,1.4331411875900812E-5,0,0,0,0.1212233230471611,0.6699213981628418,0,0.77140617370605469,"(na)","(na)","(na)","(na)",0,0,0,0,0,0,0,0,0.1212233230471611,0.6699213981628418,0,0.77140617370605469,1.5625508949160576,2.6356243319363568E-2,0,2.6356242597103119E-3,0,2.8991866856813431E-2,0.1212233230471611,0.23916080544826174,2.6356243319363568E-2,4.1078259237110615E-3,3.0464068986475468E-3,0,3.3510476350784302E-2,0.6699213981628418,5.0021504363974026E-2,2.6356243319363568E-2,4.1078259237110615E-3,3.0464068986475468E-3,0,3.3510476350784302E-2,0.7911447286605835,1252.744873046875,4.2356948410741009E-2,193.7037353515625,1070.472900390625,0,1232.63623046875,2496.81298828125,2.6356243319363568E-2,0,4.1078259237110615E-3,0,0,0,0,0,0,3.0464068986475468E-3,1.5625509023666382,null,0,0,3.3510476350784302E-2,1.5625509023666382,2.1446006073125193E-2,2485.381103515625,3.6887760827669766E-4,0,3.6887760827669766E-4,1.7818245475788938E-5,0,1.7818245475788938E-5,null,0,"SmComWX",0,0,0,0,0,0,0,9999,9999]
["Demand Control Ventilation-New-Supermarket","Demand Control Ventilation-DCV Only-Supermarket-HtPmpHt-Vent-New",15,3.5532000000000003E-3,0,9.4E-2,0,0,"ComEconoMizer",0.40000000596046448,6.6115702502429485E-3,3.8717382470638642E-3,7.3054415850037913E-9,1.1049480690417113E-6,0,0,0,9.3462858349084854E-3,5.1650762557983398E-2,0,5.9475213289260864E-2,"(na)","(na)","(na)","(na)",0,0,0,0,0,0,0,0,9.3462858349084854E-3,5.1650762557983398E-2,0,5.9475213289260864E-2,0.12047226168215275,2.0320594422737694E-3,0,2.0320594194345176E-4,0,2.2352654486894608E-3,9.3462858349084854E-3,0.23916081999851527,2.0320594422737694E-3,3.1671233591623604E-4,2.3487718135584146E-4,0,2.5836490094661713E-3,5.1650762557983398E-2,5.002150658754418E-2,2.0320594422737694E-3,3.1671233591623604E-4,2.3487718135584146E-4,0,2.5836490094661713E-3,6.0997046530246735E-2,1252.7447509765625,4.2356950502000439E-2,193.7037353515625,1070.472900390625,0,1232.63623046875,2496.812744140625,2.0320594422737694E-3,0,3.1671233591623604E-4,0,0,0,0,0,0,2.3487718135584146E-4,0.1204722598195076,null,0,0,2.5836490094661713E-3,0.1204722598195076,2.144600726687362E-2,2485.380859375,2.844036677986355E-5,0,2.844036677986355E-5,1.3737820494784786E-6,0,1.3737820494784786E-6,null,0,"SmComWX",0,0,0,0,0,0,0,9999,9999]
["Demand Control Ventilation-New-MIniMart","Demand Control Ventilation-DCV Only-MIniMart-HtPmpHt-Vent-New",15,8.2907999999999975E-3,0,0.21929999999999999,0,0,"ComEconoMizer",0.40000000596046448,6.6115702502429485E-3,9.0340559098156751E-3,1.7046030365008846E-8,2.5782121610973263E-6,0,0,0,2.1804686635732651E-2,0.12050013244152069,0,0.13875441253185272,"(na)","(na)","(na)","(na)",0,0,0,0,0,0,0,0,2.1804686635732651E-2,0.12050013244152069,0,0.13875441253185272,0.28105923160910606,4.7414720319721212E-3,0,4.7414720756933093E-4,0,5.2156192250549793E-3,2.1804686635732651E-2,0.2391971655760603,4.7414720319721212E-3,7.3899544076994061E-4,5.4804678075015545E-4,0,6.0285143554210663E-3,0.12050013244152069,5.0029108942414524E-2,4.7414720319721212E-3,7.3899544076994061E-4,5.4804678075015545E-4,0,6.0285143554210663E-3,0.14230482280254364,1252.552734375,4.2363387920260828E-2,193.67430114746094,1070.3101806640625,0,1232.448974609375,2496.43359375,4.7414720319721212E-3,0,7.3899544076994061E-4,0,0,0,0,0,0,5.4804678075015545E-4,0.28105923533439636,null,0,0,6.0285143554210663E-3,0.28105923533439636,2.1449265832946783E-2,2485.001708984375,6.6360855819681529E-5,0,6.6360855819681529E-5,3.2054914487831141E-6,0,3.2054914487831141E-6,null,0,"SmComWX",0,0,0,0,0,0,0,9999,9999]
["Demand Control Ventilation-New-Restaurant","Demand Control Ventilation-DCV Only-Restaurant-HtPmpHt-Vent-New",15,5.4459999999999981E-2,0,0.23330000000000001,0,0,"ComEconoMizer",0.40000000596046448,6.6115702502429485E-3,5.9342245000308984E-2,1.1197072069535352E-7,1.6935571693466045E-5,0,0,0,2.3196686059236526E-2,0.12819279730319977,0,0.14761242270469666,"(na)","(na)","(na)","(na)",0,0,0,0,0,0,0,0,2.3196686059236526E-2,0.12819279730319977,0,0.14761242270469666,0.29900190606713295,3.1145434320114046E-2,0,3.1145433895289898E-3,0,3.425997868180275E-2,2.3196686059236526E-2,1.4769341457721412,3.1145434320114046E-2,4.8542586155235767E-3,3.5999694373458624E-3,0,3.9599660784006119E-2,0.12819279730319977,0.30890707751171798,3.1145434320114046E-2,4.8542586155235767E-3,3.5999694373458624E-3,0,3.9599660784006119E-2,0.151389479637146,193.27705383300781,0.26157472430353246,31.366559982299805,173.34230041503906,0,199.60153198242187,404.31036376953125,3.1145434320114046E-2,0,4.8542586155235767E-3,0,0,0,0,0,0,3.5999694373458624E-3,0.29900190234184265,null,0,0,3.9599660784006119E-2,0.29900190234184265,0.13243949975846647,392.87857055664062,4.3590633086552054E-4,0,4.3590633086552054E-4,2.1055997527467601E-5,0,2.1055997527467601E-5,null,0,"SmComWX",0,0,0,0,0,0,0,9999,9999]
["Demand Control Ventilation-New-Lodging","Demand Control Ventilation-DCV Only-Lodging-HtPmpHt-Vent-New",15,1.0937203199999999,0,28.9344,0,0,"ComEconoMizer",0.40000000596046448,6.6115702502429485E-3,1.191770458891964,2.2487083697342314E-6,3.4011714160442352E-4,0,0,0,2.876906156539917,15.898764610290527,0,18.307229995727539,"(na)","(na)","(na)","(na)",0,0,0,0,0,0,0,0,2.876906156539917,15.898764610290527,0,18.307229995727539,37.082900762557983,0.62549383751623433,0,6.2549382448196411E-2,0,0.68804323673248291,2.876906156539917,0.2391608146134134,0.62549383751623433,9.7488105297088623E-2,7.2298198938369751E-2,0,0.79528015851974487,15.898764610290527,5.0021505522318696E-2,0.62549383751623433,9.7488105297088623E-2,7.2298198938369751E-2,0,0.79528015851974487,18.775671005249023,1252.744873046875,4.235694967322573E-2,193.7037353515625,1070.472900390625,0,1232.63623046875,2496.81298828125,0.62549383751623433,0,9.7488105297088623E-2,0,0,0,0,0,0,7.2298198938369751E-2,37.082901000976563,null,0,0,0.79528015851974487,37.082901000976563,2.1446006657643891E-2,2485.381103515625,8.754307963354066E-3,0,8.754307963354066E-3,4.2286765247266027E-4,0,4.2286765247266027E-4,null,0,"SmComWX",0,0,0,0,0,0,0,9999,9999]
["Demand Control Ventilation-New-Hospital","Demand Control Ventilation-DCV Only-Hospital-HtPmpHt-Vent-New",15,0.16949519999999998,0,4.484,0,0,"ComEconoMizer",0.40000000596046448,6.6115702502429485E-3,0.18469015212589751,3.4848511631935253E-7,5.2708375733345747E-5,0,0,0,0.44583773612976074,2.4638514518737793,0,2.8370943069458008,"(na)","(na)","(na)","(na)",0,0,0,0,0,0,0,0,0.44583773612976074,2.4638514518737793,0,2.8370943069458008,5.7467834949493408,9.6933558927186941E-2,0,9.6933562308549881E-3,0,0.10662691295146942,0.44583773612976074,0.23916081237010464,9.6933558927186941E-2,1.5107851475477219E-2,1.1204141192138195E-2,0,0.12324555218219757,2.4638514518737793,5.0021502514314774E-2,9.6933558927186941E-2,1.5107851475477219E-2,1.1204141192138195E-2,0,0.12324555218219757,2.90968918800354,1252.744873046875,4.2356947299710145E-2,193.7037353515625,1070.4730224609375,0,1232.63623046875,2496.812744140625,9.6933558927186941E-2,0,1.5107851475477219E-2,0,0,0,0,0,0,1.1204141192138195E-2,5.7467832565307617,null,0,0,0.12324555218219757,5.7467832565307617,2.1446006590685945E-2,2485.381103515625,1.3566660068181718E-3,0,1.3566660068181718E-3,6.553232670065425E-5,0,6.553232670065425E-5,null,0,"SmComWX",0,0,0,0,0,0,0,9999,9999]
["Demand Control Ventilation-New-OtherHealth","Demand Control Ventilation-DCV Only-OtherHealth-HtPmpHt-Vent-New",15,0,0,0,0,0,"ComEconoMizer",0,0,0,0,0,0,0,0,0,0,0,0,"(na)","(na)","(na)","(na)",0,0,0,0,0,0,0,0,0,0,0,0,0,0,0,0,0,0,0,9999,0,0,0,0,0,0,9999,0,0,0,0,0,0,9999,9999,9999,9999,9999,9999,9999,0,0,0,0,0,0,0,0,0,0,0,null,0,0,0,0,9999,9999,0,0,0,0,0,0,null,0,"SmComWX",0,0,0,0,0,0,0,9999,9999]
["Demand Control Ventilation-New-Other","Demand Control Ventilation-DCV Only-Other-HtPmpHt-Vent-New",15,0.22296959999999999,0,5.8986999999999998,0,0,"ComEconoMizer",0.40000000596046448,6.6115702502429485E-3,0.24295843978738338,4.5842944018659182E-7,6.9337453169282526E-5,0,0,0,0.58649933338165283,3.2411954402923584,0,3.7321963310241699,"(na)","(na)","(na)","(na)",0,0,0,0,0,0,0,0,0.58649933338165283,3.2411954402923584,0,3.7321963310241699,7.5598911046981812,0.12751533294495238,0,1.2751533649861813E-2,0,0.14026686549186707,0.58649933338165283,0.23915946465967813,0.12751533294495238,1.987425796687603E-2,1.4738959260284901E-2,0,0.16212855279445648,3.2411954402923584,5.0021219996992584E-2,0.12751533294495238,1.987425796687603E-2,1.4738959260284901E-2,0,0.16212855279445648,3.8276948928833008,1252.751953125,4.2356708086338422E-2,193.70481872558594,1070.47900390625,0,1232.6431884765625,2496.8271484375,0.12751533294495238,0,1.987425796687603E-2,0,0,0,0,0,0,1.4738959260284901E-2,7.5598912239074707,null,0,0,0.16212855279445648,7.5598912239074707,2.144588399094903E-2,2485.395263671875,1.7846834416186696E-3,0,1.7846834416186696E-3,8.6207259388550173E-5,0,8.6207259388550173E-5,null,0,"SmComWX",0,0,0,0,0,0,0,9999,9999]
["Demand Control Ventilation-New-Large Off","Demand Control Ventilation-DCV Only-Large Off-HtPmpHt-Heat-New",15,20.236574442258597,0,0,0,0,"SmComHP",0.15800000727176666,0.15000000596046448,22.064867126129403,2.3912852630019188E-3,1.5941901132464409E-2,0,0,0,0,0,0,0,"(na)","(na)","(na)","(na)",0,0,0,0,0,0,0,0,0,0,0,0,0,11.198820026938879,0,1.1198819875717163,0,12.31870174407959,0,9999,11.198820026938879,4.5694422721862793,1.5768262147903442,0,17.345088958740234,0,9999,11.198820026938879,4.5694422721862793,1.5768262147903442,0,17.345088958740234,0,-22.351934432983398,9999,0,0,0,0,0,11.198820026938879,0,4.5694422721862793,0,0,0,0,0,0,1.5768262147903442,0,null,0,0,17.345088958740234,0,9999,-22.351934432983398,0.16613835909697447,0,0.16613835909697447,8.1224792444122996E-3,0,8.1224792444122996E-3,null,0,"SmComWX",0,0,0,0,0,0,0,9999,9999]
["Demand Control Ventilation-New-Medium Off","Demand Control Ventilation-DCV Only-Medium Off-HtPmpHt-Heat-New",15,22.210874387844804,0,0,0,0,"SmComHP",0.15800000727176666,0.15000000596046448,24.217537089654222,2.6245813351124525E-3,1.7497207969427109E-2,0,0,0,0,0,0,0,"(na)","(na)","(na)","(na)",0,0,0,0,0,0,0,0,0,0,0,0,0,12.291387834445105,0,1.2291388511657715,0,13.520526885986328,0,9999,12.291387834445105,5.0152411460876465,1.7306629419326782,0,19.03729248046875,0,9999,12.291387834445105,5.0152411460876465,1.7306629419326782,0,19.03729248046875,0,-22.351934432983398,9999,0,0,0,0,0,12.291387834445105,0,5.0152411460876465,0,0,0,0,0,0,1.7306629419326782,0,null,0,0,19.03729248046875,0,9999,-22.351934432983398,0.18234697949667908,0,0.18234697949667908,8.9149162438671558E-3,0,8.9149162438671558E-3,null,0,"SmComWX",0,0,0,0,0,0,0,9999,9999]
["Demand Control Ventilation-New-Small Off","Demand Control Ventilation-DCV Only-Small Off-HtPmpHt-Heat-New",15,23.444811853836178,0,0,0,0,"SmComHP",0.15800000727176666,0.15000000596046448,25.562955816857237,2.7703915257006884E-3,1.8469275906682014E-2,0,0,0,0,0,0,0,"(na)","(na)","(na)","(na)",0,0,0,0,0,0,0,0,0,0,0,0,0,12.974242714136489,0,1.29742431640625,0,14.27166748046875,0,9999,12.974242714136489,5.2938656806945801,1.8268108367919922,0,20.094919204711914,0,9999,12.974242714136489,5.2938656806945801,1.8268108367919922,0,20.094919204711914,0,-22.351934432983398,9999,0,0,0,0,0,12.974242714136489,0,5.2938656806945801,0,0,0,0,0,0,1.8268108367919922,0,null,0,0,20.094919204711914,0,9999,-22.351934432983398,0.19247736724649475,0,0.19247736724649475,9.4101893685264448E-3,0,9.4101893685264448E-3,null,0,"SmComWX",0,0,0,0,0,0,0,9999,9999]
["Demand Control Ventilation-New-Big Box","Demand Control Ventilation-DCV Only-Big Box-HtPmpHt-Heat-New",15,1.9743588799129383,0,0,0,0,"SmComHP",0.15800000727176666,0.15000000596046448,2.1527342223297006,2.3330308613367379E-4,1.555353868752718E-3,0,0,0,0,0,0,0,"(na)","(na)","(na)","(na)",0,0,0,0,0,0,0,0,0,0,0,0,0,1.0926004214706349,0,0.10926004499197006,0,1.2018604278564453,0,9999,1.0926004214706349,0.44581258296966553,0.1538413017988205,0,1.6922543048858643,0,9999,1.0926004214706349,0.44581258296966553,0.1538413017988205,0,1.6922543048858643,0,-22.351936340332031,9999,0,0,0,0,0,1.0926004214706349,0,0.44581258296966553,0,0,0,0,0,0,0.1538413017988205,0,null,0,0,1.6922543048858643,0,9999,-22.351936340332031,1.6209104239119719E-2,0,1.6209104239119719E-2,7.9246065429066314E-4,0,7.9246065429066314E-4,null,0,"SmComWX",0,0,0,0,0,0,0,9999,9999]
["Demand Control Ventilation-New-Small Box","Demand Control Ventilation-DCV Only-Small Box-HtPmpHt-Heat-New",15,48.160856780098499,0,0,0,0,"SmComHP",0.15800000727176666,0.15000000596046448,52.511995474606543,5.691000260412693E-3,3.7939999252557755E-2,0,0,0,0,0,0,0,"(na)","(na)","(na)","(na)",0,0,0,0,0,0,0,0,0,0,0,0,0,26.651979511770861,0,2.6651980876922607,0,29.317176818847656,0,9999,26.651979511770861,10.874777793884277,3.7526757717132568,0,41.279434204101563,0,9999,26.651979511770861,10.874777793884277,3.7526757717132568,0,41.279434204101563,0,-22.351934432983398,9999,0,0,0,0,0,26.651979511770861,0,10.874777793884277,0,0,0,0,0,0,3.7526757717132568,0,null,0,0,41.279434204101563,0,9999,-22.351934432983398,0.39539131195254434,0,0.39539131195254434,1.9330621430303858E-2,0,1.9330621430303858E-2,null,0,"SmComWX",0,0,0,0,0,0,0,9999,9999]
["Demand Control Ventilation-New-High End","Demand Control Ventilation-DCV Only-High End-HtPmpHt-Heat-New",15,51.638362183807011,0,0,0,0,"SmComHP",0.15800000727176666,0.15000000596046448,56.303679431896967,6.1019244603812695E-3,4.067949578166008E-2,0,0,0,0,0,0,0,"(na)","(na)","(na)","(na)",0,0,0,0,0,0,0,0,0,0,0,0,0,28.576413771628356,0,2.8576414585113525,0,31.434055328369141,0,9999,28.576413771628356,11.660001754760742,4.0236415863037109,0,44.260055541992188,0,9999,28.576413771628356,11.660001754760742,4.0236415863037109,0,44.260055541992188,0,-22.351932525634766,9999,0,0,0,0,0,28.576413771628356,0,11.660001754760742,0,0,0,0,0,0,4.0236415863037109,0,null,0,0,44.260055541992188,0,9999,-22.351932525634766,0.42394095819684774,0,0.42394095819684774,2.0726409316467544E-2,0,2.0726409316467544E-2,null,0,"SmComWX",0,0,0,0,0,0,0,9999,9999]
["Demand Control Ventilation-New-Anchor","Demand Control Ventilation-DCV Only-Anchor-HtPmpHt-Heat-New",15,51.638362183807011,0,0,0,0,"SmComHP",0.15800000727176666,0.15000000596046448,56.303679431896967,6.1019244603812695E-3,4.067949578166008E-2,0,0,0,0,0,0,0,"(na)","(na)","(na)","(na)",0,0,0,0,0,0,0,0,0,0,0,0,0,28.576413771628356,0,2.8576414585113525,0,31.434055328369141,0,9999,28.576413771628356,11.660001754760742,4.0236415863037109,0,44.260055541992188,0,9999,28.576413771628356,11.660001754760742,4.0236415863037109,0,44.260055541992188,0,-22.351932525634766,9999,0,0,0,0,0,28.576413771628356,0,11.660001754760742,0,0,0,0,0,0,4.0236415863037109,0,null,0,0,44.260055541992188,0,9999,-22.351932525634766,0.42394095819684774,0,0.42394095819684774,2.0726409316467544E-2,0,2.0726409316467544E-2,null,0,"SmComWX",0,0,0,0,0,0,0,9999,9999]
["Demand Control Ventilation-New-K-12","Demand Control Ventilation-DCV Only-K-12-HtPmpHt-Heat-New",15,0,0,0,0,0,"SmComHP",0,0,0,0,0,0,0,0,0,0,0,0,"(na)","(na)","(na)","(na)",0,0,0,0,0,0,0,0,0,0,0,0,0,0,0,0,0,0,0,9999,0,0,0,0,0,0,9999,0,0,0,0,0,0,9999,9999,9999,9999,9999,9999,9999,0,0,0,0,0,0,0,0,0,0,0,null,0,0,0,0,9999,9999,0,0,0,0,0,0,null,0,"SmComWX",0,0,0,0,0,0,0,9999,9999]
["Demand Control Ventilation-New-University","Demand Control Ventilation-DCV Only-University-HtPmpHt-Heat-New",15,0,0,0,0,0,"SmComHP",0,0,0,0,0,0,0,0,0,0,0,0,"(na)","(na)","(na)","(na)",0,0,0,0,0,0,0,0,0,0,0,0,0,0,0,0,0,0,0,9999,0,0,0,0,0,0,9999,0,0,0,0,0,0,9999,9999,9999,9999,9999,9999,9999,0,0,0,0,0,0,0,0,0,0,0,null,0,0,0,0,9999,9999,0,0,0,0,0,0,null,0,"SmComWX",0,0,0,0,0,0,0,9999,9999]
["Demand Control Ventilation-New-Warehouse","Demand Control Ventilation-DCV Only-Warehouse-HtPmpHt-Heat-New",15,2.2566248378050315,0,0,0,0,"SmComHP",0.15800000727176666,0.15000000596046448,2.4605017683088684,2.6665747282095253E-4,1.7777163302525878E-3,0,0,0,0,0,0,0,"(na)","(na)","(na)","(na)",0,0,0,0,0,0,0,0,0,0,0,0,0,1.2488050039796208,0,0.12488050013780594,0,1.3736854791641235,0,9999,1.2488050039796208,0.50954854488372803,0.17583535611629486,0,1.9341889619827271,0,9999,1.2488050039796208,0.50954854488372803,0.17583535611629486,0,1.9341889619827271,0,-22.351934432983398,9999,0,0,0,0,0,1.2488050039796208,0,0.50954854488372803,0,0,0,0,0,0,0.17583535611629486,0,null,0,0,1.9341889619827271,0,9999,-22.351934432983398,1.8526453116862577E-2,0,1.8526453116862577E-2,9.0575549037690288E-4,0,9.0575549037690288E-4,null,0,"SmComWX",0,0,0,0,0,0,0,9999,9999]
["Demand Control Ventilation-New-Supermarket","Demand Control Ventilation-DCV Only-Supermarket-HtPmpHt-Heat-New",15,0.67595328784898079,0,0,0,0,"SmComHP",0.15800000727176666,0.15000000596046448,0.73702293450973178,7.9875033407006413E-5,5.3250021301209927E-4,0,0,0,0,0,0,0,"(na)","(na)","(na)","(na)",0,0,0,0,0,0,0,0,0,0,0,0,0,0.37406920024125778,0,3.740692138671875E-2,0,0.41147613525390625,0,9999,0.37406920024125778,0.15263104438781738,5.2670024335384369E-2,0,0.57937026023864746,0,9999,0.37406920024125778,0.15263104438781738,5.2670024335384369E-2,0,0.57937026023864746,0,-22.351934432983398,9999,0,0,0,0,0,0.37406920024125778,0,0.15263104438781738,0,0,0,0,0,0,5.2670024335384369E-2,0,null,0,0,0.57937026023864746,0,9999,-22.351934432983398,5.5494456529620257E-3,0,5.5494456529620257E-3,2.7131155850569036E-4,0,2.7131155850569036E-4,null,0,"SmComWX",0,0,0,0,0,0,0,9999,9999]
["Demand Control Ventilation-New-MIniMart","Demand Control Ventilation-DCV Only-MIniMart-HtPmpHt-Heat-New",15,1.5772243383142881,0,0,0,0,"SmComHP",0.15800000727176666,0.15000000596046448,1.7197201805227067,1.8637508037500083E-4,1.2425004970282316E-3,0,0,0,0,0,0,0,"(na)","(na)","(na)","(na)",0,0,0,0,0,0,0,0,0,0,0,0,0,0.8728281338962669,0,8.7282814085483551E-2,0,0.96011096239089966,0,9999,0.8728281338962669,0.35613906383514404,0.12289672344923019,0,1.3518639802932739,0,9999,0.8728281338962669,0.35613906383514404,0.12289672344923019,0,1.3518639802932739,0,-22.351932525634766,9999,0,0,0,0,0,0.8728281338962669,0,0.35613906383514404,0,0,0,0,0,0,0.12289672344923019,0,null,0,0,1.3518639802932739,0,9999,-22.351932525634766,1.2948706523578074E-2,0,1.2948706523578074E-2,6.3306030317994389E-4,0,6.3306030317994389E-4,null,0,"SmComWX",0,0,0,0,0,0,0,9999,9999]
["Demand Control Ventilation-New-Restaurant","Demand Control Ventilation-DCV Only-Restaurant-HtPmpHt-Heat-New",15,1.6778982322492428,0,0,0,0,"SmComHP",0.15800000727176666,0.15000000596046448,1.8294895537475599,1.9827135838568211E-4,1.3218090170994401E-3,0,0,0,0,0,0,0,"(na)","(na)","(na)","(na)",0,0,0,0,0,0,0,0,0,0,0,0,0,0.9285405679747526,0,9.2854060232639313E-2,0,1.0213946104049683,0,9999,0.9285405679747526,0.37887144088745117,0.13074120879173279,0,1.4381532669067383,0,9999,0.9285405679747526,0.37887144088745117,0.13074120879173279,0,1.4381532669067383,0,-22.351938247680664,9999,0,0,0,0,0,0.9285405679747526,0,0.37887144088745117,0,0,0,0,0,0,0.13074120879173279,0,null,0,0,1.4381532669067383,0,9999,-22.351938247680664,1.3775219705934108E-2,0,1.3775219705934108E-2,6.7346840763823825E-4,0,6.7346840763823825E-4,null,0,"SmComWX",0,0,0,0,0,0,0,9999,9999]
["Demand Control Ventilation-New-Lodging","Demand Control Ventilation-DCV Only-Lodging-HtPmpHt-Heat-New",15,53.55486032397139,0,0,0,0,"SmComHP",0.15800000727176666,0.15000000596046448,58.393325430574279,6.3283909112215042E-3,4.2189270257949829E-2,0,0,0,0,0,0,0,"(na)","(na)","(na)","(na)",0,0,0,0,0,0,0,0,0,0,0,0,0,29.63699434641401,0,2.9636995792388916,0,32.600692749023437,0,9999,29.63699434641401,12.092752456665039,4.1729745864868164,0,45.902721405029297,0,9999,29.63699434641401,12.092752456665039,4.1729745864868164,0,45.902721405029297,0,-22.351938247680664,9999,0,0,0,0,0,29.63699434641401,0,12.092752456665039,0,0,0,0,0,0,4.1729745864868164,0,null,0,0,45.902721405029297,0,9999,-22.351938247680664,0.43967503696239274,0,0.43967503696239274,2.1495646047212505E-2,0,2.1495646047212505E-2,null,0,"SmComWX",0,0,0,0,0,0,0,9999,9999]
["Demand Control Ventilation-New-Hospital","Demand Control Ventilation-DCV Only-Hospital-HtPmpHt-Heat-New",15,8.2994633962580071,0,0,0,0,"SmComHP",0.15800000727176666,0.15000000596046448,9.0492863591674624,9.8071852698922157E-4,6.538123358041048E-3,0,0,0,0,0,0,0,"(na)","(na)","(na)","(na)",0,0,0,0,0,0,0,0,0,0,0,0,0,4.5928819208043139,0,0.45928820967674255,0,5.0521702766418457,0,9999,4.5928819208043139,1.8740286827087402,0.64669108390808105,0,7.1136016845703125,0,9999,4.5928819208043139,1.8740286827087402,0.64669108390808105,0,7.1136016845703125,0,-22.351936340332031,9999,0,0,0,0,0,4.5928819208043139,0,1.8740286827087402,0,0,0,0,0,0,0.64669108390808105,0,null,0,0,7.1136016845703125,0,9999,-22.351936340332031,6.8136988005259067E-2,0,6.8136988005259067E-2,3.3312070364583616E-3,0,3.3312070364583616E-3,null,0,"SmComWX",0,0,0,0,0,0,0,9999,9999]
["Demand Control Ventilation-New-OtherHealth","Demand Control Ventilation-DCV Only-OtherHealth-HtPmpHt-Heat-New",15,0,0,0,0,0,"SmComHP",0,0,0,0,0,0,0,0,0,0,0,0,"(na)","(na)","(na)","(na)",0,0,0,0,0,0,0,0,0,0,0,0,0,0,0,0,0,0,0,9999,0,0,0,0,0,0,9999,0,0,0,0,0,0,9999,9999,9999,9999,9999,9999,9999,0,0,0,0,0,0,0,0,0,0,0,null,0,0,0,0,9999,9999,0,0,0,0,0,0,null,0,"SmComWX",0,0,0,0,0,0,0,9999,9999]
["Demand Control Ventilation-New-Other","Demand Control Ventilation-DCV Only-Other-HtPmpHt-Heat-New",15,10.917878699091711,0,0,0,0,"SmComHP",0.15800000727176666,0.15000000596046448,11.904264898292251,1.2901275185868144E-3,8.6008496582508087E-3,0,0,0,0,0,0,0,"(na)","(na)","(na)","(na)",0,0,0,0,0,0,0,0,0,0,0,0,0,6.0418999755094571,0,0.60418999195098877,0,6.646090030670166,0,9999,6.0418999755094571,2.4652695655822754,0.85071694850921631,0,9.3578863143920898,0,9999,6.0418999755094571,2.4652695655822754,0.85071694850921631,0,9.3578863143920898,0,-22.351932525634766,9999,0,0,0,0,0,6.0418999755094571,0,2.4652695655822754,0,0,0,0,0,0,0.85071694850921631,0,null,0,0,9.3578863143920898,0,9999,-22.351932525634766,8.9633670810367591E-2,0,8.9633670810367591E-2,4.3821766069853671E-3,0,4.3821766069853671E-3,null,0,"SmComWX",0,0,0,0,0,0,0,9999,9999]
["Demand Control Ventilation-New-Large Off","Demand Control Ventilation-DOAS-Large Off-ElecHt-Vent-New",15,0,0,0,0,0,"SmComCAC",0,0,0,0,0,0,0,0,0,0,0,0,"(na)","(na)","(na)","(na)",0,0,0,0,0,0,0,0,0,0,0,0,0,0,0,0,0,0,0,9999,0,0,0,0,0,0,9999,0,0,0,0,0,0,9999,9999,9999,9999,9999,9999,9999,0,0,0,0,0,0,0,0,0,0,0,null,0,0,0,0,9999,9999,0,0,0,0,0,0,null,0,"SmComWX",0,0,0,0,0,0,0,9999,9999]
["Demand Control Ventilation-New-Medium Off","Demand Control Ventilation-DOAS-Medium Off-ElecHt-Vent-New",15,0,0,0,0,0,"SmComCAC",0,0,0,0,0,0,0,0,0,0,0,0,"(na)","(na)","(na)","(na)",0,0,0,0,0,0,0,0,0,0,0,0,0,0,0,0,0,0,0,9999,0,0,0,0,0,0,9999,0,0,0,0,0,0,9999,9999,9999,9999,9999,9999,9999,0,0,0,0,0,0,0,0,0,0,0,null,0,0,0,0,9999,9999,0,0,0,0,0,0,null,0,"SmComWX",0,0,0,0,0,0,0,9999,9999]
["Demand Control Ventilation-New-Small Off","Demand Control Ventilation-DOAS-Small Off-ElecHt-Vent-New",15,0,0,0,0,0,"SmComCAC",0,0,0,0,0,0,0,0,0,0,0,0,"(na)","(na)","(na)","(na)",0,0,0,0,0,0,0,0,0,0,0,0,0,0,0,0,0,0,0,9999,0,0,0,0,0,0,9999,0,0,0,0,0,0,9999,9999,9999,9999,9999,9999,9999,0,0,0,0,0,0,0,0,0,0,0,null,0,0,0,0,9999,9999,0,0,0,0,0,0,null,0,"SmComWX",0,0,0,0,0,0,0,9999,9999]
["Demand Control Ventilation-New-Big Box","Demand Control Ventilation-DOAS-Big Box-ElecHt-Vent-New",15,8.8907231686274564,0,10.086499999999999,0,0,"SmComCAC",0.17000000178813934,0,9.7002469991926006,0,6.5137301571667194E-3,0,0,0,1.0028862953186035,5.5422916412353516,0,6.3818802833557129,"(na)","(na)","(na)","(na)",0,0,0,0,0,0,0,0,1.0028862953186035,5.5422916412353516,0,6.3818802833557129,12.927058219909668,4.5233125441953854,0,0.45233127474784851,0,4.9756436347961426,1.0028862953186035,4.9613239727865048,4.5233125441953854,1.8670369386672974,0.63903498649597168,0,7.0293846130371094,5.5422916412353516,1.2683173178869087,4.5233125441953854,1.8670369386672974,0.63903498649597168,0,7.0293846130371094,6.5451779365539551,33.412376403808594,1.073979124402481,8.2960968017578125,45.847057342529297,0,52.792324066162109,106.93548583984375,4.5233125441953854,0,1.8670369386672974,0,0,0,0,0,0,0.63903498649597168,12.927058219909668,null,0,0,7.0293846130371094,12.927058219909668,0.54377294120423436,86.204696655273438,7.2986294960227696E-2,0,7.2986294960227696E-2,3.5670480863400377E-3,0,3.5670480863400377E-3,null,0,"SmComWX",0,0,0,0,0,0,0,9999,9999]
["Demand Control Ventilation-New-Small Box","Demand Control Ventilation-DOAS-Small Box-ElecHt-Vent-New",15,7.4398936961636899,0,8.4405000000000001,0,0,"SmComCAC",0.17000000178813934,0,8.1173156706964615,0,5.450789351016283E-3,0,0,0,0.83922690153121948,4.6378540992736816,0,5.3404312133789062,"(na)","(na)","(na)","(na)",0,0,0,0,0,0,0,0,0.83922690153121948,4.6378540992736816,0,5.3404312133789062,10.817512214183807,3.7851774085248793,0,0.378517746925354,0,4.1636953353881836,0.83922690153121948,4.9613461482863848,3.7851774085248793,1.5623650550842285,0.53475427627563477,0,5.8822965621948242,4.6378540992736816,1.2683229385775521,3.7851774085248793,1.5623650550842285,0.53475427627563477,0,5.8822965621948242,5.4770808219909668,33.412136077880859,1.0739838864936069,8.2960596084594727,45.846855163574219,0,52.792083740234375,106.93500518798828,3.7851774085248793,0,1.5623650550842285,0,0,0,0,0,0,0.53475427627563477,10.817512512207031,null,0,0,5.8822965621948242,10.817512512207031,0.54377535808226329,86.2042236328125,6.1076052586706522E-2,0,6.1076052586706522E-2,2.9849606233517422E-3,0,2.9849606233517422E-3,null,0,"SmComWX",0,0,0,0,0,0,0,9999,9999]
["Demand Control Ventilation-New-High End","Demand Control Ventilation-DOAS-High End-ElecHt-Vent-New",15,3.4888496960818447,0,4.2202999999999999,0,0,"SmComCAC",0.17000000178813934,0,3.8065186771838868,0,2.5560827925801277E-3,0,0,0,0.41961842775344849,2.3189544677734375,0,2.6702473163604736,"(na)","(na)","(na)","(na)",0,0,0,0,0,0,0,0,0.41961842775344849,2.3189544677734375,0,2.6702473163604736,5.4088202118873596,1.7750139438359716,0,0.17750139534473419,0,1.9525153636932373,0.41961842775344849,4.6530733877300738,1.7750139438359716,0.73265242576599121,0.25076663494110107,0,2.7584331035614014,2.3189544677734375,1.1895158110592809,1.7750139438359716,0.73265242576599121,0.25076663494110107,0,2.7584331035614014,2.7385728359222412,36.999183654785156,1.0072519921045799,8.8456859588623047,48.88427734375,0,56.289634704589844,114.01959991455078,1.7750139438359716,0,0.73265242576599121,0,0,0,0,0,0,0.25076663494110107,5.4088201522827148,null,0,0,2.7584331035614014,5.4088201522827148,0.5099879320962275,93.288818359375,2.8640888728677032E-2,0,2.8640888728677032E-2,1.3997617961889592E-3,0,1.3997617961889592E-3,null,0,"SmComWX",0,0,0,0,0,0,0,9999,9999]
["Demand Control Ventilation-New-Anchor","Demand Control Ventilation-DOAS-Anchor-ElecHt-Vent-New",15,3.4888496960818447,0,4.2202999999999999,0,0,"SmComCAC",0.17000000178813934,0,3.8065186771838868,0,2.5560827925801277E-3,0,0,0,0.41961842775344849,2.3189544677734375,0,2.6702473163604736,"(na)","(na)","(na)","(na)",0,0,0,0,0,0,0,0,0.41961842775344849,2.3189544677734375,0,2.6702473163604736,5.4088202118873596,1.7750139438359716,0,0.17750139534473419,0,1.9525153636932373,0.41961842775344849,4.6530733877300738,1.7750139438359716,0.73265242576599121,0.25076663494110107,0,2.7584331035614014,2.3189544677734375,1.1895158110592809,1.7750139438359716,0.73265242576599121,0.25076663494110107,0,2.7584331035614014,2.7385728359222412,36.999183654785156,1.0072519921045799,8.8456859588623047,48.88427734375,0,56.289634704589844,114.01959991455078,1.7750139438359716,0,0.73265242576599121,0,0,0,0,0,0,0.25076663494110107,5.4088201522827148,null,0,0,2.7584331035614014,5.4088201522827148,0.5099879320962275,93.288818359375,2.8640888728677032E-2,0,2.8640888728677032E-2,1.3997617961889592E-3,0,1.3997617961889592E-3,null,0,"SmComWX",0,0,0,0,0,0,0,9999,9999]
["Demand Control Ventilation-New-K-12","Demand Control Ventilation-DOAS-K-12-ElecHt-Vent-New",15,0,0,0,0,0,"SmComCAC",0,0,0,0,0,0,0,0,0,0,0,0,"(na)","(na)","(na)","(na)",0,0,0,0,0,0,0,0,0,0,0,0,0,0,0,0,0,0,0,9999,0,0,0,0,0,0,9999,0,0,0,0,0,0,9999,9999,9999,9999,9999,9999,9999,0,0,0,0,0,0,0,0,0,0,0,null,0,0,0,0,9999,9999,0,0,0,0,0,0,null,0,"SmComWX",0,0,0,0,0,0,0,9999,9999]
["Demand Control Ventilation-New-University","Demand Control Ventilation-DOAS-University-ElecHt-Vent-New",15,0,0,0,0,0,"SmComCAC",0,0,0,0,0,0,0,0,0,0,0,0,"(na)","(na)","(na)","(na)",0,0,0,0,0,0,0,0,0,0,0,0,0,0,0,0,0,0,0,9999,0,0,0,0,0,0,9999,0,0,0,0,0,0,9999,9999,9999,9999,9999,9999,9999,0,0,0,0,0,0,0,0,0,0,0,null,0,0,0,0,9999,9999,0,0,0,0,0,0,null,0,"SmComWX",0,0,0,0,0,0,0,9999,9999]
["Demand Control Ventilation-New-Warehouse","Demand Control Ventilation-DOAS-Warehouse-ElecHt-Vent-New",15,0,0,0,0,0,"SmComCAC",0,0,0,0,0,0,0,0,0,0,0,0,"(na)","(na)","(na)","(na)",0,0,0,0,0,0,0,0,0,0,0,0,0,0,0,0,0,0,0,9999,0,0,0,0,0,0,9999,0,0,0,0,0,0,9999,9999,9999,9999,9999,9999,9999,0,0,0,0,0,0,0,0,0,0,0,null,0,0,0,0,9999,9999,0,0,0,0,0,0,null,0,"SmComWX",0,0,0,0,0,0,0,9999,9999]
["Demand Control Ventilation-New-Supermarket","Demand Control Ventilation-DOAS-Supermarket-ElecHt-Vent-New",15,3.8663304760443333,0,4.3863000000000003,0,0,"SmComCAC",0.17000000178813934,0,4.2183700793290848,0,2.8326418250799179E-3,0,0,0,0.4361235499382019,2.4101674556732178,0,2.7752780914306641,"(na)","(na)","(na)","(na)",0,0,0,0,0,0,0,0,0.4361235499382019,2.4101674556732178,0,2.7752780914306641,5.6215690970420837,1.9670639621316757,0,0.19670639932155609,0,2.1637704372406006,0.4361235499382019,4.961370147885467,1.9670639621316757,0.81192284822463989,0.27789869904518127,0,3.0568854808807373,2.4101674556732178,1.2683290956427071,1.9670639621316757,0.81192284822463989,0.27789869904518127,0,3.0568854808807373,2.8462910652160645,33.411872863769531,1.0739890978733002,8.2960195541381836,45.846633911132813,0,52.791831970214844,106.93449401855469,1.9670639621316757,0,0.81192284822463989,0,0,0,0,0,0,0.27789869904518127,5.6215691566467285,null,0,0,3.0568854808807373,5.6215691566467285,0.54377797803788508,86.203704833984375,3.1739728162276444E-2,0,3.1739728162276444E-2,1.551210904237524E-3,0,1.551210904237524E-3,null,0,"SmComWX",0,0,0,0,0,0,0,9999,9999]
["Demand Control Ventilation-New-MIniMart","Demand Control Ventilation-DOAS-MIniMart-ElecHt-Vent-New",15,1.6569987754475715,0,1.8798999999999999,0,0,"SmComCAC",0.17000000178813934,0,1.8078728911410367,0,1.2139893369749188E-3,0,0,0,0.18691578507423401,1.0329602956771851,0,1.1894410848617554,"(na)","(na)","(na)","(na)",0,0,0,0,0,0,0,0,0.18691578507423401,1.0329602956771851,0,1.1894410848617554,2.4093171656131744,0.84302741234214784,0,8.4302745759487152E-2,0,0.9273301362991333,0.18691578507423401,4.9612190737841848,0.84302741234214784,0.34796693921089172,0.11909943819046021,0,1.3100937604904175,1.0329602956771851,1.2682905579489212,0.84302741234214784,0.34796693921089172,0.11909943819046021,0,1.3100937604904175,1.2198760509490967,33.413520812988281,1.0739564537870996,8.2962722778320312,45.848026275634766,0,52.793437957763672,106.93772888183594,0.84302741234214784,0,0.34796693921089172,0,0,0,0,0,0,0.11909943819046021,2.4093170166015625,null,0,0,1.3100937604904175,2.4093170166015625,0.54376148124809209,86.206954956054687,1.3602740640975632E-2,0,1.3602740640975632E-2,6.6480467324465324E-4,0,6.6480467324465324E-4,null,0,"SmComWX",0,0,0,0,0,0,0,9999,9999]
["Demand Control Ventilation-New-Restaurant","Demand Control Ventilation-DOAS-Restaurant-ElecHt-Vent-New",15,1.7627646547314588,0,1.9998,0,0,"SmComCAC",0.17000000178813934,0,1.9232690331287623,0,1.2914779363200068E-3,0,0,0,0.19883726537227631,1.0988425016403198,0,1.2653036117553711,"(na)","(na)","(na)","(na)",0,0,0,0,0,0,0,0,0.19883726537227631,1.0988425016403198,0,1.2653036117553711,2.5629833787679672,0.89683767270441372,0,8.9683771133422852E-2,0,0.98652142286300659,0.19883726537227631,4.9614514763658901,0.89683767270441372,0.37017756700515747,0.12670151889324188,0,1.3937168121337891,1.0988425016403198,1.2683498831928266,0.89683767270441372,0.37017756700515747,0.12670151889324188,0,1.3937168121337891,1.2976797819137573,33.410987854003906,1.0740066956667629,8.2958841323852539,45.845882415771484,0,52.790966033935547,106.93273162841797,0.89683767270441372,0,0.37017756700515747,0,0,0,0,0,0,0.12670151889324188,2.562983512878418,null,0,0,1.3937168121337891,2.562983512878418,0.54378686074245053,86.201957702636719,1.4471000681888986E-2,0,1.4471000681888986E-2,7.0723901409005662E-4,0,7.0723901409005662E-4,null,0,"SmComWX",0,0,0,0,0,0,0,9999,9999]
["Demand Control Ventilation-New-Lodging","Demand Control Ventilation-DOAS-Lodging-ElecHt-Vent-New",15,0,0,0,0,0,"SmComCAC",0,0,0,0,0,0,0,0,0,0,0,0,"(na)","(na)","(na)","(na)",0,0,0,0,0,0,0,0,0,0,0,0,0,0,0,0,0,0,0,9999,0,0,0,0,0,0,9999,0,0,0,0,0,0,9999,9999,9999,9999,9999,9999,9999,0,0,0,0,0,0,0,0,0,0,0,null,0,0,0,0,9999,9999,0,0,0,0,0,0,null,0,"SmComWX",0,0,0,0,0,0,0,9999,9999]
["Demand Control Ventilation-New-Hospital","Demand Control Ventilation-DOAS-Hospital-ElecHt-Vent-New",15,0,0,0,0,0,"SmComCAC",0,0,0,0,0,0,0,0,0,0,0,0,"(na)","(na)","(na)","(na)",0,0,0,0,0,0,0,0,0,0,0,0,0,0,0,0,0,0,0,9999,0,0,0,0,0,0,9999,0,0,0,0,0,0,9999,9999,9999,9999,9999,9999,9999,0,0,0,0,0,0,0,0,0,0,0,null,0,0,0,0,9999,9999,0,0,0,0,0,0,null,0,"SmComWX",0,0,0,0,0,0,0,9999,9999]
["Demand Control Ventilation-New-OtherHealth","Demand Control Ventilation-DOAS-OtherHealth-ElecHt-Vent-New",15,0,0,0,0,0,"SmComCAC",0,0,0,0,0,0,0,0,0,0,0,0,"(na)","(na)","(na)","(na)",0,0,0,0,0,0,0,0,0,0,0,0,0,0,0,0,0,0,0,9999,0,0,0,0,0,0,9999,0,0,0,0,0,0,9999,9999,9999,9999,9999,9999,9999,0,0,0,0,0,0,0,0,0,0,0,null,0,0,0,0,9999,9999,0,0,0,0,0,0,null,0,"SmComWX",0,0,0,0,0,0,0,9999,9999]
["Demand Control Ventilation-New-Other","Demand Control Ventilation-DOAS-Other-ElecHt-Vent-New",15,0,0,0,0,0,"SmComCAC",0,0,0,0,0,0,0,0,0,0,0,0,"(na)","(na)","(na)","(na)",0,0,0,0,0,0,0,0,0,0,0,0,0,0,0,0,0,0,0,9999,0,0,0,0,0,0,9999,0,0,0,0,0,0,9999,9999,9999,9999,9999,9999,9999,0,0,0,0,0,0,0,0,0,0,0,null,0,0,0,0,9999,9999,0,0,0,0,0,0,null,0,"SmComWX",0,0,0,0,0,0,0,9999,9999]
["Demand Control Ventilation-New-Large Off","Demand Control Ventilation-DOAS-Large Off-ElecHt-Heat-New",15,0,0,0,0,0,"ExCOMM",0,0,0,0,0,0,0,0,0,0,0,0,"(na)","(na)","(na)","(na)",0,0,0,0,0,0,0,0,0,0,0,0,0,0,0,0,0,0,0,9999,0,0,0,0,0,0,9999,0,0,0,0,0,0,9999,9999,9999,9999,9999,9999,9999,0,0,0,0,0,0,0,0,0,0,0,null,0,0,0,0,9999,9999,0,0,0,0,0,0,null,0,"SmComWX",0,0,0,0,0,0,0,9999,9999]
["Demand Control Ventilation-New-Medium Off","Demand Control Ventilation-DOAS-Medium Off-ElecHt-Heat-New",15,0,0,0,0,0,"ExCOMM",0,0,0,0,0,0,0,0,0,0,0,0,"(na)","(na)","(na)","(na)",0,0,0,0,0,0,0,0,0,0,0,0,0,0,0,0,0,0,0,9999,0,0,0,0,0,0,9999,0,0,0,0,0,0,9999,9999,9999,9999,9999,9999,9999,0,0,0,0,0,0,0,0,0,0,0,null,0,0,0,0,9999,9999,0,0,0,0,0,0,null,0,"SmComWX",0,0,0,0,0,0,0,9999,9999]
["Demand Control Ventilation-New-Small Off","Demand Control Ventilation-DOAS-Small Off-ElecHt-Heat-New",15,0,0,0,0,0,"ExCOMM",0,0,0,0,0,0,0,0,0,0,0,0,"(na)","(na)","(na)","(na)",0,0,0,0,0,0,0,0,0,0,0,0,0,0,0,0,0,0,0,9999,0,0,0,0,0,0,9999,0,0,0,0,0,0,9999,9999,9999,9999,9999,9999,9999,0,0,0,0,0,0,0,0,0,0,0,null,0,0,0,0,9999,9999,0,0,0,0,0,0,null,0,"SmComWX",0,0,0,0,0,0,0,9999,9999]
["Demand Control Ventilation-New-Big Box","Demand Control Ventilation-DOAS-Big Box-ElecHt-Heat-New",15,50.82480454731909,0,0,0,0,"ExCOMM",0.47692599892616272,0.4638296365737915,55.416704043326874,6.1523932963609695E-3,1.3264338485896587E-2,0,0,0,0,0,0,0,"(na)","(na)","(na)","(na)",0,0,0,0,0,0,0,0,0,0,0,0,0,27.117612071899089,0,2.7117612361907959,0,29.829372406005859,0,9999,27.117612071899089,3.8019702434539795,3.0919582843780518,0,34.011539459228516,0,9999,27.117612071899089,3.8019702434539795,3.0919582843780518,0,34.011539459228516,0,-9.9823083877563477,9999,0,0,0,0,0,27.117612071899089,0,3.8019702434539795,0,0,0,0,0,0,3.0919582843780518,0,null,0,0,34.011539459228516,0,9999,-9.9823083877563477,0.41715086116074401,0,0.41715086116074401,2.0393473058905653E-2,0,2.0393473058905653E-2,null,0,"SmComWX",0,0,0,0,0,0,0,9999,9999]
["Demand Control Ventilation-New-Small Box","Demand Control Ventilation-DOAS-Small Box-ElecHt-Heat-New",15,42.530977040726647,0,0,0,0,"ExCOMM",0.47692599892616272,0.4638296365737915,46.373549063924592,5.1484173163771629E-3,1.1099802330136299E-2,0,0,0,0,0,0,0,"(na)","(na)","(na)","(na)",0,0,0,0,0,0,0,0,0,0,0,0,0,22.692434269087759,0,2.2692434787750244,0,24.961677551269531,0,9999,22.692434269087759,3.181546688079834,2.5873980522155762,0,28.46137809753418,0,9999,22.692434269087759,3.181546688079834,2.5873980522155762,0,28.46137809753418,0,-9.9823074340820312,9999,0,0,0,0,0,22.692434269087759,0,3.181546688079834,0,0,0,0,0,0,2.5873980522155762,0,null,0,0,28.46137809753418,0,9999,-9.9823074340820312,0.34907824745354177,0,0.34907824745354177,1.7065571469959455E-2,0,1.7065571469959455E-2,null,0,"SmComWX",0,0,0,0,0,0,0,9999,9999]
["Demand Control Ventilation-New-High End","Demand Control Ventilation-DOAS-High End-ElecHt-Heat-New",15,10.381312300029302,0,0,0,0,"ExCOMM",0.47692599892616272,0.4638296365737915,11.319239029762659,1.2566682416945696E-3,2.7093314565718174E-3,0,0,0,0,0,0,0,"(na)","(na)","(na)","(na)",0,0,0,0,0,0,0,0,0,0,0,0,0,5.5389568588961513,0,0.55389571189880371,0,6.0928525924682617,0,9999,5.5389568588961513,0.77657824754714966,0.6315535306930542,0,6.9470887184143066,0,9999,5.5389568588961513,0.77657824754714966,0.6315535306930542,0,6.9470887184143066,0,-9.9823083877563477,9999,0,0,0,0,0,5.5389568588961513,0,0.77657824754714966,0,0,0,0,0,0,0.6315535306930542,0,null,0,0,6.9470887184143066,0,9999,-9.9823083877563477,8.5205902993763377E-2,0,8.5205902993763377E-2,4.1655056933790156E-3,0,4.1655056933790156E-3,null,0,"SmComWX",0,0,0,0,0,0,0,9999,9999]
["Demand Control Ventilation-New-Anchor","Demand Control Ventilation-DOAS-Anchor-ElecHt-Heat-New",15,10.381312300029302,0,0,0,0,"ExCOMM",0.47692599892616272,0.4638296365737915,11.319239029762659,1.2566682416945696E-3,2.7093314565718174E-3,0,0,0,0,0,0,0,"(na)","(na)","(na)","(na)",0,0,0,0,0,0,0,0,0,0,0,0,0,5.5389568588961513,0,0.55389571189880371,0,6.0928525924682617,0,9999,5.5389568588961513,0.77657824754714966,0.6315535306930542,0,6.9470887184143066,0,9999,5.5389568588961513,0.77657824754714966,0.6315535306930542,0,6.9470887184143066,0,-9.9823083877563477,9999,0,0,0,0,0,5.5389568588961513,0,0.77657824754714966,0,0,0,0,0,0,0.6315535306930542,0,null,0,0,6.9470887184143066,0,9999,-9.9823083877563477,8.5205902993763377E-2,0,8.5205902993763377E-2,4.1655056933790156E-3,0,4.1655056933790156E-3,null,0,"SmComWX",0,0,0,0,0,0,0,9999,9999]
["Demand Control Ventilation-New-K-12","Demand Control Ventilation-DOAS-K-12-ElecHt-Heat-New",15,0,0,0,0,0,"ExCOMM",0,0,0,0,0,0,0,0,0,0,0,0,"(na)","(na)","(na)","(na)",0,0,0,0,0,0,0,0,0,0,0,0,0,0,0,0,0,0,0,9999,0,0,0,0,0,0,9999,0,0,0,0,0,0,9999,9999,9999,9999,9999,9999,9999,0,0,0,0,0,0,0,0,0,0,0,null,0,0,0,0,9999,9999,0,0,0,0,0,0,null,0,"SmComWX",0,0,0,0,0,0,0,9999,9999]
["Demand Control Ventilation-New-University","Demand Control Ventilation-DOAS-University-ElecHt-Heat-New",15,0,0,0,0,0,"ExCOMM",0,0,0,0,0,0,0,0,0,0,0,0,"(na)","(na)","(na)","(na)",0,0,0,0,0,0,0,0,0,0,0,0,0,0,0,0,0,0,0,9999,0,0,0,0,0,0,9999,0,0,0,0,0,0,9999,9999,9999,9999,9999,9999,9999,0,0,0,0,0,0,0,0,0,0,0,null,0,0,0,0,9999,9999,0,0,0,0,0,0,null,0,"SmComWX",0,0,0,0,0,0,0,9999,9999]
["Demand Control Ventilation-New-Warehouse","Demand Control Ventilation-DOAS-Warehouse-ElecHt-Heat-New",15,0,0,0,0,0,"ExCOMM",0,0,0,0,0,0,0,0,0,0,0,0,"(na)","(na)","(na)","(na)",0,0,0,0,0,0,0,0,0,0,0,0,0,0,0,0,0,0,0,9999,0,0,0,0,0,0,9999,0,0,0,0,0,0,9999,9999,9999,9999,9999,9999,9999,0,0,0,0,0,0,0,0,0,0,0,null,0,0,0,0,9999,9999,0,0,0,0,0,0,null,0,"SmComWX",0,0,0,0,0,0,0,9999,9999]
["Demand Control Ventilation-New-Supermarket","Demand Control Ventilation-DOAS-Supermarket-ElecHt-Heat-New",15,22.102306756519194,0,0,0,0,"ExCOMM",0.47692599892616272,0.4638296365737915,24.099197293724881,2.6755060534924269E-3,5.7682949118316174E-3,0,0,0,0,0,0,0,"(na)","(na)","(na)","(na)",0,0,0,0,0,0,0,0,0,0,0,0,0,11.792702123613301,0,1.1792702674865723,0,12.971972465515137,0,9999,11.792702123613301,1.6533718109130859,1.3446074724197388,0,14.790681838989258,0,9999,11.792702123613301,1.6533718109130859,1.3446074724197388,0,14.790681838989258,0,-9.9823083877563477,9999,0,0,0,0,0,11.792702123613301,0,1.6533718109130859,0,0,0,0,0,0,1.3446074724197388,0,null,0,0,14.790681838989258,0,9999,-9.9823083877563477,0.18140741276312947,0,0.18140741276312947,8.8685593853900652E-3,0,8.8685593853900652E-3,null,0,"SmComWX",0,0,0,0,0,0,0,9999,9999]
["Demand Control Ventilation-New-MIniMart","Demand Control Ventilation-DOAS-MIniMart-ElecHt-Heat-New",15,9.472417181365369,0,0,0,0,"ExCOMM",0.47692599892616272,0.4638296365737915,10.328227411596378,1.1466455180197954E-3,2.4721263907849789E-3,0,0,0,0,0,0,0,"(na)","(na)","(na)","(na)",0,0,0,0,0,0,0,0,0,0,0,0,0,5.0540151958342845,0,0.50540155172348022,0,5.5594167709350586,0,9999,5.0540151958342845,0.70858806371688843,0.57626032829284668,0,6.3388633728027344,0,9999,5.0540151958342845,0.70858806371688843,0.57626032829284668,0,6.3388633728027344,0,-9.9823093414306641,9999,0,0,0,0,0,5.0540151958342845,0,0.70858806371688843,0,0,0,0,0,0,0.57626032829284668,0,null,0,0,6.3388633728027344,0,9999,-9.9823093414306641,7.7746034041341311E-2,0,7.7746034041341311E-2,3.8008111651671728E-3,0,3.8008111651671728E-3,null,0,"SmComWX",0,0,0,0,0,0,0,9999,9999]
["Demand Control Ventilation-New-Restaurant","Demand Control Ventilation-DOAS-Restaurant-ElecHt-Heat-New",15,10.07703955464401,0,0,0,0,"ExCOMM",0.47692599892616272,0.4638296365737915,10.987475969783381,1.2198357144370675E-3,2.6299217715859413E-3,0,0,0,0,0,0,0,"(na)","(na)","(na)","(na)",0,0,0,0,0,0,0,0,0,0,0,0,0,5.3766119104619987,0,0.53766119480133057,0,5.9142732620239258,0,9999,5.3766119104619987,0.75381714105606079,0.61304289102554321,0,6.7434720993041992,0,9999,5.3766119104619987,0.75381714105606079,0.61304289102554321,0,6.7434720993041992,0,-9.9823093414306641,9999,0,0,0,0,0,5.3766119104619987,0,0.75381714105606079,0,0,0,0,0,0,0.61304289102554321,0,null,0,0,6.7434720993041992,0,9999,-9.9823093414306641,8.2708546852490711E-2,0,8.2708546852490711E-2,4.0434161331565667E-3,0,4.0434161331565667E-3,null,0,"SmComWX",0,0,0,0,0,0,0,9999,9999]
["Demand Control Ventilation-New-Lodging","Demand Control Ventilation-DOAS-Lodging-ElecHt-Heat-New",15,0,0,0,0,0,"ExCOMM",0,0,0,0,0,0,0,0,0,0,0,0,"(na)","(na)","(na)","(na)",0,0,0,0,0,0,0,0,0,0,0,0,0,0,0,0,0,0,0,9999,0,0,0,0,0,0,9999,0,0,0,0,0,0,9999,9999,9999,9999,9999,9999,9999,0,0,0,0,0,0,0,0,0,0,0,null,0,0,0,0,9999,9999,0,0,0,0,0,0,null,0,"SmComWX",0,0,0,0,0,0,0,9999,9999]
["Demand Control Ventilation-New-Hospital","Demand Control Ventilation-DOAS-Hospital-ElecHt-Heat-New",15,0,0,0,0,0,"ExCOMM",0,0,0,0,0,0,0,0,0,0,0,0,"(na)","(na)","(na)","(na)",0,0,0,0,0,0,0,0,0,0,0,0,0,0,0,0,0,0,0,9999,0,0,0,0,0,0,9999,0,0,0,0,0,0,9999,9999,9999,9999,9999,9999,9999,0,0,0,0,0,0,0,0,0,0,0,null,0,0,0,0,9999,9999,0,0,0,0,0,0,null,0,"SmComWX",0,0,0,0,0,0,0,9999,9999]
["Demand Control Ventilation-New-OtherHealth","Demand Control Ventilation-DOAS-OtherHealth-ElecHt-Heat-New",15,0,0,0,0,0,"ExCOMM",0,0,0,0,0,0,0,0,0,0,0,0,"(na)","(na)","(na)","(na)",0,0,0,0,0,0,0,0,0,0,0,0,0,0,0,0,0,0,0,9999,0,0,0,0,0,0,9999,0,0,0,0,0,0,9999,9999,9999,9999,9999,9999,9999,0,0,0,0,0,0,0,0,0,0,0,null,0,0,0,0,9999,9999,0,0,0,0,0,0,null,0,"SmComWX",0,0,0,0,0,0,0,9999,9999]
["Demand Control Ventilation-New-Other","Demand Control Ventilation-DOAS-Other-ElecHt-Heat-New",15,0,0,0,0,0,"ExCOMM",0,0,0,0,0,0,0,0,0,0,0,0,"(na)","(na)","(na)","(na)",0,0,0,0,0,0,0,0,0,0,0,0,0,0,0,0,0,0,0,9999,0,0,0,0,0,0,9999,0,0,0,0,0,0,9999,9999,9999,9999,9999,9999,9999,0,0,0,0,0,0,0,0,0,0,0,null,0,0,0,0,9999,9999,0,0,0,0,0,0,null,0,"SmComWX",0,0,0,0,0,0,0,9999,9999]
["Demand Control Ventilation-New-Large Off","Demand Control Ventilation-DOAS-Large Off-GasHt-Vent-New",15,0,0,0,0,0,"SmComCAC",0,0,0,0,0,0,0,0,0,0,0,0,"(na)","(na)","(na)","(na)",0,0,0,0,0,0,0,0,0,0,0,0,0,0,0,0,0,0,0,9999,0,0,0,0,0,0,9999,0,0,0,0,0,0,9999,9999,9999,9999,9999,9999,9999,0,0,0,0,0,0,0,0,0,0,0,null,0,0,0,0,9999,9999,0,0,0,0,0,0,null,0,"SmComWX",0,0,0,0,0,0,0,9999,9999]
["Demand Control Ventilation-New-Medium Off","Demand Control Ventilation-DOAS-Medium Off-GasHt-Vent-New",15,0,0,0,0,0,"SmComCAC",0,0,0,0,0,0,0,0,0,0,0,0,"(na)","(na)","(na)","(na)",0,0,0,0,0,0,0,0,0,0,0,0,0,0,0,0,0,0,0,9999,0,0,0,0,0,0,9999,0,0,0,0,0,0,9999,9999,9999,9999,9999,9999,9999,0,0,0,0,0,0,0,0,0,0,0,null,0,0,0,0,9999,9999,0,0,0,0,0,0,null,0,"SmComWX",0,0,0,0,0,0,0,9999,9999]
["Demand Control Ventilation-New-Small Off","Demand Control Ventilation-DOAS-Small Off-GasHt-Vent-New",15,0,0,0,0,0,"SmComCAC",0,0,0,0,0,0,0,0,0,0,0,0,"(na)","(na)","(na)","(na)",0,0,0,0,0,0,0,0,0,0,0,0,0,0,0,0,0,0,0,9999,0,0,0,0,0,0,9999,0,0,0,0,0,0,9999,9999,9999,9999,9999,9999,9999,0,0,0,0,0,0,0,0,0,0,0,null,0,0,0,0,9999,9999,0,0,0,0,0,0,null,0,"SmComWX",0,0,0,0,0,0,0,9999,9999]
["Demand Control Ventilation-New-Big Box","Demand Control Ventilation-DOAS-Big Box-GasHt-Vent-New",15,339.78024631406674,8.9545739363609727,385.47910000000002,0,0,"SmComCAC",0.17000000178813934,0,370.71813531696949,0,0.24893777072429657,9.0441196757245788,2.284429594874382E-2,5.191885307431221E-2,38.32763671875,211.81159973144531,0,243.8984375,"(na)","(na)","(na)","(na)",0,0,0,0,0,0,0,0,38.32763671875,211.81159973144531,0,243.8984375,494.03767395019531,172.86920549338026,0,17.286920547485352,0,190.1561279296875,38.32763671875,4.961331882689251,172.86920549338026,71.353263854980469,24.422246932983398,0,268.64471435546875,211.81159973144531,1.2683191884767273,172.86920549338026,71.353263854980469,24.422246932983398,0,268.64471435546875,250.13923645019531,33.412296295166016,1.0739807160754382,8.2960834503173828,45.846988677978516,0,52.792240142822266,106.93531036376953,172.86920549338026,75.990941565629555,71.353263854980469,0,0,0,0,0,0,24.422246932983398,494.03765869140625,null,0,0,344.63565063476562,494.03765869140625,0.69758985329141787,69.75616455078125,2.7893457943495648,0.84652960164782098,3.6358753959973855,0.13632327251708232,5.2908100102988791E-2,0.18923137262007111,null,8.9545739363609727,"SmComWX",0.47692599892616272,0.43999999761581421,75.990941565629555,0,0,75.990943908691406,0,0,9999]
["Demand Control Ventilation-New-Small Box","Demand Control Ventilation-DOAS-Small Box-GasHt-Vent-New",15,250.78767171764727,6.609262230764724,284.51740000000001,0,0,"SmComCAC",0.17000000178813934,0,273.62255171748478,0,0.18373794853687286,6.6753548530723723,1.6861096024513245E-2,3.8320671766996384E-2,28.289159774780273,156.33554077148437,0,180.01844787597656,"(na)","(na)","(na)","(na)",0,0,0,0,0,0,0,0,28.289159774780273,156.33554077148437,0,180.01844787597656,364.64314842224121,127.59266033756312,0,12.759265899658203,0,140.3519287109375,28.289159774780273,4.9613324451702088,127.59266033756312,52.66497802734375,18.025764465332031,0,198.28340148925781,156.33554077148437,1.2683194227732881,127.59266033756312,52.66497802734375,18.025764465332031,0,198.28340148925781,184.62469482421875,33.412288665771484,1.0739809041994983,8.2960824966430664,45.846981048583984,0,52.792236328125,106.93528747558594,127.59266033756312,56.087990734048219,52.66497802734375,0,0,0,0,0,0,18.025764465332031,364.64312744140625,null,0,0,254.37139892578125,364.64312744140625,0.69758998434753594,69.756141662597656,2.0587822422547299,0.62481321424757008,2.6835954565022999,0.10061855121468263,3.9050825890473387E-2,0.13966937710515603,null,6.609262230764724,"SmComWX",0.47692599892616272,0.43999999761581421,56.087990734048219,0,0,56.087989807128906,0,0,9999]
["Demand Control Ventilation-New-High End","Demand Control Ventilation-DOAS-High End-GasHt-Vent-New",15,117.60389704282362,7.168277628362147,142.2587,0,0,"SmComCAC",0.17000000178813934,0,128.31204253535645,0,8.6161725223064423E-2,7.2399604046457693,1.8287219107151031E-2,4.1561860591173172E-2,14.144579887390137,78.167770385742187,0,90.009223937988281,"(na)","(na)","(na)","(na)",0,0,0,0,0,0,0,0,14.144579887390137,78.167770385742187,0,90.009223937988281,182.32157421112061,59.833061118940428,0,5.9833064079284668,0,65.816368103027344,14.144579887390137,4.6531157553533316,59.833061118940428,24.696617126464844,8.452967643737793,0,92.982643127441406,78.167770385742187,1.189526648007132,59.833061118940428,24.696617126464844,8.452967643737793,0,92.982643127441406,92.312347412109375,36.9986572265625,1.0072611694321236,8.8456048965454102,48.883831024169922,0,56.289127349853516,114.0185546875,59.833061118940428,60.831946919458481,24.696617126464844,0,0,0,0,0,0,8.452967643737793,182.32156372070312,null,0,0,153.81459045410156,182.32156372070312,0.84364454576656023,55.245262145996094,0.96544145568811623,0.67766029387484261,1.643101749562959,4.7183873340361435E-2,4.2353768367177747E-2,8.9537641707539181E-2,null,7.168277628362147,"SmComWX",0.47692599892616272,0.43999999761581421,60.831946919458481,0,0,60.831947326660156,0,0,9999]
["Demand Control Ventilation-New-Anchor","Demand Control Ventilation-DOAS-Anchor-GasHt-Vent-New",15,117.60389704282362,7.168277628362147,142.2587,0,0,"SmComCAC",0.17000000178813934,0,128.31204253535645,0,8.6161725223064423E-2,7.2399604046457693,1.8287219107151031E-2,4.1561860591173172E-2,14.144579887390137,78.167770385742187,0,90.009223937988281,"(na)","(na)","(na)","(na)",0,0,0,0,0,0,0,0,14.144579887390137,78.167770385742187,0,90.009223937988281,182.32157421112061,59.833061118940428,0,5.9833064079284668,0,65.816368103027344,14.144579887390137,4.6531157553533316,59.833061118940428,24.696617126464844,8.452967643737793,0,92.982643127441406,78.167770385742187,1.189526648007132,59.833061118940428,24.696617126464844,8.452967643737793,0,92.982643127441406,92.312347412109375,36.9986572265625,1.0072611694321236,8.8456048965454102,48.883831024169922,0,56.289127349853516,114.0185546875,59.833061118940428,60.831946919458481,24.696617126464844,0,0,0,0,0,0,8.452967643737793,182.32156372070312,null,0,0,153.81459045410156,182.32156372070312,0.84364454576656023,55.245262145996094,0.96544145568811623,0.67766029387484261,1.643101749562959,4.7183873340361435E-2,4.2353768367177747E-2,8.9537641707539181E-2,null,7.168277628362147,"SmComWX",0.47692599892616272,0.43999999761581421,60.831946919458481,0,0,60.831947326660156,0,0,9999]
["Demand Control Ventilation-New-K-12","Demand Control Ventilation-DOAS-K-12-GasHt-Vent-New",15,0,0,0,0,0,"SmComCAC",0,0,0,0,0,0,0,0,0,0,0,0,"(na)","(na)","(na)","(na)",0,0,0,0,0,0,0,0,0,0,0,0,0,0,0,0,0,0,0,9999,0,0,0,0,0,0,9999,0,0,0,0,0,0,9999,9999,9999,9999,9999,9999,9999,0,0,0,0,0,0,0,0,0,0,0,null,0,0,0,0,9999,9999,0,0,0,0,0,0,null,0,"SmComWX",0,0,0,0,0,0,0,9999,9999]
["Demand Control Ventilation-New-University","Demand Control Ventilation-DOAS-University-GasHt-Vent-New",15,0,0,0,0,0,"SmComCAC",0,0,0,0,0,0,0,0,0,0,0,0,"(na)","(na)","(na)","(na)",0,0,0,0,0,0,0,0,0,0,0,0,0,0,0,0,0,0,0,9999,0,0,0,0,0,0,9999,0,0,0,0,0,0,9999,9999,9999,9999,9999,9999,9999,0,0,0,0,0,0,0,0,0,0,0,null,0,0,0,0,9999,9999,0,0,0,0,0,0,null,0,"SmComWX",0,0,0,0,0,0,0,9999,9999]
["Demand Control Ventilation-New-Warehouse","Demand Control Ventilation-DOAS-Warehouse-GasHt-Vent-New",15,0,0,0,0,0,"SmComCAC",0,0,0,0,0,0,0,0,0,0,0,0,"(na)","(na)","(na)","(na)",0,0,0,0,0,0,0,0,0,0,0,0,0,0,0,0,0,0,0,9999,0,0,0,0,0,0,9999,0,0,0,0,0,0,9999,9999,9999,9999,9999,9999,9999,0,0,0,0,0,0,0,0,0,0,0,null,0,0,0,0,9999,9999,0,0,0,0,0,0,null,0,"SmComWX",0,0,0,0,0,0,0,9999,9999]
["Demand Control Ventilation-New-Supermarket","Demand Control Ventilation-DOAS-Supermarket-GasHt-Vent-New",15,370.56713067485111,90.375731488,420.40660000000003,0,0,"SmComCAC",0.17000000178813934,0,404.30824682657016,0,0.2714935839176178,91.279488802880039,0.23056036233901978,0.52400082349777222,41.800430297851563,231.00343322753906,0,265.99758911132812,"(na)","(na)","(na)","(na)",0,0,0,0,0,0,0,0,41.800430297851563,231.00343322753906,0,265.99758911132812,538.80145263671875,188.5325770307177,0,18.85325813293457,0,207.38583374023437,41.800430297851563,4.9613325433712436,188.5325770307177,77.818458557128906,26.635103225708008,0,292.98614501953125,231.00343322753906,1.2683194129195576,188.5325770307177,77.818458557128906,26.635103225708008,0,292.98614501953125,272.80386352539062,33.412288665771484,1.0739808997840148,8.2960824966430664,45.846981048583984,0,52.792232513427734,106.93529510498047,188.5325770307177,766.95295379364461,77.818458557128906,0,0,0,0,0,0,26.635103225708008,538.80145263671875,null,0,0,1059.9390869140625,538.80145263671875,1.9672164717080896,-66.011741638183594,3.0420834603688651,8.5437601519495932,11.585843612318458,0.14867528200614405,0.53398500949684846,0.68266029150299246,null,90.375731488,"SmComWX",0.47692599892616272,0.43999999761581421,766.95295379364461,0,0,766.95294189453125,0,0,9999]
["Demand Control Ventilation-New-MIniMart","Demand Control Ventilation-DOAS-MIniMart-GasHt-Vent-New",15,158.81448457493616,38.732456352,180.17429999999999,0,0,"SmComCAC",0.17000000178813934,0,173.2749629256729,0,0.11635439097881317,39.119780915520003,9.881158173084259E-2,0.22457177937030792,17.914474487304688,99.001495361328125,0,113.99899291992187,"(na)","(na)","(na)","(na)",0,0,0,0,0,0,0,0,17.914474487304688,99.001495361328125,0,113.99899291992187,230.91496276855469,80.799675870307638,0,8.0799674987792969,0,88.879646301269531,17.914474487304688,4.9613313207748622,80.799675870307638,33.35076904296875,11.415044784545898,0,125.56549072265625,99.001495361328125,1.2683191222470218,80.799675870307638,33.35076904296875,11.415044784545898,0,125.56549072265625,116.91596984863281,33.412300109863281,1.0739806534589562,8.2960844039916992,45.846992492675781,0,52.792243957519531,106.93532562255859,80.799675870307638,328.69412305441909,33.35076904296875,0,0,0,0,0,0,11.415044784545898,230.91496276855469,null,0,0,454.25961303710937,230.91496276855469,1.96721601452715,-66.011711120605469,1.3037500544438001,3.6616114936926696,4.9653615481364692,6.371797800263318E-2,0.22885071835579202,0.2925686963584252,null,38.732456352,"SmComWX",0.47692599892616272,0.43999999761581421,328.69412305441909,0,0,328.69412231445312,0,0,9999]
["Demand Control Ventilation-New-Restaurant","Demand Control Ventilation-DOAS-Restaurant-GasHt-Vent-New",15,168.9515793350385,4.4525525695868744,191.6748,0,0,"SmComCAC",0.17000000178813934,0,184.33506694220529,0,0.12378127127885818,4.4970780952827436,1.1359047144651413E-2,2.5816015899181366E-2,19.057952880859375,105.32074737548828,0,121.27553558349609,"(na)","(na)","(na)","(na)",0,0,0,0,0,0,0,0,19.057952880859375,105.32074737548828,0,121.27553558349609,245.65423583984375,85.957101989688923,0,8.5957107543945313,0,94.552810668945313,19.057952880859375,4.9613310167770655,85.957101989688923,35.479541778564453,12.143664360046387,0,133.58030700683594,105.32074737548828,1.2683190297924949,85.957101989688923,35.479541778564453,12.143664360046387,0,133.58030700683594,124.37870025634766,33.412303924560547,1.0739805758782439,8.2960853576660156,45.846996307373047,0,52.792247772216797,106.93532562255859,85.957101989688923,37.785567972078461,35.479541778564453,0,0,0,0,0,0,12.143664360046387,245.65423583984375,null,0,0,171.36587524414062,245.65423583984375,0.6975897464764319,69.756179809570313,1.3869681430253178,0.42092650971846468,1.8078946527437825,6.7785082981524664E-2,2.6307906857404046E-2,9.4092989838928706E-2,null,4.4525525695868744,"SmComWX",0.47692599892616272,0.43999999761581421,37.785567972078461,0,0,37.785568237304688,0,0,9999]
["Demand Control Ventilation-New-Lodging","Demand Control Ventilation-DOAS-Lodging-GasHt-Vent-New",15,0,0,0,0,0,"SmComCAC",0,0,0,0,0,0,0,0,0,0,0,0,"(na)","(na)","(na)","(na)",0,0,0,0,0,0,0,0,0,0,0,0,0,0,0,0,0,0,0,9999,0,0,0,0,0,0,9999,0,0,0,0,0,0,9999,9999,9999,9999,9999,9999,9999,0,0,0,0,0,0,0,0,0,0,0,null,0,0,0,0,9999,9999,0,0,0,0,0,0,null,0,"SmComWX",0,0,0,0,0,0,0,9999,9999]
["Demand Control Ventilation-New-Hospital","Demand Control Ventilation-DOAS-Hospital-GasHt-Vent-New",15,0,0,0,0,0,"SmComCAC",0,0,0,0,0,0,0,0,0,0,0,0,"(na)","(na)","(na)","(na)",0,0,0,0,0,0,0,0,0,0,0,0,0,0,0,0,0,0,0,9999,0,0,0,0,0,0,9999,0,0,0,0,0,0,9999,9999,9999,9999,9999,9999,9999,0,0,0,0,0,0,0,0,0,0,0,null,0,0,0,0,9999,9999,0,0,0,0,0,0,null,0,"SmComWX",0,0,0,0,0,0,0,9999,9999]
["Demand Control Ventilation-New-OtherHealth","Demand Control Ventilation-DOAS-OtherHealth-GasHt-Vent-New",15,0,0,0,0,0,"SmComCAC",0,0,0,0,0,0,0,0,0,0,0,0,"(na)","(na)","(na)","(na)",0,0,0,0,0,0,0,0,0,0,0,0,0,0,0,0,0,0,0,9999,0,0,0,0,0,0,9999,0,0,0,0,0,0,9999,9999,9999,9999,9999,9999,9999,0,0,0,0,0,0,0,0,0,0,0,null,0,0,0,0,9999,9999,0,0,0,0,0,0,null,0,"SmComWX",0,0,0,0,0,0,0,9999,9999]
["Demand Control Ventilation-New-Other","Demand Control Ventilation-DOAS-Other-GasHt-Vent-New",15,0,0,0,0,0,"SmComCAC",0,0,0,0,0,0,0,0,0,0,0,0,"(na)","(na)","(na)","(na)",0,0,0,0,0,0,0,0,0,0,0,0,0,0,0,0,0,0,0,9999,0,0,0,0,0,0,9999,0,0,0,0,0,0,9999,9999,9999,9999,9999,9999,9999,0,0,0,0,0,0,0,0,0,0,0,null,0,0,0,0,9999,9999,0,0,0,0,0,0,null,0,"SmComWX",0,0,0,0,0,0,0,9999,9999]
["Demand Control Ventilation-New-Large Off","Demand Control Ventilation-DOAS-Large Off-HtPmpHt-Vent-New",15,0,0,0,0,0,"SmComHP",0,0,0,0,0,0,0,0,0,0,0,0,"(na)","(na)","(na)","(na)",0,0,0,0,0,0,0,0,0,0,0,0,0,0,0,0,0,0,0,9999,0,0,0,0,0,0,9999,0,0,0,0,0,0,9999,9999,9999,9999,9999,9999,9999,0,0,0,0,0,0,0,0,0,0,0,null,0,0,0,0,9999,9999,0,0,0,0,0,0,null,0,"SmComWX",0,0,0,0,0,0,0,9999,9999]
["Demand Control Ventilation-New-Medium Off","Demand Control Ventilation-DOAS-Medium Off-HtPmpHt-Vent-New",15,0,0,0,0,0,"SmComHP",0,0,0,0,0,0,0,0,0,0,0,0,"(na)","(na)","(na)","(na)",0,0,0,0,0,0,0,0,0,0,0,0,0,0,0,0,0,0,0,9999,0,0,0,0,0,0,9999,0,0,0,0,0,0,9999,9999,9999,9999,9999,9999,9999,0,0,0,0,0,0,0,0,0,0,0,null,0,0,0,0,9999,9999,0,0,0,0,0,0,null,0,"SmComWX",0,0,0,0,0,0,0,9999,9999]
["Demand Control Ventilation-New-Small Off","Demand Control Ventilation-DOAS-Small Off-HtPmpHt-Vent-New",15,0,0,0,0,0,"SmComHP",0,0,0,0,0,0,0,0,0,0,0,0,"(na)","(na)","(na)","(na)",0,0,0,0,0,0,0,0,0,0,0,0,0,0,0,0,0,0,0,9999,0,0,0,0,0,0,9999,0,0,0,0,0,0,9999,9999,9999,9999,9999,9999,9999,0,0,0,0,0,0,0,0,0,0,0,null,0,0,0,0,9999,9999,0,0,0,0,0,0,null,0,"SmComWX",0,0,0,0,0,0,0,9999,9999]
["Demand Control Ventilation-New-Big Box","Demand Control Ventilation-DOAS-Big Box-HtPmpHt-Vent-New",15,2.643620171007675,0,3.1097000000000001,0,0,"SmComHP",0.15800000727176666,0.15000000596046448,2.8824605652343562,3.1238736119121313E-4,2.0825823303312063E-3,0,0,0,0.30919304490089417,1.7087061405181885,0,1.967553973197937,"(na)","(na)","(na)","(na)",0,0,0,0,0,0,0,0,0.30919304490089417,1.7087061405181885,0,1.967553973197937,3.9854531586170197,1.4629663038660037,0,0.14629663527011871,0,1.6092629432678223,0.30919304490089417,5.2047190765624771,1.4629663038660037,0.59693259000778198,0.20598989725112915,0,2.2658886909484863,1.7087061405181885,1.3260845369454535,1.4629663038660037,0.59693259000778198,0.20598989725112915,0,2.2658886909484863,2.0178992748260498,33.822795867919922,1.1228949431655224,8.6073856353759766,47.567348480224609,0,54.773208618164063,110.94793701171875,1.4629663038660037,0,0.59693259000778198,0,0,0,0,0,0,0.20598989725112915,3.9854531288146973,null,0,0,2.2658886909484863,3.9854531288146973,0.5685398166503608,88.596000671386719,2.1703609894059613E-2,0,2.1703609894059613E-2,1.0610862046038544E-3,0,1.0610862046038544E-3,null,0,"SmComWX",0,0,0,0,0,0,0,9999,9999]
["Demand Control Ventilation-New-Small Box","Demand Control Ventilation-DOAS-Small Box-HtPmpHt-Vent-New",15,41.455450373933537,0,48.7637,0,0,"SmComHP",0.15800000727176666,0.15000000596046448,45.200782709773904,4.8986454494297504E-3,3.265763446688652E-2,0,0,0,4.8485050201416016,26.794492721557617,0,30.85352897644043,"(na)","(na)","(na)","(na)",0,0,0,0,0,0,0,0,4.8485050201416016,26.794492721557617,0,30.85352897644043,62.496526718139648,22.941240830953703,0,2.2941241264343262,0,25.23536491394043,4.8485050201416016,5.2047723685044316,22.941240830953703,9.3606882095336914,3.2301928997039795,0,35.532123565673828,26.794492721557617,1.3260979526439722,22.941240830953703,9.3606882095336914,3.2301928997039795,0,35.532123565673828,31.642997741699219,33.822227478027344,1.122906313435881,8.6072969436645508,47.566860198974609,0,54.772655487060547,110.94681549072266,22.941240830953703,0,9.3606882095336914,0,0,0,0,0,0,3.2301928997039795,62.496528625488281,null,0,0,35.532123565673828,62.496528625488281,0.56854552919440271,88.594886779785156,0.3403412232837702,0,0.3403412232837702,1.6639230922743956E-2,0,1.6639230922743956E-2,null,0,"SmComWX",0,0,0,0,0,0,0,9999,9999]
["Demand Control Ventilation-New-High End","Demand Control Ventilation-DOAS-High End-HtPmpHt-Vent-New",15,20.727725186966769,0,24.381799999999998,0,0,"SmComHP",0.15800000727176666,0.15000000596046448,22.600391354886952,2.4493227247148752E-3,1.632881723344326E-2,0,0,0,2.4242477416992187,13.397218704223633,0,15.426732063293457,"(na)","(na)","(na)","(na)",0,0,0,0,0,0,0,0,2.4242477416992187,13.397218704223633,0,15.426732063293457,31.248198509216309,11.470620415476851,0,1.1470620632171631,0,12.617682456970215,2.4242477416992187,5.2047826060260451,11.470620415476851,4.6803441047668457,1.6150964498519897,0,17.766061782836914,13.397218704223633,1.3261006901749484,11.470620415476851,4.6803441047668457,1.6150964498519897,0,17.766061782836914,15.821466445922852,33.822109222412109,1.1229086147494218,8.6072807312011719,47.566764831542969,0,54.772541046142578,110.94658660888672,11.470620415476851,0,4.6803441047668457,0,0,0,0,0,0,1.6150964498519897,31.248199462890625,null,0,0,17.766061782836914,31.248199462890625,0.56854670910540306,88.594657897949219,0.1701706116418851,0,0.1701706116418851,8.3196154613719778E-3,0,8.3196154613719778E-3,null,0,"SmComWX",0,0,0,0,0,0,0,9999,9999]
["Demand Control Ventilation-New-Anchor","Demand Control Ventilation-DOAS-Anchor-HtPmpHt-Vent-New",15,20.727725186966769,0,24.381799999999998,0,0,"SmComHP",0.15800000727176666,0.15000000596046448,22.600391354886952,2.4493227247148752E-3,1.632881723344326E-2,0,0,0,2.4242477416992187,13.397218704223633,0,15.426732063293457,"(na)","(na)","(na)","(na)",0,0,0,0,0,0,0,0,2.4242477416992187,13.397218704223633,0,15.426732063293457,31.248198509216309,11.470620415476851,0,1.1470620632171631,0,12.617682456970215,2.4242477416992187,5.2047826060260451,11.470620415476851,4.6803441047668457,1.6150964498519897,0,17.766061782836914,13.397218704223633,1.3261006901749484,11.470620415476851,4.6803441047668457,1.6150964498519897,0,17.766061782836914,15.821466445922852,33.822109222412109,1.1229086147494218,8.6072807312011719,47.566764831542969,0,54.772541046142578,110.94658660888672,11.470620415476851,0,4.6803441047668457,0,0,0,0,0,0,1.6150964498519897,31.248199462890625,null,0,0,17.766061782836914,31.248199462890625,0.56854670910540306,88.594657897949219,0.1701706116418851,0,0.1701706116418851,8.3196154613719778E-3,0,8.3196154613719778E-3,null,0,"SmComWX",0,0,0,0,0,0,0,9999,9999]
["Demand Control Ventilation-New-K-12","Demand Control Ventilation-DOAS-K-12-HtPmpHt-Vent-New",15,0,0,0,0,0,"SmComHP",0,0,0,0,0,0,0,0,0,0,0,0,"(na)","(na)","(na)","(na)",0,0,0,0,0,0,0,0,0,0,0,0,0,0,0,0,0,0,0,9999,0,0,0,0,0,0,9999,0,0,0,0,0,0,9999,9999,9999,9999,9999,9999,9999,0,0,0,0,0,0,0,0,0,0,0,null,0,0,0,0,9999,9999,0,0,0,0,0,0,null,0,"SmComWX",0,0,0,0,0,0,0,9999,9999]
["Demand Control Ventilation-New-University","Demand Control Ventilation-DOAS-University-HtPmpHt-Vent-New",15,0,0,0,0,0,"SmComHP",0,0,0,0,0,0,0,0,0,0,0,0,"(na)","(na)","(na)","(na)",0,0,0,0,0,0,0,0,0,0,0,0,0,0,0,0,0,0,0,9999,0,0,0,0,0,0,9999,0,0,0,0,0,0,9999,9999,9999,9999,9999,9999,9999,0,0,0,0,0,0,0,0,0,0,0,null,0,0,0,0,9999,9999,0,0,0,0,0,0,null,0,"SmComWX",0,0,0,0,0,0,0,9999,9999]
["Demand Control Ventilation-New-Warehouse","Demand Control Ventilation-DOAS-Warehouse-HtPmpHt-Vent-New",15,0,0,0,0,0,"SmComHP",0,0,0,0,0,0,0,0,0,0,0,0,"(na)","(na)","(na)","(na)",0,0,0,0,0,0,0,0,0,0,0,0,0,0,0,0,0,0,0,9999,0,0,0,0,0,0,9999,0,0,0,0,0,0,9999,9999,9999,9999,9999,9999,9999,0,0,0,0,0,0,0,0,0,0,0,null,0,0,0,0,9999,9999,0,0,0,0,0,0,null,0,"SmComWX",0,0,0,0,0,0,0,9999,9999]
["Demand Control Ventilation-New-Supermarket","Demand Control Ventilation-DOAS-Supermarket-HtPmpHt-Vent-New",15,0.90508557719522642,0,1.0646,0,0,"SmComHP",0.15800000727176666,0.15000000596046448,0.98685639981071338,1.069507998181507E-4,7.1300531271845102E-4,0,0,0,0.1058516651391983,0.58497238159179688,0,0.67358845472335815,"(na)","(na)","(na)","(na)",0,0,0,0,0,0,0,0,0.1058516651391983,0.58497238159179688,0,0.67358845472335815,1.3644125014543533,0.50086987384689907,0,5.0086986273527145E-2,0,0.5509568452835083,0.1058516651391983,5.2049900149978789,0.50086987384689907,0.20436938107013702,7.0523925125598907E-2,0,0.77576315402984619,0.58497238159179688,1.3261535150286377,0.50086987384689907,0.20436938107013702,7.0523925125598907E-2,0,0.77576315402984619,0.69082403182983398,33.819873809814453,1.1229533536268388,8.6069374084472656,47.564872741699219,0,54.770359039306641,110.94217681884766,0.50086987384689907,0,0.20436938107013702,0,0,0,0,0,0,7.0523925125598907E-2,1.3644125461578369,null,0,0,0.77576315402984619,1.3644125461578369,0.56856936872001895,88.590232849121094,7.4305773967133044E-3,0,7.4305773967133044E-3,3.6327980489788135E-4,0,3.6327980489788135E-4,null,0,"SmComWX",0,0,0,0,0,0,0,9999,9999]
["Demand Control Ventilation-New-MIniMart","Demand Control Ventilation-DOAS-MIniMart-HtPmpHt-Vent-New",15,0.3878938187979542,0,0.45629999999999998,0,0,"SmComHP",0.15800000727176666,0.15000000596046448,0.42293845706173433,4.5836055505787954E-5,3.0557368882000446E-4,0,0,0,4.5369260013103485E-2,0.25072598457336426,0,0.28870788216590881,"(na)","(na)","(na)","(na)",0,0,0,0,0,0,0,0,4.5369260013103485E-2,0.25072598457336426,0,0.28870788216590881,0.58480312675237656,0.2146585173629566,0,2.1465852856636047E-2,0,0.23612436652183533,4.5369260013103485E-2,5.2045012449265329,0.2146585173629566,8.7586872279644012E-2,3.0224539339542389E-2,0,0.33246994018554688,0.25072598457336426,1.3260290095096221,0.2146585173629566,8.7586872279644012E-2,3.0224539339542389E-2,0,0.33246994018554688,0.29609525203704834,33.825145721435547,1.1228479182314355,8.6077451705932617,47.5693359375,0,54.775505065917969,110.95257568359375,0.2146585173629566,0,8.7586872279644012E-2,0,0,0,0,0,0,3.0224539339542389E-2,0.58480310440063477,null,0,0,0.33246994018554688,0.58480310440063477,0.56851601244985139,88.60064697265625,3.1845331700199883E-3,0,3.1845331700199883E-3,1.5569134495623484E-4,0,1.5569134495623484E-4,null,0,"SmComWX",0,0,0,0,0,0,0,9999,9999]
["Demand Control Ventilation-New-Restaurant","Demand Control Ventilation-DOAS-Restaurant-HtPmpHt-Vent-New",15,0.41265299872122796,0,0.4854,0,0,"SmComHP",0.15800000727176666,0.15000000596046448,0.44993452878907914,4.8761761718196794E-5,3.2507840660400689E-4,0,0,0,4.826262965798378E-2,0.26671576499938965,0,0.30711990594863892,"(na)","(na)","(na)","(na)",0,0,0,0,0,0,0,0,4.826262965798378E-2,0.26671576499938965,0,0.30711990594863892,0.62209830060601234,0.22836012485420898,0,2.283601276576519E-2,0,0.25119614601135254,4.826262965798378E-2,5.2047751935626323,0.22836012485420898,9.3177527189254761E-2,3.2153766602277756E-2,0,0.35369142889976501,0.26671576499938965,1.3260986602968552,0.22836012485420898,9.3177527189254761E-2,3.2153766602277756E-2,0,0.35369142889976501,0.31497839093208313,33.822196960449219,1.122906918839558,8.6072931289672852,47.566837310791016,0,54.772624969482422,110.94676208496094,0.22836012485420898,0,9.3177527189254761E-2,0,0,0,0,0,0,3.2153766602277756E-2,0.62209832668304443,null,0,0,0.35369142889976501,0.62209832668304443,0.5685458447245515,88.594825744628906,3.3878012447021186E-3,0,3.3878012447021186E-3,1.6562909037897333E-4,0,1.6562909037897333E-4,null,0,"SmComWX",0,0,0,0,0,0,0,9999,9999]
["Demand Control Ventilation-New-Lodging","Demand Control Ventilation-DOAS-Lodging-HtPmpHt-Vent-New",15,0,0,0,0,0,"SmComHP",0,0,0,0,0,0,0,0,0,0,0,0,"(na)","(na)","(na)","(na)",0,0,0,0,0,0,0,0,0,0,0,0,0,0,0,0,0,0,0,9999,0,0,0,0,0,0,9999,0,0,0,0,0,0,9999,9999,9999,9999,9999,9999,9999,0,0,0,0,0,0,0,0,0,0,0,null,0,0,0,0,9999,9999,0,0,0,0,0,0,null,0,"SmComWX",0,0,0,0,0,0,0,9999,9999]
["Demand Control Ventilation-New-Hospital","Demand Control Ventilation-DOAS-Hospital-HtPmpHt-Vent-New",15,0,0,0,0,0,"SmComHP",0,0,0,0,0,0,0,0,0,0,0,0,"(na)","(na)","(na)","(na)",0,0,0,0,0,0,0,0,0,0,0,0,0,0,0,0,0,0,0,9999,0,0,0,0,0,0,9999,0,0,0,0,0,0,9999,9999,9999,9999,9999,9999,9999,0,0,0,0,0,0,0,0,0,0,0,null,0,0,0,0,9999,9999,0,0,0,0,0,0,null,0,"SmComWX",0,0,0,0,0,0,0,9999,9999]
["Demand Control Ventilation-New-OtherHealth","Demand Control Ventilation-DOAS-OtherHealth-HtPmpHt-Vent-New",15,0,0,0,0,0,"SmComHP",0,0,0,0,0,0,0,0,0,0,0,0,"(na)","(na)","(na)","(na)",0,0,0,0,0,0,0,0,0,0,0,0,0,0,0,0,0,0,0,9999,0,0,0,0,0,0,9999,0,0,0,0,0,0,9999,9999,9999,9999,9999,9999,9999,0,0,0,0,0,0,0,0,0,0,0,null,0,0,0,0,9999,9999,0,0,0,0,0,0,null,0,"SmComWX",0,0,0,0,0,0,0,9999,9999]
["Demand Control Ventilation-New-Other","Demand Control Ventilation-DOAS-Other-HtPmpHt-Vent-New",15,0,0,0,0,0,"SmComHP",0,0,0,0,0,0,0,0,0,0,0,0,"(na)","(na)","(na)","(na)",0,0,0,0,0,0,0,0,0,0,0,0,0,0,0,0,0,0,0,9999,0,0,0,0,0,0,9999,0,0,0,0,0,0,9999,9999,9999,9999,9999,9999,9999,0,0,0,0,0,0,0,0,0,0,0,null,0,0,0,0,9999,9999,0,0,0,0,0,0,null,0,"SmComWX",0,0,0,0,0,0,0,9999,9999]
["Demand Control Ventilation-New-Large Off","Demand Control Ventilation-DOAS-Large Off-HtPmpHt-Heat-New",15,0,0,0,0,0,"SmComHP",0,0,0,0,0,0,0,0,0,0,0,0,"(na)","(na)","(na)","(na)",0,0,0,0,0,0,0,0,0,0,0,0,0,0,0,0,0,0,0,9999,0,0,0,0,0,0,9999,0,0,0,0,0,0,9999,9999,9999,9999,9999,9999,9999,0,0,0,0,0,0,0,0,0,0,0,null,0,0,0,0,9999,9999,0,0,0,0,0,0,null,0,"SmComWX",0,0,0,0,0,0,0,9999,9999]
["Demand Control Ventilation-New-Medium Off","Demand Control Ventilation-DOAS-Medium Off-HtPmpHt-Heat-New",15,0,0,0,0,0,"SmComHP",0,0,0,0,0,0,0,0,0,0,0,0,"(na)","(na)","(na)","(na)",0,0,0,0,0,0,0,0,0,0,0,0,0,0,0,0,0,0,0,9999,0,0,0,0,0,0,9999,0,0,0,0,0,0,9999,9999,9999,9999,9999,9999,9999,0,0,0,0,0,0,0,0,0,0,0,null,0,0,0,0,9999,9999,0,0,0,0,0,0,null,0,"SmComWX",0,0,0,0,0,0,0,9999,9999]
["Demand Control Ventilation-New-Small Off","Demand Control Ventilation-DOAS-Small Off-HtPmpHt-Heat-New",15,0,0,0,0,0,"SmComHP",0,0,0,0,0,0,0,0,0,0,0,0,"(na)","(na)","(na)","(na)",0,0,0,0,0,0,0,0,0,0,0,0,0,0,0,0,0,0,0,9999,0,0,0,0,0,0,9999,0,0,0,0,0,0,9999,9999,9999,9999,9999,9999,9999,0,0,0,0,0,0,0,0,0,0,0,null,0,0,0,0,9999,9999,0,0,0,0,0,0,null,0,"SmComWX",0,0,0,0,0,0,0,9999,9999]
["Demand Control Ventilation-New-Big Box","Demand Control Ventilation-DOAS-Big Box-HtPmpHt-Heat-New",15,7.4615749194257281,0,0,0,0,"SmComHP",0.15800000727176666,0.15000000596046448,8.1356980460578967,8.8170822709798813E-4,5.8780545368790627E-3,0,0,0,0,0,0,0,"(na)","(na)","(na)","(na)",0,0,0,0,0,0,0,0,0,0,0,0,0,4.129198589346009,0,0.41291987895965576,0,4.5421185493469238,0,9999,4.129198589346009,1.6848323345184326,0.58140307664871216,0,6.3954339027404785,0,9999,4.129198589346009,1.6848323345184326,0.58140307664871216,0,6.3954339027404785,0,-22.351934432983398,9999,0,0,0,0,0,4.129198589346009,0,1.6848323345184326,0,0,0,0,0,0,0.58140307664871216,0,null,0,0,6.3954339027404785,0,9999,-22.351934432983398,6.1258085795580473E-2,0,6.1258085795580473E-2,2.9948985480024067E-3,0,2.9948985480024067E-3,null,0,"SmComWX",0,0,0,0,0,0,0,9999,9999]
["Demand Control Ventilation-New-Small Box","Demand Control Ventilation-DOAS-Small Box-HtPmpHt-Heat-New",15,117.00733417604958,0,0,0,0,"SmComHP",0.15800000727176666,0.15000000596046448,127.57847375521553,1.3826347887516022E-2,9.2175647616386414E-2,0,0,0,0,0,0,0,"(na)","(na)","(na)","(na)",0,0,0,0,0,0,0,0,0,0,0,0,0,64.75127897798626,0,6.475128173828125,0,71.226409912109375,0,9999,64.75127897798626,26.420391082763672,9.1171674728393555,0,100.28884124755859,0,9999,64.75127897798626,26.420391082763672,9.1171674728393555,0,100.28884124755859,0,-22.351934432983398,9999,0,0,0,0,0,64.75127897798626,0,26.420391082763672,0,0,0,0,0,0,9.1171674728393555,0,null,0,0,100.28884124755859,0,9999,-22.351934432983398,0.96060756516805823,0,0.96060756516805823,4.6963958549444296E-2,0,4.6963958549444296E-2,null,0,"SmComWX",0,0,0,0,0,0,0,9999,9999]
["Demand Control Ventilation-New-High End","Demand Control Ventilation-DOAS-High End-HtPmpHt-Heat-New",15,28.560116931061906,0,0,0,0,"SmComHP",0.15800000727176666,0.15000000596046448,31.140408026501255,3.3748492132872343E-3,2.2498993203043938E-2,0,0,0,0,0,0,0,"(na)","(na)","(na)","(na)",0,0,0,0,0,0,0,0,0,0,0,0,0,15.805027198249215,0,1.5805027484893799,0,17.385530471801758,0,9999,15.805027198249215,6.4489083290100098,2.225393533706665,0,24.479328155517578,0,9999,15.805027198249215,6.4489083290100098,2.225393533706665,0,24.479328155517578,0,-22.351936340332031,9999,0,0,0,0,0,15.805027198249215,0,6.4489083290100098,0,0,0,0,0,0,2.225393533706665,0,null,0,0,24.479328155517578,0,9999,-22.351936340332031,0.23447303179118284,0,0.23447303179118284,1.1463351055409531E-2,0,1.1463351055409531E-2,null,0,"SmComWX",0,0,0,0,0,0,0,9999,9999]
["Demand Control Ventilation-New-Anchor","Demand Control Ventilation-DOAS-Anchor-HtPmpHt-Heat-New",15,28.560116931061906,0,0,0,0,"SmComHP",0.15800000727176666,0.15000000596046448,31.140408026501255,3.3748492132872343E-3,2.2498993203043938E-2,0,0,0,0,0,0,0,"(na)","(na)","(na)","(na)",0,0,0,0,0,0,0,0,0,0,0,0,0,15.805027198249215,0,1.5805027484893799,0,17.385530471801758,0,9999,15.805027198249215,6.4489083290100098,2.225393533706665,0,24.479328155517578,0,9999,15.805027198249215,6.4489083290100098,2.225393533706665,0,24.479328155517578,0,-22.351936340332031,9999,0,0,0,0,0,15.805027198249215,0,6.4489083290100098,0,0,0,0,0,0,2.225393533706665,0,null,0,0,24.479328155517578,0,9999,-22.351936340332031,0.23447303179118284,0,0.23447303179118284,1.1463351055409531E-2,0,1.1463351055409531E-2,null,0,"SmComWX",0,0,0,0,0,0,0,9999,9999]
["Demand Control Ventilation-New-K-12","Demand Control Ventilation-DOAS-K-12-HtPmpHt-Heat-New",15,0,0,0,0,0,"SmComHP",0,0,0,0,0,0,0,0,0,0,0,0,"(na)","(na)","(na)","(na)",0,0,0,0,0,0,0,0,0,0,0,0,0,0,0,0,0,0,0,9999,0,0,0,0,0,0,9999,0,0,0,0,0,0,9999,9999,9999,9999,9999,9999,9999,0,0,0,0,0,0,0,0,0,0,0,null,0,0,0,0,9999,9999,0,0,0,0,0,0,null,0,"SmComWX",0,0,0,0,0,0,0,9999,9999]
["Demand Control Ventilation-New-University","Demand Control Ventilation-DOAS-University-HtPmpHt-Heat-New",15,0,0,0,0,0,"SmComHP",0,0,0,0,0,0,0,0,0,0,0,0,"(na)","(na)","(na)","(na)",0,0,0,0,0,0,0,0,0,0,0,0,0,0,0,0,0,0,0,9999,0,0,0,0,0,0,9999,0,0,0,0,0,0,9999,9999,9999,9999,9999,9999,9999,0,0,0,0,0,0,0,0,0,0,0,null,0,0,0,0,9999,9999,0,0,0,0,0,0,null,0,"SmComWX",0,0,0,0,0,0,0,9999,9999]
["Demand Control Ventilation-New-Warehouse","Demand Control Ventilation-DOAS-Warehouse-HtPmpHt-Heat-New",15,0,0,0,0,0,"SmComHP",0,0,0,0,0,0,0,0,0,0,0,0,"(na)","(na)","(na)","(na)",0,0,0,0,0,0,0,0,0,0,0,0,0,0,0,0,0,0,0,9999,0,0,0,0,0,0,9999,0,0,0,0,0,0,9999,9999,9999,9999,9999,9999,9999,0,0,0,0,0,0,0,0,0,0,0,null,0,0,0,0,9999,9999,0,0,0,0,0,0,null,0,"SmComWX",0,0,0,0,0,0,0,9999,9999]
["Demand Control Ventilation-New-Supermarket","Demand Control Ventilation-DOAS-Supermarket-HtPmpHt-Heat-New",15,2.5545893153628287,0,0,0,0,"SmComHP",0.15800000727176666,0.15000000596046448,2.7853861317360216,3.0186687945388258E-4,2.0124458242207766E-3,0,0,0,0,0,0,0,"(na)","(na)","(na)","(na)",0,0,0,0,0,0,0,0,0,0,0,0,0,1.4136970694876325,0,0.14136971533298492,0,1.5550668239593506,0,9999,1.4136970694876325,0.57682931423187256,0.19905264675617218,0,2.1895790100097656,0,9999,1.4136970694876325,0.57682931423187256,0.19905264675617218,0,2.1895790100097656,0,-22.351936340332031,9999,0,0,0,0,0,1.4136970694876325,0,0.57682931423187256,0,0,0,0,0,0,0.19905264675617218,0,null,0,0,2.1895790100097656,0,9999,-22.351936340332031,2.0972683802391347E-2,0,2.0972683802391347E-2,1.0253513385497742E-3,0,1.0253513385497742E-3,null,0,"SmComWX",0,0,0,0,0,0,0,9999,9999]
["Demand Control Ventilation-New-MIniMart","Demand Control Ventilation-DOAS-MIniMart-HtPmpHt-Heat-New",15,1.0948239922983549,0,0,0,0,"SmComHP",0.15800000727176666,0.15000000596046448,1.1937369136011515,1.2937151768710464E-4,8.6247676517814398E-4,0,0,0,0,0,0,0,"(na)","(na)","(na)","(na)",0,0,0,0,0,0,0,0,0,0,0,0,0,0.6058701726375566,0,6.0587018728256226E-2,0,0.66645717620849609,0,9999,0.6058701726375566,0.24721252918243408,8.5308268666267395E-2,0,0.93839097023010254,0,9999,0.6058701726375566,0.24721252918243408,8.5308268666267395E-2,0,0.93839097023010254,0,-22.351934432983398,9999,0,0,0,0,0,0.6058701726375566,0,0.24721252918243408,0,0,0,0,0,0,8.5308268666267395E-2,0,null,0,0,0.93839097023010254,0,9999,-22.351934432983398,8.9882930581677168E-3,0,8.9882930581677168E-3,4.3943628794990304E-4,0,4.3943628794990304E-4,null,0,"SmComWX",0,0,0,0,0,0,0,9999,9999]
["Demand Control Ventilation-New-Restaurant","Demand Control Ventilation-DOAS-Restaurant-HtPmpHt-Heat-New",15,1.1647063747854842,0,0,0,0,"SmComHP",0.15800000727176666,0.15000000596046448,1.2699328868097366,1.3762927846983075E-4,9.175284649245441E-4,0,0,0,0,0,0,0,"(na)","(na)","(na)","(na)",0,0,0,0,0,0,0,0,0,0,0,0,0,0.64454273684846553,0,6.4454272389411926E-2,0,0.70899701118469238,0,9999,0.64454273684846553,0.26299202442169189,9.0753480792045593E-2,0,0.99828821420669556,0,9999,0.64454273684846553,0.26299202442169189,9.0753480792045593E-2,0,0.99828821420669556,0,-22.351932525634766,9999,0,0,0,0,0,0.64454273684846553,0,0.26299202442169189,0,0,0,0,0,0,9.0753480792045593E-2,0,null,0,0,0.99828821420669556,0,9999,-22.351932525634766,9.5620138916678015E-3,0,9.5620138916678015E-3,4.6748541271266321E-4,0,4.6748541271266321E-4,null,0,"SmComWX",0,0,0,0,0,0,0,9999,9999]
["Demand Control Ventilation-New-Lodging","Demand Control Ventilation-DOAS-Lodging-HtPmpHt-Heat-New",15,0,0,0,0,0,"SmComHP",0,0,0,0,0,0,0,0,0,0,0,0,"(na)","(na)","(na)","(na)",0,0,0,0,0,0,0,0,0,0,0,0,0,0,0,0,0,0,0,9999,0,0,0,0,0,0,9999,0,0,0,0,0,0,9999,9999,9999,9999,9999,9999,9999,0,0,0,0,0,0,0,0,0,0,0,null,0,0,0,0,9999,9999,0,0,0,0,0,0,null,0,"SmComWX",0,0,0,0,0,0,0,9999,9999]
["Demand Control Ventilation-New-Hospital","Demand Control Ventilation-DOAS-Hospital-HtPmpHt-Heat-New",15,0,0,0,0,0,"SmComHP",0,0,0,0,0,0,0,0,0,0,0,0,"(na)","(na)","(na)","(na)",0,0,0,0,0,0,0,0,0,0,0,0,0,0,0,0,0,0,0,9999,0,0,0,0,0,0,9999,0,0,0,0,0,0,9999,9999,9999,9999,9999,9999,9999,0,0,0,0,0,0,0,0,0,0,0,null,0,0,0,0,9999,9999,0,0,0,0,0,0,null,0,"SmComWX",0,0,0,0,0,0,0,9999,9999]
["Demand Control Ventilation-New-OtherHealth","Demand Control Ventilation-DOAS-OtherHealth-HtPmpHt-Heat-New",15,0,0,0,0,0,"SmComHP",0,0,0,0,0,0,0,0,0,0,0,0,"(na)","(na)","(na)","(na)",0,0,0,0,0,0,0,0,0,0,0,0,0,0,0,0,0,0,0,9999,0,0,0,0,0,0,9999,0,0,0,0,0,0,9999,9999,9999,9999,9999,9999,9999,0,0,0,0,0,0,0,0,0,0,0,null,0,0,0,0,9999,9999,0,0,0,0,0,0,null,0,"SmComWX",0,0,0,0,0,0,0,9999,9999]
["Demand Control Ventilation-New-Other","Demand Control Ventilation-DOAS-Other-HtPmpHt-Heat-New",15,0,0,0,0,0,"SmComHP",0,0,0,0,0,0,0,0,0,0,0,0,"(na)","(na)","(na)","(na)",0,0,0,0,0,0,0,0,0,0,0,0,0,0,0,0,0,0,0,9999,0,0,0,0,0,0,9999,0,0,0,0,0,0,9999,9999,9999,9999,9999,9999,9999,0,0,0,0,0,0,0,0,0,0,0,null,0,0,0,0,9999,9999,0,0,0,0,0,0,null,0,"SmComWX",0,0,0,0,0,0,0,9999,9999]
[]
[]
["Category Results; Sorted by TRC Levelized Cost"]
["Total Results",null,"Measure Input Data",null,null,null,null,null,null,null,null,"Savings",null,null,null,null,null,"PV Capital",null,null,null,"PV Admin",null,null,null,"PV O&M",null,null,null,"PV Periodic Repl.",null,null,null,"Total PV Capital, O&M and Periodic Repl Costs",null,null,null,null,"PV Wholesale Electric Utility Costs & Benefits",null,null,null,null,null,null,"PV Retail Electric Utility Costs & Benefits",null,null,null,null,null,null,"PV Electric Utility System Costs & Benefits",null,null,null,null,null,"Electric Utility System Economics",null,"Sponsor Levelized Cost (mills/kwh)",null,null,null,null,"PV Regional Costs & Benefits",null,null,null,null,null,null,null,null,null,null,null,null,null,null,null,"TRC Economics",null,"Physical CO2",null,null,null,null,null,null,"Gas Inputs",null,null,null,"PV Gas Utility System Costs & Benefits",null,null,null,null,"Gas Utility System Economics"]
["Category","Measure","Measure Life","Site Savings (kWh)","Site Savings (therms)","Capital Cost ($/unit)","Annual O&M Cost ($/unit)","PV Per. Repl. Cost ($/unit)","Load Shape (electric)","Diversified Load Factor (electric)","Wholesale Power Coincidence Factor (electric)","Wholesale Electric Energy (kWh)","Wholesale Electric Demand (kw)","Retail Electric Demand (kW)","Wholesale Gas Energy (therms/yr)","Wholesale Gas Demand (therms/day)","Retail Gas Demand (therms/day)","Wholesale Electric","Retail Electric","Natural Gas","Customer","Wholesale Electric","Retail Electric","Natural Gas","Customer","Wholesale Electric","Retail Electric","Natural Gas","Customer","Wholesale Electric","Retail Electric","Natural Gas","Customer","Wholesale Electric","Retail Electric","Natural Gas","Customer","Total","Wholesale Utility System Energy","Wholesale Utility System T&D Def. Cap.","Wholesale Utility System Act C-E Credit","Wholesale Utility System Risk Mitigation Benefit","Wholesale Utility System Total System Benefit","Wholesale Utility System Total Non-Consumer Cost","Wholesale Utility System B/C Ratio","Retail Utility System Energy","Retail Utility System T&D Def. Cap.","Retail Utility System Act C-E Credit","Retail Utility System Risk Mitigation Benefit","Retail Utility System Total System Benefit","Retail Utility System Total Non-Consumer Cost","Retail Utility System System B/C Ratio","Utility System Energy","Utility System T&D Def. Cap.","Utility System Act C-E Credit","Utility System Total Risk Mitigation Benefit","Utility System Total System Benefit","Utility System Total Non-Consumer Cost","Utility System Net Levelized Cost (Net of Elec T&D Capacity Benefits, Act Credit & Risk-Mitigation Benefit) in mills/kwh","Utility System System B/C Ratio","Wholesale Electric Levelized Cost","Retail Electric Levelized Cost","Natural Gas Levelized Cost","Customer Levelized Cost","Total Levelized Cost","PV Regional Electric Energy","PV Regional Gas Energy","PV Regional Electric T&D Def. Cap.","PV Regional Gas T&D Def. Cap.","PV Regional Electric System CO2","PV Regional Gas System CO2","PV Regional Electric System Risk-Mitigation Benefit","PV Regional Gas System Risk-Mitigation Benefit","PV Regional Non-E Value","PV Regional Act Credit","PV Regional Capital Cost","PV Regional Admin Cost","PV Regional Annual O&M Cost","PV Regional Periodic Replacement Cost","PV Total Regional Benefit","PV Total Regional Cost","TRC B/C Ratio","TRC Net Levelized Cost (Net of All Benefits) in mills/kWh","Electric System CO2 Avoided (Lifetime Tons)","Gas System CO2 Avoided (Lifetime Tons)","Total System CO2 Avoided (Lifetime Tons)","Electric System CO2 Avoided (Annual Tons in 2020)","Gas System CO2 Avoided (Annual Tons in 2020)","Total System CO2 Avoided (Annual Tons in 2020)",null,"Gas Site Savings (therms)","Load Shape (gas)","Diversitfied Load Factor (gas)","Wholesale Coincidence Factor (gas)","Total Gas Utility System Energy","Gas Utility System T&D Def. Cap.","Gas Utility System Risk Mitigation Benefit","Gas Utility System Total System Benefit","Gas Utility System Total Non-Consumer Cost","Gas Utility System Net Levelized Cost (Net of Gas T&D Capacity Benefits & Risk-Mitigation Benefits) in cents/therm","Gas Utility System System B/C Ratio"]
["Demand Control Ventilation-New-MIniMart",null,15,189.96630859375,94.531173706054687,270.24380493164063,0,0,null,0.21117424964904785,5.8978836983442307E-2,207.24012756347656,3.166925860568881E-3,0.12704373896121979,95.476486206054688,0.24116143584251404,0.54809415340423584,26.869956970214844,148.4925537109375,0,170.98731994628906,27.024379730224609,27.024379730224609,0,0,0,0,0,0,0,0,0,0,53.894336700439453,175.51693725585937,0,170.98731994628906,400.39859008789062,97.567581176757813,0,9.7567577362060547,0,107.3243408203125,53.894336700439453,1.9913843547143748,97.567581176757813,36.414665222167969,13.398224830627441,0,147.38047790527344,175.51693725585937,0.83969374544114306,97.567581176757813,36.414665222167969,13.398224830627441,0,147.38047790527344,229.41127014160156,69.539802551269531,0.64242908004730659,20.867679595947266,67.959487915039063,0,66.205635070800781,155.03280639648437,97.567581176757813,802.2171630859375,36.414665222167969,0,0,0,0,0,0,13.398224830627441,346.34982299804687,54.048759460449219,0,0,949.59765625,400.39859008789062,2.3716308596420235,-174.86997985839844,1.5587671246496053,8.9365988943429198,10.495366018992526,7.6169499460683757E-2,0.55853743089643215,0.63470693035711589,null,95.476486206054688,null,0.47692599892616272,0.43999999761581421,802.2171630859375,0,0,802.2171630859375,0,0,9999]
["Demand Control Ventilation-New-Supermarket",null,14.999999046325684,407.9410400390625,114.28946685791016,463.45751953125,0,0,null,0.19170913100242615,3.332364559173584E-2,445.06051635742187,3.8750693202018738E-3,0.28532072901725769,115.43235778808594,0.29156744480133057,0.66265326738357544,46.080917358398438,254.65888977050781,0,293.23654174804687,46.345752716064453,46.345752716064453,0,0,0,0,0,0,0,0,0,0,92.426666259765625,301.004638671875,0,293.23654174804687,686.66790771484375,208.51419067382812,0,20.851419448852539,0,229.36561584472656,92.426666259765625,2.4815955171585635,208.51419067382812,81.781753540039063,29.029594421386719,0,319.32553100585937,301.004638671875,1.060865825846852,208.51419067382812,81.781753540039063,29.029594421386719,0,319.32553100585937,393.43130493164062,50.955219268798828,0.81164240984432368,16.664148330688477,54.2698974609375,0,52.869342803955078,123.80341339111328,208.51419067382812,969.89141845703125,81.781753540039063,0,0,0,0,0,0,29.029594421386719,593.97637939453125,92.691505432128906,0,0,1289.2169189453125,686.66790771484375,1.8774970922336498,-71.042869567871094,3.3485604921913619,10.804469037942551,14.153029530133914,0.16365115971924757,0.67527931487140858,0.83893047459065617,null,115.43235778808594,null,0.47692599892616272,0.43999999761581421,969.89141845703125,0,0,969.89141845703125,0,0,9999]
["Demand Control Ventilation-New-Restaurant",null,15.000000953674316,220.34780883789062,63.812889099121094,287.49331665039062,0,0,null,0.22681865096092224,5.4640166461467743E-2,240.36082458496094,3.4066049847751856E-3,0.14083003997802734,64.451019287109375,0.16279506683349609,0.36998879909515381,28.585050582885742,157.97071838378906,0,181.90133666992187,28.749330520629883,28.749330520629883,0,0,0,0,0,0,0,0,0,0,57.334381103515625,186.72004699707031,0,181.90133666992187,425.95578002929687,114.23582458496094,0,11.423582077026367,0,125.65940856933594,57.334381103515625,2.1916937837893942,114.23582458496094,40.366245269775391,15.460206985473633,0,170.06227111816406,186.72004699707031,0.91078744804348244,114.23582458496094,40.366245269775391,15.460206985473633,0,170.06227111816406,244.05442810058594,62.83843994140625,0.69682110189387259,19.140636444091797,62.335029602050781,0,60.726345062255859,142.20201110839844,114.23582458496094,541.533447265625,40.366245269775391,0,0,0,0,0,0,15.460206985473633,368.45712280273437,57.498661041259766,0,0,711.595703125,425.95578002929687,1.6705858943482645,-57.221927642822266,1.8043867688586885,6.032615233814445,7.8370020026731337,8.8089742501593973E-2,0.37703845211340398,0.46512819461499794,null,64.451019287109375,null,0.47692599892616272,0.43999999761581421,541.533447265625,0,0,541.533447265625,0,0,9999]
["Demand Control Ventilation-New-High End",null,15,259.54788208007812,34.161235809326172,252.99411010742187,0,0,null,0.20723026990890503,0.11063689738512039,283.07675170898437,1.5472118742763996E-2,0.17843827605247498,34.502849578857422,8.714979887008667E-2,0.19806772470474243,25.154842376708984,139.01423645019531,0,160.07316589355469,25.299411773681641,25.299411773681641,0,0,0,0,0,0,0,0,0,0,50.454254150390625,164.31364440917969,0,160.07316589355469,374.841064453125,137.80496215820312,0,13.780495643615723,0,151.58546447753906,50.454254150390625,3.0044138072080737,137.80496215820312,51.14593505859375,18.895090103149414,0,207.84599304199219,164.31364440917969,1.264934407863409,137.80496215820312,51.14593505859375,18.895090103149414,0,207.84599304199219,214.76789855957031,41.025123596191406,0.96777025347922452,14.302056312561035,46.577301025390625,0,45.375270843505859,106.25463104248047,137.80496215820312,289.90151977539062,51.14593505859375,0,0,0,0,0,0,18.895090103149414,324.24224853515625,50.598823547363281,0,0,497.74749755859375,374.841064453125,1.327889455469704,4.2232232093811035,2.1289857227679292,3.2294666288407341,5.3584523516086637,0.10402904577606754,0.20184166430254574,0.30587071007861327,null,34.502849578857422,null,0.47692599892616272,0.43999999761581421,289.90151977539062,0,0,289.90151977539062,0,0,9999]
["Demand Control Ventilation-New-Anchor",null,15,259.54788208007812,34.161235809326172,252.99411010742187,0,0,null,0.20723026990890503,0.11063689738512039,283.07675170898437,1.5472118742763996E-2,0.17843827605247498,34.502849578857422,8.714979887008667E-2,0.19806772470474243,25.154842376708984,139.01423645019531,0,160.07316589355469,25.299411773681641,25.299411773681641,0,0,0,0,0,0,0,0,0,0,50.454254150390625,164.31364440917969,0,160.07316589355469,374.841064453125,137.80496215820312,0,13.780495643615723,0,151.58546447753906,50.454254150390625,3.0044138072080737,137.80496215820312,51.14593505859375,18.895090103149414,0,207.84599304199219,164.31364440917969,1.264934407863409,137.80496215820312,51.14593505859375,18.895090103149414,0,207.84599304199219,214.76789855957031,41.025123596191406,0.96777025347922452,14.302056312561035,46.577301025390625,0,45.375270843505859,106.25463104248047,137.80496215820312,289.90151977539062,51.14593505859375,0,0,0,0,0,0,18.895090103149414,324.24224853515625,50.598823547363281,0,0,497.74749755859375,374.841064453125,1.327889455469704,4.2232232093811035,2.1289857227679292,3.2294666288407341,5.3584523516086637,0.10402904577606754,0.20184166430254574,0.30587071007861327,null,34.502849578857422,null,0.47692599892616272,0.43999999761581421,289.90151977539062,0,0,289.90151977539062,0,0,9999]
["Demand Control Ventilation-New-Lodging",null,15.000000953674316,228.9686279296875,7.2597308158874512,117.34510040283203,0,0,null,0.40084022283554077,0.38156872987747192,249.65220642089844,2.7034580707550049E-2,8.8190771639347076E-2,7.3323278427124023,1.8520526587963104E-2,4.2092107236385345E-2,11.66745662689209,64.478340148925781,0,74.246009826660156,11.73451042175293,11.73451042175293,0,0,0,0,0,0,0,0,0,0,23.401966094970703,76.212852478027344,0,74.246009826660156,173.86083984375,123.39922332763672,0,12.339923858642578,0,135.73915100097656,23.401966094970703,5.8003306689613785,123.39922332763672,25.278207778930664,14.867743492126465,0,163.54518127441406,76.212852478027344,2.1459002435163397,123.39922332763672,25.278207778930664,14.867743492126465,0,163.54518127441406,99.614814758300781,19.11433219909668,1.6417755762368491,7.5218009948730469,24.496143341064453,0,23.863964080810547,55.881912231445313,123.39922332763672,61.608043670654297,25.278207778930664,0,0,0,0,0,0,14.867743492126465,150.39181518554687,23.469020843505859,0,0,225.15321350097656,173.86083984375,1.2950197606994382,23.176399230957031,1.8785027112389365,0.6863059033459229,2.5648086145848596,9.1815650615151206E-2,4.2894118959120014E-2,0.13470976957427122,null,7.3323278427124023,null,0.47692599892616272,0.43999999761581421,61.608043670654297,0,0,61.608043670654297,0,0,9999]
["Demand Control Ventilation-New-Small Box",null,14.999999046325684,535.8424072265625,31.784421920776367,388.65499877929687,0,0,null,0.20446330308914185,0.10994444042444229,584.42852783203125,3.1706050038337708E-2,0.37103700637817383,32.102264404296875,8.1086240708827972E-2,0.18428690731525421,38.643409729003906,213.55667114257812,0,245.90788269042969,38.865501403808594,38.865501403808594,0,0,0,0,0,0,0,0,0,0,77.5089111328125,252.42218017578125,0,245.90788269042969,575.83892822265625,284.019775390625,0,28.401979446411133,0,312.4217529296875,77.5089111328125,4.0307849803450022,284.019775390625,106.35069274902344,39.03704833984375,0,429.40753173828125,252.42218017578125,1.701148168355066,284.019775390625,106.35069274902344,39.03704833984375,0,429.40753173828125,329.93109130859375,25.337974548339844,1.3015067016147426,10.642046928405762,34.657802581787109,0,33.763381958007812,79.063224792480469,284.019775390625,269.73123168945312,106.35069274902344,0,0,0,0,0,0,39.03704833984375,498.10794067382812,77.731002807617188,0,0,699.13873291015625,575.83892822265625,1.214122032007849,22.06700325012207,4.396638597688721,3.0047721097560331,7.4014107074447537,0.21486243998761889,0.18779825685975338,0.40266069684737227,null,32.102264404296875,null,0.47692599892616272,0.43999999761581421,269.73123168945312,0,0,269.73123168945312,0,0,9999]
["Demand Control Ventilation-New-Hospital",null,15.000001907348633,102.44687652587891,16.208492279052734,126.65399932861328,0,0,null,0.44749420881271362,0.41703900694847107,111.69935607910156,1.1807665228843689E-2,3.1348202377557755E-2,16.370576858520508,4.1349988430738449E-2,9.3977250158786774E-2,12.593027114868164,69.593360900878906,0,80.135894775390625,12.665399551391602,12.665399551391602,0,0,0,0,0,0,0,0,0,0,25.258426666259766,82.258758544921875,0,80.135894775390625,187.653076171875,55.008884429931641,0,5.5008883476257324,0,60.509773254394531,25.258426666259766,2.3956271535465983,55.008884429931641,8.9853649139404297,6.3994255065917969,0,70.3936767578125,82.258758544921875,0.85575900321654874,55.008884429931641,8.9853649139404297,6.3994255065917969,0,70.3936767578125,107.51718902587891,66.186073303222656,0.65472020555057586,18.145149230957031,59.093048095703125,0,57.568027496337891,134.80622863769531,55.008884429931641,137.54965209960937,8.9853649139404297,0,0,0,0,0,0,6.3994255065917969,162.32228088378906,25.330799102783203,0,0,207.94332885742187,187.653076171875,1.1081263732252775,24.94117546081543,0.83988947415170268,1.5322859524439947,2.3721754265956974,4.1037913190063793E-2,9.5767872027750015E-2,0.13680578521781381,null,16.370576858520508,null,0.47692596912384033,0.43999996781349182,137.54965209960937,0,0,137.54965209960937,0,0,9999]
["Demand Control Ventilation-New-Warehouse",null,15,16.066009521484375,4.5005936622619629,32,0,0,null,0.42633810639381409,0.38532561063766479,17.516685485839844,1.7943609273061156E-3,5.4421806707978249E-3,4.5455994606018066,1.1481606401503086E-2,2.6094559580087662E-2,3.1817142963409424,17.58323860168457,0,20.246881484985352,3.2000000476837158,3.2000000476837158,0,0,0,0,0,0,0,0,0,0,6.3817143440246582,20.783239364624023,0,20.246881484985352,47.411834716796875,8.6631946563720703,0,0.86631947755813599,0,9.5295143127441406,6.3817143440246582,1.4932530069843855,8.6631946563720703,1.5598974227905273,1.0223091840744019,0,11.245401382446289,20.783239364624023,0.54108031250359567,8.6631946563720703,1.5598974227905273,1.0223091840744019,0,11.245401382446289,27.164953231811523,112.61166381835937,0.41396726384809518,29.234140396118164,95.2064208984375,0,92.749397277832031,217.18995666503906,8.6631946563720703,38.193260192871094,1.5598974227905273,0,0,0,0,0,0,1.0223091840744019,41.011833190917969,6.4000000953674316,0,0,49.43865966796875,47.411834716796875,1.0427494156908921,30.40068244934082,0.13162257035356173,0.42546813169535774,0.55709070204891953,6.4290946516359733E-3,2.6591758230960015E-2,3.3020852882595986E-2,null,4.5455994606018066,null,0.47692602872848511,0.43999999761581421,38.193260192871094,0,0,38.193260192871094,0,0,9999]
["Demand Control Ventilation-New-Other",null,15.000001907348633,44.701175689697266,13.015384674072266,93.323997497558594,0,0,null,0.39296036958694458,0.35109758377075195,48.737339019775391,4.9598570913076401E-3,1.7594020813703537E-2,13.145538330078125,3.3203959465026855E-2,7.5463540852069855E-2,9.2790727615356445,51.279319763183594,0,59.047496795654297,9.3324003219604492,9.3324003219604492,0,0,0,0,0,0,0,0,0,0,18.611473083496094,60.611721038818359,0,59.047496795654297,138.27069091796875,24.202272415161133,0,2.4202272891998291,0,26.622499465942383,18.611473083496094,1.4304348497792323,24.202272415161133,5.0429906845092773,2.9245262145996094,0,32.169788360595703,60.611721038818359,0.53075196132166602,24.202272415161133,5.0429906845092773,2.9245262145996094,0,32.169788360595703,79.223190307617188,117.31743621826172,0.40606529511870487,30.642473220825195,99.792915344238281,0,97.217529296875,227.65290832519531,24.202272415161133,110.45208740234375,5.0429906845092773,0,0,0,0,0,0,2.9245262145996094,119.60588836669922,18.664800643920898,0,0,142.62187194824219,138.27069091796875,1.0314686195398899,32.683406829833984,0.36619651889419874,1.2304224269064055,1.5966189458006042,1.7886171965617079E-2,7.6901401681649981E-2,9.4787573647267059E-2,null,13.145538330078125,null,0.47692599892616272,0.4400000274181366,110.45208740234375,0,0,110.45208740234375,0,0,9999]
["Demand Control Ventilation-New-Large Off",null,15,45.617778778076172,15.187629699707031,109.33329772949219,0,0,null,0.32847753167152405,0.28318890929222107,49.736312866210937,4.9719228409230709E-3,2.277253195643425E-2,15.339506149291992,3.8745637983083725E-2,8.8058270514011383E-2,10.870854377746582,60.076045989990234,0,69.17681884765625,10.933330535888672,10.933330535888672,0,0,0,0,0,0,0,0,0,0,21.804183959960938,71.009376525878906,0,69.17681884765625,161.99038696289062,24.899450302124023,0,2.4899451732635498,0,27.389394760131836,21.804183959960938,1.2561531460072881,24.899450302124023,6.5273122787475586,3.1426763534545898,0,34.569438934326172,71.009376525878906,0.48682921362825321,24.899450302124023,6.5273122787475586,3.1426763534545898,0,34.569438934326172,92.813560485839844,134.14053344726562,0.3724610757109541,35.178001403808594,114.56369781494141,0,111.60712432861328,261.34884643554687,24.899450302124023,128.88633728027344,6.5273122787475586,0,0,0,0,0,0,3.1426763534545898,140.12373352050781,21.866661071777344,0,0,163.45578002929687,161.99038696289062,1.0090461019371098,37.807594299316406,0.37361682819944642,1.4357777896799984,1.8093946178794447,1.824628363033853E-2,8.9736111854999967E-2,0.1079823954853385,null,15.339506149291992,null,0.47692602872848511,0.43999999761581421,128.88633728027344,0,0,128.88633728027344,0,0,9999]
["Demand Control Ventilation-New-Medium Off",null,15,50.068290710449219,16.669349670410156,120,0,0,null,0.32847753167152405,0.28318896889686584,54.588634490966797,5.456988699734211E-3,2.4994241073727608E-2,16.836044311523438,4.2525704950094223E-2,9.6649326384067535E-2,11.931429862976074,65.937141418457031,0,75.925804138183594,12,12,0,0,0,0,0,0,0,0,0,0,23.931430816650391,77.937141418457031,0,75.925804138183594,177.79437255859375,27.328666687011719,0,2.7328667640686035,0,30.061532974243164,23.931430816650391,1.2561528342937851,27.328666687011719,7.1641225814819336,3.4492788314819336,0,37.942070007324219,77.937141418457031,0.48682909597952184,27.328666687011719,7.1641225814819336,3.4492788314819336,0,37.942070007324219,101.86856842041016,134.14057922363281,0.37246098205454098,35.178016662597656,114.56373596191406,0,111.60717010498047,261.34890747070312,27.328666687011719,141.46061706542969,7.1641225814819336,0,0,0,0,0,0,3.4492788314819336,153.79437255859375,24,0,0,179.40267944335938,177.79437255859375,1.0090459140166625,37.807647705078125,0.4100672504628069,1.5758536716000024,1.9859209220628093,2.0026408862566673E-2,9.8490854474999973E-2,0.11851726333756665,null,16.836044311523438,null,0.47692602872848511,0.4400000274181366,141.46061706542969,0,0,141.46061706542969,0,0,9999]
["Demand Control Ventilation-New-Small Off",null,15,52.849864959716797,17.595424652099609,126.66670227050781,0,0,null,0.32847753167152405,0.28318893909454346,57.621334075927734,5.7601542212069035E-3,2.6382811367511749E-2,17.771379470825195,4.4888239353895187E-2,0.10201872885227203,12.594289779663086,69.600341796875,0,80.143928527832031,12.666670799255371,12.666670799255371,0,0,0,0,0,0,0,0,0,0,25.260959625244141,82.267013549804687,0,80.143928527832031,187.67190551757812,28.846925735473633,0,2.8846926689147949,0,31.731618881225586,25.260959625244141,1.2561524849878456,28.846925735473633,7.5621299743652344,3.6409053802490234,0,40.049961090087891,82.267013549804687,0.4868289223859788,28.846925735473633,7.5621299743652344,3.6409053802490234,0,40.049961090087891,107.52796936035156,134.140625,0.37246085746347191,35.178020477294922,114.56378173828125,0,111.60720062255859,261.3489990234375,28.846925735473633,149.31954956054687,7.5621299743652344,0,0,0,0,0,0,3.6409053802490234,162.33856201171875,25.333341598510742,0,0,189.3695068359375,187.67190551757812,1.0090456110251378,37.807723999023438,0.43284876437740716,1.6634010978000118,2.096249862177419,2.1138987132709276E-2,0.10396256861250003,0.12510155574520931,null,17.771379470825195,null,0.47692602872848511,0.43999999761581421,149.31954956054687,0,0,149.31954956054687,0,0,9999]
["Demand Control Ventilation-New-OtherHealth",null,15,7.5943441390991211,20.582508087158203,126.66670227050781,0,0,null,0.42842653393745422,0.17556771636009216,8.2771263122558594,3.4955496084876359E-4,2.2213412448763847E-3,20.788331985473633,5.2508678287267685E-2,0.11933790892362595,12.594289779663086,69.600334167480469,0,80.143928527832031,12.666669845581055,12.666669845581055,0,0,0,0,0,0,0,0,0,0,25.260959625244141,82.267005920410156,0,80.143928527832031,187.67189025878906,4.235562801361084,0,0.42355629801750183,0,4.6591191291809082,25.260959625244141,0.18443951332405317,4.235562801361084,0.63670521974563599,0.48722684383392334,0,5.359494686126709,82.267005920410156,6.5147563464079919E-2,4.235562801361084,0.63670521974563599,0.48722684383392334,0,5.359494686126709,107.52796173095703,1031.53369140625,4.984280073384912E-2,244.89231872558594,797.537353515625,0,776.9552001953125,1819.384765625,4.235562801361084,174.66873168945312,0.63670521974563599,0,0,0,0,0,0,0.48722684383392334,162.33854675292969,25.333339691162109,0,0,180.02822875976562,187.67189025878906,0.95927115118558204,115.16310119628906,6.1357313341875913E-2,1.9457878959324011,2.007145209274277,2.9772423083027069E-3,0.12161174349577501,0.12458898580407772,null,20.788331985473633,null,0.47692596912384033,0.43999996781349182,174.66873168945312,0,0,174.66873168945312,0,0,9999]
["Demand Control Ventilation-New-Big Box",null,15,433.23944091796875,30.881546020507813,433.87539672851562,0,0,null,0.21956101059913635,7.3119103908538818E-2,472.62164306640625,9.2246280983090401E-3,0.28429648280143738,31.190359115600586,7.8782878816127777E-2,0.17905199527740479,43.139610290527344,238.40422058105469,0,274.51950073242187,43.387542724609375,43.387542724609375,0,0,0,0,0,0,0,0,0,0,86.527153015136719,281.791748046875,0,274.51950073242187,642.83843994140625,223.06881713867187,0,22.306882858276367,0,245.37570190429687,86.527153015136719,2.8358231080828835,223.06881713867187,81.4881591796875,30.455698013305664,0,335.01266479492187,281.791748046875,1.1888660988585085,223.06881713867187,81.4881591796875,30.455698013305664,0,335.01266479492187,368.31890869140625,43.527835845947266,0.90957227415350439,14.690741539001465,47.843128204345703,0,46.608432769775391,109.14231109619141,223.06881713867187,262.06915283203125,81.4881591796875,0,0,0,0,0,0,30.455698013305664,556.0633544921875,86.77508544921875,0,0,597.08184814453125,642.83843994140625,0.92882097594866819,45.641681671142578,3.5547929141947079,2.9194177736996672,6.4742106878943755,0.1737048711560629,0.18246361085622889,0.35616848201229179,null,31.190359115600586,null,0.47692596912384033,0.43999999761581421,262.06915283203125,0,0,262.06915283203125,0,0,9999]
["Demand Control Ventilation-New-K-12",null,0,0,0,110.66670227050781,0,0,null,0,0,0,0,0,0,0,0,11.003432273864746,60.8087158203125,0,70.020492553710937,11.066670417785645,11.066670417785645,0,0,0,0,0,0,0,0,0,0,22.070102691650391,71.875389099121094,0,70.020492553710937,163.96598815917969,0,0,0,0,0,22.070102691650391,0,0,0,0,0,0,71.875389099121094,0,0,0,0,0,0,93.945487976074219,9999,0,9999,9999,9999,9999,9999,0,0,0,0,0,0,0,0,0,0,141.8326416015625,22.133340835571289,0,0,0,163.96598815917969,0,9999,0,0,0,0,0,0,null,0,null,0,0,0,0,0,0,0,9999,9999]
["Demand Control Ventilation-New-University",null,0,0,0,100,0,0,null,0,0,0,0,0,0,0,0,9.9428567886352539,54.947620391845703,0,63.271503448486328,10,10,0,0,0,0,0,0,0,0,0,0,19.942855834960938,64.947616577148437,0,63.271503448486328,148.1619873046875,0,0,0,0,0,19.942855834960938,0,0,0,0,0,0,64.947616577148437,0,0,0,0,0,0,84.890480041503906,9999,0,9999,9999,9999,9999,9999,0,0,0,0,0,0,0,0,0,0,128.1619873046875,20,0,0,0,148.1619873046875,0,9999,0,0,0,0,0,0,null,0,null,0,0,0,0,0,0,0,9999,9999]
[]
[]
["Supply Curve Results; Categories sorted by TRC Net Levelized Cost"]
["Totals for Categories with Benefits Exceeding Costs.    Levelized cost is TRC Net Levelized Cost (Net of Benefits)",null,null,null,null,null,null,null,null,null,null,null,null,"Savings Allocation by Cost Bin and Month for Segments 1 & 2",null,null,null,null,null,null,null,null,null,null,null,null,"Savings Allocation by Cost Bin and Month for Segments 3 & 4"]
[null,"Totals Basis","Busbar Electric Savings in kWh","First Cost","Admin Cost","First Year Program Cost","PV Cost","PV Benefits","Unit Program Cost: First Year Program Cost in $/average annual kW saved","Utility System Net Levelized Cost (Net of T&D Capacity Benefits, Act Credit & Risk-Mitigation) in mills/kWh","TRC Net Levelized Cost (Net of All Benefits) in mills/kWh","TRC B/C Ratio","Net Electric & Gas System CO2 Avoided (Lifetime Tons)","Jan","Feb","Mar","Apr","May","Jun","Jul","Aug","Sep","Oct","Nov","Dec",null,"Jan","Feb","Mar","Apr","May","Jun","Jul","Aug","Sep","Oct","Nov","Dec"]
[null,"Measures with B/C > 1.00",1887.037841796875,1705.65625,0,1705.65625,2186.0029296875,5393.99267578125,7917.9912109375,30.259254455566406,-97.167861938476563,6460.75732421875,59.591957092285156,160.25242124796461,103.092687027615,111.29501445425805,108.05448971086366,138.12323038407192,138.75122021695631,166.6476047015577,160.80676043617012,111.23647886203068,94.255437730983715,101.30371991950426,165.23620850009524,null,36.621718802938105,22.052861454137499,20.052389611020153,20.776493858485445,22.373641692371503,38.172019641359967,36.068506131891553,26.253096766442482,20.294085998825359,20.507255124775789,24.030765445948038,40.779990277557182]
[null,"Categories with B/C > 1.00",2632.79541015625,2641.1611328125,528.232177734375,3169.393310546875,3913.19677734375,5802.4296875,10545.4013671875,50.063526153564453,-18.803054809570312,1.469550609588623,63.585971832275391,11.869736671090575,7.881188184087196,8.1038524173832069,6.6562797000033411,6.450020204431679,4.7622373945763936,4.4351713558466308,4.6278813984237361,4.5870344598659063,6.6405892125461712,7.7577166449862869,12.246584488508297,null,2.7115771275142126,1.6810182535070526,1.4424034431953083,1.2074540006620711,0.9102053740353363,1.021899789613558,0.79416212221396498,0.62481872850657538,0.68321300219877878,1.3808179664810241,1.8307772725863916,3.0193334307316051]
[null,"Supply Curve Results:  By TRC Net Levelized Cost - Net of Benefits"]
[null,"Block 1: <= 0 mills/kWh",892.6614990234375,1021.194580078125,204.23892211914063,1225.4334716796875,1513.0223388671875,2950.41015625,12025.6083984375,58.469524383544922,-91.425872802734375,1.9365015029907227,32.485397338867188,9.0034232485876409,7.3908492455138788,17.367159389630938,44.111500934565655,90.661384306885722,122.30880628120129,162.39126009184622,152.11697806393215,87.526932487551107,26.388180138513199,7.4454423643772802,9.3738053377702037,null,2.0466400628169898,1.5229984201104732,3.0105991933552225,8.6605881424644817,15.580284233104148,36.218436890459479,36.682062051644202,26.028604950471028,17.247964856158632,5.6458426565799797,1.653500487470545,2.2782203773606167]
[null,"Block 2: <= 10 mills/kWh",566.15350341796875,505.98822021484375,101.19764709472656,607.18585205078125,749.68212890625,995.4949951171875,9394.88671875,41.025123596191406,4.2232232093811035,1.3278894424438477,10.716904640197754,48.491674331986268,26.643442491553976,28.995629904205231,28.291542337969567,42.76280779894747,45.352684953138017,58.755176448967532,55.369308031250384,33.254496362554846,21.994310749381203,26.217523951586301,49.974928361089169,null,11.085707298542232,5.7125197015589952,5.2664108435936772,5.5608280399589063,7.212588450478572,13.047742718507809,13.069432905586972,9.3107136379800082,6.3322272722453299,4.8596248747676007,6.24507196480321,12.34713212754772]
[null,"Block 3: 10-20 mills/kWh",0,0,0,0,0,0,0,0,0,0,0,0,0,0,0,0,0,0,0,0,0,0,0,null,0,0,0,0,0,0,0,0,0,0,0,0]
[null,"Block 4: 20-30 mills/kWh",945.78009033203125,632.65411376953125,126.53083038330078,759.1849365234375,937.35284423828125,1132.2352294921875,7031.71923828125,28.519433975219727,22.69929313659668,1.2229578495025635,12.338394165039063,86.009745482081399,54.386400678563518,57.512593121682059,52.926978484909228,65.875271067260599,64.756319800096861,79.535083983124935,76.536032505157095,51.727115754738321,45.993878099898602,53.217030930104272,88.582138114895599,null,19.667476296367912,11.700306766495419,10.559735400869698,10.676339887333828,11.291659673918611,18.836973875253488,17.762537258834065,12.938708020093532,10.044356894830656,10.589674538385214,12.752698744594822,21.901049417493532]
[null,"Block 5: 30-40 mills/kWh",228.2003173828125,481.32400512695312,96.264808654785156,577.58880615234375,713.13922119140625,724.28851318359375,22172.08984375,128.89505004882812,36.144695281982422,1.0164217948913574,8.0452747344970703,26.92416533366595,17.55907934568004,17.998176646219939,14.551858463690682,14.122764429059355,10.197560715806347,9.4383940361244818,9.8529646154834385,9.8051411855117685,14.516768019810645,17.292070275155986,27.77932582428263,null,6.1507280061493805,3.7446204787563544,3.2010060347647551,2.6258801619784373,1.9756864490557744,2.1370338490630134,1.6607805912718279,1.3066435534270995,1.428759773373558,3.0022714532495556,4.0796172834839144,6.8490087365897967]
[null,"Block 6: 40-50 mills/kWh",472.62164306640625,433.87539672851562,86.775077819824219,520.65045166015625,642.83843994140625,597.08184814453125,9650.2099609375,43.52783203125,45.641681671142578,0.92882096767425537,6.4742107391357422,8.3036595725035962,6.438551907914337,11.249786797284816,23.66632681492159,46.057834580540231,61.22493734716506,81.37175633448966,76.313916874752366,44.124831504237633,14.845091632590149,6.3378398056814635,8.5761407497520707,null,1.89564627588013,1.3687228099736473,2.0283187887740155,4.7936724251509011,8.0838487918601238,18.409581657562171,18.524394790103173,13.175174508695337,8.8656582248192564,3.3689677822172208,1.4867168159026587,2.1102580825730732]
[null,"Block 7: 50-60 mills/kWh",0,0,0,0,0,0,0,0,0,0,0,0,0,0,0,0,0,0,0,0,0,0,0,null,0,0,0,0,0,0,0,0,0,0,0,0]
[null,"Block 8: 60-70 mills/kWh",0,0,0,0,0,0,0,0,0,0,0,0,0,0,0,0,0,0,0,0,0,0,0,null,0,0,0,0,0,0,0,0,0,0,0,0]
[null,"Block 9: 70-80 mills/kWh",0,0,0,0,0,0,0,0,0,0,0,0,0,0,0,0,0,0,0,0,0,0,0,null,0,0,0,0,0,0,0,0,0,0,0,0]
[null,"Block 10: 80-90 mills/kWh",0,0,0,0,0,0,0,0,0,0,0,0,0,0,0,0,0,0,0,0,0,0,0,null,0,0,0,0,0,0,0,0,0,0,0,0]
[null,"Block 11: 90-100 mills/kWh",0,0,0,0,0,0,0,0,0,0,0,0,0,0,0,0,0,0,0,0,0,0,0,null,0,0,0,0,0,0,0,0,0,0,0,0]
[null,"Block 12: 100-110 mills/kWh",0,0,0,0,0,0,0,0,0,0,0,0,0,0,0,0,0,0,0,0,0,0,0,null,0,0,0,0,0,0,0,0,0,0,0,0]
[null,"Block 13: 110-120 mills/kWh",8.2771263122558594,126.66670227050781,25.333341598510742,152.00004577636719,187.67189025878906,180.02822875976562,160867.46875,1031.53369140625,115.16312408447266,0.9592711329460144,2.0071451663970947,0.25907288728470995,0.28172599473544879,0.45307015807989398,0.74650825489803618,1.0402560127785865,1.0320014063064502,0.76824565943816103,0.81628190843012449,0.93745444744608886,0.78108447201048592,0.32181160677056553,0.28691434550147044,null,5.6891205765186928E-2,4.7409338137655778E-2,4.2821337672721345E-2,4.0372506909050088E-2,3.486880353350167E-2,5.3526672090901686E-2,4.1597870882072174E-2,3.2727736649865599E-2,3.5786403626488557E-2,5.1997338602590204E-2,5.1385605207265615E-2,6.3314406416095134E-2]
[null,"Block 14: 120-130 mills/kWh",0,0,0,0,0,0,0,0,0,0,0,0,0,0,0,0,0,0,0,0,0,0,0,null,0,0,0,0,0,0,0,0,0,0,0,0]
[null,"Block 15: 130-140 mills/kWh",0,0,0,0,0,0,0,0,0,0,0,0,0,0,0,0,0,0,0,0,0,0,0,null,0,0,0,0,0,0,0,0,0,0,0,0]
[null,"Block 16: 140-150 mills/kWh",0,0,0,0,0,0,0,0,0,0,0,0,0,0,0,0,0,0,0,0,0,0,0,null,0,0,0,0,0,0,0,0,0,0,0,0]
[null,"Block 17: 150-160 mills/kWh",0,0,0,0,0,0,0,0,0,0,0,0,0,0,0,0,0,0,0,0,0,0,0,null,0,0,0,0,0,0,0,0,0,0,0,0]
[null,"Block 18: 160-170 mills/kWh",0,0,0,0,0,0,0,0,0,0,0,0,0,0,0,0,0,0,0,0,0,0,0,null,0,0,0,0,0,0,0,0,0,0,0,0]
[null,"Block 19: 170-180 mills/kWh",0,0,0,0,0,0,0,0,0,0,0,0,0,0,0,0,0,0,0,0,0,0,0,null,0,0,0,0,0,0,0,0,0,0,0,0]
[null,"Block 20: 180-190 mills/kWh",0,0,0,0,0,0,0,0,0,0,0,0,0,0,0,0,0,0,0,0,0,0,0,null,0,0,0,0,0,0,0,0,0,0,0,0]
[null,"Block 21: 190-200 mills/kWh",0,0,0,0,0,0,0,0,0,0,0,0,0,0,0,0,0,0,0,0,0,0,0,null,0,0,0,0,0,0,0,0,0,0,0,0]
[null,"Block 22: > 200 mills/kWh",0,210.66670227050781,42.133338928222656,252.800048828125,312.12799072265625,0,0,0,0,0,0,0,0,0,0,0,0,0,0,0,0,0,0,null,0,0,0,0,0,0,0,0,0,0,0,0]
[]
[]
["Shaped Savings Results; By Category and sorted by TRC BC ratio"]
[null,null,null,null,null,null,null,null,null,null,null,null,null,"Savings Allocation by Category and Month for Segments 1&2",null,null,null,null,null,null,null,null,null,null,null,null,"Savings Allocation by Category and Month for Segments 3&4"]
["Category","Measure","Busbar Savings","First Cost","Admin Cost","First Year Program Cost","PV Cost","PV Benefits","Unit Program Cost: First Year Program Cost in $/average annual kW saved","Utility System Net Levelized Cost (Net of T&D Capacity Benefits, Act Credit & Risk-Mitigation) in mills/kWh","TRC Net Levelized Cost (Net of All Benefits) in mills/kWh","TRC B/C Ratio","Net Electric & Gas System CO2 Avoided (Lifetime Tons)","Jan","Feb","Mar","Apr","May","Jun","Jul","Aug","Sep","Oct","Nov","Dec",null,"Jan","Feb","Mar","Apr","May","Jun","Jul","Aug","Sep","Oct","Nov","Dec"]
["Demand Control Ventilation-New-MIniMart",null,207.24012756347656,270.24380493164063,54.048763275146484,324.29257202148437,400.39859008789062,949.59765625,13707.7841796875,69.539802551269531,-174.86997985839844,2.3716308596420235,10.495366018992526,2.7119695390853051,2.181388879176458,4.3750303589073019,10.219612883361926,20.570411096316647,27.694624489399818,36.977712267877223,34.631073239393217,19.835716222136568,6.1636070091362214,2.1515595469025479,2.8035000956746705,null,0.6188020756344691,0.46222321112570952,0.7877537472474937,2.0756702082194023,3.6217478166590213,8.3495211859905005,8.4298319052127972,5.9883456706462699,3.997900887332305,1.4015043565364809,0.50180039764352269,0.68881558003987342]
["Demand Control Ventilation-New-Supermarket",null,445.06051635742187,463.45751953125,92.691505432128906,556.1490478515625,686.66790771484375,1289.2169189453125,10946.5234375,50.955219268798828,-71.042869567871094,1.8774970922336498,14.153029530133914,3.3667134926900686,2.6508364647567735,7.4850172750330586,20.996981259723498,44.974758667109498,61.879350591106359,83.834413542631779,78.244530085341225,43.673921926131428,11.505734367377514,2.5884941723216341,3.4688596146175059,null,0.76953790672031952,0.56904838863826412,1.3848095447806079,4.3965912577979624,8.1056132072334002,18.986446357670573,19.284323864290123,13.669678779137238,8.9969779184728083,2.7533762186217099,0.61786987956795536,0.856622265363431]
["Demand Control Ventilation-New-Restaurant",null,240.36082458496094,287.49331665039062,57.498664855957031,344.99197387695312,425.95578002929687,711.595703125,12573.3037109375,62.83843994140625,-57.221927642822266,1.6705858943482645,7.8370020026731337,2.9247402168122671,2.5586239015806482,5.5071117556905786,12.894906791480228,25.116214543459577,32.734831200695112,41.57913428133719,39.24137473919771,24.017294339283112,8.7188387619994607,2.7053886451530982,3.1014456274780278,null,0.65830008046220123,0.49172682034649956,0.83803590132712125,2.1883266764471179,3.8529232092117258,8.8824693467984073,8.9679062821412785,6.3705805006875238,4.2530860503535175,1.4909620814217888,0.53383021025906685,0.73278253195731224]
["Demand Control Ventilation-New-High End",null,283.07675170898437,252.99411010742187,50.598823547363281,303.59292602539062,374.841064453125,497.74749755859375,9394.88671875,41.025123596191406,4.2232232093811035,1.327889455469704,5.3584523516086637,24.245837165993134,13.321721245776988,14.497814952102615,14.145771168984783,21.381403899473735,22.676342476569008,29.377588224483766,27.684654015625192,16.627248181277423,10.997155374690601,13.108761975793151,24.987464180544585,null,5.542853649271116,2.8562598507794976,2.6332054217968386,2.7804140199794531,3.606294225239286,6.5238713592539046,6.5347164527934858,4.6553568189900041,3.1661136361226649,2.4298124373838004,3.122535982401605,6.1735660637738601]
["Demand Control Ventilation-New-Anchor",null,283.07675170898437,252.99411010742187,50.598823547363281,303.59292602539062,374.841064453125,497.74749755859375,9394.88671875,41.025123596191406,4.2232232093811035,1.327889455469704,5.3584523516086637,24.245837165993134,13.321721245776988,14.497814952102615,14.145771168984783,21.381403899473735,22.676342476569008,29.377588224483766,27.684654015625192,16.627248181277423,10.997155374690601,13.108761975793151,24.987464180544585,null,5.542853649271116,2.8562598507794976,2.6332054217968386,2.7804140199794531,3.606294225239286,6.5238713592539046,6.5347164527934858,4.6553568189900041,3.1661136361226649,2.4298124373838004,3.122535982401605,6.1735660637738601]
["Demand Control Ventilation-New-Lodging",null,249.65220642089844,117.34510040283203,23.469020843505859,140.81411743164062,173.86083984375,225.15321350097656,4941.00048828125,19.11433219909668,23.176399230957031,1.2950197606994382,2.5648086145848596,26.645303834500069,19.221372839520409,19.595144622630492,16.299233568116531,14.68785934618548,11.379847422478342,11.539240324381762,11.969128209280415,11.237203080845653,16.153298182838181,18.735392260304302,27.428624239476932,null,6.093768642891761,4.1427472209143819,3.6190811488875054,3.3313697634173098,2.5196699160430036,3.2611433874152489,2.5343742896484218,1.9939562425910378,2.1803072933004808,3.7953824031686465,4.5043813677019156,6.7843782592688449]
["Demand Control Ventilation-New-Small Box",null,584.42852783203125,388.65499877929687,77.731002807617188,466.385986328125,575.83892822265625,699.13873291015625,6990.66064453125,25.337974548339844,22.06700325012207,1.214122032007849,7.4014107074447537,49.655979811526777,27.220265811659544,29.550577734684182,28.810307622369677,43.875545092561474,46.986287399092703,61.661848775116738,57.986772293961423,34.222566009948729,22.05568730554667,26.722834438698513,51.148257295218755,null,11.354963387474969,5.8535650574240909,5.420585959293291,5.8122793456714454,7.6004384807894834,13.871428560733211,13.90359918583545,9.9026317420725629,6.7245351702656704,5.0413561932741526,6.3992100507892085,12.647020042926828]
["Demand Control Ventilation-New-Hospital",null,111.69935607910156,126.65399932861328,25.330801010131836,151.98480224609375,187.653076171875,207.94332885742187,11919.3779296875,66.186073303222656,24.94117546081543,1.1081263732252775,2.3721754265956974,9.7084618360545463,7.9447620273835691,8.3668707643673841,7.8174372944230157,7.3118666285136396,6.3901849785258129,6.3339948836264366,6.5801320019152607,6.2673466639439432,7.7848926115137527,7.7588042311014522,10.005256580199926,null,2.2187442660011829,1.703994488156948,1.5200682926889026,1.5326907782450725,1.1715512770861241,1.7044019271050288,1.324563783350194,1.0421200354299318,1.1395144312645051,1.7529359419424151,1.8491073261036981,2.46965111529786]
["Demand Control Ventilation-New-Warehouse",null,17.516685485839844,32,6.4000000953674316,38.400001525878906,47.411834716796875,49.43865966796875,19203.6328125,112.61166381835937,30.40068244934082,1.0427494156908921,0.55709070204891953,1.603046487090015,1.2448848595879662,1.3144822430793823,1.2152812729667504,1.1698777767256923,0.99684052708554194,0.95871935617691451,0.99807069585474362,0.96906699869136548,1.2133811026830164,1.2214697059779205,1.6540222062042362,null,0.3661473589037606,0.26570841588034522,0.23482220603391335,0.22688034376615351,0.17320751952336666,0.24032141308845845,0.18676406960017342,0.14693937828837172,0.16067203046485506,0.25989226242182628,0.28859104890217158,0.40759627885781324]
["Demand Control Ventilation-New-Other",null,48.737339019775391,93.323997497558594,18.664800643920898,111.98880004882812,138.27069091796875,142.62187194824219,20128.75390625,117.31743621826172,32.683406829833984,1.0314686195398899,1.5966189458006042,5.0300508191488635,3.5932188779830225,3.7412208992015028,3.2595182640437192,3.1434779427866024,2.5053817365368634,2.3786442418970015,2.478552997811045,2.4265057851432807,3.2527259729284816,3.5308265140413155,5.1896086599133309,null,1.1490329649389204,0.76683496060758283,0.66759985732978278,0.60158324597552237,0.4565069559859779,0.57707979993847447,0.44847344452361454,0.35284307767666723,0.38581906624458012,0.68849869986405499,0.83404051224977271,1.2792932475110739]
["Demand Control Ventilation-New-Large Off",null,49.736312866210937,109.33329772949219,21.866659164428711,131.199951171875,161.99038696289062,163.45578002929687,23108.09765625,134.14053344726562,37.807594299316406,1.0090461019371098,1.8093946178794447,6.2317137762135566,3.9068164788949131,3.9748420498988857,3.0948270860965441,3.012627393943291,2.0562462662137939,1.8737247038207725,1.9582769872248957,1.9684816814139472,3.0867198405405611,3.8511665637498629,6.4296890882754134,null,1.4236513481241551,0.8329225557528499,0.70593215601081194,0.5520155764921888,0.41336966977830414,0.40528043503729805,0.3149607952289859,0.24780003742280504,0.27095891942493638,0.630779776251016,0.908137937195586,1.5853699447120393]
["Demand Control Ventilation-New-Medium Off",null,54.588634490966797,120,24,144,177.79437255859375,179.40267944335938,23108.107421875,134.14057922363281,37.807647705078125,1.0090459140166625,1.9859209220628093,6.8396858519417094,4.2879693061041735,4.3626315181817041,3.3967614359596223,3.3065422616450761,2.2568556580395303,2.0565271139496293,2.1493284006126911,2.1605286747226256,3.3878632396176895,4.2268901309449713,7.0569758285949664,null,1.5625441625752923,0.91418329289946954,0.77480358586552545,0.60587075468654872,0.45369841804935834,0.4448199896750834,0.34568867769035055,0.2719756508299081,0.29739393595419861,0.69231926661696896,0.99673676033661884,1.7400401832205312]
["Demand Control Ventilation-New-Small Off",null,57.621334075927734,126.66670227050781,25.333341598510742,152.00004577636719,187.67190551757812,189.3695068359375,23108.115234375,134.140625,37.807723999023438,1.0090456110251378,2.096249862177419,7.2196683992718054,4.5261898231099611,4.6049999358584657,3.5854704046240462,3.4902390539586916,2.3822365279306159,2.1707786202801644,2.2687355339800632,2.2805580455405492,3.576077864040895,4.4617173604419147,7.4490300412946873,null,1.6493521716072532,0.96497125361610681,0.81784822952472136,0.6395302410580237,0.47890388571876719,0.46953221132369921,0.36489360422870337,0.2870854092093475,0.31391582128498746,0.73078144809568957,1.0521110247997645,1.8367090822883387]
["Demand Control Ventilation-New-OtherHealth",null,8.2771263122558594,126.66670227050781,25.333341598510742,152.00004577636719,187.67189025878906,180.02822875976562,160867.46875,1031.53369140625,115.16310119628906,0.95927115118558204,2.007145209274277,0.25907288728470995,0.28172599473544879,0.45307015807989398,0.74650825489803618,1.0402560127785865,1.0320014063064502,0.76824565943816103,0.81628190843012449,0.93745444744608886,0.78108447201048592,0.32181160677056553,0.28691434550147044,null,5.6891205765186928E-2,4.7409338137655778E-2,4.2821337672721345E-2,4.0372506909050088E-2,3.486880353350167E-2,5.3526672090901686E-2,4.1597870882072174E-2,3.2727736649865599E-2,3.5786403626488557E-2,5.1997338602590204E-2,5.1385605207265615E-2,6.3314406416095134E-2]
["Demand Control Ventilation-New-Big Box",null,472.62164306640625,433.87539672851562,86.775077819824219,520.65045166015625,642.83843994140625,597.08184814453125,9650.2099609375,43.527835845947266,45.641681671142578,0.92882097594866819,6.4742106878943755,8.3036595725035962,6.438551907914337,11.249786797284816,23.66632681492159,46.057834580540231,61.22493734716506,81.37175633448966,76.313916874752366,44.124831504237633,14.845091632590149,6.3378398056814635,8.5761407497520707,null,1.89564627588013,1.3687228099736473,2.0283187887740155,4.7936724251509011,8.0838487918601238,18.409581657562171,18.524394790103173,13.175174508695337,8.8656582248192564,3.3689677822172208,1.4867168159026587,2.1102580825730732]
["Demand Control Ventilation-New-K-12",null,0,110.66670227050781,22.133340835571289,132.800048828125,163.96598815917969,0,0,9999,9999,0,0,0,0,0,0,0,0,0,0,0,0,0,0,null,0,0,0,0,0,0,0,0,0,0,0,0]
["Demand Control Ventilation-New-University",null,0,100,20,120,148.1619873046875,0,0,9999,9999,0,0,0,0,0,0,0,0,0,0,0,0,0,0,null,0,0,0,0,0,0,0,0,0,0,0,0]

{"sheet":"M-IO NR","index":5,"n_rows":100,"n_cols":105,"rows_kept":100,"cut":false,"hidden":true,"merged":[[8,8,8,13],[8,14,8,15],[8,17,8,19]]}
["Data Set Name"]
["Measure Index Name"]
["Costs must be denominated in the same year as 'Input Cost Reference Year' =",null,2012]
[]
["Retrofit Data",null,"name","column","referenece"]
[null,"Weighting Factor in MMap","WT BTYPE",{"$f":"MATCH(C6,MMap!$A$9:$BP$9,0)","v":13},{"$f":"LEFT(ADDRESS(11,MATCH(C6,MMap!$A$9:$BR$9,0),4,1),1)","v":"M"}]
[null,"Units are per thousand feet floor area for activity",1000]
[1,2,3,4,5,6,7,8,9,10,11,12,13,14,15,16,17,18,19,20,21,22,23,24,25,26,27,28,29,30,31,32,33,34,35,36,37,38,39,40,41,42,43,44,45,46,47,48,49,50,51,52,53,54,55,56,57,58,59,60,61,62,63,64,65,66,67,68,69,70,71,72,73,74,75,76,77,78,79,80,81,82,83,84,85,86,87,88,89,90,91,92,93,94,95,96,97,98,99,100,101,102,103,104,105]
["Input Data",null,null,null,null,null,null,null,"Periodic Replacement Costs and Savings and Replacement Period",null,null,null,null,null,"Gas Inputs",null,"Retro or LO","Early Retrofit Parameters"]
["Category Name","Measure Name","Savings (kwh/yr)","Life (yrs)","Capital Cost","Annual O&M","Shape Pointer","Non-E Val ($/yr)","Cost 1 ($)","Period 1 ","Cost 2 ($)","Period 2","Cost 3 ($)","Period 3","Savings (therms/yr)","Shape Pointer","R or L","Savings 2\n(kWh)","Remaining\nLife (yrs)","Salvage Value ($)"]
["Demand Control Ventilation-NR-Large Off","Demand Control Ventilation-DCV Only-Large Off-ElecHt-Vent-NR",{"$f":"VLOOKUP(B11,MMap!$A$11:$O$460,14,FALSE)","v":0.50206134427753679},15,{"$f":"VLOOKUP(B11,MMap!$A$11:$O$460,15,FALSE)","v":14.707905812370464},null,"ComEconoMizer",null,null,null,null,null,null,null,1,"SmComWX","R",null,null,null,null,null,"Demand Control Ventilation","Retro","Large Off","Large Off"]
["Demand Control Ventilation-NR-Medium Off","Demand Control Ventilation-DCV Only-Medium Off-ElecHt-Vent-NR",{"$f":"VLOOKUP(B12,MMap!$A$11:$O$460,14,FALSE)","v":0.54468781810656852},16,{"$f":"VLOOKUP(B12,MMap!$A$11:$O$460,15,FALSE)","v":15.956649953573061},null,"ComEconoMizer",null,null,null,null,null,null,null,1,"SmComWX","R",null,null,null,null,null,"Demand Control Ventilation","Retro","Medium Off","Medium Off"]
["Demand Control Ventilation-NR-Small Off","Demand Control Ventilation-DCV Only-Small Off-ElecHt-Vent-NR",{"$f":"VLOOKUP(B13,MMap!$A$11:$O$460,14,FALSE)","v":0.70360482729082818},17,{"$f":"VLOOKUP(B13,MMap!$A$11:$O$460,15,FALSE)","v":20.612129666772482},null,"ComEconoMizer",null,null,null,null,null,null,null,1,"SmComWX","R",null,null,null,null,null,"Demand Control Ventilation","Retro","Small Off","Small Off"]
["Demand Control Ventilation-NR-Xlarge Ret","Demand Control Ventilation-DCV Only-Xlarge Ret-ElecHt-Vent-NR",{"$f":"VLOOKUP(B14,MMap!$A$11:$O$460,14,FALSE)","v":0.243942426628554},18,{"$f":"VLOOKUP(B14,MMap!$A$11:$O$460,15,FALSE)","v":1.157370326063494},null,"ComEconoMizer",null,null,null,null,null,null,null,1,"SmComWX",null,null,null,null,null,null,"Demand Control Ventilation","Retro","Big Box","Xlarge Ret"]
["Demand Control Ventilation-NR-Large Ret","Demand Control Ventilation-DCV Only-Large Ret-ElecHt-Vent-NR",{"$f":"VLOOKUP(B15,MMap!$A$11:$O$460,14,FALSE)","v":5.0886930143976689E-2},19,{"$f":"VLOOKUP(B15,MMap!$A$11:$O$460,15,FALSE)","v":0.24143001177397791},null,"ComEconoMizer",null,null,null,null,null,null,null,1,"SmComWX",null,null,null,null,null,null,"Demand Control Ventilation","Retro","Small Box","Large Ret"]
["Demand Control Ventilation-NR-Medium Ret","Demand Control Ventilation-DCV Only-Medium Ret-ElecHt-Vent-NR",{"$f":"VLOOKUP(B16,MMap!$A$11:$O$460,14,FALSE)","v":0.51736221283603934},20,{"$f":"VLOOKUP(B16,MMap!$A$11:$O$460,15,FALSE)","v":5.6166891508396946},null,"ComEconoMizer",null,null,null,null,null,null,null,1,"SmComWX",null,null,null,null,null,null,"Demand Control Ventilation","Retro","High End","Medium Ret"]
["Demand Control Ventilation-NR-Small Ret","Demand Control Ventilation-DCV Only-Small Ret-ElecHt-Vent-NR",{"$f":"VLOOKUP(B17,MMap!$A$11:$O$460,14,FALSE)","v":0.69815298811255089},21,{"$f":"VLOOKUP(B17,MMap!$A$11:$O$460,15,FALSE)","v":7.5794254328365627},null,"ComEconoMizer",null,null,null,null,null,null,null,1,"SmComWX",null,null,null,null,null,null,"Demand Control Ventilation","Retro","Anchor","Small Ret"]
["Demand Control Ventilation-NR-School K-12","Demand Control Ventilation-DCV Only-School K-12-ElecHt-Vent-NR",{"$f":"VLOOKUP(B18,MMap!$A$11:$O$460,14,FALSE)","v":0},22,{"$f":"VLOOKUP(B18,MMap!$A$11:$O$460,15,FALSE)","v":0},null,"ComEconoMizer",null,null,null,null,null,null,null,1,"SmComWX",null,null,null,null,null,null,"Demand Control Ventilation","Retro","K-12","School K-12"]
["Demand Control Ventilation-NR-University","Demand Control Ventilation-DCV Only-University-ElecHt-Vent-NR",{"$f":"VLOOKUP(B19,MMap!$A$11:$O$460,14,FALSE)","v":0},23,{"$f":"VLOOKUP(B19,MMap!$A$11:$O$460,15,FALSE)","v":0},null,"ComEconoMizer",null,null,null,null,null,null,null,1,"SmComWX",null,null,null,null,null,null,"Demand Control Ventilation","Retro","University","University"]
["Demand Control Ventilation-NR-Warehouse","Demand Control Ventilation-DCV Only-Warehouse-ElecHt-Vent-NR",{"$f":"VLOOKUP(B20,MMap!$A$11:$O$460,14,FALSE)","v":2.9259678009543495E-3},24,{"$f":"VLOOKUP(B20,MMap!$A$11:$O$460,15,FALSE)","v":8.5716335895949528E-2},null,"ComEconoMizer",null,null,null,null,null,null,null,1,"SmComWX",null,null,null,null,null,null,"Demand Control Ventilation","Retro","Warehouse","Warehouse"]
["Demand Control Ventilation-NR-Supermarket","Demand Control Ventilation-DCV Only-Supermarket-ElecHt-Vent-NR",{"$f":"VLOOKUP(B21,MMap!$A$11:$O$460,14,FALSE)","v":2.7296130165508581E-2},25,{"$f":"VLOOKUP(B21,MMap!$A$11:$O$460,15,FALSE)","v":0.79964115160910409},null,"ComEconoMizer",null,null,null,null,null,null,null,1,"SmComWX",null,null,null,null,null,null,"Demand Control Ventilation","Retro","Supermarket","Supermarket"]
["Demand Control Ventilation-NR-MiniMart","Demand Control Ventilation-DCV Only-MiniMart-ElecHt-Vent-NR",{"$f":"VLOOKUP(B22,MMap!$A$11:$O$460,14,FALSE)","v":1.4637732162177293E-2},26,{"$f":"VLOOKUP(B22,MMap!$A$11:$O$460,15,FALSE)","v":0.42881290982043446},null,"ComEconoMizer",null,null,null,null,null,null,null,1,"SmComWX",null,null,null,null,null,null,"Demand Control Ventilation","Retro","MIniMart","MiniMart"]
["Demand Control Ventilation-NR-Restaurant","Demand Control Ventilation-DCV Only-Restaurant-ElecHt-Vent-NR",{"$f":"VLOOKUP(B23,MMap!$A$11:$O$460,14,FALSE)","v":0.32731064717658137},27,{"$f":"VLOOKUP(B23,MMap!$A$11:$O$460,15,FALSE)","v":1.5529058871896602},null,"ComEconoMizer",null,null,null,null,null,null,null,1,"SmComWX",null,null,null,null,null,null,"Demand Control Ventilation","Retro","Restaurant","Restaurant"]
["Demand Control Ventilation-NR-Lodging","Demand Control Ventilation-DCV Only-Lodging-ElecHt-Vent-NR",{"$f":"VLOOKUP(B24,MMap!$A$11:$O$460,14,FALSE)","v":1.063301709092499},28,{"$f":"VLOOKUP(B24,MMap!$A$11:$O$460,15,FALSE)","v":31.14946323933653},null,"ComEconoMizer",null,null,null,null,null,null,null,1,"SmComWX",null,null,null,null,null,null,"Demand Control Ventilation","Retro","Lodging","Lodging"]
["Demand Control Ventilation-NR-Hospital","Demand Control Ventilation-DCV Only-Hospital-ElecHt-Vent-NR",{"$f":"VLOOKUP(B25,MMap!$A$11:$O$460,14,FALSE)","v":0.19152},29,{"$f":"VLOOKUP(B25,MMap!$A$11:$O$460,15,FALSE)","v":5.6105855455544633},null,"ComEconoMizer",null,null,null,null,null,null,null,1,"SmComWX",null,null,null,null,null,null,"Demand Control Ventilation","Retro","Hospital","Hospital"]
["Demand Control Ventilation-NR-Residential Care","Demand Control Ventilation-DCV Only-Residential Care-ElecHt-Vent-NR",{"$f":"VLOOKUP(B26,MMap!$A$11:$O$460,14,FALSE)","v":0.72141203056102576},30,{"$f":"VLOOKUP(B26,MMap!$A$11:$O$460,15,FALSE)","v":21.133792350954398},null,"ComEconoMizer",null,null,null,null,null,null,null,1,"SmComWX",null,null,null,null,null,null,"Demand Control Ventilation","Retro","OtherHealth","Residential Care"]
["Demand Control Ventilation-NR-Assembly","Demand Control Ventilation-DCV Only-Assembly-ElecHt-Vent-NR",{"$f":"VLOOKUP(B27,MMap!$A$11:$O$460,14,FALSE)","v":0.48895217979750333},31,{"$f":"VLOOKUP(B27,MMap!$A$11:$O$460,15,FALSE)","v":14.323872349828839},null,"ComEconoMizer",null,null,null,null,null,null,null,1,"SmComWX",null,null,null,null,null,null,"Demand Control Ventilation","Retro","Other","Assembly"]
["Demand Control Ventilation-NR-Other","Demand Control Ventilation-DCV Only-Other-ElecHt-Vent-NR",{"$f":"VLOOKUP(B28,MMap!$A$11:$O$460,14,FALSE)","v":0.37444580694979435},32,{"$f":"VLOOKUP(B28,MMap!$A$11:$O$460,15,FALSE)","v":10.969403885056357},null,"ExCOMM",null,null,null,null,null,null,null,1,"SmComWX",null,null,null,null,null,null,"Demand Control Ventilation","Retro","Large Off","Other"]
["Demand Control Ventilation-NR-Large Off","Demand Control Ventilation-DCV Only-Large Off-ElecHt-Heat-NR",{"$f":"VLOOKUP(B29,MMap!$A$11:$O$460,14,FALSE)","v":51.626025244170712},33,{"$f":"VLOOKUP(B29,MMap!$A$11:$O$460,15,FALSE)","v":0},null,"ExCOMM",null,null,null,null,null,null,null,1,"SmComWX",null,null,null,null,null,null,"Demand Control Ventilation","Retro","Medium Off"]
["Demand Control Ventilation-NR-Medium Off","Demand Control Ventilation-DCV Only-Medium Off-ElecHt-Heat-NR",{"$f":"VLOOKUP(B30,MMap!$A$11:$O$460,14,FALSE)","v":56.009225502565982},34,{"$f":"VLOOKUP(B30,MMap!$A$11:$O$460,15,FALSE)","v":0},null,"ExCOMM",null,null,null,null,null,null,null,1,"SmComWX",null,null,null,null,null,null,"Demand Control Ventilation","Retro","Small Off"]
["Demand Control Ventilation-NR-Small Off","Demand Control Ventilation-DCV Only-Small Off-ElecHt-Heat-NR",{"$f":"VLOOKUP(B31,MMap!$A$11:$O$460,14,FALSE)","v":72.350363137212142},35,{"$f":"VLOOKUP(B31,MMap!$A$11:$O$460,15,FALSE)","v":0},null,"ExCOMM",null,null,null,null,null,null,null,1,"SmComWX",null,null,null,null,null,null,"Demand Control Ventilation","Retro","Big Box"]
["Demand Control Ventilation-NR-Xlarge Ret","Demand Control Ventilation-DCV Only-Xlarge Ret-ElecHt-Heat-NR",{"$f":"VLOOKUP(B32,MMap!$A$11:$O$460,14,FALSE)","v":15.783183794754814},36,{"$f":"VLOOKUP(B32,MMap!$A$11:$O$460,15,FALSE)","v":0},null,"ExCOMM",null,null,null,null,null,null,null,1,"SmComWX",null,null,null,null,null,null,"Demand Control Ventilation","Retro","Small Box"]
["Demand Control Ventilation-NR-Large Ret","Demand Control Ventilation-DCV Only-Large Ret-ElecHt-Heat-NR",{"$f":"VLOOKUP(B33,MMap!$A$11:$O$460,14,FALSE)","v":3.2924070745437999},37,{"$f":"VLOOKUP(B33,MMap!$A$11:$O$460,15,FALSE)","v":0},null,"ExCOMM",null,null,null,null,null,null,null,1,"SmComWX",null,null,null,null,null,null,"Demand Control Ventilation","Retro","High End"]
["Demand Control Ventilation-NR-Medium Ret","Demand Control Ventilation-DCV Only-Medium Ret-ElecHt-Heat-NR",{"$f":"VLOOKUP(B34,MMap!$A$11:$O$460,14,FALSE)","v":46.92916920004955},38,{"$f":"VLOOKUP(B34,MMap!$A$11:$O$460,15,FALSE)","v":0},null,"ExCOMM",null,null,null,null,null,null,null,1,"SmComWX",null,null,null,null,null,null,"Demand Control Ventilation","Retro","Anchor"]
["Demand Control Ventilation-NR-Small Ret","Demand Control Ventilation-DCV Only-Small Ret-ElecHt-Heat-NR",{"$f":"VLOOKUP(B35,MMap!$A$11:$O$460,14,FALSE)","v":63.328435849715717},39,{"$f":"VLOOKUP(B35,MMap!$A$11:$O$460,15,FALSE)","v":0},null,"ExCOMM",null,null,null,null,null,null,null,1,"SmComWX",null,null,null,null,null,null,"Demand Control Ventilation","Retro","K-12"]
["Demand Control Ventilation-NR-School K-12","Demand Control Ventilation-DCV Only-School K-12-ElecHt-Heat-NR",{"$f":"VLOOKUP(B36,MMap!$A$11:$O$460,14,FALSE)","v":0},40,{"$f":"VLOOKUP(B36,MMap!$A$11:$O$460,15,FALSE)","v":0},null,"ExCOMM",null,null,null,null,null,null,null,1,"SmComWX",null,null,null,null,null,null,"Demand Control Ventilation","Retro","University"]
["Demand Control Ventilation-NR-University","Demand Control Ventilation-DCV Only-University-ElecHt-Heat-NR",{"$f":"VLOOKUP(B37,MMap!$A$11:$O$460,14,FALSE)","v":0},41,{"$f":"VLOOKUP(B37,MMap!$A$11:$O$460,15,FALSE)","v":0},null,"ExCOMM",null,null,null,null,null,null,null,1,"SmComWX",null,null,null,null,null,null,"Demand Control Ventilation","Retro","Warehouse"]
["Demand Control Ventilation-NR-Warehouse","Demand Control Ventilation-DCV Only-Warehouse-ElecHt-Heat-NR",{"$f":"VLOOKUP(B38,MMap!$A$11:$O$460,14,FALSE)","v":0.30087177449016456},42,{"$f":"VLOOKUP(B38,MMap!$A$11:$O$460,15,FALSE)","v":0},null,"ExCOMM",null,null,null,null,null,null,null,1,"SmComWX",null,null,null,null,null,null,"Demand Control Ventilation","Retro","Supermarket"]
["Demand Control Ventilation-NR-Supermarket","Demand Control Ventilation-DCV Only-Supermarket-ElecHt-Heat-NR",{"$f":"VLOOKUP(B39,MMap!$A$11:$O$460,14,FALSE)","v":10.904792512369546},43,{"$f":"VLOOKUP(B39,MMap!$A$11:$O$460,15,FALSE)","v":0},null,"ExCOMM",null,null,null,null,null,null,null,1,"SmComWX",null,null,null,null,null,null,"Demand Control Ventilation","Retro","MIniMart"]
["Demand Control Ventilation-NR-MiniMart","Demand Control Ventilation-DCV Only-MiniMart-ElecHt-Heat-NR",{"$f":"VLOOKUP(B40,MMap!$A$11:$O$460,14,FALSE)","v":5.8477678378702791},44,{"$f":"VLOOKUP(B40,MMap!$A$11:$O$460,15,FALSE)","v":0},null,"ExCOMM",null,null,null,null,null,null,null,1,"SmComWX",null,null,null,null,null,null,"Demand Control Ventilation","Retro","Restaurant"]
["Demand Control Ventilation-NR-Restaurant","Demand Control Ventilation-DCV Only-Restaurant-ElecHt-Heat-NR",{"$f":"VLOOKUP(B41,MMap!$A$11:$O$460,14,FALSE)","v":21.177144844239397},45,{"$f":"VLOOKUP(B41,MMap!$A$11:$O$460,15,FALSE)","v":0},null,"ExCOMM",null,null,null,null,null,null,null,1,"SmComWX",null,null,null,null,null,null,"Demand Control Ventilation","Retro","Lodging"]
["Demand Control Ventilation-NR-Lodging","Demand Control Ventilation-DCV Only-Lodging-ElecHt-Heat-NR",{"$f":"VLOOKUP(B42,MMap!$A$11:$O$460,14,FALSE)","v":109.33731804182496},46,{"$f":"VLOOKUP(B42,MMap!$A$11:$O$460,15,FALSE)","v":0},null,"ExCOMM",null,null,null,null,null,null,null,1,"SmComWX",null,null,null,null,null,null,"Demand Control Ventilation","Retro","Hospital"]
["Demand Control Ventilation-NR-Hospital","Demand Control Ventilation-DCV Only-Hospital-ElecHt-Heat-NR",{"$f":"VLOOKUP(B43,MMap!$A$11:$O$460,14,FALSE)","v":19.69364195722239},47,{"$f":"VLOOKUP(B43,MMap!$A$11:$O$460,15,FALSE)","v":0},null,"ExCOMM",null,null,null,null,null,null,null,1,"SmComWX",null,null,null,null,null,null,"Demand Control Ventilation","Retro","OtherHealth"]
["Demand Control Ventilation-NR-Residential Care","Demand Control Ventilation-DCV Only-Residential Care-ElecHt-Heat-NR",{"$f":"VLOOKUP(B44,MMap!$A$11:$O$460,14,FALSE)","v":74.18144441051389},48,{"$f":"VLOOKUP(B44,MMap!$A$11:$O$460,15,FALSE)","v":0},null,"ExCOMM",null,null,null,null,null,null,null,1,"SmComWX",null,null,null,null,null,null,"Demand Control Ventilation","Retro","Other"]
["Demand Control Ventilation-NR-Assembly","Demand Control Ventilation-DCV Only-Assembly-ElecHt-Heat-NR",{"$f":"VLOOKUP(B45,MMap!$A$11:$O$460,14,FALSE)","v":50.278034477524315},49,{"$f":"VLOOKUP(B45,MMap!$A$11:$O$460,15,FALSE)","v":0},null,"ComEconoMizer",null,null,null,null,null,null,null,1,"SmComWX",null,null,null,null,null,null,"Demand Control Ventilation","Retro","Large Off"]
["Demand Control Ventilation-NR-Other","Demand Control Ventilation-DCV Only-Other-ElecHt-Heat-NR",{"$f":"VLOOKUP(B46,MMap!$A$11:$O$460,14,FALSE)","v":38.503559181560497},50,{"$f":"VLOOKUP(B46,MMap!$A$11:$O$460,15,FALSE)","v":0},null,"ComEconoMizer",null,null,null,null,null,null,null,1,"SmComWX",null,null,null,null,null,null,"Demand Control Ventilation","Retro","Medium Off"]
["Demand Control Ventilation-NR-Large Off","Demand Control Ventilation-DCV Only-Large Off-GasHt-Vent-NR",{"$f":"VLOOKUP(B47,MMap!$A$11:$O$460,14,FALSE)","v":1.2953997027530166},51,{"$f":"VLOOKUP(B47,MMap!$A$11:$O$460,15,FALSE)","v":37.948782623128785},null,"ComEconoMizer",null,null,null,null,null,null,null,1,"SmComWX",null,null,null,null,null,null,"Demand Control Ventilation","Retro","Small Off"]
["Demand Control Ventilation-NR-Medium Off","Demand Control Ventilation-DCV Only-Medium Off-GasHt-Vent-NR",{"$f":"VLOOKUP(B48,MMap!$A$11:$O$460,14,FALSE)","v":1.2657869088201044},52,{"$f":"VLOOKUP(B48,MMap!$A$11:$O$460,15,FALSE)","v":37.081274720019543},null,"ComEconoMizer",null,null,null,null,null,null,null,1,"SmComWX",null,null,null,null,null,null,"Demand Control Ventilation","Retro","Big Box"]
["Demand Control Ventilation-NR-Small Off","Demand Control Ventilation-DCV Only-Small Off-GasHt-Vent-NR",{"$f":"VLOOKUP(B49,MMap!$A$11:$O$460,14,FALSE)","v":0.75213115504123385},53,{"$f":"VLOOKUP(B49,MMap!$A$11:$O$460,15,FALSE)","v":22.033710248723526},null,"ComEconoMizer",null,null,null,null,null,null,null,1,"SmComWX",null,null,null,null,null,null,"Demand Control Ventilation","Retro","Small Box"]
["Demand Control Ventilation-NR-Xlarge Ret","Demand Control Ventilation-DCV Only-Xlarge Ret-GasHt-Vent-NR",{"$f":"VLOOKUP(B50,MMap!$A$11:$O$460,14,FALSE)","v":4.2166989711340186},54,{"$f":"VLOOKUP(B50,MMap!$A$11:$O$460,15,FALSE)","v":20.005877331720082},null,"ComEconoMizer",null,null,null,null,null,null,null,1,"SmComWX",null,null,null,null,null,null,"Demand Control Ventilation","Retro","High End"]
["Demand Control Ventilation-NR-Large Ret","Demand Control Ventilation-DCV Only-Large Ret-GasHt-Vent-NR",{"$f":"VLOOKUP(B51,MMap!$A$11:$O$460,14,FALSE)","v":4.7231846381221443},55,{"$f":"VLOOKUP(B51,MMap!$A$11:$O$460,15,FALSE)","v":22.408868437654746},null,"ComEconoMizer",null,null,null,null,null,null,null,1,"SmComWX",null,null,null,null,null,null,"Demand Control Ventilation","Retro","Anchor"]
["Demand Control Ventilation-NR-Medium Ret","Demand Control Ventilation-DCV Only-Medium Ret-GasHt-Vent-NR",{"$f":"VLOOKUP(B52,MMap!$A$11:$O$460,14,FALSE)","v":3.4897336767450349},56,{"$f":"VLOOKUP(B52,MMap!$A$11:$O$460,15,FALSE)","v":37.885931355612087},null,"ComEconoMizer",null,null,null,null,null,null,null,1,"SmComWX",null,null,null,null,null,null,"Demand Control Ventilation","Retro","K-12"]
["Demand Control Ventilation-NR-Small Ret","Demand Control Ventilation-DCV Only-Small Ret-GasHt-Vent-NR",{"$f":"VLOOKUP(B53,MMap!$A$11:$O$460,14,FALSE)","v":1.4489010531659479},57,{"$f":"VLOOKUP(B53,MMap!$A$11:$O$460,15,FALSE)","v":15.729843858033099},null,"ComEconoMizer",null,null,null,null,null,null,null,1,"SmComWX",null,null,null,null,null,null,"Demand Control Ventilation","Retro","University"]
["Demand Control Ventilation-NR-School K-12","Demand Control Ventilation-DCV Only-School K-12-GasHt-Vent-NR",{"$f":"VLOOKUP(B54,MMap!$A$11:$O$460,14,FALSE)","v":0},58,{"$f":"VLOOKUP(B54,MMap!$A$11:$O$460,15,FALSE)","v":0},null,"ComEconoMizer",null,null,null,null,null,null,null,1,"SmComWX",null,null,null,null,null,null,"Demand Control Ventilation","Retro","Warehouse"]
["Demand Control Ventilation-NR-University","Demand Control Ventilation-DCV Only-University-GasHt-Vent-NR",{"$f":"VLOOKUP(B55,MMap!$A$11:$O$460,14,FALSE)","v":0},59,{"$f":"VLOOKUP(B55,MMap!$A$11:$O$460,15,FALSE)","v":0},null,"ComEconoMizer",null,null,null,null,null,null,null,1,"SmComWX",null,null,null,null,null,null,"Demand Control Ventilation","Retro","Supermarket"]
["Demand Control Ventilation-NR-Warehouse","Demand Control Ventilation-DCV Only-Warehouse-GasHt-Vent-NR",{"$f":"VLOOKUP(B56,MMap!$A$11:$O$460,14,FALSE)","v":0.45174102783322839},60,{"$f":"VLOOKUP(B56,MMap!$A$11:$O$460,15,FALSE)","v":13.233770264698348},null,"ComEconoMizer",null,null,null,null,null,null,null,1,"SmComWX",null,null,null,null,null,null,"Demand Control Ventilation","Retro","MIniMart"]
["Demand Control Ventilation-NR-Supermarket","Demand Control Ventilation-DCV Only-Supermarket-GasHt-Vent-NR",{"$f":"VLOOKUP(B57,MMap!$A$11:$O$460,14,FALSE)","v":0.32712186612856825},61,{"$f":"VLOOKUP(B57,MMap!$A$11:$O$460,15,FALSE)","v":9.5830472730563248},null,"ComEconoMizer",null,null,null,null,null,null,null,1,"SmComWX",null,null,null,null,null,null,"Demand Control Ventilation","Retro","Restaurant"]
["Demand Control Ventilation-NR-MiniMart","Demand Control Ventilation-DCV Only-MiniMart-GasHt-Vent-NR",{"$f":"VLOOKUP(B58,MMap!$A$11:$O$460,14,FALSE)","v":1.2812933916242593},62,{"$f":"VLOOKUP(B58,MMap!$A$11:$O$460,15,FALSE)","v":37.535537712309548},null,"ComEconoMizer",null,null,null,null,null,null,null,1,"SmComWX",null,null,null,null,null,null,"Demand Control Ventilation","Retro","Lodging"]
["Demand Control Ventilation-NR-Restaurant","Demand Control Ventilation-DCV Only-Restaurant-GasHt-Vent-NR",{"$f":"VLOOKUP(B59,MMap!$A$11:$O$460,14,FALSE)","v":8.6444666212774539},63,{"$f":"VLOOKUP(B59,MMap!$A$11:$O$460,15,FALSE)","v":41.013157450249736},null,"ComEconoMizer",null,null,null,null,null,null,null,1,"SmComWX",null,null,null,null,null,null,"Demand Control Ventilation","Retro","Hospital"]
["Demand Control Ventilation-NR-Lodging","Demand Control Ventilation-DCV Only-Lodging-GasHt-Vent-NR",{"$f":"VLOOKUP(B60,MMap!$A$11:$O$460,14,FALSE)","v":0.59357850920493194},64,{"$f":"VLOOKUP(B60,MMap!$A$11:$O$460,15,FALSE)","v":17.388904573396815},null,"ComEconoMizer",null,null,null,null,null,null,null,1,"SmComWX",null,null,null,null,null,null,"Demand Control Ventilation","Retro","OtherHealth"]
["Demand Control Ventilation-NR-Hospital","Demand Control Ventilation-DCV Only-Hospital-GasHt-Vent-NR",{"$f":"VLOOKUP(B61,MMap!$A$11:$O$460,14,FALSE)","v":2.1785399999999995},65,{"$f":"VLOOKUP(B61,MMap!$A$11:$O$460,15,FALSE)","v":63.820410580682008},null,"ComEconoMizer",null,null,null,null,null,null,null,1,"SmComWX",null,null,null,null,null,null,"Demand Control Ventilation","Retro","Other"]
["Demand Control Ventilation-NR-Residential Care","Demand Control Ventilation-DCV Only-Residential Care-GasHt-Vent-NR",{"$f":"VLOOKUP(B62,MMap!$A$11:$O$460,14,FALSE)","v":0.86089273224915286},66,{"$f":"VLOOKUP(B62,MMap!$A$11:$O$460,15,FALSE)","v":25.219884710891744},null,"ComEconoMizer",null,null,null,null,null,null,null,1,"SmComWX",null,null,null,null,null,null,"Demand Control Ventilation","Retro","Large Off"]
["Demand Control Ventilation-NR-Assembly","Demand Control Ventilation-DCV Only-Assembly-GasHt-Vent-NR",{"$f":"VLOOKUP(B63,MMap!$A$11:$O$460,14,FALSE)","v":3.5758760088168664},67,{"$f":"VLOOKUP(B63,MMap!$A$11:$O$460,15,FALSE)","v":104.75542109316467},null,"ComEconoMizer",null,null,null,null,null,null,null,1,"SmComWX",null,null,null,null,null,null,"Demand Control Ventilation","Retro","Medium Off"]
["Demand Control Ventilation-NR-Other","Demand Control Ventilation-DCV Only-Other-GasHt-Vent-NR",{"$f":"VLOOKUP(B64,MMap!$A$11:$O$460,14,FALSE)","v":1.6041861265147581},68,{"$f":"VLOOKUP(B64,MMap!$A$11:$O$460,15,FALSE)","v":46.994692427958995},null,"ComEconoMizer",null,null,null,null,null,null,null,1,"SmComWX",null,null,null,null,null,null,"Demand Control Ventilation","Retro","Small Off"]
["Demand Control Ventilation-NR-Large Off","Demand Control Ventilation-DCV Only-Large Off-HtPmpHt-Vent-NR",{"$f":"VLOOKUP(B65,MMap!$A$11:$O$460,14,FALSE)","v":0.59978206404780621},69,{"$f":"VLOOKUP(B65,MMap!$A$11:$O$460,15,FALSE)","v":17.570637943971612},null,"ComEconoMizer",null,null,null,null,null,null,null,1,"SmComWX",null,null,null,null,null,null,"Demand Control Ventilation","Retro","Big Box"]
["Demand Control Ventilation-NR-Medium Off","Demand Control Ventilation-DCV Only-Medium Off-HtPmpHt-Vent-NR",{"$f":"VLOOKUP(B66,MMap!$A$11:$O$460,14,FALSE)","v":0.6507053122676959},70,{"$f":"VLOOKUP(B66,MMap!$A$11:$O$460,15,FALSE)","v":19.062436400504588},null,"ComEconoMizer",null,null,null,null,null,null,null,1,"SmComWX",null,null,null,null,null,null,"Demand Control Ventilation","Retro","Small Box"]
["Demand Control Ventilation-NR-Small Off","Demand Control Ventilation-DCV Only-Small Off-HtPmpHt-Vent-NR",{"$f":"VLOOKUP(B67,MMap!$A$11:$O$460,14,FALSE)","v":0.84055376976644613},71,{"$f":"VLOOKUP(B67,MMap!$A$11:$O$460,15,FALSE)","v":24.624054046120182},null,"ComEconoMizer",null,null,null,null,null,null,null,1,"SmComWX",null,null,null,null,null,null,"Demand Control Ventilation","Retro","High End"]
["Demand Control Ventilation-NR-Xlarge Ret","Demand Control Ventilation-DCV Only-Xlarge Ret-HtPmpHt-Vent-NR",{"$f":"VLOOKUP(B68,MMap!$A$11:$O$460,14,FALSE)","v":0.14240356530951129},72,{"$f":"VLOOKUP(B68,MMap!$A$11:$O$460,15,FALSE)","v":0.67562524113868649},null,"ComEconoMizer",null,null,null,null,null,null,null,1,"SmComWX",null,null,null,null,null,null,"Demand Control Ventilation","Retro","Anchor"]
["Demand Control Ventilation-NR-Large Ret","Demand Control Ventilation-DCV Only-Large Ret-HtPmpHt-Vent-NR",{"$f":"VLOOKUP(B69,MMap!$A$11:$O$460,14,FALSE)","v":2.9705698923756244E-2},73,{"$f":"VLOOKUP(B69,MMap!$A$11:$O$460,15,FALSE)","v":0.14093692075008421},null,"ComEconoMizer",null,null,null,null,null,null,null,1,"SmComWX",null,null,null,null,null,null,"Demand Control Ventilation","Retro","K-12"]
["Demand Control Ventilation-NR-Medium Ret","Demand Control Ventilation-DCV Only-Medium Ret-HtPmpHt-Vent-NR",{"$f":"VLOOKUP(B70,MMap!$A$11:$O$460,14,FALSE)","v":0.30201480194526559},74,{"$f":"VLOOKUP(B70,MMap!$A$11:$O$460,15,FALSE)","v":3.2787923419845222},null,"ComEconoMizer",null,null,null,null,null,null,null,1,"SmComWX",null,null,null,null,null,null,"Demand Control Ventilation","Retro","University"]
["Demand Control Ventilation-NR-Small Ret","Demand Control Ventilation-DCV Only-Small Ret-HtPmpHt-Vent-NR",{"$f":"VLOOKUP(B71,MMap!$A$11:$O$460,14,FALSE)","v":0.40755302803517679},75,{"$f":"VLOOKUP(B71,MMap!$A$11:$O$460,15,FALSE)","v":4.4245571364959675},null,"ComEconoMizer",null,null,null,null,null,null,null,1,"SmComWX",null,null,null,null,null,null,"Demand Control Ventilation","Retro","Warehouse"]
["Demand Control Ventilation-NR-School K-12","Demand Control Ventilation-DCV Only-School K-12-HtPmpHt-Vent-NR",{"$f":"VLOOKUP(B72,MMap!$A$11:$O$460,14,FALSE)","v":0},76,{"$f":"VLOOKUP(B72,MMap!$A$11:$O$460,15,FALSE)","v":0},null,"ComEconoMizer",null,null,null,null,null,null,null,1,"SmComWX",null,null,null,null,null,null,"Demand Control Ventilation","Retro","Supermarket"]
["Demand Control Ventilation-NR-University","Demand Control Ventilation-DCV Only-University-HtPmpHt-Vent-NR",{"$f":"VLOOKUP(B73,MMap!$A$11:$O$460,14,FALSE)","v":0},77,{"$f":"VLOOKUP(B73,MMap!$A$11:$O$460,15,FALSE)","v":0},null,"ComEconoMizer",null,null,null,null,null,null,null,1,"SmComWX",null,null,null,null,null,null,"Demand Control Ventilation","Retro","MIniMart"]
["Demand Control Ventilation-NR-Warehouse","Demand Control Ventilation-DCV Only-Warehouse-HtPmpHt-Vent-NR",{"$f":"VLOOKUP(B74,MMap!$A$11:$O$460,14,FALSE)","v":3.0222424116341331E-3},78,{"$f":"VLOOKUP(B74,MMap!$A$11:$O$460,15,FALSE)","v":8.8536704207790987E-2},null,"ComEconoMizer",null,null,null,null,null,null,null,1,"SmComWX",null,null,null,null,null,null,"Demand Control Ventilation","Retro","Restaurant"]
["Demand Control Ventilation-NR-Supermarket","Demand Control Ventilation-DCV Only-Supermarket-HtPmpHt-Vent-NR",{"$f":"VLOOKUP(B75,MMap!$A$11:$O$460,14,FALSE)","v":4.3433713406410356E-2},79,{"$f":"VLOOKUP(B75,MMap!$A$11:$O$460,15,FALSE)","v":1.2723922547397719},null,"ComEconoMizer",null,null,null,null,null,null,null,1,"SmComWX",null,null,null,null,null,null,"Demand Control Ventilation","Retro","Lodging"]
["Demand Control Ventilation-NR-MiniMart","Demand Control Ventilation-DCV Only-MiniMart-HtPmpHt-Vent-NR",{"$f":"VLOOKUP(B76,MMap!$A$11:$O$460,14,FALSE)","v":2.3291618987630894E-2},80,{"$f":"VLOOKUP(B76,MMap!$A$11:$O$460,15,FALSE)","v":0.68232884724605147},null,"ComEconoMizer",null,null,null,null,null,null,null,1,"SmComWX",null,null,null,null,null,null,"Demand Control Ventilation","Retro","Hospital"]
["Demand Control Ventilation-NR-Restaurant","Demand Control Ventilation-DCV Only-Restaurant-HtPmpHt-Vent-NR",{"$f":"VLOOKUP(B77,MMap!$A$11:$O$460,14,FALSE)","v":1.9202224605995288},81,{"$f":"VLOOKUP(B77,MMap!$A$11:$O$460,15,FALSE)","v":9.1103811913888038},null,"ComEconoMizer",null,null,null,null,null,null,null,1,"SmComWX",null,null,null,null,null,null,"Demand Control Ventilation","Retro","OtherHealth"]
["Demand Control Ventilation-NR-Lodging","Demand Control Ventilation-DCV Only-Lodging-HtPmpHt-Vent-NR",{"$f":"VLOOKUP(B78,MMap!$A$11:$O$460,14,FALSE)","v":0.72297903052807622},82,{"$f":"VLOOKUP(B78,MMap!$A$11:$O$460,15,FALSE)","v":21.179697673453443},null,"ComEconoMizer",null,null,null,null,null,null,null,1,"SmComWX",null,null,null,null,null,null,"Demand Control Ventilation","Retro","Other"]
["Demand Control Ventilation-NR-Hospital","Demand Control Ventilation-DCV Only-Hospital-HtPmpHt-Vent-NR",{"$f":"VLOOKUP(B79,MMap!$A$11:$O$460,14,FALSE)","v":2.3939999999999999E-2},83,{"$f":"VLOOKUP(B79,MMap!$A$11:$O$460,15,FALSE)","v":0.70132319319430791},null,"SmComHP",null,null,null,null,null,null,null,1,"SmComWX",null,null,null,null,null,null,"Demand Control Ventilation","Retro","Large Off"]
["Demand Control Ventilation-NR-Residential Care","Demand Control Ventilation-DCV Only-Residential Care-HtPmpHt-Vent-NR",{"$f":"VLOOKUP(B80,MMap!$A$11:$O$460,14,FALSE)","v":0.54038866051269596},84,{"$f":"VLOOKUP(B80,MMap!$A$11:$O$460,15,FALSE)","v":15.830705971460267},null,"SmComHP",null,null,null,null,null,null,null,1,"SmComWX",null,null,null,null,null,null,"Demand Control Ventilation","Retro","Medium Off"]
["Demand Control Ventilation-NR-Assembly","Demand Control Ventilation-DCV Only-Assembly-HtPmpHt-Vent-NR",{"$f":"VLOOKUP(B81,MMap!$A$11:$O$460,14,FALSE)","v":0.53050444114496886},85,{"$f":"VLOOKUP(B81,MMap!$A$11:$O$460,15,FALSE)","v":15.541147396305403},null,"SmComHP",null,null,null,null,null,null,null,1,"SmComWX",null,null,null,null,null,null,"Demand Control Ventilation","Retro","Small Off"]
["Demand Control Ventilation-NR-Other","Demand Control Ventilation-DCV Only-Other-HtPmpHt-Vent-NR",{"$f":"VLOOKUP(B82,MMap!$A$11:$O$460,14,FALSE)","v":0.23185540712208474},86,{"$f":"VLOOKUP(B82,MMap!$A$11:$O$460,15,FALSE)","v":6.7922128020980264},null,"SmComHP",null,null,null,null,null,null,null,1,"SmComWX",null,null,null,null,null,null,"Demand Control Ventilation","Retro","Big Box"]
["Demand Control Ventilation-NR-Large Off","Demand Control Ventilation-DCV Only-Large Off-HtPmpHt-Heat-NR",{"$f":"VLOOKUP(B83,MMap!$A$11:$O$460,14,FALSE)","v":29.368792073739222},87,{"$f":"VLOOKUP(B83,MMap!$A$11:$O$460,15,FALSE)","v":0},null,"SmComHP",null,null,null,null,null,null,null,1,"SmComWX",null,null,null,null,null,null,"Demand Control Ventilation","Retro","Small Box"]
["Demand Control Ventilation-NR-Medium Off","Demand Control Ventilation-DCV Only-Medium Off-HtPmpHt-Heat-NR",{"$f":"VLOOKUP(B84,MMap!$A$11:$O$460,14,FALSE)","v":31.862288258997179},88,{"$f":"VLOOKUP(B84,MMap!$A$11:$O$460,15,FALSE)","v":0},null,"SmComHP",null,null,null,null,null,null,null,1,"SmComWX",null,null,null,null,null,null,"Demand Control Ventilation","Retro","High End"]
["Demand Control Ventilation-NR-Small Off","Demand Control Ventilation-DCV Only-Small Off-HtPmpHt-Heat-NR",{"$f":"VLOOKUP(B85,MMap!$A$11:$O$460,14,FALSE)","v":41.158364630758285},89,{"$f":"VLOOKUP(B85,MMap!$A$11:$O$460,15,FALSE)","v":0},null,"SmComHP",null,null,null,null,null,null,null,1,"SmComWX",null,null,null,null,null,null,"Demand Control Ventilation","Retro","Anchor"]
["Demand Control Ventilation-NR-Xlarge Ret","Demand Control Ventilation-DCV Only-Xlarge Ret-HtPmpHt-Heat-NR",{"$f":"VLOOKUP(B86,MMap!$A$11:$O$460,14,FALSE)","v":4.3874162779805115},90,{"$f":"VLOOKUP(B86,MMap!$A$11:$O$460,15,FALSE)","v":0},null,"SmComHP",null,null,null,null,null,null,null,1,"SmComWX",null,null,null,null,null,null,"Demand Control Ventilation","Retro","K-12"]
["Demand Control Ventilation-NR-Large Ret","Demand Control Ventilation-DCV Only-Large Ret-HtPmpHt-Heat-NR",{"$f":"VLOOKUP(B87,MMap!$A$11:$O$460,14,FALSE)","v":0.91522474682149924},91,{"$f":"VLOOKUP(B87,MMap!$A$11:$O$460,15,FALSE)","v":0},null,"SmComHP",null,null,null,null,null,null,null,1,"SmComWX",null,null,null,null,null,null,"Demand Control Ventilation","Retro","University"]
["Demand Control Ventilation-NR-Medium Ret","Demand Control Ventilation-DCV Only-Medium Ret-HtPmpHt-Heat-NR",{"$f":"VLOOKUP(B88,MMap!$A$11:$O$460,14,FALSE)","v":13.045390812012505},92,{"$f":"VLOOKUP(B88,MMap!$A$11:$O$460,15,FALSE)","v":0},null,"SmComHP",null,null,null,null,null,null,null,1,"SmComWX",null,null,null,null,null,null,"Demand Control Ventilation","Retro","Warehouse"]
["Demand Control Ventilation-NR-Small Ret","Demand Control Ventilation-DCV Only-Small Ret-HtPmpHt-Heat-NR",{"$f":"VLOOKUP(B89,MMap!$A$11:$O$460,14,FALSE)","v":17.604066069256824},93,{"$f":"VLOOKUP(B89,MMap!$A$11:$O$460,15,FALSE)","v":0},null,"SmComHP",null,null,null,null,null,null,null,1,"SmComWX",null,null,null,null,null,null,"Demand Control Ventilation","Retro","Supermarket"]
["Demand Control Ventilation-NR-School K-12","Demand Control Ventilation-DCV Only-School K-12-HtPmpHt-Heat-NR",{"$f":"VLOOKUP(B90,MMap!$A$11:$O$460,14,FALSE)","v":0},94,{"$f":"VLOOKUP(B90,MMap!$A$11:$O$460,15,FALSE)","v":0},null,"SmComHP",null,null,null,null,null,null,null,1,"SmComWX",null,null,null,null,null,null,"Demand Control Ventilation","Retro","MIniMart"]
["Demand Control Ventilation-NR-University","Demand Control Ventilation-DCV Only-University-HtPmpHt-Heat-NR",{"$f":"VLOOKUP(B91,MMap!$A$11:$O$460,14,FALSE)","v":0},95,{"$f":"VLOOKUP(B91,MMap!$A$11:$O$460,15,FALSE)","v":0},null,"SmComHP",null,null,null,null,null,null,null,1,"SmComWX",null,null,null,null,null,null,"Demand Control Ventilation","Retro","Restaurant"]
["Demand Control Ventilation-NR-Warehouse","Demand Control Ventilation-DCV Only-Warehouse-HtPmpHt-Heat-NR",{"$f":"VLOOKUP(B92,MMap!$A$11:$O$460,14,FALSE)","v":0.147986434246964},96,{"$f":"VLOOKUP(B92,MMap!$A$11:$O$460,15,FALSE)","v":0},null,"SmComHP",null,null,null,null,null,null,null,1,"SmComWX",null,null,null,null,null,null,"Demand Control Ventilation","Retro","Lodging"]
["Demand Control Ventilation-NR-Supermarket","Demand Control Ventilation-DCV Only-Supermarket-HtPmpHt-Heat-NR",{"$f":"VLOOKUP(B93,MMap!$A$11:$O$460,14,FALSE)","v":8.2627382023397065},97,{"$f":"VLOOKUP(B93,MMap!$A$11:$O$460,15,FALSE)","v":0},null,"SmComHP",null,null,null,null,null,null,null,1,"SmComWX",null,null,null,null,null,null,"Demand Control Ventilation","Retro","Hospital"]
["Demand Control Ventilation-NR-MiniMart","Demand Control Ventilation-DCV Only-MiniMart-HtPmpHt-Heat-NR",{"$f":"VLOOKUP(B94,MMap!$A$11:$O$460,14,FALSE)","v":4.4309485629896583},98,{"$f":"VLOOKUP(B94,MMap!$A$11:$O$460,15,FALSE)","v":0},null,"SmComHP",null,null,null,null,null,null,null,1,"SmComWX",null,null,null,null,null,null,"Demand Control Ventilation","Retro","OtherHealth"]
["Demand Control Ventilation-NR-Restaurant","Demand Control Ventilation-DCV Only-Restaurant-HtPmpHt-Heat-NR",{"$f":"VLOOKUP(B95,MMap!$A$11:$O$460,14,FALSE)","v":59.161547413977992},99,{"$f":"VLOOKUP(B95,MMap!$A$11:$O$460,15,FALSE)","v":0},null,"SmComHP",null,null,null,null,null,null,null,1,"SmComWX",null,null,null,null,null,null,"Demand Control Ventilation","Retro","Other"]
["Demand Control Ventilation-NR-Lodging","Demand Control Ventilation-DCV Only-Lodging-HtPmpHt-Heat-NR",{"$f":"VLOOKUP(B96,MMap!$A$11:$O$460,14,FALSE)","v":35.401226702171321},100,{"$f":"VLOOKUP(B96,MMap!$A$11:$O$460,15,FALSE)","v":0},null,"SmComCAC",null,null,null,null,null,null,null,1,"SmComWX",null,null,null,null,null,null,"Demand Control Ventilation","Retro","Large Off"]
["Demand Control Ventilation-NR-Hospital","Demand Control Ventilation-DCV Only-Hospital-HtPmpHt-Heat-NR",{"$f":"VLOOKUP(B97,MMap!$A$11:$O$460,14,FALSE)","v":1.1722405926918087},101,{"$f":"VLOOKUP(B97,MMap!$A$11:$O$460,15,FALSE)","v":0},null,"SmComCAC",null,null,null,null,null,null,null,1,"SmComWX",null,null,null,null,null,null,"Demand Control Ventilation","Retro","Medium Off"]
["Demand Control Ventilation-NR-Residential Care","Demand Control Ventilation-DCV Only-Residential Care-HtPmpHt-Heat-NR",{"$f":"VLOOKUP(B98,MMap!$A$11:$O$460,14,FALSE)","v":26.460548190615519},102,{"$f":"VLOOKUP(B98,MMap!$A$11:$O$460,15,FALSE)","v":0},null,"SmComCAC",null,null,null,null,null,null,null,1,"SmComWX",null,null,null,null,null,null,"Demand Control Ventilation","Retro","Small Off"]
["Demand Control Ventilation-NR-Assembly","Demand Control Ventilation-DCV Only-Assembly-HtPmpHt-Heat-NR",{"$f":"VLOOKUP(B99,MMap!$A$11:$O$460,14,FALSE)","v":25.976559754110912},103,{"$f":"VLOOKUP(B99,MMap!$A$11:$O$460,15,FALSE)","v":0},null,"SmComCAC",null,null,null,null,null,null,null,1,"SmComWX",null,null,null,null,null,null,"Demand Control Ventilation","Retro","Big Box"]
["Demand Control Ventilation-NR-Other","Demand Control Ventilation-DCV Only-Other-HtPmpHt-Heat-NR",{"$f":"VLOOKUP(B100,MMap!$A$11:$O$460,14,FALSE)","v":11.352979108754942},104,{"$f":"VLOOKUP(B100,MMap!$A$11:$O$460,15,FALSE)","v":0},null,"SmComCAC",null,null,null,null,null,null,null,1,"SmComWX",null,null,null,null,null,null,"Demand Control Ventilation","Retro","Small Box"]

{"sheet":"M-IO Retro_Out","index":6,"n_rows":21,"n_cols":39,"rows_kept":21,"cut":false,"hidden":false,"merged":[]}
["Shaped Savings Results; By Category and sorted by TRC BC ratio"]
[null,null,null,null,null,null,null,null,null,null,null,null,null,null,"Savings Allocation by Category and Month for Segments 1",null,null,null,null,null,null,null,null,null,null,null,null,"Savings Allocation by Category and Month for Segments 2"]
["Category","Measure","Busbar Savings","First Cost","Admin Cost","First Year Program Cost","PV Cost","PV Benefits","Unit Program Cost: First Year Program Cost in $/average annual kW saved","Utility System Net Levelized Cost (Net of T&D Capacity Benefits, Act Credit & Risk-Mitigation) in mills/kWh","TRC Net Levelized Cost (Net of All Benefits) in mills/kWh","TRC B/C Ratio","Net Electric & Gas System CO2 Avoided (Lifetime Tons)","Wholesale KW","Jan","Feb","Mar","Apr","May","Jun","Jul","Aug","Sep","Oct","Nov","Dec",null,"Jan","Feb","Mar","Apr","May","Jun","Jul","Aug","Sep","Oct","Nov","Dec"]
["Demand Control Ventilation-Retro-School K-12",null,0,0,0,0,0,0,0,9999,9999,9999,0,0,0,0,0,0,0,0,0,0,0,0,0,0,null,0,0,0,0,0,0,0,0,0,0,0,0]
["Demand Control Ventilation-Retro-University",null,0,0,0,0,0,0,0,9999,9999,9999,0,0,0,0,0,0,0,0,0,0,0,0,0,0,null,0,0,0,0,0,0,0,0,0,0,0,0]
["Demand Control Ventilation-Retro-Small Ret",null,377.54290728730024,160.45603378312583,32.091206756625169,192.54724053975099,245.39293828100597,252.13732668911473,4467.608302450968,16.228125672633592,36.981788158699914,1.0274840362373654,3.6009369537864111,7.097292051409744E-2,23.673878598048688,21.286657097682443,24.495470042734745,22.788649235501438,23.265861190243463,23.030053184414342,21.878943652157979,22.797028458363268,21.299711676153319,24.285718676335822,21.491540636163126,23.39866954257138,null,10.050974299337751,8.6355021167653749,8.2832646044609568,8.649109218301696,8.4859357903641364,7.4461733301087891,8.7427540162965798,7.1699426222930773,8.8269770991487384,7.928002378884992,9.5119737338882882,10.120116087079772]
["Demand Control Ventilation-Retro-Supermarket",null,512.37295025223909,282.95039365391995,56.590078730783993,339.54047238470395,432.72930814400246,341.58719009471417,5805.096730078616,24.281687851430078,51.38514173949627,0.7893784489888116,4.8772802112843925,9.6319130805848405E-2,32.128414511479747,28.888656329193338,33.243416870921386,30.92704753733317,31.574683852113001,31.254662892090511,29.692463269951013,30.938419190874185,28.906373025114029,32.958758029907926,29.166708918828093,31.754921398593012,null,13.640429353218437,11.719456546721796,11.241426182793955,11.737923085554803,11.516476333248272,10.105388615694746,11.865010790020408,9.7305089927911226,11.979312048519381,10.75929090460949,12.908938164862432,13.734263407804802]
["Demand Control Ventilation-Retro-Large Off",null,145.04873649444917,85.567118707686291,17.113423741537257,102.68054244922355,130.86180796603333,97.129169282314592,6201.2367263166079,26.667007997242244,55.408470004098852,0.74222701636160782,1.3876671582907785,2.7267185390552007E-2,9.0953004606622407,8.1781505005465558,9.4109488245068196,8.75520295633393,8.9385436832799776,8.8479482763988138,8.4057018985760035,8.7584221816602561,8.1831659572698037,9.33036415429609,8.2568649931552631,8.9895675095239547,null,3.8614978443965664,3.3176856109729189,3.182358989496159,3.3229133423038464,3.2602235152802908,2.8607557244587536,3.3588908679473075,2.754630263282638,3.3912486517000202,3.0458702992059541,3.6544184648633022,3.888061524331667]
["Demand Control Ventilation-Retro-Lodging",null,190.25305089347401,113.29185641505353,22.658371283010709,135.95022769806423,173.26254970614565,127.21310281100304,6259.6840841299399,27.018943326634925,56.106203430512835,0.73422157890875583,1.8171122089306491,3.5764980345271799E-2,11.92984305313154,10.726864094086867,12.343862959008225,11.483754453096102,11.724233160443182,11.605403772661953,11.025331690265029,11.487976947235998,10.733442613598884,12.238164145399997,10.830109890846437,11.791158518400692,null,5.0649303376947019,4.3516394878567759,4.1741384407928814,4.3584964371760035,4.2762693792955506,3.7523077938709037,4.4056863278478788,3.6131084236853814,4.4481283871714385,3.9951131671659041,4.793314847029337,5.0997725657123452]
["Demand Control Ventilation-Retro-Restaurant",null,484.64833691437099,298.97776099614475,59.79555219922895,358.7733131953737,457.24071274679517,324.17861580023595,6484.8138004582934,28.37454097614966,58.498402543503737,0.70898895650124527,4.6307945656693148,9.1107281395536907E-2,30.389938916601029,27.325484764060658,31.444608252468498,29.253578174377314,29.866170745333442,29.563466190035808,28.085797533980799,29.264334505237297,27.342242805657804,31.175352364121494,27.588491866748019,30.036655598423483,null,12.902342712629167,11.085314168347111,10.633150132837143,11.102781478691217,10.893317258990288,9.5585838090375912,11.222992439440022,9.2039890052059601,11.331108831633394,10.177103300886285,12.210432673799584,12.991099385827523]
["Demand Control Ventilation-Retro-Xlarge Ret",null,761.61537749468994,530.18231736713574,106.03646347342715,636.21878084056289,810.83268491606191,508.50301379698107,7317.7048216863086,33.389716800525868,67.505143780900681,0.62713679808013878,7.2620063504045262,0.14317330985670251,47.757194314064186,42.941464580910122,49.414586536810432,45.971425644828507,46.934102882410016,46.458408597312108,44.136281220462685,45.988329008286932,42.967799515345966,48.991456177276554,43.354775096060848,47.202016492864097,null,20.2757790900686,17.420354289722052,16.709787356206935,17.447803826114239,17.118634903808946,15.02112740628478,17.636712998551729,14.463888611043437,17.80661579318005,15.993118684066461,19.188456003868339,20.415258465141914]
["Demand Control Ventilation-Retro-Medium Ret",null,376.99052214310177,270.65720556411748,54.131441112823495,324.78864667694097,413.92875901491789,251.76970872651029,7547.0028496101377,34.770413550654368,69.946766956221481,0.60824405949874227,3.5956892452573292,7.0869079636211391E-2,23.639241213553557,21.255512470347519,24.459630583190961,22.755307035049338,23.231820778305078,22.996357784491252,21.846932447044779,22.763673998223229,21.268547948591447,24.25018610519211,21.460096242574458,23.364434817988165,null,10.036268662493541,8.6228674652067738,8.2711453135812913,8.6364546581165573,8.4735199701361807,7.4352787921654535,8.7299624438825116,7.1594522390469262,8.8140622994699864,7.9164028741592043,9.4980567117930814,10.105309288498299]
["Demand Control Ventilation-Retro-Small Off",null,149.6987056194283,109.31357768762632,21.862715537525265,131.1762932251516,167.17838145639519,100.22377128935985,7676.1139910831271,35.547844281529891,71.206599212828948,0.59950198354744222,1.4318422830083772,2.8141316205169624E-2,9.3868773978119595,8.4403254649484669,9.7126448097896017,9.0358770553560657,9.2250953151938457,9.1315956028010099,8.6751717005666791,9.0391994825353397,8.4455017070702922,9.6294767580377254,8.5215633849869103,9.2777548621094201,null,3.985289655249773,3.424043901505164,3.2843789822475151,3.4294392233292585,3.3647396872440805,2.9524657669888357,3.4665701156788256,2.8429381381705214,3.4999652245337014,3.1435147406005934,3.771571729635232,4.0127049130374584]
["Demand Control Ventilation-Retro-Residential Care",null,132.82969453499928,101.04962242912291,20.209924485824583,121.25954691494749,154.53992707799591,88.997271896425431,7996.9590737487706,37.47978310779105,74.603964615879462,0.57588529760020357,1.271585161189196,2.497017205244545E-2,8.3291037970540174,7.4892154120240972,8.6181616459071311,8.0176564263023646,8.1855523580052942,8.1025887933915524,7.6975976663046799,8.0206044610599907,7.4938083619566731,8.5443655040930668,7.5612989217559576,8.2322778891460224,null,3.5362016348097112,3.0382006553056735,2.914274075677044,3.0429879976333649,2.9855792205889031,2.6197629721073015,3.0759347426850123,2.522577619576162,3.1055666763066254,2.7892833210045698,3.3465668169362495,3.560527565367817]
["Demand Control Ventilation-Retro-Medium Off",null,116.67617215474152,117.16308674540795,23.432617349081593,140.59570409448955,179.18300382139699,78.246937553287282,10555.868821564503,52.888020172328623,101.95150814870991,0.43668727437609506,1.1181252463817792,2.1933530023717573E-2,7.3161950113777028,6.5784461055658463,7.5701003105920917,7.0426229974227468,7.1901009743918936,7.1172266733455016,6.7614868319602603,7.0452125193824475,6.5824805032877354,7.5052785749342981,6.6417634836599184,7.2311441773781127,null,3.1061614058611182,2.6687227124932509,2.5598669405221095,2.6729278624000155,2.6225006113468416,2.3011715611351455,2.7018679281815525,2.2158049948523728,2.7278962993271492,2.4500764086612232,2.9395882255628898,3.1275290410992911]
["Demand Control Ventilation-Retro-Large Ret",null,350.22105705344597,368.92172693708437,73.784345387416877,442.70607232450124,564.20930041905751,234.71588628993723,11073.306745718626,56.003724510222717,107.52309954890019,0.41600853817121719,3.3537233220337694,6.5836785077523594E-2,21.960658317583651,19.746194156976962,22.722793213168,21.139490823500321,21.582168124549742,21.363424963258424,20.295618392429798,21.147263662643411,19.758304007760039,22.52822103649423,19.936250778448478,21.705365463554219,null,9.3236100469301384,8.010572099608801,7.6838251484357665,8.0231944887240552,7.8718295198363224,6.907312107678945,8.1100624433546198,6.6510715357742995,8.188190509159698,7.3542723750401473,8.823615624732005,9.3877482138038371]
["Demand Control Ventilation-Retro-MiniMart",null,185.53657059248951,223.59312454718,44.718624909436002,268.31174945661598,341.95145248463422,124.07423693612897,12668.181360333392,65.607113676711961,124.70393728670334,0.36284167250818833,1.7723052220616697,3.4878346336138247E-2,11.634095523776876,10.460939090763654,12.037851642969921,11.199065711417539,11.433582816148094,11.317699275826422,10.752007507106086,11.20318352754918,10.467354525071293,11.934773162491066,10.561625366063309,11.498849056782854,null,4.9393678615535359,4.2437598936790479,4.0706591975580118,4.2504468553621377,4.1702582525649543,3.6592859699899716,4.2964668820622451,3.5235374306022016,4.3378567788276081,3.8960720613089883,4.6744858719024736,4.9733463311120323]
["Demand Control Ventilation-Retro-Other",null,67.138908643965635,105.22900231205924,21.045800462411847,126.27480277447108,160.9316487570477,45.27938207846185,16475.800614667685,88.534338903142796,165.04683406747512,0.28135784619231974,0.64751678964994408,1.2621199695761599E-2,4.2099542641737502,3.7854317976345104,4.3560588575397823,4.0525328634432922,4.1373960385018353,4.0954620176123111,3.8907588269719251,4.0540229507085259,3.7877533090029516,4.3187585201349865,3.8218664833541909,4.1610135073033723,null,1.7873768311917198,1.5356617129376675,1.4730228930760938,1.538081480146434,1.5090641534798102,1.3241619463847465,1.5547344470442515,1.2750395078519943,1.5697119390224576,1.4098461848206636,1.6915257132809829,1.7996723983473737]
["Demand Control Ventilation-Retro-Assembly",null,104.08873282021779,218.75821636386075,43.751643272772156,262.50985963663288,334.55720062977912,69.869867946754795,22092.558033046222,122.35512133216369,225.40734448008473,0.20884281616186992,0.99854344109822235,1.9567263000495896E-2,6.5268979409945134,5.8687400041399007,6.7534110358577317,6.2828398463401891,6.4144073760089615,6.3493950130646413,6.0320336476750898,6.2851500014851309,5.8723391567244345,6.6955824989832236,5.9252264788810303,6.4510226926654965,null,2.7710576949880759,2.3808114395760813,2.2836994144265468,2.384562922994081,2.3395759426638509,2.0529130102315043,2.4103808318207336,1.9767560919380041,2.4336011699573525,2.1857534746000229,2.6224550202613006,2.7901201139398761]
["Demand Control Ventilation-Retro-Hospital",null,29.793507878887006,113.96501889407503,22.793003778815006,136.75802267289004,174.29204865843113,20.425635944816495,40210.111662060197,231.44828555321885,418.30386323535356,0.11719201249877806,0.29273212504564422,5.6007733841898933E-3,1.8682059043372314,1.6798201574274452,1.9330411606961937,1.7983487106816138,1.8360075247106276,1.8173989174663434,1.7265599949047716,1.7990099506030488,1.6808503494374663,1.9164887930929591,1.6959883841379879,1.8464879935926792,null,0.79316489913538146,0.68146400154250508,0.65366744942744903,0.68253779548487858,0.66966109003750773,0.58760903594285863,0.68992770262662317,0.56581050229053598,0.69657410237114392,0.6256322043931305,0.75063008446007118,0.79862117008655209]
["Demand Control Ventilation-Retro-Warehouse",null,1.1095271309425907,21.788037870303398,4.3576075740606797,26.145645444364078,33.321468232214613,1.336153411309654,206426.54668394956,1232.3050906928752,2159.5021027350244,4.0098875655721684E-2,2.0231729262188417E-2,2.0857597733308535E-4,6.9573047439579663E-2,6.2557455380766999E-2,7.1987549158018291E-2,6.6971525927997475E-2,6.8373961520817414E-2,6.7680966433078193E-2,6.4298073437148703E-2,6.6996150877697142E-2,6.259582031549861E-2,7.137112960071805E-2,6.3159569313356007E-2,6.8764260126033872E-2,null,2.9537910691130223E-2,2.5378105913064393E-2,2.4342946547350034E-2,2.541809460848584E-2,2.4938558794539649E-2,2.1882893763833532E-2,2.5693298941666165E-2,2.10711040074767E-2,2.5940814637690046E-2,2.3298898121946493E-2,2.7953890068794739E-2,2.9741105315902416E-2]

{"sheet":"M-IO Retro","index":7,"n_rows":474,"n_cols":105,"rows_kept":474,"cut":false,"hidden":false,"merged":[[8,8,8,13],[8,14,8,15],[8,17,8,19]]}
["Data Set Name"]
["Measure Index Name"]
["Costs must be denominated in the same year as 'Input Cost Reference Year' =",null,2012]
[]
["Retrofit Data",null,"name","column","referenece"]
[null,"Weighting Factor in MMap","WT BTYPE",{"$f":"MATCH(C6,MMap!$A$9:$BP$9,0)","v":13},{"$f":"LEFT(ADDRESS(11,MATCH(C6,MMap!$A$9:$BR$9,0),4,1),1)","v":"M"}]
[null,"Units are per thousand feet floor area for activity",1000]
[1,2,3,4,5,6,7,8,9,10,11,12,13,14,15,16,17,18,19,20,21,22,23,24,25,26,27,28,29,30,31,32,33,34,35,36,37,38,39,40,41,42,43,44,45,46,47,48,49,50,51,52,53,54,55,56,57,58,59,60,61,62,63,64,65,66,67,68,69,70,71,72,73,74,75,76,77,78,79,80,81,82,83,84,85,86,87,88,89,90,91,92,93,94,95,96,97,98,99,100,101,102,103,104,105]
["Input Data",null,null,null,null,null,null,null,"Periodic Replacement Costs and Savings and Replacement Period",null,null,null,null,null,"Gas Inputs",null,"Retro or LO","Early Retrofit Parameters"]
["Category Name","Measure Name","Savings (kwh/yr)","Life (yrs)","Capital Cost","Annual O&M","Shape Pointer","Non-E Val ($/yr)","Cost 1 ($)","Period 1 ","Cost 2 ($)","Period 2","Cost 3 ($)","Period 3","Savings (therms/yr)","Shape Pointer","R or L","Savings 2\n(kWh)","Remaining\nLife (yrs)","Salvage Value ($)"]
["Demand Control Ventilation-Retro-Large Off","Demand Control Ventilation-DCV Only-Large Off-ElecHt-Vent-Retro",{"$f":"VLOOKUP($B11,MMap!$A$11:$O$460,14,FALSE)","v":0.53891902232965772},15,{"$f":"VLOOKUP(B11,MMap!$A$11:$O$460,15,FALSE)","v":23.900346945102008},null,"C-All-HVAC-Vent-All-All-E",null,null,null,null,null,null,null,0,null,"R"]
["Demand Control Ventilation-Retro-Medium Off","Demand Control Ventilation-DCV Only-Medium Off-ElecHt-Vent-Retro",{"$f":"VLOOKUP(B12,MMap!$A$11:$O$460,14,FALSE)","v":0.58467482062629694},15,{"$f":"VLOOKUP(B12,MMap!$A$11:$O$460,15,FALSE)","v":25.929556174556225},null,"C-All-HVAC-Vent-All-All-E",null,null,null,null,null,null,null,0,null,"R"]
["Demand Control Ventilation-Retro-Small Off","Demand Control Ventilation-DCV Only-Small Off-ElecHt-Vent-Retro",{"$f":"VLOOKUP(B13,MMap!$A$11:$O$460,14,FALSE)","v":0.75525835627844862},15,{"$f":"VLOOKUP(B13,MMap!$A$11:$O$460,15,FALSE)","v":33.494710708505288},null,"C-All-HVAC-Vent-All-All-E",null,null,null,null,null,null,null,0,null,"R"]
["Demand Control Ventilation-Retro-Xlarge Ret","Demand Control Ventilation-DCV Only-Xlarge Ret-ElecHt-Vent-Retro",{"$f":"VLOOKUP(B14,MMap!$A$11:$O$460,14,FALSE)","v":0.27568943266472512},15,{"$f":"VLOOKUP(B14,MMap!$A$11:$O$460,15,FALSE)","v":1.8807267798531777},null,"C-All-HVAC-Vent-All-All-E",null,null,null,null,null,null,null,0,null,"R"]
["Demand Control Ventilation-Retro-Large Ret","Demand Control Ventilation-DCV Only-Large Ret-ElecHt-Vent-Retro",{"$f":"VLOOKUP(B15,MMap!$A$11:$O$460,14,FALSE)","v":5.750942587286826E-2},15,{"$f":"VLOOKUP(B15,MMap!$A$11:$O$460,15,FALSE)","v":0.39232376913271416},null,"C-All-HVAC-Vent-All-All-E",null,null,null,null,null,null,null,0,null,"R"]
["Demand Control Ventilation-Retro-Medium Ret","Demand Control Ventilation-DCV Only-Medium Ret-ElecHt-Vent-Retro",{"$f":"VLOOKUP(B16,MMap!$A$11:$O$460,14,FALSE)","v":0.62730168306369749},15,{"$f":"VLOOKUP(B16,MMap!$A$11:$O$460,15,FALSE)","v":9.1271198701145035},null,"C-All-HVAC-Vent-All-All-E",null,null,null,null,null,null,null,0,null,"R"]
["Demand Control Ventilation-Retro-Small Ret","Demand Control Ventilation-DCV Only-Small Ret-ElecHt-Vent-Retro",{"$f":"VLOOKUP(B17,MMap!$A$11:$O$460,14,FALSE)","v":0.84651049808646794},15,{"$f":"VLOOKUP(B17,MMap!$A$11:$O$460,15,FALSE)","v":12.316566328359416},null,"C-All-HVAC-Vent-All-All-E",null,null,null,null,null,null,null,0,null,"R"]
["Demand Control Ventilation-Retro-School K-12","Demand Control Ventilation-DCV Only-School K-12-ElecHt-Vent-Retro",{"$f":"VLOOKUP(B18,MMap!$A$11:$O$460,14,FALSE)","v":0},15,{"$f":"VLOOKUP(B18,MMap!$A$11:$O$460,15,FALSE)","v":0},null,"C-All-HVAC-Vent-All-All-E",null,null,null,null,null,null,null,0,null,"R"]
["Demand Control Ventilation-Retro-University","Demand Control Ventilation-DCV Only-University-ElecHt-Vent-Retro",{"$f":"VLOOKUP(B19,MMap!$A$11:$O$460,14,FALSE)","v":0},15,{"$f":"VLOOKUP(B19,MMap!$A$11:$O$460,15,FALSE)","v":0},null,"C-All-HVAC-Vent-All-All-E",null,null,null,null,null,null,null,0,null,"R"]
["Demand Control Ventilation-Retro-Warehouse","Demand Control Ventilation-DCV Only-Warehouse-ElecHt-Vent-Retro",{"$f":"VLOOKUP(B20,MMap!$A$11:$O$460,14,FALSE)","v":3.140770992691078E-3},15,{"$f":"VLOOKUP(B20,MMap!$A$11:$O$460,15,FALSE)","v":0.13928904583091797},null,"C-All-HVAC-Vent-All-All-E",null,null,null,null,null,null,null,0,null,"R"]
["Demand Control Ventilation-Retro-Supermarket","Demand Control Ventilation-DCV Only-Supermarket-ElecHt-Vent-Retro",{"$f":"VLOOKUP(B21,MMap!$A$11:$O$460,14,FALSE)","v":2.9300012737182825E-2},15,{"$f":"VLOOKUP(B21,MMap!$A$11:$O$460,15,FALSE)","v":1.2994168713647944},null,"C-All-HVAC-Vent-All-All-E",null,null,null,null,null,null,null,0,null,"R"]
["Demand Control Ventilation-Retro-MiniMart","Demand Control Ventilation-DCV Only-MiniMart-ElecHt-Vent-Retro",{"$f":"VLOOKUP(B22,MMap!$A$11:$O$460,14,FALSE)","v":1.5712327578845074E-2},15,{"$f":"VLOOKUP(B22,MMap!$A$11:$O$460,15,FALSE)","v":0.69682097845820612},null,"C-All-HVAC-Vent-All-All-E",null,null,null,null,null,null,null,0,null,"R"]
["Demand Control Ventilation-Retro-Restaurant","Demand Control Ventilation-DCV Only-Restaurant-ElecHt-Vent-Retro",{"$f":"VLOOKUP(B23,MMap!$A$11:$O$460,14,FALSE)","v":0.36990730916453624},15,{"$f":"VLOOKUP(B23,MMap!$A$11:$O$460,15,FALSE)","v":2.5234720666831976},null,"C-All-HVAC-Vent-All-All-E",null,null,null,null,null,null,null,0,null,"R"]
["Demand Control Ventilation-Retro-Lodging","Demand Control Ventilation-DCV Only-Lodging-ElecHt-Vent-Retro",{"$f":"VLOOKUP(B24,MMap!$A$11:$O$460,14,FALSE)","v":1.1413615567838136},15,{"$f":"VLOOKUP(B24,MMap!$A$11:$O$460,15,FALSE)","v":50.617877763921861},null,"C-All-HVAC-Vent-All-All-E",null,null,null,null,null,null,null,0,null,"R"]
["Demand Control Ventilation-Retro-Hospital","Demand Control Ventilation-DCV Only-Hospital-ElecHt-Vent-Retro",{"$f":"VLOOKUP(B25,MMap!$A$11:$O$460,14,FALSE)","v":0.20557999999999998},15,{"$f":"VLOOKUP(B25,MMap!$A$11:$O$460,15,FALSE)","v":9.1172015115260017},null,"C-All-HVAC-Vent-All-All-E",null,null,null,null,null,null,null,0,null,"R"]
["Demand Control Ventilation-Retro-Residential Care","Demand Control Ventilation-DCV Only-Residential Care-ElecHt-Vent-Retro",{"$f":"VLOOKUP(B26,MMap!$A$11:$O$460,14,FALSE)","v":0.77437283439189486},15,{"$f":"VLOOKUP(B26,MMap!$A$11:$O$460,15,FALSE)","v":34.342412570300901},null,"C-All-HVAC-Vent-All-All-E",null,null,null,null,null,null,null,0,null,"R"]
["Demand Control Ventilation-Retro-Assembly","Demand Control Ventilation-DCV Only-Assembly-ElecHt-Vent-Retro",{"$f":"VLOOKUP(B27,MMap!$A$11:$O$460,14,FALSE)","v":0.52484747871120896},15,{"$f":"VLOOKUP(B27,MMap!$A$11:$O$460,15,FALSE)","v":23.276292568471867},null,"C-All-HVAC-Vent-All-All-E",null,null,null,null,null,null,null,0,null,"R"]
["Demand Control Ventilation-Retro-Other","Demand Control Ventilation-DCV Only-Other-ElecHt-Vent-Retro",{"$f":"VLOOKUP(B28,MMap!$A$11:$O$460,14,FALSE)","v":0.4019348840472991},15,{"$f":"VLOOKUP(B28,MMap!$A$11:$O$460,15,FALSE)","v":17.825281313216578},null,"C-All-HVAC-Vent-All-All-E",null,null,null,null,null,null,null,0,null,"R"]
["Demand Control Ventilation-Retro-Large Off","Demand Control Ventilation-DCV Only-Large Off-ElecHt-Heat-Retro",{"$f":"VLOOKUP(B29,MMap!$A$11:$O$460,14,FALSE)","v":62.226755891322888},15,{"$f":"VLOOKUP(B29,MMap!$A$11:$O$460,15,FALSE)","v":0},null,"C-All-HVAC-Vent-All-All-E",null,null,null,null,null,null,null,0,null,"R"]
["Demand Control Ventilation-Retro-Medium Off","Demand Control Ventilation-DCV Only-Medium Off-ElecHt-Heat-Retro",{"$f":"VLOOKUP(B30,MMap!$A$11:$O$460,14,FALSE)","v":67.509989129053949},15,{"$f":"VLOOKUP(B30,MMap!$A$11:$O$460,15,FALSE)","v":0},null,"C-All-HVAC-Vent-All-All-E",null,null,null,null,null,null,null,0,null,"R"]
["Demand Control Ventilation-Retro-Small Off","Demand Control Ventilation-DCV Only-Small Off-ElecHt-Heat-Retro",{"$f":"VLOOKUP(B31,MMap!$A$11:$O$460,14,FALSE)","v":87.206566151366033},15,{"$f":"VLOOKUP(B31,MMap!$A$11:$O$460,15,FALSE)","v":0},null,"C-All-HVAC-Vent-All-All-E",null,null,null,null,null,null,null,0,null,"R"]
["Demand Control Ventilation-Retro-Xlarge Ret","Demand Control Ventilation-DCV Only-Xlarge Ret-ElecHt-Heat-Retro",{"$f":"VLOOKUP(B32,MMap!$A$11:$O$460,14,FALSE)","v":19.728979743443521},15,{"$f":"VLOOKUP(B32,MMap!$A$11:$O$460,15,FALSE)","v":0},null,"C-All-HVAC-Vent-All-All-E",null,null,null,null,null,null,null,0,null,"R"]
["Demand Control Ventilation-Retro-Large Ret","Demand Control Ventilation-DCV Only-Large Ret-ElecHt-Heat-Retro",{"$f":"VLOOKUP(B33,MMap!$A$11:$O$460,14,FALSE)","v":4.1155088431797502},15,{"$f":"VLOOKUP(B33,MMap!$A$11:$O$460,15,FALSE)","v":0},null,"C-All-HVAC-Vent-All-All-E",null,null,null,null,null,null,null,0,null,"R"]
["Demand Control Ventilation-Retro-Medium Ret","Demand Control Ventilation-DCV Only-Medium Ret-ElecHt-Heat-Retro",{"$f":"VLOOKUP(B34,MMap!$A$11:$O$460,14,FALSE)","v":58.661461500061939},15,{"$f":"VLOOKUP(B34,MMap!$A$11:$O$460,15,FALSE)","v":0},null,"C-All-HVAC-Vent-All-All-E",null,null,null,null,null,null,null,0,null,"R"]
["Demand Control Ventilation-Retro-Small Ret","Demand Control Ventilation-DCV Only-Small Ret-ElecHt-Heat-Retro",{"$f":"VLOOKUP(B35,MMap!$A$11:$O$460,14,FALSE)","v":79.16054481214465},15,{"$f":"VLOOKUP(B35,MMap!$A$11:$O$460,15,FALSE)","v":0},null,"C-All-HVAC-Vent-All-All-E",null,null,null,null,null,null,null,0,null,"R"]
["Demand Control Ventilation-Retro-School K-12","Demand Control Ventilation-DCV Only-School K-12-ElecHt-Heat-Retro",{"$f":"VLOOKUP(B36,MMap!$A$11:$O$460,14,FALSE)","v":0},15,{"$f":"VLOOKUP(B36,MMap!$A$11:$O$460,15,FALSE)","v":0},null,"C-All-HVAC-Vent-All-All-E",null,null,null,null,null,null,null,0,null,"R"]
["Demand Control Ventilation-Retro-University","Demand Control Ventilation-DCV Only-University-ElecHt-Heat-Retro",{"$f":"VLOOKUP(B37,MMap!$A$11:$O$460,14,FALSE)","v":0},15,{"$f":"VLOOKUP(B37,MMap!$A$11:$O$460,15,FALSE)","v":0},null,"C-All-HVAC-Vent-All-All-E",null,null,null,null,null,null,null,0,null,"R"]
["Demand Control Ventilation-Retro-Warehouse","Demand Control Ventilation-DCV Only-Warehouse-ElecHt-Heat-Retro",{"$f":"VLOOKUP(B38,MMap!$A$11:$O$460,14,FALSE)","v":0.36265186748814482},15,{"$f":"VLOOKUP(B38,MMap!$A$11:$O$460,15,FALSE)","v":0},null,"C-All-HVAC-Vent-All-All-E",null,null,null,null,null,null,null,0,null,"R"]
["Demand Control Ventilation-Retro-Supermarket","Demand Control Ventilation-DCV Only-Supermarket-ElecHt-Heat-Retro",{"$f":"VLOOKUP(B39,MMap!$A$11:$O$460,14,FALSE)","v":13.630990640461935},15,{"$f":"VLOOKUP(B39,MMap!$A$11:$O$460,15,FALSE)","v":0},null,"C-All-HVAC-Vent-All-All-E",null,null,null,null,null,null,null,0,null,"R"]
["Demand Control Ventilation-Retro-MiniMart","Demand Control Ventilation-DCV Only-MiniMart-ElecHt-Heat-Retro",{"$f":"VLOOKUP(B40,MMap!$A$11:$O$460,14,FALSE)","v":7.3097097973378498},15,{"$f":"VLOOKUP(B40,MMap!$A$11:$O$460,15,FALSE)","v":0},null,"C-All-HVAC-Vent-All-All-E",null,null,null,null,null,null,null,0,null,"R"]
["Demand Control Ventilation-Retro-Restaurant","Demand Control Ventilation-DCV Only-Restaurant-ElecHt-Heat-Retro",{"$f":"VLOOKUP(B41,MMap!$A$11:$O$460,14,FALSE)","v":26.471431055299245},15,{"$f":"VLOOKUP(B41,MMap!$A$11:$O$460,15,FALSE)","v":0},null,"C-All-HVAC-Vent-All-All-E",null,null,null,null,null,null,null,0,null,"R"]
["Demand Control Ventilation-Retro-Lodging","Demand Control Ventilation-DCV Only-Lodging-ElecHt-Heat-Retro",{"$f":"VLOOKUP(B42,MMap!$A$11:$O$460,14,FALSE)","v":131.78830962526612},15,{"$f":"VLOOKUP(B42,MMap!$A$11:$O$460,15,FALSE)","v":0},null,"C-All-HVAC-Vent-All-All-E",null,null,null,null,null,null,null,0,null,"R"]
["Demand Control Ventilation-Retro-Hospital","Demand Control Ventilation-DCV Only-Hospital-ElecHt-Heat-Retro",{"$f":"VLOOKUP(B43,MMap!$A$11:$O$460,14,FALSE)","v":23.737474362730733},15,{"$f":"VLOOKUP(B43,MMap!$A$11:$O$460,15,FALSE)","v":0},null,"C-All-HVAC-Vent-All-All-E",null,null,null,null,null,null,null,0,null,"R"]
["Demand Control Ventilation-Retro-Residential Care","Demand Control Ventilation-DCV Only-Residential Care-ElecHt-Heat-Retro",{"$f":"VLOOKUP(B44,MMap!$A$11:$O$460,14,FALSE)","v":89.413636071469668},15,{"$f":"VLOOKUP(B44,MMap!$A$11:$O$460,15,FALSE)","v":0},null,"C-All-HVAC-Vent-All-All-E",null,null,null,null,null,null,null,0,null,"R"]
["Demand Control Ventilation-Retro-Assembly","Demand Control Ventilation-DCV Only-Assembly-ElecHt-Heat-Retro",{"$f":"VLOOKUP(B45,MMap!$A$11:$O$460,14,FALSE)","v":60.601972809860811},15,{"$f":"VLOOKUP(B45,MMap!$A$11:$O$460,15,FALSE)","v":0},null,"C-All-HVAC-Vent-All-All-E",null,null,null,null,null,null,null,0,null,"R"]
["Demand Control Ventilation-Retro-Other","Demand Control Ventilation-DCV Only-Other-ElecHt-Heat-Retro",{"$f":"VLOOKUP(B46,MMap!$A$11:$O$460,14,FALSE)","v":46.409762649868242},15,{"$f":"VLOOKUP(B46,MMap!$A$11:$O$460,15,FALSE)","v":0},null,"C-All-HVAC-Vent-All-All-E",null,null,null,null,null,null,null,0,null,"R"]
["Demand Control Ventilation-Retro-Large Off","Demand Control Ventilation-DCV Only-Large Off-GasHt-Vent-Retro",{"$f":"VLOOKUP(B47,MMap!$A$11:$O$460,14,FALSE)","v":1.3904984904551232},15,{"$f":"VLOOKUP(B47,MMap!$A$11:$O$460,15,FALSE)","v":61.666771762584276},null,"C-All-HVAC-Vent-All-All-E",null,null,null,null,null,null,null,{"$f":"VLOOKUP($B47,MMap!$A$11:$AD$460,26,FALSE)","v":2.1319999999999995E-2},"C-All-HVAC-Vent-All-All-E","R"]
["Demand Control Ventilation-Retro-Medium Off","Demand Control Ventilation-DCV Only-Medium Off-GasHt-Vent-Retro",{"$f":"VLOOKUP(B48,MMap!$A$11:$O$460,14,FALSE)","v":1.3587117414120564},15,{"$f":"VLOOKUP(B48,MMap!$A$11:$O$460,15,FALSE)","v":60.257071420031764},null,"C-All-HVAC-Vent-All-All-E",null,null,null,null,null,null,null,{"$f":"VLOOKUP($B48,MMap!$A$11:$AD$460,26,FALSE)","v":2.1319999999999995E-2},"C-All-HVAC-Vent-All-All-E","R"]
["Demand Control Ventilation-Retro-Small Off","Demand Control Ventilation-DCV Only-Small Off-GasHt-Vent-Retro",{"$f":"VLOOKUP(B49,MMap!$A$11:$O$460,14,FALSE)","v":0.80734713269307057},15,{"$f":"VLOOKUP(B49,MMap!$A$11:$O$460,15,FALSE)","v":35.804779154175733},null,"C-All-HVAC-Vent-All-All-E",null,null,null,null,null,null,null,{"$f":"VLOOKUP($B49,MMap!$A$11:$AD$460,26,FALSE)","v":2.1319999999999995E-2},"C-All-HVAC-Vent-All-All-E","R"]
["Demand Control Ventilation-Retro-Xlarge Ret","Demand Control Ventilation-DCV Only-Xlarge Ret-GasHt-Vent-Retro",{"$f":"VLOOKUP(B50,MMap!$A$11:$O$460,14,FALSE)","v":4.7654660287526811},15,{"$f":"VLOOKUP(B50,MMap!$A$11:$O$460,15,FALSE)","v":32.509550664045136},null,"C-All-HVAC-Vent-All-All-E",null,null,null,null,null,null,null,{"$f":"VLOOKUP($B50,MMap!$A$11:$AD$460,26,FALSE)","v":8.5900000000000004E-2},"C-All-HVAC-Vent-All-All-E","R"]
["Demand Control Ventilation-Retro-Large Ret","Demand Control Ventilation-DCV Only-Large Ret-GasHt-Vent-Retro",{"$f":"VLOOKUP(B51,MMap!$A$11:$O$460,14,FALSE)","v":5.3378664435332857},15,{"$f":"VLOOKUP(B51,MMap!$A$11:$O$460,15,FALSE)","v":36.414411211188963},null,"C-All-HVAC-Vent-All-All-E",null,null,null,null,null,null,null,{"$f":"VLOOKUP($B51,MMap!$A$11:$AD$460,26,FALSE)","v":8.5900000000000004E-2},"C-All-HVAC-Vent-All-All-E","R"]
["Demand Control Ventilation-Retro-Medium Ret","Demand Control Ventilation-DCV Only-Medium Ret-GasHt-Vent-Retro",{"$f":"VLOOKUP(B52,MMap!$A$11:$O$460,14,FALSE)","v":4.2313020830533539},15,{"$f":"VLOOKUP(B52,MMap!$A$11:$O$460,15,FALSE)","v":61.564638452869644},null,"C-All-HVAC-Vent-All-All-E",null,null,null,null,null,null,null,{"$f":"VLOOKUP($B52,MMap!$A$11:$AD$460,26,FALSE)","v":5.2629999999999996E-2},"C-All-HVAC-Vent-All-All-E","R"]
["Demand Control Ventilation-Retro-Small Ret","Demand Control Ventilation-DCV Only-Small Ret-GasHt-Vent-Retro",{"$f":"VLOOKUP(B53,MMap!$A$11:$O$460,14,FALSE)","v":1.7567925269637115},15,{"$f":"VLOOKUP(B53,MMap!$A$11:$O$460,15,FALSE)","v":25.560996269303786},null,"C-All-HVAC-Vent-All-All-E",null,null,null,null,null,null,null,{"$f":"VLOOKUP($B53,MMap!$A$11:$AD$460,26,FALSE)","v":5.2629999999999996E-2},"C-All-HVAC-Vent-All-All-E","R"]
["Demand Control Ventilation-Retro-School K-12","Demand Control Ventilation-DCV Only-School K-12-GasHt-Vent-Retro",{"$f":"VLOOKUP(B54,MMap!$A$11:$O$460,14,FALSE)","v":0},15,{"$f":"VLOOKUP(B54,MMap!$A$11:$O$460,15,FALSE)","v":0},null,"C-All-HVAC-Vent-All-All-E",null,null,null,null,null,null,null,{"$f":"VLOOKUP($B54,MMap!$A$11:$AD$460,26,FALSE)","v":0},"C-All-HVAC-Vent-All-All-E","R"]
["Demand Control Ventilation-Retro-University","Demand Control Ventilation-DCV Only-University-GasHt-Vent-Retro",{"$f":"VLOOKUP(B55,MMap!$A$11:$O$460,14,FALSE)","v":0},15,{"$f":"VLOOKUP(B55,MMap!$A$11:$O$460,15,FALSE)","v":0},null,"C-All-HVAC-Vent-All-All-E",null,null,null,null,null,null,null,{"$f":"VLOOKUP($B55,MMap!$A$11:$AD$460,26,FALSE)","v":0},"C-All-HVAC-Vent-All-All-E","R"]
["Demand Control Ventilation-Retro-Warehouse","Demand Control Ventilation-DCV Only-Warehouse-GasHt-Vent-Retro",{"$f":"VLOOKUP(B56,MMap!$A$11:$O$460,14,FALSE)","v":0.48490455567019158},15,{"$f":"VLOOKUP(B56,MMap!$A$11:$O$460,15,FALSE)","v":21.504876680134821},null,"C-All-HVAC-Vent-All-All-E",null,null,null,null,null,null,null,{"$f":"VLOOKUP($B56,MMap!$A$11:$AD$460,26,FALSE)","v":2.1319999999999995E-2},"C-All-HVAC-Vent-All-All-E","R"]
["Demand Control Ventilation-Retro-Supermarket","Demand Control Ventilation-DCV Only-Supermarket-GasHt-Vent-Retro",{"$f":"VLOOKUP(B57,MMap!$A$11:$O$460,14,FALSE)","v":0.351136765030864},15,{"$f":"VLOOKUP(B57,MMap!$A$11:$O$460,15,FALSE)","v":15.57245181871653},null,"C-All-HVAC-Vent-All-All-E",null,null,null,null,null,null,null,{"$f":"VLOOKUP($B57,MMap!$A$11:$AD$460,26,FALSE)","v":2.1319999999999995E-2},"C-All-HVAC-Vent-All-All-E","R"]
["Demand Control Ventilation-Retro-MiniMart","Demand Control Ventilation-DCV Only-MiniMart-GasHt-Vent-Retro",{"$f":"VLOOKUP(B58,MMap!$A$11:$O$460,14,FALSE)","v":1.3753565969617547},15,{"$f":"VLOOKUP(B58,MMap!$A$11:$O$460,15,FALSE)","v":60.995248782503019},null,"C-All-HVAC-Vent-All-All-E",null,null,null,null,null,null,null,{"$f":"VLOOKUP($B58,MMap!$A$11:$AD$460,26,FALSE)","v":2.1319999999999995E-2},"C-All-HVAC-Vent-All-All-E","R"]
["Demand Control Ventilation-Retro-Restaurant","Demand Control Ventilation-DCV Only-Restaurant-GasHt-Vent-Retro",{"$f":"VLOOKUP(B59,MMap!$A$11:$O$460,14,FALSE)","v":9.7694695074012898},15,{"$f":"VLOOKUP(B59,MMap!$A$11:$O$460,15,FALSE)","v":66.646380856655824},null,"C-All-HVAC-Vent-All-All-E",null,null,null,null,null,null,null,{"$f":"VLOOKUP($B59,MMap!$A$11:$AD$460,26,FALSE)","v":8.5900000000000004E-2},"C-All-HVAC-Vent-All-All-E","R"]
["Demand Control Ventilation-Retro-Lodging","Demand Control Ventilation-DCV Only-Lodging-GasHt-Vent-Retro",{"$f":"VLOOKUP(B60,MMap!$A$11:$O$460,14,FALSE)","v":0.6371547092854527},15,{"$f":"VLOOKUP(B60,MMap!$A$11:$O$460,15,FALSE)","v":28.256969931769824},null,"C-All-HVAC-Vent-All-All-E",null,null,null,null,null,null,null,{"$f":"VLOOKUP($B60,MMap!$A$11:$AD$460,26,FALSE)","v":2.1319999999999995E-2},"C-All-HVAC-Vent-All-All-E","R"]
["Demand Control Ventilation-Retro-Hospital","Demand Control Ventilation-DCV Only-Hospital-GasHt-Vent-Retro",{"$f":"VLOOKUP(B61,MMap!$A$11:$O$460,14,FALSE)","v":2.3384724999999995},15,{"$f":"VLOOKUP(B61,MMap!$A$11:$O$460,15,FALSE)","v":103.70816719360828},null,"C-All-HVAC-Vent-All-All-E",null,null,null,null,null,null,null,{"$f":"VLOOKUP($B61,MMap!$A$11:$AD$460,26,FALSE)","v":2.1319999999999995E-2},"C-All-HVAC-Vent-All-All-E","R"]
["Demand Control Ventilation-Retro-Residential Care","Demand Control Ventilation-DCV Only-Residential Care-GasHt-Vent-Retro",{"$f":"VLOOKUP(B62,MMap!$A$11:$O$460,14,FALSE)","v":0.92409319076744389},15,{"$f":"VLOOKUP(B62,MMap!$A$11:$O$460,15,FALSE)","v":40.982312655199081},null,"C-All-HVAC-Vent-All-All-E",null,null,null,null,null,null,null,{"$f":"VLOOKUP($B62,MMap!$A$11:$AD$460,26,FALSE)","v":2.1319999999999995E-2},"C-All-HVAC-Vent-All-All-E","R"]
["Demand Control Ventilation-Retro-Assembly","Demand Control Ventilation-DCV Only-Assembly-GasHt-Vent-Retro",{"$f":"VLOOKUP(B63,MMap!$A$11:$O$460,14,FALSE)","v":3.8383907158133432},15,{"$f":"VLOOKUP(B63,MMap!$A$11:$O$460,15,FALSE)","v":170.22755927639261},null,"C-All-HVAC-Vent-All-All-E",null,null,null,null,null,null,null,{"$f":"VLOOKUP($B63,MMap!$A$11:$AD$460,26,FALSE)","v":2.1319999999999995E-2},"C-All-HVAC-Vent-All-All-E","R"]
["Demand Control Ventilation-Retro-Other","Demand Control Ventilation-DCV Only-Other-GasHt-Vent-Retro",{"$f":"VLOOKUP(B64,MMap!$A$11:$O$460,14,FALSE)","v":1.7219537588184211},15,{"$f":"VLOOKUP(B64,MMap!$A$11:$O$460,15,FALSE)","v":76.366375195433363},null,"C-All-HVAC-Vent-All-All-E",null,null,null,null,null,null,null,{"$f":"VLOOKUP($B64,MMap!$A$11:$AD$460,26,FALSE)","v":2.1319999999999995E-2},"C-All-HVAC-Vent-All-All-E","R"]
["Demand Control Ventilation-Retro-Large Off","Demand Control Ventilation-DCV Only-Large Off-HtPmpHt-heat-Retro",{"$f":"VLOOKUP(B65,MMap!$A$11:$O$460,14,FALSE)","v":35.399290310499765},15,{"$f":"VLOOKUP(B65,MMap!$A$11:$O$460,15,FALSE)","v":0},null,"C-All-HVAC-Vent-All-All-E",null,null,null,null,null,null,null,0,null,"R"]
["Demand Control Ventilation-Retro-Medium Off","Demand Control Ventilation-DCV Only-Medium Off-HtPmpHt-Vent-Retro",{"$f":"VLOOKUP(B66,MMap!$A$11:$O$460,14,FALSE)","v":0.69847534511274512},15,{"$f":"VLOOKUP(B66,MMap!$A$11:$O$460,15,FALSE)","v":30.976459150819956},null,"C-All-HVAC-Vent-All-All-E",null,null,null,null,null,null,null,0,null,"R"]
["Demand Control Ventilation-Retro-Small Off","Demand Control Ventilation-DCV Only-Small Off-HtPmpHt-Vent-Retro",{"$f":"VLOOKUP(B67,MMap!$A$11:$O$460,14,FALSE)","v":0.90226109016596712},15,{"$f":"VLOOKUP(B67,MMap!$A$11:$O$460,15,FALSE)","v":40.014087824945307},null,"C-All-HVAC-Vent-All-All-E",null,null,null,null,null,null,null,0,null,"R"]
["Demand Control Ventilation-Retro-Xlarge Ret","Demand Control Ventilation-DCV Only-Xlarge Ret-HtPmpHt-Vent-Retro",{"$f":"VLOOKUP(B68,MMap!$A$11:$O$460,14,FALSE)","v":0.16093616297993293},15,{"$f":"VLOOKUP(B68,MMap!$A$11:$O$460,15,FALSE)","v":1.0978910168503657},null,"C-All-HVAC-Vent-All-All-E",null,null,null,null,null,null,null,0,null,"R"]
["Demand Control Ventilation-Retro-Large Ret","Demand Control Ventilation-DCV Only-Large Ret-HtPmpHt-Vent-Retro",{"$f":"VLOOKUP(B69,MMap!$A$11:$O$460,14,FALSE)","v":3.3571639818396767E-2},15,{"$f":"VLOOKUP(B69,MMap!$A$11:$O$460,15,FALSE)","v":0.22902249621888685},null,"C-All-HVAC-Vent-All-All-E",null,null,null,null,null,null,null,0,null,"R"]
["Demand Control Ventilation-Retro-Medium Ret","Demand Control Ventilation-DCV Only-Medium Ret-HtPmpHt-Vent-Retro",{"$f":"VLOOKUP(B70,MMap!$A$11:$O$460,14,FALSE)","v":0.3661929473586345},15,{"$f":"VLOOKUP(B70,MMap!$A$11:$O$460,15,FALSE)","v":5.3280375557248494},null,"C-All-HVAC-Vent-All-All-E",null,null,null,null,null,null,null,0,null,"R"]
["Demand Control Ventilation-Retro-Small Ret","Demand Control Ventilation-DCV Only-Small Ret-HtPmpHt-Vent-Retro",{"$f":"VLOOKUP(B71,MMap!$A$11:$O$460,14,FALSE)","v":0.49415804649265183},15,{"$f":"VLOOKUP(B71,MMap!$A$11:$O$460,15,FALSE)","v":7.1899053468059479},null,"C-All-HVAC-Vent-All-All-E",null,null,null,null,null,null,null,0,null,"R"]
["Demand Control Ventilation-Retro-School K-12","Demand Control Ventilation-DCV Only-School K-12-HtPmpHt-Vent-Retro",{"$f":"VLOOKUP(B72,MMap!$A$11:$O$460,14,FALSE)","v":0},15,{"$f":"VLOOKUP(B72,MMap!$A$11:$O$460,15,FALSE)","v":0},null,"C-All-HVAC-Vent-All-All-E",null,null,null,null,null,null,null,0,null,"R"]
["Demand Control Ventilation-Retro-University","Demand Control Ventilation-DCV Only-University-HtPmpHt-Vent-Retro",{"$f":"VLOOKUP(B73,MMap!$A$11:$O$460,14,FALSE)","v":0},15,{"$f":"VLOOKUP(B73,MMap!$A$11:$O$460,15,FALSE)","v":0},null,"C-All-HVAC-Vent-All-All-E",null,null,null,null,null,null,null,0,null,"R"]
["Demand Control Ventilation-Retro-Warehouse","Demand Control Ventilation-DCV Only-Warehouse-HtPmpHt-Vent-Retro",{"$f":"VLOOKUP(B74,MMap!$A$11:$O$460,14,FALSE)","v":3.2441133823294965E-3},15,{"$f":"VLOOKUP(B74,MMap!$A$11:$O$460,15,FALSE)","v":0.14387214433766035},null,"C-All-HVAC-Vent-All-All-E",null,null,null,null,null,null,null,0,null,"R"]
["Demand Control Ventilation-Retro-Supermarket","Demand Control Ventilation-DCV Only-Supermarket-HtPmpHt-Vent-Retro",{"$f":"VLOOKUP(B75,MMap!$A$11:$O$460,14,FALSE)","v":4.6622299509658752E-2},15,{"$f":"VLOOKUP(B75,MMap!$A$11:$O$460,15,FALSE)","v":2.0676374139521294},null,"C-All-HVAC-Vent-All-All-E",null,null,null,null,null,null,null,0,null,"R"]
["Demand Control Ventilation-Retro-MiniMart","Demand Control Ventilation-DCV Only-MiniMart-HtPmpHt-Vent-Retro",{"$f":"VLOOKUP(B76,MMap!$A$11:$O$460,14,FALSE)","v":2.5001519587913322E-2},15,{"$f":"VLOOKUP(B76,MMap!$A$11:$O$460,15,FALSE)","v":1.1087843767748338},null,"C-All-HVAC-Vent-All-All-E",null,null,null,null,null,null,null,0,null,"R"]
["Demand Control Ventilation-Retro-Restaurant","Demand Control Ventilation-DCV Only-Restaurant-HtPmpHt-Vent-Retro",{"$f":"VLOOKUP(B77,MMap!$A$11:$O$460,14,FALSE)","v":2.1701228772263956},15,{"$f":"VLOOKUP(B77,MMap!$A$11:$O$460,15,FALSE)","v":14.804369436006805},null,"C-All-HVAC-Vent-All-All-E",null,null,null,null,null,null,null,0,null,"R"]
["Demand Control Ventilation-Retro-Lodging","Demand Control Ventilation-DCV Only-Lodging-HtPmpHt-Vent-Retro",{"$f":"VLOOKUP(B78,MMap!$A$11:$O$460,14,FALSE)","v":0.77605487205493895},15,{"$f":"VLOOKUP(B78,MMap!$A$11:$O$460,15,FALSE)","v":34.417008719361846},null,"C-All-HVAC-Vent-All-All-E",null,null,null,null,null,null,null,0,null,"R"]
["Demand Control Ventilation-Retro-Hospital","Demand Control Ventilation-DCV Only-Hospital-HtPmpHt-Vent-Retro",{"$f":"VLOOKUP(B79,MMap!$A$11:$O$460,14,FALSE)","v":2.5697499999999998E-2},15,{"$f":"VLOOKUP(B79,MMap!$A$11:$O$460,15,FALSE)","v":1.1396501889407502},null,"C-All-HVAC-Vent-All-All-E",null,null,null,null,null,null,null,0,null,"R"]
["Demand Control Ventilation-Retro-Residential Care","Demand Control Ventilation-DCV Only-Residential Care-HtPmpHt-Vent-Retro",{"$f":"VLOOKUP(B80,MMap!$A$11:$O$460,14,FALSE)","v":0.58006005027255669},15,{"$f":"VLOOKUP(B80,MMap!$A$11:$O$460,15,FALSE)","v":25.724897203622934},null,"C-All-HVAC-Vent-All-All-E",null,null,null,null,null,null,null,0,null,"R"]
["Demand Control Ventilation-Retro-Assembly","Demand Control Ventilation-DCV Only-Assembly-HtPmpHt-Vent-Retro",{"$f":"VLOOKUP(B81,MMap!$A$11:$O$460,14,FALSE)","v":0.56945020368934163},15,{"$f":"VLOOKUP(B81,MMap!$A$11:$O$460,15,FALSE)","v":25.254364518996283},null,"C-All-HVAC-Vent-All-All-E",null,null,null,null,null,null,null,0,null,"R"]
["Demand Control Ventilation-Retro-Other","Demand Control Ventilation-DCV Only-Other-HtPmpHt-Vent-Retro",{"$f":"VLOOKUP(B82,MMap!$A$11:$O$460,14,FALSE)","v":0.24887653820049174},15,{"$f":"VLOOKUP(B82,MMap!$A$11:$O$460,15,FALSE)","v":11.037345803409295},null,"C-All-HVAC-Vent-All-All-E",null,null,null,null,null,null,null,0,null,"R"]
["Demand Control Ventilation-Retro-Large Off","Demand Control Ventilation-DCV Only-Large Off-HtPmpHt-Heat-Retro",{"$f":"VLOOKUP(B83,MMap!$A$11:$O$460,14,FALSE)","v":35.399290310499765},15,{"$f":"VLOOKUP(B83,MMap!$A$11:$O$460,15,FALSE)","v":0},null,"C-All-HVAC-Vent-All-All-E",null,null,null,null,null,null,null,0,null,"R"]
["Demand Control Ventilation-Retro-Medium Off","Demand Control Ventilation-DCV Only-Medium Off-HtPmpHt-Heat-Retro",{"$f":"VLOOKUP(B84,MMap!$A$11:$O$460,14,FALSE)","v":38.404793401278809},15,{"$f":"VLOOKUP(B84,MMap!$A$11:$O$460,15,FALSE)","v":0},null,"C-All-HVAC-Vent-All-All-E",null,null,null,null,null,null,null,0,null,"R"]
["Demand Control Ventilation-Retro-Small Off","Demand Control Ventilation-DCV Only-Small Off-HtPmpHt-Heat-Retro",{"$f":"VLOOKUP(B85,MMap!$A$11:$O$460,14,FALSE)","v":49.609697757110254},15,{"$f":"VLOOKUP(B85,MMap!$A$11:$O$460,15,FALSE)","v":0},null,"C-All-HVAC-Vent-All-All-E",null,null,null,null,null,null,null,0,null,"R"]
["Demand Control Ventilation-Retro-Xlarge Ret","Demand Control Ventilation-DCV Only-Xlarge Ret-HtPmpHt-Heat-Retro",{"$f":"VLOOKUP(B86,MMap!$A$11:$O$460,14,FALSE)","v":5.4842703474756398},15,{"$f":"VLOOKUP(B86,MMap!$A$11:$O$460,15,FALSE)","v":0},null,"C-All-HVAC-Vent-All-All-E",null,null,null,null,null,null,null,0,null,"R"]
["Demand Control Ventilation-Retro-Large Ret","Demand Control Ventilation-DCV Only-Large Ret-HtPmpHt-Heat-Retro",{"$f":"VLOOKUP(B87,MMap!$A$11:$O$460,14,FALSE)","v":1.1440309335268741},15,{"$f":"VLOOKUP(B87,MMap!$A$11:$O$460,15,FALSE)","v":0},null,"C-All-HVAC-Vent-All-All-E",null,null,null,null,null,null,null,0,null,"R"]
["Demand Control Ventilation-Retro-Medium Ret","Demand Control Ventilation-DCV Only-Medium Ret-HtPmpHt-Heat-Retro",{"$f":"VLOOKUP(B88,MMap!$A$11:$O$460,14,FALSE)","v":16.306738515015631},15,{"$f":"VLOOKUP(B88,MMap!$A$11:$O$460,15,FALSE)","v":0},null,"C-All-HVAC-Vent-All-All-E",null,null,null,null,null,null,null,0,null,"R"]
["Demand Control Ventilation-Retro-Small Ret","Demand Control Ventilation-DCV Only-Small Ret-HtPmpHt-Heat-Retro",{"$f":"VLOOKUP(B89,MMap!$A$11:$O$460,14,FALSE)","v":22.005082586571035},15,{"$f":"VLOOKUP(B89,MMap!$A$11:$O$460,15,FALSE)","v":0},null,"C-All-HVAC-Vent-All-All-E",null,null,null,null,null,null,null,0,null,"R"]
["Demand Control Ventilation-Retro-School K-12","Demand Control Ventilation-DCV Only-School K-12-HtPmpHt-Heat-Retro",{"$f":"VLOOKUP(B90,MMap!$A$11:$O$460,14,FALSE)","v":0},15,{"$f":"VLOOKUP(B90,MMap!$A$11:$O$460,15,FALSE)","v":0},null,"C-All-HVAC-Vent-All-All-E",null,null,null,null,null,null,null,0,null,"R"]
["Demand Control Ventilation-Retro-University","Demand Control Ventilation-DCV Only-University-HtPmpHt-Heat-Retro",{"$f":"VLOOKUP(B91,MMap!$A$11:$O$460,14,FALSE)","v":0},15,{"$f":"VLOOKUP(B91,MMap!$A$11:$O$460,15,FALSE)","v":0},null,"C-All-HVAC-Vent-All-All-E",null,null,null,null,null,null,null,0,null,"R"]
["Demand Control Ventilation-Retro-Warehouse","Demand Control Ventilation-DCV Only-Warehouse-HtPmpHt-Heat-Retro",{"$f":"VLOOKUP(B92,MMap!$A$11:$O$460,14,FALSE)","v":0.17837351753421932},15,{"$f":"VLOOKUP(B92,MMap!$A$11:$O$460,15,FALSE)","v":0},null,"C-All-HVAC-Vent-All-All-E",null,null,null,null,null,null,null,0,null,"R"]
["Demand Control Ventilation-Retro-Supermarket","Demand Control Ventilation-DCV Only-Supermarket-HtPmpHt-Heat-Retro",{"$f":"VLOOKUP(B93,MMap!$A$11:$O$460,14,FALSE)","v":10.328422752924633},15,{"$f":"VLOOKUP(B93,MMap!$A$11:$O$460,15,FALSE)","v":0},null,"C-All-HVAC-Vent-All-All-E",null,null,null,null,null,null,null,0,null,"R"]
["Demand Control Ventilation-Retro-MiniMart","Demand Control Ventilation-DCV Only-MiniMart-HtPmpHt-Heat-Retro",{"$f":"VLOOKUP(B94,MMap!$A$11:$O$460,14,FALSE)","v":5.538685703737074},15,{"$f":"VLOOKUP(B94,MMap!$A$11:$O$460,15,FALSE)","v":0},null,"C-All-HVAC-Vent-All-All-E",null,null,null,null,null,null,null,0,null,"R"]
["Demand Control Ventilation-Retro-Restaurant","Demand Control Ventilation-DCV Only-Restaurant-HtPmpHt-Heat-Retro",{"$f":"VLOOKUP(B95,MMap!$A$11:$O$460,14,FALSE)","v":73.951934267472495},15,{"$f":"VLOOKUP(B95,MMap!$A$11:$O$460,15,FALSE)","v":0},null,"C-All-HVAC-Vent-All-All-E",null,null,null,null,null,null,null,0,null,"R"]
["Demand Control Ventilation-Retro-Lodging","Demand Control Ventilation-DCV Only-Lodging-HtPmpHt-Heat-Retro",{"$f":"VLOOKUP(B96,MMap!$A$11:$O$460,14,FALSE)","v":42.67040667629422},15,{"$f":"VLOOKUP(B96,MMap!$A$11:$O$460,15,FALSE)","v":0},null,"C-All-HVAC-Vent-All-All-E",null,null,null,null,null,null,null,0,null,"R"]
["Demand Control Ventilation-Retro-Hospital","Demand Control Ventilation-DCV Only-Hospital-HtPmpHt-Heat-Retro",{"$f":"VLOOKUP(B97,MMap!$A$11:$O$460,14,FALSE)","v":1.4129449025434959},15,{"$f":"VLOOKUP(B97,MMap!$A$11:$O$460,15,FALSE)","v":0},null,"C-All-HVAC-Vent-All-All-E",null,null,null,null,null,null,null,0,null,"R"]
["Demand Control Ventilation-Retro-Residential Care","Demand Control Ventilation-DCV Only-Residential Care-HtPmpHt-Heat-Retro",{"$f":"VLOOKUP(B98,MMap!$A$11:$O$460,14,FALSE)","v":31.893876493889792},15,{"$f":"VLOOKUP(B98,MMap!$A$11:$O$460,15,FALSE)","v":0},null,"C-All-HVAC-Vent-All-All-E",null,null,null,null,null,null,null,0,null,"R"]
["Demand Control Ventilation-Retro-Assembly","Demand Control Ventilation-DCV Only-Assembly-HtPmpHt-Heat-Retro",{"$f":"VLOOKUP(B99,MMap!$A$11:$O$460,14,FALSE)","v":31.310507347220963},15,{"$f":"VLOOKUP(B99,MMap!$A$11:$O$460,15,FALSE)","v":0},null,"C-All-HVAC-Vent-All-All-E",null,null,null,null,null,null,null,0,null,"R"]
["Demand Control Ventilation-Retro-Other","Demand Control Ventilation-DCV Only-Other-HtPmpHt-Heat-Retro",{"$f":"VLOOKUP(B100,MMap!$A$11:$O$460,14,FALSE)","v":13.684165230588832},15,{"$f":"VLOOKUP(B100,MMap!$A$11:$O$460,15,FALSE)","v":0},null,"C-All-HVAC-Vent-All-All-E",null,null,null,null,null,null,null,0,null,"R"]
["Demand Control Ventilation-Retro-Large Off","Demand Control Ventilation-DOAS-Large Off-HtPmpHt-Heat-Retro",{"$f":"VLOOKUP(B101,MMap!$A$11:$O$460,14,FALSE)","v":0},15,{"$f":"VLOOKUP(B101,MMap!$A$11:$O$460,15,FALSE)","v":0},null,"C-All-HVAC-Vent-All-All-E",null,null,null,null,null,null,null,0,null,"R"]
["Demand Control Ventilation-Retro-Medium Off","Demand Control Ventilation-DOAS-Medium Off-HtPmpHt-Heat-Retro",{"$f":"VLOOKUP(B102,MMap!$A$11:$O$460,14,FALSE)","v":0},15,{"$f":"VLOOKUP(B102,MMap!$A$11:$O$460,15,FALSE)","v":0},null,"C-All-HVAC-Vent-All-All-E",null,null,null,null,null,null,null,0,null,"R"]
["Demand Control Ventilation-Retro-Small Off","Demand Control Ventilation-DOAS-Small Off-HtPmpHt-Heat-Retro",{"$f":"VLOOKUP(B103,MMap!$A$11:$O$460,14,FALSE)","v":0},15,{"$f":"VLOOKUP(B103,MMap!$A$11:$O$460,15,FALSE)","v":0},null,"C-All-HVAC-Vent-All-All-E",null,null,null,null,null,null,null,0,null,"R"]
["Demand Control Ventilation-Retro-Xlarge Ret","Demand Control Ventilation-DOAS-Xlarge Ret-HtPmpHt-Heat-Retro",{"$f":"VLOOKUP(B104,MMap!$A$11:$O$460,14,FALSE)","v":41.45274143663174},15,{"$f":"VLOOKUP(B104,MMap!$A$11:$O$460,15,FALSE)","v":0},null,"C-All-HVAC-Vent-All-All-E",null,null,null,null,null,null,null,0,null,"R"]
["Demand Control Ventilation-Retro-Large Ret","Demand Control Ventilation-DOAS-Large Ret-HtPmpHt-Heat-Retro",{"$f":"VLOOKUP(B105,MMap!$A$11:$O$460,14,FALSE)","v":5.5588716105329681},15,{"$f":"VLOOKUP(B105,MMap!$A$11:$O$460,15,FALSE)","v":0},null,"C-All-HVAC-Vent-All-All-E",null,null,null,null,null,null,null,0,null,"R"]
["Demand Control Ventilation-Retro-Medium Ret","Demand Control Ventilation-DOAS-Medium Ret-HtPmpHt-Heat-Retro",{"$f":"VLOOKUP(B106,MMap!$A$11:$O$460,14,FALSE)","v":18.037843922909722},15,{"$f":"VLOOKUP(B106,MMap!$A$11:$O$460,15,FALSE)","v":0},null,"C-All-HVAC-Vent-All-All-E",null,null,null,null,null,null,null,0,null,"R"]
["Demand Control Ventilation-Retro-Small Ret","Demand Control Ventilation-DOAS-Small Ret-HtPmpHt-Heat-Retro",{"$f":"VLOOKUP(B107,MMap!$A$11:$O$460,14,FALSE)","v":24.341117927524845},15,{"$f":"VLOOKUP(B107,MMap!$A$11:$O$460,15,FALSE)","v":0},null,"C-All-HVAC-Vent-All-All-E",null,null,null,null,null,null,null,0,null,"R"]
["Demand Control Ventilation-Retro-School K-12","Demand Control Ventilation-DOAS-School K-12-HtPmpHt-Heat-Retro",{"$f":"VLOOKUP(B108,MMap!$A$11:$O$460,14,FALSE)","v":0},15,{"$f":"VLOOKUP(B108,MMap!$A$11:$O$460,15,FALSE)","v":0},null,"C-All-HVAC-Vent-All-All-E",null,null,null,null,null,null,null,0,null,"R"]
["Demand Control Ventilation-Retro-University","Demand Control Ventilation-DOAS-University-HtPmpHt-Heat-Retro",{"$f":"VLOOKUP(B109,MMap!$A$11:$O$460,14,FALSE)","v":0},15,{"$f":"VLOOKUP(B109,MMap!$A$11:$O$460,15,FALSE)","v":0},null,"C-All-HVAC-Vent-All-All-E",null,null,null,null,null,null,null,0,null,"R"]
["Demand Control Ventilation-Retro-Warehouse","Demand Control Ventilation-DOAS-Warehouse-HtPmpHt-Heat-Retro",{"$f":"VLOOKUP(B110,MMap!$A$11:$O$460,14,FALSE)","v":0},15,{"$f":"VLOOKUP(B110,MMap!$A$11:$O$460,15,FALSE)","v":0},null,"C-All-HVAC-Vent-All-All-E",null,null,null,null,null,null,null,0,null,"R"]
["Demand Control Ventilation-Retro-Supermarket","Demand Control Ventilation-DOAS-Supermarket-HtPmpHt-Heat-Retro",{"$f":"VLOOKUP(B111,MMap!$A$11:$O$460,14,FALSE)","v":78.06716494606772},15,{"$f":"VLOOKUP(B111,MMap!$A$11:$O$460,15,FALSE)","v":0},null,"C-All-HVAC-Vent-All-All-E",null,null,null,null,null,null,null,0,null,"R"]
["Demand Control Ventilation-Retro-MiniMart","Demand Control Ventilation-DOAS-MiniMart-HtPmpHt-Heat-Retro",{"$f":"VLOOKUP(B112,MMap!$A$11:$O$460,14,FALSE)","v":7.6893132409207263},15,{"$f":"VLOOKUP(B112,MMap!$A$11:$O$460,15,FALSE)","v":0},null,"C-All-HVAC-Vent-All-All-E",null,null,null,null,null,null,null,0,null,"R"]
["Demand Control Ventilation-Retro-Restaurant","Demand Control Ventilation-DOAS-Restaurant-HtPmpHt-Heat-Retro",{"$f":"VLOOKUP(B113,MMap!$A$11:$O$460,14,FALSE)","v":102.66688123698768},15,{"$f":"VLOOKUP(B113,MMap!$A$11:$O$460,15,FALSE)","v":0},null,"C-All-HVAC-Vent-All-All-E",null,null,null,null,null,null,null,0,null,"R"]
["Demand Control Ventilation-Retro-Lodging","Demand Control Ventilation-DOAS-Lodging-HtPmpHt-Heat-Retro",{"$f":"VLOOKUP(B114,MMap!$A$11:$O$460,14,FALSE)","v":0},15,{"$f":"VLOOKUP(B114,MMap!$A$11:$O$460,15,FALSE)","v":0},null,"C-All-HVAC-Vent-All-All-E",null,null,null,null,null,null,null,0,null,"R"]
["Demand Control Ventilation-Retro-Hospital","Demand Control Ventilation-DOAS-Hospital-HtPmpHt-Heat-Retro",{"$f":"VLOOKUP(B115,MMap!$A$11:$O$460,14,FALSE)","v":0},15,{"$f":"VLOOKUP(B115,MMap!$A$11:$O$460,15,FALSE)","v":0},null,"C-All-HVAC-Vent-All-All-E",null,null,null,null,null,null,null,0,null,"R"]
["Demand Control Ventilation-Retro-Residential Care","Demand Control Ventilation-DOAS-Residential Care-HtPmpHt-Heat-Retro",{"$f":"VLOOKUP(B116,MMap!$A$11:$O$460,14,FALSE)","v":0},15,{"$f":"VLOOKUP(B116,MMap!$A$11:$O$460,15,FALSE)","v":0},null,"C-All-HVAC-Vent-All-All-E",null,null,null,null,null,null,null,0,null,"R"]
["Demand Control Ventilation-Retro-Assembly","Demand Control Ventilation-DOAS-Assembly-HtPmpHt-Heat-Retro",{"$f":"VLOOKUP(B117,MMap!$A$11:$O$460,14,FALSE)","v":0},15,{"$f":"VLOOKUP(B117,MMap!$A$11:$O$460,15,FALSE)","v":0},null,"C-All-HVAC-Vent-All-All-E",null,null,null,null,null,null,null,0,null,"R"]
["Demand Control Ventilation-Retro-Other","Demand Control Ventilation-DOAS-Other-HtPmpHt-Heat-Retro",{"$f":"VLOOKUP(B118,MMap!$A$11:$O$460,14,FALSE)","v":0},15,{"$f":"VLOOKUP(B118,MMap!$A$11:$O$460,15,FALSE)","v":0},null,"C-All-HVAC-Vent-All-All-E",null,null,null,null,null,null,null,0,null,"R"]
["Demand Control Ventilation-Retro-Large Off","Demand Control Ventilation-DOAS-Large Off-ElecHt-Vent-Retro",{"$f":"VLOOKUP(B119,MMap!$A$11:$O$460,14,FALSE)","v":0},15,{"$f":"VLOOKUP(B119,MMap!$A$11:$O$460,15,FALSE)","v":0},null,"C-All-HVAC-Vent-All-All-E",null,null,null,null,null,null,null,0,null,"R"]
["Demand Control Ventilation-Retro-Medium Off","Demand Control Ventilation-DOAS-Medium Off-ElecHt-Vent-Retro",{"$f":"VLOOKUP(B120,MMap!$A$11:$O$460,14,FALSE)","v":0},15,{"$f":"VLOOKUP(B120,MMap!$A$11:$O$460,15,FALSE)","v":0},null,"C-All-HVAC-Vent-All-All-E",null,null,null,null,null,null,null,0,null,"R"]
["Demand Control Ventilation-Retro-Small Off","Demand Control Ventilation-DOAS-Small Off-ElecHt-Vent-Retro",{"$f":"VLOOKUP(B121,MMap!$A$11:$O$460,14,FALSE)","v":0},15,{"$f":"VLOOKUP(B121,MMap!$A$11:$O$460,15,FALSE)","v":0},null,"C-All-HVAC-Vent-All-All-E",null,null,null,null,null,null,null,0,null,"R"]
["Demand Control Ventilation-Retro-Xlarge Ret","Demand Control Ventilation-DOAS-Xlarge Ret-ElecHt-Vent-Retro",{"$f":"VLOOKUP(B122,MMap!$A$11:$O$460,14,FALSE)","v":92.068572136069733},15,{"$f":"VLOOKUP(B122,MMap!$A$11:$O$460,15,FALSE)","v":26.21675262599026},null,"C-All-HVAC-Vent-All-All-E",null,null,null,null,null,null,null,0,null,"R"]
["Demand Control Ventilation-Retro-Large Ret","Demand Control Ventilation-DOAS-Large Ret-ElecHt-Vent-Retro",{"$f":"VLOOKUP(B123,MMap!$A$11:$O$460,14,FALSE)","v":12.346526529539249},15,{"$f":"VLOOKUP(B123,MMap!$A$11:$O$460,15,FALSE)","v":3.5157038314526661},null,"C-All-HVAC-Vent-All-All-E",null,null,null,null,null,null,null,0,null,"R"]
["Demand Control Ventilation-Retro-Medium Ret","Demand Control Ventilation-DOAS-Medium Ret-ElecHt-Vent-Retro",{"$f":"VLOOKUP(B124,MMap!$A$11:$O$460,14,FALSE)","v":50.281252714338812},15,{"$f":"VLOOKUP(B124,MMap!$A$11:$O$460,15,FALSE)","v":23.368636404150756},null,"C-All-HVAC-Vent-All-All-E",null,null,null,null,null,null,null,0,null,"R"]
["Demand Control Ventilation-Retro-Small Ret","Demand Control Ventilation-DOAS-Small Ret-ElecHt-Vent-Retro",{"$f":"VLOOKUP(B125,MMap!$A$11:$O$460,14,FALSE)","v":67.851895553266857},15,{"$f":"VLOOKUP(B125,MMap!$A$11:$O$460,15,FALSE)","v":31.534740900847439},null,"C-All-HVAC-Vent-All-All-E",null,null,null,null,null,null,null,0,null,"R"]
["Demand Control Ventilation-Retro-School K-12","Demand Control Ventilation-DOAS-School K-12-ElecHt-Vent-Retro",{"$f":"VLOOKUP(B126,MMap!$A$11:$O$460,14,FALSE)","v":0},15,{"$f":"VLOOKUP(B126,MMap!$A$11:$O$460,15,FALSE)","v":0},null,"C-All-HVAC-Vent-All-All-E",null,null,null,null,null,null,null,0,null,"R"]
["Demand Control Ventilation-Retro-University","Demand Control Ventilation-DOAS-University-ElecHt-Vent-Retro",{"$f":"VLOOKUP(B127,MMap!$A$11:$O$460,14,FALSE)","v":0},15,{"$f":"VLOOKUP(B127,MMap!$A$11:$O$460,15,FALSE)","v":0},null,"C-All-HVAC-Vent-All-All-E",null,null,null,null,null,null,null,0,null,"R"]
["Demand Control Ventilation-Retro-Warehouse","Demand Control Ventilation-DOAS-Warehouse-ElecHt-Vent-Retro",{"$f":"VLOOKUP(B128,MMap!$A$11:$O$460,14,FALSE)","v":0},15,{"$f":"VLOOKUP(B128,MMap!$A$11:$O$460,15,FALSE)","v":0},null,"C-All-HVAC-Vent-All-All-E",null,null,null,null,null,null,null,0,null,"R"]
["Demand Control Ventilation-Retro-Supermarket","Demand Control Ventilation-DOAS-Supermarket-ElecHt-Vent-Retro",{"$f":"VLOOKUP(B129,MMap!$A$11:$O$460,14,FALSE)","v":63.611289655488996},15,{"$f":"VLOOKUP(B129,MMap!$A$11:$O$460,15,FALSE)","v":18.113471366249421},null,"C-All-HVAC-Vent-All-All-E",null,null,null,null,null,null,null,0,null,"R"]
["Demand Control Ventilation-Retro-MiniMart","Demand Control Ventilation-DOAS-MiniMart-ElecHt-Vent-Retro",{"$f":"VLOOKUP(B130,MMap!$A$11:$O$460,14,FALSE)","v":6.2654655405752981},15,{"$f":"VLOOKUP(B130,MMap!$A$11:$O$460,15,FALSE)","v":1.7841067408014759},null,"C-All-HVAC-Vent-All-All-E",null,null,null,null,null,null,null,0,null,"R"]
["Demand Control Ventilation-Retro-Restaurant","Demand Control Ventilation-DOAS-Restaurant-ElecHt-Vent-Retro",{"$f":"VLOOKUP(B131,MMap!$A$11:$O$460,14,FALSE)","v":22.689798047399357},15,{"$f":"VLOOKUP(B131,MMap!$A$11:$O$460,15,FALSE)","v":6.4609758655016671},null,"C-All-HVAC-Vent-All-All-E",null,null,null,null,null,null,null,0,null,"R"]
["Demand Control Ventilation-Retro-Lodging","Demand Control Ventilation-DOAS-Lodging-ElecHt-Vent-Retro",{"$f":"VLOOKUP(B132,MMap!$A$11:$O$460,14,FALSE)","v":0},15,{"$f":"VLOOKUP(B132,MMap!$A$11:$O$460,15,FALSE)","v":0},null,"C-All-HVAC-Vent-All-All-E",null,null,null,null,null,null,null,0,null,"R"]
["Demand Control Ventilation-Retro-Hospital","Demand Control Ventilation-DOAS-Hospital-ElecHt-Vent-Retro",{"$f":"VLOOKUP(B133,MMap!$A$11:$O$460,14,FALSE)","v":0},15,{"$f":"VLOOKUP(B133,MMap!$A$11:$O$460,15,FALSE)","v":0},null,"C-All-HVAC-Vent-All-All-E",null,null,null,null,null,null,null,0,null,"R"]
["Demand Control Ventilation-Retro-Residential Care","Demand Control Ventilation-DOAS-Residential Care-ElecHt-Vent-Retro",{"$f":"VLOOKUP(B134,MMap!$A$11:$O$460,14,FALSE)","v":0},15,{"$f":"VLOOKUP(B134,MMap!$A$11:$O$460,15,FALSE)","v":0},null,"C-All-HVAC-Vent-All-All-E",null,null,null,null,null,null,null,0,null,"R"]
["Demand Control Ventilation-Retro-Assembly","Demand Control Ventilation-DOAS-Assembly-ElecHt-Vent-Retro",{"$f":"VLOOKUP(B135,MMap!$A$11:$O$460,14,FALSE)","v":0},15,{"$f":"VLOOKUP(B135,MMap!$A$11:$O$460,15,FALSE)","v":0},null,"C-All-HVAC-Vent-All-All-E",null,null,null,null,null,null,null,0,null,"R"]
["Demand Control Ventilation-Retro-Other","Demand Control Ventilation-DOAS-Other-ElecHt-Vent-Retro",{"$f":"VLOOKUP(B136,MMap!$A$11:$O$460,14,FALSE)","v":0},15,{"$f":"VLOOKUP(B136,MMap!$A$11:$O$460,15,FALSE)","v":0},null,"C-All-HVAC-Vent-All-All-E",null,null,null,null,null,null,null,0,null,"R"]
["Demand Control Ventilation-Retro-Large Off","Demand Control Ventilation-DOAS-Large Off-ElecHt-Heat-Retro",{"$f":"VLOOKUP(B137,MMap!$A$11:$O$460,14,FALSE)","v":0},15,{"$f":"VLOOKUP(B137,MMap!$A$11:$O$460,15,FALSE)","v":0},null,"C-All-HVAC-Vent-All-All-E",null,null,null,null,null,null,null,0,null,"R"]
["Demand Control Ventilation-Retro-Medium Off","Demand Control Ventilation-DOAS-Medium Off-ElecHt-Heat-Retro",{"$f":"VLOOKUP(B138,MMap!$A$11:$O$460,14,FALSE)","v":0},15,{"$f":"VLOOKUP(B138,MMap!$A$11:$O$460,15,FALSE)","v":0},null,"C-All-HVAC-Vent-All-All-E",null,null,null,null,null,null,null,0,null,"R"]
["Demand Control Ventilation-Retro-Small Off","Demand Control Ventilation-DOAS-Small Off-ElecHt-Heat-Retro",{"$f":"VLOOKUP(B139,MMap!$A$11:$O$460,14,FALSE)","v":0},15,{"$f":"VLOOKUP(B139,MMap!$A$11:$O$460,15,FALSE)","v":0},null,"C-All-HVAC-Vent-All-All-E",null,null,null,null,null,null,null,0,null,"R"]
["Demand Control Ventilation-Retro-Xlarge Ret","Demand Control Ventilation-DOAS-Xlarge Ret-ElecHt-Heat-Retro",{"$f":"VLOOKUP(B140,MMap!$A$11:$O$460,14,FALSE)","v":149.12107615007429},15,{"$f":"VLOOKUP(B140,MMap!$A$11:$O$460,15,FALSE)","v":0},null,"C-All-HVAC-Vent-All-All-E",null,null,null,null,null,null,null,0,null,"R"]
["Demand Control Ventilation-Retro-Large Ret","Demand Control Ventilation-DOAS-Large Ret-ElecHt-Heat-Retro",{"$f":"VLOOKUP(B141,MMap!$A$11:$O$460,14,FALSE)","v":19.997348498891682},15,{"$f":"VLOOKUP(B141,MMap!$A$11:$O$460,15,FALSE)","v":0},null,"C-All-HVAC-Vent-All-All-E",null,null,null,null,null,null,null,0,null,"R"]
["Demand Control Ventilation-Retro-Medium Ret","Demand Control Ventilation-DOAS-Medium Ret-ElecHt-Heat-Retro",{"$f":"VLOOKUP(B142,MMap!$A$11:$O$460,14,FALSE)","v":64.888897669730056},15,{"$f":"VLOOKUP(B142,MMap!$A$11:$O$460,15,FALSE)","v":0},null,"C-All-HVAC-Vent-All-All-E",null,null,null,null,null,null,null,0,null,"R"]
["Demand Control Ventilation-Retro-Small Ret","Demand Control Ventilation-DOAS-Small Ret-ElecHt-Heat-Retro",{"$f":"VLOOKUP(B143,MMap!$A$11:$O$460,14,FALSE)","v":87.564141097812737},15,{"$f":"VLOOKUP(B143,MMap!$A$11:$O$460,15,FALSE)","v":0},null,"C-All-HVAC-Vent-All-All-E",null,null,null,null,null,null,null,0,null,"R"]
["Demand Control Ventilation-Retro-School K-12","Demand Control Ventilation-DOAS-School K-12-ElecHt-Heat-Retro",{"$f":"VLOOKUP(B144,MMap!$A$11:$O$460,14,FALSE)","v":0},15,{"$f":"VLOOKUP(B144,MMap!$A$11:$O$460,15,FALSE)","v":0},null,"C-All-HVAC-Vent-All-All-E",null,null,null,null,null,null,null,0,null,"R"]
["Demand Control Ventilation-Retro-University","Demand Control Ventilation-DOAS-University-ElecHt-Heat-Retro",{"$f":"VLOOKUP(B145,MMap!$A$11:$O$460,14,FALSE)","v":0},15,{"$f":"VLOOKUP(B145,MMap!$A$11:$O$460,15,FALSE)","v":0},null,"C-All-HVAC-Vent-All-All-E",null,null,null,null,null,null,null,0,null,"R"]
["Demand Control Ventilation-Retro-Warehouse","Demand Control Ventilation-DOAS-Warehouse-ElecHt-Heat-Retro",{"$f":"VLOOKUP(B146,MMap!$A$11:$O$460,14,FALSE)","v":0},15,{"$f":"VLOOKUP(B146,MMap!$A$11:$O$460,15,FALSE)","v":0},null,"C-All-HVAC-Vent-All-All-E",null,null,null,null,null,null,null,0,null,"R"]
["Demand Control Ventilation-Retro-Supermarket","Demand Control Ventilation-DOAS-Supermarket-ElecHt-Heat-Retro",{"$f":"VLOOKUP(B147,MMap!$A$11:$O$460,14,FALSE)","v":103.0295544792571},15,{"$f":"VLOOKUP(B147,MMap!$A$11:$O$460,15,FALSE)","v":0},null,"C-All-HVAC-Vent-All-All-E",null,null,null,null,null,null,null,0,null,"R"]
["Demand Control Ventilation-Retro-MiniMart","Demand Control Ventilation-DOAS-MiniMart-ElecHt-Heat-Retro",{"$f":"VLOOKUP(B148,MMap!$A$11:$O$460,14,FALSE)","v":10.148011881958572},15,{"$f":"VLOOKUP(B148,MMap!$A$11:$O$460,15,FALSE)","v":0},null,"C-All-HVAC-Vent-All-All-E",null,null,null,null,null,null,null,0,null,"R"]
["Demand Control Ventilation-Retro-Restaurant","Demand Control Ventilation-DOAS-Restaurant-ElecHt-Heat-Retro",{"$f":"VLOOKUP(B149,MMap!$A$11:$O$460,14,FALSE)","v":36.750076860706315},15,{"$f":"VLOOKUP(B149,MMap!$A$11:$O$460,15,FALSE)","v":0},null,"C-All-HVAC-Vent-All-All-E",null,null,null,null,null,null,null,0,null,"R"]
["Demand Control Ventilation-Retro-Lodging","Demand Control Ventilation-DOAS-Lodging-ElecHt-Heat-Retro",{"$f":"VLOOKUP(B150,MMap!$A$11:$O$460,14,FALSE)","v":0},15,{"$f":"VLOOKUP(B150,MMap!$A$11:$O$460,15,FALSE)","v":0},null,"C-All-HVAC-Vent-All-All-E",null,null,null,null,null,null,null,0,null,"R"]
["Demand Control Ventilation-Retro-Hospital","Demand Control Ventilation-DOAS-Hospital-ElecHt-Heat-Retro",{"$f":"VLOOKUP(B151,MMap!$A$11:$O$460,14,FALSE)","v":0},15,{"$f":"VLOOKUP(B151,MMap!$A$11:$O$460,15,FALSE)","v":0},null,"C-All-HVAC-Vent-All-All-E",null,null,null,null,null,null,null,0,null,"R"]
["Demand Control Ventilation-Retro-Residential Care","Demand Control Ventilation-DOAS-Residential Care-ElecHt-Heat-Retro",{"$f":"VLOOKUP(B152,MMap!$A$11:$O$460,14,FALSE)","v":0},15,{"$f":"VLOOKUP(B152,MMap!$A$11:$O$460,15,FALSE)","v":0},null,"C-All-HVAC-Vent-All-All-E",null,null,null,null,null,null,null,0,null,"R"]
["Demand Control Ventilation-Retro-Assembly","Demand Control Ventilation-DOAS-Assembly-ElecHt-Heat-Retro",{"$f":"VLOOKUP(B153,MMap!$A$11:$O$460,14,FALSE)","v":0},15,{"$f":"VLOOKUP(B153,MMap!$A$11:$O$460,15,FALSE)","v":0},null,"C-All-HVAC-Vent-All-All-E",null,null,null,null,null,null,null,0,null,"R"]
["Demand Control Ventilation-Retro-Other","Demand Control Ventilation-DOAS-Other-ElecHt-Heat-Retro",{"$f":"VLOOKUP(B154,MMap!$A$11:$O$460,14,FALSE)","v":0},15,{"$f":"VLOOKUP(B154,MMap!$A$11:$O$460,15,FALSE)","v":0},null,"C-All-HVAC-Vent-All-All-E",null,null,null,null,null,null,null,0,null,"R"]
["Demand Control Ventilation-Retro-Large Off","Demand Control Ventilation-DOAS-Large Off-GasHt-Vent-Retro",{"$f":"VLOOKUP(B155,MMap!$A$11:$O$460,14,FALSE)","v":0},15,{"$f":"VLOOKUP(B155,MMap!$A$11:$O$460,15,FALSE)","v":0},null,"C-All-HVAC-Vent-All-All-E",null,null,null,null,null,null,null,{"$f":"VLOOKUP($B155,MMap!$A$11:$AD$460,26,FALSE)","v":6.0690000000000001E-2},"C-All-HVAC-Vent-All-All-E","R"]
["Demand Control Ventilation-Retro-Medium Off","Demand Control Ventilation-DOAS-Medium Off-GasHt-Vent-Retro",{"$f":"VLOOKUP(B156,MMap!$A$11:$O$460,14,FALSE)","v":0},15,{"$f":"VLOOKUP(B156,MMap!$A$11:$O$460,15,FALSE)","v":0},null,"C-All-HVAC-Vent-All-All-E",null,null,null,null,null,null,null,{"$f":"VLOOKUP($B156,MMap!$A$11:$AD$460,26,FALSE)","v":6.0690000000000001E-2},"C-All-HVAC-Vent-All-All-E","R"]
["Demand Control Ventilation-Retro-Small Off","Demand Control Ventilation-DOAS-Small Off-GasHt-Vent-Retro",{"$f":"VLOOKUP(B157,MMap!$A$11:$O$460,14,FALSE)","v":0},15,{"$f":"VLOOKUP(B157,MMap!$A$11:$O$460,15,FALSE)","v":0},null,"C-All-HVAC-Vent-All-All-E",null,null,null,null,null,null,null,{"$f":"VLOOKUP($B157,MMap!$A$11:$AD$460,26,FALSE)","v":6.0690000000000001E-2},"C-All-HVAC-Vent-All-All-E","R"]
["Demand Control Ventilation-Retro-Xlarge Ret","Demand Control Ventilation-DOAS-Xlarge Ret-GasHt-Vent-Retro",{"$f":"VLOOKUP(B158,MMap!$A$11:$O$460,14,FALSE)","v":382.63453699940743},15,{"$f":"VLOOKUP(B158,MMap!$A$11:$O$460,15,FALSE)","v":453.17313331812323},null,"C-All-HVAC-Vent-All-All-E",null,null,null,null,null,null,null,{"$f":"VLOOKUP($B158,MMap!$A$11:$AD$460,26,FALSE)","v":0.13913},"C-All-HVAC-Vent-All-All-E","R"]
["Demand Control Ventilation-Retro-Large Ret","Demand Control Ventilation-DOAS-Large Ret-GasHt-Vent-Retro",{"$f":"VLOOKUP(B159,MMap!$A$11:$O$460,14,FALSE)","v":275.52497168115582},15,{"$f":"VLOOKUP(B159,MMap!$A$11:$O$460,15,FALSE)","v":326.31794218912842},null,"C-All-HVAC-Vent-All-All-E",null,null,null,null,null,null,null,{"$f":"VLOOKUP($B159,MMap!$A$11:$AD$460,26,FALSE)","v":0.13913},"C-All-HVAC-Vent-All-All-E","R"]
["Demand Control Ventilation-Retro-Medium Ret","Demand Control Ventilation-DOAS-Medium Ret-GasHt-Vent-Retro",{"$f":"VLOOKUP(B160,MMap!$A$11:$O$460,14,FALSE)","v":126.41428241789404},15,{"$f":"VLOOKUP(B160,MMap!$A$11:$O$460,15,FALSE)","v":157.6271235429781},null,"C-All-HVAC-Vent-All-All-E",null,null,null,null,null,null,null,{"$f":"VLOOKUP($B160,MMap!$A$11:$AD$460,26,FALSE)","v":6.7919999999999994E-2},"C-All-HVAC-Vent-All-All-E","R"]
["Demand Control Ventilation-Retro-Small Ret","Demand Control Ventilation-DOAS-Small Ret-GasHt-Vent-Retro",{"$f":"VLOOKUP(B161,MMap!$A$11:$O$460,14,FALSE)","v":52.485892591478191},15,{"$f":"VLOOKUP(B161,MMap!$A$11:$O$460,15,FALSE)","v":65.445138931622296},null,"C-All-HVAC-Vent-All-All-E",null,null,null,null,null,null,null,{"$f":"VLOOKUP($B161,MMap!$A$11:$AD$460,26,FALSE)","v":6.7919999999999994E-2},"C-All-HVAC-Vent-All-All-E","R"]
["Demand Control Ventilation-Retro-School K-12","Demand Control Ventilation-DOAS-School K-12-GasHt-Vent-Retro",{"$f":"VLOOKUP(B162,MMap!$A$11:$O$460,14,FALSE)","v":0},15,{"$f":"VLOOKUP(B162,MMap!$A$11:$O$460,15,FALSE)","v":0},null,"C-All-HVAC-Vent-All-All-E",null,null,null,null,null,null,null,{"$f":"VLOOKUP($B162,MMap!$A$11:$AD$460,26,FALSE)","v":0},"C-All-HVAC-Vent-All-All-E","R"]
["Demand Control Ventilation-Retro-University","Demand Control Ventilation-DOAS-University-GasHt-Vent-Retro",{"$f":"VLOOKUP(B163,MMap!$A$11:$O$460,14,FALSE)","v":0},15,{"$f":"VLOOKUP(B163,MMap!$A$11:$O$460,15,FALSE)","v":0},null,"C-All-HVAC-Vent-All-All-E",null,null,null,null,null,null,null,{"$f":"VLOOKUP($B163,MMap!$A$11:$AD$460,26,FALSE)","v":0},"C-All-HVAC-Vent-All-All-E","R"]
["Demand Control Ventilation-Retro-Warehouse","Demand Control Ventilation-DOAS-Warehouse-GasHt-Vent-Retro",{"$f":"VLOOKUP(B164,MMap!$A$11:$O$460,14,FALSE)","v":0},15,{"$f":"VLOOKUP(B164,MMap!$A$11:$O$460,15,FALSE)","v":0},null,"C-All-HVAC-Vent-All-All-E",null,null,null,null,null,null,null,{"$f":"VLOOKUP($B164,MMap!$A$11:$AD$460,26,FALSE)","v":6.0690000000000001E-2},"C-All-HVAC-Vent-All-All-E","R"]
["Demand Control Ventilation-Retro-Supermarket","Demand Control Ventilation-DOAS-Supermarket-GasHt-Vent-Retro",{"$f":"VLOOKUP(B165,MMap!$A$11:$O$460,14,FALSE)","v":183.28638107539933},15,{"$f":"VLOOKUP(B165,MMap!$A$11:$O$460,15,FALSE)","v":217.07518682927179},null,"C-All-HVAC-Vent-All-All-E",null,null,null,null,null,null,null,{"$f":"VLOOKUP($B165,MMap!$A$11:$AD$460,26,FALSE)","v":6.0690000000000001E-2},"C-All-HVAC-Vent-All-All-E","R"]
["Demand Control Ventilation-Retro-MiniMart","Demand Control Ventilation-DOAS-MiniMart-GasHt-Vent-Retro",{"$f":"VLOOKUP(B166,MMap!$A$11:$O$460,14,FALSE)","v":131.86077893343457},15,{"$f":"VLOOKUP(B166,MMap!$A$11:$O$460,15,FALSE)","v":156.16928576190045},null,"C-All-HVAC-Vent-All-All-E",null,null,null,null,null,null,null,{"$f":"VLOOKUP($B166,MMap!$A$11:$AD$460,26,FALSE)","v":6.0690000000000001E-2},"C-All-HVAC-Vent-All-All-E","R"]
["Demand Control Ventilation-Retro-Restaurant","Demand Control Ventilation-DOAS-Restaurant-GasHt-Vent-Retro",{"$f":"VLOOKUP(B167,MMap!$A$11:$O$460,14,FALSE)","v":144.07751207293876},15,{"$f":"VLOOKUP(B167,MMap!$A$11:$O$460,15,FALSE)","v":170.63817108301046},null,"C-All-HVAC-Vent-All-All-E",null,null,null,null,null,null,null,{"$f":"VLOOKUP($B167,MMap!$A$11:$AD$460,26,FALSE)","v":0.13913},"C-All-HVAC-Vent-All-All-E","R"]
["Demand Control Ventilation-Retro-Lodging","Demand Control Ventilation-DOAS-Lodging-GasHt-Vent-Retro",{"$f":"VLOOKUP(B168,MMap!$A$11:$O$460,14,FALSE)","v":0},15,{"$f":"VLOOKUP(B168,MMap!$A$11:$O$460,15,FALSE)","v":0},null,"C-All-HVAC-Vent-All-All-E",null,null,null,null,null,null,null,{"$f":"VLOOKUP($B168,MMap!$A$11:$AD$460,26,FALSE)","v":6.0690000000000001E-2},"C-All-HVAC-Vent-All-All-E","R"]
["Demand Control Ventilation-Retro-Hospital","Demand Control Ventilation-DOAS-Hospital-GasHt-Vent-Retro",{"$f":"VLOOKUP(B169,MMap!$A$11:$O$460,14,FALSE)","v":0},15,{"$f":"VLOOKUP(B169,MMap!$A$11:$O$460,15,FALSE)","v":0},null,"C-All-HVAC-Vent-All-All-E",null,null,null,null,null,null,null,{"$f":"VLOOKUP($B169,MMap!$A$11:$AD$460,26,FALSE)","v":6.0690000000000001E-2},"C-All-HVAC-Vent-All-All-E","R"]
["Demand Control Ventilation-Retro-Residential Care","Demand Control Ventilation-DOAS-Residential Care-GasHt-Vent-Retro",{"$f":"VLOOKUP(B170,MMap!$A$11:$O$460,14,FALSE)","v":0},15,{"$f":"VLOOKUP(B170,MMap!$A$11:$O$460,15,FALSE)","v":0},null,"C-All-HVAC-Vent-All-All-E",null,null,null,null,null,null,null,{"$f":"VLOOKUP($B170,MMap!$A$11:$AD$460,26,FALSE)","v":6.0690000000000001E-2},"C-All-HVAC-Vent-All-All-E","R"]
["Demand Control Ventilation-Retro-Assembly","Demand Control Ventilation-DOAS-Assembly-GasHt-Vent-Retro",{"$f":"VLOOKUP(B171,MMap!$A$11:$O$460,14,FALSE)","v":0},15,{"$f":"VLOOKUP(B171,MMap!$A$11:$O$460,15,FALSE)","v":0},null,"C-All-HVAC-Vent-All-All-E",null,null,null,null,null,null,null,{"$f":"VLOOKUP($B171,MMap!$A$11:$AD$460,26,FALSE)","v":6.0690000000000001E-2},"C-All-HVAC-Vent-All-All-E","R"]
["Demand Control Ventilation-Retro-Other","Demand Control Ventilation-DOAS-Other-GasHt-Vent-Retro",{"$f":"VLOOKUP(B172,MMap!$A$11:$O$460,14,FALSE)","v":0},15,{"$f":"VLOOKUP(B172,MMap!$A$11:$O$460,15,FALSE)","v":0},null,"C-All-HVAC-Vent-All-All-E",null,null,null,null,null,null,null,{"$f":"VLOOKUP($B172,MMap!$A$11:$AD$460,26,FALSE)","v":6.0690000000000001E-2},"C-All-HVAC-Vent-All-All-E","R"]
["Demand Control Ventilation-Retro-Large Off","Demand Control Ventilation-DOAS-Large Off-HtPmpHt-Vent-Retro",{"$f":"VLOOKUP(B173,MMap!$A$11:$O$460,14,FALSE)","v":0},15,{"$f":"VLOOKUP(B173,MMap!$A$11:$O$460,15,FALSE)","v":0},null,"C-All-HVAC-Vent-All-All-E",null,null,null,null,null,null,null,0,null,"R"]
["Demand Control Ventilation-Retro-Medium Off","Demand Control Ventilation-DOAS-Medium Off-HtPmpHt-Vent-Retro",{"$f":"VLOOKUP(B174,MMap!$A$11:$O$460,14,FALSE)","v":0},15,{"$f":"VLOOKUP(B174,MMap!$A$11:$O$460,15,FALSE)","v":0},null,"C-All-HVAC-Vent-All-All-E",null,null,null,null,null,null,null,0,null,"R"]
["Demand Control Ventilation-Retro-Small Off","Demand Control Ventilation-DOAS-Small Off-HtPmpHt-Vent-Retro",{"$f":"VLOOKUP(B175,MMap!$A$11:$O$460,14,FALSE)","v":0},15,{"$f":"VLOOKUP(B175,MMap!$A$11:$O$460,15,FALSE)","v":0},null,"C-All-HVAC-Vent-All-All-E",null,null,null,null,null,null,null,0,null,"R"]
["Demand Control Ventilation-Retro-Xlarge Ret","Demand Control Ventilation-DOAS-Xlarge Ret-HtPmpHt-Vent-Retro",{"$f":"VLOOKUP(B176,MMap!$A$11:$O$460,14,FALSE)","v":12.922080198818618},15,{"$f":"VLOOKUP(B176,MMap!$A$11:$O$460,15,FALSE)","v":15.304262962273526},null,"C-All-HVAC-Vent-All-All-E",null,null,null,null,null,null,null,0,null,"R"]
["Demand Control Ventilation-Retro-Large Ret","Demand Control Ventilation-DOAS-Large Ret-HtPmpHt-Vent-Retro",{"$f":"VLOOKUP(B177,MMap!$A$11:$O$460,14,FALSE)","v":1.7328693417310395},15,{"$f":"VLOOKUP(B177,MMap!$A$11:$O$460,15,FALSE)","v":2.0523234399627261},null,"C-All-HVAC-Vent-All-All-E",null,null,null,null,null,null,null,0,null,"R"]
["Demand Control Ventilation-Retro-Medium Ret","Demand Control Ventilation-DOAS-Medium Ret-HtPmpHt-Vent-Retro",{"$f":"VLOOKUP(B178,MMap!$A$11:$O$460,14,FALSE)","v":10.94037196073474},15,{"$f":"VLOOKUP(B178,MMap!$A$11:$O$460,15,FALSE)","v":13.641649738279606},null,"C-All-HVAC-Vent-All-All-E",null,null,null,null,null,null,null,0,null,"R"]
["Demand Control Ventilation-Retro-Small Ret","Demand Control Ventilation-DOAS-Small Ret-HtPmpHt-Vent-Retro",{"$f":"VLOOKUP(B179,MMap!$A$11:$O$460,14,FALSE)","v":14.763454280087426},15,{"$f":"VLOOKUP(B179,MMap!$A$11:$O$460,15,FALSE)","v":18.408686006186937},null,"C-All-HVAC-Vent-All-All-E",null,null,null,null,null,null,null,0,null,"R"]
["Demand Control Ventilation-Retro-School K-12","Demand Control Ventilation-DOAS-School K-12-HtPmpHt-Vent-Retro",{"$f":"VLOOKUP(B180,MMap!$A$11:$O$460,14,FALSE)","v":0},15,{"$f":"VLOOKUP(B180,MMap!$A$11:$O$460,15,FALSE)","v":0},null,"C-All-HVAC-Vent-All-All-E",null,null,null,null,null,null,null,0,null,"R"]
["Demand Control Ventilation-Retro-University","Demand Control Ventilation-DOAS-University-HtPmpHt-Vent-Retro",{"$f":"VLOOKUP(B181,MMap!$A$11:$O$460,14,FALSE)","v":0},{"$f":"D180","v":15},{"$f":"VLOOKUP(B181,MMap!$A$11:$O$460,15,FALSE)","v":0},null,"C-All-HVAC-Vent-All-All-E",null,null,null,null,null,null,null,0,null,"R"]
["Demand Control Ventilation-Retro-Warehouse","Demand Control Ventilation-DOAS-Warehouse-HtPmpHt-Vent-Retro",{"$f":"VLOOKUP(B182,MMap!$A$11:$O$460,14,FALSE)","v":0},{"$f":"D181","v":15},{"$f":"VLOOKUP(B182,MMap!$A$11:$O$460,15,FALSE)","v":0},null,"C-All-HVAC-Vent-All-All-E",null,null,null,null,null,null,null,0,null,"R"]
["Demand Control Ventilation-Retro-Supermarket","Demand Control Ventilation-DOAS-Supermarket-HtPmpHt-Vent-Retro",{"$f":"VLOOKUP(B183,MMap!$A$11:$O$460,14,FALSE)","v":24.335909553041571},15,{"$f":"VLOOKUP(B183,MMap!$A$11:$O$460,15,FALSE)","v":28.822229354365302},null,"C-All-HVAC-Vent-All-All-E",null,null,null,null,null,null,null,0,null,"R"]
["Demand Control Ventilation-Retro-MiniMart","Demand Control Ventilation-DOAS-MiniMart-HtPmpHt-Vent-Retro",{"$f":"VLOOKUP(B184,MMap!$A$11:$O$460,14,FALSE)","v":2.3969927905711326},15,{"$f":"VLOOKUP(B184,MMap!$A$11:$O$460,15,FALSE)","v":2.8388779067420007},null,"C-All-HVAC-Vent-All-All-E",null,null,null,null,null,null,null,0,null,"R"]
["Demand Control Ventilation-Retro-Restaurant","Demand Control Ventilation-DOAS-Restaurant-HtPmpHt-Vent-Retro",{"$f":"VLOOKUP(B185,MMap!$A$11:$O$460,14,FALSE)","v":32.004389266630376},15,{"$f":"VLOOKUP(B185,MMap!$A$11:$O$460,15,FALSE)","v":37.904391688286786},null,"C-All-HVAC-Vent-All-All-E",null,null,null,null,null,null,null,0,null,"R"]
["Demand Control Ventilation-Retro-Lodging","Demand Control Ventilation-DOAS-Lodging-HtPmpHt-Vent-Retro",{"$f":"VLOOKUP(B186,MMap!$A$11:$O$460,14,FALSE)","v":0},15,{"$f":"VLOOKUP(B186,MMap!$A$11:$O$460,15,FALSE)","v":0},null,"C-All-HVAC-Vent-All-All-E",null,null,null,null,null,null,null,0,null,"R"]
["Demand Control Ventilation-Retro-Hospital","Demand Control Ventilation-DOAS-Hospital-HtPmpHt-Vent-Retro",{"$f":"VLOOKUP(B187,MMap!$A$11:$O$460,14,FALSE)","v":0},15,{"$f":"VLOOKUP(B187,MMap!$A$11:$O$460,15,FALSE)","v":0},null,"C-All-HVAC-Vent-All-All-E",null,null,null,null,null,null,null,0,null,"R"]
["Demand Control Ventilation-Retro-Residential Care","Demand Control Ventilation-DOAS-Residential Care-HtPmpHt-Vent-Retro",{"$f":"VLOOKUP(B188,MMap!$A$11:$O$460,14,FALSE)","v":0},15,{"$f":"VLOOKUP(B188,MMap!$A$11:$O$460,15,FALSE)","v":0},null,"C-All-HVAC-Vent-All-All-E",null,null,null,null,null,null,null,0,null,"R"]
["Demand Control Ventilation-Retro-Assembly","Demand Control Ventilation-DOAS-Assembly-HtPmpHt-Vent-Retro",{"$f":"VLOOKUP(B189,MMap!$A$11:$O$460,14,FALSE)","v":0},15,{"$f":"VLOOKUP(B189,MMap!$A$11:$O$460,15,FALSE)","v":0},null,"C-All-HVAC-Vent-All-All-E",null,null,null,null,null,null,null,0,null,"R"]
["Demand Control Ventilation-Retro-Other","Demand Control Ventilation-DOAS-Other-HtPmpHt-Vent-Retro",{"$f":"VLOOKUP(B190,MMap!$A$11:$O$460,14,FALSE)","v":0},15,{"$f":"VLOOKUP(B190,MMap!$A$11:$O$460,15,FALSE)","v":0},null,"C-All-HVAC-Vent-All-All-E",null,null,null,null,null,null,null,0,null,"R"]
[]
[]
[]
["ProCost Results"]
["Version:    ","ProCost 3.0 - Beta04"]
["Run Time:","Thursday, 19 March , 2015 at 9:17 AM"]
[]
["Regurgitation of ProData input parameters which were used for this run"]
[null,"Run Parameters",null,"Run Parameters",null,null,"Marginal Cost & Conservation Load Shape Parameters",null,null,null,null,null,null,null,null,null,"Sponsor Parameters",null,null,null,null,null,"Program Parameters",null,null,"Utility System Parameters"]
[null,"Run Type","Electric","Run Type","Electric",null,"Marginal Costs and Savings Shape File","Q:\\SeventhPlan\\Conservation Analysis\\Global EE Inputs\\MC Files\\MC_AND_LOADSHAPE_v3.0_24segment-7P-D9 - NewSegValues.xlsx",null,null,"6P MidC Final (with carbon)",null,null,null,null,null,null,"Customer","Wholesale Elec","Retail Elec","Nat Gas",null,"Program Life (yrs)",20,null,null,"Electric","Gas"]
[null,"Negative B/C Ratios","Off","Negative B/C Ratios","Off",null,"Marginal Elec Avoided Cost Input Worksheet","7P Mid",null,null,"Conservation Load Shapes",null,null,null,null,null,"Real After-Tax Cost of Capital",6.8012888465852586E-2,4.387844424080023E-2,5.3289007766645871E-2,5.447903102274565E-2,null,"Program Start Date",2016,null,"Bulk System T&D Loss Factor",4.03890184699085E-3,0.01]
[null,"Admin Cost @ Category Level","On","Admin Cost @ Category Level","On",null,"Elec Savings Shape Input Worksheet","GLSShapes",null,null,"6P_Gas_Final",null,null,null,null,null,"Financial Life (years)",12,12,1,1,null,"Present Value Time Zero",2016,null,"Bulk System T&D Credit ($/kw-yr)($/dailytherm-yr)",26,0]
[null,"Repeat Periodic Replacement ","On","Repeat Periodic Replacement ","On",null,"Marginal Gas Avoided Cost Input Worksheet","7P Gas",null,null,"Conservation Load Shapes",null,null,null,null,null,null,"Customer","Wholesale Elec","Retail Elec","Nat Gas",null,"Input Cost Reference Year",2012,null,"Bulk System T&D I2R Loss Component (%)",0.9,"N/A"]
[null,null,null,null,null,null,"Gas Savings Shape Input Worksheet","GLSShapes",null,null,null,null,null,null,null,null,"Sponsor Share of Initial Capital Cost ",0.35,0.19500000000000001,0.45499999999999996,0,null,"Real Discount Rate",0.04,null,"Local System Dist Loss Factor",4.7399348199455904E-2,0]
[null,"Run Type:","Electric",null,null,null,"Marginal Elec CO2 per kWh Input Worksheet","CO2 lbs per kWh .95",null,null,"CO2 lbs per therm",null,null,null,null,null,"Sponsor Share of Annual O&M",1,0,0,0,null,"Capital Real Escalation Rate",0,null,"Local System Dist Credit ($/kw-yr)($/dailytherm-yr)",31,0]
[null,"Negative B/C Ratios:","False:  (Converts Negative B/C Ratios)",null,null,null,"Marginal Gas CO2 per therm Input Worksheet","CO2 lbs per therm",null,null,"Zero Dollars per ton CO2",null,null,null,null,null,"Sponsor Share of Periodic Replacement Cost",1,0,0,0,null,"Admin Cost (as % of Initial Capital Cost)",0.2,null,"Local System Dist I2R Loss Component (%)",0.7,"N/A"]
[null,"Admin Cost / Category Level:","True:  Admin Costs added at Category Results",null,null,null,"Marginal Avoided Cost CO2 Input Worksheet","Zero Dollars per ton CO2",null,null,"LineLossShapes",null,null,null,null,null,"Sponsor Share of Admin Cost",null,0.3,0.7,0,null,"Regional Act Conservation Credit (%)",0,null,"Risk-Mitigation Credit (mills/kWh)(mills/therm) - Retro.",0,0]
[null,"Periodic O&M Treatment:","True:  (Periodic O&M Repeats over measure life)",null,null,null,"Line Loss Shape Input Worksheet","LineLossShapes",null,null,null,null,null,null,null,null,"Last Year of Non-Customer O&M & Period Replacement",null,20,null,null,null,"Report Annual Carbon Saved for Year",2018,null,"Risk-Mitigation Credit (mills/kWh)(mills/therm) - Lost Op.",0,0]
[]
[]
[]
[]
[]
[]
[]
["Measure Results; Sorted in same order as input"]
["Total Results",null,"Measure Input Data",null,null,null,null,null,null,null,null,"Savings",null,null,null,null,null,"PV Capital",null,null,null,"PV Admin",null,null,null,"PV O&M",null,null,null,"PV Periodic Repl.",null,null,null,"Total PV Capital, O&M and Periodic Repl Costs",null,null,null,null,"PV Wholesale Electric Utility Costs & Benefits",null,null,null,null,null,null,"PV Retail Electric Utility Costs & Benefits",null,null,null,null,null,null,"PV Electric Utility System Costs & Benefits",null,null,null,null,null,"Electric Utility System Economics",null,"Sponsor Levelized Cost (mills/kwh)",null,null,null,null,"PV Regional Costs & Benefits",null,null,null,null,null,null,null,null,null,null,null,null,null,null,null,"TRC Economics",null,"Physical CO2",null,null,null,null,null,null,"Gas Inputs",null,null,null,"PV Gas Utility System Costs & Benefits",null,null,null,null,"Gas Utility System Economics"]
["Category","Measure","Measure Life","Site Savings (kWh)","Site Savings (therms)","Capital Cost ($/unit)","Annual O&M Cost ($/unit)","PV Per. Repl. Cost ($/unit)","Load Shape (electric)","Diversified Load Factor (electric)","Wholesale Power Coincidence Factor (electric)","Wholesale Electric Energy (kWh)","Wholesale Electric Demand (kw)","Retail Electric Demand (kW)","Wholesale Gas Energy (therms/yr)","Wholesale Gas Demand (therms/day)","Retail Gas Demand (therms/day)","Wholesale Electric","Retail Electric","Natural Gas","Customer","Wholesale Electric","Retail Electric","Natural Gas","Customer","Wholesale Electric","Retail Electric","Natural Gas","Customer","Wholesale Electric","Retail Electric","Natural Gas","Customer","Wholesale Electric","Retail Electric","Natural Gas","Customer","Total","Wholesale Utility System Energy","Wholesale Utility System T&D Def. Cap.","Wholesale Utility System Act C-E Credit","Wholesale Utility System Risk Mitigation Benefit","Wholesale Utility System Total System Benefit","Wholesale Utility System Total Non-Consumer Cost","Wholesale Utility System B/C Ratio","Retail Utility System Energy","Retail Utility System T&D Def. Cap.","Retail Utility System Act C-E Credit","Retail Utility System Risk Mitigation Benefit","Retail Utility System Total System Benefit","Retail Utility System Total Non-Consumer Cost","Retail Utility System System B/C Ratio","Utility System Energy","Utility System T&D Def. Cap.","Utility System Act C-E Credit","Utility System Total Risk Mitigation Benefit","Utility System Total System Benefit","Utility System Total Non-Consumer Cost","Utility System Net Levelized Cost (Net of Elec T&D Capacity Benefits, Act Credit & Risk-Mitigation Benefit) in mills/kwh","Utility System System B/C Ratio","Wholesale Electric Levelized Cost","Retail Electric Levelized Cost","Natural Gas Levelized Cost","Customer Levelized Cost","Total Levelized Cost","PV Regional Electric Energy","PV Regional Gas Energy","PV Regional Electric T&D Def. Cap.","PV Regional Gas T&D Def. Cap.","PV Regional Electric System CO2","PV Regional Gas System CO2","PV Regional Electric System Risk-Mitigation Benefit","PV Regional Gas System Risk-Mitigation Benefit","PV Regional Non-E Value","PV Regional Act Credit","PV Regional Capital Cost","PV Regional Admin Cost","PV Regional Annual O&M Cost","PV Regional Periodic Replacement Cost","PV Total Regional Benefit","PV Total Regional Cost","TRC B/C Ratio","TRC Net Levelized Cost (Net of All Benefits) in mills/kWh","Electric System CO2 Avoided (Lifetime Tons)","Gas System CO2 Avoided (Lifetime Tons)","Total System CO2 Avoided (Lifetime Tons)","Electric System CO2 Avoided (Annual Tons in 2018)","Gas System CO2 Avoided (Annual Tons in 2018)","Total System CO2 Avoided (Annual Tons in 2018)",null,"Gas Site Savings (therms)","Load Shape (gas)","Diversitfied Load Factor (gas)","Wholesale Coincidence Factor (gas)","Total Gas Utility System Energy","Gas Utility System T&D Def. Cap.","Gas Utility System Risk Mitigation Benefit","Gas Utility System Total System Benefit","Gas Utility System Total Non-Consumer Cost","Gas Utility System Net Levelized Cost (Net of Gas T&D Capacity Benefits & Risk-Mitigation Benefits) in cents/therm","Gas Utility System System B/C Ratio"]
["Demand Control Ventilation-Retro-Large Off","Demand Control Ventilation-DCV Only-Large Off-ElecHt-Vent-Retro",15,0.53891902232965772,0,23.900346945102008,0,0,"C-All-HVAC-Vent-All-All-E",null,null,0.57922763689523593,1.0888690063948371E-4,1.0810100382029925E-4,0,0,0,4.7660484536899244,11.013613064599722,0,15.992190665930471,"(na)","(na)","(na)","(na)",0,0,0,0,0,0,0,0,4.7660484536899244,11.013613064599722,0,15.992190665930471,31.771852184220116,0.30146392910918801,3.8475021373949002E-2,0,0,0.33993895048313699,4.7660484536899244,7.1325114250559651E-2,0.30146392910918801,4.5542965524230428E-2,0,0,0.34700689463341844,11.013613064599722,3.150708968964764E-2,0.30146392910918801,8.4017986898179436E-2,0,0,0.38548191600736742,15.779661518289647,1993.8843556646325,2.4429035791456551E-2,605.45140638202849,1399.1061115097957,0,2031.5559994613286,4036.1135173531525,0.30146392910918801,0,8.4017986898179436E-2,0,0,0,0,0,0,0,31.771852184220116,null,0,0,0.38548191600736742,31.771852184220116,1.2132812206611669E-2,4025.4403551259607,5.502714622829293E-3,0,5.502714622829293E-3,2.7513312752523711E-4,0,2.7513312752523711E-4,null,0,null,0,0,0,0,0,0,0,9999,9999]
["Demand Control Ventilation-Retro-Medium Off","Demand Control Ventilation-DCV Only-Medium Off-ElecHt-Vent-Retro",15,0.58467482062629694,0,25.929556174556225,0,0,"C-All-HVAC-Vent-All-All-E",null,null,0.62840575424401546,1.1813171638428552E-4,1.1727909463083332E-4,0,0,0,5.1706998812389946,11.948700966530927,0,17.349974340495415,"(na)","(na)","(na)","(na)",0,0,0,0,0,0,0,0,5.1706998812389946,11.948700966530927,0,17.349974340495415,34.469375188265332,0.32705909677353273,4.174166301119378E-2,0,0,0.36880075978472648,5.1706998812389946,7.1325114250559651E-2,0.32705909677353273,4.9409696253736542E-2,0,0,0.37646879302726927,11.948700966530927,3.1507089689647633E-2,0.32705909677353273,9.1151359264930315E-2,0,0,0.41821045603846307,17.119400847769921,1993.884355664632,2.4429035791456555E-2,605.45140638202849,1399.1061115097957,0,2031.5559994613277,4036.1135173531511,0.32705909677353273,0,9.1151359264930315E-2,0,0,0,0,0,0,0,34.469375188265332,null,0,0,0.41821045603846302,34.469375188265332,1.2132812206611669E-2,4025.4403551259588,5.9699111587350629E-3,0,5.9699111587350629E-3,2.9849273326590728E-4,0,2.9849273326590728E-4,null,0,null,0,0,0,0,0,0,0,9999,9999]
["Demand Control Ventilation-Retro-Small Off","Demand Control Ventilation-DCV Only-Small Off-ElecHt-Vent-Retro",15,0.75525835627844862,0,33.494710708505288,0,0,"C-All-HVAC-Vent-All-All-E",null,null,0.81174813808102497,1.5259758551800805E-4,1.5149620457714631E-4,0,0,0,6.679292754441712,15.434829640821668,0,22.411967540930334,"(na)","(na)","(na)","(na)",0,0,0,0,0,0,0,0,6.679292754441712,15.434829640821668,0,22.411967540930334,44.526089936193713,0.42248119317075,5.3920125652739945E-2,0,0,0.47640131882348996,6.679292754441712,7.1325114250559582E-2,0.42248119317075,6.3825368667049576E-2,0,0,0.48630656183779958,15.434829640821668,3.1507089689647605E-2,0.42248119317075,0.11774549431978952,0,0,0.54022668749053948,22.114122395263379,1993.8843556646332,2.4429035791456531E-2,605.45140638202861,1399.1061115097964,0,2031.5559994613291,4036.1135173531538,0.42248119317075,0,0.11774549431978952,0,0,0,0,0,0,0,44.526089936193713,null,0,0,0.54022668749053948,44.526089936193713,1.2132812206611656E-2,4025.4403551259625,7.711680287590993E-3,0,7.711680287590993E-3,3.8558036558848684E-4,0,3.8558036558848684E-4,null,0,null,0,0,0,0,0,0,0,9999,9999]
["Demand Control Ventilation-Retro-Xlarge Ret","Demand Control Ventilation-DCV Only-Xlarge Ret-ElecHt-Vent-Retro",15,0.27568943266472512,0,1.8807267798531777,0,0,"C-All-HVAC-Vent-All-All-E",null,null,0.29630970884842178,5.570218644751587E-5,5.5300153045025487E-5,0,0,0,0.3750420435954977,0.86666511917637434,0,1.2584311567952884,"(na)","(na)","(na)","(na)",0,0,0,0,0,0,0,0,0.3750420435954977,0.86666511917637434,0,1.2584311567952884,2.5001383195671605,0.15421689742128294,1.9682283190699396E-2,0,0,0.17389918061198234,0.3750420435954977,0.46367916232757528,0.15421689742128294,2.3297960931065204E-2,0,0,0.17751485835234815,0.86666511917637434,0.2048252022892619,0.15421689742128294,4.2980244121764599E-2,0,0,0.19719714154304754,1.2417071627718721,297.67645880763246,0.1588113103115576,93.133127908068644,215.21649312675567,0,312.50264307892485,620.85226411374913,0.15421689742128294,0,4.2980244121764599E-2,0,0,0,0,0,0,0,2.5001383195671605,null,0,0,0.19719714154304754,2.5001383195671605,7.8874492662944967E-2,610.17910188655719,2.8149688721800501E-3,0,2.8149688721800501E-3,1.4074711170300035E-4,0,1.4074711170300035E-4,null,0,null,0,0,0,0,0,0,0,9999,9999]
["Demand Control Ventilation-Retro-Large Ret","Demand Control Ventilation-DCV Only-Large Ret-ElecHt-Vent-Retro",15,5.750942587286826E-2,0,0.39232376913271416,0,0,"C-All-HVAC-Vent-All-All-E",null,null,6.181086112630628E-2,1.161959938579097E-5,1.1535734328159053E-5,0,0,0,7.8234600422985384E-2,0.18078826216196689,0,0.26251152475561157,"(na)","(na)","(na)","(na)",0,0,0,0,0,0,0,0,7.8234600422985384E-2,0.18078826216196689,0,0.26251152475561157,0.52153438734056379,3.2169986150244585E-2,4.1057678389178178E-3,0,0,3.6275753989162406E-2,7.8234600422985384E-2,0.463679162327575,3.2169986150244585E-2,4.860006218604369E-3,0,0,3.7029992368848956E-2,0.18078826216196689,0.20482520228926177,3.2169986150244585E-2,8.9657740575221877E-3,0,0,4.1135760207766776E-2,0.25902286258495227,297.67645880763246,0.15881131031155751,93.133127908068644,215.21649312675567,0,312.50264307892485,620.85226411374902,3.2169986150244585E-2,0,8.9657740575221877E-3,0,0,0,0,0,0,0,0.52153438734056379,null,0,0,4.1135760207766776E-2,0.52153438734056379,7.8874492662944926E-2,610.17910188655719,5.8720873747071219E-4,0,5.8720873747071219E-4,2.936015903499547E-5,0,2.936015903499547E-5,null,0,null,0,0,0,0,0,0,0,9999,9999]
["Demand Control Ventilation-Retro-Medium Ret","Demand Control Ventilation-DCV Only-Medium Ret-ElecHt-Vent-Retro",15,0.62730168306369749,0,9.1271198701145035,0,0,"C-All-HVAC-Vent-All-All-E",null,null,0.67422090601049078,1.2674434043813635E-4,1.2582955662653939E-4,0,0,0,1.8200696267514433,4.205904076395063,0,6.1071348264919809,"(na)","(na)","(na)","(na)",0,0,0,0,0,0,0,0,1.8200696267514433,4.205904076395063,0,6.1071348264919809,12.133108529638488,0.35090398051956395,4.4784920672230902E-2,0,0,0.39568890119179484,1.8200696267514433,0.21740316709643759,0.35090398051956395,5.30120068903151E-2,0,0,0.40391598740987905,4.205904076395063,9.6035473009665237E-2,0.35090398051956395,9.7796927562546002E-2,0,0,0.44870090808210994,6.0259737031465068,646.97730301203046,7.4461146063053249E-2,198.6350581277608,459.01540711146151,0,666.50806289180059,1324.1585281310229,0.35090398051956395,0,9.7796927562546002E-2,0,0,0,0,0,0,0,12.133108529638488,null,0,0,0.44870090808210994,12.133108529638488,3.6981529258230346E-2,1313.4853659038311,6.4051592192797303E-3,0,6.4051592192797303E-3,3.2025493035498312E-4,0,3.2025493035498312E-4,null,0,null,0,0,0,0,0,0,0,9999,9999]
["Demand Control Ventilation-Retro-Small Ret","Demand Control Ventilation-DCV Only-Small Ret-ElecHt-Vent-Retro",15,0.84651049808646794,0,12.316566328359416,0,0,"C-All-HVAC-Vent-All-All-E",null,null,0.9098255119926032,1.710347949808277E-4,1.6980034253011149E-4,0,0,0,2.4560878567529194,5.6756454681017745,0,8.2412559752848509,"(na)","(na)","(na)","(na)",0,0,0,0,0,0,0,0,2.4560878567529194,5.6756454681017745,0,8.2412559752848509,16.372989300139544,0.47352639304169952,6.0434885683486324E-2,0,0,0.53396127872518584,2.4560878567529194,0.21740316709643745,0.47352639304169952,7.1536904122616846E-2,0,0,0.54506329716431634,5.6756454681017745,9.6035473009665154E-2,0.47352639304169952,0.13197178980610316,0,0,0.60549818284780266,8.131733324854693,646.97730301203023,7.4461146063053221E-2,198.63505812776077,459.01540711146146,0,666.50806289180036,1324.1585281310224,0.47352639304169952,0,0.13197178980610316,0,0,0,0,0,0,0,16.372989300139544,null,0,0,0.60549818284780266,16.372989300139544,3.6981529258230332E-2,1313.4853659038306,8.6434241568662546E-3,0,8.6434241568662546E-3,4.3216711819648652E-4,0,4.3216711819648652E-4,null,0,null,0,0,0,0,0,0,0,9999,9999]
["Demand Control Ventilation-Retro-School K-12","Demand Control Ventilation-DCV Only-School K-12-ElecHt-Vent-Retro",15,0,0,0,0,0,"C-All-HVAC-Vent-All-All-E",null,null,0,0,0,0,0,0,0,0,0,0,"(na)","(na)","(na)","(na)",0,0,0,0,0,0,0,0,0,0,0,0,0,0,0,0,0,0,0,9999,0,0,0,0,0,0,9999,0,0,0,0,0,0,9999,9999,9999,9999,9999,9999,9999,0,0,0,0,0,0,0,0,0,0,0,null,0,0,0,0,9999,9999,0,0,0,0,0,0,null,0,null,0,0,0,0,0,0,0,9999,9999]
["Demand Control Ventilation-Retro-University","Demand Control Ventilation-DCV Only-University-ElecHt-Vent-Retro",15,0,0,0,0,0,"C-All-HVAC-Vent-All-All-E",null,null,0,0,0,0,0,0,0,0,0,0,"(na)","(na)","(na)","(na)",0,0,0,0,0,0,0,0,0,0,0,0,0,0,0,0,0,0,0,9999,0,0,0,0,0,0,9999,0,0,0,0,0,0,9999,9999,9999,9999,9999,9999,9999,0,0,0,0,0,0,0,0,0,0,0,null,0,0,0,0,9999,9999,0,0,0,0,0,0,null,0,null,0,0,0,0,0,0,0,9999,9999]
["Demand Control Ventilation-Retro-Warehouse","Demand Control Ventilation-DCV Only-Warehouse-ElecHt-Vent-Retro",15,3.140770992691078E-3,0,0.13928904583091797,0,0,"C-All-HVAC-Vent-All-All-E",null,null,3.375685928214901E-3,6.3458294259899194E-7,6.3000280749395777E-7,0,0,0,2.7776096431706348E-2,6.4186334133254586E-2,0,9.3201031086289979E-2,"(na)","(na)","(na)","(na)",0,0,0,0,0,0,0,0,2.7776096431706348E-2,6.4186334133254586E-2,0,9.3201031086289979E-2,0.18516346165125092,1.7569043300713924E-3,2.2422892135462514E-4,0,0,1.9811332514260175E-3,2.7776096431706348E-2,7.1325114250559651E-2,1.7569043300713924E-3,2.6542025631475093E-4,0,0,2.0223245863861435E-3,6.4186334133254586E-2,3.1507089689647633E-2,1.7569043300713924E-3,4.8964917766937605E-4,0,0,2.2465535077407688E-3,9.1962430564960937E-2,1993.8843556646325,2.4429035791456551E-2,605.45140638202838,1399.1061115097959,0,2031.5559994613279,4036.1135173531525,1.7569043300713924E-3,0,4.8964917766937605E-4,0,0,0,0,0,0,0,0.18516346165125092,null,0,0,2.2465535077407684E-3,0.18516346165125092,1.2132812206611667E-2,4025.4403551259602,3.2069319790807727E-5,0,3.2069319790807727E-5,1.6034508159020778E-6,0,1.6034508159020778E-6,null,0,null,0,0,0,0,0,0,0,9999,9999]
["Demand Control Ventilation-Retro-Supermarket","Demand Control Ventilation-DCV Only-Supermarket-ElecHt-Vent-Retro",15,2.9300012737182825E-2,0,1.2994168713647944,0,0,"C-All-HVAC-Vent-All-All-E",null,null,3.1491516230758139E-2,5.919975809830791E-6,5.8772480792105663E-6,0,0,0,0.25912108241323878,0.59878940936284042,0,0.86946530145041567,"(na)","(na)","(na)","(na)",0,0,0,0,0,0,0,0,0.25912108241323878,0.59878940936284042,0,0.86946530145041567,1.7273757932264948,1.6390026324395127E-2,2.0918144834577842E-3,0,0,1.8481840807852912E-2,0.25912108241323878,7.1325114250559554E-2,1.6390026324395127E-2,2.4760853016109891E-3,0,0,1.8866111626006116E-2,0.59878940936284042,3.1507089689647584E-2,1.6390026324395127E-2,4.5678997850687733E-3,0,0,2.0957926109463901E-2,0.85791049177607914,1993.8843556646329,2.442903579145652E-2,605.45140638202849,1399.1061115097962,0,2031.5559994613286,4036.1135173531534,1.6390026324395127E-2,0,4.5678997850687733E-3,0,0,0,0,0,0,0,1.7273757932264948,null,0,0,2.0957926109463901E-2,1.7273757932264948,1.2132812206611653E-2,4025.4403551259616,2.9917223526646256E-4,0,2.9917223526646256E-4,1.4958470209610118E-5,0,1.4958470209610118E-5,null,0,null,0,0,0,0,0,0,0,9999,9999]
["Demand Control Ventilation-Retro-MiniMart","Demand Control Ventilation-DCV Only-MiniMart-ElecHt-Vent-Retro",15,1.5712327578845074E-2,0,0.69682097845820612,0,0,"C-All-HVAC-Vent-All-All-E",null,null,1.6887535968346596E-2,3.1746265783993486E-6,3.1517135473973634E-6,0,0,0,0.1389554115891207,0.3211048211836619,0,0.46625657665641462,"(na)","(na)","(na)","(na)",0,0,0,0,0,0,0,0,0.1389554115891207,0.3211048211836619,0,0.46625657665641462,0.92631680942919725,8.789261115507329E-3,1.1217494918202378E-3,0,0,9.9110106073275663E-3,0.1389554115891207,7.1325114250559596E-2,8.789261115507329E-3,1.3278172853045641E-3,0,0,1.0117078400811892E-2,0.3211048211836619,3.1507089689647605E-2,8.789261115507329E-3,2.4495667771248018E-3,0,0,1.123882789263213E-2,0.46006023277278263,1993.8843556646325,2.4429035791456531E-2,605.45140638202849,1399.1061115097959,0,2031.5559994613282,4036.1135173531529,8.789261115507329E-3,0,2.4495667771248018E-3,0,0,0,0,0,0,0,0.92631680942919725,null,0,0,1.1238827892632131E-2,0.92631680942919725,1.213281220661166E-2,4025.4403551259611,1.6043310988177875E-4,0,1.6043310988177875E-4,8.0215795849646317E-6,0,8.0215795849646317E-6,null,0,null,0,0,0,0,0,0,0,9999,9999]
["Demand Control Ventilation-Retro-Restaurant","Demand Control Ventilation-DCV Only-Restaurant-ElecHt-Vent-Retro",15,0.36990730916453624,0,2.5234720666831976,0,0,"C-All-HVAC-Vent-All-All-E",null,null,0.39757464049318014,7.4738613316528073E-5,7.4199183521660541E-5,0,0,0,0.50321403990371394,1.1628511077940717,0,1.688504628122881,"(na)","(na)","(na)","(na)",0,0,0,0,0,0,0,0,0.50321403990371394,1.1628511077940717,0,1.688504628122881,3.354569775820667,0.206921088709938,2.6408775784091062E-2,0,0,0.23332986449402907,0.50321403990371394,0.46367916232757517,0.206921088709938,3.1260124676274981E-2,0,0,0.23818121338621298,1.1628511077940717,0.20482520228926185,0.206921088709938,5.7668900460366046E-2,0,0,0.26458998917030402,1.6660651476977857,297.6764588076324,0.15881131031155757,93.13312790806863,215.21649312675567,0,312.50264307892485,620.85226411374913,0.206921088709938,0,5.7668900460366046E-2,0,0,0,0,0,0,0,3.354569775820667,null,0,0,0.26458998917030407,3.354569775820667,7.8874492662944953E-2,610.17910188655731,3.7769948264806522E-3,0,3.7769948264806522E-3,1.8884795423426053E-4,0,1.8884795423426053E-4,null,0,null,0,0,0,0,0,0,0,9999,9999]
["Demand Control Ventilation-Retro-Lodging","Demand Control Ventilation-DCV Only-Lodging-ElecHt-Vent-Retro",15,1.1413615567838136,0,50.617877763921861,0,0,"C-All-HVAC-Vent-All-All-E",null,null,1.2267300466053228,2.3060852795658729E-4,2.2894409901671003E-4,0,0,0,10.093881005156081,23.325423732281401,0,33.869414287782661,"(na)","(na)","(na)","(na)",0,0,0,0,0,0,0,0,10.093881005156081,23.325423732281401,0,33.869414287782661,67.288719025220146,0.63846204194988254,8.1485173974428268E-2,0,0,0.71994721592431077,10.093881005156081,7.1325114250559582E-2,0.63846204194988254,9.6454175632142231E-2,0,0,0.73491621758202474,23.325423732281401,3.1507089689647598E-2,0.63846204194988254,0.17793934960657048,0,0,0.81640139155645297,33.419304737437486,1993.8843556646327,2.4429035791456527E-2,605.45140638202827,1399.1061115097957,0,2031.5559994613279,4036.113517353152,0.63846204194988254,0,0.17793934960657048,0,0,0,0,0,0,0,67.288719025220146,null,0,0,0.81640139155645297,67.288719025220146,1.2132812206611656E-2,4025.4403551259597,1.1654045725273425E-2,0,1.1654045725273425E-2,5.8269677213752824E-4,0,5.8269677213752824E-4,null,0,null,0,0,0,0,0,0,0,9999,9999]
["Demand Control Ventilation-Retro-Hospital","Demand Control Ventilation-DCV Only-Hospital-ElecHt-Vent-Retro",15,0.20557999999999998,0,9.1172015115260017,0,0,"C-All-HVAC-Vent-All-All-E",null,null,0.22095641953436673,4.1536795150964512E-5,4.1237001190473886E-5,0,0,0,1.8180917735544813,4.2013335584866569,0,6.1004982583281482,"(na)","(na)","(na)","(na)",0,0,0,0,0,0,0,0,1.8180917735544813,4.2013335584866569,0,6.1004982583281482,12.119923590369286,0.11499863982970832,1.4676963637067655E-2,0,0,0.12967560346677598,1.8180917735544813,7.1325114250559637E-2,0.11499863982970832,1.7373153413657198E-2,0,0,0.13237179324336551,4.2013335584866569,3.1507089689647626E-2,0.11499863982970832,3.2050117050724851E-2,0,0,0.14704875688043317,6.0194253320411377,1993.8843556646323,2.4429035791456548E-2,605.45140638202838,1399.1061115097959,0,2031.5559994613277,4036.113517353152,0.11499863982970832,0,3.2050117050724851E-2,0,0,0,0,0,0,0,12.119923590369286,null,0,0,0.14704875688043317,12.119923590369286,1.2132812206611667E-2,4025.4403551259602,2.0991058494670414E-3,0,2.0991058494670414E-3,1.0495429927882417E-4,0,1.0495429927882417E-4,null,0,null,0,0,0,0,0,0,0,9999,9999]
["Demand Control Ventilation-Retro-Residential Care","Demand Control Ventilation-DCV Only-Residential Care-ElecHt-Vent-Retro",15,0.77437283439189486,0,34.342412570300901,0,0,"C-All-HVAC-Vent-All-All-E",null,null,0.83229228948298584,1.5645960595684358E-4,1.5533035068435259E-4,0,0,0,6.84833582971092,15.825462476462198,0,22.979181474386554,"(na)","(na)","(na)","(na)",0,0,0,0,0,0,0,0,6.84833582971092,15.825462476462198,0,22.979181474386554,45.652979780559676,0.43317357075660984,5.5284764723722409E-2,0,0,0.48845833548033224,6.84833582971092,7.1325114250559596E-2,0.43317357075660984,6.5440694869437405E-2,0,0,0.49861426562604727,15.825462476462198,3.1507089689647612E-2,0.43317357075660984,0.12072545959315981,0,0,0.55389903034976973,22.673798306173119,1993.8843556646327,2.4429035791456537E-2,605.45140638202849,1399.1061115097959,0,2031.5559994613286,4036.1135173531534,0.43317357075660984,0,0.12072545959315981,0,0,0,0,0,0,0,45.652979780559676,null,0,0,0.55389903034976962,45.652979780559676,1.2132812206611658E-2,4025.4403551259616,7.9068515728203219E-3,0,7.9068515728203219E-3,3.9533883750441815E-4,0,3.9533883750441815E-4,null,0,null,0,0,0,0,0,0,0,9999,9999]
["Demand Control Ventilation-Retro-Assembly","Demand Control Ventilation-DCV Only-Assembly-ElecHt-Vent-Retro",15,0.52484747871120896,0,23.276292568471867,0,0,"C-All-HVAC-Vent-All-All-E",null,null,0.56410360782988866,1.0604378932156677E-4,1.0527841280489999E-4,0,0,0,4.6416036745581275,10.726040107970201,0,15.574623649020584,"(na)","(na)","(na)","(na)",0,0,0,0,0,0,0,0,4.6416036745581275,10.726040107970201,0,15.574623649020584,30.942267431548913,0.29359250009651128,3.7470412297164378E-2,0,0,0.33106291239367563,4.6416036745581275,7.1325114250559582E-2,0.29359250009651128,4.4353807600063279E-2,0,0,0.33794630769657458,10.726040107970201,3.1507089689647605E-2,0.29359250009651128,8.1824219897227657E-2,0,0,0.37541671999373893,15.367643782528329,1993.8843556646327,2.4429035791456527E-2,605.45140638202849,1399.1061115097959,0,2031.5559994613288,4036.1135173531534,0.29359250009651128,0,8.1824219897227657E-2,0,0,0,0,0,0,0,30.942267431548913,null,0,0,0.37541671999373893,30.942267431548913,1.2132812206611656E-2,4025.4403551259611,5.359034987064539E-3,0,5.359034987064539E-3,2.6794921371919709E-4,0,2.6794921371919709E-4,null,0,null,0,0,0,0,0,0,0,9999,9999]
["Demand Control Ventilation-Retro-Other","Demand Control Ventilation-DCV Only-Other-ElecHt-Vent-Retro",15,0.4019348840472991,0,17.825281313216578,0,0,"C-All-HVAC-Vent-All-All-E",null,null,0.43199772772182155,8.1209684515513853E-5,8.0623549430642357E-5,0,0,0,3.5545992129145292,8.2141381295571598,0,11.927245160481931,"(na)","(na)","(na)","(na)",0,0,0,0,0,0,0,0,3.5545992129145292,8.2141381295571598,0,11.927245160481931,23.695982502953619,0.22483687598769797,2.869531898838026E-2,0,0,0.25353219497607821,3.5545992129145292,7.1325114250559651E-2,0.22483687598769797,3.3966710783413956E-2,0,0,0.25880358677111193,8.2141381295571598,3.150708968964764E-2,0.22483687598769797,6.266202977179422E-2,0,0,0.28749890575949216,11.768737342471688,1993.8843556646325,2.4429035791456555E-2,605.45140638202849,1399.1061115097957,0,2031.5559994613286,4036.1135173531529,0.22483687598769797,0,6.266202977179422E-2,0,0,0,0,0,0,0,23.695982502953619,null,0,0,0.28749890575949216,23.695982502953619,1.2132812206611667E-2,4025.4403551259611,4.1040172497740146E-3,0,4.1040172497740146E-3,2.0519892066786524E-4,0,2.0519892066786524E-4,null,0,null,0,0,0,0,0,0,0,9999,9999]
["Demand Control Ventilation-Retro-Large Off","Demand Control Ventilation-DCV Only-Large Off-ElecHt-Heat-Retro",15,62.226755891322888,0,0,0,0,"C-All-HVAC-Vent-All-All-E",null,null,66.881025299084385,1.2572721141973699E-2,1.2481976878926987E-2,0,0,0,0,0,0,0,"(na)","(na)","(na)","(na)",0,0,0,0,0,0,0,0,0,0,0,0,0,34.808796033259156,4.4425519674561311,0,0,39.251348000715289,0,9999,34.808796033259156,5.2586583156637285,0,0,40.067454348922887,0,9999,34.808796033259156,9.7012102831198597,0,0,44.51000631637902,0,-10.673162227191886,9999,0,0,0,0,0,34.808796033259156,0,9.7012102831198597,0,0,0,0,0,0,0,0,null,0,0,44.51000631637902,0,9999,-10.673162227191886,0.63537575291776294,0,0.63537575291776294,3.1768487017065077E-2,0,3.1768487017065077E-2,null,0,null,0,0,0,0,0,0,0,9999,9999]
["Demand Control Ventilation-Retro-Medium Off","Demand Control Ventilation-DCV Only-Medium Off-ElecHt-Heat-Retro",15,67.509989129053949,0,0,0,0,"C-All-HVAC-Vent-All-All-E",null,null,72.559419597041455,1.3640181871278117E-2,1.3541733155383193E-2,0,0,0,0,0,0,0,"(na)","(na)","(na)","(na)",0,0,0,0,0,0,0,0,0,0,0,0,0,37.764164436032686,4.8197375989199207,0,0,42.583902034952608,0,9999,37.764164436032686,5.7051337586019235,0,0,43.469298194634611,0,9999,37.764164436032686,10.524871357521844,0,0,48.289035793554532,0,-10.673162227191883,9999,0,0,0,0,0,37.764164436032686,0,10.524871357521844,0,0,0,0,0,0,0,0,null,0,0,48.289035793554532,0,9999,-10.673162227191883,0.68932100923364958,0,0.68932100923364958,3.4465724308594688E-2,0,3.4465724308594688E-2,null,0,null,0,0,0,0,0,0,0,9999,9999]
["Demand Control Ventilation-Retro-Small Off","Demand Control Ventilation-DCV Only-Small Off-ElecHt-Heat-Retro",15,87.206566151366033,0,0,0,0,"C-All-HVAC-Vent-All-All-E",null,null,93.729208175370857,1.7619813571594155E-2,1.7492641658726632E-2,0,0,0,0,0,0,0,"(na)","(na)","(na)","(na)",0,0,0,0,0,0,0,0,0,0,0,0,0,48.782160188863507,6.2259344309618339,0,0,55.008094619825343,0,9999,48.782160188863507,7.3696519721078255,0,0,56.151812160971332,0,9999,48.782160188863507,13.59558640306966,0,0,62.377746591933168,0,-10.673162227191883,9999,0,0,0,0,0,48.782160188863507,0,13.59558640306966,0,0,0,0,0,0,0,0,null,0,0,62.377746591933168,0,9999,-10.673162227191883,0.89043590388299876,0,0.89043590388299876,4.452137388330115E-2,0,4.452137388330115E-2,null,0,null,0,0,0,0,0,0,0,9999,9999]
["Demand Control Ventilation-Retro-Xlarge Ret","Demand Control Ventilation-DCV Only-Xlarge Ret-ElecHt-Heat-Retro",15,19.728979743443521,0,0,0,0,"C-All-HVAC-Vent-All-All-E",null,null,21.204614870986134,3.9861785686396631E-3,3.9574081193074016E-3,0,0,0,0,0,0,0,"(na)","(na)","(na)","(na)",0,0,0,0,0,0,0,0,0,0,0,0,0,11.036121391788472,1.4085101580453585,0,0,12.444631549833829,0,9999,11.036121391788472,1.6672565024699844,0,0,12.703377894258455,0,9999,11.036121391788472,3.0757666605153426,0,0,14.111888052303813,0,-10.673162227191877,9999,0,0,0,0,0,11.036121391788472,0,3.0757666605153426,0,0,0,0,0,0,0,0,null,0,0,14.111888052303813,0,9999,-10.673162227191877,0.20144574756045844,0,0.20144574756045844,1.0072192063718415E-2,0,1.0072192063718415E-2,null,0,null,0,0,0,0,0,0,0,9999,9999]
["Demand Control Ventilation-Retro-Large Ret","Demand Control Ventilation-DCV Only-Large Ret-ElecHt-Heat-Retro",15,4.1155088431797502,0,0,0,0,"C-All-HVAC-Vent-All-All-E",null,null,4.4233295969988387,8.3152567254178534E-4,8.2552409312972648E-4,0,0,0,0,0,0,0,"(na)","(na)","(na)","(na)",0,0,0,0,0,0,0,0,0,0,0,0,0,2.3021593499990622,0.29381833660560147,0,0,2.5959776866046638,0,9999,2.3021593499990622,0.3477933967692608,0,0,2.649952746768323,0,9999,2.3021593499990622,0.64161173337486233,0,0,2.9437710833739246,0,-10.673162227191883,9999,0,0,0,0,0,2.3021593499990622,0,0.64161173337486233,0,0,0,0,0,0,0,0,null,0,0,2.9437710833739246,0,9999,-10.673162227191883,4.2022028826986912E-2,0,4.2022028826986912E-2,2.1010815585744478E-3,0,2.1010815585744478E-3,null,0,null,0,0,0,0,0,0,0,9999,9999]
["Demand Control Ventilation-Retro-Medium Ret","Demand Control Ventilation-DCV Only-Medium Ret-ElecHt-Heat-Retro",15,58.661461500061939,0,0,0,0,"C-All-HVAC-Vent-All-All-E",null,null,63.049063613711397,1.185236457624411E-2,1.1766819523849559E-2,0,0,0,0,0,0,0,"(na)","(na)","(na)","(na)",0,0,0,0,0,0,0,0,0,0,0,0,0,32.814419121169017,4.1880150663179938,0,0,37.002434187487012,0,9999,32.814419121169017,4.9573624385150374,0,0,37.771781559684058,0,9999,32.814419121169017,9.1453775048330321,0,0,41.959796626002053,0,-10.67316222719189,9999,0,0,0,0,0,32.814419121169017,0,9.1453775048330321,0,0,0,0,0,0,0,0,null,0,0,41.959796626002046,0,9999,-10.673162227191881,0.59897177241495114,0,0.59897177241495114,2.9948305216512917E-2,0,2.9948305216512917E-2,null,0,null,0,0,0,0,0,0,0,9999,9999]
["Demand Control Ventilation-Retro-Small Ret","Demand Control Ventilation-DCV Only-Small Ret-ElecHt-Heat-Retro",15,79.16054481214465,0,0,0,0,"C-All-HVAC-Vent-All-All-E",null,null,85.081382187378509,1.5994140159066052E-2,1.5878701627867354E-2,0,0,0,0,0,0,0,"(na)","(na)","(na)","(na)",0,0,0,0,0,0,0,0,0,0,0,0,0,44.28132591485214,5.6515051935903857,0,0,49.932831108442528,0,9999,44.28132591485214,6.6896988487696945,0,0,50.971024763621834,0,9999,44.28132591485214,12.341204042360079,0,0,56.622529957212222,0,-10.673162227191883,9999,0,0,0,0,0,44.28132591485214,0,12.341204042360079,0,0,0,0,0,0,0,0,null,0,0,56.622529957212222,0,9999,-10.673162227191883,0.80828077956109989,0,0.80828077956109989,4.0413656539004778E-2,0,4.0413656539004778E-2,null,0,null,0,0,0,0,0,0,0,9999,9999]
["Demand Control Ventilation-Retro-School K-12","Demand Control Ventilation-DCV Only-School K-12-ElecHt-Heat-Retro",15,0,0,0,0,0,"C-All-HVAC-Vent-All-All-E",null,null,0,0,0,0,0,0,0,0,0,0,"(na)","(na)","(na)","(na)",0,0,0,0,0,0,0,0,0,0,0,0,0,0,0,0,0,0,0,9999,0,0,0,0,0,0,9999,0,0,0,0,0,0,9999,9999,9999,9999,9999,9999,9999,0,0,0,0,0,0,0,0,0,0,0,null,0,0,0,0,9999,9999,0,0,0,0,0,0,null,0,null,0,0,0,0,0,0,0,9999,9999]
["Demand Control Ventilation-Retro-University","Demand Control Ventilation-DCV Only-University-ElecHt-Heat-Retro",15,0,0,0,0,0,"C-All-HVAC-Vent-All-All-E",null,null,0,0,0,0,0,0,0,0,0,0,"(na)","(na)","(na)","(na)",0,0,0,0,0,0,0,0,0,0,0,0,0,0,0,0,0,0,0,9999,0,0,0,0,0,0,9999,0,0,0,0,0,0,9999,9999,9999,9999,9999,9999,9999,0,0,0,0,0,0,0,0,0,0,0,null,0,0,0,0,9999,9999,0,0,0,0,0,0,null,0,null,0,0,0,0,0,0,0,9999,9999]
["Demand Control Ventilation-Retro-Warehouse","Demand Control Ventilation-DCV Only-Warehouse-ElecHt-Heat-Retro",15,0.36265186748814482,0,0,0,0,"C-All-HVAC-Vent-All-All-E",null,null,0.38977652581784272,7.3272674048885107E-5,7.2743824746260372E-5,0,0,0,0,0,0,0,"(na)","(na)","(na)","(na)",0,0,0,0,0,0,0,0,0,0,0,0,0,0.20286249388481514,2.5890788364812629E-2,0,0,0.22875328224962777,0,9999,0.20286249388481514,3.0646981854367244E-2,0,0,0.23350947573918238,0,9999,0.20286249388481514,5.653777021917987E-2,0,0,0.25940026410399503,0,-10.673162227191884,9999,0,0,0,0,0,0.20286249388481514,0,5.653777021917987E-2,0,0,0,0,0,0,0,0,null,0,0,0.25940026410399503,0,9999,-10.673162227191884,3.7029120360176672E-3,0,3.7029120360176672E-3,1.8514384976347524E-4,0,1.8514384976347524E-4,null,0,null,0,0,0,0,0,0,0,9999,9999]
["Demand Control Ventilation-Retro-Supermarket","Demand Control Ventilation-DCV Only-Supermarket-ElecHt-Heat-Retro",15,13.630990640461935,0,0,0,0,"C-All-HVAC-Vent-All-All-E",null,null,14.65052479143367,2.7540989684676619E-3,2.7342211171712582E-3,0,0,0,0,0,0,0,"(na)","(na)","(na)","(na)",0,0,0,0,0,0,0,0,0,0,0,0,0,7.6249897032036458,0.97315669796317417,0,0,8.5981464011668205,0,9999,7.6249897032036458,1.1519276757314452,0,0,8.7769173789350905,0,9999,7.6249897032036458,2.1250843736946194,0,0,9.7500740768982652,0,-10.673162227191883,9999,0,0,0,0,0,7.6249897032036458,0,2.1250843736946194,0,0,0,0,0,0,0,0,null,0,0,9.7500740768982652,0,9999,-10.673162227191883,0.1391813025947278,0,0.1391813025947278,6.9589992759309929E-3,0,6.9589992759309929E-3,null,0,null,0,0,0,0,0,0,0,9999,9999]
["Demand Control Ventilation-Retro-MiniMart","Demand Control Ventilation-DCV Only-MiniMart-ElecHt-Heat-Retro",15,7.3097097973378498,0,0,0,0,"C-All-HVAC-Vent-All-All-E",null,null,7.8564417971351928,1.4769039715197033E-3,1.4662443409613755E-3,0,0,0,0,0,0,0,"(na)","(na)","(na)","(na)",0,0,0,0,0,0,0,0,0,0,0,0,0,4.0889516696358852,0.52186178078142231,0,0,4.6108134504173073,0,9999,4.0889516696358852,0.61772891194894186,0,0,4.7066805815848269,0,9999,4.0889516696358852,1.1395906927303643,0,0,5.228542362366249,0,-10.673162227191877,9999,0,0,0,0,0,4.0889516696358852,0,1.1395906927303643,0,0,0,0,0,0,0,0,null,0,0,5.228542362366249,0,9999,-10.673162227191877,7.4636903363646409E-2,0,7.4636903363646409E-2,3.7318098536392162E-3,0,3.7318098536392162E-3,null,0,null,0,0,0,0,0,0,0,9999,9999]
["Demand Control Ventilation-Retro-Restaurant","Demand Control Ventilation-DCV Only-Restaurant-ElecHt-Heat-Retro",15,26.471431055299245,0,0,0,0,"C-All-HVAC-Vent-All-All-E",null,null,28.451369909182628,5.3484697397453308E-3,5.3098668836507558E-3,0,0,0,0,0,0,0,"(na)","(na)","(na)","(na)",0,0,0,0,0,0,0,0,0,0,0,0,0,14.8077564242889,1.8898736794424094,0,0,16.69763010373131,0,9999,14.8077564242889,2.2370475377116601,0,0,17.044803962000561,0,9999,14.8077564242889,4.1269212171540692,0,0,18.93467764144297,0,-10.673162227191886,9999,0,0,0,0,0,14.8077564242889,0,4.1269212171540692,0,0,0,0,0,0,0,0,null,0,0,18.93467764144297,0,9999,-10.673162227191886,0.2702905719036004,0,0.2702905719036004,1.3514400706861742E-2,0,1.3514400706861742E-2,null,0,null,0,0,0,0,0,0,0,9999,9999]
["Demand Control Ventilation-Retro-Lodging","Demand Control Ventilation-DCV Only-Lodging-ElecHt-Heat-Retro",15,131.78830962526612,0,0,0,0,"C-All-HVAC-Vent-All-All-E",null,null,141.64545690867459,2.6627415216444031E-2,2.6435230474305089E-2,0,0,0,0,0,0,0,"(na)","(na)","(na)","(na)",0,0,0,0,0,0,0,0,0,0,0,0,0,73.720577645500782,9.4087568253752512,0,0,83.129334470876032,0,9999,73.720577645500782,11.137165683657472,0,0,84.857743329158254,0,9999,73.720577645500782,20.545922509032721,0,0,94.266500154533503,0,-10.673162227191883,9999,0,0,0,0,0,73.720577645500782,0,20.545922509032721,0,0,0,0,0,0,0,0,null,0,0,94.266500154533503,0,9999,-10.673162227191883,1.3456445745002927,0,1.3456445745002927,6.728159203162043E-2,0,6.728159203162043E-2,null,0,null,0,0,0,0,0,0,0,9999,9999]
["Demand Control Ventilation-Retro-Hospital","Demand Control Ventilation-DCV Only-Hospital-ElecHt-Heat-Retro",15,23.737474362730733,0,0,0,0,"C-All-HVAC-Vent-All-All-E",null,null,25.512926082195772,4.7960823523981828E-3,4.7614663807509028E-3,0,0,0,0,0,0,0,"(na)","(na)","(na)","(na)",0,0,0,0,0,0,0,0,0,0,0,0,0,13.2784184488112,1.6946884330072216,0,0,14.973106881818422,0,9999,13.2784184488112,2.0060063418449046,0,0,15.284424790656104,0,9999,13.2784184488112,3.7006947748521259,0,0,16.979113223663326,0,-10.673162227191881,9999,0,0,0,0,0,13.2784184488112,0,3.7006947748521259,0,0,0,0,0,0,0,0,null,0,0,16.979113223663326,0,9999,-10.673162227191881,0.24237509138234323,0,0.24237509138234323,1.2118639889042986E-2,0,1.2118639889042986E-2,null,0,null,0,0,0,0,0,0,0,9999,9999]
["Demand Control Ventilation-Retro-Residential Care","Demand Control Ventilation-DCV Only-Residential Care-ElecHt-Heat-Retro",15,89.413636071469668,0,0,0,0,"C-All-HVAC-Vent-All-All-E",null,null,96.101356571168594,1.8065745136703604E-2,1.7935354689774266E-2,0,0,0,0,0,0,0,"(na)","(na)","(na)","(na)",0,0,0,0,0,0,0,0,0,0,0,0,0,50.016764911214821,6.3835036738931841,0,0,56.400268585108009,0,9999,50.016764911214821,7.5561670237501479,0,0,57.57293193496497,0,9999,50.016764911214821,13.939670697643333,0,0,63.956435608858158,0,-10.673162227191886,9999,0,0,0,0,0,50.016764911214821,0,13.939670697643333,0,0,0,0,0,0,0,0,null,0,0,63.956435608858158,0,9999,-10.673162227191886,0.91297152689823613,0,0.91297152689823613,4.5648144371305072E-2,0,4.5648144371305072E-2,null,0,null,0,0,0,0,0,0,0,9999,9999]
["Demand Control Ventilation-Retro-Assembly","Demand Control Ventilation-DCV Only-Assembly-ElecHt-Heat-Retro",15,60.601972809860811,0,0,0,0,"C-All-HVAC-Vent-All-All-E",null,null,65.134716065696523,1.224443880896736E-2,1.2156063940584183E-2,0,0,0,0,0,0,0,"(na)","(na)","(na)","(na)",0,0,0,0,0,0,0,0,0,0,0,0,0,33.899914603224829,4.3265539024461983,0,0,38.226468505671029,0,9999,33.899914603224829,5.1213511567078216,0,0,39.021265759932653,0,9999,33.899914603224829,9.4479050591540208,0,0,43.347819662378853,0,-10.673162227191888,9999,0,0,0,0,0,33.899914603224829,0,9.4479050591540208,0,0,0,0,0,0,0,0,null,0,0,43.347819662378853,0,9999,-10.673162227191888,0.61878565820810094,0,0.61878565820810094,3.0938990131205844E-2,0,3.0938990131205844E-2,null,0,null,0,0,0,0,0,0,0,9999,9999]
["Demand Control Ventilation-Retro-Other","Demand Control Ventilation-DCV Only-Other-ElecHt-Heat-Retro",15,46.409762649868242,0,0,0,0,"C-All-HVAC-Vent-All-All-E",null,null,49.880995167597391,9.3769471942429291E-3,9.3092685944266337E-3,0,0,0,0,0,0,0,"(na)","(na)","(na)","(na)",0,0,0,0,0,0,0,0,0,0,0,0,0,25.960986377830761,3.3133300847215543,0,0,29.274316462552314,0,9999,25.960986377830761,3.9219959451677129,0,0,29.882982322998473,0,9999,25.960986377830761,7.2353260298892668,0,0,33.196312407720029,0,-10.673162227191886,9999,0,0,0,0,0,25.960986377830761,0,7.2353260298892668,0,0,0,0,0,0,0,0,null,0,0,33.196312407720029,0,9999,-10.673162227191886,0.4738739383729712,0,0.4738739383729712,2.3693472704608757E-2,0,2.3693472704608757E-2,null,0,null,0,0,0,0,0,0,0,9999,9999]
["Demand Control Ventilation-Retro-Large Off","Demand Control Ventilation-DCV Only-Large Off-GasHt-Vent-Retro",15,1.3904984904551232,2.1319999999999995E-2,61.666771762584276,0,0,"C-All-HVAC-Vent-All-All-E",null,null,1.4945012541049998,2.8094586514135537E-4,2.7891812387513407E-4,2.1533200160434841E-2,0,0,12.29717806516385,28.416908118368266,0,41.262445856743852,"(na)","(na)","(na)","(na)",0,0,0,0,0,0,0,0,12.29717806516385,28.416908118368266,0,41.262445856743852,81.97653204027597,0.77782583465123978,9.9271795806047808E-2,0,0,0.87709763045728761,12.29717806516385,7.1325114250559651E-2,0.77782583465123978,0.11750823813666503,0,0,0.89533407278790478,28.416908118368266,3.1507089689647626E-2,0.77782583465123978,0.21678003394271284,0,0,0.99460586859395261,40.714086183532118,1993.8843556646327,2.4429035791456548E-2,605.45140638202849,1399.1061115097957,0,2031.5559994613286,4036.1135173531525,0.77782583465123978,0.15539650647872527,0.21678003394271284,0,0,0,0,0,0,0,81.97653204027597,null,0,0,1.150002375072678,81.97653204027597,1.4028434070712692E-2,4017.7894100964727,1.419789626904097E-2,2.5193844187708764E-3,1.6717280687811847E-2,7.0988809569987488E-4,1.259692209385438E-4,8.3585731663841868E-4,null,2.1319999999999995E-2,"C-All-HVAC-Vent-All-All-E",0,0,0.15539650647872527,0,0,0.15539650647872527,0,0,9999]
["Demand Control Ventilation-Retro-Medium Off","Demand Control Ventilation-DCV Only-Medium Off-GasHt-Vent-Retro",15,1.3587117414120564,2.1319999999999995E-2,60.257071420031764,0,0,"C-All-HVAC-Vent-All-All-E",null,null,1.4603370053590445,2.7452345204904592E-4,2.7254206488043498E-4,2.1533200160434841E-2,0,0,12.016064985373792,27.767298548031516,0,40.31918772280504,"(na)","(na)","(na)","(na)",0,0,0,0,0,0,0,0,12.016064985373792,27.767298548031516,0,40.31918772280504,80.102551256210347,0.76004476205390026,9.7002445870034176E-2,0,0,0.85704720792393441,12.016064985373792,7.1325114250559596E-2,0.76004476205390026,0.11482200373815048,0,0,0.87486676579205069,27.767298548031516,3.1507089689647605E-2,0.76004476205390026,0.21182444960818464,0,0,0.97186921166208484,39.783363533405307,1993.8843556646332,2.4429035791456531E-2,605.45140638202861,1399.1061115097962,0,2031.5559994613291,4036.1135173531538,0.76004476205390026,0.15539650647872527,0.21182444960818464,0,0,0,0,0,0,0,80.102551256210347,null,0,0,1.1272657181408101,80.102551256210347,1.4072781708727576E-2,4017.6104179952185,1.3873332834602599E-2,2.5193844187708764E-3,1.6392717253373476E-2,6.9366007754554607E-4,1.259692209385438E-4,8.1962929848408987E-4,null,2.1319999999999995E-2,"C-All-HVAC-Vent-All-All-E",0,0,0.15539650647872527,0,0,0.15539650647872527,0,0,9999]
["Demand Control Ventilation-Retro-Small Off","Demand Control Ventilation-DCV Only-Small Off-GasHt-Vent-Retro",15,0.80734713269307057,2.1319999999999995E-2,35.804779154175733,0,0,"C-All-HVAC-Vent-All-All-E",null,null,0.86773291060024405,1.6312195965750869E-4,1.6194461850369603E-4,2.1533200160434841E-2,0,0,7.1399512615627483,16.499341385014972,0,23.957679622824706,"(na)","(na)","(na)","(na)",0,0,0,0,0,0,0,0,7.1399512615627483,16.499341385014972,0,23.957679622824706,47.596972269402428,0.45161894216420917,5.7638897310181104E-2,0,0,0.50925783947439029,7.1399512615627483,7.1325114250559624E-2,0.45161894216420917,6.8227286673572168E-2,0,0,0.51984622883778131,16.499341385014972,3.1507089689647605E-2,0.45161894216420917,0.12586618398375327,0,0,0.57748512614796244,23.639292646577722,1993.8843556646325,2.4429035791456534E-2,605.45140638202838,1399.1061115097959,0,2031.5559994613284,4036.1135173531529,0.45161894216420917,0.15539650647872527,0.12586618398375327,0,0,0,0,0,0,0,47.596972269402428,null,0,0,0.73288163262668771,47.596972269402428,1.5397652364913524E-2,4012.2630896310416,8.2435406595314179E-3,2.5193844187708764E-3,1.0762925078302295E-2,4.1217313253511591E-4,1.259692209385438E-4,5.3814235347365976E-4,null,2.1319999999999995E-2,"C-All-HVAC-Vent-All-All-E",0,0,0.15539650647872527,0,0,0.15539650647872527,0,0,9999]
["Demand Control Ventilation-Retro-Xlarge Ret","Demand Control Ventilation-DCV Only-Xlarge Ret-GasHt-Vent-Retro",15,4.7654660287526811,8.5900000000000004E-2,32.509550664045136,0,0,"C-All-HVAC-Vent-All-All-E",null,null,5.1219005308193895,9.6284748630791166E-4,9.5589808493451293E-4,8.6759000646404946E-2,0,0,6.4828386813137637,14.980854158318827,0,21.75277764282335,"(na)","(na)","(na)","(na)",0,0,0,0,0,0,0,0,6.4828386813137637,14.980854158318827,0,21.75277764282335,43.216470482455946,2.6657365087131013,0.34022070054326442,0,0,3.0059572092563656,6.4828386813137637,0.46367916232757478,2.6657365087131013,0.40271997473047966,0,0,3.068456483443581,14.980854158318827,0.20482520228926168,2.6657365087131013,0.74294067527374408,0,0,3.4086771839868453,21.463692839632593,297.6764588076324,0.15881131031155746,93.13312790806863,215.21649312675564,0,312.50264307892485,620.85226411374913,2.6657365087131013,0.62610506128154275,0.74294067527374408,0,0,0,0,0,0,0,43.216470482455946,null,0,0,4.0347822452683877,43.216470482455946,9.3362141799764473E-2,601.18441211827724,4.8658515499519654E-2,1.0150803075629352E-2,5.8809318575149004E-2,2.4329027521392097E-3,5.075401537814688E-4,2.9404429059206785E-3,null,8.5900000000000004E-2,"C-All-HVAC-Vent-All-All-E",0,0,0.62610506128154275,0,0,0.62610506128154275,0,0,9999]
["Demand Control Ventilation-Retro-Large Ret","Demand Control Ventilation-DCV Only-Large Ret-GasHt-Vent-Retro",15,5.3378664435332857,8.5900000000000004E-2,36.414411211188963,0,0,"C-All-HVAC-Vent-All-All-E",null,null,5.7371138112450568,1.0784991974328707E-3,1.0707150738718393E-3,8.6759000646404946E-2,0,0,7.2615200375023443,16.780268335704932,0,24.365596382954287,"(na)","(na)","(na)","(na)",0,0,0,0,0,0,0,0,7.2615200375023443,16.780268335704932,0,24.365596382954287,48.407384756161562,2.9859294707606296,0.38108605745335966,0,0,3.3670155282139893,7.2615200375023443,0.46367916232757517,2.9859294707606296,0.45109238556822873,0,0,3.4370218563288581,16.780268335704932,0.20482520228926188,2.9859294707606296,0.83217844302158839,0,0,3.8181079137822178,24.041788373207275,297.67645880763234,0.1588113103115576,93.13312790806863,215.21649312675561,0,312.50264307892485,620.85226411374902,2.9859294707606296,0.62610506128154275,0.83217844302158839,0,0,0,0,0,0,0,48.407384756161562,null,0,0,4.4442129750637607,48.407384756161562,9.1808574196896198E-2,602.14894808197175,5.4503096970982434E-2,1.0150803075629352E-2,6.4653900046611784E-2,2.7251290603414022E-3,5.075401537814688E-4,3.232669214122871E-3,null,8.5900000000000004E-2,"C-All-HVAC-Vent-All-All-E",0,0,0.62610506128154275,0,0,0.62610506128154275,0,0,9999]
["Demand Control Ventilation-Retro-Medium Ret","Demand Control Ventilation-DCV Only-Medium Ret-GasHt-Vent-Retro",15,4.2313020830533539,5.2629999999999996E-2,61.564638452869644,0,0,"C-All-HVAC-Vent-All-All-E",null,null,4.5477836279782897,8.5492133400932283E-4,8.4875089520442546E-4,5.3156300396045304E-2,0,0,12.276811318858712,28.369843665421723,0,41.194106457066908,"(na)","(na)","(na)","(na)",0,0,0,0,0,0,0,0,12.276811318858712,28.369843665421723,0,41.194106457066908,81.84076144134734,2.3669325044252707,0.30208515814000719,0,0,2.6690176625652779,12.276811318858712,0.21740316709643767,2.3669325044252707,0.35757885119375982,0,0,2.7245113556190304,28.369843665421723,9.6035473009665251E-2,2.3669325044252707,0.65966400933376701,0,0,3.0265965137590376,40.646654984280431,646.97730301203035,7.4461146063053277E-2,198.63505812776077,459.0154071114614,0,666.50806289180048,1324.1585281310224,2.3669325044252707,0.38360779249415172,0.65966400933376701,0,0,0,0,0,0,0,81.84076144134734,null,0,0,3.4102043062531893,81.84076144134734,4.1668775390086926E-2,1307.2787089648834,4.3204353309657439E-2,6.2192871463373099E-3,4.9423640455994747E-2,2.1601972232896875E-3,3.1096435731686495E-4,2.4711615806065523E-3,null,5.2629999999999996E-2,"C-All-HVAC-Vent-All-All-E",0,0,0.38360779249415172,0,0,0.38360779249415172,0,0,9999]
["Demand Control Ventilation-Retro-Small Ret","Demand Control Ventilation-DCV Only-Small Ret-GasHt-Vent-Retro",15,1.7567925269637115,5.2629999999999996E-2,25.560996269303786,0,0,"C-All-HVAC-Vent-All-All-E",null,null,1.8881923660990083,3.5495442803403534E-4,3.5239252614951939E-4,5.3156300396045304E-2,0,0,5.0972041127233627,11.77886342413459,0,17.103363682911542,"(na)","(na)","(na)","(na)",0,0,0,0,0,0,0,0,5.0972041127233627,11.77886342413459,0,17.103363682911542,33.979431219769495,0.98272570806412574,0.12542260937892105,0,0,1.1081483174430469,5.0972041127233627,0.21740316709643773,0.98272570806412574,0.14846301238888535,0,0,1.1311887204530111,11.77886342413459,9.6035473009665293E-2,0.98272570806412574,0.2738856217678064,0,0,1.2566113298319321,16.876067536857953,646.97730301203012,7.4461146063053305E-2,198.63505812776071,459.01540711146123,0,666.50806289180025,1324.1585281310222,0.98272570806412574,0.38360779249415172,0.2738856217678064,0,0,0,0,0,0,0,33.979431219769495,null,0,0,1.6402191223260838,33.979431219769495,4.827094107954908E-2,1298.5363949630475,1.7937997225651873E-2,6.2192871463373099E-3,2.4157284371989184E-2,8.9689137389702893E-4,3.1096435731686495E-4,1.207855731213894E-3,null,5.2629999999999996E-2,"C-All-HVAC-Vent-All-All-E",0,0,0.38360779249415172,0,0,0.38360779249415172,0,0,9999]
["Demand Control Ventilation-Retro-School K-12","Demand Control Ventilation-DCV Only-School K-12-GasHt-Vent-Retro",15,0,0,0,0,0,"C-All-HVAC-Vent-All-All-E",null,null,0,0,0,0,0,0,0,0,0,0,"(na)","(na)","(na)","(na)",0,0,0,0,0,0,0,0,0,0,0,0,0,0,0,0,0,0,0,9999,0,0,0,0,0,0,9999,0,0,0,0,0,0,9999,9999,9999,9999,9999,9999,9999,0,0,0,0,0,0,0,0,0,0,0,null,0,0,0,0,9999,9999,0,0,0,0,0,0,null,0,"C-All-HVAC-Vent-All-All-E",0,0,0,0,0,0,0,9999,9999]
["Demand Control Ventilation-Retro-University","Demand Control Ventilation-DCV Only-University-GasHt-Vent-Retro",15,0,0,0,0,0,"C-All-HVAC-Vent-All-All-E",null,null,0,0,0,0,0,0,0,0,0,0,"(na)","(na)","(na)","(na)",0,0,0,0,0,0,0,0,0,0,0,0,0,0,0,0,0,0,0,9999,0,0,0,0,0,0,9999,0,0,0,0,0,0,9999,9999,9999,9999,9999,9999,9999,0,0,0,0,0,0,0,0,0,0,0,null,0,0,0,0,9999,9999,0,0,0,0,0,0,null,0,"C-All-HVAC-Vent-All-All-E",0,0,0,0,0,0,0,9999,9999]
["Demand Control Ventilation-Retro-Warehouse","Demand Control Ventilation-DCV Only-Warehouse-GasHt-Vent-Retro",15,0.48490455567019158,2.1319999999999995E-2,21.504876680134821,0,0,"C-All-HVAC-Vent-All-All-E",null,null,0.52117314153511307,9.7973446817016321E-5,9.7266318413454132E-5,2.1533200160434841E-2,0,0,4.2883596829607287,9.9097469714964372,0,14.389334552589698,"(na)","(na)","(na)","(na)",0,0,0,0,0,0,0,0,4.2883596829607287,9.9097469714964372,0,14.389334552589698,28.587441207046865,0.2712489753346683,3.4618768999999265E-2,0,0,0.30586774433466757,4.2883596829607287,7.132511425055961E-2,0.2712489753346683,4.0978311297983815E-2,0,0,0.31222728663265209,9.9097469714964372,3.1507089689647619E-2,0.2712489753346683,7.559708029798308E-2,0,0,0.34684605563265136,14.198106654457167,1993.8843556646329,2.4429035791456537E-2,605.45140638202872,1399.1061115097962,0,2031.5559994613293,4036.1135173531543,0.2712489753346683,0.15539650647872527,7.559708029798308E-2,0,0,0,0,0,0,0,28.587441207046865,null,0,0,0.50224256211137663,28.587441207046865,1.7568643463884859E-2,4003.500723110431,4.9511916978330463E-3,2.5193844187708764E-3,7.4705761166039223E-3,2.4755724222917869E-4,1.259692209385438E-4,3.7352646316772249E-4,null,2.1319999999999995E-2,"C-All-HVAC-Vent-All-All-E",0,0,0.15539650647872527,0,0,0.15539650647872527,0,0,9999]
["Demand Control Ventilation-Retro-Supermarket","Demand Control Ventilation-DCV Only-Supermarket-GasHt-Vent-Retro",15,0.351136765030864,2.1319999999999995E-2,15.57245181871653,0,0,"C-All-HVAC-Vent-All-All-E",null,null,0.37740014771913583,7.0946083661150688E-5,7.0434026644600097E-5,2.1533200160434841E-2,0,0,3.1053549172835235,7.1760028920255534,0,10.419832782886306,"(na)","(na)","(na)","(na)",0,0,0,0,0,0,0,0,3.1053549172835235,7.1760028920255534,0,10.419832782886306,20.701190592195381,0.19642110308762159,2.5068691176162859E-2,0,0,0.22148979426378446,3.1053549172835235,7.1325114250559624E-2,0.19642110308762159,2.9673863644598199E-2,0,0,0.22609496673221979,7.1760028920255534,3.1507089689647619E-2,0.19642110308762159,5.4742554820761055E-2,0,0,0.25116365790838263,10.281357809309077,1993.8843556646325,2.4429035791456541E-2,605.45140638202849,1399.1061115097962,0,2031.5559994613284,4036.1135173531525,0.19642110308762159,0.15539650647872527,5.4742554820761055E-2,0,0,0,0,0,0,0,20.701190592195381,null,0,0,0.4065601643871079,20.701190592195381,1.9639458058049394E-2,3995.1426803349905,3.5853353314486856E-3,2.5193844187708764E-3,6.1047197502195616E-3,1.7926507016658948E-4,1.259692209385438E-4,3.0523429110513331E-4,null,2.1319999999999995E-2,"C-All-HVAC-Vent-All-All-E",0,0,0.15539650647872527,0,0,0.15539650647872527,0,0,9999]
["Demand Control Ventilation-Retro-MiniMart","Demand Control Ventilation-DCV Only-MiniMart-GasHt-Vent-Retro",15,1.3753565969617547,2.1319999999999995E-2,60.995248782503019,0,0,"C-All-HVAC-Vent-All-All-E",null,null,1.4782268180155678,2.7788649298340337E-4,2.7588083289346236E-4,2.1533200160434841E-2,0,0,12.163267412394459,28.107460967513518,0,40.813116666724952,"(na)","(na)","(na)","(na)",0,0,0,0,0,0,0,0,12.163267412394459,28.107460967513518,0,40.813116666724952,81.083845046632931,0.76935566656006371,9.8190771289078632E-2,0,0,0.86754643784914232,12.163267412394459,7.1325114250559526E-2,0.76935566656006371,0.11622862709165313,0,0,0.88558429365171687,28.107460967513518,3.1507089689647577E-2,0.76935566656006371,0.21441939838073176,0,0,0.98377506494079547,40.270728379907979,1993.8843556646334,2.442903579145651E-2,605.45140638202861,1399.1061115097962,0,2031.5559994613284,4036.1135173531538,0.76935566656006371,0.15539650647872527,0.21441939838073176,0,0,0,0,0,0,0,81.083845046632931,null,0,0,1.1391715714195207,81.083845046632931,1.4049303788743127E-2,4017.705177545427,1.4043287663126304E-2,2.5193844187708764E-3,1.6562672081897181E-2,7.0215773855739473E-4,1.259692209385438E-4,8.2812695949593853E-4,null,2.1319999999999995E-2,"C-All-HVAC-Vent-All-All-E",0,0,0.15539650647872527,0,0,0.15539650647872527,0,0,9999]
["Demand Control Ventilation-Retro-Restaurant","Demand Control Ventilation-DCV Only-Restaurant-GasHt-Vent-Retro",15,9.7694695074012898,8.5900000000000004E-2,66.646380856655824,0,0,"C-All-HVAC-Vent-All-All-E",null,null,10.500179993703487,1.9738907172999398E-3,1.9596440592810844E-3,8.6759000646404946E-2,0,0,13.290178638640617,30.711581409138436,0,44.594399918210456,"(na)","(na)","(na)","(na)",0,0,0,0,0,0,0,0,13.290178638640617,30.711581409138436,0,44.594399918210456,88.5961599659895,5.464907603896088,0.69747129445262179,0,0,6.1623788983487096,13.290178638640617,0.46367916232757478,5.464907603896088,0.82559827085382109,0,0,6.2905058747499094,30.711581409138436,0.20482520228926171,5.464907603896088,1.523069565306443,0,0,6.987977169202531,44.001760047779051,297.6764588076324,0.15881131031155749,93.133127908068644,215.21649312675564,0,312.5026430789249,620.85226411374913,5.464907603896088,0.62610506128154275,1.523069565306443,0,0,0,0,0,0,0,88.5961599659895,null,0,0,7.6140822304840734,88.5961599659895,8.5941447500738011E-2,605.79156697512383,9.9752653902013599E-2,1.0150803075629352E-2,0.10990345697764295,4.9875854970091544E-3,5.075401537814688E-4,5.4951256507906228E-3,null,8.5900000000000004E-2,"C-All-HVAC-Vent-All-All-E",0,0,0.62610506128154275,0,0,0.62610506128154275,0,0,9999]
["Demand Control Ventilation-Retro-Lodging","Demand Control Ventilation-DCV Only-Lodging-GasHt-Vent-Retro",15,0.6371547092854527,2.1319999999999995E-2,28.256969931769824,0,0,"C-All-HVAC-Vent-All-All-E",null,null,0.6848108923687809,1.2873511352788305E-4,1.2780596120887371E-4,2.1533200160434841E-2,0,0,5.6348172751891177,13.021205672092531,0,18.907292510368144,"(na)","(na)","(na)","(na)",0,0,0,0,0,0,0,0,5.6348172751891177,13.021205672092531,0,18.907292510368144,37.563315457649793,0.35641562860648041,4.5488357327410266E-2,0,0,0.40190398593389065,5.6348172751891177,7.1325114250559582E-2,0.35641562860648041,5.3844666371487097E-2,0,0,0.41026029497796751,13.021205672092531,3.1507089689647605E-2,0.35641562860648041,9.9333023698897363E-2,0,0,0.45574865230537775,18.656022947281649,1993.8843556646323,2.4429035791456531E-2,605.45140638202849,1399.1061115097957,0,2031.5559994613284,4036.1135173531525,0.35641562860648041,0.15539650647872527,9.9333023698897363E-2,0,0,0,0,0,0,0,37.563315457649793,null,0,0,0.61114515878410303,37.563315457649793,1.6269734216435971E-2,4008.7432682818726,6.5057650417188837E-3,2.5193844187708764E-3,9.0251494604897606E-3,3.252851738751708E-4,1.259692209385438E-4,4.512543948137146E-4,null,2.1319999999999995E-2,"C-All-HVAC-Vent-All-All-E",0,0,0.15539650647872527,0,0,0.15539650647872527,0,0,9999]
["Demand Control Ventilation-Retro-Hospital","Demand Control Ventilation-DCV Only-Hospital-GasHt-Vent-Retro",15,2.3384724999999995,2.1319999999999995E-2,103.70816719360828,0,0,"C-All-HVAC-Vent-All-All-E",null,null,2.5133792722034212,4.7248104484222126E-4,4.6907088854164036E-4,2.1533200160434841E-2,0,0,20.680793924182225,47.790169227785725,0,69.393167688482706,"(na)","(na)","(na)","(na)",0,0,0,0,0,0,0,0,20.680793924182225,47.790169227785725,0,69.393167688482706,137.86413084045066,1.3081095280629298,0.16695046137164457,0,0,1.4750599894345744,20.680793924182225,7.1325114250559526E-2,1.3081095280629298,0.19761962008035056,0,0,1.5057291481432804,47.790169227785725,3.1507089689647577E-2,1.3081095280629298,0.3645700814519951,0,0,1.672679609514925,68.47096315196795,1993.8843556646325,2.442903579145651E-2,605.45140638202861,1399.1061115097962,0,2031.5559994613288,4036.1135173531534,1.3081095280629298,0.15539650647872527,0.3645700814519951,0,0,0,0,0,0,0,137.86413084045066,null,0,0,1.8280761159936503,137.86413084045066,1.3259983614659509E-2,4020.8909633695666,2.3877329037687606E-2,2.5193844187708764E-3,2.6396713456458481E-2,1.1938551542966251E-3,1.259692209385438E-4,1.3198243752351689E-3,null,2.1319999999999995E-2,"C-All-HVAC-Vent-All-All-E",0,0,0.15539650647872527,0,0,0.15539650647872527,0,0,9999]
["Demand Control Ventilation-Retro-Residential Care","Demand Control Ventilation-DCV Only-Residential Care-GasHt-Vent-Retro",15,0.92409319076744389,2.1319999999999995E-2,40.982312655199081,0,0,"C-All-HVAC-Vent-All-All-E",null,null,0.99321102611179557,1.8671013505841273E-4,1.853625450325221E-4,2.1533200160434841E-2,0,0,8.1724206057593243,18.88522100175248,0,27.422068784948408,"(na)","(na)","(na)","(na)",0,0,0,0,0,0,0,0,8.1724206057593243,18.88522100175248,0,27.422068784948408,54.479710392460213,0.51692509005813381,6.5973743351277342E-2,0,0,0.58289883340941118,8.1724206057593243,7.1325114250559582E-2,0.51692509005813381,7.8093261852898055E-2,0,0,0.59501835191103192,18.88522100175248,3.1507089689647598E-2,0.51692509005813381,0.1440670052041754,0,0,0.66099209526230929,27.057641607511805,1993.8843556646329,2.4429035791456531E-2,605.45140638202861,1399.1061115097962,0,2031.5559994613284,4036.1135173531529,0.51692509005813381,0.15539650647872527,0.1440670052041754,0,0,0,0,0,0,0,54.479710392460213,null,0,0,0.81638860174103445,54.479710392460213,1.49851861520545E-2,4013.9278500882133,9.4355940373217484E-3,2.5193844187708764E-3,1.1954978456092625E-2,4.7177523740310283E-4,1.259692209385438E-4,5.9774445834164663E-4,null,2.1319999999999995E-2,"C-All-HVAC-Vent-All-All-E",0,0,0.15539650647872527,0,0,0.15539650647872527,0,0,9999]
["Demand Control Ventilation-Retro-Assembly","Demand Control Ventilation-DCV Only-Assembly-GasHt-Vent-Retro",15,3.8383907158133432,2.1319999999999995E-2,170.22755927639261,0,0,"C-All-HVAC-Vent-All-All-E",null,null,4.1254843337876803,7.7553482280427516E-4,7.6993736023688465E-4,2.1533200160434841E-2,0,0,33.945649304933056,78.443232439586652,0,113.90259692870049,"(na)","(na)","(na)","(na)",0,0,0,0,0,0,0,0,33.945649304933056,78.443232439586652,0,113.90259692870049,226.29147867322018,2.1471432603050631,0.27403405467871644,0,0,2.4211773149837796,33.945649304933056,7.132511425055961E-2,2.1471432603050631,0.32437469971486843,0,0,2.4715179600199315,78.443232439586652,3.1507089689647612E-2,2.1471432603050631,0.59840875439358487,0,0,2.7455520146986481,112.38888174451971,1993.8843556646329,2.4429035791456537E-2,605.45140638202861,1399.1061115097962,0,2031.5559994613291,4036.1135173531534,2.1471432603050631,0.15539650647872527,0.59840875439358487,0,0,0,0,0,0,0,226.29147867322018,null,0,0,2.9009485211773733,226.29147867322018,1.2819521699120338E-2,4022.6687176607525,3.9192472050315112E-2,2.5193844187708764E-3,4.1711856469085991E-2,1.9596050585491483E-3,1.259692209385438E-4,2.0855742794876923E-3,null,2.1319999999999995E-2,"C-All-HVAC-Vent-All-All-E",0,0,0.15539650647872527,0,0,0.15539650647872527,0,0,9999]
["Demand Control Ventilation-Retro-Other","Demand Control Ventilation-DCV Only-Other-GasHt-Vent-Retro",15,1.7219537588184211,2.1319999999999995E-2,76.366375195433363,0,0,"C-All-HVAC-Vent-All-All-E",null,null,1.8507478215403386,3.4791536404063679E-4,3.4540426696340212E-4,2.1533200160434841E-2,0,0,15.228475354358345,35.190690305895863,0,51.098238673963365,"(na)","(na)","(na)","(na)",0,0,0,0,0,0,0,0,15.228475354358345,35.190690305895863,0,51.098238673963365,101.51740433421757,0.96323737773018725,0.12293536678125269,0,0,1.08617274451144,15.228475354358345,7.1325114250559596E-2,0.96323737773018725,0.1455188579782862,0,0,1.1087562357084735,35.190690305895863,3.1507089689647605E-2,0.96323737773018725,0.2684542247595389,0,0,1.2316916024897262,50.419165660254208,1993.8843556646323,2.4429035791456534E-2,605.45140638202838,1399.1061115097959,0,2031.5559994613284,4036.1135173531525,0.96323737773018725,0.15539650647872527,0.2684542247595389,0,0,0,0,0,0,0,101.51740433421757,null,0,0,1.3870881089684515,101.51740433421757,1.3663549792918788E-2,4019.2621244623456,1.758227068609549E-2,2.5193844187708764E-3,2.0101655104866365E-2,8.7910521523166076E-4,1.259692209385438E-4,1.0050744361702045E-3,null,2.1319999999999995E-2,"C-All-HVAC-Vent-All-All-E",0,0,0.15539650647872527,0,0,0.15539650647872527,0,0,9999]
["Demand Control Ventilation-Retro-Large Off","Demand Control Ventilation-DCV Only-Large Off-HtPmpHt-heat-Retro",15,35.399290310499765,0,0,0,0,"C-All-HVAC-Vent-All-All-E",null,null,38.046991152182265,7.1523157413987343E-3,7.1006935337873797E-3,0,0,0,0,0,0,0,"(na)","(na)","(na)","(na)",0,0,0,0,0,0,0,0,0,0,0,0,0,19.801878765660259,2.5272599312443158,0,0,22.329138696904575,0,9999,19.801878765660259,2.9915230143929414,0,0,22.793401780053202,0,9999,19.801878765660259,5.5187829456372572,0,0,25.320661711297518,0,-10.673162227191886,9999,0,0,0,0,0,19.801878765660259,0,5.5187829456372572,0,0,0,0,0,0,0,0,null,0,0,25.320661711297518,0,9999,-10.673162227191886,0.36144983635447042,0,0.36144983635447042,1.8072320797286576E-2,0,1.8072320797286576E-2,null,0,null,0,0,0,0,0,0,0,9999,9999]
["Demand Control Ventilation-Retro-Medium Off","Demand Control Ventilation-DCV Only-Medium Off-HtPmpHt-Vent-Retro",15,0.69847534511274512,0,30.976459150819956,0,0,"C-All-HVAC-Vent-All-All-E",null,null,0.75071802407405053,1.4112475594876611E-4,1.4010618074681842E-4,0,0,0,6.1771197537703539,14.274384216352397,0,20.726956057716972,"(na)","(na)","(na)","(na)",0,0,0,0,0,0,0,0,6.1771197537703539,14.274384216352397,0,20.726956057716972,41.178460027839719,0.39071755347092052,4.9866218706138929E-2,0,0,0.44058377217705946,6.1771197537703539,7.1325114250559665E-2,0.39071755347092052,5.9026750298185014E-2,0,0,0.44974430376910551,14.274384216352397,3.1507089689647633E-2,0.39071755347092052,0.10889296900432394,0,0,0.49961052247524446,20.451503970122751,1993.8843556646327,2.4429035791456551E-2,605.45140638202849,1399.1061115097959,0,2031.5559994613284,4036.1135173531525,0.39071755347092052,0,0.10889296900432394,0,0,0,0,0,0,0,41.178460027839719,null,0,0,0.49961052247524446,41.178460027839719,1.213281220661167E-2,4025.4403551259607,7.1318887179427585E-3,0,7.1318887179427585E-3,3.5659106143517397E-4,0,3.5659106143517397E-4,null,0,null,0,0,0,0,0,0,0,9999,9999]
["Demand Control Ventilation-Retro-Small Off","Demand Control Ventilation-DCV Only-Small Off-HtPmpHt-Vent-Retro",15,0.90226109016596712,0,40.014087824945307,0,0,"C-All-HVAC-Vent-All-All-E",null,null,0.9697459868092545,1.8229902750710041E-4,1.8098327487738229E-4,0,0,0,7.979343640573223,18.439049502048029,0,26.7742105706525,"(na)","(na)","(na)","(na)",0,0,0,0,0,0,0,0,7.979343640573223,18.439049502048029,0,26.7742105706525,53.192603713273755,0.50471251162737629,6.4415085180985113E-2,0,0,0.56912759680836145,7.979343640573223,7.1325114250559624E-2,0.50471251162737629,7.6248274825503115E-2,0,0,0.58096078645287941,18.439049502048029,3.1507089689647612E-2,0.50471251162737629,0.14066336000648821,0,0,0.64537587163386456,26.418393142621252,1993.8843556646325,2.4429035791456541E-2,605.45140638202849,1399.1061115097962,0,2031.5559994613284,4036.1135173531529,0.50471251162737629,0,0.14066336000648821,0,0,0,0,0,0,0,53.192603713273755,null,0,0,0.64537587163386456,53.192603713273755,1.213281220661166E-2,4025.4403551259611,9.212674054450299E-3,0,9.212674054450299E-3,4.6062934373439587E-4,0,4.6062934373439587E-4,null,0,null,0,0,0,0,0,0,0,9999,9999]
["Demand Control Ventilation-Retro-Xlarge Ret","Demand Control Ventilation-DCV Only-Xlarge Ret-HtPmpHt-Vent-Retro",15,0.16093616297993293,0,1.0978910168503657,0,0,"C-All-HVAC-Vent-All-All-E",null,null,0.17297343294895071,3.2516647699580274E-5,3.2281957118366542E-5,0,0,0,0.21893413493949637,0.50592348615122806,0,0.73462040162900211,"(na)","(na)","(na)","(na)",0,0,0,0,0,0,0,0,0.21893413493949637,0.50592348615122806,0,0.73462040162900211,1.4594780227197266,9.0025488092735348E-2,1.1489708200922604E-2,0,0,0.10151519629365795,0.21893413493949637,0.463679162327575,9.0025488092735348E-2,1.3600392301078471E-2,0,0,0.10362588039381382,0.50592348615122806,0.20482520228926179,9.0025488092735348E-2,2.5090100502001077E-2,0,0,0.11511558859473642,0.72485762109072449,297.67645880763246,0.15881131031155751,93.13312790806863,215.21649312675564,0,312.50264307892485,620.85226411374913,9.0025488092735348E-2,0,2.5090100502001077E-2,0,0,0,0,0,0,0,1.4594780227197266,null,0,0,0.11511558859473642,1.4594780227197266,7.8874492662944912E-2,610.17910188655731,1.6432631632549803E-3,0,1.6432631632549803E-3,8.2162380650751564E-5,0,8.2162380650751564E-5,null,0,null,0,0,0,0,0,0,0,9999,9999]
["Demand Control Ventilation-Retro-Large Ret","Demand Control Ventilation-DCV Only-Large Ret-HtPmpHt-Vent-Retro",15,3.3571639818396767E-2,0,0.22902249621888685,0,0,"C-All-HVAC-Vent-All-All-E",null,null,3.6082640977577234E-2,6.7830446834259658E-6,6.7340877087138246E-6,0,0,0,4.5670145143559271E-2,0.10553675903690139,0,0.15324344180996768,"(na)","(na)","(na)","(na)",0,0,0,0,0,0,0,0,4.5670145143559271E-2,0.10553675903690139,0,0.15324344180996768,0.30445034599042836,1.8779516081177641E-2,2.3967785623666788E-3,0,0,2.117629464354432E-2,4.5670145143559271E-2,0.46367916232757478,1.8779516081177641E-2,2.8370719375087534E-3,0,0,2.1616588018686395E-2,0.10553675903690139,0.20482520228926171,1.8779516081177641E-2,5.2338504998754327E-3,0,0,2.4013366581053075E-2,0.15120690418046068,297.6764588076324,0.15881131031155746,93.13312790806863,215.21649312675561,0,312.50264307892479,620.85226411374913,1.8779516081177641E-2,0,5.2338504998754327E-3,0,0,0,0,0,0,0,0.30445034599042836,null,0,0,2.4013366581053075E-2,0.30445034599042836,7.8874492662944884E-2,610.17910188655719,3.4278833310145566E-4,0,3.4278833310145566E-4,1.7139254464349185E-5,0,1.7139254464349185E-5,null,0,null,0,0,0,0,0,0,0,9999,9999]
["Demand Control Ventilation-Retro-Medium Ret","Demand Control Ventilation-DCV Only-Medium Ret-HtPmpHt-Vent-Retro",15,0.3661929473586345,0,5.3280375557248494,0,0,"C-All-HVAC-Vent-All-All-E",null,null,0.39358246184989165,7.3988138146529491E-5,7.3454124944893236E-5,0,0,0,1.0624818632127968,2.4552339833056229,0,3.565094375496157,"(na)","(na)","(na)","(na)",0,0,0,0,0,0,0,0,1.0624818632127968,2.4552339833056229,0,3.565094375496157,7.0828102220145768,0.20484332552522089,2.6143596519765097E-2,0,0,0.230986922044986,1.0624818632127968,0.21740316709643759,0.20484332552522089,3.0946231410939048E-2,0,0,0.23578955693615994,2.4552339833056229,9.6035473009665209E-2,0.20484332552522089,5.7089827930704148E-2,0,0,0.26193315345592505,3.5177158465184197,646.97730301203023,7.4461146063053249E-2,198.63505812776071,459.0154071114614,0,666.50806289180036,1324.1585281310224,0.20484332552522089,0,5.7089827930704148E-2,0,0,0,0,0,0,0,7.0828102220145768,null,0,0,0.26193315345592505,7.0828102220145768,3.6981529258230346E-2,1313.4853659038306,3.7390687704742021E-3,0,3.7390687704742021E-3,1.869516693786985E-4,0,1.869516693786985E-4,null,0,null,0,0,0,0,0,0,0,9999,9999]
["Demand Control Ventilation-Retro-Small Ret","Demand Control Ventilation-DCV Only-Small Ret-HtPmpHt-Vent-Retro",15,0.49415804649265183,0,7.1899053468059479,0,0,"C-All-HVAC-Vent-All-All-E",null,null,0.53111875005892351,9.9843085657000088E-5,9.9122463038718429E-5,0,0,0,1.4337631725192994,3.3132086175445856,0,4.8109066132061917,"(na)","(na)","(na)","(na)",0,0,0,0,0,0,0,0,1.4337631725192994,3.3132086175445856,0,4.8109066132061917,9.5578784032700774,0.27642525152038494,3.5279403051547038E-2,0,0,0.31170465457193197,1.4337631725192994,0.21740316709643775,0.27642525152038494,4.1760305245208601E-2,0,0,0.31818555676559357,3.3132086175445856,9.6035473009665306E-2,0.27642525152038494,7.7039708296755632E-2,0,0,0.3534649598171406,4.7469717900638848,646.97730301203012,7.4461146063053318E-2,198.63505812776071,459.01540711146129,0,666.50806289180025,1324.1585281310222,0.27642525152038494,0,7.7039708296755632E-2,0,0,0,0,0,0,0,9.5578784032700774,null,0,0,0.35346495981714054,9.5578784032700774,3.6981529258230374E-2,1313.4853659038304,5.0456758729153211E-3,0,5.0456758729153211E-3,2.5228140627798866E-4,0,2.5228140627798866E-4,null,0,null,0,0,0,0,0,0,0,9999,9999]
["Demand Control Ventilation-Retro-School K-12","Demand Control Ventilation-DCV Only-School K-12-HtPmpHt-Vent-Retro",15,0,0,0,0,0,"C-All-HVAC-Vent-All-All-E",null,null,0,0,0,0,0,0,0,0,0,0,"(na)","(na)","(na)","(na)",0,0,0,0,0,0,0,0,0,0,0,0,0,0,0,0,0,0,0,9999,0,0,0,0,0,0,9999,0,0,0,0,0,0,9999,9999,9999,9999,9999,9999,9999,0,0,0,0,0,0,0,0,0,0,0,null,0,0,0,0,9999,9999,0,0,0,0,0,0,null,0,null,0,0,0,0,0,0,0,9999,9999]
["Demand Control Ventilation-Retro-University","Demand Control Ventilation-DCV Only-University-HtPmpHt-Vent-Retro",15,0,0,0,0,0,"C-All-HVAC-Vent-All-All-E",null,null,0,0,0,0,0,0,0,0,0,0,"(na)","(na)","(na)","(na)",0,0,0,0,0,0,0,0,0,0,0,0,0,0,0,0,0,0,0,9999,0,0,0,0,0,0,9999,0,0,0,0,0,0,9999,9999,9999,9999,9999,9999,9999,0,0,0,0,0,0,0,0,0,0,0,null,0,0,0,0,9999,9999,0,0,0,0,0,0,null,0,null,0,0,0,0,0,0,0,9999,9999]
["Demand Control Ventilation-Retro-Warehouse","Demand Control Ventilation-DCV Only-Warehouse-HtPmpHt-Vent-Retro",15,3.2441133823294965E-3,0,0.14387214433766035,0,0,"C-All-HVAC-Vent-All-All-E",null,null,3.4867578437739553E-3,6.5546294877090636E-7,6.507321111448279E-7,0,0,0,2.8690027497282132E-2,6.6298289817669845E-2,0,9.6267672140870397E-2,"(na)","(na)","(na)","(na)",0,0,0,0,0,0,0,0,2.8690027497282132E-2,6.6298289817669845E-2,0,9.6267672140870397E-2,0.19125598945582237,1.8147126491937276E-3,2.316068399016178E-4,0,0,2.0463194890953454E-3,2.8690027497282132E-2,7.1325114250559624E-2,1.8147126491937276E-3,2.7415351436184778E-4,0,0,2.0888661635555753E-3,6.6298289817669845E-2,3.1507089689647619E-2,1.8147126491937276E-3,5.0576035426346563E-4,0,0,2.3204730034571933E-3,9.498831731495197E-2,1993.884355664632,2.4429035791456548E-2,605.45140638202838,1399.1061115097957,0,2031.5559994613286,4036.1135173531525,1.8147126491937276E-3,0,5.0576035426346563E-4,0,0,0,0,0,0,0,0.19125598945582237,null,0,0,2.3204730034571933E-3,0.19125598945582237,1.2132812206611663E-2,4025.4403551259602,3.3124512973937928E-5,0,3.3124512973937928E-5,1.6562099757926289E-6,0,1.6562099757926289E-6,null,0,null,0,0,0,0,0,0,0,9999,9999]
["Demand Control Ventilation-Retro-Supermarket","Demand Control Ventilation-DCV Only-Supermarket-HtPmpHt-Vent-Retro",15,4.6622299509658752E-2,0,2.0676374139521294,0,0,"C-All-HVAC-Vent-All-All-E",null,null,5.010942878739693E-2,9.419889601126612E-6,9.3519010622746776E-6,0,0,0,0.41231452088094028,0.952796145071239,0,1.3834967261305893,"(na)","(na)","(na)","(na)",0,0,0,0,0,0,0,0,0.41231452088094028,0.952796145071239,0,1.3834967261305893,2.7486073920827687,2.6079876589863001E-2,3.328503719134832E-3,0,0,2.9408380308997832E-2,0.41231452088094028,7.1325114250559665E-2,2.6079876589863001E-2,3.9399570088470481E-3,0,0,3.001983359871005E-2,0.952796145071239,3.150708968964764E-2,2.6079876589863001E-2,7.2684607279818805E-3,0,0,3.3348337317844881E-2,1.3651106659521792,1993.884355664632,2.4429035791456555E-2,605.45140638202838,1399.1061115097957,0,2031.5559994613279,4036.1135173531525,2.6079876589863001E-2,0,7.2684607279818805E-3,0,0,0,0,0,0,0,2.7486073920827687,null,0,0,3.3348337317844881E-2,2.7486073920827687,1.2132812206611669E-2,4025.4403551259602,4.7604407829715523E-4,0,4.7604407829715523E-4,2.3801978674013535E-5,0,2.3801978674013535E-5,null,0,null,0,0,0,0,0,0,0,9999,9999]
["Demand Control Ventilation-Retro-MiniMart","Demand Control Ventilation-DCV Only-MiniMart-HtPmpHt-Vent-Retro",15,2.5001519587913322E-2,0,1.1087843767748338,0,0,"C-All-HVAC-Vent-All-All-E",null,null,2.6871515960033388E-2,5.0514787313259187E-6,5.0150194231464047E-6,0,0,0,0.22110641642740755,0.51094329826764151,0,0.74190936229994331,"(na)","(na)","(na)","(na)",0,0,0,0,0,0,0,0,0.22110641642740755,0.51094329826764151,0,0.74190936229994331,1.4739590769949924,1.3985508056648702E-2,1.784932356567947E-3,0,0,1.5770440413216649E-2,0.22110641642740755,7.1325114250559582E-2,1.3985508056648702E-2,2.1128282681942482E-3,0,0,1.6098336324842949E-2,0.51094329826764151,3.1507089689647605E-2,1.3985508056648702E-2,3.8977606247621952E-3,0,0,1.7883268681410897E-2,0.73204971469504909,1993.8843556646327,2.4429035791456534E-2,605.45140638202861,1399.1061115097959,0,2031.5559994613282,4036.1135173531525,1.3985508056648702E-2,0,3.8977606247621952E-3,0,0,0,0,0,0,0,1.4739590769949924,null,0,0,1.7883268681410897E-2,1.4739590769949924,1.2132812206611658E-2,4025.4403551259607,2.5528181735846731E-4,0,2.5528181735846731E-4,1.276397008101586E-5,0,1.276397008101586E-5,null,0,null,0,0,0,0,0,0,0,9999,9999]
["Demand Control Ventilation-Retro-Restaurant","Demand Control Ventilation-DCV Only-Restaurant-HtPmpHt-Vent-Retro",15,2.1701228772263956,0,14.804369436006805,0,0,"C-All-HVAC-Vent-All-All-E",null,null,2.3324378874480129,4.3846653080929326E-4,4.3530187601741169E-4,0,0,0,2.9521890297410263,6.822059822314829,0,9.9058938036886257,"(na)","(na)","(na)","(na)",0,0,0,0,0,0,0,0,2.9521890297410263,6.822059822314829,0,9.9058938036886257,19.680142655744483,1.2139370519718278,0.1549314843711472,0,0,1.3688685363429749,2.9521890297410263,0.46367916232757483,1.2139370519718278,0.18339273116325186,0,0,1.3973297831350797,6.822059822314829,0.20482520228926171,1.2139370519718278,0.33832421553439906,0,0,1.5522612675062268,9.7742488520558553,297.67645880763246,0.15881131031155749,93.133127908068658,215.21649312675567,0,312.5026430789249,620.85226411374924,1.2139370519718278,0,0.33832421553439906,0,0,0,0,0,0,0,19.680142655744483,null,0,0,1.5522612675062268,19.680142655744483,7.8874492662944884E-2,610.17910188655742,2.2158369615955697E-2,0,2.2158369615955697E-2,1.1079079965378058E-3,0,1.1079079965378058E-3,null,0,null,0,0,0,0,0,0,0,9999,9999]
["Demand Control Ventilation-Retro-Lodging","Demand Control Ventilation-DCV Only-Lodging-HtPmpHt-Vent-Retro",15,0.77605487205493895,0,34.417008719361846,0,0,"C-All-HVAC-Vent-All-All-E",null,null,0.83410013567205177,1.5679945639874489E-4,1.55667748238168E-4,0,0,0,6.8632112983264921,15.859837421886779,0,23.029095220051708,"(na)","(na)","(na)","(na)",0,0,0,0,0,0,0,0,6.8632112983264921,15.859837421886779,0,23.029095220051708,45.752143940264979,0.43411447961638422,5.5404850362484333E-2,0,0,0.48951932997886854,6.8632112983264921,7.1325114250559596E-2,0.43411447961638422,6.5582840498232126E-2,0,0,0.49969732011461632,15.859837421886779,3.1507089689647612E-2,0.43411447961638422,0.12098769086071645,0,0,0.55510217047710064,22.723048720213271,1993.8843556646325,2.4429035791456537E-2,605.45140638202861,1399.1061115097959,0,2031.5559994613286,4036.1135173531529,0.43411447961638422,0,0.12098769086071645,0,0,0,0,0,0,0,45.752143940264979,null,0,0,0.55510217047710064,45.752143940264979,1.213281220661166E-2,4025.4403551259616,7.9240262741410543E-3,0,7.9240262741410543E-3,3.9619756444422453E-4,0,3.9619756444422453E-4,null,0,null,0,0,0,0,0,0,0,9999,9999]
["Demand Control Ventilation-Retro-Hospital","Demand Control Ventilation-DCV Only-Hospital-HtPmpHt-Vent-Retro",15,2.5697499999999998E-2,0,1.1396501889407502,0,0,"C-All-HVAC-Vent-All-All-E",null,null,2.7619552441795842E-2,5.192099393870564E-6,5.1546251488092357E-6,0,0,0,0.22726147169431016,0.52516669481083211,0,0.76256228229101852,"(na)","(na)","(na)","(na)",0,0,0,0,0,0,0,0,0.22726147169431016,0.52516669481083211,0,0.76256228229101852,1.5149904487961607,1.4374829978713539E-2,1.8346204546334569E-3,0,0,1.6209450433346997E-2,0.22726147169431016,7.1325114250559637E-2,1.4374829978713539E-2,2.1716441767071497E-3,0,0,1.6546474155420689E-2,0.52516669481083211,3.1507089689647626E-2,1.4374829978713539E-2,4.0062646313406064E-3,0,0,1.8381094610054147E-2,0.75242816650514222,1993.8843556646323,2.4429035791456548E-2,605.45140638202838,1399.1061115097959,0,2031.5559994613277,4036.113517353152,1.4374829978713539E-2,0,4.0062646313406064E-3,0,0,0,0,0,0,0,1.5149904487961607,null,0,0,1.8381094610054147E-2,1.5149904487961607,1.2132812206611667E-2,4025.4403551259602,2.6238823118338017E-4,0,2.6238823118338017E-4,1.3119287409853022E-5,0,1.3119287409853022E-5,null,0,null,0,0,0,0,0,0,0,9999,9999]
["Demand Control Ventilation-Retro-Residential Care","Demand Control Ventilation-DCV Only-Residential Care-HtPmpHt-Vent-Retro",15,0.58006005027255669,0,25.724897203622934,0,0,"C-All-HVAC-Vent-All-All-E",null,null,0.62344582071772014,1.171993164871552E-4,1.1635342437803173E-4,0,0,0,5.1298881484975878,11.854391259595046,0,17.213033011058815,"(na)","(na)","(na)","(na)",0,0,0,0,0,0,0,0,5.1298881484975878,11.854391259595046,0,17.213033011058815,34.197312419151444,0.32447765736402445,4.1412200920157356E-2,0,0,0.3658898582841818,5.1298881484975878,7.132511425055954E-2,0.32447765736402445,4.9019711268211058E-2,0,0,0.37349736863223548,11.854391259595046,3.1507089689647584E-2,0.32447765736402445,9.0431912188368407E-2,0,0,0.41490956955239283,16.984279408092632,1993.8843556646323,2.4429035791456517E-2,605.45140638202849,1399.1061115097957,0,2031.5559994613284,4036.113517353152,0.32447765736402445,0,9.0431912188368407E-2,0,0,0,0,0,0,0,34.197312419151444,null,0,0,0.41490956955239289,34.197312419151444,1.2132812206611651E-2,4025.4403551259602,5.9227913443392942E-3,0,5.9227913443392942E-3,2.9613676484091701E-4,0,2.9613676484091701E-4,null,0,null,0,0,0,0,0,0,0,9999,9999]
["Demand Control Ventilation-Retro-Assembly","Demand Control Ventilation-DCV Only-Assembly-HtPmpHt-Vent-Retro",15,0.56945020368934163,0,25.254364518996283,0,0,"C-All-HVAC-Vent-All-All-E",null,null,0.61204240738550819,1.1505563021363557E-4,1.1422521027071203E-4,0,0,0,5.0360576455711445,11.637563238870968,0,16.898190367795696,"(na)","(na)","(na)","(na)",0,0,0,0,0,0,0,0,5.0360576455711445,11.637563238870968,0,16.898190367795696,33.571811252237808,0.31854265431960588,4.0654732623160002E-2,0,0,0.35919738694276587,5.0360576455711445,7.1325114250559554E-2,0.31854265431960588,4.8123094416447465E-2,0,0,0.36666574873605334,11.637563238870968,3.1507089689647598E-2,0.31854265431960588,8.877782703960746E-2,0,0,0.40732048135921334,16.673620884442112,1993.8843556646325,2.4429035791456524E-2,605.45140638202849,1399.1061115097959,0,2031.5559994613282,4036.1135173531525,0.31854265431960588,0,8.877782703960746E-2,0,0,0,0,0,0,0,33.571811252237808,null,0,0,0.40732048135921334,33.571811252237808,1.2132812206611653E-2,4025.4403551259607,5.8144578925211458E-3,0,5.8144578925211458E-3,2.9072014350811637E-4,0,2.9072014350811637E-4,null,0,null,0,0,0,0,0,0,0,9999,9999]
["Demand Control Ventilation-Retro-Other","Demand Control Ventilation-DCV Only-Other-HtPmpHt-Vent-Retro",15,0.24887653820049174,0,11.037345803409295,0,0,"C-All-HVAC-Vent-All-All-E",null,null,0.26749133566927086,5.0284725095413076E-5,4.9921792499536425E-5,0,0,0,2.2009941956077039,5.0861628167220188,0,7.385304445134933,"(na)","(na)","(na)","(na)",0,0,0,0,0,0,0,0,2.2009941956077039,5.0861628167220188,0,7.385304445134933,14.672461457464657,0.13921813103698313,1.7768031429554902E-2,0,0,0.15698616246653804,2.2009941956077039,7.132511425055961E-2,0.13921813103698313,2.1032057005628265E-2,0,0,0.1602501880426114,5.0861628167220188,3.1507089689647619E-2,0.13921813103698313,3.8800088435183164E-2,0,0,0.17801821947216631,7.2871570123297227,1993.8843556646332,2.4429035791456541E-2,605.45140638202872,1399.1061115097964,0,2031.5559994613293,4036.1135173531543,0.13921813103698313,0,3.8800088435183164E-2,0,0,0,0,0,0,0,14.672461457464657,null,0,0,0.17801821947216631,14.672461457464657,1.2132812206611662E-2,4025.4403551259629,2.5411917362183089E-3,0,2.5411917362183089E-3,1.2705838444290366E-4,0,1.2705838444290366E-4,null,0,null,0,0,0,0,0,0,0,9999,9999]
["Demand Control Ventilation-Retro-Large Off","Demand Control Ventilation-DCV Only-Large Off-HtPmpHt-Heat-Retro",15,35.399290310499765,0,0,0,0,"C-All-HVAC-Vent-All-All-E",null,null,38.046991152182265,7.1523157413987343E-3,7.1006935337873797E-3,0,0,0,0,0,0,0,"(na)","(na)","(na)","(na)",0,0,0,0,0,0,0,0,0,0,0,0,0,19.801878765660259,2.5272599312443158,0,0,22.329138696904575,0,9999,19.801878765660259,2.9915230143929414,0,0,22.793401780053202,0,9999,19.801878765660259,5.5187829456372572,0,0,25.320661711297518,0,-10.673162227191886,9999,0,0,0,0,0,19.801878765660259,0,5.5187829456372572,0,0,0,0,0,0,0,0,null,0,0,25.320661711297518,0,9999,-10.673162227191886,0.36144983635447042,0,0.36144983635447042,1.8072320797286576E-2,0,1.8072320797286576E-2,null,0,null,0,0,0,0,0,0,0,9999,9999]
["Demand Control Ventilation-Retro-Medium Off","Demand Control Ventilation-DCV Only-Medium Off-HtPmpHt-Heat-Retro",15,38.404793401278809,0,0,0,0,"C-All-HVAC-Vent-All-All-E",null,null,41.277291774022963,7.7595682280573574E-3,7.703563144315779E-3,0,0,0,0,0,0,0,"(na)","(na)","(na)","(na)",0,0,0,0,0,0,0,0,0,0,0,0,0,21.483116081759032,2.7418316773988951,0,0,24.224947759157928,0,9999,21.483116081759032,3.245512051659821,0,0,24.728628133418852,0,9999,21.483116081759032,5.9873437290587166,0,0,27.470459810817747,0,-10.673162227191879,9999,0,0,0,0,0,21.483116081759032,0,5.9873437290587166,0,0,0,0,0,0,0,0,null,0,0,27.470459810817751,0,9999,-10.673162227191884,0.39213798266464478,0,0.39213798266464478,1.9606713592660904E-2,0,1.9606713592660904E-2,null,0,null,0,0,0,0,0,0,0,9999,9999]
["Demand Control Ventilation-Retro-Small Off","Demand Control Ventilation-DCV Only-Small Off-HtPmpHt-Heat-Retro",15,49.609697757110254,0,0,0,0,"C-All-HVAC-Vent-All-All-E",null,null,53.320270408566913,1.0023484060892851E-2,9.9511390479083833E-3,0,0,0,0,0,0,0,"(na)","(na)","(na)","(na)",0,0,0,0,0,0,0,0,0,0,0,0,0,27.750986304264082,3.5417829070290097,0,0,31.292769211293091,0,9999,27.750986304264082,4.1924160421220042,0,0,31.943402346386087,0,9999,27.750986304264082,7.7341989491510139,0,0,35.485185253415096,0,-10.673162227191883,9999,0,0,0,0,0,27.750986304264082,0,7.7341989491510139,0,0,0,0,0,0,0,0,null,0,0,35.485185253415096,0,9999,-10.673162227191883,0.50654736235160136,0,0.50654736235160136,2.5327128444069279E-2,0,2.5327128444069279E-2,null,0,null,0,0,0,0,0,0,0,9999,9999]
["Demand Control Ventilation-Retro-Xlarge Ret","Demand Control Ventilation-DCV Only-Xlarge Ret-HtPmpHt-Heat-Retro",15,5.4842703474756398,0,0,0,0,"C-All-HVAC-Vent-All-All-E",null,null,5.8944680403575971,1.1080796477069979E-3,1.1000820257210508E-3,0,0,0,0,0,0,0,"(na)","(na)","(na)","(na)",0,0,0,0,0,0,0,0,0,0,0,0,0,3.0678258119374475,0.39153826474242798,0,0,3.4593640766798757,0,9999,3.0678258119374475,0.4634646858092486,0,0,3.5312904977466961,0,9999,3.0678258119374475,0.85500295055167652,0,0,3.9228287624891243,0,-10.673162227191884,9999,0,0,0,0,0,3.0678258119374475,0,0.85500295055167652,0,0,0,0,0,0,0,0,null,0,0,3.9228287624891243,0,9999,-10.673162227191884,5.5997976293631457E-2,0,5.5997976293631457E-2,2.7998723191698582E-3,0,2.7998723191698582E-3,null,0,null,0,0,0,0,0,0,0,9999,9999]
["Demand Control Ventilation-Retro-Large Ret","Demand Control Ventilation-DCV Only-Large Ret-HtPmpHt-Heat-Retro",15,1.1440309335268741,0,0,0,0,"C-All-HVAC-Vent-All-All-E",null,null,1.2295990802055512,2.3114786716739211E-4,2.2947954551895446E-4,0,0,0,0,0,0,0,"(na)","(na)","(na)","(na)",0,0,0,0,0,0,0,0,0,0,0,0,0,0.63995525478500859,8.1675748667450601E-2,0,0,0.72163100345245923,0,9999,0.63995525478500859,9.6679759306021198E-2,0,0,0.73663501409102983,0,9999,0.63995525478500859,0.1783555079734718,0,0,0.81831076275848047,0,-10.673162227191888,9999,0,0,0,0,0,0.63995525478500859,0,0.1783555079734718,0,0,0,0,0,0,0,0,null,0,0,0.81831076275848047,0,9999,-10.673162227191888,1.1681301802400545E-2,0,1.1681301802400545E-2,5.8405956309763682E-4,0,5.8405956309763682E-4,null,0,null,0,0,0,0,0,0,0,9999,9999]
["Demand Control Ventilation-Retro-Medium Ret","Demand Control Ventilation-DCV Only-Medium Ret-HtPmpHt-Heat-Retro",15,16.306738515015631,0,0,0,0,"C-All-HVAC-Vent-All-All-E",null,null,17.526406053901209,3.2947254464371417E-3,3.2709455956632257E-3,0,0,0,0,0,0,0,"(na)","(na)","(na)","(na)",0,0,0,0,0,0,0,0,0,0,0,0,0,9.1217664621340298,1.1641862448879023,0,0,10.285952707021933,0,9999,9.1217664621340298,1.3780497611526363,0,0,10.499816223286667,0,9999,9.1217664621340298,2.5422360060405387,0,0,11.664002468174569,0,-10.673162227191883,9999,0,0,0,0,0,9.1217664621340298,0,2.5422360060405387,0,0,0,0,0,0,0,0,null,0,0,11.664002468174569,0,9999,-10.673162227191883,0.16650243312870336,0,0.16650243312870336,8.3250428756030739E-3,0,8.3250428756030739E-3,null,0,null,0,0,0,0,0,0,0,9999,9999]
["Demand Control Ventilation-Retro-Small Ret","Demand Control Ventilation-DCV Only-Small Ret-HtPmpHt-Heat-Retro",15,22.005082586571035,0,0,0,0,"C-All-HVAC-Vent-All-All-E",null,null,23.650959528586331,4.4460580196442135E-3,4.4139683666645875E-3,0,0,0,0,0,0,0,"(na)","(na)","(na)","(na)",0,0,0,0,0,0,0,0,0,0,0,0,0,12.309342186964034,1.5710078653262656,0,0,13.8803500522903,0,9999,12.309342186964034,1.8596053879594074,0,0,14.168947574923441,0,9999,12.309342186964034,3.430613253285673,0,0,15.739955440249707,0,-10.673162227191879,9999,0,0,0,0,0,12.309342186964034,0,3.430613253285673,0,0,0,0,0,0,0,0,null,0,0,15.739955440249707,0,9999,-10.673162227191879,0.22468624173303145,0,0.22468624173303145,1.1234205776078506E-2,0,1.1234205776078506E-2,null,0,null,0,0,0,0,0,0,0,9999,9999]
["Demand Control Ventilation-Retro-School K-12","Demand Control Ventilation-DCV Only-School K-12-HtPmpHt-Heat-Retro",15,0,0,0,0,0,"C-All-HVAC-Vent-All-All-E",null,null,0,0,0,0,0,0,0,0,0,0,"(na)","(na)","(na)","(na)",0,0,0,0,0,0,0,0,0,0,0,0,0,0,0,0,0,0,0,9999,0,0,0,0,0,0,9999,0,0,0,0,0,0,9999,9999,9999,9999,9999,9999,9999,0,0,0,0,0,0,0,0,0,0,0,null,0,0,0,0,9999,9999,0,0,0,0,0,0,null,0,null,0,0,0,0,0,0,0,9999,9999]
["Demand Control Ventilation-Retro-University","Demand Control Ventilation-DCV Only-University-HtPmpHt-Heat-Retro",15,0,0,0,0,0,"C-All-HVAC-Vent-All-All-E",null,null,0,0,0,0,0,0,0,0,0,0,"(na)","(na)","(na)","(na)",0,0,0,0,0,0,0,0,0,0,0,0,0,0,0,0,0,0,0,9999,0,0,0,0,0,0,9999,0,0,0,0,0,0,9999,9999,9999,9999,9999,9999,9999,0,0,0,0,0,0,0,0,0,0,0,null,0,0,0,0,9999,9999,0,0,0,0,0,0,null,0,null,0,0,0,0,0,0,0,9999,9999]
["Demand Control Ventilation-Retro-Warehouse","Demand Control Ventilation-DCV Only-Warehouse-HtPmpHt-Heat-Retro",15,0.17837351753421932,0,0,0,0,"C-All-HVAC-Vent-All-All-E",null,null,0.1917150198176461,3.6039810575814015E-5,3.5779691384899389E-5,0,0,0,0,0,0,0,"(na)","(na)","(na)","(na)",0,0,0,0,0,0,0,0,0,0,0,0,0,9.977970570131256E-2,1.2734612465539382E-2,0,0,0.11251431816685194,0,9999,9.977970570131256E-2,1.5073988155733355E-2,0,0,0.11485369385704591,0,9999,9.977970570131256E-2,2.7808600621272737E-2,0,0,0.1275883063225853,0,-10.673162227191886,9999,0,0,0,0,0,9.977970570131256E-2,0,2.7808600621272737E-2,0,0,0,0,0,0,0,0,null,0,0,0.1275883063225853,0,9999,-10.673162227191886,1.8213099233684782E-3,0,1.8213099233684782E-3,9.1064634413381889E-5,0,9.1064634413381889E-5,null,0,null,0,0,0,0,0,0,0,9999,9999]
["Demand Control Ventilation-Retro-Supermarket","Demand Control Ventilation-DCV Only-Supermarket-HtPmpHt-Heat-Retro",15,10.328422752924633,0,0,0,0,"C-All-HVAC-Vent-All-All-E",null,null,11.100940319697997,2.0868254699912027E-3,2.0717636995722863E-3,0,0,0,0,0,0,0,"(na)","(na)","(na)","(na)",0,0,0,0,0,0,0,0,0,0,0,0,0,5.7775784034076478,0.73737661821644618,0,0,6.5149550216240941,0,9999,5.7775784034076478,0.87283428839219368,0,0,6.6504126917998416,0,9999,5.7775784034076478,1.6102109066086399,0,0,7.3877893100162879,0,-10.673162227191883,9999,0,0,0,0,0,5.7775784034076478,0,1.6102109066086399,0,0,0,0,0,0,0,0,null,0,0,7.3877893100162879,0,9999,-10.673162227191883,0.10545993100706595,0,0.10545993100706595,5.2729466518565476E-3,0,5.2729466518565476E-3,null,0,null,0,0,0,0,0,0,0,9999,9999]
["Demand Control Ventilation-Retro-MiniMart","Demand Control Ventilation-DCV Only-MiniMart-HtPmpHt-Heat-Retro",15,5.538685703737074,0,0,0,0,"C-All-HVAC-Vent-All-All-E",null,null,5.9529534099811663,1.1190741000180104E-3,1.1109971250056739E-3,0,0,0,0,0,0,0,"(na)","(na)","(na)","(na)",0,0,0,0,0,0,0,0,0,0,0,0,0,3.0982650178714604,0.39542313780958999,0,0,3.4936881556810504,0,9999,3.0982650178714604,0.46806321841158682,0,0,3.5663282362830473,0,9999,3.0982650178714604,0.86348635622117675,0,0,3.9617513740926373,0,-10.673162227191884,9999,0,0,0,0,0,3.0982650178714604,0,0.86348635622117675,0,0,0,0,0,0,0,0,null,0,0,3.9617513740926373,0,9999,-10.673162227191884,5.6553592562865983E-2,0,5.6553592562865983E-2,2.8276528697410534E-3,0,2.8276528697410534E-3,null,0,null,0,0,0,0,0,0,0,9999,9999]
["Demand Control Ventilation-Retro-Restaurant","Demand Control Ventilation-DCV Only-Restaurant-HtPmpHt-Heat-Retro",15,73.951934267472495,0,0,0,0,"C-All-HVAC-Vent-All-All-E",null,null,79.483192009833473,1.4941756711185904E-2,1.4833913811779405E-2,0,0,0,0,0,0,0,"(na)","(na)","(na)","(na)",0,0,0,0,0,0,0,0,0,0,0,0,0,41.367700425796933,5.2796470966753137,0,0,46.647347522472245,0,9999,41.367700425796933,6.2495296199313772,0,0,47.617230045728313,0,9999,41.367700425796933,11.529176716606692,0,0,52.896877142403625,0,-10.673162227191883,9999,0,0,0,0,0,41.367700425796933,0,11.529176716606692,0,0,0,0,0,0,0,0,null,0,0,52.896877142403625,0,9999,-10.673162227191883,0.75509746959944435,0,0.75509746959944435,3.7754516204670886E-2,0,3.7754516204670886E-2,null,0,null,0,0,0,0,0,0,0,9999,9999]
["Demand Control Ventilation-Retro-Lodging","Demand Control Ventilation-DCV Only-Lodging-HtPmpHt-Heat-Retro",15,42.67040667629422,0,0,0,0,"C-All-HVAC-Vent-All-All-E",null,null,45.861952910153271,8.6214220309445543E-3,8.5591964729465394E-3,0,0,0,0,0,0,0,"(na)","(na)","(na)","(na)",0,0,0,0,0,0,0,0,0,0,0,0,0,23.869241797618159,3.0463664129139949,0,0,26.915608210532152,0,9999,23.869241797618159,3.6059904728592347,0,0,27.475232270477392,0,9999,23.869241797618159,6.65235688577323,0,0,30.521598683391385,0,-10.673162227191876,9999,0,0,0,0,0,23.869241797618159,0,6.65235688577323,0,0,0,0,0,0,0,0,null,0,0,30.521598683391389,0,9999,-10.673162227191881,0.43569267561701858,0,0.43569267561701858,2.17844276323228E-2,0,2.17844276323228E-2,null,0,null,0,0,0,0,0,0,0,9999,9999]
["Demand Control Ventilation-Retro-Hospital","Demand Control Ventilation-DCV Only-Hospital-HtPmpHt-Heat-Retro",15,1.4129449025434959,0,0,0,0,"C-All-HVAC-Vent-All-All-E",null,null,1.5186265525116529,2.8548109240465373E-4,2.8342061790183944E-4,0,0,0,0,0,0,0,"(na)","(na)","(na)","(na)",0,0,0,0,0,0,0,0,0,0,0,0,0,0.79038205052447674,0.1008743114885251,0,0,0.89125636201300185,0,9999,0.79038205052447674,0.11940513939553002,0,0,0.90978718992000673,0,9999,0.79038205052447674,0.22027945088405512,0,0,1.0106615014085318,0,-10.673162227191883,9999,0,0,0,0,0,0.79038205052447674,0,0.22027945088405512,0,0,0,0,0,0,0,0,null,0,0,1.0106615014085318,0,9999,-10.673162227191883,1.4427088772758508E-2,0,1.4427088772758508E-2,7.2134761244303498E-4,0,7.2134761244303498E-4,null,0,null,0,0,0,0,0,0,0,9999,9999]
["Demand Control Ventilation-Retro-Residential Care","Demand Control Ventilation-DCV Only-Residential Care-HtPmpHt-Heat-Retro",15,31.893876493889792,0,0,0,0,"C-All-HVAC-Vent-All-All-E",null,null,34.279388827518197,6.4440578582394331E-3,6.3975475384150235E-3,0,0,0,0,0,0,0,"(na)","(na)","(na)","(na)",0,0,0,0,0,0,0,0,0,0,0,0,0,17.840998227911424,2.2769980812625126,0,0,20.117996309173936,0,9999,17.840998227911424,2.6952875244896513,0,0,20.536285752401074,0,9999,17.840998227911424,4.9722856057521643,0,0,22.813283833663586,0,-10.673162227191881,9999,0,0,0,0,0,17.840998227911424,0,4.9722856057521643,0,0,0,0,0,0,0,0,null,0,0,22.813283833663586,0,9999,-10.673162227191881,0.3256572755642741,0,0.3256572755642741,1.6282709693071145E-2,0,1.6282709693071145E-2,null,0,null,0,0,0,0,0,0,0,9999,9999]
["Demand Control Ventilation-Retro-Assembly","Demand Control Ventilation-DCV Only-Assembly-HtPmpHt-Heat-Retro",15,31.310507347220963,0,0,0,0,"C-All-HVAC-Vent-All-All-E",null,null,33.652386405518179,6.3261899491890575E-3,6.2805303470750669E-3,0,0,0,0,0,0,0,"(na)","(na)","(na)","(na)",0,0,0,0,0,0,0,0,0,0,0,0,0,17.514669507289121,2.2353496341730787,0,0,19.7500191414622,0,9999,17.514669507289121,2.6459881681229227,0,0,20.160657675412043,0,9999,17.514669507289121,4.8813378022960014,0,0,22.396007309585123,0,-10.673162227191883,9999,0,0,0,0,0,17.514669507289121,0,4.8813378022960014,0,0,0,0,0,0,0,0,null,0,0,22.396007309585123,0,9999,-10.673162227191883,0.31970069618801616,0,0.31970069618801616,1.5984883542621137E-2,0,1.5984883542621137E-2,null,0,null,0,0,0,0,0,0,0,9999,9999]
["Demand Control Ventilation-Retro-Other","Demand Control Ventilation-DCV Only-Other-HtPmpHt-Heat-Retro",15,13.684165230588832,0,0,0,0,"C-All-HVAC-Vent-All-All-E",null,null,14.707676591436815,2.7648427278671047E-3,2.7448873329333255E-3,0,0,0,0,0,0,0,"(na)","(na)","(na)","(na)",0,0,0,0,0,0,0,0,0,0,0,0,0,7.6547348415346885,0.97695298906984018,0,0,8.6316878306045286,0,9999,7.6547348415346885,1.1564213536766876,0,0,8.8111561952113764,0,9999,7.6547348415346885,2.1333743427465279,0,0,9.7881091842812165,0,-10.673162227191883,9999,0,0,0,0,0,7.6547348415346885,0,2.1333743427465279,0,0,0,0,0,0,0,0,null,0,0,9.7881091842812165,0,9999,-10.673162227191883,0.13972424983268072,0,0.13972424983268072,6.9861463809324856E-3,0,6.9861463809324856E-3,null,0,null,0,0,0,0,0,0,0,9999,9999]
["Demand Control Ventilation-Retro-Large Off","Demand Control Ventilation-DOAS-Large Off-HtPmpHt-Heat-Retro",15,0,0,0,0,0,"C-All-HVAC-Vent-All-All-E",null,null,0,0,0,0,0,0,0,0,0,0,"(na)","(na)","(na)","(na)",0,0,0,0,0,0,0,0,0,0,0,0,0,0,0,0,0,0,0,9999,0,0,0,0,0,0,9999,0,0,0,0,0,0,9999,9999,9999,9999,9999,9999,9999,0,0,0,0,0,0,0,0,0,0,0,null,0,0,0,0,9999,9999,0,0,0,0,0,0,null,0,null,0,0,0,0,0,0,0,9999,9999]
["Demand Control Ventilation-Retro-Medium Off","Demand Control Ventilation-DOAS-Medium Off-HtPmpHt-Heat-Retro",15,0,0,0,0,0,"C-All-HVAC-Vent-All-All-E",null,null,0,0,0,0,0,0,0,0,0,0,"(na)","(na)","(na)","(na)",0,0,0,0,0,0,0,0,0,0,0,0,0,0,0,0,0,0,0,9999,0,0,0,0,0,0,9999,0,0,0,0,0,0,9999,9999,9999,9999,9999,9999,9999,0,0,0,0,0,0,0,0,0,0,0,null,0,0,0,0,9999,9999,0,0,0,0,0,0,null,0,null,0,0,0,0,0,0,0,9999,9999]
["Demand Control Ventilation-Retro-Small Off","Demand Control Ventilation-DOAS-Small Off-HtPmpHt-Heat-Retro",15,0,0,0,0,0,"C-All-HVAC-Vent-All-All-E",null,null,0,0,0,0,0,0,0,0,0,0,"(na)","(na)","(na)","(na)",0,0,0,0,0,0,0,0,0,0,0,0,0,0,0,0,0,0,0,9999,0,0,0,0,0,0,9999,0,0,0,0,0,0,9999,9999,9999,9999,9999,9999,9999,0,0,0,0,0,0,0,0,0,0,0,null,0,0,0,0,9999,9999,0,0,0,0,0,0,null,0,null,0,0,0,0,0,0,0,9999,9999]
["Demand Control Ventilation-Retro-Xlarge Ret","Demand Control Ventilation-DOAS-Xlarge Ret-HtPmpHt-Heat-Retro",15,41.45274143663174,0,0,0,0,"C-All-HVAC-Vent-All-All-E",null,null,44.553212023163887,8.3753965828352525E-3,8.3149467261931578E-3,0,0,0,0,0,0,0,"(na)","(na)","(na)","(na)",0,0,0,0,0,0,0,0,0,0,0,0,0,23.188096519239398,2.9594336935607148,0,0,26.147530212800113,0,9999,23.188096519239398,3.5030880260495554,0,0,26.691184545288955,0,9999,23.188096519239398,6.4625217196102707,0,0,29.65061823884967,0,-10.673162227191884,9999,0,0,0,0,0,23.188096519239398,0,6.4625217196102707,0,0,0,0,0,0,0,0,null,0,0,29.650618238849667,0,9999,-10.673162227191879,0.4232595195353559,0,0.4232595195353559,2.1162775711002838E-2,0,2.1162775711002838E-2,null,0,null,0,0,0,0,0,0,0,9999,9999]
["Demand Control Ventilation-Retro-Large Ret","Demand Control Ventilation-DOAS-Large Ret-HtPmpHt-Heat-Retro",15,5.5588716105329681,0,0,0,0,"C-All-HVAC-Vent-All-All-E",null,null,5.974649127904482,1.1231525992665633E-3,1.1150461874756274E-3,0,0,0,0,0,0,0,"(na)","(na)","(na)","(na)",0,0,0,0,0,0,0,0,0,0,0,0,0,3.1095567380059892,0.39686426934001395,0,0,3.5064210073460034,0,9999,3.1095567380059892,0.46976908890267971,0,0,3.579325826908669,0,9999,3.1095567380059892,0.86663335824269372,0,0,3.9761900962486827,0,-10.673162227191881,9999,0,0,0,0,0,3.1095567380059892,0,0.86663335824269372,0,0,0,0,0,0,0,0,null,0,0,3.9761900962486831,0,9999,-10.673162227191886,5.6759703833573483E-2,0,5.6759703833573483E-2,2.8379583357546292E-3,0,2.8379583357546292E-3,null,0,null,0,0,0,0,0,0,0,9999,9999]
["Demand Control Ventilation-Retro-Medium Ret","Demand Control Ventilation-DOAS-Medium Ret-HtPmpHt-Heat-Retro",15,18.037843922909722,0,0,0,0,"C-All-HVAC-Vent-All-All-E",null,null,19.386990024933692,3.644489872511778E-3,3.618185578960066E-3,0,0,0,0,0,0,0,"(na)","(na)","(na)","(na)",0,0,0,0,0,0,0,0,0,0,0,0,0,10.0901231471699,1.2877749749374829,0,0,11.377898122107382,0,9999,10.0901231471699,1.5243420066364175,0,0,11.614465153806318,0,9999,10.0901231471699,2.8121169815739004,0,0,12.9022401287438,0,-10.673162227191884,9999,0,0,0,0,0,10.0901231471699,0,2.8121169815739004,0,0,0,0,0,0,0,0,null,0,0,12.902240128743799,0,9999,-10.673162227191877,0.18417814811923999,0,0.18417814811923999,9.208820261843503E-3,0,9.208820261843503E-3,null,0,null,0,0,0,0,0,0,0,9999,9999]
["Demand Control Ventilation-Retro-Small Ret","Demand Control Ventilation-DOAS-Small Ret-HtPmpHt-Heat-Retro",15,24.341117927524845,0,0,0,0,"C-All-HVAC-Vent-All-All-E",null,null,26.161719353680684,4.918046644134008E-3,4.8825503889230824E-3,0,0,0,0,0,0,0,"(na)","(na)","(na)","(na)",0,0,0,0,0,0,0,0,0,0,0,0,0,13.616088401594908,1.7377843307124121,0,0,15.35387273230732,0,9999,13.616088401594908,2.057019048617621,0,0,15.673107450212528,0,9999,13.616088401594908,3.7948033793300331,0,0,17.410891780924942,0,-10.673162227191884,9999,0,0,0,0,0,13.616088401594908,0,3.7948033793300331,0,0,0,0,0,0,0,0,null,0,0,17.410891780924942,0,9999,-10.673162227191884,0.24853868578769564,0,0.24853868578769564,1.2426816692998324E-2,0,1.2426816692998324E-2,null,0,null,0,0,0,0,0,0,0,9999,9999]
["Demand Control Ventilation-Retro-School K-12","Demand Control Ventilation-DOAS-School K-12-HtPmpHt-Heat-Retro",15,0,0,0,0,0,"C-All-HVAC-Vent-All-All-E",null,null,0,0,0,0,0,0,0,0,0,0,"(na)","(na)","(na)","(na)",0,0,0,0,0,0,0,0,0,0,0,0,0,0,0,0,0,0,0,9999,0,0,0,0,0,0,9999,0,0,0,0,0,0,9999,9999,9999,9999,9999,9999,9999,0,0,0,0,0,0,0,0,0,0,0,null,0,0,0,0,9999,9999,0,0,0,0,0,0,null,0,null,0,0,0,0,0,0,0,9999,9999]
["Demand Control Ventilation-Retro-University","Demand Control Ventilation-DOAS-University-HtPmpHt-Heat-Retro",15,0,0,0,0,0,"C-All-HVAC-Vent-All-All-E",null,null,0,0,0,0,0,0,0,0,0,0,"(na)","(na)","(na)","(na)",0,0,0,0,0,0,0,0,0,0,0,0,0,0,0,0,0,0,0,9999,0,0,0,0,0,0,9999,0,0,0,0,0,0,9999,9999,9999,9999,9999,9999,9999,0,0,0,0,0,0,0,0,0,0,0,null,0,0,0,0,9999,9999,0,0,0,0,0,0,null,0,null,0,0,0,0,0,0,0,9999,9999]
["Demand Control Ventilation-Retro-Warehouse","Demand Control Ventilation-DOAS-Warehouse-HtPmpHt-Heat-Retro",15,0,0,0,0,0,"C-All-HVAC-Vent-All-All-E",null,null,0,0,0,0,0,0,0,0,0,0,"(na)","(na)","(na)","(na)",0,0,0,0,0,0,0,0,0,0,0,0,0,0,0,0,0,0,0,9999,0,0,0,0,0,0,9999,0,0,0,0,0,0,9999,9999,9999,9999,9999,9999,9999,0,0,0,0,0,0,0,0,0,0,0,null,0,0,0,0,9999,9999,0,0,0,0,0,0,null,0,null,0,0,0,0,0,0,0,9999,9999]
["Demand Control Ventilation-Retro-Supermarket","Demand Control Ventilation-DOAS-Supermarket-HtPmpHt-Heat-Retro",15,78.06716494606772,0,0,0,0,"C-All-HVAC-Vent-All-All-E",null,null,83.906222636841861,1.5773226181444559E-2,1.5659382108268879E-2,0,0,0,0,0,0,0,"(na)","(na)","(na)","(na)",0,0,0,0,0,0,0,0,0,0,0,0,0,43.669704174332495,5.5734455742893214,0,0,49.243149748621818,0,9999,43.669704174332495,6.597299509569587,0,0,50.267003683902082,0,9999,43.669704174332495,12.170745083858908,0,0,55.840449258191406,0,-10.673162227191884,9999,0,0,0,0,0,43.669704174332495,0,12.170745083858908,0,0,0,0,0,0,0,0,null,0,0,55.840449258191406,0,9999,-10.673162227191884,0.79711665818464383,0,0.79711665818464383,3.9855455752499873E-2,0,3.9855455752499873E-2,null,0,null,0,0,0,0,0,0,0,9999,9999]
["Demand Control Ventilation-Retro-MiniMart","Demand Control Ventilation-DOAS-MiniMart-HtPmpHt-Heat-Retro",15,7.6893132409207263,0,0,0,0,"C-All-HVAC-Vent-All-All-E",null,null,8.2644377974124001,1.5536016584284623E-3,1.5423884583606121E-3,0,0,0,0,0,0,0,"(na)","(na)","(na)","(na)",0,0,0,0,0,0,0,0,0,0,0,0,0,4.301296643304064,0.54896279225127131,0,0,4.8502594355553352,0,9999,4.301296643304064,0.64980843749480188,0,0,4.9511050807988664,0,9999,4.301296643304064,1.1987712297460731,0,0,5.5000678730501376,0,-10.673162227191886,9999,0,0,0,0,0,4.301296643304064,0,1.1987712297460731,0,0,0,0,0,0,0,0,null,0,0,5.5000678730501367,0,9999,-10.673162227191877,7.851290204495126E-2,0,7.851290204495126E-2,3.9256079537708898E-3,0,3.9256079537708898E-3,null,0,null,0,0,0,0,0,0,0,9999,9999]
["Demand Control Ventilation-Retro-Restaurant","Demand Control Ventilation-DOAS-Restaurant-HtPmpHt-Heat-Retro",15,102.66688123698768,0,0,0,0,"C-All-HVAC-Vent-All-All-E",null,null,110.34588229830166,2.0743521815007097E-2,2.059380437684552E-2,0,0,0,0,0,0,0,"(na)","(na)","(na)","(na)",0,0,0,0,0,0,0,0,0,0,0,0,0,57.430448962991477,7.3296920062574724,0,0,64.760140969248951,0,9999,57.430448962991477,8.6761721871383859,0,0,66.106621150129868,0,9999,57.430448962991477,16.005864193395858,0,0,73.436313156387342,0,-10.673162227191884,9999,0,0,0,0,0,57.430448962991477,0,16.005864193395858,0,0,0,0,0,0,0,0,null,0,0,73.436313156387342,0,9999,-10.673162227191884,1.048295801882962,0,1.048295801882962,5.2414294091693278E-2,0,5.2414294091693278E-2,null,0,null,0,0,0,0,0,0,0,9999,9999]
["Demand Control Ventilation-Retro-Lodging","Demand Control Ventilation-DOAS-Lodging-HtPmpHt-Heat-Retro",15,0,0,0,0,0,"C-All-HVAC-Vent-All-All-E",null,null,0,0,0,0,0,0,0,0,0,0,"(na)","(na)","(na)","(na)",0,0,0,0,0,0,0,0,0,0,0,0,0,0,0,0,0,0,0,9999,0,0,0,0,0,0,9999,0,0,0,0,0,0,9999,9999,9999,9999,9999,9999,9999,0,0,0,0,0,0,0,0,0,0,0,null,0,0,0,0,9999,9999,0,0,0,0,0,0,null,0,null,0,0,0,0,0,0,0,9999,9999]
["Demand Control Ventilation-Retro-Hospital","Demand Control Ventilation-DOAS-Hospital-HtPmpHt-Heat-Retro",15,0,0,0,0,0,"C-All-HVAC-Vent-All-All-E",null,null,0,0,0,0,0,0,0,0,0,0,"(na)","(na)","(na)","(na)",0,0,0,0,0,0,0,0,0,0,0,0,0,0,0,0,0,0,0,9999,0,0,0,0,0,0,9999,0,0,0,0,0,0,9999,9999,9999,9999,9999,9999,9999,0,0,0,0,0,0,0,0,0,0,0,null,0,0,0,0,9999,9999,0,0,0,0,0,0,null,0,null,0,0,0,0,0,0,0,9999,9999]
["Demand Control Ventilation-Retro-Residential Care","Demand Control Ventilation-DOAS-Residential Care-HtPmpHt-Heat-Retro",15,0,0,0,0,0,"C-All-HVAC-Vent-All-All-E",null,null,0,0,0,0,0,0,0,0,0,0,"(na)","(na)","(na)","(na)",0,0,0,0,0,0,0,0,0,0,0,0,0,0,0,0,0,0,0,9999,0,0,0,0,0,0,9999,0,0,0,0,0,0,9999,9999,9999,9999,9999,9999,9999,0,0,0,0,0,0,0,0,0,0,0,null,0,0,0,0,9999,9999,0,0,0,0,0,0,null,0,null,0,0,0,0,0,0,0,9999,9999]
["Demand Control Ventilation-Retro-Assembly","Demand Control Ventilation-DOAS-Assembly-HtPmpHt-Heat-Retro",15,0,0,0,0,0,"C-All-HVAC-Vent-All-All-E",null,null,0,0,0,0,0,0,0,0,0,0,"(na)","(na)","(na)","(na)",0,0,0,0,0,0,0,0,0,0,0,0,0,0,0,0,0,0,0,9999,0,0,0,0,0,0,9999,0,0,0,0,0,0,9999,9999,9999,9999,9999,9999,9999,0,0,0,0,0,0,0,0,0,0,0,null,0,0,0,0,9999,9999,0,0,0,0,0,0,null,0,null,0,0,0,0,0,0,0,9999,9999]
["Demand Control Ventilation-Retro-Other","Demand Control Ventilation-DOAS-Other-HtPmpHt-Heat-Retro",15,0,0,0,0,0,"C-All-HVAC-Vent-All-All-E",null,null,0,0,0,0,0,0,0,0,0,0,"(na)","(na)","(na)","(na)",0,0,0,0,0,0,0,0,0,0,0,0,0,0,0,0,0,0,0,9999,0,0,0,0,0,0,9999,0,0,0,0,0,0,9999,9999,9999,9999,9999,9999,9999,0,0,0,0,0,0,0,0,0,0,0,null,0,0,0,0,9999,9999,0,0,0,0,0,0,null,0,null,0,0,0,0,0,0,0,9999,9999]
["Demand Control Ventilation-Retro-Large Off","Demand Control Ventilation-DOAS-Large Off-ElecHt-Vent-Retro",15,0,0,0,0,0,"C-All-HVAC-Vent-All-All-E",null,null,0,0,0,0,0,0,0,0,0,0,"(na)","(na)","(na)","(na)",0,0,0,0,0,0,0,0,0,0,0,0,0,0,0,0,0,0,0,9999,0,0,0,0,0,0,9999,0,0,0,0,0,0,9999,9999,9999,9999,9999,9999,9999,0,0,0,0,0,0,0,0,0,0,0,null,0,0,0,0,9999,9999,0,0,0,0,0,0,null,0,null,0,0,0,0,0,0,0,9999,9999]
["Demand Control Ventilation-Retro-Medium Off","Demand Control Ventilation-DOAS-Medium Off-ElecHt-Vent-Retro",15,0,0,0,0,0,"C-All-HVAC-Vent-All-All-E",null,null,0,0,0,0,0,0,0,0,0,0,"(na)","(na)","(na)","(na)",0,0,0,0,0,0,0,0,0,0,0,0,0,0,0,0,0,0,0,9999,0,0,0,0,0,0,9999,0,0,0,0,0,0,9999,9999,9999,9999,9999,9999,9999,0,0,0,0,0,0,0,0,0,0,0,null,0,0,0,0,9999,9999,0,0,0,0,0,0,null,0,null,0,0,0,0,0,0,0,9999,9999]
["Demand Control Ventilation-Retro-Small Off","Demand Control Ventilation-DOAS-Small Off-ElecHt-Vent-Retro",15,0,0,0,0,0,"C-All-HVAC-Vent-All-All-E",null,null,0,0,0,0,0,0,0,0,0,0,"(na)","(na)","(na)","(na)",0,0,0,0,0,0,0,0,0,0,0,0,0,0,0,0,0,0,0,9999,0,0,0,0,0,0,9999,0,0,0,0,0,0,9999,9999,9999,9999,9999,9999,9999,0,0,0,0,0,0,0,0,0,0,0,null,0,0,0,0,9999,9999,0,0,0,0,0,0,null,0,null,0,0,0,0,0,0,0,9999,9999]
["Demand Control Ventilation-Retro-Xlarge Ret","Demand Control Ventilation-DOAS-Xlarge Ret-ElecHt-Vent-Retro",15,92.068572136069733,0,26.21675262599026,0,0,"C-All-HVAC-Vent-All-All-E",null,null,98.954869397935269,1.8602166653651754E-2,1.8467904556767868E-2,0,0,0,5.2279706901693608,12.08104509512814,0,17.542143116139613,"(na)","(na)","(na)","(na)",0,0,0,0,0,0,0,0,5.2279706901693608,12.08104509512814,0,17.542143116139613,34.851158901437117,51.501899828346154,6.573047404211672,0,0,58.074947232557825,5.2279706901693608,11.108506660483302,51.501899828346154,7.7805303448599252,0,0,59.28243017320608,12.08104509512814,4.907061409539196,51.501899828346154,14.353577749071597,0,0,65.855477577417759,17.3090157852975,2.1976311526297141,3.8046922132543344,3.8874613891154093,8.9833319907061906,0,13.044144293800594,25.914937673622198,51.501899828346154,0,14.353577749071597,0,0,0,0,0,0,0,34.851158901437117,null,0,0,65.855477577417744,34.851158901437117,1.8896208807191814,15.241775446430317,0.94008015528213973,0,0.94008015528213973,4.7003562964019245E-2,0,4.7003562964019245E-2,null,0,null,0,0,0,0,0,0,0,9999,9999]
["Demand Control Ventilation-Retro-Large Ret","Demand Control Ventilation-DOAS-Large Ret-ElecHt-Vent-Retro",15,12.346526529539249,0,3.5157038314526661,0,0,"C-All-HVAC-Vent-All-All-E",null,null,13.269988790996514,2.4945770176253556E-3,2.4765722793891791E-3,0,0,0,0.70107830852893105,1.620085337601576,0,2.3524263529176714,"(na)","(na)","(na)","(na)",0,0,0,0,0,0,0,0,0.70107830852893105,1.620085337601576,0,2.3524263529176714,4.6735899990481791,6.9064780499971921,0.88145500981680436,0,0,7.7879330598139962,0.70107830852893105,11.1085066604833,6.9064780499971921,1.0433801903077824,0,0,7.9498582403049749,1.620085337601576,4.9070614095391969,6.9064780499971921,1.9248352001245868,0,0,8.831313250121779,2.3211636461305072,2.1976311526297185,3.8046922132543339,3.8874613891154102,8.9833319907061888,0,13.044144293800594,25.914937673622198,6.9064780499971921,0,1.9248352001245868,0,0,0,0,0,0,0,4.6735899990481791,null,0,0,8.831313250121779,4.6735899990481791,1.8896208807191817,15.241775446430314,0.12606608648096054,0,0.12606608648096054,6.3032446757233431E-3,0,6.3032446757233431E-3,null,0,null,0,0,0,0,0,0,0,9999,9999]
["Demand Control Ventilation-Retro-Medium Ret","Demand Control Ventilation-DOAS-Medium Ret-ElecHt-Vent-Retro",15,50.281252714338812,0,23.368636404150756,0,0,"C-All-HVAC-Vent-All-All-E",null,null,54.042054526038349,1.0159169636780667E-2,1.0085845306156766E-2,0,0,0,4.6600182689678284,10.768593434807018,0,15.636412719714503,"(na)","(na)","(na)","(na)",0,0,0,0,0,0,0,0,4.6600182689678284,10.768593434807018,0,15.636412719714503,31.065024423489348,28.126644961002022,3.5897271997011377,0,0,31.716372160703159,4.6600182689678284,6.8060617641587449,28.126644961002022,4.24916780444146,0,0,32.375812765443484,10.768593434807018,3.0065033991158088,28.126644961002022,7.8388950041425982,0,0,35.965539965144622,15.428611703774846,10.333889859577555,2.331093727399018,6.344916080657681,14.662136006111758,0,21.289986601509991,42.297038688279429,28.126644961002022,0,7.8388950041425982,0,0,0,0,0,0,0,31.065024423489348,null,0,0,35.965539965144622,31.065024423489348,1.1577502555558856,31.623876461087544,0.51340437635567293,0,0.51340437635567293,2.5669975899868216E-2,0,2.5669975899868216E-2,null,0,null,0,0,0,0,0,0,0,9999,9999]
["Demand Control Ventilation-Retro-Small Ret","Demand Control Ventilation-DOAS-Small Ret-ElecHt-Vent-Retro",15,67.851895553266857,0,31.534740900847439,0,0,"C-All-HVAC-Vent-All-All-E",null,null,72.926899017753016,1.370926299348519E-2,1.3610315681029163E-2,0,0,0,6.2884485925338041,14.531648229713941,0,21.100513320808439,"(na)","(na)","(na)","(na)",0,0,0,0,0,0,0,0,6.2884485925338041,14.531648229713941,0,21.100513320808439,41.92061014305618,37.955422212730461,4.8441473087917588,0,0,42.799569521522223,6.2884485925338041,6.8060617641587484,37.955422212730461,5.7340275846597395,0,0,43.689449797390203,14.531648229713941,3.0065033991158097,37.955422212730461,10.578174893451498,0,0,48.533597106181965,20.820096822247745,10.333889859577548,2.3310937273990189,6.3449160806576792,14.662136006111755,0,21.289986601509984,42.297038688279422,37.955422212730461,0,10.578174893451498,0,0,0,0,0,0,0,41.92061014305618,null,0,0,48.533597106181965,41.92061014305618,1.1577502555558861,31.623876461087534,0.692812096766656,0,0.692812096766656,3.4640277033432684E-2,0,3.4640277033432684E-2,null,0,null,0,0,0,0,0,0,0,9999,9999]
["Demand Control Ventilation-Retro-School K-12","Demand Control Ventilation-DOAS-School K-12-ElecHt-Vent-Retro",15,0,0,0,0,0,"C-All-HVAC-Vent-All-All-E",null,null,0,0,0,0,0,0,0,0,0,0,"(na)","(na)","(na)","(na)",0,0,0,0,0,0,0,0,0,0,0,0,0,0,0,0,0,0,0,9999,0,0,0,0,0,0,9999,0,0,0,0,0,0,9999,9999,9999,9999,9999,9999,9999,0,0,0,0,0,0,0,0,0,0,0,null,0,0,0,0,9999,9999,0,0,0,0,0,0,null,0,null,0,0,0,0,0,0,0,9999,9999]
["Demand Control Ventilation-Retro-University","Demand Control Ventilation-DOAS-University-ElecHt-Vent-Retro",15,0,0,0,0,0,"C-All-HVAC-Vent-All-All-E",null,null,0,0,0,0,0,0,0,0,0,0,"(na)","(na)","(na)","(na)",0,0,0,0,0,0,0,0,0,0,0,0,0,0,0,0,0,0,0,9999,0,0,0,0,0,0,9999,0,0,0,0,0,0,9999,9999,9999,9999,9999,9999,9999,0,0,0,0,0,0,0,0,0,0,0,null,0,0,0,0,9999,9999,0,0,0,0,0,0,null,0,null,0,0,0,0,0,0,0,9999,9999]
["Demand Control Ventilation-Retro-Warehouse","Demand Control Ventilation-DOAS-Warehouse-ElecHt-Vent-Retro",15,0,0,0,0,0,"C-All-HVAC-Vent-All-All-E",null,null,0,0,0,0,0,0,0,0,0,0,"(na)","(na)","(na)","(na)",0,0,0,0,0,0,0,0,0,0,0,0,0,0,0,0,0,0,0,9999,0,0,0,0,0,0,9999,0,0,0,0,0,0,9999,9999,9999,9999,9999,9999,9999,0,0,0,0,0,0,0,0,0,0,0,null,0,0,0,0,9999,9999,0,0,0,0,0,0,null,0,null,0,0,0,0,0,0,0,9999,9999]
["Demand Control Ventilation-Retro-Supermarket","Demand Control Ventilation-DOAS-Supermarket-ElecHt-Vent-Retro",15,63.611289655488996,0,18.113471366249421,0,0,"C-All-HVAC-Vent-All-All-E",null,null,68.369115693357088,1.2852461852849084E-2,1.2759698546799198E-2,0,0,0,3.6120681592767272,8.3469401236228027,0,12.120078774433729,"(na)","(na)","(na)","(na)",0,0,0,0,0,0,0,0,3.6120681592767272,8.3469401236228027,0,12.120078774433729,24.079087057333261,35.58328528161703,4.5413979238281428,0,0,40.124683205445173,3.6120681592767272,11.108506660483298,35.58328528161703,5.3756624867467409,0,0,40.958947768363771,8.3469401236228027,4.9070614095391951,35.58328528161703,9.9170604105748836,0,0,45.500345692191914,11.95900828289953,2.1976311526297221,3.804692213254333,3.8874613891154097,8.9833319907061906,0,13.044144293800594,25.914937673622198,35.58328528161703,0,9.9170604105748836,0,0,0,0,0,0,0,24.079087057333261,null,0,0,45.500345692191914,24.079087057333261,1.8896208807191812,15.241775446430315,0.64951274544206239,0,0.64951274544206239,3.2475329954344621E-2,0,3.2475329954344621E-2,null,0,null,0,0,0,0,0,0,0,9999,9999]
["Demand Control Ventilation-Retro-MiniMart","Demand Control Ventilation-DOAS-MiniMart-ElecHt-Vent-Retro",15,6.2654655405752981,0,1.7841067408014759,0,0,"C-All-HVAC-Vent-All-All-E",null,null,6.7340929689730205,1.265917689874031E-3,1.2567808636811785E-3,0,0,0,0.3557747171095868,0.82214125821124984,0,1.1937807945970478,"(na)","(na)","(na)","(na)",0,0,0,0,0,0,0,0,0.3557747171095868,0.82214125821124984,0,1.1937807945970478,2.3716967699178841,3.5048157168307603,0.44731009781264752,0,0,3.952125814643408,0.3557747171095868,11.108506660483304,3.5048157168307603,0.5294819245276644,0,0,4.0342976413584246,0.82214125821124984,4.9070614095391969,3.5048157168307603,0.97679202234031193,0,0,4.4816077391710722,1.1779159753208366,2.1976311526297172,3.8046922132543348,3.8874613891154097,8.9833319907061906,0,13.044144293800594,25.914937673622191,3.5048157168307603,0,0.97679202234031193,0,0,0,0,0,0,0,2.3716967699178841,null,0,0,4.4816077391710722,2.3716967699178841,1.8896208807191823,15.241775446430308,6.3974488597411103E-2,0,6.3974488597411103E-2,3.1986941602621839E-3,0,3.1986941602621839E-3,null,0,null,0,0,0,0,0,0,0,9999,9999]
["Demand Control Ventilation-Retro-Restaurant","Demand Control Ventilation-DOAS-Restaurant-ElecHt-Vent-Retro",15,22.689798047399357,0,6.4609758655016671,0,0,"C-All-HVAC-Vent-All-All-E",null,null,24.386888493585115,4.5844026340674275E-3,4.5513144717006489E-3,0,0,0,1.2884048965411665,2.9773077506280927,0,4.3231656078638068,"(na)","(na)","(na)","(na)",0,0,0,0,0,0,0,0,1.2884048965411665,2.9773077506280927,0,4.3231656078638068,8.588878255033066,12.692362649390484,1.6198917252363509,0,0,14.312254374626836,1.2884048965411665,11.108506660483293,12.692362649390484,1.9174693180385662,0,0,14.60983196742905,2.9773077506280927,4.9070614095391925,12.692362649390484,3.5373610432749172,0,0,16.229723692665402,4.2657126471692592,2.1976311526297132,3.8046922132543317,3.8874613891154097,8.9833319907061906,0,13.04414429380059,25.914937673622187,12.692362649390484,0,3.5373610432749172,0,0,0,0,0,0,0,8.588878255033066,null,0,0,16.229723692665402,8.588878255033066,1.8896208807191808,15.241775446430305,0.23167763306022857,0,0.23167763306022857,1.1583772034452924E-2,0,1.1583772034452924E-2,null,0,null,0,0,0,0,0,0,0,9999,9999]
["Demand Control Ventilation-Retro-Lodging","Demand Control Ventilation-DOAS-Lodging-ElecHt-Vent-Retro",15,0,0,0,0,0,"C-All-HVAC-Vent-All-All-E",null,null,0,0,0,0,0,0,0,0,0,0,"(na)","(na)","(na)","(na)",0,0,0,0,0,0,0,0,0,0,0,0,0,0,0,0,0,0,0,9999,0,0,0,0,0,0,9999,0,0,0,0,0,0,9999,9999,9999,9999,9999,9999,9999,0,0,0,0,0,0,0,0,0,0,0,null,0,0,0,0,9999,9999,0,0,0,0,0,0,null,0,null,0,0,0,0,0,0,0,9999,9999]
["Demand Control Ventilation-Retro-Hospital","Demand Control Ventilation-DOAS-Hospital-ElecHt-Vent-Retro",15,0,0,0,0,0,"C-All-HVAC-Vent-All-All-E",null,null,0,0,0,0,0,0,0,0,0,0,"(na)","(na)","(na)","(na)",0,0,0,0,0,0,0,0,0,0,0,0,0,0,0,0,0,0,0,9999,0,0,0,0,0,0,9999,0,0,0,0,0,0,9999,9999,9999,9999,9999,9999,9999,0,0,0,0,0,0,0,0,0,0,0,null,0,0,0,0,9999,9999,0,0,0,0,0,0,null,0,null,0,0,0,0,0,0,0,9999,9999]
["Demand Control Ventilation-Retro-Residential Care","Demand Control Ventilation-DOAS-Residential Care-ElecHt-Vent-Retro",15,0,0,0,0,0,"C-All-HVAC-Vent-All-All-E",null,null,0,0,0,0,0,0,0,0,0,0,"(na)","(na)","(na)","(na)",0,0,0,0,0,0,0,0,0,0,0,0,0,0,0,0,0,0,0,9999,0,0,0,0,0,0,9999,0,0,0,0,0,0,9999,9999,9999,9999,9999,9999,9999,0,0,0,0,0,0,0,0,0,0,0,null,0,0,0,0,9999,9999,0,0,0,0,0,0,null,0,null,0,0,0,0,0,0,0,9999,9999]
["Demand Control Ventilation-Retro-Assembly","Demand Control Ventilation-DOAS-Assembly-ElecHt-Vent-Retro",15,0,0,0,0,0,"C-All-HVAC-Vent-All-All-E",null,null,0,0,0,0,0,0,0,0,0,0,"(na)","(na)","(na)","(na)",0,0,0,0,0,0,0,0,0,0,0,0,0,0,0,0,0,0,0,9999,0,0,0,0,0,0,9999,0,0,0,0,0,0,9999,9999,9999,9999,9999,9999,9999,0,0,0,0,0,0,0,0,0,0,0,null,0,0,0,0,9999,9999,0,0,0,0,0,0,null,0,null,0,0,0,0,0,0,0,9999,9999]
["Demand Control Ventilation-Retro-Other","Demand Control Ventilation-DOAS-Other-ElecHt-Vent-Retro",15,0,0,0,0,0,"C-All-HVAC-Vent-All-All-E",null,null,0,0,0,0,0,0,0,0,0,0,"(na)","(na)","(na)","(na)",0,0,0,0,0,0,0,0,0,0,0,0,0,0,0,0,0,0,0,9999,0,0,0,0,0,0,9999,0,0,0,0,0,0,9999,9999,9999,9999,9999,9999,9999,0,0,0,0,0,0,0,0,0,0,0,null,0,0,0,0,9999,9999,0,0,0,0,0,0,null,0,null,0,0,0,0,0,0,0,9999,9999]
["Demand Control Ventilation-Retro-Large Off","Demand Control Ventilation-DOAS-Large Off-ElecHt-Heat-Retro",15,0,0,0,0,0,"C-All-HVAC-Vent-All-All-E",null,null,0,0,0,0,0,0,0,0,0,0,"(na)","(na)","(na)","(na)",0,0,0,0,0,0,0,0,0,0,0,0,0,0,0,0,0,0,0,9999,0,0,0,0,0,0,9999,0,0,0,0,0,0,9999,9999,9999,9999,9999,9999,9999,0,0,0,0,0,0,0,0,0,0,0,null,0,0,0,0,9999,9999,0,0,0,0,0,0,null,0,null,0,0,0,0,0,0,0,9999,9999]
["Demand Control Ventilation-Retro-Medium Off","Demand Control Ventilation-DOAS-Medium Off-ElecHt-Heat-Retro",15,0,0,0,0,0,"C-All-HVAC-Vent-All-All-E",null,null,0,0,0,0,0,0,0,0,0,0,"(na)","(na)","(na)","(na)",0,0,0,0,0,0,0,0,0,0,0,0,0,0,0,0,0,0,0,9999,0,0,0,0,0,0,9999,0,0,0,0,0,0,9999,9999,9999,9999,9999,9999,9999,0,0,0,0,0,0,0,0,0,0,0,null,0,0,0,0,9999,9999,0,0,0,0,0,0,null,0,null,0,0,0,0,0,0,0,9999,9999]
["Demand Control Ventilation-Retro-Small Off","Demand Control Ventilation-DOAS-Small Off-ElecHt-Heat-Retro",15,0,0,0,0,0,"C-All-HVAC-Vent-All-All-E",null,null,0,0,0,0,0,0,0,0,0,0,"(na)","(na)","(na)","(na)",0,0,0,0,0,0,0,0,0,0,0,0,0,0,0,0,0,0,0,9999,0,0,0,0,0,0,9999,0,0,0,0,0,0,9999,9999,9999,9999,9999,9999,9999,0,0,0,0,0,0,0,0,0,0,0,null,0,0,0,0,9999,9999,0,0,0,0,0,0,null,0,null,0,0,0,0,0,0,0,9999,9999]
["Demand Control Ventilation-Retro-Xlarge Ret","Demand Control Ventilation-DOAS-Xlarge Ret-ElecHt-Heat-Retro",15,149.12107615007429,0,0,0,0,"C-All-HVAC-Vent-All-All-E",null,null,160.27463305395497,3.0129446408877398E-2,2.9911985576054873E-2,0,0,0,0,0,0,0,"(na)","(na)","(na)","(na)",0,0,0,0,0,0,0,0,0,0,0,0,0,83.416290141068657,10.646194241536323,0,0,94.062484382604978,0,9999,83.416290141068657,12.601923013741111,0,0,96.018213154809771,0,9999,83.416290141068657,23.248117255277435,0,0,106.66440739634609,0,-10.673162227191886,9999,0,0,0,0,0,83.416290141068657,0,23.248117255277435,0,0,0,0,0,0,0,0,null,0,0,106.66440739634609,0,9999,-10.673162227191886,1.5226234226356716,0,1.5226234226356716,7.6130450700628585E-2,0,7.6130450700628585E-2,null,0,null,0,0,0,0,0,0,0,9999,9999]
["Demand Control Ventilation-Retro-Large Ret","Demand Control Ventilation-DOAS-Large Ret-ElecHt-Heat-Retro",15,19.997348498891682,0,0,0,0,"C-All-HVAC-Vent-All-All-E",null,null,21.493056350306691,4.040401635182953E-3,4.0112398280723683E-3,0,0,0,0,0,0,0,"(na)","(na)","(na)","(na)",0,0,0,0,0,0,0,0,0,0,0,0,0,11.186243202515827,1.4276697964588119,0,0,12.613912998974639,0,9999,11.186243202515827,1.6899358076545017,0,0,12.876179010170329,0,9999,11.186243202515827,3.1176056041133133,0,0,14.303848806629141,0,-10.673162227191879,9999,0,0,0,0,0,11.186243202515827,0,3.1176056041133133,0,0,0,0,0,0,0,0,null,0,0,14.303848806629141,0,9999,-10.673162227191879,0.20418596754477333,0,0.20418596754477333,1.0209201766395681E-2,0,1.0209201766395681E-2,null,0,null,0,0,0,0,0,0,0,9999,9999]
["Demand Control Ventilation-Retro-Medium Ret","Demand Control Ventilation-DOAS-Medium Ret-ElecHt-Heat-Retro",15,64.888897669730056,0,0,0,0,"C-All-HVAC-Vent-All-All-E",null,null,69.742282793245778,1.3110598550829244E-2,1.3015972129853082E-2,0,0,0,0,0,0,0,"(na)","(na)","(na)","(na)",0,0,0,0,0,0,0,0,0,0,0,0,0,36.297961728125721,4.6326101349743745,0,0,40.930571863100099,0,9999,36.297961728125721,5.4836305771929315,0,0,41.781592305318654,0,9999,36.297961728125721,10.116240712167306,0,0,46.414202440293025,0,-10.673162227191879,9999,0,0,0,0,0,36.297961728125721,0,10.116240712167306,0,0,0,0,0,0,0,0,null,0,0,46.414202440293032,0,9999,-10.673162227191888,0.66255795633815862,0,0.66255795633815862,3.3127584326791741E-2,0,3.3127584326791741E-2,null,0,null,0,0,0,0,0,0,0,9999,9999]
["Demand Control Ventilation-Retro-Small Ret","Demand Control Ventilation-DOAS-Small Ret-ElecHt-Heat-Retro",15,87.564141097812737,0,0,0,0,"C-All-HVAC-Vent-All-All-E",null,null,94.113528050271412,1.7692060469646855E-2,1.7564367111067843E-2,0,0,0,0,0,0,0,"(na)","(na)","(na)","(na)",0,0,0,0,0,0,0,0,0,0,0,0,0,48.982182722566073,6.2514627629324773,0,0,55.233645485498549,0,9999,48.982182722566073,7.3998699135491055,0,0,56.382052636115176,0,9999,48.982182722566073,13.651332676481584,0,0,62.633515399047653,0,-10.673162227191877,9999,0,0,0,0,0,48.982182722566073,0,13.651332676481584,0,0,0,0,0,0,0,0,null,0,0,62.633515399047653,0,9999,-10.673162227191877,0.89408697724475217,0,0.89408697724475217,4.4703925823878922E-2,0,4.4703925823878922E-2,null,0,null,0,0,0,0,0,0,0,9999,9999]
["Demand Control Ventilation-Retro-School K-12","Demand Control Ventilation-DOAS-School K-12-ElecHt-Heat-Retro",15,0,0,0,0,0,"C-All-HVAC-Vent-All-All-E",null,null,0,0,0,0,0,0,0,0,0,0,"(na)","(na)","(na)","(na)",0,0,0,0,0,0,0,0,0,0,0,0,0,0,0,0,0,0,0,9999,0,0,0,0,0,0,9999,0,0,0,0,0,0,9999,9999,9999,9999,9999,9999,9999,0,0,0,0,0,0,0,0,0,0,0,null,0,0,0,0,9999,9999,0,0,0,0,0,0,null,0,null,0,0,0,0,0,0,0,9999,9999]
["Demand Control Ventilation-Retro-University","Demand Control Ventilation-DOAS-University-ElecHt-Heat-Retro",15,0,0,0,0,0,"C-All-HVAC-Vent-All-All-E",null,null,0,0,0,0,0,0,0,0,0,0,"(na)","(na)","(na)","(na)",0,0,0,0,0,0,0,0,0,0,0,0,0,0,0,0,0,0,0,9999,0,0,0,0,0,0,9999,0,0,0,0,0,0,9999,9999,9999,9999,9999,9999,9999,0,0,0,0,0,0,0,0,0,0,0,null,0,0,0,0,9999,9999,0,0,0,0,0,0,null,0,null,0,0,0,0,0,0,0,9999,9999]
["Demand Control Ventilation-Retro-Warehouse","Demand Control Ventilation-DOAS-Warehouse-ElecHt-Heat-Retro",15,0,0,0,0,0,"C-All-HVAC-Vent-All-All-E",null,null,0,0,0,0,0,0,0,0,0,0,"(na)","(na)","(na)","(na)",0,0,0,0,0,0,0,0,0,0,0,0,0,0,0,0,0,0,0,9999,0,0,0,0,0,0,9999,0,0,0,0,0,0,9999,9999,9999,9999,9999,9999,9999,0,0,0,0,0,0,0,0,0,0,0,null,0,0,0,0,9999,9999,0,0,0,0,0,0,null,0,null,0,0,0,0,0,0,0,9999,9999]
["Demand Control Ventilation-Retro-Supermarket","Demand Control Ventilation-DOAS-Supermarket-ElecHt-Heat-Retro",15,103.0295544792571,0,0,0,0,"C-All-HVAC-Vent-All-All-E",null,null,110.73568179763414,2.08167988077636E-2,2.0666552489128902E-2,0,0,0,0,0,0,0,"(na)","(na)","(na)","(na)",0,0,0,0,0,0,0,0,0,0,0,0,0,57.633323413636489,7.3555843206310785,0,0,64.988907734267571,0,9999,57.633323413636489,8.7068209753326453,0,0,66.340144388969136,0,9999,57.633323413636489,16.062405295963725,0,0,73.695728709600218,0,-10.673162227191884,9999,0,0,0,0,0,57.633323413636489,0,16.062405295963725,0,0,0,0,0,0,0,0,null,0,0,73.695728709600218,0,9999,-10.673162227191884,1.0519989321694325,0,1.0519989321694325,5.2599448853876227E-2,0,5.2599448853876227E-2,null,0,null,0,0,0,0,0,0,0,9999,9999]
["Demand Control Ventilation-Retro-MiniMart","Demand Control Ventilation-DOAS-MiniMart-ElecHt-Heat-Retro",15,10.148011881958572,0,0,0,0,"C-All-HVAC-Vent-All-All-E",null,null,10.907035561969924,2.0503740185352035E-3,2.0355753383464771E-3,0,0,0,0,0,0,0,"(na)","(na)","(na)","(na)",0,0,0,0,0,0,0,0,0,0,0,0,0,5.6766590300659301,0.72449655306954186,0,0,6.4011555831354716,0,9999,5.6766590300659301,0.85758812758479575,0,0,6.5342471576507259,0,9999,5.6766590300659301,1.5820846806543376,0,0,7.2587437107202675,0,-10.673162227191881,9999,0,0,0,0,0,5.6766590300659301,0,1.5820846806543376,0,0,0,0,0,0,0,0,null,0,0,7.2587437107202675,0,9999,-10.673162227191881,0.10361781837669179,0,0.10361781837669179,5.1808418919357139E-3,0,5.1808418919357139E-3,null,0,null,0,0,0,0,0,0,0,9999,9999]
["Demand Control Ventilation-Retro-Restaurant","Demand Control Ventilation-DOAS-Restaurant-ElecHt-Heat-Retro",15,36.750076860706315,0,0,0,0,"C-All-HVAC-Vent-All-All-E",null,null,39.498810199214169,7.425237933385345E-3,7.3716458957824357E-3,0,0,0,0,0,0,0,"(na)","(na)","(na)","(na)",0,0,0,0,0,0,0,0,0,0,0,0,0,20.55749028416415,2.623696574297246,0,0,23.181186858461395,0,9999,20.55749028416415,3.1056752761199733,0,0,23.663165560284124,0,9999,20.55749028416415,5.7293718504172197,0,0,26.286862134581369,0,-10.673162227191881,9999,0,0,0,0,0,20.55749028416415,0,5.7293718504172197,0,0,0,0,0,0,0,0,null,0,0,26.286862134581369,0,9999,-10.673162227191881,0.37524224781920401,0,0.37524224781920401,1.8761934844626731E-2,0,1.8761934844626731E-2,null,0,null,0,0,0,0,0,0,0,9999,9999]
["Demand Control Ventilation-Retro-Lodging","Demand Control Ventilation-DOAS-Lodging-ElecHt-Heat-Retro",15,0,0,0,0,0,"C-All-HVAC-Vent-All-All-E",null,null,0,0,0,0,0,0,0,0,0,0,"(na)","(na)","(na)","(na)",0,0,0,0,0,0,0,0,0,0,0,0,0,0,0,0,0,0,0,9999,0,0,0,0,0,0,9999,0,0,0,0,0,0,9999,9999,9999,9999,9999,9999,9999,0,0,0,0,0,0,0,0,0,0,0,null,0,0,0,0,9999,9999,0,0,0,0,0,0,null,0,null,0,0,0,0,0,0,0,9999,9999]
["Demand Control Ventilation-Retro-Hospital","Demand Control Ventilation-DOAS-Hospital-ElecHt-Heat-Retro",15,0,0,0,0,0,"C-All-HVAC-Vent-All-All-E",null,null,0,0,0,0,0,0,0,0,0,0,"(na)","(na)","(na)","(na)",0,0,0,0,0,0,0,0,0,0,0,0,0,0,0,0,0,0,0,9999,0,0,0,0,0,0,9999,0,0,0,0,0,0,9999,9999,9999,9999,9999,9999,9999,0,0,0,0,0,0,0,0,0,0,0,null,0,0,0,0,9999,9999,0,0,0,0,0,0,null,0,null,0,0,0,0,0,0,0,9999,9999]
["Demand Control Ventilation-Retro-Residential Care","Demand Control Ventilation-DOAS-Residential Care-ElecHt-Heat-Retro",15,0,0,0,0,0,"C-All-HVAC-Vent-All-All-E",null,null,0,0,0,0,0,0,0,0,0,0,"(na)","(na)","(na)","(na)",0,0,0,0,0,0,0,0,0,0,0,0,0,0,0,0,0,0,0,9999,0,0,0,0,0,0,9999,0,0,0,0,0,0,9999,9999,9999,9999,9999,9999,9999,0,0,0,0,0,0,0,0,0,0,0,null,0,0,0,0,9999,9999,0,0,0,0,0,0,null,0,null,0,0,0,0,0,0,0,9999,9999]
["Demand Control Ventilation-Retro-Assembly","Demand Control Ventilation-DOAS-Assembly-ElecHt-Heat-Retro",15,0,0,0,0,0,"C-All-HVAC-Vent-All-All-E",null,null,0,0,0,0,0,0,0,0,0,0,"(na)","(na)","(na)","(na)",0,0,0,0,0,0,0,0,0,0,0,0,0,0,0,0,0,0,0,9999,0,0,0,0,0,0,9999,0,0,0,0,0,0,9999,9999,9999,9999,9999,9999,9999,0,0,0,0,0,0,0,0,0,0,0,null,0,0,0,0,9999,9999,0,0,0,0,0,0,null,0,null,0,0,0,0,0,0,0,9999,9999]
["Demand Control Ventilation-Retro-Other","Demand Control Ventilation-DOAS-Other-ElecHt-Heat-Retro",15,0,0,0,0,0,"C-All-HVAC-Vent-All-All-E",null,null,0,0,0,0,0,0,0,0,0,0,"(na)","(na)","(na)","(na)",0,0,0,0,0,0,0,0,0,0,0,0,0,0,0,0,0,0,0,9999,0,0,0,0,0,0,9999,0,0,0,0,0,0,9999,9999,9999,9999,9999,9999,9999,0,0,0,0,0,0,0,0,0,0,0,null,0,0,0,0,9999,9999,0,0,0,0,0,0,null,0,null,0,0,0,0,0,0,0,9999,9999]
["Demand Control Ventilation-Retro-Large Off","Demand Control Ventilation-DOAS-Large Off-GasHt-Vent-Retro",15,0,6.0690000000000001E-2,0,0,0,"C-All-HVAC-Vent-All-All-E",null,null,0,0,0,6.1296900456697508E-2,0,0,0,0,0,0,"(na)","(na)","(na)","(na)",0,0,0,0,0,0,0,0,0,0,0,0,0,0,0,0,0,0,0,9999,0,0,0,0,0,0,9999,0,0,0,0,0,0,9999,9999,9999,9999,9999,9999,9999,0,0.44235525226049921,0,0,0,0,0,0,0,0,0,null,0,0,0.44235525226049921,0,9999,9999,0,7.1717373534336045E-3,7.1717373534336045E-3,0,3.5858686767168042E-4,3.5858686767168042E-4,null,6.0690000000000001E-2,"C-All-HVAC-Vent-All-All-E",0,0,0.44235525226049921,0,0,0.44235525226049921,0,0,9999]
["Demand Control Ventilation-Retro-Medium Off","Demand Control Ventilation-DOAS-Medium Off-GasHt-Vent-Retro",15,0,6.0690000000000001E-2,0,0,0,"C-All-HVAC-Vent-All-All-E",null,null,0,0,0,6.1296900456697508E-2,0,0,0,0,0,0,"(na)","(na)","(na)","(na)",0,0,0,0,0,0,0,0,0,0,0,0,0,0,0,0,0,0,0,9999,0,0,0,0,0,0,9999,0,0,0,0,0,0,9999,9999,9999,9999,9999,9999,9999,0,0.44235525226049921,0,0,0,0,0,0,0,0,0,null,0,0,0.44235525226049921,0,9999,9999,0,7.1717373534336045E-3,7.1717373534336045E-3,0,3.5858686767168042E-4,3.5858686767168042E-4,null,6.0690000000000001E-2,"C-All-HVAC-Vent-All-All-E",0,0,0.44235525226049921,0,0,0.44235525226049921,0,0,9999]
["Demand Control Ventilation-Retro-Small Off","Demand Control Ventilation-DOAS-Small Off-GasHt-Vent-Retro",15,0,6.0690000000000001E-2,0,0,0,"C-All-HVAC-Vent-All-All-E",null,null,0,0,0,6.1296900456697508E-2,0,0,0,0,0,0,"(na)","(na)","(na)","(na)",0,0,0,0,0,0,0,0,0,0,0,0,0,0,0,0,0,0,0,9999,0,0,0,0,0,0,9999,0,0,0,0,0,0,9999,9999,9999,9999,9999,9999,9999,0,0.44235525226049921,0,0,0,0,0,0,0,0,0,null,0,0,0.44235525226049921,0,9999,9999,0,7.1717373534336045E-3,7.1717373534336045E-3,0,3.5858686767168042E-4,3.5858686767168042E-4,null,6.0690000000000001E-2,"C-All-HVAC-Vent-All-All-E",0,0,0.44235525226049921,0,0,0.44235525226049921,0,0,9999]
["Demand Control Ventilation-Retro-Xlarge Ret","Demand Control Ventilation-DOAS-Xlarge Ret-GasHt-Vent-Retro",15,382.63453699940743,0.13913,453.17313331812323,0,0,"C-All-HVAC-Vent-All-All-E",null,null,411.25380526111121,7.7310109840590224E-2,7.6752120136983112E-2,0.14052130104696531,0,0,90.368776497919598,208.82849747337724,0,303.22702717860579,"(na)","(na)","(na)","(na)",0,0,0,0,0,0,0,0,90.368776497919598,208.82849747337724,0,303.22702717860579,602.4243011499027,214.04052586244802,27.317410184971887,0,0,241.35793604741991,90.368776497919598,2.6708111518249478,214.04052586244802,32.335677170222752,0,0,246.37620303267079,208.82849747337724,1.179801636335962,214.04052586244802,59.653087355194643,0,0,273.69361321764268,299.19727397129685,42.859373717088026,0.91475971550429025,16.168829721956538,37.363706222323366,0,54.25354153886142,107.78607748314134,214.04052586244802,1.0140861138079289,59.653087355194643,0,0,0,0,0,0,0,602.4243011499027,null,0,0,274.70769933145061,602.4243011499027,0.45600368180216294,96.931474427236481,3.9069481215272392,1.6440992222494934E-2,3.9233891137497343,0.19534555749902779,8.2204961112474677E-4,0.19616760711015255,null,0.13913,"C-All-HVAC-Vent-All-All-E",0,0,1.0140861138079289,0,0,1.0140861138079289,0,0,9999]
["Demand Control Ventilation-Retro-Large Ret","Demand Control Ventilation-DOAS-Large Ret-GasHt-Vent-Retro",15,275.52497168115582,0.13913,326.31794218912842,0,0,"C-All-HVAC-Vent-All-All-E",null,null,296.13294695483989,5.5668957620855476E-2,5.5267164049134676E-2,0.14052130104696531,0,0,65.072156791451775,150.37185692586783,0,218.34573201758792,"(na)","(na)","(na)","(na)",0,0,0,0,0,0,0,0,65.072156791451775,150.37185692586783,0,218.34573201758792,433.78974573490751,154.12490019676912,19.670541835141645,0,0,173.79544203191077,65.072156791451775,2.6708111518249456,154.12490019676912,23.284062663246782,0,0,177.40896286001589,150.37185692586783,1.1798016363359611,154.12490019676912,42.954604498388427,0,0,197.07950469515754,215.44401371731959,42.859373717088012,0.91475971550428958,16.168829721956538,37.363706222323351,0,54.253541538861434,107.78607748314133,154.12490019676912,1.0140861138079289,42.954604498388427,0,0,0,0,0,0,0,433.78974573490751,null,0,0,198.09359080896547,433.78974573490751,0.45665807630690769,96.860939810443469,2.8132896183002019,1.6440992222494934E-2,2.8297306105226969,0.14066314980354894,8.2204961112474677E-4,0.14148519941467369,null,0.13913,"C-All-HVAC-Vent-All-All-E",0,0,1.0140861138079289,0,0,1.0140861138079289,0,0,9999]
["Demand Control Ventilation-Retro-Medium Ret","Demand Control Ventilation-DOAS-Medium Ret-GasHt-Vent-Retro",15,126.41428241789404,6.7919999999999994E-2,157.6271235429781,0,0,"C-All-HVAC-Vent-All-All-E",null,null,135.86947767810156,2.5541609849928204E-2,2.5357261964002328E-2,6.8599200511103867E-2,0,0,31.432954096742087,72.636775992241084,0,105.47139836972457,"(na)","(na)","(na)","(na)",0,0,0,0,0,0,0,0,31.432954096742087,72.636775992241084,0,105.47139836972457,209.54112845870773,70.714420338099146,9.0250891441454968,0,0,79.739509482244642,31.432954096742087,2.5368124560239584,70.714420338099146,10.683017424474462,0,0,81.397437762573603,72.636775992241084,1.1206091769721211,70.714420338099146,19.708106568619961,0,0,90.422526906719099,104.06973008898316,45.687052200934623,0.86886481620933154,17.022894471688264,39.337319956438236,0,57.119304749511436,113.47951917763794,70.714420338099146,0.49505303564892278,19.708106568619961,0,0,0,0,0,0,0,209.54112845870773,null,0,0,90.917579942368022,209.54112845870773,0.43388894872867062,102.53825502283837,1.2907722525517078,8.0261064597991569E-3,1.2987983590115069,6.4538001897098227E-2,4.0130532298995772E-4,6.4939307220088185E-2,null,6.7919999999999994E-2,"C-All-HVAC-Vent-All-All-E",0,0,0.49505303564892278,0,0,0.49505303564892278,0,0,9999]
["Demand Control Ventilation-Retro-Small Ret","Demand Control Ventilation-DOAS-Small Ret-GasHt-Vent-Retro",15,52.485892591478191,6.7919999999999994E-2,65.445138931622296,0,0,"C-All-HVAC-Vent-All-All-E",null,null,56.4115911230585,1.0604610219319757E-2,1.0528070898326056E-2,6.8599200511103867E-2,0,0,13.050634951996065,30.15803238369195,0,43.790625397900307,"(na)","(na)","(na)","(na)",0,0,0,0,0,0,0,0,13.050634951996065,30.15803238369195,0,43.790625397900307,86.999292733588319,29.359890350560157,3.7471229546851053,0,0,33.10701330524526,13.050634951996065,2.5368124560239589,29.359890350560157,4.4354774980274536,0,0,33.79536784858761,30.15803238369195,1.1206091769721211,29.359890350560157,8.1826004527125598,0,0,37.542490803272713,43.208667335688013,45.687052200934644,0.86886481620933154,17.022894471688264,39.337319956438257,0,57.11930474951145,113.47951917763795,29.359890350560157,0.49505303564892278,8.1826004527125598,0,0,0,0,0,0,0,86.999292733588319,null,0,0,38.037543838921636,86.999292733588319,0.43721670192654638,102.1606231900016,0.53591518704772256,8.0261064597991569E-3,0.54394129350752174,2.6795505783452786E-2,4.0130532298995772E-4,2.7196811106442745E-2,null,6.7919999999999994E-2,"C-All-HVAC-Vent-All-All-E",0,0,0.49505303564892278,0,0,0.49505303564892278,0,0,9999]
["Demand Control Ventilation-Retro-School K-12","Demand Control Ventilation-DOAS-School K-12-GasHt-Vent-Retro",15,0,0,0,0,0,"C-All-HVAC-Vent-All-All-E",null,null,0,0,0,0,0,0,0,0,0,0,"(na)","(na)","(na)","(na)",0,0,0,0,0,0,0,0,0,0,0,0,0,0,0,0,0,0,0,9999,0,0,0,0,0,0,9999,0,0,0,0,0,0,9999,9999,9999,9999,9999,9999,9999,0,0,0,0,0,0,0,0,0,0,0,null,0,0,0,0,9999,9999,0,0,0,0,0,0,null,0,"C-All-HVAC-Vent-All-All-E",0,0,0,0,0,0,0,9999,9999]
["Demand Control Ventilation-Retro-University","Demand Control Ventilation-DOAS-University-GasHt-Vent-Retro",15,0,0,0,0,0,"C-All-HVAC-Vent-All-All-E",null,null,0,0,0,0,0,0,0,0,0,0,"(na)","(na)","(na)","(na)",0,0,0,0,0,0,0,0,0,0,0,0,0,0,0,0,0,0,0,9999,0,0,0,0,0,0,9999,0,0,0,0,0,0,9999,9999,9999,9999,9999,9999,9999,0,0,0,0,0,0,0,0,0,0,0,null,0,0,0,0,9999,9999,0,0,0,0,0,0,null,0,"C-All-HVAC-Vent-All-All-E",0,0,0,0,0,0,0,9999,9999]
["Demand Control Ventilation-Retro-Warehouse","Demand Control Ventilation-DOAS-Warehouse-GasHt-Vent-Retro",15,0,6.0690000000000001E-2,0,0,0,"C-All-HVAC-Vent-All-All-E",null,null,0,0,0,6.1296900456697508E-2,0,0,0,0,0,0,"(na)","(na)","(na)","(na)",0,0,0,0,0,0,0,0,0,0,0,0,0,0,0,0,0,0,0,9999,0,0,0,0,0,0,9999,0,0,0,0,0,0,9999,9999,9999,9999,9999,9999,9999,0,0.44235525226049921,0,0,0,0,0,0,0,0,0,null,0,0,0.44235525226049921,0,9999,9999,0,7.1717373534336045E-3,7.1717373534336045E-3,0,3.5858686767168042E-4,3.5858686767168042E-4,null,6.0690000000000001E-2,"C-All-HVAC-Vent-All-All-E",0,0,0.44235525226049921,0,0,0.44235525226049921,0,0,9999]
["Demand Control Ventilation-Retro-Supermarket","Demand Control Ventilation-DOAS-Supermarket-GasHt-Vent-Retro",15,183.28638107539933,6.0690000000000001E-2,217.07518682927179,0,0,"C-All-HVAC-Vent-All-All-E",null,null,196.99534250331624,3.7032439267878595E-2,3.676515572820261E-2,6.1296900456697508E-2,0,0,43.287692053111591,100.03127231394629,0,145.24926289104027,"(na)","(na)","(na)","(na)",0,0,0,0,0,0,0,0,43.287692053111591,100.03127231394629,0,145.24926289104027,288.56822725809815,102.52789436219726,13.085356310017323,0,0,115.61325067221458,43.287692053111591,2.6708111518249469,102.52789436219726,15.489164398564775,0,0,118.01705876076204,100.03127231394629,1.179801636335962,102.52789436219726,28.574520708582099,0,0,131.10241507077936,143.31896436705787,42.859373717088019,0.91475971550429014,16.168829721956541,37.363706222323366,0,54.25354153886142,107.78607748314133,102.52789436219726,0.44235525226049921,28.574520708582099,0,0,0,0,0,0,0,288.56822725809815,null,0,0,131.54477032303987,288.56822725809815,0.45585327107195689,96.94768660985676,1.8714734635811683,7.1717373534336045E-3,1.878645200934602,9.357278768907519E-2,3.5858686767168042E-4,9.3931374556746869E-2,null,6.0690000000000001E-2,"C-All-HVAC-Vent-All-All-E",0,0,0.44235525226049921,0,0,0.44235525226049921,0,0,9999]
["Demand Control Ventilation-Retro-MiniMart","Demand Control Ventilation-DOAS-MiniMart-GasHt-Vent-Retro",15,131.86077893343457,6.0690000000000001E-2,156.16928576190045,0,0,"C-All-HVAC-Vent-All-All-E",null,null,141.72334658110884,2.6642057413195298E-2,2.6449766990246402E-2,6.1296900456697508E-2,0,0,31.14224176866604,71.964984019152837,0,104.49593053201735,"(na)","(na)","(na)","(na)",0,0,0,0,0,0,0,0,31.14224176866604,71.964984019152837,0,104.49593053201735,207.60315631983622,73.761115985168118,9.4139306234139308,0,0,83.175046608582051,31.14224176866604,2.6708111518249513,73.761115985168118,11.143289919519871,0,0,84.904405904687991,71.964984019152837,1.1798016363359636,73.761115985168118,20.557220542933802,0,0,94.318336528101923,103.10722578781888,42.85937371708804,0.91475971550429136,16.168829721956545,37.363706222323373,0,54.253541538861441,107.78607748314136,73.761115985168118,0.44235525226049921,20.557220542933802,0,0,0,0,0,0,0,207.60315631983622,null,0,0,94.760691780362421,207.60315631983622,0.45645111307639669,96.883247565243607,1.3463845333906652,7.1717373534336045E-3,1.3535562707440989,6.7318589626026701E-2,3.5858686767168042E-4,6.7677176493698379E-2,null,6.0690000000000001E-2,"C-All-HVAC-Vent-All-All-E",0,0,0.44235525226049921,0,0,0.44235525226049921,0,0,9999]
["Demand Control Ventilation-Retro-Restaurant","Demand Control Ventilation-DOAS-Restaurant-GasHt-Vent-Retro",15,144.07751207293876,0.13913,170.63817108301046,0,0,"C-All-HVAC-Vent-All-All-E",null,null,154.85383404541321,2.9110410082859587E-2,2.8900304197257962E-2,0.14052130104696531,0,0,34.027530784331361,78.632448084373436,0,114.17734533784272,"(na)","(na)","(na)","(na)",0,0,0,0,0,0,0,0,34.027530784331361,78.632448084373436,0,114.17734533784272,226.83732420654752,80.594989388249502,10.286119299609389,0,0,90.881108687858898,34.027530784331361,2.6708111518249473,80.594989388249502,12.175701530796825,0,0,92.770690919046331,78.632448084373436,1.1798016363359616,80.594989388249502,22.461820830406214,0,0,103.05681021865573,112.6599788687048,42.859373717088012,0.91475971550429003,16.168829721956538,37.363706222323366,0,54.253541538861413,107.78607748314131,80.594989388249502,1.0140861138079289,22.461820830406214,0,0,0,0,0,0,0,226.83732420654752,null,0,0,104.07089633246366,226.83732420654752,0.45879088327501844,96.631052913322108,1.4711253447269392,1.6440992222494934E-2,1.4875663369494341,7.3555571171571271E-2,8.2204961112474677E-4,7.4377620782696025E-2,null,0.13913,"C-All-HVAC-Vent-All-All-E",0,0,1.0140861138079289,0,0,1.0140861138079289,0,0,9999]
["Demand Control Ventilation-Retro-Lodging","Demand Control Ventilation-DOAS-Lodging-GasHt-Vent-Retro",15,0,6.0690000000000001E-2,0,0,0,"C-All-HVAC-Vent-All-All-E",null,null,0,0,0,6.1296900456697508E-2,0,0,0,0,0,0,"(na)","(na)","(na)","(na)",0,0,0,0,0,0,0,0,0,0,0,0,0,0,0,0,0,0,0,9999,0,0,0,0,0,0,9999,0,0,0,0,0,0,9999,9999,9999,9999,9999,9999,9999,0,0.44235525226049921,0,0,0,0,0,0,0,0,0,null,0,0,0.44235525226049921,0,9999,9999,0,7.1717373534336045E-3,7.1717373534336045E-3,0,3.5858686767168042E-4,3.5858686767168042E-4,null,6.0690000000000001E-2,"C-All-HVAC-Vent-All-All-E",0,0,0.44235525226049921,0,0,0.44235525226049921,0,0,9999]
["Demand Control Ventilation-Retro-Hospital","Demand Control Ventilation-DOAS-Hospital-GasHt-Vent-Retro",15,0,6.0690000000000001E-2,0,0,0,"C-All-HVAC-Vent-All-All-E",null,null,0,0,0,6.1296900456697508E-2,0,0,0,0,0,0,"(na)","(na)","(na)","(na)",0,0,0,0,0,0,0,0,0,0,0,0,0,0,0,0,0,0,0,9999,0,0,0,0,0,0,9999,0,0,0,0,0,0,9999,9999,9999,9999,9999,9999,9999,0,0.44235525226049921,0,0,0,0,0,0,0,0,0,null,0,0,0.44235525226049921,0,9999,9999,0,7.1717373534336045E-3,7.1717373534336045E-3,0,3.5858686767168042E-4,3.5858686767168042E-4,null,6.0690000000000001E-2,"C-All-HVAC-Vent-All-All-E",0,0,0.44235525226049921,0,0,0.44235525226049921,0,0,9999]
["Demand Control Ventilation-Retro-Residential Care","Demand Control Ventilation-DOAS-Residential Care-GasHt-Vent-Retro",15,0,6.0690000000000001E-2,0,0,0,"C-All-HVAC-Vent-All-All-E",null,null,0,0,0,6.1296900456697508E-2,0,0,0,0,0,0,"(na)","(na)","(na)","(na)",0,0,0,0,0,0,0,0,0,0,0,0,0,0,0,0,0,0,0,9999,0,0,0,0,0,0,9999,0,0,0,0,0,0,9999,9999,9999,9999,9999,9999,9999,0,0.44235525226049921,0,0,0,0,0,0,0,0,0,null,0,0,0.44235525226049921,0,9999,9999,0,7.1717373534336045E-3,7.1717373534336045E-3,0,3.5858686767168042E-4,3.5858686767168042E-4,null,6.0690000000000001E-2,"C-All-HVAC-Vent-All-All-E",0,0,0.44235525226049921,0,0,0.44235525226049921,0,0,9999]
["Demand Control Ventilation-Retro-Assembly","Demand Control Ventilation-DOAS-Assembly-GasHt-Vent-Retro",15,0,6.0690000000000001E-2,0,0,0,"C-All-HVAC-Vent-All-All-E",null,null,0,0,0,6.1296900456697508E-2,0,0,0,0,0,0,"(na)","(na)","(na)","(na)",0,0,0,0,0,0,0,0,0,0,0,0,0,0,0,0,0,0,0,9999,0,0,0,0,0,0,9999,0,0,0,0,0,0,9999,9999,9999,9999,9999,9999,9999,0,0.44235525226049921,0,0,0,0,0,0,0,0,0,null,0,0,0.44235525226049921,0,9999,9999,0,7.1717373534336045E-3,7.1717373534336045E-3,0,3.5858686767168042E-4,3.5858686767168042E-4,null,6.0690000000000001E-2,"C-All-HVAC-Vent-All-All-E",0,0,0.44235525226049921,0,0,0.44235525226049921,0,0,9999]
["Demand Control Ventilation-Retro-Other","Demand Control Ventilation-DOAS-Other-GasHt-Vent-Retro",15,0,6.0690000000000001E-2,0,0,0,"C-All-HVAC-Vent-All-All-E",null,null,0,0,0,6.1296900456697508E-2,0,0,0,0,0,0,"(na)","(na)","(na)","(na)",0,0,0,0,0,0,0,0,0,0,0,0,0,0,0,0,0,0,0,9999,0,0,0,0,0,0,9999,0,0,0,0,0,0,9999,9999,9999,9999,9999,9999,9999,0,0.44235525226049921,0,0,0,0,0,0,0,0,0,null,0,0,0.44235525226049921,0,9999,9999,0,7.1717373534336045E-3,7.1717373534336045E-3,0,3.5858686767168042E-4,3.5858686767168042E-4,null,6.0690000000000001E-2,"C-All-HVAC-Vent-All-All-E",0,0,0.44235525226049921,0,0,0.44235525226049921,0,0,9999]
["Demand Control Ventilation-Retro-Large Off","Demand Control Ventilation-DOAS-Large Off-HtPmpHt-Vent-Retro",15,0,0,0,0,0,"C-All-HVAC-Vent-All-All-E",null,null,0,0,0,0,0,0,0,0,0,0,"(na)","(na)","(na)","(na)",0,0,0,0,0,0,0,0,0,0,0,0,0,0,0,0,0,0,0,9999,0,0,0,0,0,0,9999,0,0,0,0,0,0,9999,9999,9999,9999,9999,9999,9999,0,0,0,0,0,0,0,0,0,0,0,null,0,0,0,0,9999,9999,0,0,0,0,0,0,null,0,null,0,0,0,0,0,0,0,9999,9999]
["Demand Control Ventilation-Retro-Medium Off","Demand Control Ventilation-DOAS-Medium Off-HtPmpHt-Vent-Retro",15,0,0,0,0,0,"C-All-HVAC-Vent-All-All-E",null,null,0,0,0,0,0,0,0,0,0,0,"(na)","(na)","(na)","(na)",0,0,0,0,0,0,0,0,0,0,0,0,0,0,0,0,0,0,0,9999,0,0,0,0,0,0,9999,0,0,0,0,0,0,9999,9999,9999,9999,9999,9999,9999,0,0,0,0,0,0,0,0,0,0,0,null,0,0,0,0,9999,9999,0,0,0,0,0,0,null,0,null,0,0,0,0,0,0,0,9999,9999]
["Demand Control Ventilation-Retro-Small Off","Demand Control Ventilation-DOAS-Small Off-HtPmpHt-Vent-Retro",15,0,0,0,0,0,"C-All-HVAC-Vent-All-All-E",null,null,0,0,0,0,0,0,0,0,0,0,"(na)","(na)","(na)","(na)",0,0,0,0,0,0,0,0,0,0,0,0,0,0,0,0,0,0,0,9999,0,0,0,0,0,0,9999,0,0,0,0,0,0,9999,9999,9999,9999,9999,9999,9999,0,0,0,0,0,0,0,0,0,0,0,null,0,0,0,0,9999,9999,0,0,0,0,0,0,null,0,null,0,0,0,0,0,0,0,9999,9999]
["Demand Control Ventilation-Retro-Xlarge Ret","Demand Control Ventilation-DOAS-Xlarge Ret-HtPmpHt-Vent-Retro",15,12.922080198818618,0,15.304262962273526,0,0,"C-All-HVAC-Vent-All-All-E",null,null,13.888591174564159,2.6108658339462193E-3,2.5920217751828115E-3,0,0,0,3.0518744767073671,7.0524177281831486,0,10.240382361661634,"(na)","(na)","(na)","(na)",0,0,0,0,0,0,0,0,3.0518744767073671,7.0524177281831486,0,10.240382361661634,20.34467456655215,7.228434899477322,0.92254548688263838,0,0,8.1509803863599597,3.0518744767073671,2.6708111518249469,7.228434899477322,1.0920190763579027,0,0,8.3204539758352247,7.0524177281831486,1.1798016363359618,7.228434899477322,2.0145645632405413,0,0,9.2429994627178633,10.104292204890516,42.859373717088033,0.91475971550428992,16.168829721956541,37.363706222323366,0,54.253541538861434,107.78607748314136,7.228434899477322,0,2.0145645632405413,0,0,0,0,0,0,0,20.34467456655215,null,0,0,9.2429994627178615,20.34467456655215,0.4543203398256318,97.11291525594946,0.13194286473695094,0,0.13194286473695094,6.5970808079179755E-3,0,6.5970808079179755E-3,null,0,null,0,0,0,0,0,0,0,9999,9999]
["Demand Control Ventilation-Retro-Large Ret","Demand Control Ventilation-DOAS-Large Ret-HtPmpHt-Vent-Retro",15,1.7328693417310395,0,2.0523234399627261,0,0,"C-All-HVAC-Vent-All-All-E",null,null,1.8624798388450505,3.5012082338198709E-4,3.4759380828825067E-4,0,0,0,0.40926070989569846,0.94573925236637424,0,1.3732498459303073,"(na)","(na)","(na)","(na)",0,0,0,0,0,0,0,0,0.40926070989569846,0.94573925236637424,0,1.3732498459303073,2.7282498081923801,0.9693434054950455,0.12371466249817993,0,0,1.0930580679932254,0.40926070989569846,2.6708111518249456,0.9693434054950455,0.14644131199395125,0,0,1.1157847174889968,0.94573925236637424,1.1798016363359611,0.9693434054950455,0.27015597449213119,0,0,1.2394993799871767,1.3549999622620728,42.85937371708804,0.91475971550428958,16.168829721956545,37.36370622232338,0,54.253541538861441,107.78607748314136,0.9693434054950455,0,0.27015597449213119,0,0,0,0,0,0,0,2.7282498081923801,null,0,0,1.2394993799871765,2.7282498081923801,0.45432033982563169,97.112915255949474,1.7693725905193747E-2,0,1.7693725905193747E-2,8.8467792345139895E-4,0,8.8467792345139895E-4,null,0,null,0,0,0,0,0,0,0,9999,9999]
["Demand Control Ventilation-Retro-Medium Ret","Demand Control Ventilation-DOAS-Medium Ret-HtPmpHt-Vent-Retro",15,10.94037196073474,0,13.641649738279606,0,0,"C-All-HVAC-Vent-All-All-E",null,null,11.758660457331102,2.2104678908862483E-3,2.1945137249199612E-3,0,0,0,2.7203271898206149,6.2862623762455341,0,9.1278952608307762,"(na)","(na)","(na)","(na)",0,0,0,0,0,0,0,0,2.7203271898206149,6.2862623762455341,0,9.1278952608307762,18.134484826896923,6.1198944192799622,0.78106548031762979,0,0,6.9009598995975923,2.7203271898206149,2.5368124560239602,6.1198944192799622,0.9245488883953602,0,0,7.0444433076753228,6.2862623762455341,1.1206091769721218,6.1198944192799622,1.7056143687129901,0,0,7.8255087879929528,9.0065895660661486,45.687052200934616,0.8688648162093322,17.022894471688261,39.337319956438236,0,57.119304749511421,113.4795191776379,6.1198944192799622,0,1.7056143687129901,0,0,0,0,0,0,0,18.134484826896923,null,0,0,7.8255087879929528,18.134484826896923,0.4315263908895951,102.80635695044603,0.11170833144334805,0,0.11170833144334805,5.585363717232273E-3,0,5.585363717232273E-3,null,0,null,0,0,0,0,0,0,0,9999,9999]
["Demand Control Ventilation-Retro-Small Ret","Demand Control Ventilation-DOAS-Small Ret-HtPmpHt-Vent-Retro",15,14.763454280087426,0,18.408686006186937,0,0,"C-All-HVAC-Vent-All-All-E",null,null,15.867691398421247,2.9829097001294958E-3,2.9613803955806598E-3,0,0,0,3.6709379021056767,8.4829791452631653,0,12.317612677188318,"(na)","(na)","(na)","(na)",0,0,0,0,0,0,0,0,3.6709379021056767,8.4829791452631653,0,12.317612677188318,24.471529724557161,8.2584743720115714,1.0540066233405683,0,0,9.3124809953521392,3.6709379021056767,2.5368124560239584,8.2584743720115714,1.2476299062334504,0,0,9.5061042782450222,8.4829791452631653,1.1206091769721209,8.2584743720115714,2.3016365295740187,0,0,10.56011090158559,12.153917047368843,45.68705220093463,0.86886481620933143,17.022894471688264,39.337319956438243,0,57.119304749511436,113.47951917763794,8.2584743720115714,0,2.3016365295740187,0,0,0,0,0,0,0,24.471529724557161,null,0,0,10.56011090158559,24.471529724557161,0.43152639088959471,102.80635695044606,0.1507444947838836,0,0.1507444947838836,7.5371534142500904E-3,0,7.5371534142500904E-3,null,0,null,0,0,0,0,0,0,0,9999,9999]
["Demand Control Ventilation-Retro-School K-12","Demand Control Ventilation-DOAS-School K-12-HtPmpHt-Vent-Retro",15,0,0,0,0,0,"C-All-HVAC-Vent-All-All-E",null,null,0,0,0,0,0,0,0,0,0,0,"(na)","(na)","(na)","(na)",0,0,0,0,0,0,0,0,0,0,0,0,0,0,0,0,0,0,0,9999,0,0,0,0,0,0,9999,0,0,0,0,0,0,9999,9999,9999,9999,9999,9999,9999,0,0,0,0,0,0,0,0,0,0,0,null,0,0,0,0,9999,9999,0,0,0,0,0,0,null,0,null,0,0,0,0,0,0,0,9999,9999]
["Demand Control Ventilation-Retro-University","Demand Control Ventilation-DOAS-University-HtPmpHt-Vent-Retro",15,0,0,0,0,0,"C-All-HVAC-Vent-All-All-E",null,null,0,0,0,0,0,0,0,0,0,0,"(na)","(na)","(na)","(na)",0,0,0,0,0,0,0,0,0,0,0,0,0,0,0,0,0,0,0,9999,0,0,0,0,0,0,9999,0,0,0,0,0,0,9999,9999,9999,9999,9999,9999,9999,0,0,0,0,0,0,0,0,0,0,0,null,0,0,0,0,9999,9999,0,0,0,0,0,0,null,0,null,0,0,0,0,0,0,0,9999,9999]
["Demand Control Ventilation-Retro-Warehouse","Demand Control Ventilation-DOAS-Warehouse-HtPmpHt-Vent-Retro",15,0,0,0,0,0,"C-All-HVAC-Vent-All-All-E",null,null,0,0,0,0,0,0,0,0,0,0,"(na)","(na)","(na)","(na)",0,0,0,0,0,0,0,0,0,0,0,0,0,0,0,0,0,0,0,9999,0,0,0,0,0,0,9999,0,0,0,0,0,0,9999,9999,9999,9999,9999,9999,9999,0,0,0,0,0,0,0,0,0,0,0,null,0,0,0,0,9999,9999,0,0,0,0,0,0,null,0,null,0,0,0,0,0,0,0,9999,9999]
["Demand Control Ventilation-Retro-Supermarket","Demand Control Ventilation-DOAS-Supermarket-HtPmpHt-Vent-Retro",15,24.335909553041571,0,28.822229354365302,0,0,"C-All-HVAC-Vent-All-All-E",null,null,26.156121417220824,4.9169943083815938E-3,4.8815056484582163E-3,0,0,0,5.7475375550738796,13.281685094248429,0,19.285518670960059,"(na)","(na)","(na)","(na)",0,0,0,0,0,0,0,0,5.7475375550738796,13.281685094248429,0,19.285518670960059,38.314741320282366,13.613174908155395,1.7374124894686178,0,0,15.350587397624013,5.7475375550738796,2.6708111518249478,13.613174908155395,2.056578899337858,0,0,15.669753807493253,13.281685094248429,1.179801636335962,13.613174908155395,3.793991388806476,0,0,17.407166296961872,19.029222649322307,42.859373717088012,0.91475971550429036,16.168829721956541,37.363706222323366,0,54.253541538861427,107.78607748314133,13.613174908155395,0,3.793991388806476,0,0,0,0,0,0,0,38.314741320282366,null,0,0,17.407166296961872,38.314741320282366,0.45432033982563208,97.112915255949446,0.24848550488807464,0,0.24848550488807464,1.2424157673179887E-2,0,1.2424157673179887E-2,null,0,null,0,0,0,0,0,0,0,9999,9999]
["Demand Control Ventilation-Retro-MiniMart","Demand Control Ventilation-DOAS-MiniMart-HtPmpHt-Vent-Retro",15,2.3969927905711326,0,2.8388779067420007,0,0,"C-All-HVAC-Vent-All-All-E",null,null,2.5762766059650142,4.8430488627440371E-4,4.8080939078869113E-4,0,0,0,0.56611017776103889,1.308194515933784,0,1.8995488586921803,"(na)","(na)","(na)","(na)",0,0,0,0,0,0,0,0,0.56611017776103889,1.308194515933784,0,1.8995488586921803,3.7738535523870032,1.3408449780975626,0.17112839782822178,0,0,1.5119733759257845,0.56611017776103889,2.6708111518249447,1.3408449780975626,0.20256505244684575,0,0,1.5434100305444085,1.308194515933784,1.1798016363359609,1.3408449780975626,0.37369345027506751,0,0,1.7145384283726304,1.8743046936948229,42.85937371708804,0.91475971550428936,16.168829721956548,37.363706222323387,0,54.253541538861455,107.78607748314138,1.3408449780975626,0,0.37369345027506751,0,0,0,0,0,0,0,3.7738535523870032,null,0,0,1.7145384283726304,3.7738535523870032,0.45432033982563164,97.112915255949488,2.4474859362867044E-2,0,2.4474859362867044E-2,1.2237313878333815E-3,0,1.2237313878333815E-3,null,0,null,0,0,0,0,0,0,0,9999,9999]
["Demand Control Ventilation-Retro-Restaurant","Demand Control Ventilation-DOAS-Restaurant-HtPmpHt-Vent-Retro",15,32.004389266630376,0,37.904391688286786,0,0,"C-All-HVAC-Vent-All-All-E",null,null,34.398167437196058,6.46638661786046E-3,6.419715139062295E-3,0,0,0,7.5586420485430912,17.466872111217327,0,25.36257152867055,"(na)","(na)","(na)","(na)",0,0,0,0,0,0,0,0,7.5586420485430912,17.466872111217327,0,25.36257152867055,50.388085688430969,17.902817561255986,2.284887914645843,0,0,20.187705475901829,7.5586420485430912,2.6708111518249442,17.902817561255986,2.7046267372291721,0,0,20.607444298485159,17.466872111217327,1.1798016363359607,17.902817561255986,4.9895146518750151,0,0,22.892332213131002,25.025514159760419,42.859373717088033,0.91475971550428925,16.168829721956541,37.363706222323366,0,54.25354153886142,107.78607748314134,17.902817561255986,0,4.9895146518750151,0,0,0,0,0,0,0,50.388085688430969,null,0,0,22.892332213131002,50.388085688430969,0.45432033982563158,97.112915255949446,0.3267856830343614,0,0.3267856830343614,1.6339129532668126E-2,0,1.6339129532668126E-2,null,0,null,0,0,0,0,0,0,0,9999,9999]
["Demand Control Ventilation-Retro-Lodging","Demand Control Ventilation-DOAS-Lodging-HtPmpHt-Vent-Retro",15,0,0,0,0,0,"C-All-HVAC-Vent-All-All-E",null,null,0,0,0,0,0,0,0,0,0,0,"(na)","(na)","(na)","(na)",0,0,0,0,0,0,0,0,0,0,0,0,0,0,0,0,0,0,0,9999,0,0,0,0,0,0,9999,0,0,0,0,0,0,9999,9999,9999,9999,9999,9999,9999,0,0,0,0,0,0,0,0,0,0,0,null,0,0,0,0,9999,9999,0,0,0,0,0,0,null,0,null,0,0,0,0,0,0,0,9999,9999]
["Demand Control Ventilation-Retro-Hospital","Demand Control Ventilation-DOAS-Hospital-HtPmpHt-Vent-Retro",15,0,0,0,0,0,"C-All-HVAC-Vent-All-All-E",null,null,0,0,0,0,0,0,0,0,0,0,"(na)","(na)","(na)","(na)",0,0,0,0,0,0,0,0,0,0,0,0,0,0,0,0,0,0,0,9999,0,0,0,0,0,0,9999,0,0,0,0,0,0,9999,9999,9999,9999,9999,9999,9999,0,0,0,0,0,0,0,0,0,0,0,null,0,0,0,0,9999,9999,0,0,0,0,0,0,null,0,null,0,0,0,0,0,0,0,9999,9999]
["Demand Control Ventilation-Retro-Residential Care","Demand Control Ventilation-DOAS-Residential Care-HtPmpHt-Vent-Retro",15,0,0,0,0,0,"C-All-HVAC-Vent-All-All-E",null,null,0,0,0,0,0,0,0,0,0,0,"(na)","(na)","(na)","(na)",0,0,0,0,0,0,0,0,0,0,0,0,0,0,0,0,0,0,0,9999,0,0,0,0,0,0,9999,0,0,0,0,0,0,9999,9999,9999,9999,9999,9999,9999,0,0,0,0,0,0,0,0,0,0,0,null,0,0,0,0,9999,9999,0,0,0,0,0,0,null,0,null,0,0,0,0,0,0,0,9999,9999]
["Demand Control Ventilation-Retro-Assembly","Demand Control Ventilation-DOAS-Assembly-HtPmpHt-Vent-Retro",15,0,0,0,0,0,"C-All-HVAC-Vent-All-All-E",null,null,0,0,0,0,0,0,0,0,0,0,"(na)","(na)","(na)","(na)",0,0,0,0,0,0,0,0,0,0,0,0,0,0,0,0,0,0,0,9999,0,0,0,0,0,0,9999,0,0,0,0,0,0,9999,9999,9999,9999,9999,9999,9999,0,0,0,0,0,0,0,0,0,0,0,null,0,0,0,0,9999,9999,0,0,0,0,0,0,null,0,null,0,0,0,0,0,0,0,9999,9999]
["Demand Control Ventilation-Retro-Other","Demand Control Ventilation-DOAS-Other-HtPmpHt-Vent-Retro",15,0,0,0,0,0,"C-All-HVAC-Vent-All-All-E",null,null,0,0,0,0,0,0,0,0,0,0,"(na)","(na)","(na)","(na)",0,0,0,0,0,0,0,0,0,0,0,0,0,0,0,0,0,0,0,9999,0,0,0,0,0,0,9999,0,0,0,0,0,0,9999,9999,9999,9999,9999,9999,9999,0,0,0,0,0,0,0,0,0,0,0,null,0,0,0,0,9999,9999,0,0,0,0,0,0,null,0,null,0,0,0,0,0,0,0,9999,9999]
[]
[]
["Category Results; Sorted by TRC Levelized Cost"]
["Total Results",null,"Measure Input Data",null,null,null,null,null,null,null,null,"Savings",null,null,null,null,null,"PV Capital",null,null,null,"PV Admin",null,null,null,"PV O&M",null,null,null,"PV Periodic Repl.",null,null,null,"Total PV Capital, O&M and Periodic Repl Costs",null,null,null,null,"PV Wholesale Electric Utility Costs & Benefits",null,null,null,null,null,null,"PV Retail Electric Utility Costs & Benefits",null,null,null,null,null,null,"PV Electric Utility System Costs & Benefits",null,null,null,null,null,"Electric Utility System Economics",null,"Sponsor Levelized Cost (mills/kwh)",null,null,null,null,"PV Regional Costs & Benefits",null,null,null,null,null,null,null,null,null,null,null,null,null,null,null,"TRC Economics",null,"Physical CO2",null,null,null,null,null,null,"Gas Inputs",null,null,null,"PV Gas Utility System Costs & Benefits",null,null,null,null,"Gas Utility System Economics"]
["Category","Measure","Measure Life","Site Savings (kWh)","Site Savings (therms)","Capital Cost ($/unit)","Annual O&M Cost ($/unit)","PV Per. Repl. Cost ($/unit)","Load Shape (electric)","Diversified Load Factor (electric)","Wholesale Power Coincidence Factor (electric)","Wholesale Electric Energy (kWh)","Wholesale Electric Demand (kw)","Retail Electric Demand (kW)","Wholesale Gas Energy (therms/yr)","Wholesale Gas Demand (therms/day)","Retail Gas Demand (therms/day)","Wholesale Electric","Retail Electric","Natural Gas","Customer","Wholesale Electric","Retail Electric","Natural Gas","Customer","Wholesale Electric","Retail Electric","Natural Gas","Customer","Wholesale Electric","Retail Electric","Natural Gas","Customer","Wholesale Electric","Retail Electric","Natural Gas","Customer","Total","Wholesale Utility System Energy","Wholesale Utility System T&D Def. Cap.","Wholesale Utility System Act C-E Credit","Wholesale Utility System Risk Mitigation Benefit","Wholesale Utility System Total System Benefit","Wholesale Utility System Total Non-Consumer Cost","Wholesale Utility System B/C Ratio","Retail Utility System Energy","Retail Utility System T&D Def. Cap.","Retail Utility System Act C-E Credit","Retail Utility System Risk Mitigation Benefit","Retail Utility System Total System Benefit","Retail Utility System Total Non-Consumer Cost","Retail Utility System System B/C Ratio","Utility System Energy","Utility System T&D Def. Cap.","Utility System Act C-E Credit","Utility System Total Risk Mitigation Benefit","Utility System Total System Benefit","Utility System Total Non-Consumer Cost","Utility System Net Levelized Cost (Net of Elec T&D Capacity Benefits, Act Credit & Risk-Mitigation Benefit) in mills/kwh","Utility System System B/C Ratio","Wholesale Electric Levelized Cost","Retail Electric Levelized Cost","Natural Gas Levelized Cost","Customer Levelized Cost","Total Levelized Cost","PV Regional Electric Energy","PV Regional Gas Energy","PV Regional Electric T&D Def. Cap.","PV Regional Gas T&D Def. Cap.","PV Regional Electric System CO2","PV Regional Gas System CO2","PV Regional Electric System Risk-Mitigation Benefit","PV Regional Gas System Risk-Mitigation Benefit","PV Regional Non-E Value","PV Regional Act Credit","PV Regional Capital Cost","PV Regional Admin Cost","PV Regional Annual O&M Cost","PV Regional Periodic Replacement Cost","PV Total Regional Benefit","PV Total Regional Cost","TRC B/C Ratio","TRC Net Levelized Cost (Net of All Benefits) in mills/kWh","Electric System CO2 Avoided (Lifetime Tons)","Gas System CO2 Avoided (Lifetime Tons)","Total System CO2 Avoided (Lifetime Tons)","Electric System CO2 Avoided (Annual Tons in 2018)","Gas System CO2 Avoided (Annual Tons in 2018)","Total System CO2 Avoided (Annual Tons in 2018)",null,"Gas Site Savings (therms)","Load Shape (gas)","Diversitfied Load Factor (gas)","Wholesale Coincidence Factor (gas)","Total Gas Utility System Energy","Gas Utility System T&D Def. Cap.","Gas Utility System Risk Mitigation Benefit","Gas Utility System Total System Benefit","Gas Utility System Total Non-Consumer Cost","Gas Utility System Net Levelized Cost (Net of Gas T&D Capacity Benefits & Risk-Mitigation Benefits) in cents/therm","Gas Utility System System B/C Ratio"]
["Demand Control Ventilation-Retro-School K-12",null,0,0,0,0,0,0,null,null,null,0,0,0,0,0,0,0,0,0,0,0,0,0,0,0,0,0,0,0,0,0,0,0,0,0,0,0,0,0,0,0,0,0,9999,0,0,0,0,0,0,9999,0,0,0,0,0,0,9999,9999,9999,9999,9999,9999,9999,0,0,0,0,0,0,0,0,0,0,0,0,0,0,0,0,9999,9999,0,0,0,0,0,0,null,0,null,0,0,0,0,0,0,0,9999,9999]
["Demand Control Ventilation-Retro-University",null,0,0,0,0,0,0,null,null,null,0,0,0,0,0,0,0,0,0,0,0,0,0,0,0,0,0,0,0,0,0,0,0,0,0,0,0,0,0,0,0,0,0,9999,0,0,0,0,0,0,9999,0,0,0,0,0,0,9999,9999,9999,9999,9999,9999,9999,0,0,0,0,0,0,0,0,0,0,0,0,0,0,0,0,9999,9999,0,0,0,0,0,0,null,0,null,0,0,0,0,0,0,0,9999,9999]
["Demand Control Ventilation-Retro-Small Ret",null,14.999999999999996,351.26958992042864,0.12054999999999999,160.45603378312583,0,0,null,null,null,377.54290728730024,7.097292051409744E-2,7.04606698011771E-2,0.12175550090714918,0,0,31.997076588631128,73.940377268449993,0,107.36427766729966,9.6273620269875497,22.463844729637614,0,0,0,0,0,0,0,0,0,0,41.624438615618679,96.404221998087607,0,107.36427766729966,245.39293828100597,196.49540351390556,25.078173937492927,0,0,221.57357745139848,41.624438615618679,5.3231607397164451,196.49540351390556,29.685088409573183,0,0,226.18049192347874,96.404221998087607,2.3461679087868736,196.49540351390556,54.76326234706611,0,0,251.25866586097166,138.02866061370628,16.228125672633592,1.8203369122312676,8.1124528912235156,18.788835008601961,0,20.924910310967896,47.826198210793379,196.49540351390556,0.87866082814307456,54.76326234706611,0,0,0,0,0,0,0,213.30173152438078,32.091206756625169,0,0,252.13732668911473,245.39293828100597,1.0274840362373654,36.981788158699914,3.5866915601802747,1.4245393606136466E-2,3.6009369537864111,0.1793328809614676,7.1226968030682267E-4,0.18004515064177443,null,0.12175550090714918,null,0,0,0.87866082814307456,0,0,0.87866082814307456,0,0,9999]
["Demand Control Ventilation-Retro-Supermarket",null,14.999999999999998,476.71677217991902,8.201E-2,282.95039365391995,0,0,null,null,null,512.37295025223909,9.6319130805848405E-2,9.5623942513387433E-2,8.2830100617132349E-2,0,0,56.424088288039897,130.38748597827714,0,189.32765514690135,16.977023619235197,39.613055111548796,0,0,0,0,0,0,0,0,0,0,73.401111907275094,170.00054108982593,0,189.32765514690135,432.72930814400246,266.66884125255183,34.034218943792858,0,0,300.70306019634467,73.401111907275094,4.0967098778586859,266.66884125255183,40.286378139630301,0,0,306.95521939218213,170.00054108982593,1.8056131905485597,266.66884125255183,74.320597083423166,0,0,340.98943833597497,243.40165299710105,24.281687851430078,1.4009331248873491,10.541115192646256,24.4137348859757,0,27.18929686757631,62.144146946198276,266.66884125255183,0.59775175873922448,74.320597083423166,0,0,0,0,0,0,0,376.13922941321846,56.590078730783993,0,0,341.58719009471417,432.72930814400246,0.7893784489888116,51.38514173949627,4.8675890895121876,9.6911217722044814E-3,4.8772802112843925,0.24337715136981353,4.8455608861022422E-4,0.24386170745842375,null,8.2830100617132349E-2,null,0,0,0.59775175873922448,0,0,0.59775175873922448,0,0,9999]
["Demand Control Ventilation-Retro-Large Off",null,14.999999999999998,134.95475402510721,8.201E-2,85.567118707686291,0,0,null,null,null,145.04873649444917,2.7267185390552007E-2,2.707038307419718E-2,8.2830100617132349E-2,0,0,17.063226518853774,39.430521182967986,0,57.254636522674325,5.1340271224611769,11.979396619076079,0,0,0,0,0,0,0,0,0,0,22.197253641314951,51.409917802044063,0,57.254636522674325,130.86180796603333,75.49184332834011,9.6348186471247601,0,0,85.12666197546487,22.197253641314951,3.8350087515791444,75.49184332834011,11.404755548110506,0,0,86.896598876450611,51.409917802044063,1.6902691657872209,75.49184332834011,21.039574195235268,0,0,96.531417523575371,73.607171443359022,26.667007997242244,1.3114403886292063,11.26044124816619,26.07972897626793,0,29.044695400907806,66.384865625341916,75.49184332834011,0.59775175873922448,21.039574195235268,0,0,0,0,0,0,0,113.74838422449608,17.113423741537257,0,0,97.129169282314592,130.86180796603333,0.74222701636160782,55.408470004098852,1.377976036518574,9.6911217722044814E-3,1.3876671582907785,6.8898149834863337E-2,4.8455608861022422E-4,6.9382705923473564E-2,null,8.2830100617132349E-2,null,0,0,0.59775175873922448,0,0,0.59775175873922448,0,0,9999]
["Demand Control Ventilation-Retro-Lodging",null,15,177.01328743968455,8.201E-2,113.29185641505353,0,0,null,null,null,190.25305089347401,3.5764980345271799E-2,3.5506844755715382E-2,8.2830100617132349E-2,0,0,22.591909578671689,52.206466826260709,0,75.805802018202513,6.7975113849032116,15.860859898107496,0,0,0,0,0,0,0,0,0,0,29.389420963574899,68.067326724368201,0,75.805802018202513,173.26254970614565,99.018811593291687,12.63750161995357,0,0,111.65631321324526,29.389420963574899,3.799200853655182,99.018811593291687,14.959037839018569,0,0,113.97784943231025,68.067326724368201,1.674486936938953,99.018811593291687,27.596539458972135,0,0,126.61535105226382,97.456747687943107,27.018943326634925,1.2991953256811593,11.366572181045202,26.325533372781603,0,29.318444941458633,67.010550495285457,99.018811593291687,0.59775175873922448,27.596539458972135,0,0,0,0,0,0,0,150.60417842313493,22.658371283010709,0,0,127.21310281100304,173.26254970614565,0.73422157890875583,56.106203430512835,1.8074210871584446,9.6911217722044814E-3,1.8171122089306491,9.0370199174400159E-2,4.8455608861022422E-4,9.0854755263010387E-2,null,8.2830100617132349E-2,null,0,0,0.59775175873922448,0,0,0.59775175873922448,0,0,9999]
["Demand Control Ventilation-Retro-Restaurant",null,15.000000000000002,450.92152250122643,0.22503000000000001,298.97776099614475,0,0,null,null,null,484.64833691437099,9.1107281395536907E-2,9.0449709894899186E-2,0.22728030169337027,0,0,59.620159437700977,137.77312028546618,0,200.05188082439903,17.938665659768684,41.856886539460262,0,0,0,0,0,0,0,0,0,0,77.558825097469665,179.63000682492645,0,200.05188082439903,457.24071274679517,252.23933144071526,32.192619850771884,0,0,284.43195129148717,77.558825097469665,3.6673060858520752,252.23933144071526,38.106473333659309,0,0,290.34580477437459,179.63000682492645,1.6163546943320863,252.23933144071526,70.299093184431186,0,0,322.53842462514649,257.1888319223961,28.37454097614966,1.2540918756630495,11.775371273196217,27.272331930145331,0,30.372883648612088,69.420586851953644,252.23933144071526,1.6401911750894715,70.299093184431186,0,0,0,0,0,0,0,397.44516054756622,59.79555219922895,0,0,324.17861580023595,457.24071274679517,0.70898895650124527,58.498402543503737,4.6042027703711907,2.6591795298124284E-2,4.6307945656693148,0.2302079600343262,1.3295897649062156E-3,0.23153754979923241,null,0.22728030169337027,null,0,0,1.6401911750894715,0,0,1.6401911750894715,0,0,9999]
["Demand Control Ventilation-Retro-Xlarge Ret",null,14.999999999999998,708.61434863631837,0.22503000000000001,530.18231736713574,0,0,null,null,null,761.61537749468994,0.14317330985670251,0.14213994911130817,0.22728030169337027,0,0,105.72543652464508,244.31540306033494,0,354.7553818576547,31.810939042028142,74.225524431398995,0,0,0,0,0,0,0,0,0,0,137.53637556667323,318.54092749173395,0,354.7553818576547,810.83268491606191,396.38917334853261,50.590072125885911,0,0,446.97924547441852,137.53637556667323,3.249898389664466,396.38917334853261,59.883577147473105,0,0,456.2727504960057,318.54092749173395,1.4323834431223783,396.38917334853261,110.47364927335902,0,0,506.86282262189161,456.07730305840715,33.389716800525868,1.1113528764157348,13.28776643315876,30.775112594558994,0,34.273890347978607,78.336769375696363,396.38917334853261,1.6401911750894715,110.47364927335902,0,0,0,0,0,0,0,704.79622144263476,106.03646347342715,0,0,508.50301379698107,810.83268491606191,0.62713679808013878,67.505143780900681,7.2354145551064022,2.6591795298124284E-2,7.2620063504045262,0.36176730430997772,1.3295897649062156E-3,0.36309689407488394,null,0.22728030169337027,null,0,0,1.6401911750894715,0,0,1.6401911750894715,0,0,9999]
["Demand Control Ventilation-Retro-Medium Ret",null,14.999999999999998,350.75564541416065,0.12054999999999999,270.65720556411748,0,0,null,null,null,376.99052214310177,7.0869079636211391E-2,7.0357578400180851E-2,0.12175550090714918,0,0,53.972662364353482,124.72261352841605,0,181.10204200932489,16.239432333847049,37.892008778976439,0,0,0,0,0,0,0,0,0,0,70.212094698200531,162.61462230739249,0,181.10204200932489,413.92875901491789,196.20790998744988,25.041481920614018,0,0,221.2493919080639,70.212094698200531,3.151157829133024,196.20790998744988,29.641655990303324,0,0,225.8495659777532,162.61462230739249,1.3888638227798906,196.20790998744988,54.683137910917345,0,0,250.89104789836722,232.82671700559303,34.770413550654368,1.077587018900156,13.704134503869437,31.739441273976812,0,35.347852151244943,80.791427929091185,196.20790998744988,0.87866082814307456,54.683137910917345,0,0,0,0,0,0,0,359.79731790209439,54.131441112823495,0,0,251.76970872651029,413.92875901491789,0.60824405949874227,69.946766956221481,3.5814438516511928,1.4245393606136466E-2,3.5956892452573292,0.17907049801797331,7.1226968030682267E-4,0.17978276769828014,null,0.12175550090714918,null,0,0,0.87866082814307456,0,0,0.87866082814307456,0,0,9999]
["Demand Control Ventilation-Retro-Small Off",null,15.000000000000002,139.28113048761378,8.201E-2,109.31357768762632,0,0,null,null,null,149.6987056194283,2.8141316205169624E-2,2.7938204804593244E-2,8.2830100617132349E-2,0,0,21.798587656577684,50.373220527884669,0,73.143857734407533,6.5588146612575802,15.303900876267686,0,0,0,0,0,0,0,0,0,0,28.357402317835266,65.677121404152359,0,73.143857734407533,167.17838145639519,77.91195914008992,9.9436914461347499,0,0,87.855650586224669,28.357402317835266,3.0981558043124506,77.91195914008992,11.770368944395955,0,0,89.682328084485874,65.677121404152359,1.3655033315576437,77.91195914008992,21.714060390530705,0,0,99.626019530620624,94.034523721987625,35.547844281529891,1.0594621590806821,13.938579419811846,32.282427088909927,0,35.952569233086443,82.173575741808222,77.91195914008992,0.59775175873922448,21.714060390530705,0,0,0,0,0,0,0,145.31566591886991,21.862715537525265,0,0,100.22377128935985,167.17838145639519,0.59950198354744222,71.206599212828948,1.4221511612361728,9.6911217722044814E-3,1.4318422830083772,7.1106885169228431E-2,4.8455608861022422E-4,7.1591441257838659E-2,null,8.2830100617132349E-2,null,0,0,0.59775175873922448,0,0,0.59775175873922448,0,0,9999]
["Demand Control Ventilation-Retro-Residential Care",null,15,123.58603864079136,8.201E-2,101.04962242912291,0,0,null,null,null,132.82969453499928,2.497017205244545E-2,2.4789948548284195E-2,8.2830100617132349E-2,0,0,20.150644583967832,46.565074737809724,0,67.61428327039377,6.0629773457473748,14.146947140077208,0,0,0,0,0,0,0,0,0,0,26.213621929715206,60.712021877886933,0,67.61428327039377,154.53992707799591,69.132339457305008,8.8231724641508524,0,0,77.955511921455866,26.213621929715206,2.973855048740409,69.132339457305008,10.444008216230346,0,0,79.576347673535352,60.712021877886933,1.3107181281755229,69.132339457305008,19.267180680381202,0,0,88.39952013768621,86.925643807602142,37.47978310779105,1.0169555986648346,14.521182110624693,33.631763224358245,0,37.455309429627512,85.60825476461045,69.132339457305008,0.59775175873922448,19.267180680381202,0,0,0,0,0,0,0,134.33000259217133,20.209924485824583,0,0,88.997271896425431,154.53992707799591,0.57588529760020357,74.603964615879462,1.2618940394169915,9.6911217722044814E-3,1.271585161189196,6.3094104904124648E-2,4.8455608861022422E-4,6.3578660992734876E-2,null,8.2830100617132349E-2,null,0,0,0.59775175873922448,0,0,0.59775175873922448,0,0,9999]
["Demand Control Ventilation-Retro-Medium Off",null,15.000000000000002,108.55664443748384,8.201E-2,117.16308674540795,0,0,null,null,null,116.67617215474152,2.1933530023717573E-2,2.1775223639957059E-2,8.2830100617132349E-2,0,0,23.363884620383139,53.990383730914836,0,78.396118121017423,7.0297852047244769,16.402832144357113,0,0,0,0,0,0,0,0,0,0,30.393669825107615,70.393215875271949,0,78.396118121017423,179.18300382139699,60.725101930090077,7.750179603906183,0,0,68.475281533996252,30.393669825107615,2.2529454958226256,60.725101930090077,9.1739042605518151,0,0,69.899006190641899,70.393215875271949,0.99297929951792896,60.725101930090077,16.924083864458002,0,0,77.649185794548089,100.78688570037957,52.888020172328623,0.77042945870343182,19.167747650101191,44.39343474941932,0,49.440459725263416,113.00164212478393,60.725101930090077,0.59775175873922448,16.924083864458002,0,0,0,0,0,0,0,155.7503864723154,23.432617349081589,0,0,78.246937553287282,179.18300382139699,0.43668727437609506,101.95150814870991,1.1084341246095748,9.6911217722044814E-3,1.1181252463817792,5.5421181773502221E-2,4.8455608861022422E-4,5.5905737862112448E-2,null,8.2830100617132349E-2,null,0,0,0.59775175873922448,0,0,0.59775175873922448,0,0,9999]
["Demand Control Ventilation-Retro-Large Ret",null,15.000000000000002,325.8490749477819,0.22503000000000001,368.92172693708437,0,0,null,null,null,350.22105705344597,6.5836785077523594E-2,6.5361604686917485E-2,0.22728030169337027,0,0,73.567920592945299,170.00427487273959,0,246.85275956595575,22.135303616225066,51.649041771191811,0,0,0,0,0,0,0,0,0,0,95.703224209170372,221.65331664393139,0,246.85275956595575,564.20930041905751,182.27551517055929,23.263328262383151,0,0,205.53884343294243,95.703224209170372,2.1476689540126017,182.27551517055929,27.536851681905322,0,0,209.81236685246461,221.65331664393139,0.9465789640743868,182.27551517055929,50.800179944288473,0,0,233.07569511484775,317.35654085310176,56.003724510222717,0.73442852158744065,20.107331091543433,46.569555645871155,0,51.863980638786316,118.54086737620091,182.27551517055929,1.6401911750894715,50.800179944288473,0,0,0,0,0,0,0,490.42495503164065,73.784345387416877,0,0,234.71588628993723,564.20930041905751,0.41600853817121719,107.52309954890019,3.3271315267356449,2.6591795298124284E-2,3.3537233220337694,0.16635500210038681,1.3295897649062156E-3,0.16768459186529303,null,0.22728030169337027,null,0,0,1.6401911750894715,0,0,1.6401911750894715,0,0,9999]
["Demand Control Ventilation-Retro-MiniMart",null,15.000000000000002,172.62502833266373,8.201E-2,223.59312454718,0,0,null,null,null,185.53657059248951,3.4878346336138247E-2,3.4626610073254419E-2,8.2830100617132349E-2,0,0,44.587455903947649,103.03482888026268,0,149.61054279098789,13.415587472830801,31.303037436605198,0,0,0,0,0,0,0,0,0,0,58.00304337677845,134.33786631686789,0,149.61054279098789,341.95145248463422,96.564079476705999,12.324210836104092,0,0,108.88829031281008,58.00304337677845,1.877285810771846,96.564079476705999,14.588194864579659,0,0,111.15227434128566,134.33786631686789,0.82740836510761995,96.564079476705999,26.912405700683752,0,0,123.47648517738975,192.34090969364632,65.607113676711961,0.64196683572963575,23.00336501004351,53.276910893860325,0,59.333885341431106,135.61416124533497,96.564079476705999,0.59775175873922448,26.912405700683752,0,0,0,0,0,0,0,297.2328275751982,44.718624909436002,0,0,124.07423693612897,341.95145248463422,0.36284167250818833,124.70393728670334,1.7626141002894653,9.6911217722044814E-3,1.7723052220616697,8.8129871031432522E-2,4.8455608861022422E-4,8.8614427120042749E-2,null,8.2830100617132349E-2,null,0,0,0.59775175873922448,0,0,0.59775175873922448,0,0,9999]
["Demand Control Ventilation-Retro-Other",null,14.999999999999998,62.466693061523287,8.201E-2,105.22900231205924,0,0,null,null,null,67.138908643965635,1.2621199695761599E-2,1.2530105536253538E-2,8.2830100617132349E-2,0,0,20.984068762880575,48.490991252175043,0,70.410788279580231,6.3137401387235546,14.732060323688293,0,0,0,0,0,0,0,0,0,0,27.297808901604128,63.223051575863337,0,70.410788279580231,160.9316487570477,34.943013604120317,4.4596817909905822,0,0,39.402695395110896,27.297808901604128,1.4434380260019857,34.943013604120317,5.278934924611729,0,0,40.221948528732042,63.223051575863337,0.63619119175967731,34.943013604120317,9.738616715602312,0,0,44.681630319722622,90.520860477467465,88.534338903142796,0.49360589464176396,29.917384713059217,69.290116417275456,0,77.167608891355968,176.37511002169063,34.943013604120317,0.59775175873922448,9.738616715602312,0,0,0,0,0,0,0,139.88584829463585,21.045800462411851,0,0,45.27938207846185,160.9316487570477,0.28135784619231974,165.04683406747512,0.63782566787773964,9.6911217722044814E-3,0.64751678964994408,3.1890981605883675E-2,4.8455608861022422E-4,3.2375537694493903E-2,null,8.2830100617132349E-2,null,0,0,0.59775175873922448,0,0,0.59775175873922448,0,0,9999]
["Demand Control Ventilation-Retro-Assembly",null,15,96.845168555295672,8.201E-2,218.75821636386075,0,0,null,null,null,104.08873282021779,1.9567263000495896E-2,1.9426035270971746E-2,8.2830100617132349E-2,0,0,43.623310625062331,100.80683578642783,0,146.37541094551679,13.125492981831647,30.626150290940505,0,0,0,0,0,0,0,0,0,0,56.748803606893979,131.43298607736833,0,146.37541094551679,334.55720062977912,54.17386252523513,6.9140627362183178,0,0,61.087925261453449,56.748803606893979,1.0764619054282996,54.17386252523513,8.184190926562124,0,0,62.358053451797254,131.43298607736833,0.47444751361800486,54.17386252523513,15.098253662780444,0,0,69.272116188015573,188.18178968426233,122.35512133216369,0.3681127504645515,40.116506228038141,92.911777331317424,0,103.47478205010322,236.50306560945882,54.17386252523513,0.59775175873922448,15.098253662780444,0,0,0,0,0,0,0,290.80555735700693,43.751643272772156,0,0,69.869867946754795,334.55720062977912,0.20884281616186992,225.40734448008473,0.98885231932601791,9.6911217722044814E-3,0.99854344109822235,4.9442148089603441E-2,4.8455608861022422E-4,4.9926704178213668E-2,null,8.2830100617132349E-2,null,0,0,0.59775175873922448,0,0,0.59775175873922448,0,0,9999]
["Demand Control Ventilation-Retro-Hospital",null,15,27.72016926527423,8.201E-2,113.96501889407503,0,0,null,null,null,29.793507878887006,5.6007733841898933E-3,5.5603495135336653E-3,8.2830100617132349E-2,0,0,22.726147169431016,52.51666948108322,0,76.256228229101865,6.8379011336445013,15.955102645170504,0,0,0,0,0,0,0,0,0,0,29.564048303075516,68.471772126253725,0,76.256228229101865,174.29204865843113,15.506283497207029,1.9790247899590925,0,0,17.48530828716612,29.564048303075516,0.59143822618322339,15.506283497207029,2.34257589891115,0,0,17.848859396118179,68.471772126253725,0.26067471078749105,15.506283497207029,4.3216006888702418,0,0,19.82788418607727,98.035820429329249,231.44828555321885,0.20225142299258392,73.015048438857789,169.10639934155293,0,188.33185972481479,430.45330750522555,15.506283497207029,0.59775175873922448,4.3216006888702418,0,0,0,0,0,0,0,151.49904487961612,22.793003778815006,0,0,20.425635944816495,174.29204865843113,0.11719201249877806,418.30386323535356,0.28304100327343973,9.6911217722044814E-3,0.29273212504564422,1.4151916242471323E-2,4.8455608861022422E-4,1.4636472331081547E-2,null,8.2830100617132349E-2,null,0,0,0.59775175873922448,0,0,0.59775175873922448,0,0,9999]
["Demand Control Ventilation-Retro-Warehouse",null,14.999999999999998,1.0323148250675764,8.201E-2,21.788037870303398,0,0,null,null,null,1.1095271309425907,2.0857597733308535E-4,2.0707056946325268E-4,8.2830100617132349E-2,0,0,4.344825806889717,10.040231595447361,0,14.578803255816858,1.307282272218204,3.0503253018424759,0,0,0,0,0,0,0,0,0,0,5.6521080791079212,13.090556897289837,0,14.578803255816858,33.321468232214613,0.57746279190006111,7.3700005591607512E-2,0,0,0.65116279749166861,5.6521080791079212,0.11520706758927413,0.57746279190006111,8.7238855078761002E-2,0,0,0.66470164697882206,13.090556897289837,5.0777186348461352E-2,0.57746279190006111,0.16093886067036853,0,0,0.73840165257042956,18.742664976397759,1232.3050906928752,3.939683356130428E-2,374.83716613042799,868.14108678963908,0,966.83878324668274,2209.8170361667494,0.57746279190006111,0.59775175873922448,0.16093886067036853,0,0,0,0,0,0,0,28.963860658153937,4.3576075740606797,0,0,1.336153411309654,33.321468232214613,4.0098875655721684E-2,2159.5021027350244,1.0540607489983936E-2,9.6911217722044814E-3,2.0231729262188417E-2,5.2702538719773056E-4,4.8455608861022422E-4,1.0115814758079548E-3,null,8.2830100617132349E-2,null,0,0,0.59775175873922448,0,0,0.59775175873922448,0,0,9999]
[]
[]
["Supply Curve Results; Categories sorted by TRC Net Levelized Cost"]
["Totals for Categories with Benefits Exceeding Costs.    Levelized cost is TRC Net Levelized Cost (Net of Benefits)",null,null,null,null,null,null,null,null,null,null,null,null,"Savings Allocation by Cost Bin and Month for Segments 1",null,null,null,null,null,null,null,null,null,null,null,null,"Savings Allocation by Cost Bin and Month for Segments 2"]
[null,"Totals Basis","Busbar Electric Savings in kWh","First Cost","Admin Cost","First Year Program Cost","PV Cost","PV Benefits","Unit Program Cost: First Year Program Cost in $/average annual kW saved","Utility System Net Levelized Cost (Net of T&D Capacity Benefits, Act Credit & Risk-Mitigation) in mills/kWh","TRC Net Levelized Cost (Net of All Benefits) in mills/kWh","TRC B/C Ratio","Net Electric & Gas System CO2 Avoided (Lifetime Tons)","Jan","Feb","Mar","Apr","May","Jun","Jul","Aug","Sep","Oct","Nov","Dec",null,"Jan","Feb","Mar","Apr","May","Jun","Jul","Aug","Sep","Oct","Nov","Dec"]
[null,"Measures with B/C > 1.00",2426.3354663534215,110.99438773499368,0,110.99438773499368,147.55004554931503,1618.7322638112419,400.73223593431874,-8.4508055329369398,-6.1985169181882362,8603.4990923173918,23.114950693091437,152.14369058423293,136.80185769430307,157.42376980865163,146.45463284603161,149.52150622230013,148.00605111309343,140.60827504615833,146.50848316401598,136.88575487825432,156.07577155577357,138.11857212938412,150.3750187880546,null,64.594076443163118,55.497334610853862,53.233628017012464,55.584782666199587,54.536124440261609,47.853936839315239,56.186604843835113,46.078699242918972,56.727876972288342,50.950482654902217,61.130109399704949,65.038426392711727]
[null,"Categories with B/C > 1.00",377.54290728730024,160.45603378312583,32.091206756625169,192.54724053975099,245.39293828100597,252.13732668911473,4467.608302450968,16.228125672633592,36.981788158699914,1.0274840362373654,3.6009369537864111,7.3161950113777028,6.5784461055658463,7.5701003105920917,7.0426229974227468,7.1901009743918936,7.1172266733455016,6.7614868319602603,7.0452125193824475,6.5824805032877354,7.5052785749342981,6.6417634836599184,7.2311441773781127,null,3.1061614058611182,2.6687227124932509,2.5598669405221095,2.6729278624000155,2.6225006113468416,2.3011715611351455,2.7018679281815525,2.2158049948523728,2.7278962993271492,2.4500764086612232,2.9395882255628898,3.1275290410992911]
[null,"Supply Curve Results:  By TRC Net Levelized Cost - Net of Benefits"]
[null,"Block 1: <= 0 mills/kWh",0,0,0,0,0,0,0,0,0,0,0,0,0,0,0,0,0,0,0,0,0,0,0,null,0,0,0,0,0,0,0,0,0,0,0,0]
[null,"Block 2: <= 10 mills/kWh",0,0,0,0,0,0,0,0,0,0,0,0,0,0,0,0,0,0,0,0,0,0,0,null,0,0,0,0,0,0,0,0,0,0,0,0]
[null,"Block 3: 10-20 mills/kWh",0,0,0,0,0,0,0,0,0,0,0,0,0,0,0,0,0,0,0,0,0,0,0,null,0,0,0,0,0,0,0,0,0,0,0,0]
[null,"Block 4: 20-30 mills/kWh",0,0,0,0,0,0,0,0,0,0,0,0,0,0,0,0,0,0,0,0,0,0,0,null,0,0,0,0,0,0,0,0,0,0,0,0]
[null,"Block 5: 30-40 mills/kWh",377.54290728730024,160.45603378312583,32.091206756625169,192.54724053975099,245.39293828100597,252.13732668911473,4467.608302450968,16.228125672633592,36.981788158699914,1.0274840362373654,3.6009369537864111,23.673878598048688,21.286657097682443,24.495470042734745,22.788649235501438,23.265861190243463,23.030053184414342,21.878943652157979,22.797028458363268,21.299711676153319,24.285718676335822,21.491540636163126,23.39866954257138,null,10.050974299337751,8.6355021167653749,8.2832646044609568,8.649109218301696,8.4859357903641364,7.4461733301087891,8.7427540162965798,7.1699426222930773,8.8269770991487384,7.928002378884992,9.5119737338882882,10.120116087079772]
[null,"Block 6: 40-50 mills/kWh",0,0,0,0,0,0,0,0,0,0,0,0,0,0,0,0,0,0,0,0,0,0,0,null,0,0,0,0,0,0,0,0,0,0,0,0]
[null,"Block 7: 50-60 mills/kWh",1332.3230745545332,780.78712977280452,156.15742595456089,936.94455572736547,1194.0943785629765,890.10807798826784,6160.3934247824782,26.421073855534647,55.084848803268109,0.74712619542392011,12.712854144175134,83.543496941874551,75.119155687887414,86.442836906904915,80.419583121140505,82.103631441169597,81.271481131187087,77.209294392772847,80.449152825007729,75.165224401640515,85.702638693725504,75.842175669577813,82.572303024941135,null,35.469200247938872,30.474095813898604,29.231073745920135,30.522114343725871,29.946286486814401,26.277035943061996,30.852580425255614,25.302236684965102,31.14979791902423,27.977377671867636,33.567104150554655,35.713196883676332]
[null,"Block 8: 60-70 mills/kWh",1138.6058996377917,800.83952293125321,160.16790458625064,961.00742751750386,1224.7614439309798,760.27272252349132,7393.6250178673463,33.846863201152992,68.313561158707785,0.62088144371671983,10.857695595661855,71.39643552761774,64.196977051257647,73.87421712000139,68.726732679877841,70.165923660715094,69.454766381803353,65.983213667507471,68.752003006510165,64.23634746393742,73.241642282468661,64.814871338635299,70.566451310852258,null,30.31204775256214,26.043221754928826,24.980932669788224,26.084258484230794,25.592154873945127,22.456406198450232,26.366675442434243,21.623340850090365,26.620678092650039,23.909521558225666,28.686512715661422,30.520567753640215]
[null,"Block 9: 70-80 mills/kWh",282.52840015442757,210.36320011674923,42.072640023349848,252.43584014009906,321.7183085343911,189.22104318578528,7826.9581338321022,36.456138258391363,72.803858137823084,0.58839868498140047,2.7034274441975734,17.715981194865975,15.929540876972563,18.330806455696731,17.05353348165843,17.41064767319914,17.23418439619256,16.37276936687136,17.05980394359533,15.939310069026966,18.17384226213079,16.082862306742868,17.510032751255444,null,7.5214912900594841,6.4622445568108375,6.1986530579245596,6.4724272209626239,6.3503189078329836,5.5722287390961371,6.5425048583638379,5.3655157577466834,6.6055319008403268,5.9327980616051637,7.1181385465714815,7.5732324784052754]
[null,"Block 10: 80-90 mills/kWh",0,0,0,0,0,0,0,0,0,0,0,0,0,0,0,0,0,0,0,0,0,0,0,null,0,0,0,0,0,0,0,0,0,0,0,0]
[null,"Block 11: 90-100 mills/kWh",0,0,0,0,0,0,0,0,0,0,0,0,0,0,0,0,0,0,0,0,0,0,0,null,0,0,0,0,0,0,0,0,0,0,0,0]
[null,"Block 12: 100-110 mills/kWh",466.89722920818747,486.08481368249232,97.216962736498473,583.30177641899081,743.39230424045445,312.9628238432245,10944.000610361207,55.225119641806785,106.13077610657234,0.42117609033141007,4.4718485684155489,29.276853328961352,26.324640262542808,30.292893523760092,28.182113820923067,28.772269098941635,28.480651636603927,27.057105224390057,28.192476182025857,26.340784511047772,30.033499611428528,26.578014262108397,28.936509640932332,null,12.429771452791258,10.679294812102052,10.243692088957875,10.696122351124071,10.494330131183164,9.2084836688140896,10.811930371536173,8.8668765306266728,10.916086808486847,9.8043487837013714,11.763203850294895,12.515277254903129]
[null,"Block 13: 110-120 mills/kWh",0,0,0,0,0,0,0,0,0,0,0,0,0,0,0,0,0,0,0,0,0,0,0,null,0,0,0,0,0,0,0,0,0,0,0,0]
[null,"Block 14: 120-130 mills/kWh",185.53657059248951,223.59312454718,44.718624909436002,268.31174945661598,341.95145248463422,124.07423693612897,12668.18136033339,65.607113676711961,124.70393728670334,0.36284167250818833,1.7723052220616697,11.634095523776876,10.460939090763654,12.037851642969921,11.199065711417539,11.433582816148094,11.317699275826422,10.752007507106086,11.20318352754918,10.467354525071293,11.934773162491066,10.561625366063309,11.498849056782854,null,4.9393678615535359,4.2437598936790479,4.0706591975580118,4.2504468553621377,4.1702582525649543,3.6592859699899716,4.2964668820622451,3.5235374306022016,4.3378567788276081,3.8960720613089883,4.6744858719024736,4.9733463311120323]
[null,"Block 15: 130-140 mills/kWh",0,0,0,0,0,0,0,0,0,0,0,0,0,0,0,0,0,0,0,0,0,0,0,null,0,0,0,0,0,0,0,0,0,0,0,0]
[null,"Block 16: 140-150 mills/kWh",0,0,0,0,0,0,0,0,0,0,0,0,0,0,0,0,0,0,0,0,0,0,0,null,0,0,0,0,0,0,0,0,0,0,0,0]
[null,"Block 17: 150-160 mills/kWh",0,0,0,0,0,0,0,0,0,0,0,0,0,0,0,0,0,0,0,0,0,0,0,null,0,0,0,0,0,0,0,0,0,0,0,0]
[null,"Block 18: 160-170 mills/kWh",67.138908643965635,105.22900231205924,21.045800462411847,126.27480277447108,160.9316487570477,45.27938207846185,16475.800614667685,88.534338903142796,165.04683406747512,0.28135784619231974,0.64751678964994408,4.2099542641737502,3.7854317976345104,4.3560588575397823,4.0525328634432922,4.1373960385018353,4.0954620176123111,3.8907588269719251,4.0540229507085259,3.7877533090029516,4.3187585201349865,3.8218664833541909,4.1610135073033723,null,1.7873768311917198,1.5356617129376675,1.4730228930760938,1.538081480146434,1.5090641534798102,1.3241619463847465,1.5547344470442515,1.2750395078519943,1.5697119390224576,1.4098461848206636,1.6915257132809829,1.7996723983473737]
[null,"Block 19: 170-180 mills/kWh",0,0,0,0,0,0,0,0,0,0,0,0,0,0,0,0,0,0,0,0,0,0,0,null,0,0,0,0,0,0,0,0,0,0,0,0]
[null,"Block 20: 180-190 mills/kWh",0,0,0,0,0,0,0,0,0,0,0,0,0,0,0,0,0,0,0,0,0,0,0,null,0,0,0,0,0,0,0,0,0,0,0,0]
[null,"Block 21: 190-200 mills/kWh",0,0,0,0,0,0,0,0,0,0,0,0,0,0,0,0,0,0,0,0,0,0,0,null,0,0,0,0,0,0,0,0,0,0,0,0]
[null,"Block 22: > 200 mills/kWh",134.99176783004739,354.51127312823917,70.902254625647842,425.41352775388702,542.17071752042489,91.631657302880939,27606.294539499711,155.55557292110672,283.87753630229901,0.1872279801750571,1.3115072954060549,8.4646768927713243,7.6111176169481132,8.7584397457119429,8.1481600829498007,8.3187888622404067,8.2344748969640627,7.8228917160170104,8.1511561029658761,7.6157853264773996,8.6834424216769008,7.6843744323323744,8.366274946384209,null,3.5937605048145875,3.0876535470316506,2.961709810401346,3.0925188130874455,3.0341755914958983,2.6624049399381966,3.1260018333890232,2.5636376982360165,3.1561160869661866,2.8346845771150999,3.4010389947901665,3.6184823893423306]
[]
[]
["Shaped Savings Results; By Category and sorted by TRC BC ratio"]
[null,null,null,null,null,null,null,null,null,null,null,null,null,null,"Savings Allocation by Category and Month for Segments 1",null,null,null,null,null,null,null,null,null,null,null,null,"Savings Allocation by Category and Month for Segments 2"]
["Category","Measure","Busbar Savings","First Cost","Admin Cost","First Year Program Cost","PV Cost","PV Benefits","Unit Program Cost: First Year Program Cost in $/average annual kW saved","Utility System Net Levelized Cost (Net of T&D Capacity Benefits, Act Credit & Risk-Mitigation) in mills/kWh","TRC Net Levelized Cost (Net of All Benefits) in mills/kWh","TRC B/C Ratio","Net Electric & Gas System CO2 Avoided (Lifetime Tons)","Wholesale KW","Jan","Feb","Mar","Apr","May","Jun","Jul","Aug","Sep","Oct","Nov","Dec",null,"Jan","Feb","Mar","Apr","May","Jun","Jul","Aug","Sep","Oct","Nov","Dec"]
["Demand Control Ventilation-Retro-School K-12",null,0,0,0,0,0,0,0,9999,9999,9999,0,0,0,0,0,0,0,0,0,0,0,0,0,0,null,0,0,0,0,0,0,0,0,0,0,0,0]
["Demand Control Ventilation-Retro-University",null,0,0,0,0,0,0,0,9999,9999,9999,0,0,0,0,0,0,0,0,0,0,0,0,0,0,null,0,0,0,0,0,0,0,0,0,0,0,0]
["Demand Control Ventilation-Retro-Small Ret",null,377.54290728730024,160.45603378312583,32.091206756625169,192.54724053975099,245.39293828100597,252.13732668911473,4467.608302450968,16.228125672633592,36.981788158699914,1.0274840362373654,3.6009369537864111,7.097292051409744E-2,23.673878598048688,21.286657097682443,24.495470042734745,22.788649235501438,23.265861190243463,23.030053184414342,21.878943652157979,22.797028458363268,21.299711676153319,24.285718676335822,21.491540636163126,23.39866954257138,null,10.050974299337751,8.6355021167653749,8.2832646044609568,8.649109218301696,8.4859357903641364,7.4461733301087891,8.7427540162965798,7.1699426222930773,8.8269770991487384,7.928002378884992,9.5119737338882882,10.120116087079772]
["Demand Control Ventilation-Retro-Supermarket",null,512.37295025223909,282.95039365391995,56.590078730783993,339.54047238470395,432.72930814400246,341.58719009471417,5805.096730078616,24.281687851430078,51.38514173949627,0.7893784489888116,4.8772802112843925,9.6319130805848405E-2,32.128414511479747,28.888656329193338,33.243416870921386,30.92704753733317,31.574683852113001,31.254662892090511,29.692463269951013,30.938419190874185,28.906373025114029,32.958758029907926,29.166708918828093,31.754921398593012,null,13.640429353218437,11.719456546721796,11.241426182793955,11.737923085554803,11.516476333248272,10.105388615694746,11.865010790020408,9.7305089927911226,11.979312048519381,10.75929090460949,12.908938164862432,13.734263407804802]
["Demand Control Ventilation-Retro-Large Off",null,145.04873649444917,85.567118707686291,17.113423741537257,102.68054244922355,130.86180796603333,97.129169282314592,6201.2367263166079,26.667007997242244,55.408470004098852,0.74222701636160782,1.3876671582907785,2.7267185390552007E-2,9.0953004606622407,8.1781505005465558,9.4109488245068196,8.75520295633393,8.9385436832799776,8.8479482763988138,8.4057018985760035,8.7584221816602561,8.1831659572698037,9.33036415429609,8.2568649931552631,8.9895675095239547,null,3.8614978443965664,3.3176856109729189,3.182358989496159,3.3229133423038464,3.2602235152802908,2.8607557244587536,3.3588908679473075,2.754630263282638,3.3912486517000202,3.0458702992059541,3.6544184648633022,3.888061524331667]
["Demand Control Ventilation-Retro-Lodging",null,190.25305089347401,113.29185641505353,22.658371283010709,135.95022769806423,173.26254970614565,127.21310281100304,6259.6840841299399,27.018943326634925,56.106203430512835,0.73422157890875583,1.8171122089306491,3.5764980345271799E-2,11.92984305313154,10.726864094086867,12.343862959008225,11.483754453096102,11.724233160443182,11.605403772661953,11.025331690265029,11.487976947235998,10.733442613598884,12.238164145399997,10.830109890846437,11.791158518400692,null,5.0649303376947019,4.3516394878567759,4.1741384407928814,4.3584964371760035,4.2762693792955506,3.7523077938709037,4.4056863278478788,3.6131084236853814,4.4481283871714385,3.9951131671659041,4.793314847029337,5.0997725657123452]
["Demand Control Ventilation-Retro-Restaurant",null,484.64833691437099,298.97776099614475,59.79555219922895,358.7733131953737,457.24071274679517,324.17861580023595,6484.8138004582934,28.37454097614966,58.498402543503737,0.70898895650124527,4.6307945656693148,9.1107281395536907E-2,30.389938916601029,27.325484764060658,31.444608252468498,29.253578174377314,29.866170745333442,29.563466190035808,28.085797533980799,29.264334505237297,27.342242805657804,31.175352364121494,27.588491866748019,30.036655598423483,null,12.902342712629167,11.085314168347111,10.633150132837143,11.102781478691217,10.893317258990288,9.5585838090375912,11.222992439440022,9.2039890052059601,11.331108831633394,10.177103300886285,12.210432673799584,12.991099385827523]
["Demand Control Ventilation-Retro-Xlarge Ret",null,761.61537749468994,530.18231736713574,106.03646347342715,636.21878084056289,810.83268491606191,508.50301379698107,7317.7048216863086,33.389716800525868,67.505143780900681,0.62713679808013878,7.2620063504045262,0.14317330985670251,47.757194314064186,42.941464580910122,49.414586536810432,45.971425644828507,46.934102882410016,46.458408597312108,44.136281220462685,45.988329008286932,42.967799515345966,48.991456177276554,43.354775096060848,47.202016492864097,null,20.2757790900686,17.420354289722052,16.709787356206935,17.447803826114239,17.118634903808946,15.02112740628478,17.636712998551729,14.463888611043437,17.80661579318005,15.993118684066461,19.188456003868339,20.415258465141914]
["Demand Control Ventilation-Retro-Medium Ret",null,376.99052214310177,270.65720556411748,54.131441112823495,324.78864667694097,413.92875901491789,251.76970872651029,7547.0028496101377,34.770413550654368,69.946766956221481,0.60824405949874227,3.5956892452573292,7.0869079636211391E-2,23.639241213553557,21.255512470347519,24.459630583190961,22.755307035049338,23.231820778305078,22.996357784491252,21.846932447044779,22.763673998223229,21.268547948591447,24.25018610519211,21.460096242574458,23.364434817988165,null,10.036268662493541,8.6228674652067738,8.2711453135812913,8.6364546581165573,8.4735199701361807,7.4352787921654535,8.7299624438825116,7.1594522390469262,8.8140622994699864,7.9164028741592043,9.4980567117930814,10.105309288498299]
["Demand Control Ventilation-Retro-Small Off",null,149.6987056194283,109.31357768762632,21.862715537525265,131.1762932251516,167.17838145639519,100.22377128935985,7676.1139910831271,35.547844281529891,71.206599212828948,0.59950198354744222,1.4318422830083772,2.8141316205169624E-2,9.3868773978119595,8.4403254649484669,9.7126448097896017,9.0358770553560657,9.2250953151938457,9.1315956028010099,8.6751717005666791,9.0391994825353397,8.4455017070702922,9.6294767580377254,8.5215633849869103,9.2777548621094201,null,3.985289655249773,3.424043901505164,3.2843789822475151,3.4294392233292585,3.3647396872440805,2.9524657669888357,3.4665701156788256,2.8429381381705214,3.4999652245337014,3.1435147406005934,3.771571729635232,4.0127049130374584]
["Demand Control Ventilation-Retro-Residential Care",null,132.82969453499928,101.04962242912291,20.209924485824583,121.25954691494749,154.53992707799591,88.997271896425431,7996.9590737487706,37.47978310779105,74.603964615879462,0.57588529760020357,1.271585161189196,2.497017205244545E-2,8.3291037970540174,7.4892154120240972,8.6181616459071311,8.0176564263023646,8.1855523580052942,8.1025887933915524,7.6975976663046799,8.0206044610599907,7.4938083619566731,8.5443655040930668,7.5612989217559576,8.2322778891460224,null,3.5362016348097112,3.0382006553056735,2.914274075677044,3.0429879976333649,2.9855792205889031,2.6197629721073015,3.0759347426850123,2.522577619576162,3.1055666763066254,2.7892833210045698,3.3465668169362495,3.560527565367817]
["Demand Control Ventilation-Retro-Medium Off",null,116.67617215474152,117.16308674540795,23.432617349081593,140.59570409448955,179.18300382139699,78.246937553287282,10555.868821564503,52.888020172328623,101.95150814870991,0.43668727437609506,1.1181252463817792,2.1933530023717573E-2,7.3161950113777028,6.5784461055658463,7.5701003105920917,7.0426229974227468,7.1901009743918936,7.1172266733455016,6.7614868319602603,7.0452125193824475,6.5824805032877354,7.5052785749342981,6.6417634836599184,7.2311441773781127,null,3.1061614058611182,2.6687227124932509,2.5598669405221095,2.6729278624000155,2.6225006113468416,2.3011715611351455,2.7018679281815525,2.2158049948523728,2.7278962993271492,2.4500764086612232,2.9395882255628898,3.1275290410992911]
["Demand Control Ventilation-Retro-Large Ret",null,350.22105705344597,368.92172693708437,73.784345387416877,442.70607232450124,564.20930041905751,234.71588628993723,11073.306745718626,56.003724510222717,107.52309954890019,0.41600853817121719,3.3537233220337694,6.5836785077523594E-2,21.960658317583651,19.746194156976962,22.722793213168,21.139490823500321,21.582168124549742,21.363424963258424,20.295618392429798,21.147263662643411,19.758304007760039,22.52822103649423,19.936250778448478,21.705365463554219,null,9.3236100469301384,8.010572099608801,7.6838251484357665,8.0231944887240552,7.8718295198363224,6.907312107678945,8.1100624433546198,6.6510715357742995,8.188190509159698,7.3542723750401473,8.823615624732005,9.3877482138038371]
["Demand Control Ventilation-Retro-MiniMart",null,185.53657059248951,223.59312454718,44.718624909436002,268.31174945661598,341.95145248463422,124.07423693612897,12668.181360333392,65.607113676711961,124.70393728670334,0.36284167250818833,1.7723052220616697,3.4878346336138247E-2,11.634095523776876,10.460939090763654,12.037851642969921,11.199065711417539,11.433582816148094,11.317699275826422,10.752007507106086,11.20318352754918,10.467354525071293,11.934773162491066,10.561625366063309,11.498849056782854,null,4.9393678615535359,4.2437598936790479,4.0706591975580118,4.2504468553621377,4.1702582525649543,3.6592859699899716,4.2964668820622451,3.5235374306022016,4.3378567788276081,3.8960720613089883,4.6744858719024736,4.9733463311120323]
["Demand Control Ventilation-Retro-Other",null,67.138908643965635,105.22900231205924,21.045800462411847,126.27480277447108,160.9316487570477,45.27938207846185,16475.800614667685,88.534338903142796,165.04683406747512,0.28135784619231974,0.64751678964994408,1.2621199695761599E-2,4.2099542641737502,3.7854317976345104,4.3560588575397823,4.0525328634432922,4.1373960385018353,4.0954620176123111,3.8907588269719251,4.0540229507085259,3.7877533090029516,4.3187585201349865,3.8218664833541909,4.1610135073033723,null,1.7873768311917198,1.5356617129376675,1.4730228930760938,1.538081480146434,1.5090641534798102,1.3241619463847465,1.5547344470442515,1.2750395078519943,1.5697119390224576,1.4098461848206636,1.6915257132809829,1.7996723983473737]
["Demand Control Ventilation-Retro-Assembly",null,104.08873282021779,218.75821636386075,43.751643272772156,262.50985963663288,334.55720062977912,69.869867946754795,22092.558033046222,122.35512133216369,225.40734448008473,0.20884281616186992,0.99854344109822235,1.9567263000495896E-2,6.5268979409945134,5.8687400041399007,6.7534110358577317,6.2828398463401891,6.4144073760089615,6.3493950130646413,6.0320336476750898,6.2851500014851309,5.8723391567244345,6.6955824989832236,5.9252264788810303,6.4510226926654965,null,2.7710576949880759,2.3808114395760813,2.2836994144265468,2.384562922994081,2.3395759426638509,2.0529130102315043,2.4103808318207336,1.9767560919380041,2.4336011699573525,2.1857534746000229,2.6224550202613006,2.7901201139398761]
["Demand Control Ventilation-Retro-Hospital",null,29.793507878887006,113.96501889407503,22.793003778815006,136.75802267289004,174.29204865843113,20.425635944816495,40210.111662060197,231.44828555321885,418.30386323535356,0.11719201249877806,0.29273212504564422,5.6007733841898933E-3,1.8682059043372314,1.6798201574274452,1.9330411606961937,1.7983487106816138,1.8360075247106276,1.8173989174663434,1.7265599949047716,1.7990099506030488,1.6808503494374663,1.9164887930929591,1.6959883841379879,1.8464879935926792,null,0.79316489913538146,0.68146400154250508,0.65366744942744903,0.68253779548487858,0.66966109003750773,0.58760903594285863,0.68992770262662317,0.56581050229053598,0.69657410237114392,0.6256322043931305,0.75063008446007118,0.79862117008655209]
["Demand Control Ventilation-Retro-Warehouse",null,1.1095271309425907,21.788037870303398,4.3576075740606797,26.145645444364078,33.321468232214613,1.336153411309654,206426.54668394956,1232.3050906928752,2159.5021027350244,4.0098875655721684E-2,2.0231729262188417E-2,2.0857597733308535E-4,6.9573047439579663E-2,6.2557455380766999E-2,7.1987549158018291E-2,6.6971525927997475E-2,6.8373961520817414E-2,6.7680966433078193E-2,6.4298073437148703E-2,6.6996150877697142E-2,6.259582031549861E-2,7.137112960071805E-2,6.3159569313356007E-2,6.8764260126033872E-2,null,2.9537910691130223E-2,2.5378105913064393E-2,2.4342946547350034E-2,2.541809460848584E-2,2.4938558794539649E-2,2.1882893763833532E-2,2.5693298941666165E-2,2.10711040074767E-2,2.5940814637690046E-2,2.3298898121946493E-2,2.7953890068794739E-2,2.9741105315902416E-2]

{"sheet":"MMap","index":8,"n_rows":471,"n_cols":30,"rows_kept":471,"cut":false,"hidden":false,"merged":[]}
["Measure Map"]
[]
[]
[null,null,null,null,null,null,null,null,null,null,null,null,null,null,null,null,"DCV OnlyLarge OffNewVentElecHt"]
[]
[]
[]
[1,{"$f":"A8+1","v":2},{"$f":"B8+1","v":3},4,5,6,7,8,9,10,11,12,13,14,15,16,17,18,{"$f":"R8+1","v":19},{"$f":"S8+1","v":20},{"$f":"T8+1","v":21},{"$f":"U8+1","v":22},{"$f":"V8+1","v":23},{"$f":"W8+1","v":24},{"$f":"X8+1","v":25},{"$f":"Y8+1","v":26}]
[null,null,null,null,null,null,null,null,null,null,null,null,"WT BTYPE",1000,1000,null,null,"FloorA%REG",null,null,"ElecHt%TYP","GasHt%TYP","HtPmpHt%TYP","CoolSat%TYP",null,null,null,15]
["Measure Name","Base Measure Name","Category weighted for MeasEquipment","Category Weighted for Weighting by Btype","Measure Index Name","Option","Spce Heat","Savings End Use","6P Btype (for lookups)","BType","MOPP","STOCK","Weight for fuel measure density end use by Btype","Weighted Savings (kWh/yr/ thousand sf)","Weighted Costs $/kWh/yr/ thousand sf)","RAW Savings (kWh/yr.)","RAW Capital Cost ($)","REGIONAL WEIGHT (% of Stock)","MEASURE DENSITY","Btype IDX","ELEC HEAT","GAS HEAT","HEAT PUMP HEAT","COOLING SATURATION","COOLING STOCK","RAW ANNUAL GAS (therms)","Fuel Weight","Measure Life"]
[{"$f":"CONCATENATE(B11,\"-\",F11,\"-\",J11,\"-\",G11,\"-\",H11,\"-\",K11)","v":"Demand Control Ventilation-DCV Only-Large Off-ElecHt-Vent-New"},"Demand Control Ventilation",{"$f":"CONCATENATE(D11,\"-\",F11)","v":"Demand Control Ventilation-New-Large Off-DCV Only"},{"$f":"CONCATENATE(B11,\"-\",K11,\"-\",J11)","v":"Demand Control Ventilation-New-Large Off"},{"$f":"CONCATENATE(B11,\"-\",K11)","v":"Demand Control Ventilation-New"},"DCV Only","ElecHt","Vent","Large Off","Large Off","New","POST2013",{"$f":"S11*X11*AA11","v":0.19923069217362574},{"$f":"M11*P11*$N$9","v":1.0041226885550736},{"$f":"Q11*M11*$O$9","v":29.415811624740929},{"$f":"INDEX('Savings from 6P'!$A$11:$L$92,MATCH(MMap!F11&MMap!J11&H11,'Savings from 6P'!$A$11:$A$92,0),MATCH(MMap!K11&G11,'Savings from 6P'!$A$4:$L$4,0))","v":5.0399999999999993E-3},{"$f":"IF(P11<=0,0,VLOOKUP(F11&K11&H11,Costs!$A$13:$B$24,2,FALSE))","v":0.14764698804090692},{"$f":"VLOOKUP($R$9,[2]CHAR!$B$17:$T$54,MATCH(J11,[2]CHAR!$B$16:$T$16,0),FALSE)","v":0.15073291148870363},{"$f":"IFERROR(VLOOKUP($F11&$I11&$K11&$H11&$G11,'Savings from 6P'!$V$11:$X$435,3,FALSE),$AD11)","v":1},{"$f":"MATCH(J11,[2]!BLDGTYPE,0)","v":2},{"$f":"VLOOKUP(U$9,V_PRE2013,$T11,FALSE)","v":0.20943280302167308},{"$f":"VLOOKUP(V$9,V_PRE2013,$T11,FALSE)","v":0.54037060186620078},{"$f":"VLOOKUP(W$9,V_PRE2013,$T11,FALSE)","v":0.25019659511212627},{"$f":"VLOOKUP($X$9,V_POST2013,MATCH(J11,BLDGTYP,FALSE)+1,FALSE)","v":0.95128694884061893},"POST2013",{"$f":"IFERROR(IF(G11=\"gasht\",INDEX('Savings from 6P'!$Z$11:$AF$28,MATCH(J11,'Savings from 6P'!$Z$11:$Z$28,0),MATCH(MMap!F11&MMap!H11&MMap!K11,'Savings from 6P'!$Y$7:$AE$7,0)),\"\"),\"\")","v":""},{"$f":"IF(G11=\"ElecHt\",U11,IF(G11=\"gasht\",V11,W11))","v":0.20943280302167308},{"$f":"$AB$9","v":15},null,1]
["Demand Control Ventilation-DCV Only-Medium Off-ElecHt-Vent-New","Demand Control Ventilation",{"$f":"CONCATENATE(D12,\"-\",F12)","v":"Demand Control Ventilation-New-Medium Off-DCV Only"},{"$f":"CONCATENATE(B12,\"-\",K12,\"-\",J12)","v":"Demand Control Ventilation-New-Medium Off"},"Demand Control Ventilation-New","DCV Only","ElecHt","Vent","Medium Off","Medium Off","New",{"$f":"L11","v":"POST2013"},{"$f":"S12*X12*AA12","v":0.21614595956609867},{"$f":"M12*P12*$N$9","v":1.089375636213137},{"$f":"Q12*M12*$O$9","v":31.913299907146122},{"$f":"INDEX('Savings from 6P'!$A$11:$L$92,MATCH(MMap!F12&MMap!J12&H12,'Savings from 6P'!$A$11:$A$92,0),MATCH(MMap!K12&G12,'Savings from 6P'!$A$4:$L$4,0))","v":5.0399999999999993E-3},{"$f":"IF(P12<=0,0,VLOOKUP(F12&K12&H12,Costs!$A$13:$B$24,2,FALSE))","v":0.14764698804090692},{"$f":"VLOOKUP($R$9,[2]CHAR!$B$17:$T$54,MATCH(J12,[2]CHAR!$B$16:$T$16,0),FALSE)","v":0.12013270538231059},{"$f":"IFERROR(VLOOKUP($F12&$I12&$K12&$H12&$G12,'Savings from 6P'!$V$11:$X$435,3,FALSE),$AD12)","v":1},{"$f":"MATCH(J12,[2]!BLDGTYPE,0)","v":3},0.22131165109110185,0.51430081857580845,0.26438753033308959,0.97665874571205136,"POST2013",{"$f":"IFERROR(IF(G12=\"gasht\",INDEX('Savings from 6P'!$Z$11:$AF$28,MATCH(J12,'Savings from 6P'!$Z$11:$Z$28,0),MATCH(MMap!F12&MMap!H12&MMap!K12,'Savings from 6P'!$Y$7:$AE$7,0)),\"\"),\"\")","v":""},0.22131165109110185,15,null,1]
["Demand Control Ventilation-DCV Only-Small Off-ElecHt-Vent-New","Demand Control Ventilation","Demand Control Ventilation-New-Small Off-DCV Only","Demand Control Ventilation-New-Small Off","Demand Control Ventilation-New","DCV Only","ElecHt","Vent","Small Off","Small Off","New",{"$f":"L12","v":"POST2013"},{"$f":"S13*X13*AA13","v":0.27920826479794775},1.4072096545816564,41.224259333544964,{"$f":"INDEX('Savings from 6P'!$A$11:$L$92,MATCH(MMap!F13&MMap!J13&H13,'Savings from 6P'!$A$11:$A$92,0),MATCH(MMap!K13&G13,'Savings from 6P'!$A$4:$L$4,0))","v":5.0399999999999993E-3},{"$f":"IF(P13<=0,0,VLOOKUP(F13&K13&H13,Costs!$A$13:$B$24,2,FALSE))","v":0.14764698804090692},{"$f":"VLOOKUP($R$9,[2]CHAR!$B$17:$T$54,MATCH(J13,[2]CHAR!$B$16:$T$16,0),FALSE)","v":3.1538695729415013E-2},{"$f":"IFERROR(VLOOKUP($F13&$I13&$K13&$H13&$G13,'Savings from 6P'!$V$11:$X$435,3,FALSE),$AD13)","v":1},{"$f":"MATCH(J13,[2]!BLDGTYPE,0)","v":4},0.30640942705415353,0.3275419203320854,0.36604865261376096,0.91122609210258287,"POST2013",{"$f":"IFERROR(IF(G13=\"gasht\",INDEX('Savings from 6P'!$Z$11:$AF$28,MATCH(J13,'Savings from 6P'!$Z$11:$Z$28,0),MATCH(MMap!F13&MMap!H13&MMap!K13,'Savings from 6P'!$Y$7:$AE$7,0)),\"\"),\"\")","v":""},0.30640942705415353,15,null,1]
["Demand Control Ventilation-DCV Only-Xlarge Ret-ElecHt-Vent-New","Demand Control Ventilation","Demand Control Ventilation-New-Xlarge Ret-DCV Only","Demand Control Ventilation-New-Xlarge Ret","Demand Control Ventilation-New","DCV Only","ElecHt","Vent","Big Box","Xlarge Ret","New","POST2013",1.5677533845022754E-2,0.48788485325710801,2.314740652126988,{"$f":"INDEX('Savings from 6P'!$A$11:$L$92,MATCH(MMap!F14&MMap!J14&H14,'Savings from 6P'!$A$11:$A$92,0),MATCH(MMap!K14&G14,'Savings from 6P'!$A$4:$L$4,0))","v":3.1119999999999995E-2},{"$f":"IF(P14<=0,0,VLOOKUP(F14&K14&H14,Costs!$A$13:$B$24,2,FALSE))","v":0.14764698804090692},{"$f":"VLOOKUP($R$9,[2]CHAR!$B$17:$T$54,MATCH(J14,[2]CHAR!$B$16:$T$16,0),FALSE)","v":2.6820893655991742E-2},{"$f":"IFERROR(VLOOKUP($F14&$I14&$K14&$H14&$G14,'Savings from 6P'!$V$11:$X$435,3,FALSE),$AD14)","v":0.30000000000000004},{"$f":"MATCH(J14,[2]!BLDGTYPE,0)","v":5},5.2995881766435368E-2,0.91606730000738101,3.0936818226183656E-2,0.98608503921852686,"POST2013",{"$f":"IFERROR(IF(G14=\"gasht\",INDEX('Savings from 6P'!$Z$11:$AF$28,MATCH(J14,'Savings from 6P'!$Z$11:$Z$28,0),MATCH(MMap!F14&MMap!H14&MMap!K14,'Savings from 6P'!$Y$7:$AE$7,0)),\"\"),\"\")","v":""},5.2995881766435368E-2,15,null,0.30000000000000004]
["Demand Control Ventilation-DCV Only-Large Ret-ElecHt-Vent-New","Demand Control Ventilation","Demand Control Ventilation-New-Large Ret-DCV Only","Demand Control Ventilation-New-Large Ret","Demand Control Ventilation-New","DCV Only","ElecHt","Vent","Small Box","Large Ret","New","POST2013",3.2703682611810213E-3,0.10177386028795338,0.48286002354795582,{"$f":"INDEX('Savings from 6P'!$A$11:$L$92,MATCH(MMap!F15&MMap!J15&H15,'Savings from 6P'!$A$11:$A$92,0),MATCH(MMap!K15&G15,'Savings from 6P'!$A$4:$L$4,0))","v":3.1119999999999995E-2},{"$f":"IF(P15<=0,0,VLOOKUP(F15&K15&H15,Costs!$A$13:$B$24,2,FALSE))","v":0.14764698804090692},{"$f":"VLOOKUP($R$9,[2]CHAR!$B$17:$T$54,MATCH(J15,[2]CHAR!$B$16:$T$16,0),FALSE)","v":1.0839638408159987E-2},{"$f":"IFERROR(VLOOKUP($F15&$I15&$K15&$H15&$G15,'Savings from 6P'!$V$11:$X$435,3,FALSE),$AD15)","v":0.4},{"$f":"MATCH(J15,[2]!BLDGTYPE,0)","v":6},1.0593107738682607E-2,0.98322307122393326,6.1838210373840949E-3,0.77181511362305244,"POST2013",{"$f":"IFERROR(IF(G15=\"gasht\",INDEX('Savings from 6P'!$Z$11:$AF$28,MATCH(J15,'Savings from 6P'!$Z$11:$Z$28,0),MATCH(MMap!F15&MMap!H15&MMap!K15,'Savings from 6P'!$Y$7:$AE$7,0)),\"\"),\"\")","v":""},1.0593107738682607E-2,15,null,0.4]
["Demand Control Ventilation-DCV Only-Medium Ret-ElecHt-Vent-New","Demand Control Ventilation","Demand Control Ventilation-New-Medium Ret-DCV Only","Demand Control Ventilation-New-Medium Ret","Demand Control Ventilation-New","DCV Only","ElecHt","Vent","High End","Medium Ret","New","POST2013",7.6082678358241076E-2,1.0347244256720787,11.233378301679389,{"$f":"INDEX('Savings from 6P'!$A$11:$L$92,MATCH(MMap!F16&MMap!J16&H16,'Savings from 6P'!$A$11:$A$92,0),MATCH(MMap!K16&G16,'Savings from 6P'!$A$4:$L$4,0))","v":1.3599999999999999E-2},{"$f":"IF(P16<=0,0,VLOOKUP(F16&K16&H16,Costs!$A$13:$B$24,2,FALSE))","v":0.14764698804090692},{"$f":"VLOOKUP($R$9,[2]CHAR!$B$17:$T$54,MATCH(J16,[2]CHAR!$B$16:$T$16,0),FALSE)","v":4.0894012773033235E-2},{"$f":"IFERROR(VLOOKUP($F16&$I16&$K16&$H16&$G16,'Savings from 6P'!$V$11:$X$435,3,FALSE),$AD16)","v":0.7},{"$f":"MATCH(J16,[2]!BLDGTYPE,0)","v":7},0.12006240959495594,0.80985008893074606,7.0087501474297986E-2,0.90527535536267667,"POST2013",{"$f":"IFERROR(IF(G16=\"gasht\",INDEX('Savings from 6P'!$Z$11:$AF$28,MATCH(J16,'Savings from 6P'!$Z$11:$Z$28,0),MATCH(MMap!F16&MMap!H16&MMap!K16,'Savings from 6P'!$Y$7:$AE$7,0)),\"\"),\"\")","v":""},0.12006240959495594,15,null,0.7]
["Demand Control Ventilation-DCV Only-Small Ret-ElecHt-Vent-New","Demand Control Ventilation","Demand Control Ventilation-New-Small Ret-DCV Only","Demand Control Ventilation-New-Small Ret","Demand Control Ventilation-New","DCV Only","ElecHt","Vent","Anchor","Small Ret","New","POST2013",0.10266955707537515,1.3963059762251018,15.158850865673125,{"$f":"INDEX('Savings from 6P'!$A$11:$L$92,MATCH(MMap!F17&MMap!J17&H17,'Savings from 6P'!$A$11:$A$92,0),MATCH(MMap!K17&G17,'Savings from 6P'!$A$4:$L$4,0))","v":1.3599999999999999E-2},{"$f":"IF(P17<=0,0,VLOOKUP(F17&K17&H17,Costs!$A$13:$B$24,2,FALSE))","v":0.14764698804090692},{"$f":"VLOOKUP($R$9,[2]CHAR!$B$17:$T$54,MATCH(J17,[2]CHAR!$B$16:$T$16,0),FALSE)","v":1.3016203517984767E-2},{"$f":"IFERROR(VLOOKUP($F17&$I17&$K17&$H17&$G17,'Savings from 6P'!$V$11:$X$435,3,FALSE),$AD17)","v":0.7},{"$f":"MATCH(J17,[2]!BLDGTYPE,0)","v":8},0.2732917310450087,0.56717178566142912,0.15953648329356207,0.53668215741883951,"POST2013",{"$f":"IFERROR(IF(G17=\"gasht\",INDEX('Savings from 6P'!$Z$11:$AF$28,MATCH(J17,'Savings from 6P'!$Z$11:$Z$28,0),MATCH(MMap!F17&MMap!H17&MMap!K17,'Savings from 6P'!$Y$7:$AE$7,0)),\"\"),\"\")","v":""},0.2732917310450087,15,null,0.7]
["Demand Control Ventilation-DCV Only-School K-12-ElecHt-Vent-New","Demand Control Ventilation","Demand Control Ventilation-New-School K-12-DCV Only","Demand Control Ventilation-New-School K-12","Demand Control Ventilation-New","DCV Only","ElecHt","Vent","K-12","School K-12","New","POST2013",5.6109595290231656E-2,0,0,{"$f":"INDEX('Savings from 6P'!$A$11:$L$92,MATCH(MMap!F18&MMap!J18&H18,'Savings from 6P'!$A$11:$A$92,0),MATCH(MMap!K18&G18,'Savings from 6P'!$A$4:$L$4,0))","v":0},{"$f":"IF(P18<=0,0,VLOOKUP(F18&K18&H18,Costs!$A$13:$B$24,2,FALSE))","v":0},{"$f":"VLOOKUP($R$9,[2]CHAR!$B$17:$T$54,MATCH(J18,[2]CHAR!$B$16:$T$16,0),FALSE)","v":3.0886857559635036E-2},{"$f":"IFERROR(VLOOKUP($F18&$I18&$K18&$H18&$G18,'Savings from 6P'!$V$11:$X$435,3,FALSE),$AD18)","v":1},{"$f":"MATCH(J18,[2]!BLDGTYPE,0)","v":9},5.8369343906151915E-2,0.84777782221188291,9.3852833881965178E-2,0.96128535178408803,"POST2013",{"$f":"IFERROR(IF(G18=\"gasht\",INDEX('Savings from 6P'!$Z$11:$AF$28,MATCH(J18,'Savings from 6P'!$Z$11:$Z$28,0),MATCH(MMap!F18&MMap!H18&MMap!K18,'Savings from 6P'!$Y$7:$AE$7,0)),\"\"),\"\")","v":""},5.8369343906151915E-2,15,null,1]
["Demand Control Ventilation-DCV Only-University-ElecHt-Vent-New","Demand Control Ventilation","Demand Control Ventilation-New-University-DCV Only","Demand Control Ventilation-New-University","Demand Control Ventilation-New","DCV Only","ElecHt","Vent","University","University","New","POST2013",7.5000000000000011E-2,0,0,{"$f":"INDEX('Savings from 6P'!$A$11:$L$92,MATCH(MMap!F19&MMap!J19&H19,'Savings from 6P'!$A$11:$A$92,0),MATCH(MMap!K19&G19,'Savings from 6P'!$A$4:$L$4,0))","v":0},{"$f":"IF(P19<=0,0,VLOOKUP(F19&K19&H19,Costs!$A$13:$B$24,2,FALSE))","v":0},{"$f":"VLOOKUP($R$9,[2]CHAR!$B$17:$T$54,MATCH(J19,[2]CHAR!$B$16:$T$16,0),FALSE)","v":2.2325826170102026E-2},{"$f":"IFERROR(VLOOKUP($F19&$I19&$K19&$H19&$G19,'Savings from 6P'!$V$11:$X$435,3,FALSE),$AD19)","v":1},{"$f":"MATCH(J19,[2]!BLDGTYPE,0)","v":10},0.1,0.8,0.1,0.75,"POST2013",{"$f":"IFERROR(IF(G19=\"gasht\",INDEX('Savings from 6P'!$Z$11:$AF$28,MATCH(J19,'Savings from 6P'!$Z$11:$Z$28,0),MATCH(MMap!F19&MMap!H19&MMap!K19,'Savings from 6P'!$Y$7:$AE$7,0)),\"\"),\"\")","v":""},0.1,15,null,1]
["Demand Control Ventilation-DCV Only-Warehouse-ElecHt-Vent-New","Demand Control Ventilation","Demand Control Ventilation-New-Warehouse-DCV Only","Demand Control Ventilation-New-Warehouse","Demand Control Ventilation-New","DCV Only","ElecHt","Vent","Warehouse","Warehouse","New","POST2013",1.1610983337120436E-3,5.851935601908699E-3,0.17143267179189906,{"$f":"INDEX('Savings from 6P'!$A$11:$L$92,MATCH(MMap!F20&MMap!J20&H20,'Savings from 6P'!$A$11:$A$92,0),MATCH(MMap!K20&G20,'Savings from 6P'!$A$4:$L$4,0))","v":5.0399999999999993E-3},{"$f":"IF(P20<=0,0,VLOOKUP(F20&K20&H20,Costs!$A$13:$B$24,2,FALSE))","v":0.14764698804090692},{"$f":"VLOOKUP($R$9,[2]CHAR!$B$17:$T$54,MATCH(J20,[2]CHAR!$B$16:$T$16,0),FALSE)","v":0.10087192274660353},{"$f":"IFERROR(VLOOKUP($F20&$I20&$K20&$H20&$G20,'Savings from 6P'!$V$11:$X$435,3,FALSE),$AD20)","v":1},{"$f":"MATCH(J20,[2]!BLDGTYPE,0)","v":11},6.3929137015483993E-3,0.98700382329725422,6.6032630011973147E-3,0.18162271351024481,"POST2013",{"$f":"IFERROR(IF(G20=\"gasht\",INDEX('Savings from 6P'!$Z$11:$AF$28,MATCH(J20,'Savings from 6P'!$Z$11:$Z$28,0),MATCH(MMap!F20&MMap!H20&MMap!K20,'Savings from 6P'!$Y$7:$AE$7,0)),\"\"),\"\")","v":""},6.3929137015483993E-3,15,null,1]
["Demand Control Ventilation-DCV Only-Supermarket-ElecHt-Vent-New","Demand Control Ventilation","Demand Control Ventilation-New-Supermarket-DCV Only","Demand Control Ventilation-New-Supermarket","Demand Control Ventilation-New","DCV Only","ElecHt","Vent","Supermarket","Supermarket","New","POST2013",1.0831797684725629E-2,5.4592260331017162E-2,1.5992823032182082,{"$f":"INDEX('Savings from 6P'!$A$11:$L$92,MATCH(MMap!F21&MMap!J21&H21,'Savings from 6P'!$A$11:$A$92,0),MATCH(MMap!K21&G21,'Savings from 6P'!$A$4:$L$4,0))","v":5.0399999999999993E-3},{"$f":"IF(P21<=0,0,VLOOKUP(F21&K21&H21,Costs!$A$13:$B$24,2,FALSE))","v":0.14764698804090692},{"$f":"VLOOKUP($R$9,[2]CHAR!$B$17:$T$54,MATCH(J21,[2]CHAR!$B$16:$T$16,0),FALSE)","v":6.1675003194375045E-3},{"$f":"IFERROR(VLOOKUP($F21&$I21&$K21&$H21&$G21,'Savings from 6P'!$V$11:$X$435,3,FALSE),$AD21)","v":0.30000000000000004},{"$f":"MATCH(J21,[2]!BLDGTYPE,0)","v":12},3.9182634298973458E-2,0.46957192737561176,6.234756715808213E-2,0.92147944946531313,"POST2013",{"$f":"IFERROR(IF(G21=\"gasht\",INDEX('Savings from 6P'!$Z$11:$AF$28,MATCH(J21,'Savings from 6P'!$Z$11:$Z$28,0),MATCH(MMap!F21&MMap!H21&MMap!K21,'Savings from 6P'!$Y$7:$AE$7,0)),\"\"),\"\")","v":""},3.9182634298973458E-2,15,null,1]
["Demand Control Ventilation-DCV Only-MiniMart-ElecHt-Vent-New","Demand Control Ventilation","Demand Control Ventilation-New-MiniMart-DCV Only","Demand Control Ventilation-New-MiniMart","Demand Control Ventilation-New","DCV Only","ElecHt","Vent","MIniMart","MiniMart","New","POST2013",5.8086238738798788E-3,2.9275464324354586E-2,0.85762581964086892,{"$f":"INDEX('Savings from 6P'!$A$11:$L$92,MATCH(MMap!F22&MMap!J22&H22,'Savings from 6P'!$A$11:$A$92,0),MATCH(MMap!K22&G22,'Savings from 6P'!$A$4:$L$4,0))","v":5.0399999999999993E-3},{"$f":"IF(P22<=0,0,VLOOKUP(F22&K22&H22,Costs!$A$13:$B$24,2,FALSE))","v":0.14764698804090692},{"$f":"VLOOKUP($R$9,[2]CHAR!$B$17:$T$54,MATCH(J22,[2]CHAR!$B$16:$T$16,0),FALSE)","v":2.5477723102065148E-3},{"$f":"IFERROR(VLOOKUP($F22&$I22&$K22&$H22&$G22,'Savings from 6P'!$V$11:$X$435,3,FALSE),$AD22)","v":0.7},{"$f":"MATCH(J22,[2]!BLDGTYPE,0)","v":13},9.8940421863423066E-3,0.86606113087441317,1.5743440192688529E-2,0.83868998628257874,"POST2013",{"$f":"IFERROR(IF(G22=\"gasht\",INDEX('Savings from 6P'!$Z$11:$AF$28,MATCH(J22,'Savings from 6P'!$Z$11:$Z$28,0),MATCH(MMap!F22&MMap!H22&MMap!K22,'Savings from 6P'!$Y$7:$AE$7,0)),\"\"),\"\")","v":""},9.8940421863423066E-3,15,null,1]
["Demand Control Ventilation-DCV Only-Restaurant-ElecHt-Vent-New","Demand Control Ventilation","Demand Control Ventilation-New-Restaurant-DCV Only","Demand Control Ventilation-New-Restaurant","Demand Control Ventilation-New","DCV Only","ElecHt","Vent","Restaurant","Restaurant","New","POST2013",2.1035388636027084E-2,0.65462129435316274,3.1058117743793203,{"$f":"INDEX('Savings from 6P'!$A$11:$L$92,MATCH(MMap!F23&MMap!J23&H23,'Savings from 6P'!$A$11:$A$92,0),MATCH(MMap!K23&G23,'Savings from 6P'!$A$4:$L$4,0))","v":3.1119999999999995E-2},{"$f":"IF(P23<=0,0,VLOOKUP(F23&K23&H23,Costs!$A$13:$B$24,2,FALSE))","v":0.14764698804090692},{"$f":"VLOOKUP($R$9,[2]CHAR!$B$17:$T$54,MATCH(J23,[2]CHAR!$B$16:$T$16,0),FALSE)","v":1.1693580853842011E-2},{"$f":"IFERROR(VLOOKUP($F23&$I23&$K23&$H23&$G23,'Savings from 6P'!$V$11:$X$435,3,FALSE),$AD23)","v":0.7},{"$f":"MATCH(J23,[2]!BLDGTYPE,0)","v":14},3.0050555941853869E-2,0.79365284945968273,0.17629659459846331,0.99999997512427186,"POST2013",{"$f":"IFERROR(IF(G23=\"gasht\",INDEX('Savings from 6P'!$Z$11:$AF$28,MATCH(J23,'Savings from 6P'!$Z$11:$Z$28,0),MATCH(MMap!F23&MMap!H23&MMap!K23,'Savings from 6P'!$Y$7:$AE$7,0)),\"\"),\"\")","v":""},3.0050555941853869E-2,15,null,1]
["Demand Control Ventilation-DCV Only-Lodging-ElecHt-Vent-New","Demand Control Ventilation","Demand Control Ventilation-New-Lodging-DCV Only","Demand Control Ventilation-New-Lodging","Demand Control Ventilation-New","DCV Only","ElecHt","Vent","Lodging","Lodging","New","POST2013",0.42194512265575362,2.126603418184998,62.29892647867306,{"$f":"INDEX('Savings from 6P'!$A$11:$L$92,MATCH(MMap!F24&MMap!J24&H24,'Savings from 6P'!$A$11:$A$92,0),MATCH(MMap!K24&G24,'Savings from 6P'!$A$4:$L$4,0))","v":5.0399999999999993E-3},{"$f":"IF(P24<=0,0,VLOOKUP(F24&K24&H24,Costs!$A$13:$B$24,2,FALSE))","v":0.14764698804090692},{"$f":"VLOOKUP($R$9,[2]CHAR!$B$17:$T$54,MATCH(J24,[2]CHAR!$B$16:$T$16,0),FALSE)","v":2.3957473342185561E-2},{"$f":"IFERROR(VLOOKUP($F24&$I24&$K24&$H24&$G24,'Savings from 6P'!$V$11:$X$435,3,FALSE),$AD24)","v":1},{"$f":"MATCH(J24,[2]!BLDGTYPE,0)","v":15},0.44679184687802564,0.24941748529786834,0.30379066782410608,0.94438859080377269,"POST2013",{"$f":"IFERROR(IF(G24=\"gasht\",INDEX('Savings from 6P'!$Z$11:$AF$28,MATCH(J24,'Savings from 6P'!$Z$11:$Z$28,0),MATCH(MMap!F24&MMap!H24&MMap!K24,'Savings from 6P'!$Y$7:$AE$7,0)),\"\"),\"\")","v":""},0.44679184687802564,15,null,1]
["Demand Control Ventilation-DCV Only-Hospital-ElecHt-Vent-New","Demand Control Ventilation","Demand Control Ventilation-New-Hospital-DCV Only","Demand Control Ventilation-New-Hospital","Demand Control Ventilation-New","DCV Only","ElecHt","Vent","Hospital","Hospital","New","POST2013",7.5999999999999998E-2,0.38303999999999999,11.221171091108927,{"$f":"INDEX('Savings from 6P'!$A$11:$L$92,MATCH(MMap!F25&MMap!J25&H25,'Savings from 6P'!$A$11:$A$92,0),MATCH(MMap!K25&G25,'Savings from 6P'!$A$4:$L$4,0))","v":5.0399999999999993E-3},{"$f":"IF(P25<=0,0,VLOOKUP(F25&K25&H25,Costs!$A$13:$B$24,2,FALSE))","v":0.14764698804090692},{"$f":"VLOOKUP($R$9,[2]CHAR!$B$17:$T$54,MATCH(J25,[2]CHAR!$B$16:$T$16,0),FALSE)","v":4.4965056377242296E-2},{"$f":"IFERROR(VLOOKUP($F25&$I25&$K25&$H25&$G25,'Savings from 6P'!$V$11:$X$435,3,FALSE),$AD25)","v":1},{"$f":"MATCH(J25,[2]!BLDGTYPE,0)","v":16},0.08,0.91,0.01,0.95,"POST2013",{"$f":"IFERROR(IF(G25=\"gasht\",INDEX('Savings from 6P'!$Z$11:$AF$28,MATCH(J25,'Savings from 6P'!$Z$11:$Z$28,0),MATCH(MMap!F25&MMap!H25&MMap!K25,'Savings from 6P'!$Y$7:$AE$7,0)),\"\"),\"\")","v":""},0.08,15,null,1]
["Demand Control Ventilation-DCV Only-Residential Care-ElecHt-Vent-New","Demand Control Ventilation","Demand Control Ventilation-New-Residential Care-DCV Only","Demand Control Ventilation-New-Residential Care","Demand Control Ventilation-New","DCV Only","ElecHt","Vent","OtherHealth","Residential Care","New","POST2013",0.28627461530199438,1.4428240611220515,42.267584701908795,{"$f":"INDEX('Savings from 6P'!$A$11:$L$92,MATCH(MMap!F26&MMap!J26&H26,'Savings from 6P'!$A$11:$A$92,0),MATCH(MMap!K26&G26,'Savings from 6P'!$A$4:$L$4,0))","v":5.0399999999999993E-3},{"$f":"IF(P26<=0,0,VLOOKUP(F26&K26&H26,Costs!$A$13:$B$24,2,FALSE))","v":0.14764698804090692},{"$f":"VLOOKUP($R$9,[2]CHAR!$B$17:$T$54,MATCH(J26,[2]CHAR!$B$16:$T$16,0),FALSE)","v":5.827742495837801E-2},{"$f":"IFERROR(VLOOKUP($F26&$I26&$K26&$H26&$G26,'Savings from 6P'!$V$11:$X$435,3,FALSE),$AD26)","v":1},{"$f":"MATCH(J26,[2]!BLDGTYPE,0)","v":17},0.33985691133471541,0.40556621261939335,0.25457687604589124,0.8423386600487599,"POST2013",{"$f":"IFERROR(IF(G26=\"gasht\",INDEX('Savings from 6P'!$Z$11:$AF$28,MATCH(J26,'Savings from 6P'!$Z$11:$Z$28,0),MATCH(MMap!F26&MMap!H26&MMap!K26,'Savings from 6P'!$Y$7:$AE$7,0)),\"\"),\"\")","v":""},0.33985691133471541,15,null,1]
["Demand Control Ventilation-DCV Only-Assembly-ElecHt-Vent-New","Demand Control Ventilation","Demand Control Ventilation-New-Assembly-DCV Only","Demand Control Ventilation-New-Assembly","Demand Control Ventilation-New","DCV Only","ElecHt","Vent","Assembly","Assembly","New","POST2013",9.7014321388393526E-2,0.48895217979750333,14.323872349828839,{"$f":"INDEX('Savings from 6P'!$A$11:$L$92,MATCH(MMap!F27&MMap!J27&H27,'Savings from 6P'!$A$11:$A$92,0),MATCH(MMap!K27&G27,'Savings from 6P'!$A$4:$L$4,0))","v":5.0399999999999993E-3},{"$f":"IF(P27<=0,0,VLOOKUP(F27&K27&H27,Costs!$A$13:$B$24,2,FALSE))","v":0.14764698804090692},{"$f":"VLOOKUP($R$9,[2]CHAR!$B$17:$T$54,MATCH(J27,[2]CHAR!$B$16:$T$16,0),FALSE)","v":9.0984350406775827E-2},{"$f":"IFERROR(VLOOKUP($F27&$I27&$K27&$H27&$G27,'Savings from 6P'!$V$11:$X$435,3,FALSE),$AD27)","v":1},{"$f":"MATCH(J27,[2]!BLDGTYPE,0)","v":18},0.10640191237323121,0.77815390025512432,0.11544418737164447,0.91177234717447209,"POST2013",{"$f":"IFERROR(IF(G27=\"gasht\",INDEX('Savings from 6P'!$Z$11:$AF$28,MATCH(J27,'Savings from 6P'!$Z$11:$Z$28,0),MATCH(MMap!F27&MMap!H27&MMap!K27,'Savings from 6P'!$Y$7:$AE$7,0)),\"\"),\"\")","v":""},0.10640191237323121,15,null,1]
["Demand Control Ventilation-DCV Only-Other-ElecHt-Vent-New","Demand Control Ventilation","Demand Control Ventilation-New-Other-DCV Only","Demand Control Ventilation-New-Other","Demand Control Ventilation-New","DCV Only","ElecHt","Vent","Other","Other","New","POST2013",0.1485896059324581,0.74889161389958869,21.938807770112714,{"$f":"INDEX('Savings from 6P'!$A$11:$L$92,MATCH(MMap!F28&MMap!J28&H28,'Savings from 6P'!$A$11:$A$92,0),MATCH(MMap!K28&G28,'Savings from 6P'!$A$4:$L$4,0))","v":5.0399999999999993E-3},{"$f":"IF(P28<=0,0,VLOOKUP(F28&K28&H28,Costs!$A$13:$B$24,2,FALSE))","v":0.14764698804090692},{"$f":"VLOOKUP($R$9,[2]CHAR!$B$17:$T$54,MATCH(J28,[2]CHAR!$B$16:$T$16,0),FALSE)","v":0.21334717399999265},{"$f":"IFERROR(VLOOKUP($F28&$I28&$K28&$H28&$G28,'Savings from 6P'!$V$11:$X$435,3,FALSE),$AD28)","v":1},{"$f":"MATCH(J28,[2]!BLDGTYPE,0)","v":19},0.16939513747697868,0.7257160432726234,0.104888819250398,0.87717751610580841,"POST2013",{"$f":"IFERROR(IF(G28=\"gasht\",INDEX('Savings from 6P'!$Z$11:$AF$28,MATCH(J28,'Savings from 6P'!$Z$11:$Z$28,0),MATCH(MMap!F28&MMap!H28&MMap!K28,'Savings from 6P'!$Y$7:$AE$7,0)),\"\"),\"\")","v":""},0.16939513747697868,15,null,1]
["Demand Control Ventilation-DCV Only-Large Off-ElecHt-Heat-New","Demand Control Ventilation","Demand Control Ventilation-New-Large Off-DCV Only","Demand Control Ventilation-New-Large Off","Demand Control Ventilation-New","DCV Only","ElecHt","Heat","Large Off","Large Off","New","POST2013",0.19923069217362574,103.25205048834142,0,{"$f":"INDEX('Savings from 6P'!$A$11:$L$92,MATCH(MMap!F29&MMap!J29&H29,'Savings from 6P'!$A$11:$A$92,0),MATCH(MMap!K29&G29,'Savings from 6P'!$A$4:$L$4,0))","v":0.51825373571637867},{"$f":"IF(P29<=0,0,VLOOKUP(F29&K29&H29,Costs!$A$13:$B$24,2,FALSE))","v":0},{"$f":"VLOOKUP($R$9,[2]CHAR!$B$17:$T$54,MATCH(J29,[2]CHAR!$B$16:$T$16,0),FALSE)","v":0.15073291148870363},{"$f":"IFERROR(VLOOKUP($F29&$I29&$K29&$H29&$G29,'Savings from 6P'!$V$11:$X$435,3,FALSE),$AD29)","v":1},{"$f":"MATCH(J29,[2]!BLDGTYPE,0)","v":2},0.20943280302167308,0.54037060186620078,0.25019659511212627,0.95128694884061893,"POST2013",{"$f":"IFERROR(IF(G29=\"gasht\",INDEX('Savings from 6P'!$Z$11:$AF$28,MATCH(J29,'Savings from 6P'!$Z$11:$Z$28,0),MATCH(MMap!F29&MMap!H29&MMap!K29,'Savings from 6P'!$Y$7:$AE$7,0)),\"\"),\"\")","v":""},0.20943280302167308,15,null,1]
["Demand Control Ventilation-DCV Only-Medium Off-ElecHt-Heat-New","Demand Control Ventilation","Demand Control Ventilation-New-Medium Off-DCV Only","Demand Control Ventilation-New-Medium Off","Demand Control Ventilation-New","DCV Only","ElecHt","Heat","Medium Off","Medium Off","New","POST2013",0.21614595956609867,112.01845100513196,0,{"$f":"INDEX('Savings from 6P'!$A$11:$L$92,MATCH(MMap!F30&MMap!J30&H30,'Savings from 6P'!$A$11:$A$92,0),MATCH(MMap!K30&G30,'Savings from 6P'!$A$4:$L$4,0))","v":0.51825373571637867},{"$f":"IF(P30<=0,0,VLOOKUP(F30&K30&H30,Costs!$A$13:$B$24,2,FALSE))","v":0},{"$f":"VLOOKUP($R$9,[2]CHAR!$B$17:$T$54,MATCH(J30,[2]CHAR!$B$16:$T$16,0),FALSE)","v":0.12013270538231059},{"$f":"IFERROR(VLOOKUP($F30&$I30&$K30&$H30&$G30,'Savings from 6P'!$V$11:$X$435,3,FALSE),$AD30)","v":1},{"$f":"MATCH(J30,[2]!BLDGTYPE,0)","v":3},0.22131165109110185,0.51430081857580845,0.26438753033308959,0.97665874571205136,"POST2013",{"$f":"IFERROR(IF(G30=\"gasht\",INDEX('Savings from 6P'!$Z$11:$AF$28,MATCH(J30,'Savings from 6P'!$Z$11:$Z$28,0),MATCH(MMap!F30&MMap!H30&MMap!K30,'Savings from 6P'!$Y$7:$AE$7,0)),\"\"),\"\")","v":""},0.22131165109110185,15,null,1]
["Demand Control Ventilation-DCV Only-Small Off-ElecHt-Heat-New","Demand Control Ventilation","Demand Control Ventilation-New-Small Off-DCV Only","Demand Control Ventilation-New-Small Off","Demand Control Ventilation-New","DCV Only","ElecHt","Heat","Small Off","Small Off","New","POST2013",0.27920826479794775,144.70072627442428,0,{"$f":"INDEX('Savings from 6P'!$A$11:$L$92,MATCH(MMap!F31&MMap!J31&H31,'Savings from 6P'!$A$11:$A$92,0),MATCH(MMap!K31&G31,'Savings from 6P'!$A$4:$L$4,0))","v":0.51825373571637867},{"$f":"IF(P31<=0,0,VLOOKUP(F31&K31&H31,Costs!$A$13:$B$24,2,FALSE))","v":0},{"$f":"VLOOKUP($R$9,[2]CHAR!$B$17:$T$54,MATCH(J31,[2]CHAR!$B$16:$T$16,0),FALSE)","v":3.1538695729415013E-2},{"$f":"IFERROR(VLOOKUP($F31&$I31&$K31&$H31&$G31,'Savings from 6P'!$V$11:$X$435,3,FALSE),$AD31)","v":1},{"$f":"MATCH(J31,[2]!BLDGTYPE,0)","v":4},0.30640942705415353,0.3275419203320854,0.36604865261376096,0.91122609210258287,"POST2013",{"$f":"IFERROR(IF(G31=\"gasht\",INDEX('Savings from 6P'!$Z$11:$AF$28,MATCH(J31,'Savings from 6P'!$Z$11:$Z$28,0),MATCH(MMap!F31&MMap!H31&MMap!K31,'Savings from 6P'!$Y$7:$AE$7,0)),\"\"),\"\")","v":""},0.30640942705415353,15,null,1]
["Demand Control Ventilation-DCV Only-Xlarge Ret-ElecHt-Heat-New","Demand Control Ventilation","Demand Control Ventilation-New-Xlarge Ret-DCV Only","Demand Control Ventilation-New-Xlarge Ret","Demand Control Ventilation-New","DCV Only","ElecHt","Heat","Big Box","Xlarge Ret","New","POST2013",1.5677533845022754E-2,31.566367589509628,0,{"$f":"INDEX('Savings from 6P'!$A$11:$L$92,MATCH(MMap!F32&MMap!J32&H32,'Savings from 6P'!$A$11:$A$92,0),MATCH(MMap!K32&G32,'Savings from 6P'!$A$4:$L$4,0))","v":2.0134778786990917},{"$f":"IF(P32<=0,0,VLOOKUP(F32&K32&H32,Costs!$A$13:$B$24,2,FALSE))","v":0},{"$f":"VLOOKUP($R$9,[2]CHAR!$B$17:$T$54,MATCH(J32,[2]CHAR!$B$16:$T$16,0),FALSE)","v":2.6820893655991742E-2},{"$f":"IFERROR(VLOOKUP($F32&$I32&$K32&$H32&$G32,'Savings from 6P'!$V$11:$X$435,3,FALSE),$AD32)","v":0.30000000000000004},{"$f":"MATCH(J32,[2]!BLDGTYPE,0)","v":5},5.2995881766435368E-2,0.91606730000738101,3.0936818226183656E-2,0.98608503921852686,"POST2013",{"$f":"IFERROR(IF(G32=\"gasht\",INDEX('Savings from 6P'!$Z$11:$AF$28,MATCH(J32,'Savings from 6P'!$Z$11:$Z$28,0),MATCH(MMap!F32&MMap!H32&MMap!K32,'Savings from 6P'!$Y$7:$AE$7,0)),\"\"),\"\")","v":""},5.2995881766435368E-2,15,null,0.30000000000000004]
["Demand Control Ventilation-DCV Only-Large Ret-ElecHt-Heat-New","Demand Control Ventilation","Demand Control Ventilation-New-Large Ret-DCV Only","Demand Control Ventilation-New-Large Ret","Demand Control Ventilation-New","DCV Only","ElecHt","Heat","Small Box","Large Ret","New","POST2013",3.2703682611810213E-3,6.5848141490875998,0,{"$f":"INDEX('Savings from 6P'!$A$11:$L$92,MATCH(MMap!F33&MMap!J33&H33,'Savings from 6P'!$A$11:$A$92,0),MATCH(MMap!K33&G33,'Savings from 6P'!$A$4:$L$4,0))","v":2.0134778786990917},{"$f":"IF(P33<=0,0,VLOOKUP(F33&K33&H33,Costs!$A$13:$B$24,2,FALSE))","v":0},{"$f":"VLOOKUP($R$9,[2]CHAR!$B$17:$T$54,MATCH(J33,[2]CHAR!$B$16:$T$16,0),FALSE)","v":1.0839638408159987E-2},{"$f":"IFERROR(VLOOKUP($F33&$I33&$K33&$H33&$G33,'Savings from 6P'!$V$11:$X$435,3,FALSE),$AD33)","v":0.4},{"$f":"MATCH(J33,[2]!BLDGTYPE,0)","v":6},1.0593107738682607E-2,0.98322307122393326,6.1838210373840949E-3,0.77181511362305244,"POST2013",{"$f":"IFERROR(IF(G33=\"gasht\",INDEX('Savings from 6P'!$Z$11:$AF$28,MATCH(J33,'Savings from 6P'!$Z$11:$Z$28,0),MATCH(MMap!F33&MMap!H33&MMap!K33,'Savings from 6P'!$Y$7:$AE$7,0)),\"\"),\"\")","v":""},1.0593107738682607E-2,15,null,0.4]
["Demand Control Ventilation-DCV Only-Medium Ret-ElecHt-Heat-New","Demand Control Ventilation","Demand Control Ventilation-New-Medium Ret-DCV Only","Demand Control Ventilation-New-Medium Ret","Demand Control Ventilation-New","DCV Only","ElecHt","Heat","High End","Medium Ret","New","POST2013",7.6082678358241076E-2,93.8583384000991,0,{"$f":"INDEX('Savings from 6P'!$A$11:$L$92,MATCH(MMap!F34&MMap!J34&H34,'Savings from 6P'!$A$11:$A$92,0),MATCH(MMap!K34&G34,'Savings from 6P'!$A$4:$L$4,0))","v":1.2336360972751246},{"$f":"IF(P34<=0,0,VLOOKUP(F34&K34&H34,Costs!$A$13:$B$24,2,FALSE))","v":0},{"$f":"VLOOKUP($R$9,[2]CHAR!$B$17:$T$54,MATCH(J34,[2]CHAR!$B$16:$T$16,0),FALSE)","v":4.0894012773033235E-2},{"$f":"IFERROR(VLOOKUP($F34&$I34&$K34&$H34&$G34,'Savings from 6P'!$V$11:$X$435,3,FALSE),$AD34)","v":0.7},{"$f":"MATCH(J34,[2]!BLDGTYPE,0)","v":7},0.12006240959495594,0.80985008893074606,7.0087501474297986E-2,0.90527535536267667,"POST2013",{"$f":"IFERROR(IF(G34=\"gasht\",INDEX('Savings from 6P'!$Z$11:$AF$28,MATCH(J34,'Savings from 6P'!$Z$11:$Z$28,0),MATCH(MMap!F34&MMap!H34&MMap!K34,'Savings from 6P'!$Y$7:$AE$7,0)),\"\"),\"\")","v":""},0.12006240959495594,15,null,0.7]
["Demand Control Ventilation-DCV Only-Small Ret-ElecHt-Heat-New","Demand Control Ventilation","Demand Control Ventilation-New-Small Ret-DCV Only","Demand Control Ventilation-New-Small Ret","Demand Control Ventilation-New","DCV Only","ElecHt","Heat","Anchor","Small Ret","New","POST2013",0.10266955707537515,126.65687169943143,0,{"$f":"INDEX('Savings from 6P'!$A$11:$L$92,MATCH(MMap!F35&MMap!J35&H35,'Savings from 6P'!$A$11:$A$92,0),MATCH(MMap!K35&G35,'Savings from 6P'!$A$4:$L$4,0))","v":1.2336360972751246},{"$f":"IF(P35<=0,0,VLOOKUP(F35&K35&H35,Costs!$A$13:$B$24,2,FALSE))","v":0},{"$f":"VLOOKUP($R$9,[2]CHAR!$B$17:$T$54,MATCH(J35,[2]CHAR!$B$16:$T$16,0),FALSE)","v":1.3016203517984767E-2},{"$f":"IFERROR(VLOOKUP($F35&$I35&$K35&$H35&$G35,'Savings from 6P'!$V$11:$X$435,3,FALSE),$AD35)","v":0.7},{"$f":"MATCH(J35,[2]!BLDGTYPE,0)","v":8},0.2732917310450087,0.56717178566142912,0.15953648329356207,0.53668215741883951,"POST2013",{"$f":"IFERROR(IF(G35=\"gasht\",INDEX('Savings from 6P'!$Z$11:$AF$28,MATCH(J35,'Savings from 6P'!$Z$11:$Z$28,0),MATCH(MMap!F35&MMap!H35&MMap!K35,'Savings from 6P'!$Y$7:$AE$7,0)),\"\"),\"\")","v":""},0.2732917310450087,15,null,0.7]
["Demand Control Ventilation-DCV Only-School K-12-ElecHt-Heat-New","Demand Control Ventilation","Demand Control Ventilation-New-School K-12-DCV Only","Demand Control Ventilation-New-School K-12","Demand Control Ventilation-New","DCV Only","ElecHt","Heat","K-12","School K-12","New","POST2013",5.6109595290231656E-2,0,0,{"$f":"INDEX('Savings from 6P'!$A$11:$L$92,MATCH(MMap!F36&MMap!J36&H36,'Savings from 6P'!$A$11:$A$92,0),MATCH(MMap!K36&G36,'Savings from 6P'!$A$4:$L$4,0))","v":0},{"$f":"IF(P36<=0,0,VLOOKUP(F36&K36&H36,Costs!$A$13:$B$24,2,FALSE))","v":0},{"$f":"VLOOKUP($R$9,[2]CHAR!$B$17:$T$54,MATCH(J36,[2]CHAR!$B$16:$T$16,0),FALSE)","v":3.0886857559635036E-2},{"$f":"IFERROR(VLOOKUP($F36&$I36&$K36&$H36&$G36,'Savings from 6P'!$V$11:$X$435,3,FALSE),$AD36)","v":1},{"$f":"MATCH(J36,[2]!BLDGTYPE,0)","v":9},5.8369343906151915E-2,0.84777782221188291,9.3852833881965178E-2,0.96128535178408803,"POST2013",{"$f":"IFERROR(IF(G36=\"gasht\",INDEX('Savings from 6P'!$Z$11:$AF$28,MATCH(J36,'Savings from 6P'!$Z$11:$Z$28,0),MATCH(MMap!F36&MMap!H36&MMap!K36,'Savings from 6P'!$Y$7:$AE$7,0)),\"\"),\"\")","v":""},5.8369343906151915E-2,15,null,1]
["Demand Control Ventilation-DCV Only-University-ElecHt-Heat-New","Demand Control Ventilation","Demand Control Ventilation-New-University-DCV Only","Demand Control Ventilation-New-University","Demand Control Ventilation-New","DCV Only","ElecHt","Heat","University","University","New","POST2013",7.5000000000000011E-2,0,0,{"$f":"INDEX('Savings from 6P'!$A$11:$L$92,MATCH(MMap!F37&MMap!J37&H37,'Savings from 6P'!$A$11:$A$92,0),MATCH(MMap!K37&G37,'Savings from 6P'!$A$4:$L$4,0))","v":0},{"$f":"IF(P37<=0,0,VLOOKUP(F37&K37&H37,Costs!$A$13:$B$24,2,FALSE))","v":0},{"$f":"VLOOKUP($R$9,[2]CHAR!$B$17:$T$54,MATCH(J37,[2]CHAR!$B$16:$T$16,0),FALSE)","v":2.2325826170102026E-2},{"$f":"IFERROR(VLOOKUP($F37&$I37&$K37&$H37&$G37,'Savings from 6P'!$V$11:$X$435,3,FALSE),$AD37)","v":1},{"$f":"MATCH(J37,[2]!BLDGTYPE,0)","v":10},0.1,0.8,0.1,0.75,"POST2013",{"$f":"IFERROR(IF(G37=\"gasht\",INDEX('Savings from 6P'!$Z$11:$AF$28,MATCH(J37,'Savings from 6P'!$Z$11:$Z$28,0),MATCH(MMap!F37&MMap!H37&MMap!K37,'Savings from 6P'!$Y$7:$AE$7,0)),\"\"),\"\")","v":""},0.1,15,null,1]
["Demand Control Ventilation-DCV Only-Warehouse-ElecHt-Heat-New","Demand Control Ventilation","Demand Control Ventilation-New-Warehouse-DCV Only","Demand Control Ventilation-New-Warehouse","Demand Control Ventilation-New","DCV Only","ElecHt","Heat","Warehouse","Warehouse","New","POST2013",1.1610983337120436E-3,0.60174354898032911,0,{"$f":"INDEX('Savings from 6P'!$A$11:$L$92,MATCH(MMap!F38&MMap!J38&H38,'Savings from 6P'!$A$11:$A$92,0),MATCH(MMap!K38&G38,'Savings from 6P'!$A$4:$L$4,0))","v":0.51825373571637867},{"$f":"IF(P38<=0,0,VLOOKUP(F38&K38&H38,Costs!$A$13:$B$24,2,FALSE))","v":0},{"$f":"VLOOKUP($R$9,[2]CHAR!$B$17:$T$54,MATCH(J38,[2]CHAR!$B$16:$T$16,0),FALSE)","v":0.10087192274660353},{"$f":"IFERROR(VLOOKUP($F38&$I38&$K38&$H38&$G38,'Savings from 6P'!$V$11:$X$435,3,FALSE),$AD38)","v":1},{"$f":"MATCH(J38,[2]!BLDGTYPE,0)","v":11},6.3929137015483993E-3,0.98700382329725422,6.6032630011973147E-3,0.18162271351024481,"POST2013",{"$f":"IFERROR(IF(G38=\"gasht\",INDEX('Savings from 6P'!$Z$11:$AF$28,MATCH(J38,'Savings from 6P'!$Z$11:$Z$28,0),MATCH(MMap!F38&MMap!H38&MMap!K38,'Savings from 6P'!$Y$7:$AE$7,0)),\"\"),\"\")","v":""},6.3929137015483993E-3,15,null,1]
["Demand Control Ventilation-DCV Only-Supermarket-ElecHt-Heat-New","Demand Control Ventilation","Demand Control Ventilation-New-Supermarket-DCV Only","Demand Control Ventilation-New-Supermarket","Demand Control Ventilation-New","DCV Only","ElecHt","Heat","Supermarket","Supermarket","New","POST2013",1.0831797684725629E-2,21.809585024739093,0,{"$f":"INDEX('Savings from 6P'!$A$11:$L$92,MATCH(MMap!F39&MMap!J39&H39,'Savings from 6P'!$A$11:$A$92,0),MATCH(MMap!K39&G39,'Savings from 6P'!$A$4:$L$4,0))","v":2.0134778786990917},{"$f":"IF(P39<=0,0,VLOOKUP(F39&K39&H39,Costs!$A$13:$B$24,2,FALSE))","v":0},{"$f":"VLOOKUP($R$9,[2]CHAR!$B$17:$T$54,MATCH(J39,[2]CHAR!$B$16:$T$16,0),FALSE)","v":6.1675003194375045E-3},{"$f":"IFERROR(VLOOKUP($F39&$I39&$K39&$H39&$G39,'Savings from 6P'!$V$11:$X$435,3,FALSE),$AD39)","v":0.30000000000000004},{"$f":"MATCH(J39,[2]!BLDGTYPE,0)","v":12},3.9182634298973458E-2,0.46957192737561176,6.234756715808213E-2,0.92147944946531313,"POST2013",{"$f":"IFERROR(IF(G39=\"gasht\",INDEX('Savings from 6P'!$Z$11:$AF$28,MATCH(J39,'Savings from 6P'!$Z$11:$Z$28,0),MATCH(MMap!F39&MMap!H39&MMap!K39,'Savings from 6P'!$Y$7:$AE$7,0)),\"\"),\"\")","v":""},3.9182634298973458E-2,15,null,1]
["Demand Control Ventilation-DCV Only-MiniMart-ElecHt-Heat-New","Demand Control Ventilation","Demand Control Ventilation-New-MiniMart-DCV Only","Demand Control Ventilation-New-MiniMart","Demand Control Ventilation-New","DCV Only","ElecHt","Heat","MIniMart","MiniMart","New","POST2013",5.8086238738798788E-3,11.695535675740558,0,{"$f":"INDEX('Savings from 6P'!$A$11:$L$92,MATCH(MMap!F40&MMap!J40&H40,'Savings from 6P'!$A$11:$A$92,0),MATCH(MMap!K40&G40,'Savings from 6P'!$A$4:$L$4,0))","v":2.0134778786990917},{"$f":"IF(P40<=0,0,VLOOKUP(F40&K40&H40,Costs!$A$13:$B$24,2,FALSE))","v":0},{"$f":"VLOOKUP($R$9,[2]CHAR!$B$17:$T$54,MATCH(J40,[2]CHAR!$B$16:$T$16,0),FALSE)","v":2.5477723102065148E-3},{"$f":"IFERROR(VLOOKUP($F40&$I40&$K40&$H40&$G40,'Savings from 6P'!$V$11:$X$435,3,FALSE),$AD40)","v":0.7},{"$f":"MATCH(J40,[2]!BLDGTYPE,0)","v":13},9.8940421863423066E-3,0.86606113087441317,1.5743440192688529E-2,0.83868998628257874,"POST2013",{"$f":"IFERROR(IF(G40=\"gasht\",INDEX('Savings from 6P'!$Z$11:$AF$28,MATCH(J40,'Savings from 6P'!$Z$11:$Z$28,0),MATCH(MMap!F40&MMap!H40&MMap!K40,'Savings from 6P'!$Y$7:$AE$7,0)),\"\"),\"\")","v":""},9.8940421863423066E-3,15,null,1]
["Demand Control Ventilation-DCV Only-Restaurant-ElecHt-Heat-New","Demand Control Ventilation","Demand Control Ventilation-New-Restaurant-DCV Only","Demand Control Ventilation-New-Restaurant","Demand Control Ventilation-New","DCV Only","ElecHt","Heat","Restaurant","Restaurant","New","POST2013",2.1035388636027084E-2,42.354289688478794,0,{"$f":"INDEX('Savings from 6P'!$A$11:$L$92,MATCH(MMap!F41&MMap!J41&H41,'Savings from 6P'!$A$11:$A$92,0),MATCH(MMap!K41&G41,'Savings from 6P'!$A$4:$L$4,0))","v":2.0134778786990917},{"$f":"IF(P41<=0,0,VLOOKUP(F41&K41&H41,Costs!$A$13:$B$24,2,FALSE))","v":0},{"$f":"VLOOKUP($R$9,[2]CHAR!$B$17:$T$54,MATCH(J41,[2]CHAR!$B$16:$T$16,0),FALSE)","v":1.1693580853842011E-2},{"$f":"IFERROR(VLOOKUP($F41&$I41&$K41&$H41&$G41,'Savings from 6P'!$V$11:$X$435,3,FALSE),$AD41)","v":0.7},{"$f":"MATCH(J41,[2]!BLDGTYPE,0)","v":14},3.0050555941853869E-2,0.79365284945968273,0.17629659459846331,0.99999997512427186,"POST2013",{"$f":"IFERROR(IF(G41=\"gasht\",INDEX('Savings from 6P'!$Z$11:$AF$28,MATCH(J41,'Savings from 6P'!$Z$11:$Z$28,0),MATCH(MMap!F41&MMap!H41&MMap!K41,'Savings from 6P'!$Y$7:$AE$7,0)),\"\"),\"\")","v":""},3.0050555941853869E-2,15,null,1]
["Demand Control Ventilation-DCV Only-Lodging-ElecHt-Heat-New","Demand Control Ventilation","Demand Control Ventilation-New-Lodging-DCV Only","Demand Control Ventilation-New-Lodging","Demand Control Ventilation-New","DCV Only","ElecHt","Heat","Lodging","Lodging","New","POST2013",0.42194512265575362,218.67463608364992,0,{"$f":"INDEX('Savings from 6P'!$A$11:$L$92,MATCH(MMap!F42&MMap!J42&H42,'Savings from 6P'!$A$11:$A$92,0),MATCH(MMap!K42&G42,'Savings from 6P'!$A$4:$L$4,0))","v":0.51825373571637867},{"$f":"IF(P42<=0,0,VLOOKUP(F42&K42&H42,Costs!$A$13:$B$24,2,FALSE))","v":0},{"$f":"VLOOKUP($R$9,[2]CHAR!$B$17:$T$54,MATCH(J42,[2]CHAR!$B$16:$T$16,0),FALSE)","v":2.3957473342185561E-2},{"$f":"IFERROR(VLOOKUP($F42&$I42&$K42&$H42&$G42,'Savings from 6P'!$V$11:$X$435,3,FALSE),$AD42)","v":1},{"$f":"MATCH(J42,[2]!BLDGTYPE,0)","v":15},0.44679184687802564,0.24941748529786834,0.30379066782410608,0.94438859080377269,"POST2013",{"$f":"IFERROR(IF(G42=\"gasht\",INDEX('Savings from 6P'!$Z$11:$AF$28,MATCH(J42,'Savings from 6P'!$Z$11:$Z$28,0),MATCH(MMap!F42&MMap!H42&MMap!K42,'Savings from 6P'!$Y$7:$AE$7,0)),\"\"),\"\")","v":""},0.44679184687802564,15,null,1]
["Demand Control Ventilation-DCV Only-Hospital-ElecHt-Heat-New","Demand Control Ventilation","Demand Control Ventilation-New-Hospital-DCV Only","Demand Control Ventilation-New-Hospital","Demand Control Ventilation-New","DCV Only","ElecHt","Heat","Hospital","Hospital","New","POST2013",7.5999999999999998E-2,39.387283914444779,0,{"$f":"INDEX('Savings from 6P'!$A$11:$L$92,MATCH(MMap!F43&MMap!J43&H43,'Savings from 6P'!$A$11:$A$92,0),MATCH(MMap!K43&G43,'Savings from 6P'!$A$4:$L$4,0))","v":0.51825373571637867},{"$f":"IF(P43<=0,0,VLOOKUP(F43&K43&H43,Costs!$A$13:$B$24,2,FALSE))","v":0},{"$f":"VLOOKUP($R$9,[2]CHAR!$B$17:$T$54,MATCH(J43,[2]CHAR!$B$16:$T$16,0),FALSE)","v":4.4965056377242296E-2},{"$f":"IFERROR(VLOOKUP($F43&$I43&$K43&$H43&$G43,'Savings from 6P'!$V$11:$X$435,3,FALSE),$AD43)","v":1},{"$f":"MATCH(J43,[2]!BLDGTYPE,0)","v":16},0.08,0.91,0.01,0.95,"POST2013",{"$f":"IFERROR(IF(G43=\"gasht\",INDEX('Savings from 6P'!$Z$11:$AF$28,MATCH(J43,'Savings from 6P'!$Z$11:$Z$28,0),MATCH(MMap!F43&MMap!H43&MMap!K43,'Savings from 6P'!$Y$7:$AE$7,0)),\"\"),\"\")","v":""},0.08,15,null,1]
["Demand Control Ventilation-DCV Only-Residential Care-ElecHt-Heat-New","Demand Control Ventilation","Demand Control Ventilation-New-Residential Care-DCV Only","Demand Control Ventilation-New-Residential Care","Demand Control Ventilation-New","DCV Only","ElecHt","Heat","OtherHealth","Residential Care","New","POST2013",0.28627461530199438,148.36288882102778,0,{"$f":"INDEX('Savings from 6P'!$A$11:$L$92,MATCH(MMap!F44&MMap!J44&H44,'Savings from 6P'!$A$11:$A$92,0),MATCH(MMap!K44&G44,'Savings from 6P'!$A$4:$L$4,0))","v":0.51825373571637867},{"$f":"IF(P44<=0,0,VLOOKUP(F44&K44&H44,Costs!$A$13:$B$24,2,FALSE))","v":0},{"$f":"VLOOKUP($R$9,[2]CHAR!$B$17:$T$54,MATCH(J44,[2]CHAR!$B$16:$T$16,0),FALSE)","v":5.827742495837801E-2},{"$f":"IFERROR(VLOOKUP($F44&$I44&$K44&$H44&$G44,'Savings from 6P'!$V$11:$X$435,3,FALSE),$AD44)","v":1},{"$f":"MATCH(J44,[2]!BLDGTYPE,0)","v":17},0.33985691133471541,0.40556621261939335,0.25457687604589124,0.8423386600487599,"POST2013",{"$f":"IFERROR(IF(G44=\"gasht\",INDEX('Savings from 6P'!$Z$11:$AF$28,MATCH(J44,'Savings from 6P'!$Z$11:$Z$28,0),MATCH(MMap!F44&MMap!H44&MMap!K44,'Savings from 6P'!$Y$7:$AE$7,0)),\"\"),\"\")","v":""},0.33985691133471541,15,null,1]
["Demand Control Ventilation-DCV Only-Assembly-ElecHt-Heat-New","Demand Control Ventilation","Demand Control Ventilation-New-Assembly-DCV Only","Demand Control Ventilation-New-Assembly","Demand Control Ventilation-New","DCV Only","ElecHt","Heat","Assembly","Assembly","New","POST2013",9.7014321388393526E-2,50.278034477524315,0,{"$f":"INDEX('Savings from 6P'!$A$11:$L$92,MATCH(MMap!F45&MMap!J45&H45,'Savings from 6P'!$A$11:$A$92,0),MATCH(MMap!K45&G45,'Savings from 6P'!$A$4:$L$4,0))","v":0.51825373571637867},{"$f":"IF(P45<=0,0,VLOOKUP(F45&K45&H45,Costs!$A$13:$B$24,2,FALSE))","v":0},{"$f":"VLOOKUP($R$9,[2]CHAR!$B$17:$T$54,MATCH(J45,[2]CHAR!$B$16:$T$16,0),FALSE)","v":9.0984350406775827E-2},{"$f":"IFERROR(VLOOKUP($F45&$I45&$K45&$H45&$G45,'Savings from 6P'!$V$11:$X$435,3,FALSE),$AD45)","v":1},{"$f":"MATCH(J45,[2]!BLDGTYPE,0)","v":18},0.10640191237323121,0.77815390025512432,0.11544418737164447,0.91177234717447209,"POST2013",{"$f":"IFERROR(IF(G45=\"gasht\",INDEX('Savings from 6P'!$Z$11:$AF$28,MATCH(J45,'Savings from 6P'!$Z$11:$Z$28,0),MATCH(MMap!F45&MMap!H45&MMap!K45,'Savings from 6P'!$Y$7:$AE$7,0)),\"\"),\"\")","v":""},0.10640191237323121,15,null,1]
["Demand Control Ventilation-DCV Only-Other-ElecHt-Heat-New","Demand Control Ventilation","Demand Control Ventilation-New-Other-DCV Only","Demand Control Ventilation-New-Other","Demand Control Ventilation-New","DCV Only","ElecHt","Heat","Other","Other","New","POST2013",0.1485896059324581,77.007118363120995,0,{"$f":"INDEX('Savings from 6P'!$A$11:$L$92,MATCH(MMap!F46&MMap!J46&H46,'Savings from 6P'!$A$11:$A$92,0),MATCH(MMap!K46&G46,'Savings from 6P'!$A$4:$L$4,0))","v":0.51825373571637867},{"$f":"IF(P46<=0,0,VLOOKUP(F46&K46&H46,Costs!$A$13:$B$24,2,FALSE))","v":0},{"$f":"VLOOKUP($R$9,[2]CHAR!$B$17:$T$54,MATCH(J46,[2]CHAR!$B$16:$T$16,0),FALSE)","v":0.21334717399999265},{"$f":"IFERROR(VLOOKUP($F46&$I46&$K46&$H46&$G46,'Savings from 6P'!$V$11:$X$435,3,FALSE),$AD46)","v":1},{"$f":"MATCH(J46,[2]!BLDGTYPE,0)","v":19},0.16939513747697868,0.7257160432726234,0.104888819250398,0.87717751610580841,"POST2013",{"$f":"IFERROR(IF(G46=\"gasht\",INDEX('Savings from 6P'!$Z$11:$AF$28,MATCH(J46,'Savings from 6P'!$Z$11:$Z$28,0),MATCH(MMap!F46&MMap!H46&MMap!K46,'Savings from 6P'!$Y$7:$AE$7,0)),\"\"),\"\")","v":""},0.16939513747697868,15,null,1]
["Demand Control Ventilation-DCV Only-Large Off-GasHt-Vent-New","Demand Control Ventilation","Demand Control Ventilation-New-Large Off-DCV Only","Demand Control Ventilation-New-Large Off","Demand Control Ventilation-New","DCV Only","GasHt","Vent","Large Off","Large Off","New","POST2013",0.514047501092467,2.5907994055060333,75.897565246257571,{"$f":"INDEX('Savings from 6P'!$A$11:$L$92,MATCH(MMap!F47&MMap!J47&H47,'Savings from 6P'!$A$11:$A$92,0),MATCH(MMap!K47&G47,'Savings from 6P'!$A$4:$L$4,0))","v":5.0399999999999993E-3},{"$f":"IF(P47<=0,0,VLOOKUP(F47&K47&H47,Costs!$A$13:$B$24,2,FALSE))","v":0.14764698804090692},{"$f":"VLOOKUP($R$9,[2]CHAR!$B$17:$T$54,MATCH(J47,[2]CHAR!$B$16:$T$16,0),FALSE)","v":0.15073291148870363},{"$f":"IFERROR(VLOOKUP($F47&$I47&$K47&$H47&$G47,'Savings from 6P'!$V$11:$X$435,3,FALSE),$AD47)","v":1},{"$f":"MATCH(J47,[2]!BLDGTYPE,0)","v":2},0.20943280302167308,0.54037060186620078,0.25019659511212627,0.95128694884061893,"POST2013",{"$f":"IFERROR(IF(G47=\"gasht\",INDEX('Savings from 6P'!$Z$11:$AF$28,MATCH(J47,'Savings from 6P'!$Z$11:$Z$28,0),MATCH(MMap!F47&MMap!H47&MMap!K47,'Savings from 6P'!$Y$7:$AE$7,0)),\"\"),\"\")","v":2.1790000000000004E-2},0.54037060186620078,15,null,1]
["Demand Control Ventilation-DCV Only-Medium Off-GasHt-Vent-New","Demand Control Ventilation","Demand Control Ventilation-New-Medium Off-DCV Only","Demand Control Ventilation-New-Medium Off","Demand Control Ventilation-New","DCV Only","GasHt","Vent","Medium Off","Medium Off","New","POST2013",0.50229639238893031,2.5315738176402087,74.162549440039086,{"$f":"INDEX('Savings from 6P'!$A$11:$L$92,MATCH(MMap!F48&MMap!J48&H48,'Savings from 6P'!$A$11:$A$92,0),MATCH(MMap!K48&G48,'Savings from 6P'!$A$4:$L$4,0))","v":5.0399999999999993E-3},{"$f":"IF(P48<=0,0,VLOOKUP(F48&K48&H48,Costs!$A$13:$B$24,2,FALSE))","v":0.14764698804090692},{"$f":"VLOOKUP($R$9,[2]CHAR!$B$17:$T$54,MATCH(J48,[2]CHAR!$B$16:$T$16,0),FALSE)","v":0.12013270538231059},{"$f":"IFERROR(VLOOKUP($F48&$I48&$K48&$H48&$G48,'Savings from 6P'!$V$11:$X$435,3,FALSE),$AD48)","v":1},{"$f":"MATCH(J48,[2]!BLDGTYPE,0)","v":3},0.22131165109110185,0.51430081857580845,0.26438753033308959,0.97665874571205136,"POST2013",{"$f":"IFERROR(IF(G48=\"gasht\",INDEX('Savings from 6P'!$Z$11:$AF$28,MATCH(J48,'Savings from 6P'!$Z$11:$Z$28,0),MATCH(MMap!F48&MMap!H48&MMap!K48,'Savings from 6P'!$Y$7:$AE$7,0)),\"\"),\"\")","v":2.1790000000000004E-2},0.51430081857580845,15,null,1]
["Demand Control Ventilation-DCV Only-Small Off-GasHt-Vent-New","Demand Control Ventilation","Demand Control Ventilation-New-Small Off-DCV Only","Demand Control Ventilation-New-Small Off","Demand Control Ventilation-New","DCV Only","GasHt","Vent","Small Off","Small Off","New","POST2013",0.29846474406398171,1.5042623100824677,44.067420497447053,{"$f":"INDEX('Savings from 6P'!$A$11:$L$92,MATCH(MMap!F49&MMap!J49&H49,'Savings from 6P'!$A$11:$A$92,0),MATCH(MMap!K49&G49,'Savings from 6P'!$A$4:$L$4,0))","v":5.0399999999999993E-3},{"$f":"IF(P49<=0,0,VLOOKUP(F49&K49&H49,Costs!$A$13:$B$24,2,FALSE))","v":0.14764698804090692},{"$f":"VLOOKUP($R$9,[2]CHAR!$B$17:$T$54,MATCH(J49,[2]CHAR!$B$16:$T$16,0),FALSE)","v":3.1538695729415013E-2},{"$f":"IFERROR(VLOOKUP($F49&$I49&$K49&$H49&$G49,'Savings from 6P'!$V$11:$X$435,3,FALSE),$AD49)","v":1},{"$f":"MATCH(J49,[2]!BLDGTYPE,0)","v":4},0.30640942705415353,0.3275419203320854,0.36604865261376096,0.91122609210258287,"POST2013",{"$f":"IFERROR(IF(G49=\"gasht\",INDEX('Savings from 6P'!$Z$11:$AF$28,MATCH(J49,'Savings from 6P'!$Z$11:$Z$28,0),MATCH(MMap!F49&MMap!H49&MMap!K49,'Savings from 6P'!$Y$7:$AE$7,0)),\"\"),\"\")","v":2.1790000000000004E-2},0.3275419203320854,15,null,1]
["Demand Control Ventilation-DCV Only-Xlarge Ret-GasHt-Vent-New","Demand Control Ventilation","Demand Control Ventilation-New-Xlarge Ret-DCV Only","Demand Control Ventilation-New-Xlarge Ret","Demand Control Ventilation-New","DCV Only","GasHt","Vent","Big Box","Xlarge Ret","New","POST2013",0.27099607783637653,8.4333979422680372,40.011754663440165,{"$f":"INDEX('Savings from 6P'!$A$11:$L$92,MATCH(MMap!F50&MMap!J50&H50,'Savings from 6P'!$A$11:$A$92,0),MATCH(MMap!K50&G50,'Savings from 6P'!$A$4:$L$4,0))","v":3.1119999999999995E-2},{"$f":"IF(P50<=0,0,VLOOKUP(F50&K50&H50,Costs!$A$13:$B$24,2,FALSE))","v":0.14764698804090692},{"$f":"VLOOKUP($R$9,[2]CHAR!$B$17:$T$54,MATCH(J50,[2]CHAR!$B$16:$T$16,0),FALSE)","v":2.6820893655991742E-2},{"$f":"IFERROR(VLOOKUP($F50&$I50&$K50&$H50&$G50,'Savings from 6P'!$V$11:$X$435,3,FALSE),$AD50)","v":0.30000000000000004},{"$f":"MATCH(J50,[2]!BLDGTYPE,0)","v":5},5.2995881766435368E-2,0.91606730000738101,3.0936818226183656E-2,0.98608503921852686,"POST2013",{"$f":"IFERROR(IF(G50=\"gasht\",INDEX('Savings from 6P'!$Z$11:$AF$28,MATCH(J50,'Savings from 6P'!$Z$11:$Z$28,0),MATCH(MMap!F50&MMap!H50&MMap!K50,'Savings from 6P'!$Y$7:$AE$7,0)),\"\"),\"\")","v":8.5900000000000004E-2},0.91606730000738101,15,null,0.30000000000000004]
["Demand Control Ventilation-DCV Only-Large Ret-GasHt-Vent-New","Demand Control Ventilation","Demand Control Ventilation-New-Large Ret-DCV Only","Demand Control Ventilation-New-Large Ret","Demand Control Ventilation-New","DCV Only","GasHt","Vent","Small Box","Large Ret","New","POST2013",0.30354657057340267,9.4463692762442886,44.817736875309492,{"$f":"INDEX('Savings from 6P'!$A$11:$L$92,MATCH(MMap!F51&MMap!J51&H51,'Savings from 6P'!$A$11:$A$92,0),MATCH(MMap!K51&G51,'Savings from 6P'!$A$4:$L$4,0))","v":3.1119999999999995E-2},{"$f":"IF(P51<=0,0,VLOOKUP(F51&K51&H51,Costs!$A$13:$B$24,2,FALSE))","v":0.14764698804090692},{"$f":"VLOOKUP($R$9,[2]CHAR!$B$17:$T$54,MATCH(J51,[2]CHAR!$B$16:$T$16,0),FALSE)","v":1.0839638408159987E-2},{"$f":"IFERROR(VLOOKUP($F51&$I51&$K51&$H51&$G51,'Savings from 6P'!$V$11:$X$435,3,FALSE),$AD51)","v":0.4},{"$f":"MATCH(J51,[2]!BLDGTYPE,0)","v":6},1.0593107738682607E-2,0.98322307122393326,6.1838210373840949E-3,0.77181511362305244,"POST2013",{"$f":"IFERROR(IF(G51=\"gasht\",INDEX('Savings from 6P'!$Z$11:$AF$28,MATCH(J51,'Savings from 6P'!$Z$11:$Z$28,0),MATCH(MMap!F51&MMap!H51&MMap!K51,'Savings from 6P'!$Y$7:$AE$7,0)),\"\"),\"\")","v":8.5900000000000004E-2},0.98322307122393326,15,null,0.4]
["Demand Control Ventilation-DCV Only-Medium Ret-GasHt-Vent-New","Demand Control Ventilation","Demand Control Ventilation-New-Medium Ret-DCV Only","Demand Control Ventilation-New-Medium Ret","Demand Control Ventilation-New","DCV Only","GasHt","Vent","High End","Medium Ret","New","POST2013",0.51319612893309341,6.9794673534900697,75.771862711224173,{"$f":"INDEX('Savings from 6P'!$A$11:$L$92,MATCH(MMap!F52&MMap!J52&H52,'Savings from 6P'!$A$11:$A$92,0),MATCH(MMap!K52&G52,'Savings from 6P'!$A$4:$L$4,0))","v":1.3599999999999999E-2},{"$f":"IF(P52<=0,0,VLOOKUP(F52&K52&H52,Costs!$A$13:$B$24,2,FALSE))","v":0.14764698804090692},{"$f":"VLOOKUP($R$9,[2]CHAR!$B$17:$T$54,MATCH(J52,[2]CHAR!$B$16:$T$16,0),FALSE)","v":4.0894012773033235E-2},{"$f":"IFERROR(VLOOKUP($F52&$I52&$K52&$H52&$G52,'Savings from 6P'!$V$11:$X$435,3,FALSE),$AD52)","v":0.7},{"$f":"MATCH(J52,[2]!BLDGTYPE,0)","v":7},0.12006240959495594,0.80985008893074606,7.0087501474297986E-2,0.90527535536267667,"POST2013",{"$f":"IFERROR(IF(G52=\"gasht\",INDEX('Savings from 6P'!$Z$11:$AF$28,MATCH(J52,'Savings from 6P'!$Z$11:$Z$28,0),MATCH(MMap!F52&MMap!H52&MMap!K52,'Savings from 6P'!$Y$7:$AE$7,0)),\"\"),\"\")","v":5.2629999999999996E-2},0.80985008893074606,15,null,0.7]
["Demand Control Ventilation-DCV Only-Small Ret-GasHt-Vent-New","Demand Control Ventilation","Demand Control Ventilation-New-Small Ret-DCV Only","Demand Control Ventilation-New-Small Ret","Demand Control Ventilation-New","DCV Only","GasHt","Vent","Anchor","Small Ret","New","POST2013",0.21307368428910997,2.8978021063318957,31.459687716066199,{"$f":"INDEX('Savings from 6P'!$A$11:$L$92,MATCH(MMap!F53&MMap!J53&H53,'Savings from 6P'!$A$11:$A$92,0),MATCH(MMap!K53&G53,'Savings from 6P'!$A$4:$L$4,0))","v":1.3599999999999999E-2},{"$f":"IF(P53<=0,0,VLOOKUP(F53&K53&H53,Costs!$A$13:$B$24,2,FALSE))","v":0.14764698804090692},{"$f":"VLOOKUP($R$9,[2]CHAR!$B$17:$T$54,MATCH(J53,[2]CHAR!$B$16:$T$16,0),FALSE)","v":1.3016203517984767E-2},{"$f":"IFERROR(VLOOKUP($F53&$I53&$K53&$H53&$G53,'Savings from 6P'!$V$11:$X$435,3,FALSE),$AD53)","v":0.7},{"$f":"MATCH(J53,[2]!BLDGTYPE,0)","v":8},0.2732917310450087,0.56717178566142912,0.15953648329356207,0.53668215741883951,"POST2013",{"$f":"IFERROR(IF(G53=\"gasht\",INDEX('Savings from 6P'!$Z$11:$AF$28,MATCH(J53,'Savings from 6P'!$Z$11:$Z$28,0),MATCH(MMap!F53&MMap!H53&MMap!K53,'Savings from 6P'!$Y$7:$AE$7,0)),\"\"),\"\")","v":5.2629999999999996E-2},0.56717178566142912,15,null,0.7]
["Demand Control Ventilation-DCV Only-School K-12-GasHt-Vent-New","Demand Control Ventilation","Demand Control Ventilation-New-School K-12-DCV Only","Demand Control Ventilation-New-School K-12","Demand Control Ventilation-New","DCV Only","GasHt","Vent","K-12","School K-12","New","POST2013",0.81495640205969788,0,0,{"$f":"INDEX('Savings from 6P'!$A$11:$L$92,MATCH(MMap!F54&MMap!J54&H54,'Savings from 6P'!$A$11:$A$92,0),MATCH(MMap!K54&G54,'Savings from 6P'!$A$4:$L$4,0))","v":0},{"$f":"IF(P54<=0,0,VLOOKUP(F54&K54&H54,Costs!$A$13:$B$24,2,FALSE))","v":0},{"$f":"VLOOKUP($R$9,[2]CHAR!$B$17:$T$54,MATCH(J54,[2]CHAR!$B$16:$T$16,0),FALSE)","v":3.0886857559635036E-2},{"$f":"IFERROR(VLOOKUP($F54&$I54&$K54&$H54&$G54,'Savings from 6P'!$V$11:$X$435,3,FALSE),$AD54)","v":1},{"$f":"MATCH(J54,[2]!BLDGTYPE,0)","v":9},5.8369343906151915E-2,0.84777782221188291,9.3852833881965178E-2,0.96128535178408803,"POST2013",{"$f":"IFERROR(IF(G54=\"gasht\",INDEX('Savings from 6P'!$Z$11:$AF$28,MATCH(J54,'Savings from 6P'!$Z$11:$Z$28,0),MATCH(MMap!F54&MMap!H54&MMap!K54,'Savings from 6P'!$Y$7:$AE$7,0)),\"\"),\"\")","v":0},0.84777782221188291,15,null,1]
["Demand Control Ventilation-DCV Only-University-GasHt-Vent-New","Demand Control Ventilation","Demand Control Ventilation-New-University-DCV Only","Demand Control Ventilation-New-University","Demand Control Ventilation-New","DCV Only","GasHt","Vent","University","University","New","POST2013",0.60000000000000009,0,0,{"$f":"INDEX('Savings from 6P'!$A$11:$L$92,MATCH(MMap!F55&MMap!J55&H55,'Savings from 6P'!$A$11:$A$92,0),MATCH(MMap!K55&G55,'Savings from 6P'!$A$4:$L$4,0))","v":0},{"$f":"IF(P55<=0,0,VLOOKUP(F55&K55&H55,Costs!$A$13:$B$24,2,FALSE))","v":0},{"$f":"VLOOKUP($R$9,[2]CHAR!$B$17:$T$54,MATCH(J55,[2]CHAR!$B$16:$T$16,0),FALSE)","v":2.2325826170102026E-2},{"$f":"IFERROR(VLOOKUP($F55&$I55&$K55&$H55&$G55,'Savings from 6P'!$V$11:$X$435,3,FALSE),$AD55)","v":1},{"$f":"MATCH(J55,[2]!BLDGTYPE,0)","v":10},0.1,0.8,0.1,0.75,"POST2013",{"$f":"IFERROR(IF(G55=\"gasht\",INDEX('Savings from 6P'!$Z$11:$AF$28,MATCH(J55,'Savings from 6P'!$Z$11:$Z$28,0),MATCH(MMap!F55&MMap!H55&MMap!K55,'Savings from 6P'!$Y$7:$AE$7,0)),\"\"),\"\")","v":0},0.8,15,null,1]
["Demand Control Ventilation-DCV Only-Warehouse-GasHt-Vent-New","Demand Control Ventilation","Demand Control Ventilation-New-Warehouse-DCV Only","Demand Control Ventilation-New-Warehouse","Demand Control Ventilation-New","DCV Only","GasHt","Vent","Warehouse","Warehouse","New","POST2013",0.17926231263223349,0.90348205566645678,26.467540529396697,{"$f":"INDEX('Savings from 6P'!$A$11:$L$92,MATCH(MMap!F56&MMap!J56&H56,'Savings from 6P'!$A$11:$A$92,0),MATCH(MMap!K56&G56,'Savings from 6P'!$A$4:$L$4,0))","v":5.0399999999999993E-3},{"$f":"IF(P56<=0,0,VLOOKUP(F56&K56&H56,Costs!$A$13:$B$24,2,FALSE))","v":0.14764698804090692},{"$f":"VLOOKUP($R$9,[2]CHAR!$B$17:$T$54,MATCH(J56,[2]CHAR!$B$16:$T$16,0),FALSE)","v":0.10087192274660353},{"$f":"IFERROR(VLOOKUP($F56&$I56&$K56&$H56&$G56,'Savings from 6P'!$V$11:$X$435,3,FALSE),$AD56)","v":1},{"$f":"MATCH(J56,[2]!BLDGTYPE,0)","v":11},6.3929137015483993E-3,0.98700382329725422,6.6032630011973147E-3,0.18162271351024481,"POST2013",{"$f":"IFERROR(IF(G56=\"gasht\",INDEX('Savings from 6P'!$Z$11:$AF$28,MATCH(J56,'Savings from 6P'!$Z$11:$Z$28,0),MATCH(MMap!F56&MMap!H56&MMap!K56,'Savings from 6P'!$Y$7:$AE$7,0)),\"\"),\"\")","v":2.1790000000000004E-2},0.98700382329725422,15,null,1]
["Demand Control Ventilation-DCV Only-Supermarket-GasHt-Vent-New","Demand Control Ventilation","Demand Control Ventilation-New-Supermarket-DCV Only","Demand Control Ventilation-New-Supermarket","Demand Control Ventilation-New","DCV Only","GasHt","Vent","Supermarket","Supermarket","New","POST2013",0.12981026433673346,0.6542437322571365,19.16609454611265,{"$f":"INDEX('Savings from 6P'!$A$11:$L$92,MATCH(MMap!F57&MMap!J57&H57,'Savings from 6P'!$A$11:$A$92,0),MATCH(MMap!K57&G57,'Savings from 6P'!$A$4:$L$4,0))","v":5.0399999999999993E-3},{"$f":"IF(P57<=0,0,VLOOKUP(F57&K57&H57,Costs!$A$13:$B$24,2,FALSE))","v":0.14764698804090692},{"$f":"VLOOKUP($R$9,[2]CHAR!$B$17:$T$54,MATCH(J57,[2]CHAR!$B$16:$T$16,0),FALSE)","v":6.1675003194375045E-3},{"$f":"IFERROR(VLOOKUP($F57&$I57&$K57&$H57&$G57,'Savings from 6P'!$V$11:$X$435,3,FALSE),$AD57)","v":0.30000000000000004},{"$f":"MATCH(J57,[2]!BLDGTYPE,0)","v":12},3.9182634298973458E-2,0.46957192737561176,6.234756715808213E-2,0.92147944946531313,"POST2013",{"$f":"IFERROR(IF(G57=\"gasht\",INDEX('Savings from 6P'!$Z$11:$AF$28,MATCH(J57,'Savings from 6P'!$Z$11:$Z$28,0),MATCH(MMap!F57&MMap!H57&MMap!K57,'Savings from 6P'!$Y$7:$AE$7,0)),\"\"),\"\")","v":8.5900000000000004E-2},0.46957192737561176,15,null,1]
["Demand Control Ventilation-DCV Only-MiniMart-GasHt-Vent-New","Demand Control Ventilation","Demand Control Ventilation-New-MiniMart-DCV Only","Demand Control Ventilation-New-MiniMart","Demand Control Ventilation-New","DCV Only","GasHt","Vent","MIniMart","MiniMart","New","POST2013",0.50844975858105534,2.5625867832485185,75.071075424619096,{"$f":"INDEX('Savings from 6P'!$A$11:$L$92,MATCH(MMap!F58&MMap!J58&H58,'Savings from 6P'!$A$11:$A$92,0),MATCH(MMap!K58&G58,'Savings from 6P'!$A$4:$L$4,0))","v":5.0399999999999993E-3},{"$f":"IF(P58<=0,0,VLOOKUP(F58&K58&H58,Costs!$A$13:$B$24,2,FALSE))","v":0.14764698804090692},{"$f":"VLOOKUP($R$9,[2]CHAR!$B$17:$T$54,MATCH(J58,[2]CHAR!$B$16:$T$16,0),FALSE)","v":2.5477723102065148E-3},{"$f":"IFERROR(VLOOKUP($F58&$I58&$K58&$H58&$G58,'Savings from 6P'!$V$11:$X$435,3,FALSE),$AD58)","v":0.7},{"$f":"MATCH(J58,[2]!BLDGTYPE,0)","v":13},9.8940421863423066E-3,0.86606113087441317,1.5743440192688529E-2,0.83868998628257874,"POST2013",{"$f":"IFERROR(IF(G58=\"gasht\",INDEX('Savings from 6P'!$Z$11:$AF$28,MATCH(J58,'Savings from 6P'!$Z$11:$Z$28,0),MATCH(MMap!F58&MMap!H58&MMap!K58,'Savings from 6P'!$Y$7:$AE$7,0)),\"\"),\"\")","v":8.5900000000000004E-2},0.86606113087441317,15,null,1]
["Demand Control Ventilation-DCV Only-Restaurant-GasHt-Vent-New","Demand Control Ventilation","Demand Control Ventilation-New-Restaurant-DCV Only","Demand Control Ventilation-New-Restaurant","Demand Control Ventilation-New","DCV Only","GasHt","Vent","Restaurant","Restaurant","New","POST2013",0.55555698080189309,17.288933242554908,82.026314900499472,{"$f":"INDEX('Savings from 6P'!$A$11:$L$92,MATCH(MMap!F59&MMap!J59&H59,'Savings from 6P'!$A$11:$A$92,0),MATCH(MMap!K59&G59,'Savings from 6P'!$A$4:$L$4,0))","v":3.1119999999999995E-2},{"$f":"IF(P59<=0,0,VLOOKUP(F59&K59&H59,Costs!$A$13:$B$24,2,FALSE))","v":0.14764698804090692},{"$f":"VLOOKUP($R$9,[2]CHAR!$B$17:$T$54,MATCH(J59,[2]CHAR!$B$16:$T$16,0),FALSE)","v":1.1693580853842011E-2},{"$f":"IFERROR(VLOOKUP($F59&$I59&$K59&$H59&$G59,'Savings from 6P'!$V$11:$X$435,3,FALSE),$AD59)","v":0.7},{"$f":"MATCH(J59,[2]!BLDGTYPE,0)","v":14},3.0050555941853869E-2,0.79365284945968273,0.17629659459846331,0.99999997512427186,"POST2013",{"$f":"IFERROR(IF(G59=\"gasht\",INDEX('Savings from 6P'!$Z$11:$AF$28,MATCH(J59,'Savings from 6P'!$Z$11:$Z$28,0),MATCH(MMap!F59&MMap!H59&MMap!K59,'Savings from 6P'!$Y$7:$AE$7,0)),\"\"),\"\")","v":8.5900000000000004E-2},0.79365284945968273,15,null,1]
["Demand Control Ventilation-DCV Only-Lodging-GasHt-Vent-New","Demand Control Ventilation","Demand Control Ventilation-New-Lodging-DCV Only","Demand Control Ventilation-New-Lodging","Demand Control Ventilation-New","DCV Only","GasHt","Vent","Lodging","Lodging","New","POST2013",0.23554702746227457,1.1871570184098639,34.777809146793629,{"$f":"INDEX('Savings from 6P'!$A$11:$L$92,MATCH(MMap!F60&MMap!J60&H60,'Savings from 6P'!$A$11:$A$92,0),MATCH(MMap!K60&G60,'Savings from 6P'!$A$4:$L$4,0))","v":5.0399999999999993E-3},{"$f":"IF(P60<=0,0,VLOOKUP(F60&K60&H60,Costs!$A$13:$B$24,2,FALSE))","v":0.14764698804090692},{"$f":"VLOOKUP($R$9,[2]CHAR!$B$17:$T$54,MATCH(J60,[2]CHAR!$B$16:$T$16,0),FALSE)","v":2.3957473342185561E-2},{"$f":"IFERROR(VLOOKUP($F60&$I60&$K60&$H60&$G60,'Savings from 6P'!$V$11:$X$435,3,FALSE),$AD60)","v":1},{"$f":"MATCH(J60,[2]!BLDGTYPE,0)","v":15},0.44679184687802564,0.24941748529786834,0.30379066782410608,0.94438859080377269,"POST2013",{"$f":"IFERROR(IF(G60=\"gasht\",INDEX('Savings from 6P'!$Z$11:$AF$28,MATCH(J60,'Savings from 6P'!$Z$11:$Z$28,0),MATCH(MMap!F60&MMap!H60&MMap!K60,'Savings from 6P'!$Y$7:$AE$7,0)),\"\"),\"\")","v":2.1790000000000004E-2},0.24941748529786834,15,null,1]
["Demand Control Ventilation-DCV Only-Hospital-GasHt-Vent-New","Demand Control Ventilation","Demand Control Ventilation-New-Hospital-DCV Only","Demand Control Ventilation-New-Hospital","Demand Control Ventilation-New","DCV Only","GasHt","Vent","Hospital","Hospital","New","POST2013",0.86449999999999994,4.357079999999999,127.64082116136402,{"$f":"INDEX('Savings from 6P'!$A$11:$L$92,MATCH(MMap!F61&MMap!J61&H61,'Savings from 6P'!$A$11:$A$92,0),MATCH(MMap!K61&G61,'Savings from 6P'!$A$4:$L$4,0))","v":5.0399999999999993E-3},{"$f":"IF(P61<=0,0,VLOOKUP(F61&K61&H61,Costs!$A$13:$B$24,2,FALSE))","v":0.14764698804090692},{"$f":"VLOOKUP($R$9,[2]CHAR!$B$17:$T$54,MATCH(J61,[2]CHAR!$B$16:$T$16,0),FALSE)","v":4.4965056377242296E-2},{"$f":"IFERROR(VLOOKUP($F61&$I61&$K61&$H61&$G61,'Savings from 6P'!$V$11:$X$435,3,FALSE),$AD61)","v":1},{"$f":"MATCH(J61,[2]!BLDGTYPE,0)","v":16},0.08,0.91,0.01,0.95,"POST2013",{"$f":"IFERROR(IF(G61=\"gasht\",INDEX('Savings from 6P'!$Z$11:$AF$28,MATCH(J61,'Savings from 6P'!$Z$11:$Z$28,0),MATCH(MMap!F61&MMap!H61&MMap!K61,'Savings from 6P'!$Y$7:$AE$7,0)),\"\"),\"\")","v":2.1790000000000004E-2},0.91,15,null,1]
["Demand Control Ventilation-DCV Only-Residential Care-GasHt-Vent-New","Demand Control Ventilation","Demand Control Ventilation-New-Residential Care-DCV Only","Demand Control Ventilation-New-Residential Care","Demand Control Ventilation-New","DCV Only","GasHt","Vent","OtherHealth","Residential Care","New","POST2013",0.34162410009887023,1.7217854644983057,50.439769421783488,{"$f":"INDEX('Savings from 6P'!$A$11:$L$92,MATCH(MMap!F62&MMap!J62&H62,'Savings from 6P'!$A$11:$A$92,0),MATCH(MMap!K62&G62,'Savings from 6P'!$A$4:$L$4,0))","v":5.0399999999999993E-3},{"$f":"IF(P62<=0,0,VLOOKUP(F62&K62&H62,Costs!$A$13:$B$24,2,FALSE))","v":0.14764698804090692},{"$f":"VLOOKUP($R$9,[2]CHAR!$B$17:$T$54,MATCH(J62,[2]CHAR!$B$16:$T$16,0),FALSE)","v":5.827742495837801E-2},{"$f":"IFERROR(VLOOKUP($F62&$I62&$K62&$H62&$G62,'Savings from 6P'!$V$11:$X$435,3,FALSE),$AD62)","v":1},{"$f":"MATCH(J62,[2]!BLDGTYPE,0)","v":17},0.33985691133471541,0.40556621261939335,0.25457687604589124,0.8423386600487599,"POST2013",{"$f":"IFERROR(IF(G62=\"gasht\",INDEX('Savings from 6P'!$Z$11:$AF$28,MATCH(J62,'Savings from 6P'!$Z$11:$Z$28,0),MATCH(MMap!F62&MMap!H62&MMap!K62,'Savings from 6P'!$Y$7:$AE$7,0)),\"\"),\"\")","v":2.1790000000000004E-2},0.40556621261939335,15,null,1]
["Demand Control Ventilation-DCV Only-Assembly-GasHt-Vent-New","Demand Control Ventilation","Demand Control Ventilation-New-Assembly-DCV Only","Demand Control Ventilation-New-Assembly","Demand Control Ventilation-New","DCV Only","GasHt","Vent","Assembly","Assembly","New","POST2013",0.70949920809858469,3.5758760088168664,104.75542109316467,{"$f":"INDEX('Savings from 6P'!$A$11:$L$92,MATCH(MMap!F63&MMap!J63&H63,'Savings from 6P'!$A$11:$A$92,0),MATCH(MMap!K63&G63,'Savings from 6P'!$A$4:$L$4,0))","v":5.0399999999999993E-3},{"$f":"IF(P63<=0,0,VLOOKUP(F63&K63&H63,Costs!$A$13:$B$24,2,FALSE))","v":0.14764698804090692},{"$f":"VLOOKUP($R$9,[2]CHAR!$B$17:$T$54,MATCH(J63,[2]CHAR!$B$16:$T$16,0),FALSE)","v":9.0984350406775827E-2},{"$f":"IFERROR(VLOOKUP($F63&$I63&$K63&$H63&$G63,'Savings from 6P'!$V$11:$X$435,3,FALSE),$AD63)","v":1},{"$f":"MATCH(J63,[2]!BLDGTYPE,0)","v":18},0.10640191237323121,0.77815390025512432,0.11544418737164447,0.91177234717447209,"POST2013",{"$f":"IFERROR(IF(G63=\"gasht\",INDEX('Savings from 6P'!$Z$11:$AF$28,MATCH(J63,'Savings from 6P'!$Z$11:$Z$28,0),MATCH(MMap!F63&MMap!H63&MMap!K63,'Savings from 6P'!$Y$7:$AE$7,0)),\"\"),\"\")","v":2.1790000000000004E-2},0.77815390025512432,15,null,1]
["Demand Control Ventilation-DCV Only-Other-GasHt-Vent-New","Demand Control Ventilation","Demand Control Ventilation-New-Other-DCV Only","Demand Control Ventilation-New-Other","Demand Control Ventilation-New","DCV Only","GasHt","Vent","Other","Other","New","POST2013",0.63658179623601518,3.2083722530295162,93.98938485591799,{"$f":"INDEX('Savings from 6P'!$A$11:$L$92,MATCH(MMap!F64&MMap!J64&H64,'Savings from 6P'!$A$11:$A$92,0),MATCH(MMap!K64&G64,'Savings from 6P'!$A$4:$L$4,0))","v":5.0399999999999993E-3},{"$f":"IF(P64<=0,0,VLOOKUP(F64&K64&H64,Costs!$A$13:$B$24,2,FALSE))","v":0.14764698804090692},{"$f":"VLOOKUP($R$9,[2]CHAR!$B$17:$T$54,MATCH(J64,[2]CHAR!$B$16:$T$16,0),FALSE)","v":0.21334717399999265},{"$f":"IFERROR(VLOOKUP($F64&$I64&$K64&$H64&$G64,'Savings from 6P'!$V$11:$X$435,3,FALSE),$AD64)","v":1},{"$f":"MATCH(J64,[2]!BLDGTYPE,0)","v":19},0.16939513747697868,0.7257160432726234,0.104888819250398,0.87717751610580841,"POST2013",{"$f":"IFERROR(IF(G64=\"gasht\",INDEX('Savings from 6P'!$Z$11:$AF$28,MATCH(J64,'Savings from 6P'!$Z$11:$Z$28,0),MATCH(MMap!F64&MMap!H64&MMap!K64,'Savings from 6P'!$Y$7:$AE$7,0)),\"\"),\"\")","v":2.1790000000000004E-2},0.7257160432726234,15,null,1]
["Demand Control Ventilation-DCV Only-Large Off-HtPmpHt-Vent-New","Demand Control Ventilation","Demand Control Ventilation-New-Large Off-DCV Only","Demand Control Ventilation-New-Large Off","Demand Control Ventilation-New","DCV Only","HtPmpHt","Vent","Large Off","Large Off","New","POST2013",0.2380087555745263,1.1995641280956124,35.141275887943223,{"$f":"INDEX('Savings from 6P'!$A$11:$L$92,MATCH(MMap!F65&MMap!J65&H65,'Savings from 6P'!$A$11:$A$92,0),MATCH(MMap!K65&G65,'Savings from 6P'!$A$4:$L$4,0))","v":5.0399999999999993E-3},{"$f":"IF(P65<=0,0,VLOOKUP(F65&K65&H65,Costs!$A$13:$B$24,2,FALSE))","v":0.14764698804090692},{"$f":"VLOOKUP($R$9,[2]CHAR!$B$17:$T$54,MATCH(J65,[2]CHAR!$B$16:$T$16,0),FALSE)","v":0.15073291148870363},{"$f":"IFERROR(VLOOKUP($F65&$I65&$K65&$H65&$G65,'Savings from 6P'!$V$11:$X$435,3,FALSE),$AD65)","v":1},{"$f":"MATCH(J65,[2]!BLDGTYPE,0)","v":2},0.20943280302167308,0.54037060186620078,0.25019659511212627,0.95128694884061893,"POST2013",{"$f":"IFERROR(IF(G65=\"gasht\",INDEX('Savings from 6P'!$Z$11:$AF$28,MATCH(J65,'Savings from 6P'!$Z$11:$Z$28,0),MATCH(MMap!F65&MMap!H65&MMap!K65,'Savings from 6P'!$Y$7:$AE$7,0)),\"\"),\"\")","v":""},0.25019659511212627,15,null,1]
["Demand Control Ventilation-DCV Only-Medium Off-HtPmpHt-Vent-New","Demand Control Ventilation","Demand Control Ventilation-New-Medium Off-DCV Only","Demand Control Ventilation-New-Medium Off","Demand Control Ventilation-New","DCV Only","HtPmpHt","Vent","Medium Off","Medium Off","New","POST2013",0.25821639375702221,1.3014106245353918,38.124872801009175,{"$f":"INDEX('Savings from 6P'!$A$11:$L$92,MATCH(MMap!F66&MMap!J66&H66,'Savings from 6P'!$A$11:$A$92,0),MATCH(MMap!K66&G66,'Savings from 6P'!$A$4:$L$4,0))","v":5.0399999999999993E-3},{"$f":"IF(P66<=0,0,VLOOKUP(F66&K66&H66,Costs!$A$13:$B$24,2,FALSE))","v":0.14764698804090692},{"$f":"VLOOKUP($R$9,[2]CHAR!$B$17:$T$54,MATCH(J66,[2]CHAR!$B$16:$T$16,0),FALSE)","v":0.12013270538231059},{"$f":"IFERROR(VLOOKUP($F66&$I66&$K66&$H66&$G66,'Savings from 6P'!$V$11:$X$435,3,FALSE),$AD66)","v":1},{"$f":"MATCH(J66,[2]!BLDGTYPE,0)","v":3},0.22131165109110185,0.51430081857580845,0.26438753033308959,0.97665874571205136,"POST2013",{"$f":"IFERROR(IF(G66=\"gasht\",INDEX('Savings from 6P'!$Z$11:$AF$28,MATCH(J66,'Savings from 6P'!$Z$11:$Z$28,0),MATCH(MMap!F66&MMap!H66&MMap!K66,'Savings from 6P'!$Y$7:$AE$7,0)),\"\"),\"\")","v":""},0.26438753033308959,15,null,1]
["Demand Control Ventilation-DCV Only-Small Off-HtPmpHt-Vent-New","Demand Control Ventilation","Demand Control Ventilation-New-Small Off-DCV Only","Demand Control Ventilation-New-Small Off","Demand Control Ventilation-New","DCV Only","HtPmpHt","Vent","Small Off","Small Off","New","POST2013",0.3335530832406533,1.6811075395328923,49.248108092240365,{"$f":"INDEX('Savings from 6P'!$A$11:$L$92,MATCH(MMap!F67&MMap!J67&H67,'Savings from 6P'!$A$11:$A$92,0),MATCH(MMap!K67&G67,'Savings from 6P'!$A$4:$L$4,0))","v":5.0399999999999993E-3},{"$f":"IF(P67<=0,0,VLOOKUP(F67&K67&H67,Costs!$A$13:$B$24,2,FALSE))","v":0.14764698804090692},{"$f":"VLOOKUP($R$9,[2]CHAR!$B$17:$T$54,MATCH(J67,[2]CHAR!$B$16:$T$16,0),FALSE)","v":3.1538695729415013E-2},{"$f":"IFERROR(VLOOKUP($F67&$I67&$K67&$H67&$G67,'Savings from 6P'!$V$11:$X$435,3,FALSE),$AD67)","v":1},{"$f":"MATCH(J67,[2]!BLDGTYPE,0)","v":4},0.30640942705415353,0.3275419203320854,0.36604865261376096,0.91122609210258287,"POST2013",{"$f":"IFERROR(IF(G67=\"gasht\",INDEX('Savings from 6P'!$Z$11:$AF$28,MATCH(J67,'Savings from 6P'!$Z$11:$Z$28,0),MATCH(MMap!F67&MMap!H67&MMap!K67,'Savings from 6P'!$Y$7:$AE$7,0)),\"\"),\"\")","v":""},0.36604865261376096,15,null,1]
["Demand Control Ventilation-DCV Only-Xlarge Ret-HtPmpHt-Vent-New","Demand Control Ventilation","Demand Control Ventilation-New-Xlarge Ret-DCV Only","Demand Control Ventilation-New-Xlarge Ret","Demand Control Ventilation-New","DCV Only","HtPmpHt","Vent","Big Box","Xlarge Ret","New","POST2013",9.151900084158825E-3,0.28480713061902257,1.351250482277373,{"$f":"INDEX('Savings from 6P'!$A$11:$L$92,MATCH(MMap!F68&MMap!J68&H68,'Savings from 6P'!$A$11:$A$92,0),MATCH(MMap!K68&G68,'Savings from 6P'!$A$4:$L$4,0))","v":3.1119999999999995E-2},{"$f":"IF(P68<=0,0,VLOOKUP(F68&K68&H68,Costs!$A$13:$B$24,2,FALSE))","v":0.14764698804090692},{"$f":"VLOOKUP($R$9,[2]CHAR!$B$17:$T$54,MATCH(J68,[2]CHAR!$B$16:$T$16,0),FALSE)","v":2.6820893655991742E-2},{"$f":"IFERROR(VLOOKUP($F68&$I68&$K68&$H68&$G68,'Savings from 6P'!$V$11:$X$435,3,FALSE),$AD68)","v":0.30000000000000004},{"$f":"MATCH(J68,[2]!BLDGTYPE,0)","v":5},5.2995881766435368E-2,0.91606730000738101,3.0936818226183656E-2,0.98608503921852686,"POST2013",{"$f":"IFERROR(IF(G68=\"gasht\",INDEX('Savings from 6P'!$Z$11:$AF$28,MATCH(J68,'Savings from 6P'!$Z$11:$Z$28,0),MATCH(MMap!F68&MMap!H68&MMap!K68,'Savings from 6P'!$Y$7:$AE$7,0)),\"\"),\"\")","v":""},3.0936818226183656E-2,15,null,0.30000000000000004]
["Demand Control Ventilation-DCV Only-Large Ret-HtPmpHt-Vent-New","Demand Control Ventilation","Demand Control Ventilation-New-Large Ret-DCV Only","Demand Control Ventilation-New-Large Ret","Demand Control Ventilation-New","DCV Only","HtPmpHt","Vent","Small Box","Large Ret","New","POST2013",1.909106614637291E-3,5.9411397847512488E-2,0.28187384150016842,{"$f":"INDEX('Savings from 6P'!$A$11:$L$92,MATCH(MMap!F69&MMap!J69&H69,'Savings from 6P'!$A$11:$A$92,0),MATCH(MMap!K69&G69,'Savings from 6P'!$A$4:$L$4,0))","v":3.1119999999999995E-2},{"$f":"IF(P69<=0,0,VLOOKUP(F69&K69&H69,Costs!$A$13:$B$24,2,FALSE))","v":0.14764698804090692},{"$f":"VLOOKUP($R$9,[2]CHAR!$B$17:$T$54,MATCH(J69,[2]CHAR!$B$16:$T$16,0),FALSE)","v":1.0839638408159987E-2},{"$f":"IFERROR(VLOOKUP($F69&$I69&$K69&$H69&$G69,'Savings from 6P'!$V$11:$X$435,3,FALSE),$AD69)","v":0.4},{"$f":"MATCH(J69,[2]!BLDGTYPE,0)","v":6},1.0593107738682607E-2,0.98322307122393326,6.1838210373840949E-3,0.77181511362305244,"POST2013",{"$f":"IFERROR(IF(G69=\"gasht\",INDEX('Savings from 6P'!$Z$11:$AF$28,MATCH(J69,'Savings from 6P'!$Z$11:$Z$28,0),MATCH(MMap!F69&MMap!H69&MMap!K69,'Savings from 6P'!$Y$7:$AE$7,0)),\"\"),\"\")","v":""},6.1838210373840949E-3,15,null,0.4]
["Demand Control Ventilation-DCV Only-Medium Ret-HtPmpHt-Vent-New","Demand Control Ventilation","Demand Control Ventilation-New-Medium Ret-DCV Only","Demand Control Ventilation-New-Medium Ret","Demand Control Ventilation-New","DCV Only","HtPmpHt","Vent","High End","Medium Ret","New","POST2013",4.4413941462539061E-2,0.60402960389053117,6.5575846839690444,{"$f":"INDEX('Savings from 6P'!$A$11:$L$92,MATCH(MMap!F70&MMap!J70&H70,'Savings from 6P'!$A$11:$A$92,0),MATCH(MMap!K70&G70,'Savings from 6P'!$A$4:$L$4,0))","v":1.3599999999999999E-2},{"$f":"IF(P70<=0,0,VLOOKUP(F70&K70&H70,Costs!$A$13:$B$24,2,FALSE))","v":0.14764698804090692},{"$f":"VLOOKUP($R$9,[2]CHAR!$B$17:$T$54,MATCH(J70,[2]CHAR!$B$16:$T$16,0),FALSE)","v":4.0894012773033235E-2},{"$f":"IFERROR(VLOOKUP($F70&$I70&$K70&$H70&$G70,'Savings from 6P'!$V$11:$X$435,3,FALSE),$AD70)","v":0.7},{"$f":"MATCH(J70,[2]!BLDGTYPE,0)","v":7},0.12006240959495594,0.80985008893074606,7.0087501474297986E-2,0.90527535536267667,"POST2013",{"$f":"IFERROR(IF(G70=\"gasht\",INDEX('Savings from 6P'!$Z$11:$AF$28,MATCH(J70,'Savings from 6P'!$Z$11:$Z$28,0),MATCH(MMap!F70&MMap!H70&MMap!K70,'Savings from 6P'!$Y$7:$AE$7,0)),\"\"),\"\")","v":""},7.0087501474297986E-2,15,null,0.7]
["Demand Control Ventilation-DCV Only-Small Ret-HtPmpHt-Vent-New","Demand Control Ventilation","Demand Control Ventilation-New-Small Ret-DCV Only","Demand Control Ventilation-New-Small Ret","Demand Control Ventilation-New","DCV Only","HtPmpHt","Vent","Anchor","Small Ret","New","POST2013",5.9934268828702474E-2,0.81510605607035358,8.849114272991935,{"$f":"INDEX('Savings from 6P'!$A$11:$L$92,MATCH(MMap!F71&MMap!J71&H71,'Savings from 6P'!$A$11:$A$92,0),MATCH(MMap!K71&G71,'Savings from 6P'!$A$4:$L$4,0))","v":1.3599999999999999E-2},{"$f":"IF(P71<=0,0,VLOOKUP(F71&K71&H71,Costs!$A$13:$B$24,2,FALSE))","v":0.14764698804090692},{"$f":"VLOOKUP($R$9,[2]CHAR!$B$17:$T$54,MATCH(J71,[2]CHAR!$B$16:$T$16,0),FALSE)","v":1.3016203517984767E-2},{"$f":"IFERROR(VLOOKUP($F71&$I71&$K71&$H71&$G71,'Savings from 6P'!$V$11:$X$435,3,FALSE),$AD71)","v":0.7},{"$f":"MATCH(J71,[2]!BLDGTYPE,0)","v":8},0.2732917310450087,0.56717178566142912,0.15953648329356207,0.53668215741883951,"POST2013",{"$f":"IFERROR(IF(G71=\"gasht\",INDEX('Savings from 6P'!$Z$11:$AF$28,MATCH(J71,'Savings from 6P'!$Z$11:$Z$28,0),MATCH(MMap!F71&MMap!H71&MMap!K71,'Savings from 6P'!$Y$7:$AE$7,0)),\"\"),\"\")","v":""},0.15953648329356207,15,null,0.7]
["Demand Control Ventilation-DCV Only-School K-12-HtPmpHt-Vent-New","Demand Control Ventilation","Demand Control Ventilation-New-School K-12-DCV Only","Demand Control Ventilation-New-School K-12","Demand Control Ventilation-New","DCV Only","HtPmpHt","Vent","K-12","School K-12","New","POST2013",9.0219354434158475E-2,0,0,{"$f":"INDEX('Savings from 6P'!$A$11:$L$92,MATCH(MMap!F72&MMap!J72&H72,'Savings from 6P'!$A$11:$A$92,0),MATCH(MMap!K72&G72,'Savings from 6P'!$A$4:$L$4,0))","v":0},{"$f":"IF(P72<=0,0,VLOOKUP(F72&K72&H72,Costs!$A$13:$B$24,2,FALSE))","v":0},{"$f":"VLOOKUP($R$9,[2]CHAR!$B$17:$T$54,MATCH(J72,[2]CHAR!$B$16:$T$16,0),FALSE)","v":3.0886857559635036E-2},{"$f":"IFERROR(VLOOKUP($F72&$I72&$K72&$H72&$G72,'Savings from 6P'!$V$11:$X$435,3,FALSE),$AD72)","v":1},{"$f":"MATCH(J72,[2]!BLDGTYPE,0)","v":9},5.8369343906151915E-2,0.84777782221188291,9.3852833881965178E-2,0.96128535178408803,"POST2013",{"$f":"IFERROR(IF(G72=\"gasht\",INDEX('Savings from 6P'!$Z$11:$AF$28,MATCH(J72,'Savings from 6P'!$Z$11:$Z$28,0),MATCH(MMap!F72&MMap!H72&MMap!K72,'Savings from 6P'!$Y$7:$AE$7,0)),\"\"),\"\")","v":""},9.3852833881965178E-2,15,null,1]
["Demand Control Ventilation-DCV Only-University-HtPmpHt-Vent-New","Demand Control Ventilation","Demand Control Ventilation-New-University-DCV Only","Demand Control Ventilation-New-University","Demand Control Ventilation-New","DCV Only","HtPmpHt","Vent","University","University","New","POST2013",7.5000000000000011E-2,0,0,{"$f":"INDEX('Savings from 6P'!$A$11:$L$92,MATCH(MMap!F73&MMap!J73&H73,'Savings from 6P'!$A$11:$A$92,0),MATCH(MMap!K73&G73,'Savings from 6P'!$A$4:$L$4,0))","v":0},{"$f":"IF(P73<=0,0,VLOOKUP(F73&K73&H73,Costs!$A$13:$B$24,2,FALSE))","v":0},{"$f":"VLOOKUP($R$9,[2]CHAR!$B$17:$T$54,MATCH(J73,[2]CHAR!$B$16:$T$16,0),FALSE)","v":2.2325826170102026E-2},{"$f":"IFERROR(VLOOKUP($F73&$I73&$K73&$H73&$G73,'Savings from 6P'!$V$11:$X$435,3,FALSE),$AD73)","v":1},{"$f":"MATCH(J73,[2]!BLDGTYPE,0)","v":10},0.1,0.8,0.1,0.75,"POST2013",{"$f":"IFERROR(IF(G73=\"gasht\",INDEX('Savings from 6P'!$Z$11:$AF$28,MATCH(J73,'Savings from 6P'!$Z$11:$Z$28,0),MATCH(MMap!F73&MMap!H73&MMap!K73,'Savings from 6P'!$Y$7:$AE$7,0)),\"\"),\"\")","v":""},0.1,15,null,1]
["Demand Control Ventilation-DCV Only-Warehouse-HtPmpHt-Vent-New","Demand Control Ventilation","Demand Control Ventilation-New-Warehouse-DCV Only","Demand Control Ventilation-New-Warehouse","Demand Control Ventilation-New","DCV Only","HtPmpHt","Vent","Warehouse","Warehouse","New","POST2013",1.1993025442992593E-3,6.0444848232682662E-3,0.17707340841558197,{"$f":"INDEX('Savings from 6P'!$A$11:$L$92,MATCH(MMap!F74&MMap!J74&H74,'Savings from 6P'!$A$11:$A$92,0),MATCH(MMap!K74&G74,'Savings from 6P'!$A$4:$L$4,0))","v":5.0399999999999993E-3},{"$f":"IF(P74<=0,0,VLOOKUP(F74&K74&H74,Costs!$A$13:$B$24,2,FALSE))","v":0.14764698804090692},{"$f":"VLOOKUP($R$9,[2]CHAR!$B$17:$T$54,MATCH(J74,[2]CHAR!$B$16:$T$16,0),FALSE)","v":0.10087192274660353},{"$f":"IFERROR(VLOOKUP($F74&$I74&$K74&$H74&$G74,'Savings from 6P'!$V$11:$X$435,3,FALSE),$AD74)","v":1},{"$f":"MATCH(J74,[2]!BLDGTYPE,0)","v":11},6.3929137015483993E-3,0.98700382329725422,6.6032630011973147E-3,0.18162271351024481,"POST2013",{"$f":"IFERROR(IF(G74=\"gasht\",INDEX('Savings from 6P'!$Z$11:$AF$28,MATCH(J74,'Savings from 6P'!$Z$11:$Z$28,0),MATCH(MMap!F74&MMap!H74&MMap!K74,'Savings from 6P'!$Y$7:$AE$7,0)),\"\"),\"\")","v":""},6.6032630011973147E-3,15,null,1]
[{"$f":"CONCATENATE(B75,\"-\",F75,\"-\",J75,\"-\",G75,\"-\",H75,\"-\",K75)","v":"Demand Control Ventilation-DCV Only-Supermarket-HtPmpHt-Vent-New"},"Demand Control Ventilation","Demand Control Ventilation-New-Supermarket-DCV Only","Demand Control Ventilation-New-Supermarket",{"$f":"CONCATENATE(B75,\"-\",K75)","v":"Demand Control Ventilation-New"},"DCV Only","HtPmpHt","Vent","Supermarket","Supermarket","New","POST2013",1.7235600558099352E-2,8.6867426812820711E-2,2.5447845094795438,{"$f":"INDEX('Savings from 6P'!$A$11:$L$92,MATCH(MMap!F75&MMap!J75&H75,'Savings from 6P'!$A$11:$A$92,0),MATCH(MMap!K75&G75,'Savings from 6P'!$A$4:$L$4,0))","v":5.0399999999999993E-3},{"$f":"IF(P75<=0,0,VLOOKUP(F75&K75&H75,Costs!$A$13:$B$24,2,FALSE))","v":0.14764698804090692},{"$f":"VLOOKUP($R$9,[2]CHAR!$B$17:$T$54,MATCH(J75,[2]CHAR!$B$16:$T$16,0),FALSE)","v":6.1675003194375045E-3},{"$f":"IFERROR(VLOOKUP($F75&$I75&$K75&$H75&$G75,'Savings from 6P'!$V$11:$X$435,3,FALSE),$AD75)","v":0.30000000000000004},{"$f":"MATCH(J75,[2]!BLDGTYPE,0)","v":12},{"$f":"VLOOKUP(U$9,V_PRE2013,$T75,FALSE)","v":3.9182634298973458E-2},{"$f":"VLOOKUP(V$9,V_PRE2013,$T75,FALSE)","v":0.46957192737561176},6.234756715808213E-2,{"$f":"VLOOKUP($X$9,V_POST2013,MATCH(J75,BLDGTYP,FALSE)+1,FALSE)","v":0.92147944946531313},"POST2013",{"$f":"IFERROR(IF(G75=\"gasht\",INDEX('Savings from 6P'!$Z$11:$AF$28,MATCH(J75,'Savings from 6P'!$Z$11:$Z$28,0),MATCH(MMap!F75&MMap!H75&MMap!K75,'Savings from 6P'!$Y$7:$AE$7,0)),\"\"),\"\")","v":""},{"$f":"IF(G75=\"ElecHt\",U75,IF(G75=\"gasht\",V75,W75))","v":6.234756715808213E-2},{"$f":"$AB$9","v":15},null,1]
["Demand Control Ventilation-DCV Only-MiniMart-HtPmpHt-Vent-New","Demand Control Ventilation",{"$f":"CONCATENATE(D76,\"-\",F76)","v":"Demand Control Ventilation-New-MiniMart-DCV Only"},{"$f":"CONCATENATE(B76,\"-\",K76,\"-\",J76)","v":"Demand Control Ventilation-New-MiniMart"},"Demand Control Ventilation-New","DCV Only","HtPmpHt","Vent","MIniMart","MiniMart","New","POST2013",9.2427059474725782E-3,{"$f":"M76*P76*$N$9","v":4.6583237975261788E-2},{"$f":"Q76*M76*$O$9","v":1.3646576944921029},{"$f":"INDEX('Savings from 6P'!$A$11:$L$92,MATCH(MMap!F76&MMap!J76&H76,'Savings from 6P'!$A$11:$A$92,0),MATCH(MMap!K76&G76,'Savings from 6P'!$A$4:$L$4,0))","v":5.0399999999999993E-3},{"$f":"IF(P76<=0,0,VLOOKUP(F76&K76&H76,Costs!$A$13:$B$24,2,FALSE))","v":0.14764698804090692},{"$f":"VLOOKUP($R$9,[2]CHAR!$B$17:$T$54,MATCH(J76,[2]CHAR!$B$16:$T$16,0),FALSE)","v":2.5477723102065148E-3},{"$f":"IFERROR(VLOOKUP($F76&$I76&$K76&$H76&$G76,'Savings from 6P'!$V$11:$X$435,3,FALSE),$AD76)","v":0.7},{"$f":"MATCH(J76,[2]!BLDGTYPE,0)","v":13},9.8940421863423066E-3,0.86606113087441317,1.5743440192688529E-2,0.83868998628257874,"POST2013",{"$f":"IFERROR(IF(G76=\"gasht\",INDEX('Savings from 6P'!$Z$11:$AF$28,MATCH(J76,'Savings from 6P'!$Z$11:$Z$28,0),MATCH(MMap!F76&MMap!H76&MMap!K76,'Savings from 6P'!$Y$7:$AE$7,0)),\"\"),\"\")","v":""},1.5743440192688529E-2,15,null,1]
["Demand Control Ventilation-DCV Only-Restaurant-HtPmpHt-Vent-New","Demand Control Ventilation","Demand Control Ventilation-New-Restaurant-DCV Only","Demand Control Ventilation-New-Restaurant","Demand Control Ventilation-New","DCV Only","HtPmpHt","Vent","Restaurant","Restaurant","New",{"$f":"L76","v":"POST2013"},{"$f":"S77*X77*AA77","v":0.12340761314906999},3.8404449211990577,18.220762382777608,{"$f":"INDEX('Savings from 6P'!$A$11:$L$92,MATCH(MMap!F77&MMap!J77&H77,'Savings from 6P'!$A$11:$A$92,0),MATCH(MMap!K77&G77,'Savings from 6P'!$A$4:$L$4,0))","v":3.1119999999999995E-2},{"$f":"IF(P77<=0,0,VLOOKUP(F77&K77&H77,Costs!$A$13:$B$24,2,FALSE))","v":0.14764698804090692},{"$f":"VLOOKUP($R$9,[2]CHAR!$B$17:$T$54,MATCH(J77,[2]CHAR!$B$16:$T$16,0),FALSE)","v":1.1693580853842011E-2},{"$f":"IFERROR(VLOOKUP($F77&$I77&$K77&$H77&$G77,'Savings from 6P'!$V$11:$X$435,3,FALSE),$AD77)","v":0.7},{"$f":"MATCH(J77,[2]!BLDGTYPE,0)","v":14},3.0050555941853869E-2,0.79365284945968273,0.17629659459846331,0.99999997512427186,"POST2013",{"$f":"IFERROR(IF(G77=\"gasht\",INDEX('Savings from 6P'!$Z$11:$AF$28,MATCH(J77,'Savings from 6P'!$Z$11:$Z$28,0),MATCH(MMap!F77&MMap!H77&MMap!K77,'Savings from 6P'!$Y$7:$AE$7,0)),\"\"),\"\")","v":""},0.17629659459846331,15,null,1]
["Demand Control Ventilation-DCV Only-Lodging-HtPmpHt-Vent-New","Demand Control Ventilation","Demand Control Ventilation-New-Lodging-DCV Only","Demand Control Ventilation-New-Lodging","Demand Control Ventilation-New","DCV Only","HtPmpHt","Vent","Lodging","Lodging","New","POST2013",0.28689644068574455,1.4459580610561524,42.359395346906886,{"$f":"INDEX('Savings from 6P'!$A$11:$L$92,MATCH(MMap!F78&MMap!J78&H78,'Savings from 6P'!$A$11:$A$92,0),MATCH(MMap!K78&G78,'Savings from 6P'!$A$4:$L$4,0))","v":5.0399999999999993E-3},{"$f":"IF(P78<=0,0,VLOOKUP(F78&K78&H78,Costs!$A$13:$B$24,2,FALSE))","v":0.14764698804090692},{"$f":"VLOOKUP($R$9,[2]CHAR!$B$17:$T$54,MATCH(J78,[2]CHAR!$B$16:$T$16,0),FALSE)","v":2.3957473342185561E-2},{"$f":"IFERROR(VLOOKUP($F78&$I78&$K78&$H78&$G78,'Savings from 6P'!$V$11:$X$435,3,FALSE),$AD78)","v":1},{"$f":"MATCH(J78,[2]!BLDGTYPE,0)","v":15},0.44679184687802564,0.24941748529786834,0.30379066782410608,0.94438859080377269,"POST2013",{"$f":"IFERROR(IF(G78=\"gasht\",INDEX('Savings from 6P'!$Z$11:$AF$28,MATCH(J78,'Savings from 6P'!$Z$11:$Z$28,0),MATCH(MMap!F78&MMap!H78&MMap!K78,'Savings from 6P'!$Y$7:$AE$7,0)),\"\"),\"\")","v":""},0.30379066782410608,15,null,1]
["Demand Control Ventilation-DCV Only-Hospital-HtPmpHt-Vent-New","Demand Control Ventilation","Demand Control Ventilation-New-Hospital-DCV Only","Demand Control Ventilation-New-Hospital","Demand Control Ventilation-New","DCV Only","HtPmpHt","Vent","Hospital","Hospital","New","POST2013",9.4999999999999998E-3,4.7879999999999999E-2,1.4026463863886158,{"$f":"INDEX('Savings from 6P'!$A$11:$L$92,MATCH(MMap!F79&MMap!J79&H79,'Savings from 6P'!$A$11:$A$92,0),MATCH(MMap!K79&G79,'Savings from 6P'!$A$4:$L$4,0))","v":5.0399999999999993E-3},{"$f":"IF(P79<=0,0,VLOOKUP(F79&K79&H79,Costs!$A$13:$B$24,2,FALSE))","v":0.14764698804090692},{"$f":"VLOOKUP($R$9,[2]CHAR!$B$17:$T$54,MATCH(J79,[2]CHAR!$B$16:$T$16,0),FALSE)","v":4.4965056377242296E-2},{"$f":"IFERROR(VLOOKUP($F79&$I79&$K79&$H79&$G79,'Savings from 6P'!$V$11:$X$435,3,FALSE),$AD79)","v":1},{"$f":"MATCH(J79,[2]!BLDGTYPE,0)","v":16},0.08,0.91,0.01,0.95,"POST2013",{"$f":"IFERROR(IF(G79=\"gasht\",INDEX('Savings from 6P'!$Z$11:$AF$28,MATCH(J79,'Savings from 6P'!$Z$11:$Z$28,0),MATCH(MMap!F79&MMap!H79&MMap!K79,'Savings from 6P'!$Y$7:$AE$7,0)),\"\"),\"\")","v":""},0.01,15,null,1]
["Demand Control Ventilation-DCV Only-Residential Care-HtPmpHt-Vent-New","Demand Control Ventilation","Demand Control Ventilation-New-Residential Care-DCV Only","Demand Control Ventilation-New-Residential Care","Demand Control Ventilation-New","DCV Only","HtPmpHt","Vent","OtherHealth","Residential Care","New","POST2013",0.21443994464789526,1.0807773210253919,31.661411942920534,{"$f":"INDEX('Savings from 6P'!$A$11:$L$92,MATCH(MMap!F80&MMap!J80&H80,'Savings from 6P'!$A$11:$A$92,0),MATCH(MMap!K80&G80,'Savings from 6P'!$A$4:$L$4,0))","v":5.0399999999999993E-3},{"$f":"IF(P80<=0,0,VLOOKUP(F80&K80&H80,Costs!$A$13:$B$24,2,FALSE))","v":0.14764698804090692},{"$f":"VLOOKUP($R$9,[2]CHAR!$B$17:$T$54,MATCH(J80,[2]CHAR!$B$16:$T$16,0),FALSE)","v":5.827742495837801E-2},{"$f":"IFERROR(VLOOKUP($F80&$I80&$K80&$H80&$G80,'Savings from 6P'!$V$11:$X$435,3,FALSE),$AD80)","v":1},{"$f":"MATCH(J80,[2]!BLDGTYPE,0)","v":17},0.33985691133471541,0.40556621261939335,0.25457687604589124,0.8423386600487599,"POST2013",{"$f":"IFERROR(IF(G80=\"gasht\",INDEX('Savings from 6P'!$Z$11:$AF$28,MATCH(J80,'Savings from 6P'!$Z$11:$Z$28,0),MATCH(MMap!F80&MMap!H80&MMap!K80,'Savings from 6P'!$Y$7:$AE$7,0)),\"\"),\"\")","v":""},0.25457687604589124,15,null,1]
["Demand Control Ventilation-DCV Only-Assembly-HtPmpHt-Vent-New","Demand Control Ventilation","Demand Control Ventilation-New-Assembly-DCV Only","Demand Control Ventilation-New-Assembly","Demand Control Ventilation-New","DCV Only","HtPmpHt","Vent","Assembly","Assembly","New","POST2013",0.10525881768749383,0.53050444114496886,15.541147396305403,{"$f":"INDEX('Savings from 6P'!$A$11:$L$92,MATCH(MMap!F81&MMap!J81&H81,'Savings from 6P'!$A$11:$A$92,0),MATCH(MMap!K81&G81,'Savings from 6P'!$A$4:$L$4,0))","v":5.0399999999999993E-3},{"$f":"IF(P81<=0,0,VLOOKUP(F81&K81&H81,Costs!$A$13:$B$24,2,FALSE))","v":0.14764698804090692},{"$f":"VLOOKUP($R$9,[2]CHAR!$B$17:$T$54,MATCH(J81,[2]CHAR!$B$16:$T$16,0),FALSE)","v":9.0984350406775827E-2},{"$f":"IFERROR(VLOOKUP($F81&$I81&$K81&$H81&$G81,'Savings from 6P'!$V$11:$X$435,3,FALSE),$AD81)","v":1},{"$f":"MATCH(J81,[2]!BLDGTYPE,0)","v":18},0.10640191237323121,0.77815390025512432,0.11544418737164447,0.91177234717447209,"POST2013",{"$f":"IFERROR(IF(G81=\"gasht\",INDEX('Savings from 6P'!$Z$11:$AF$28,MATCH(J81,'Savings from 6P'!$Z$11:$Z$28,0),MATCH(MMap!F81&MMap!H81&MMap!K81,'Savings from 6P'!$Y$7:$AE$7,0)),\"\"),\"\")","v":""},0.11544418737164447,15,null,1]
["Demand Control Ventilation-DCV Only-Other-HtPmpHt-Vent-New","Demand Control Ventilation","Demand Control Ventilation-New-Other-DCV Only","Demand Control Ventilation-New-Other","Demand Control Ventilation-New","DCV Only","HtPmpHt","Vent","Other","Other","New","POST2013",9.2006113937335224E-2,0.46371081424416949,13.584425604196053,{"$f":"INDEX('Savings from 6P'!$A$11:$L$92,MATCH(MMap!F82&MMap!J82&H82,'Savings from 6P'!$A$11:$A$92,0),MATCH(MMap!K82&G82,'Savings from 6P'!$A$4:$L$4,0))","v":5.0399999999999993E-3},{"$f":"IF(P82<=0,0,VLOOKUP(F82&K82&H82,Costs!$A$13:$B$24,2,FALSE))","v":0.14764698804090692},{"$f":"VLOOKUP($R$9,[2]CHAR!$B$17:$T$54,MATCH(J82,[2]CHAR!$B$16:$T$16,0),FALSE)","v":0.21334717399999265},{"$f":"IFERROR(VLOOKUP($F82&$I82&$K82&$H82&$G82,'Savings from 6P'!$V$11:$X$435,3,FALSE),$AD82)","v":1},{"$f":"MATCH(J82,[2]!BLDGTYPE,0)","v":19},0.16939513747697868,0.7257160432726234,0.104888819250398,0.87717751610580841,"POST2013",{"$f":"IFERROR(IF(G82=\"gasht\",INDEX('Savings from 6P'!$Z$11:$AF$28,MATCH(J82,'Savings from 6P'!$Z$11:$Z$28,0),MATCH(MMap!F82&MMap!H82&MMap!K82,'Savings from 6P'!$Y$7:$AE$7,0)),\"\"),\"\")","v":""},0.104888819250398,15,null,1]
["Demand Control Ventilation-DCV Only-Large Off-HtPmpHt-Heat-New","Demand Control Ventilation","Demand Control Ventilation-New-Large Off-DCV Only","Demand Control Ventilation-New-Large Off","Demand Control Ventilation-New","DCV Only","HtPmpHt","Heat","Large Off","Large Off","New","POST2013",0.2380087555745263,58.737584147478444,0,{"$f":"INDEX('Savings from 6P'!$A$11:$L$92,MATCH(MMap!F83&MMap!J83&H83,'Savings from 6P'!$A$11:$A$92,0),MATCH(MMap!K83&G83,'Savings from 6P'!$A$4:$L$4,0))","v":0.24678749319827556},{"$f":"IF(P83<=0,0,VLOOKUP(F83&K83&H83,Costs!$A$13:$B$24,2,FALSE))","v":0},{"$f":"VLOOKUP($R$9,[2]CHAR!$B$17:$T$54,MATCH(J83,[2]CHAR!$B$16:$T$16,0),FALSE)","v":0.15073291148870363},{"$f":"IFERROR(VLOOKUP($F83&$I83&$K83&$H83&$G83,'Savings from 6P'!$V$11:$X$435,3,FALSE),$AD83)","v":1},{"$f":"MATCH(J83,[2]!BLDGTYPE,0)","v":2},0.20943280302167308,0.54037060186620078,0.25019659511212627,0.95128694884061893,"POST2013",{"$f":"IFERROR(IF(G83=\"gasht\",INDEX('Savings from 6P'!$Z$11:$AF$28,MATCH(J83,'Savings from 6P'!$Z$11:$Z$28,0),MATCH(MMap!F83&MMap!H83&MMap!K83,'Savings from 6P'!$Y$7:$AE$7,0)),\"\"),\"\")","v":""},0.25019659511212627,15,null,1]
["Demand Control Ventilation-DCV Only-Medium Off-HtPmpHt-Heat-New","Demand Control Ventilation","Demand Control Ventilation-New-Medium Off-DCV Only","Demand Control Ventilation-New-Medium Off","Demand Control Ventilation-New","DCV Only","HtPmpHt","Heat","Medium Off","Medium Off","New","POST2013",0.25821639375702221,63.724576517994358,0,{"$f":"INDEX('Savings from 6P'!$A$11:$L$92,MATCH(MMap!F84&MMap!J84&H84,'Savings from 6P'!$A$11:$A$92,0),MATCH(MMap!K84&G84,'Savings from 6P'!$A$4:$L$4,0))","v":0.24678749319827556},{"$f":"IF(P84<=0,0,VLOOKUP(F84&K84&H84,Costs!$A$13:$B$24,2,FALSE))","v":0},{"$f":"VLOOKUP($R$9,[2]CHAR!$B$17:$T$54,MATCH(J84,[2]CHAR!$B$16:$T$16,0),FALSE)","v":0.12013270538231059},{"$f":"IFERROR(VLOOKUP($F84&$I84&$K84&$H84&$G84,'Savings from 6P'!$V$11:$X$435,3,FALSE),$AD84)","v":1},{"$f":"MATCH(J84,[2]!BLDGTYPE,0)","v":3},0.22131165109110185,0.51430081857580845,0.26438753033308959,0.97665874571205136,"POST2013",{"$f":"IFERROR(IF(G84=\"gasht\",INDEX('Savings from 6P'!$Z$11:$AF$28,MATCH(J84,'Savings from 6P'!$Z$11:$Z$28,0),MATCH(MMap!F84&MMap!H84&MMap!K84,'Savings from 6P'!$Y$7:$AE$7,0)),\"\"),\"\")","v":""},0.26438753033308959,15,null,1]
["Demand Control Ventilation-DCV Only-Small Off-HtPmpHt-Heat-New","Demand Control Ventilation","Demand Control Ventilation-New-Small Off-DCV Only","Demand Control Ventilation-New-Small Off","Demand Control Ventilation-New","DCV Only","HtPmpHt","Heat","Small Off","Small Off","New","POST2013",0.3335530832406533,82.316729261516571,0,{"$f":"INDEX('Savings from 6P'!$A$11:$L$92,MATCH(MMap!F85&MMap!J85&H85,'Savings from 6P'!$A$11:$A$92,0),MATCH(MMap!K85&G85,'Savings from 6P'!$A$4:$L$4,0))","v":0.24678749319827556},{"$f":"IF(P85<=0,0,VLOOKUP(F85&K85&H85,Costs!$A$13:$B$24,2,FALSE))","v":0},{"$f":"VLOOKUP($R$9,[2]CHAR!$B$17:$T$54,MATCH(J85,[2]CHAR!$B$16:$T$16,0),FALSE)","v":3.1538695729415013E-2},{"$f":"IFERROR(VLOOKUP($F85&$I85&$K85&$H85&$G85,'Savings from 6P'!$V$11:$X$435,3,FALSE),$AD85)","v":1},{"$f":"MATCH(J85,[2]!BLDGTYPE,0)","v":4},0.30640942705415353,0.3275419203320854,0.36604865261376096,0.91122609210258287,"POST2013",{"$f":"IFERROR(IF(G85=\"gasht\",INDEX('Savings from 6P'!$Z$11:$AF$28,MATCH(J85,'Savings from 6P'!$Z$11:$Z$28,0),MATCH(MMap!F85&MMap!H85&MMap!K85,'Savings from 6P'!$Y$7:$AE$7,0)),\"\"),\"\")","v":""},0.36604865261376096,15,null,1]
["Demand Control Ventilation-DCV Only-Xlarge Ret-HtPmpHt-Heat-New","Demand Control Ventilation","Demand Control Ventilation-New-Xlarge Ret-DCV Only","Demand Control Ventilation-New-Xlarge Ret","Demand Control Ventilation-New","DCV Only","HtPmpHt","Heat","Big Box","Xlarge Ret","New","POST2013",9.151900084158825E-3,8.774832555961023,0,{"$f":"INDEX('Savings from 6P'!$A$11:$L$92,MATCH(MMap!F86&MMap!J86&H86,'Savings from 6P'!$A$11:$A$92,0),MATCH(MMap!K86&G86,'Savings from 6P'!$A$4:$L$4,0))","v":0.9587989898567103},{"$f":"IF(P86<=0,0,VLOOKUP(F86&K86&H86,Costs!$A$13:$B$24,2,FALSE))","v":0},{"$f":"VLOOKUP($R$9,[2]CHAR!$B$17:$T$54,MATCH(J86,[2]CHAR!$B$16:$T$16,0),FALSE)","v":2.6820893655991742E-2},{"$f":"IFERROR(VLOOKUP($F86&$I86&$K86&$H86&$G86,'Savings from 6P'!$V$11:$X$435,3,FALSE),$AD86)","v":0.30000000000000004},{"$f":"MATCH(J86,[2]!BLDGTYPE,0)","v":5},5.2995881766435368E-2,0.91606730000738101,3.0936818226183656E-2,0.98608503921852686,"POST2013",{"$f":"IFERROR(IF(G86=\"gasht\",INDEX('Savings from 6P'!$Z$11:$AF$28,MATCH(J86,'Savings from 6P'!$Z$11:$Z$28,0),MATCH(MMap!F86&MMap!H86&MMap!K86,'Savings from 6P'!$Y$7:$AE$7,0)),\"\"),\"\")","v":""},3.0936818226183656E-2,15,null,0.30000000000000004]
["Demand Control Ventilation-DCV Only-Large Ret-HtPmpHt-Heat-New","Demand Control Ventilation","Demand Control Ventilation-New-Large Ret-DCV Only","Demand Control Ventilation-New-Large Ret","Demand Control Ventilation-New","DCV Only","HtPmpHt","Heat","Small Box","Large Ret","New","POST2013",1.909106614637291E-3,1.8304494936429985,0,{"$f":"INDEX('Savings from 6P'!$A$11:$L$92,MATCH(MMap!F87&MMap!J87&H87,'Savings from 6P'!$A$11:$A$92,0),MATCH(MMap!K87&G87,'Savings from 6P'!$A$4:$L$4,0))","v":0.9587989898567103},{"$f":"IF(P87<=0,0,VLOOKUP(F87&K87&H87,Costs!$A$13:$B$24,2,FALSE))","v":0},{"$f":"VLOOKUP($R$9,[2]CHAR!$B$17:$T$54,MATCH(J87,[2]CHAR!$B$16:$T$16,0),FALSE)","v":1.0839638408159987E-2},{"$f":"IFERROR(VLOOKUP($F87&$I87&$K87&$H87&$G87,'Savings from 6P'!$V$11:$X$435,3,FALSE),$AD87)","v":0.4},{"$f":"MATCH(J87,[2]!BLDGTYPE,0)","v":6},1.0593107738682607E-2,0.98322307122393326,6.1838210373840949E-3,0.77181511362305244,"POST2013",{"$f":"IFERROR(IF(G87=\"gasht\",INDEX('Savings from 6P'!$Z$11:$AF$28,MATCH(J87,'Savings from 6P'!$Z$11:$Z$28,0),MATCH(MMap!F87&MMap!H87&MMap!K87,'Savings from 6P'!$Y$7:$AE$7,0)),\"\"),\"\")","v":""},6.1838210373840949E-3,15,null,0.4]
["Demand Control Ventilation-DCV Only-Medium Ret-HtPmpHt-Heat-New","Demand Control Ventilation","Demand Control Ventilation-New-Medium Ret-DCV Only","Demand Control Ventilation-New-Medium Ret","Demand Control Ventilation-New","DCV Only","HtPmpHt","Heat","High End","Medium Ret","New","POST2013",4.4413941462539061E-2,26.090781624025009,0,{"$f":"INDEX('Savings from 6P'!$A$11:$L$92,MATCH(MMap!F88&MMap!J88&H88,'Savings from 6P'!$A$11:$A$92,0),MATCH(MMap!K88&G88,'Savings from 6P'!$A$4:$L$4,0))","v":0.58744576060720211},{"$f":"IF(P88<=0,0,VLOOKUP(F88&K88&H88,Costs!$A$13:$B$24,2,FALSE))","v":0},{"$f":"VLOOKUP($R$9,[2]CHAR!$B$17:$T$54,MATCH(J88,[2]CHAR!$B$16:$T$16,0),FALSE)","v":4.0894012773033235E-2},{"$f":"IFERROR(VLOOKUP($F88&$I88&$K88&$H88&$G88,'Savings from 6P'!$V$11:$X$435,3,FALSE),$AD88)","v":0.7},{"$f":"MATCH(J88,[2]!BLDGTYPE,0)","v":7},0.12006240959495594,0.80985008893074606,7.0087501474297986E-2,0.90527535536267667,"POST2013",{"$f":"IFERROR(IF(G88=\"gasht\",INDEX('Savings from 6P'!$Z$11:$AF$28,MATCH(J88,'Savings from 6P'!$Z$11:$Z$28,0),MATCH(MMap!F88&MMap!H88&MMap!K88,'Savings from 6P'!$Y$7:$AE$7,0)),\"\"),\"\")","v":""},7.0087501474297986E-2,15,null,0.7]
["Demand Control Ventilation-DCV Only-Small Ret-HtPmpHt-Heat-New","Demand Control Ventilation","Demand Control Ventilation-New-Small Ret-DCV Only","Demand Control Ventilation-New-Small Ret","Demand Control Ventilation-New","DCV Only","HtPmpHt","Heat","Anchor","Small Ret","New","POST2013",5.9934268828702474E-2,35.208132138513648,0,{"$f":"INDEX('Savings from 6P'!$A$11:$L$92,MATCH(MMap!F89&MMap!J89&H89,'Savings from 6P'!$A$11:$A$92,0),MATCH(MMap!K89&G89,'Savings from 6P'!$A$4:$L$4,0))","v":0.58744576060720211},{"$f":"IF(P89<=0,0,VLOOKUP(F89&K89&H89,Costs!$A$13:$B$24,2,FALSE))","v":0},{"$f":"VLOOKUP($R$9,[2]CHAR!$B$17:$T$54,MATCH(J89,[2]CHAR!$B$16:$T$16,0),FALSE)","v":1.3016203517984767E-2},{"$f":"IFERROR(VLOOKUP($F89&$I89&$K89&$H89&$G89,'Savings from 6P'!$V$11:$X$435,3,FALSE),$AD89)","v":0.7},{"$f":"MATCH(J89,[2]!BLDGTYPE,0)","v":8},0.2732917310450087,0.56717178566142912,0.15953648329356207,0.53668215741883951,"POST2013",{"$f":"IFERROR(IF(G89=\"gasht\",INDEX('Savings from 6P'!$Z$11:$AF$28,MATCH(J89,'Savings from 6P'!$Z$11:$Z$28,0),MATCH(MMap!F89&MMap!H89&MMap!K89,'Savings from 6P'!$Y$7:$AE$7,0)),\"\"),\"\")","v":""},0.15953648329356207,15,null,0.7]
["Demand Control Ventilation-DCV Only-School K-12-HtPmpHt-Heat-New","Demand Control Ventilation","Demand Control Ventilation-New-School K-12-DCV Only","Demand Control Ventilation-New-School K-12","Demand Control Ventilation-New","DCV Only","HtPmpHt","Heat","K-12","School K-12","New","POST2013",9.0219354434158475E-2,0,0,{"$f":"INDEX('Savings from 6P'!$A$11:$L$92,MATCH(MMap!F90&MMap!J90&H90,'Savings from 6P'!$A$11:$A$92,0),MATCH(MMap!K90&G90,'Savings from 6P'!$A$4:$L$4,0))","v":0},{"$f":"IF(P90<=0,0,VLOOKUP(F90&K90&H90,Costs!$A$13:$B$24,2,FALSE))","v":0},{"$f":"VLOOKUP($R$9,[2]CHAR!$B$17:$T$54,MATCH(J90,[2]CHAR!$B$16:$T$16,0),FALSE)","v":3.0886857559635036E-2},{"$f":"IFERROR(VLOOKUP($F90&$I90&$K90&$H90&$G90,'Savings from 6P'!$V$11:$X$435,3,FALSE),$AD90)","v":1},{"$f":"MATCH(J90,[2]!BLDGTYPE,0)","v":9},5.8369343906151915E-2,0.84777782221188291,9.3852833881965178E-2,0.96128535178408803,"POST2013",{"$f":"IFERROR(IF(G90=\"gasht\",INDEX('Savings from 6P'!$Z$11:$AF$28,MATCH(J90,'Savings from 6P'!$Z$11:$Z$28,0),MATCH(MMap!F90&MMap!H90&MMap!K90,'Savings from 6P'!$Y$7:$AE$7,0)),\"\"),\"\")","v":""},9.3852833881965178E-2,15,null,1]
["Demand Control Ventilation-DCV Only-University-HtPmpHt-Heat-New","Demand Control Ventilation","Demand Control Ventilation-New-University-DCV Only","Demand Control Ventilation-New-University","Demand Control Ventilation-New","DCV Only","HtPmpHt","Heat","University","University","New","POST2013",7.5000000000000011E-2,0,0,{"$f":"INDEX('Savings from 6P'!$A$11:$L$92,MATCH(MMap!F91&MMap!J91&H91,'Savings from 6P'!$A$11:$A$92,0),MATCH(MMap!K91&G91,'Savings from 6P'!$A$4:$L$4,0))","v":0},{"$f":"IF(P91<=0,0,VLOOKUP(F91&K91&H91,Costs!$A$13:$B$24,2,FALSE))","v":0},{"$f":"VLOOKUP($R$9,[2]CHAR!$B$17:$T$54,MATCH(J91,[2]CHAR!$B$16:$T$16,0),FALSE)","v":2.2325826170102026E-2},{"$f":"IFERROR(VLOOKUP($F91&$I91&$K91&$H91&$G91,'Savings from 6P'!$V$11:$X$435,3,FALSE),$AD91)","v":1},{"$f":"MATCH(J91,[2]!BLDGTYPE,0)","v":10},0.1,0.8,0.1,0.75,"POST2013",{"$f":"IFERROR(IF(G91=\"gasht\",INDEX('Savings from 6P'!$Z$11:$AF$28,MATCH(J91,'Savings from 6P'!$Z$11:$Z$28,0),MATCH(MMap!F91&MMap!H91&MMap!K91,'Savings from 6P'!$Y$7:$AE$7,0)),\"\"),\"\")","v":""},0.1,15,null,1]
["Demand Control Ventilation-DCV Only-Warehouse-HtPmpHt-Heat-New","Demand Control Ventilation","Demand Control Ventilation-New-Warehouse-DCV Only","Demand Control Ventilation-New-Warehouse","Demand Control Ventilation-New","DCV Only","HtPmpHt","Heat","Warehouse","Warehouse","New","POST2013",1.1993025442992593E-3,0.29597286849392801,0,{"$f":"INDEX('Savings from 6P'!$A$11:$L$92,MATCH(MMap!F92&MMap!J92&H92,'Savings from 6P'!$A$11:$A$92,0),MATCH(MMap!K92&G92,'Savings from 6P'!$A$4:$L$4,0))","v":0.24678749319827556},{"$f":"IF(P92<=0,0,VLOOKUP(F92&K92&H92,Costs!$A$13:$B$24,2,FALSE))","v":0},{"$f":"VLOOKUP($R$9,[2]CHAR!$B$17:$T$54,MATCH(J92,[2]CHAR!$B$16:$T$16,0),FALSE)","v":0.10087192274660353},{"$f":"IFERROR(VLOOKUP($F92&$I92&$K92&$H92&$G92,'Savings from 6P'!$V$11:$X$435,3,FALSE),$AD92)","v":1},{"$f":"MATCH(J92,[2]!BLDGTYPE,0)","v":11},6.3929137015483993E-3,0.98700382329725422,6.6032630011973147E-3,0.18162271351024481,"POST2013",{"$f":"IFERROR(IF(G92=\"gasht\",INDEX('Savings from 6P'!$Z$11:$AF$28,MATCH(J92,'Savings from 6P'!$Z$11:$Z$28,0),MATCH(MMap!F92&MMap!H92&MMap!K92,'Savings from 6P'!$Y$7:$AE$7,0)),\"\"),\"\")","v":""},6.6032630011973147E-3,15,null,1]
["Demand Control Ventilation-DCV Only-Supermarket-HtPmpHt-Heat-New","Demand Control Ventilation","Demand Control Ventilation-New-Supermarket-DCV Only","Demand Control Ventilation-New-Supermarket","Demand Control Ventilation-New","DCV Only","HtPmpHt","Heat","Supermarket","Supermarket","New","POST2013",1.7235600558099352E-2,16.525476404679413,0,{"$f":"INDEX('Savings from 6P'!$A$11:$L$92,MATCH(MMap!F93&MMap!J93&H93,'Savings from 6P'!$A$11:$A$92,0),MATCH(MMap!K93&G93,'Savings from 6P'!$A$4:$L$4,0))","v":0.9587989898567103},{"$f":"IF(P93<=0,0,VLOOKUP(F93&K93&H93,Costs!$A$13:$B$24,2,FALSE))","v":0},{"$f":"VLOOKUP($R$9,[2]CHAR!$B$17:$T$54,MATCH(J93,[2]CHAR!$B$16:$T$16,0),FALSE)","v":6.1675003194375045E-3},{"$f":"IFERROR(VLOOKUP($F93&$I93&$K93&$H93&$G93,'Savings from 6P'!$V$11:$X$435,3,FALSE),$AD93)","v":0.30000000000000004},{"$f":"MATCH(J93,[2]!BLDGTYPE,0)","v":12},3.9182634298973458E-2,0.46957192737561176,6.234756715808213E-2,0.92147944946531313,"POST2013",{"$f":"IFERROR(IF(G93=\"gasht\",INDEX('Savings from 6P'!$Z$11:$AF$28,MATCH(J93,'Savings from 6P'!$Z$11:$Z$28,0),MATCH(MMap!F93&MMap!H93&MMap!K93,'Savings from 6P'!$Y$7:$AE$7,0)),\"\"),\"\")","v":""},6.234756715808213E-2,15,null,1]
["Demand Control Ventilation-DCV Only-MiniMart-HtPmpHt-Heat-New","Demand Control Ventilation","Demand Control Ventilation-New-MiniMart-DCV Only","Demand Control Ventilation-New-MiniMart","Demand Control Ventilation-New","DCV Only","HtPmpHt","Heat","MIniMart","MiniMart","New","POST2013",9.2427059474725782E-3,8.8618971259793167,0,{"$f":"INDEX('Savings from 6P'!$A$11:$L$92,MATCH(MMap!F94&MMap!J94&H94,'Savings from 6P'!$A$11:$A$92,0),MATCH(MMap!K94&G94,'Savings from 6P'!$A$4:$L$4,0))","v":0.9587989898567103},{"$f":"IF(P94<=0,0,VLOOKUP(F94&K94&H94,Costs!$A$13:$B$24,2,FALSE))","v":0},{"$f":"VLOOKUP($R$9,[2]CHAR!$B$17:$T$54,MATCH(J94,[2]CHAR!$B$16:$T$16,0),FALSE)","v":2.5477723102065148E-3},{"$f":"IFERROR(VLOOKUP($F94&$I94&$K94&$H94&$G94,'Savings from 6P'!$V$11:$X$435,3,FALSE),$AD94)","v":0.7},{"$f":"MATCH(J94,[2]!BLDGTYPE,0)","v":13},9.8940421863423066E-3,0.86606113087441317,1.5743440192688529E-2,0.83868998628257874,"POST2013",{"$f":"IFERROR(IF(G94=\"gasht\",INDEX('Savings from 6P'!$Z$11:$AF$28,MATCH(J94,'Savings from 6P'!$Z$11:$Z$28,0),MATCH(MMap!F94&MMap!H94&MMap!K94,'Savings from 6P'!$Y$7:$AE$7,0)),\"\"),\"\")","v":""},1.5743440192688529E-2,15,null,1]
["Demand Control Ventilation-DCV Only-Restaurant-HtPmpHt-Heat-New","Demand Control Ventilation","Demand Control Ventilation-New-Restaurant-DCV Only","Demand Control Ventilation-New-Restaurant","Demand Control Ventilation-New","DCV Only","HtPmpHt","Heat","Restaurant","Restaurant","New","POST2013",0.12340761314906999,118.32309482795598,0,{"$f":"INDEX('Savings from 6P'!$A$11:$L$92,MATCH(MMap!F95&MMap!J95&H95,'Savings from 6P'!$A$11:$A$92,0),MATCH(MMap!K95&G95,'Savings from 6P'!$A$4:$L$4,0))","v":0.9587989898567103},{"$f":"IF(P95<=0,0,VLOOKUP(F95&K95&H95,Costs!$A$13:$B$24,2,FALSE))","v":0},{"$f":"VLOOKUP($R$9,[2]CHAR!$B$17:$T$54,MATCH(J95,[2]CHAR!$B$16:$T$16,0),FALSE)","v":1.1693580853842011E-2},{"$f":"IFERROR(VLOOKUP($F95&$I95&$K95&$H95&$G95,'Savings from 6P'!$V$11:$X$435,3,FALSE),$AD95)","v":0.7},{"$f":"MATCH(J95,[2]!BLDGTYPE,0)","v":14},3.0050555941853869E-2,0.79365284945968273,0.17629659459846331,0.99999997512427186,"POST2013",{"$f":"IFERROR(IF(G95=\"gasht\",INDEX('Savings from 6P'!$Z$11:$AF$28,MATCH(J95,'Savings from 6P'!$Z$11:$Z$28,0),MATCH(MMap!F95&MMap!H95&MMap!K95,'Savings from 6P'!$Y$7:$AE$7,0)),\"\"),\"\")","v":""},0.17629659459846331,15,null,1]
["Demand Control Ventilation-DCV Only-Lodging-HtPmpHt-Heat-New","Demand Control Ventilation","Demand Control Ventilation-New-Lodging-DCV Only","Demand Control Ventilation-New-Lodging","Demand Control Ventilation-New","DCV Only","HtPmpHt","Heat","Lodging","Lodging","New","POST2013",0.28689644068574455,70.802453404342643,0,{"$f":"INDEX('Savings from 6P'!$A$11:$L$92,MATCH(MMap!F96&MMap!J96&H96,'Savings from 6P'!$A$11:$A$92,0),MATCH(MMap!K96&G96,'Savings from 6P'!$A$4:$L$4,0))","v":0.24678749319827556},{"$f":"IF(P96<=0,0,VLOOKUP(F96&K96&H96,Costs!$A$13:$B$24,2,FALSE))","v":0},{"$f":"VLOOKUP($R$9,[2]CHAR!$B$17:$T$54,MATCH(J96,[2]CHAR!$B$16:$T$16,0),FALSE)","v":2.3957473342185561E-2},{"$f":"IFERROR(VLOOKUP($F96&$I96&$K96&$H96&$G96,'Savings from 6P'!$V$11:$X$435,3,FALSE),$AD96)","v":1},{"$f":"MATCH(J96,[2]!BLDGTYPE,0)","v":15},0.44679184687802564,0.24941748529786834,0.30379066782410608,0.94438859080377269,"POST2013",{"$f":"IFERROR(IF(G96=\"gasht\",INDEX('Savings from 6P'!$Z$11:$AF$28,MATCH(J96,'Savings from 6P'!$Z$11:$Z$28,0),MATCH(MMap!F96&MMap!H96&MMap!K96,'Savings from 6P'!$Y$7:$AE$7,0)),\"\"),\"\")","v":""},0.30379066782410608,15,null,1]
["Demand Control Ventilation-DCV Only-Hospital-HtPmpHt-Heat-New","Demand Control Ventilation","Demand Control Ventilation-New-Hospital-DCV Only","Demand Control Ventilation-New-Hospital","Demand Control Ventilation-New","DCV Only","HtPmpHt","Heat","Hospital","Hospital","New","POST2013",9.4999999999999998E-3,2.3444811853836174,0,{"$f":"INDEX('Savings from 6P'!$A$11:$L$92,MATCH(MMap!F97&MMap!J97&H97,'Savings from 6P'!$A$11:$A$92,0),MATCH(MMap!K97&G97,'Savings from 6P'!$A$4:$L$4,0))","v":0.24678749319827556},{"$f":"IF(P97<=0,0,VLOOKUP(F97&K97&H97,Costs!$A$13:$B$24,2,FALSE))","v":0},{"$f":"VLOOKUP($R$9,[2]CHAR!$B$17:$T$54,MATCH(J97,[2]CHAR!$B$16:$T$16,0),FALSE)","v":4.4965056377242296E-2},{"$f":"IFERROR(VLOOKUP($F97&$I97&$K97&$H97&$G97,'Savings from 6P'!$V$11:$X$435,3,FALSE),$AD97)","v":1},{"$f":"MATCH(J97,[2]!BLDGTYPE,0)","v":16},0.08,0.91,0.01,0.95,"POST2013",{"$f":"IFERROR(IF(G97=\"gasht\",INDEX('Savings from 6P'!$Z$11:$AF$28,MATCH(J97,'Savings from 6P'!$Z$11:$Z$28,0),MATCH(MMap!F97&MMap!H97&MMap!K97,'Savings from 6P'!$Y$7:$AE$7,0)),\"\"),\"\")","v":""},0.01,15,null,1]
["Demand Control Ventilation-DCV Only-Residential Care-HtPmpHt-Heat-New","Demand Control Ventilation","Demand Control Ventilation-New-Residential Care-DCV Only","Demand Control Ventilation-New-Residential Care","Demand Control Ventilation-New","DCV Only","HtPmpHt","Heat","OtherHealth","Residential Care","New","POST2013",0.21443994464789526,52.921096381231038,0,{"$f":"INDEX('Savings from 6P'!$A$11:$L$92,MATCH(MMap!F98&MMap!J98&H98,'Savings from 6P'!$A$11:$A$92,0),MATCH(MMap!K98&G98,'Savings from 6P'!$A$4:$L$4,0))","v":0.24678749319827556},{"$f":"IF(P98<=0,0,VLOOKUP(F98&K98&H98,Costs!$A$13:$B$24,2,FALSE))","v":0},{"$f":"VLOOKUP($R$9,[2]CHAR!$B$17:$T$54,MATCH(J98,[2]CHAR!$B$16:$T$16,0),FALSE)","v":5.827742495837801E-2},{"$f":"IFERROR(VLOOKUP($F98&$I98&$K98&$H98&$G98,'Savings from 6P'!$V$11:$X$435,3,FALSE),$AD98)","v":1},{"$f":"MATCH(J98,[2]!BLDGTYPE,0)","v":17},0.33985691133471541,0.40556621261939335,0.25457687604589124,0.8423386600487599,"POST2013",{"$f":"IFERROR(IF(G98=\"gasht\",INDEX('Savings from 6P'!$Z$11:$AF$28,MATCH(J98,'Savings from 6P'!$Z$11:$Z$28,0),MATCH(MMap!F98&MMap!H98&MMap!K98,'Savings from 6P'!$Y$7:$AE$7,0)),\"\"),\"\")","v":""},0.25457687604589124,15,null,1]
["Demand Control Ventilation-DCV Only-Assembly-HtPmpHt-Heat-New","Demand Control Ventilation","Demand Control Ventilation-New-Assembly-DCV Only","Demand Control Ventilation-New-Assembly","Demand Control Ventilation-New","DCV Only","HtPmpHt","Heat","Assembly","Assembly","New","POST2013",0.10525881768749383,25.976559754110912,0,{"$f":"INDEX('Savings from 6P'!$A$11:$L$92,MATCH(MMap!F99&MMap!J99&H99,'Savings from 6P'!$A$11:$A$92,0),MATCH(MMap!K99&G99,'Savings from 6P'!$A$4:$L$4,0))","v":0.24678749319827556},{"$f":"IF(P99<=0,0,VLOOKUP(F99&K99&H99,Costs!$A$13:$B$24,2,FALSE))","v":0},{"$f":"VLOOKUP($R$9,[2]CHAR!$B$17:$T$54,MATCH(J99,[2]CHAR!$B$16:$T$16,0),FALSE)","v":9.0984350406775827E-2},{"$f":"IFERROR(VLOOKUP($F99&$I99&$K99&$H99&$G99,'Savings from 6P'!$V$11:$X$435,3,FALSE),$AD99)","v":1},{"$f":"MATCH(J99,[2]!BLDGTYPE,0)","v":18},0.10640191237323121,0.77815390025512432,0.11544418737164447,0.91177234717447209,"POST2013",{"$f":"IFERROR(IF(G99=\"gasht\",INDEX('Savings from 6P'!$Z$11:$AF$28,MATCH(J99,'Savings from 6P'!$Z$11:$Z$28,0),MATCH(MMap!F99&MMap!H99&MMap!K99,'Savings from 6P'!$Y$7:$AE$7,0)),\"\"),\"\")","v":""},0.11544418737164447,15,null,1]
["Demand Control Ventilation-DCV Only-Other-HtPmpHt-Heat-New","Demand Control Ventilation","Demand Control Ventilation-New-Other-DCV Only","Demand Control Ventilation-New-Other","Demand Control Ventilation-New","DCV Only","HtPmpHt","Heat","Other","Other","New","POST2013",9.2006113937335224E-2,22.705958217509885,0,{"$f":"INDEX('Savings from 6P'!$A$11:$L$92,MATCH(MMap!F100&MMap!J100&H100,'Savings from 6P'!$A$11:$A$92,0),MATCH(MMap!K100&G100,'Savings from 6P'!$A$4:$L$4,0))","v":0.24678749319827556},{"$f":"IF(P100<=0,0,VLOOKUP(F100&K100&H100,Costs!$A$13:$B$24,2,FALSE))","v":0},{"$f":"VLOOKUP($R$9,[2]CHAR!$B$17:$T$54,MATCH(J100,[2]CHAR!$B$16:$T$16,0),FALSE)","v":0.21334717399999265},{"$f":"IFERROR(VLOOKUP($F100&$I100&$K100&$H100&$G100,'Savings from 6P'!$V$11:$X$435,3,FALSE),$AD100)","v":1},{"$f":"MATCH(J100,[2]!BLDGTYPE,0)","v":19},0.16939513747697868,0.7257160432726234,0.104888819250398,0.87717751610580841,"POST2013",{"$f":"IFERROR(IF(G100=\"gasht\",INDEX('Savings from 6P'!$Z$11:$AF$28,MATCH(J100,'Savings from 6P'!$Z$11:$Z$28,0),MATCH(MMap!F100&MMap!H100&MMap!K100,'Savings from 6P'!$Y$7:$AE$7,0)),\"\"),\"\")","v":""},0.104888819250398,15,null,1]
["Demand Control Ventilation-DOAS-Large Off-ElecHt-Vent-New","Demand Control Ventilation","Demand Control Ventilation-New-Large Off-DOAS","Demand Control Ventilation-New-Large Off","Demand Control Ventilation-New","DOAS","ElecHt","Vent","Large Off","Large Off","New","POST2013",0,0,0,{"$f":"INDEX('Savings from 6P'!$A$11:$L$92,MATCH(MMap!F101&MMap!J101&H101,'Savings from 6P'!$A$11:$A$92,0),MATCH(MMap!K101&G101,'Savings from 6P'!$A$4:$L$4,0))","v":0.55020399829497058},{"$f":"IF(P101<=0,0,VLOOKUP(F101&K101&H101,Costs!$A$13:$B$24,2,FALSE))","v":0.66131085943522216},{"$f":"VLOOKUP($R$9,[2]CHAR!$B$17:$T$54,MATCH(J101,[2]CHAR!$B$16:$T$16,0),FALSE)","v":0.15073291148870363},{"$f":"IFERROR(VLOOKUP($F101&$I101&$K101&$H101&$G101,'Savings from 6P'!$V$11:$X$435,3,FALSE),$AD101)","v":0},{"$f":"MATCH(J101,[2]!BLDGTYPE,0)","v":2},0.20943280302167308,0.54037060186620078,0.25019659511212627,0.95128694884061893,"POST2013",{"$f":"IFERROR(IF(G101=\"gasht\",INDEX('Savings from 6P'!$Z$11:$AF$28,MATCH(J101,'Savings from 6P'!$Z$11:$Z$28,0),MATCH(MMap!F101&MMap!H101&MMap!K101,'Savings from 6P'!$Y$7:$AE$7,0)),\"\"),\"\")","v":""},0.20943280302167308,15,null,0]
["Demand Control Ventilation-DOAS-Medium Off-ElecHt-Vent-New","Demand Control Ventilation","Demand Control Ventilation-New-Medium Off-DOAS","Demand Control Ventilation-New-Medium Off","Demand Control Ventilation-New","DOAS","ElecHt","Vent","Medium Off","Medium Off","New","POST2013",0,0,0,{"$f":"INDEX('Savings from 6P'!$A$11:$L$92,MATCH(MMap!F102&MMap!J102&H102,'Savings from 6P'!$A$11:$A$92,0),MATCH(MMap!K102&G102,'Savings from 6P'!$A$4:$L$4,0))","v":0.55020399829497058},{"$f":"IF(P102<=0,0,VLOOKUP(F102&K102&H102,Costs!$A$13:$B$24,2,FALSE))","v":0.66131085943522216},{"$f":"VLOOKUP($R$9,[2]CHAR!$B$17:$T$54,MATCH(J102,[2]CHAR!$B$16:$T$16,0),FALSE)","v":0.12013270538231059},{"$f":"IFERROR(VLOOKUP($F102&$I102&$K102&$H102&$G102,'Savings from 6P'!$V$11:$X$435,3,FALSE),$AD102)","v":0},{"$f":"MATCH(J102,[2]!BLDGTYPE,0)","v":3},0.22131165109110185,0.51430081857580845,0.26438753033308959,0.97665874571205136,"POST2013",{"$f":"IFERROR(IF(G102=\"gasht\",INDEX('Savings from 6P'!$Z$11:$AF$28,MATCH(J102,'Savings from 6P'!$Z$11:$Z$28,0),MATCH(MMap!F102&MMap!H102&MMap!K102,'Savings from 6P'!$Y$7:$AE$7,0)),\"\"),\"\")","v":""},0.22131165109110185,15,null,0]
["Demand Control Ventilation-DOAS-Small Off-ElecHt-Vent-New","Demand Control Ventilation","Demand Control Ventilation-New-Small Off-DOAS","Demand Control Ventilation-New-Small Off","Demand Control Ventilation-New","DOAS","ElecHt","Vent","Small Off","Small Off","New","POST2013",0,0,0,{"$f":"INDEX('Savings from 6P'!$A$11:$L$92,MATCH(MMap!F103&MMap!J103&H103,'Savings from 6P'!$A$11:$A$92,0),MATCH(MMap!K103&G103,'Savings from 6P'!$A$4:$L$4,0))","v":0.55020399829497058},{"$f":"IF(P103<=0,0,VLOOKUP(F103&K103&H103,Costs!$A$13:$B$24,2,FALSE))","v":0.66131085943522216},{"$f":"VLOOKUP($R$9,[2]CHAR!$B$17:$T$54,MATCH(J103,[2]CHAR!$B$16:$T$16,0),FALSE)","v":3.1538695729415013E-2},{"$f":"IFERROR(VLOOKUP($F103&$I103&$K103&$H103&$G103,'Savings from 6P'!$V$11:$X$435,3,FALSE),$AD103)","v":0},{"$f":"MATCH(J103,[2]!BLDGTYPE,0)","v":4},0.30640942705415353,0.3275419203320854,0.36604865261376096,0.91122609210258287,"POST2013",{"$f":"IFERROR(IF(G103=\"gasht\",INDEX('Savings from 6P'!$Z$11:$AF$28,MATCH(J103,'Savings from 6P'!$Z$11:$Z$28,0),MATCH(MMap!F103&MMap!H103&MMap!K103,'Savings from 6P'!$Y$7:$AE$7,0)),\"\"),\"\")","v":""},0.30640942705415353,15,null,0]
["Demand Control Ventilation-DOAS-Xlarge Ret-ElecHt-Vent-New","Demand Control Ventilation","Demand Control Ventilation-New-Xlarge Ret-DOAS","Demand Control Ventilation-New-Xlarge Ret","Demand Control Ventilation-New","DOAS","ElecHt","Vent","Big Box","Xlarge Ret","New","POST2013",3.658091230505308E-2,20.868459303941318,24.191354555379146,{"$f":"INDEX('Savings from 6P'!$A$11:$L$92,MATCH(MMap!F104&MMap!J104&H104,'Savings from 6P'!$A$11:$A$92,0),MATCH(MMap!K104&G104,'Savings from 6P'!$A$4:$L$4,0))","v":0.57047399829497059},{"$f":"IF(P104<=0,0,VLOOKUP(F104&K104&H104,Costs!$A$13:$B$24,2,FALSE))","v":0.66131085943522216},{"$f":"VLOOKUP($R$9,[2]CHAR!$B$17:$T$54,MATCH(J104,[2]CHAR!$B$16:$T$16,0),FALSE)","v":2.6820893655991742E-2},{"$f":"IFERROR(VLOOKUP($F104&$I104&$K104&$H104&$G104,'Savings from 6P'!$V$11:$X$435,3,FALSE),$AD104)","v":0.7},{"$f":"MATCH(J104,[2]!BLDGTYPE,0)","v":5},5.2995881766435368E-2,0.91606730000738101,3.0936818226183656E-2,0.98608503921852686,"POST2013",{"$f":"IFERROR(IF(G104=\"gasht\",INDEX('Savings from 6P'!$Z$11:$AF$28,MATCH(J104,'Savings from 6P'!$Z$11:$Z$28,0),MATCH(MMap!F104&MMap!H104&MMap!K104,'Savings from 6P'!$Y$7:$AE$7,0)),\"\"),\"\")","v":""},5.2995881766435368E-2,15,null,0.7]
["Demand Control Ventilation-DOAS-Large Ret-ElecHt-Vent-New","Demand Control Ventilation","Demand Control Ventilation-New-Large Ret-DOAS","Demand Control Ventilation-New-Large Ret","Demand Control Ventilation-New","DOAS","ElecHt","Vent","Small Box","Large Ret","New","POST2013",4.9055523917715315E-3,2.7984900867793616,3.2440950682069412,{"$f":"INDEX('Savings from 6P'!$A$11:$L$92,MATCH(MMap!F105&MMap!J105&H105,'Savings from 6P'!$A$11:$A$92,0),MATCH(MMap!K105&G105,'Savings from 6P'!$A$4:$L$4,0))","v":0.57047399829497059},{"$f":"IF(P105<=0,0,VLOOKUP(F105&K105&H105,Costs!$A$13:$B$24,2,FALSE))","v":0.66131085943522216},{"$f":"VLOOKUP($R$9,[2]CHAR!$B$17:$T$54,MATCH(J105,[2]CHAR!$B$16:$T$16,0),FALSE)","v":1.0839638408159987E-2},{"$f":"IFERROR(VLOOKUP($F105&$I105&$K105&$H105&$G105,'Savings from 6P'!$V$11:$X$435,3,FALSE),$AD105)","v":0.6},{"$f":"MATCH(J105,[2]!BLDGTYPE,0)","v":6},1.0593107738682607E-2,0.98322307122393326,6.1838210373840949E-3,0.77181511362305244,"POST2013",{"$f":"IFERROR(IF(G105=\"gasht\",INDEX('Savings from 6P'!$Z$11:$AF$28,MATCH(J105,'Savings from 6P'!$Z$11:$Z$28,0),MATCH(MMap!F105&MMap!H105&MMap!K105,'Savings from 6P'!$Y$7:$AE$7,0)),\"\"),\"\")","v":""},1.0593107738682607E-2,15,null,0.6]
["Demand Control Ventilation-DOAS-Medium Ret-ElecHt-Vent-New","Demand Control Ventilation","Demand Control Ventilation-New-Medium Ret-DOAS","Demand Control Ventilation-New-Medium Ret","Demand Control Ventilation-New","DOAS","ElecHt","Vent","High End","Medium Ret","New","POST2013",3.2606862153531896E-2,17.445779829857127,21.563272034237997,{"$f":"INDEX('Savings from 6P'!$A$11:$L$92,MATCH(MMap!F106&MMap!J106&H106,'Savings from 6P'!$A$11:$A$92,0),MATCH(MMap!K106&G106,'Savings from 6P'!$A$4:$L$4,0))","v":0.53503399829497056},{"$f":"IF(P106<=0,0,VLOOKUP(F106&K106&H106,Costs!$A$13:$B$24,2,FALSE))","v":0.66131085943522216},{"$f":"VLOOKUP($R$9,[2]CHAR!$B$17:$T$54,MATCH(J106,[2]CHAR!$B$16:$T$16,0),FALSE)","v":4.0894012773033235E-2},{"$f":"IFERROR(VLOOKUP($F106&$I106&$K106&$H106&$G106,'Savings from 6P'!$V$11:$X$435,3,FALSE),$AD106)","v":0.3},{"$f":"MATCH(J106,[2]!BLDGTYPE,0)","v":7},0.12006240959495594,0.80985008893074606,7.0087501474297986E-2,0.90527535536267667,"POST2013",{"$f":"IFERROR(IF(G106=\"gasht\",INDEX('Savings from 6P'!$Z$11:$AF$28,MATCH(J106,'Savings from 6P'!$Z$11:$Z$28,0),MATCH(MMap!F106&MMap!H106&MMap!K106,'Savings from 6P'!$Y$7:$AE$7,0)),\"\"),\"\")","v":""},0.12006240959495594,15,null,0.3]
["Demand Control Ventilation-DOAS-Small Ret-ElecHt-Vent-New","Demand Control Ventilation","Demand Control Ventilation-New-Small Ret-DOAS","Demand Control Ventilation-New-Small Ret","Demand Control Ventilation-New","DOAS","ElecHt","Vent","Anchor","Small Ret","New","POST2013",4.4001238746589351E-2,23.54215869651928,29.098497011721403,{"$f":"INDEX('Savings from 6P'!$A$11:$L$92,MATCH(MMap!F107&MMap!J107&H107,'Savings from 6P'!$A$11:$A$92,0),MATCH(MMap!K107&G107,'Savings from 6P'!$A$4:$L$4,0))","v":0.53503399829497056},{"$f":"IF(P107<=0,0,VLOOKUP(F107&K107&H107,Costs!$A$13:$B$24,2,FALSE))","v":0.66131085943522216},{"$f":"VLOOKUP($R$9,[2]CHAR!$B$17:$T$54,MATCH(J107,[2]CHAR!$B$16:$T$16,0),FALSE)","v":1.3016203517984767E-2},{"$f":"IFERROR(VLOOKUP($F107&$I107&$K107&$H107&$G107,'Savings from 6P'!$V$11:$X$435,3,FALSE),$AD107)","v":0.3},{"$f":"MATCH(J107,[2]!BLDGTYPE,0)","v":8},0.2732917310450087,0.56717178566142912,0.15953648329356207,0.53668215741883951,"POST2013",{"$f":"IFERROR(IF(G107=\"gasht\",INDEX('Savings from 6P'!$Z$11:$AF$28,MATCH(J107,'Savings from 6P'!$Z$11:$Z$28,0),MATCH(MMap!F107&MMap!H107&MMap!K107,'Savings from 6P'!$Y$7:$AE$7,0)),\"\"),\"\")","v":""},0.2732917310450087,15,null,0.3]
["Demand Control Ventilation-DOAS-School K-12-ElecHt-Vent-New","Demand Control Ventilation","Demand Control Ventilation-New-School K-12-DOAS","Demand Control Ventilation-New-School K-12","Demand Control Ventilation-New","DOAS","ElecHt","Vent","K-12","School K-12","New","POST2013",0,0,0,{"$f":"INDEX('Savings from 6P'!$A$11:$L$92,MATCH(MMap!F108&MMap!J108&H108,'Savings from 6P'!$A$11:$A$92,0),MATCH(MMap!K108&G108,'Savings from 6P'!$A$4:$L$4,0))","v":0.55020399829497058},{"$f":"IF(P108<=0,0,VLOOKUP(F108&K108&H108,Costs!$A$13:$B$24,2,FALSE))","v":0.66131085943522216},{"$f":"VLOOKUP($R$9,[2]CHAR!$B$17:$T$54,MATCH(J108,[2]CHAR!$B$16:$T$16,0),FALSE)","v":3.0886857559635036E-2},{"$f":"IFERROR(VLOOKUP($F108&$I108&$K108&$H108&$G108,'Savings from 6P'!$V$11:$X$435,3,FALSE),$AD108)","v":0},{"$f":"MATCH(J108,[2]!BLDGTYPE,0)","v":9},5.8369343906151915E-2,0.84777782221188291,9.3852833881965178E-2,0.96128535178408803,"POST2013",{"$f":"IFERROR(IF(G108=\"gasht\",INDEX('Savings from 6P'!$Z$11:$AF$28,MATCH(J108,'Savings from 6P'!$Z$11:$Z$28,0),MATCH(MMap!F108&MMap!H108&MMap!K108,'Savings from 6P'!$Y$7:$AE$7,0)),\"\"),\"\")","v":""},5.8369343906151915E-2,15,null,0]
["Demand Control Ventilation-DOAS-University-ElecHt-Vent-New","Demand Control Ventilation","Demand Control Ventilation-New-University-DOAS","Demand Control Ventilation-New-University","Demand Control Ventilation-New","DOAS","ElecHt","Vent","University","University","New","POST2013",0,0,0,{"$f":"INDEX('Savings from 6P'!$A$11:$L$92,MATCH(MMap!F109&MMap!J109&H109,'Savings from 6P'!$A$11:$A$92,0),MATCH(MMap!K109&G109,'Savings from 6P'!$A$4:$L$4,0))","v":0.55020399829497058},{"$f":"IF(P109<=0,0,VLOOKUP(F109&K109&H109,Costs!$A$13:$B$24,2,FALSE))","v":0.66131085943522216},{"$f":"VLOOKUP($R$9,[2]CHAR!$B$17:$T$54,MATCH(J109,[2]CHAR!$B$16:$T$16,0),FALSE)","v":2.2325826170102026E-2},{"$f":"IFERROR(VLOOKUP($F109&$I109&$K109&$H109&$G109,'Savings from 6P'!$V$11:$X$435,3,FALSE),$AD109)","v":0},{"$f":"MATCH(J109,[2]!BLDGTYPE,0)","v":10},0.1,0.8,0.1,0.75,"POST2013",{"$f":"IFERROR(IF(G109=\"gasht\",INDEX('Savings from 6P'!$Z$11:$AF$28,MATCH(J109,'Savings from 6P'!$Z$11:$Z$28,0),MATCH(MMap!F109&MMap!H109&MMap!K109,'Savings from 6P'!$Y$7:$AE$7,0)),\"\"),\"\")","v":""},0.1,15,null,0]
["Demand Control Ventilation-DOAS-Warehouse-ElecHt-Vent-New","Demand Control Ventilation","Demand Control Ventilation-New-Warehouse-DOAS","Demand Control Ventilation-New-Warehouse","Demand Control Ventilation-New","DOAS","ElecHt","Vent","Warehouse","Warehouse","New","POST2013",0,0,0,{"$f":"INDEX('Savings from 6P'!$A$11:$L$92,MATCH(MMap!F110&MMap!J110&H110,'Savings from 6P'!$A$11:$A$92,0),MATCH(MMap!K110&G110,'Savings from 6P'!$A$4:$L$4,0))","v":0.55020399829497058},{"$f":"IF(P110<=0,0,VLOOKUP(F110&K110&H110,Costs!$A$13:$B$24,2,FALSE))","v":0.66131085943522216},{"$f":"VLOOKUP($R$9,[2]CHAR!$B$17:$T$54,MATCH(J110,[2]CHAR!$B$16:$T$16,0),FALSE)","v":0.10087192274660353},{"$f":"IFERROR(VLOOKUP($F110&$I110&$K110&$H110&$G110,'Savings from 6P'!$V$11:$X$435,3,FALSE),$AD110)","v":0},{"$f":"MATCH(J110,[2]!BLDGTYPE,0)","v":11},6.3929137015483993E-3,0.98700382329725422,6.6032630011973147E-3,0.18162271351024481,"POST2013",{"$f":"IFERROR(IF(G110=\"gasht\",INDEX('Savings from 6P'!$Z$11:$AF$28,MATCH(J110,'Savings from 6P'!$Z$11:$Z$28,0),MATCH(MMap!F110&MMap!H110&MMap!K110,'Savings from 6P'!$Y$7:$AE$7,0)),\"\"),\"\")","v":""},6.3929137015483993E-3,15,null,0]
["Demand Control Ventilation-DOAS-Supermarket-ElecHt-Vent-New","Demand Control Ventilation","Demand Control Ventilation-New-Supermarket-DOAS","Demand Control Ventilation-New-Supermarket","Demand Control Ventilation-New","DOAS","ElecHt","Vent","Supermarket","Supermarket","New","POST2013",2.5274194597693127E-2,14.418270845831143,16.714099350933491,{"$f":"INDEX('Savings from 6P'!$A$11:$L$92,MATCH(MMap!F111&MMap!J111&H111,'Savings from 6P'!$A$11:$A$92,0),MATCH(MMap!K111&G111,'Savings from 6P'!$A$4:$L$4,0))","v":0.57047399829497059},{"$f":"IF(P111<=0,0,VLOOKUP(F111&K111&H111,Costs!$A$13:$B$24,2,FALSE))","v":0.66131085943522216},{"$f":"VLOOKUP($R$9,[2]CHAR!$B$17:$T$54,MATCH(J111,[2]CHAR!$B$16:$T$16,0),FALSE)","v":6.1675003194375045E-3},{"$f":"IFERROR(VLOOKUP($F111&$I111&$K111&$H111&$G111,'Savings from 6P'!$V$11:$X$435,3,FALSE),$AD111)","v":0.7},{"$f":"MATCH(J111,[2]!BLDGTYPE,0)","v":12},3.9182634298973458E-2,0.46957192737561176,6.234756715808213E-2,0.92147944946531313,"POST2013",{"$f":"IFERROR(IF(G111=\"gasht\",INDEX('Savings from 6P'!$Z$11:$AF$28,MATCH(J111,'Savings from 6P'!$Z$11:$Z$28,0),MATCH(MMap!F111&MMap!H111&MMap!K111,'Savings from 6P'!$Y$7:$AE$7,0)),\"\"),\"\")","v":""},3.9182634298973458E-2,15,null,0]
["Demand Control Ventilation-DOAS-MiniMart-ElecHt-Vent-New","Demand Control Ventilation","Demand Control Ventilation-New-MiniMart-DOAS","Demand Control Ventilation-New-MiniMart","Demand Control Ventilation-New","DOAS","ElecHt","Vent","MIniMart","MiniMart","New","POST2013",2.4894102316628049E-3,1.4201438082530893,1.646274019787765,{"$f":"INDEX('Savings from 6P'!$A$11:$L$92,MATCH(MMap!F112&MMap!J112&H112,'Savings from 6P'!$A$11:$A$92,0),MATCH(MMap!K112&G112,'Savings from 6P'!$A$4:$L$4,0))","v":0.57047399829497059},{"$f":"IF(P112<=0,0,VLOOKUP(F112&K112&H112,Costs!$A$13:$B$24,2,FALSE))","v":0.66131085943522216},{"$f":"VLOOKUP($R$9,[2]CHAR!$B$17:$T$54,MATCH(J112,[2]CHAR!$B$16:$T$16,0),FALSE)","v":2.5477723102065148E-3},{"$f":"IFERROR(VLOOKUP($F112&$I112&$K112&$H112&$G112,'Savings from 6P'!$V$11:$X$435,3,FALSE),$AD112)","v":0.3},{"$f":"MATCH(J112,[2]!BLDGTYPE,0)","v":13},9.8940421863423066E-3,0.86606113087441317,1.5743440192688529E-2,0.83868998628257874,"POST2013",{"$f":"IFERROR(IF(G112=\"gasht\",INDEX('Savings from 6P'!$Z$11:$AF$28,MATCH(J112,'Savings from 6P'!$Z$11:$Z$28,0),MATCH(MMap!F112&MMap!H112&MMap!K112,'Savings from 6P'!$Y$7:$AE$7,0)),\"\"),\"\")","v":""},9.8940421863423066E-3,15,null,0]
["Demand Control Ventilation-DOAS-Restaurant-ElecHt-Vent-New","Demand Control Ventilation","Demand Control Ventilation-New-Restaurant-DOAS","Demand Control Ventilation-New-Restaurant","Demand Control Ventilation-New","DOAS","ElecHt","Vent","Restaurant","Restaurant","New","POST2013",9.0151665582973231E-3,5.1429181118069831,5.9618275446192772,{"$f":"INDEX('Savings from 6P'!$A$11:$L$92,MATCH(MMap!F113&MMap!J113&H113,'Savings from 6P'!$A$11:$A$92,0),MATCH(MMap!K113&G113,'Savings from 6P'!$A$4:$L$4,0))","v":0.57047399829497059},{"$f":"IF(P113<=0,0,VLOOKUP(F113&K113&H113,Costs!$A$13:$B$24,2,FALSE))","v":0.66131085943522216},{"$f":"VLOOKUP($R$9,[2]CHAR!$B$17:$T$54,MATCH(J113,[2]CHAR!$B$16:$T$16,0),FALSE)","v":1.1693580853842011E-2},{"$f":"IFERROR(VLOOKUP($F113&$I113&$K113&$H113&$G113,'Savings from 6P'!$V$11:$X$435,3,FALSE),$AD113)","v":0.3},{"$f":"MATCH(J113,[2]!BLDGTYPE,0)","v":14},3.0050555941853869E-2,0.79365284945968273,0.17629659459846331,0.99999997512427186,"POST2013",{"$f":"IFERROR(IF(G113=\"gasht\",INDEX('Savings from 6P'!$Z$11:$AF$28,MATCH(J113,'Savings from 6P'!$Z$11:$Z$28,0),MATCH(MMap!F113&MMap!H113&MMap!K113,'Savings from 6P'!$Y$7:$AE$7,0)),\"\"),\"\")","v":""},3.0050555941853869E-2,15,null,0]
["Demand Control Ventilation-DOAS-Lodging-ElecHt-Vent-New","Demand Control Ventilation","Demand Control Ventilation-New-Lodging-DOAS","Demand Control Ventilation-New-Lodging","Demand Control Ventilation-New","DOAS","ElecHt","Vent","Lodging","Lodging","New","POST2013",0,0,0,{"$f":"INDEX('Savings from 6P'!$A$11:$L$92,MATCH(MMap!F114&MMap!J114&H114,'Savings from 6P'!$A$11:$A$92,0),MATCH(MMap!K114&G114,'Savings from 6P'!$A$4:$L$4,0))","v":0.55020399829497058},{"$f":"IF(P114<=0,0,VLOOKUP(F114&K114&H114,Costs!$A$13:$B$24,2,FALSE))","v":0.66131085943522216},{"$f":"VLOOKUP($R$9,[2]CHAR!$B$17:$T$54,MATCH(J114,[2]CHAR!$B$16:$T$16,0),FALSE)","v":2.3957473342185561E-2},{"$f":"IFERROR(VLOOKUP($F114&$I114&$K114&$H114&$G114,'Savings from 6P'!$V$11:$X$435,3,FALSE),$AD114)","v":0},{"$f":"MATCH(J114,[2]!BLDGTYPE,0)","v":15},0.44679184687802564,0.24941748529786834,0.30379066782410608,0.94438859080377269,"POST2013",{"$f":"IFERROR(IF(G114=\"gasht\",INDEX('Savings from 6P'!$Z$11:$AF$28,MATCH(J114,'Savings from 6P'!$Z$11:$Z$28,0),MATCH(MMap!F114&MMap!H114&MMap!K114,'Savings from 6P'!$Y$7:$AE$7,0)),\"\"),\"\")","v":""},0.44679184687802564,15,null,0]
["Demand Control Ventilation-DOAS-Hospital-ElecHt-Vent-New","Demand Control Ventilation","Demand Control Ventilation-New-Hospital-DOAS","Demand Control Ventilation-New-Hospital","Demand Control Ventilation-New","DOAS","ElecHt","Vent","Hospital","Hospital","New","POST2013",0,0,0,{"$f":"INDEX('Savings from 6P'!$A$11:$L$92,MATCH(MMap!F115&MMap!J115&H115,'Savings from 6P'!$A$11:$A$92,0),MATCH(MMap!K115&G115,'Savings from 6P'!$A$4:$L$4,0))","v":0.55020399829497058},{"$f":"IF(P115<=0,0,VLOOKUP(F115&K115&H115,Costs!$A$13:$B$24,2,FALSE))","v":0.66131085943522216},{"$f":"VLOOKUP($R$9,[2]CHAR!$B$17:$T$54,MATCH(J115,[2]CHAR!$B$16:$T$16,0),FALSE)","v":4.4965056377242296E-2},{"$f":"IFERROR(VLOOKUP($F115&$I115&$K115&$H115&$G115,'Savings from 6P'!$V$11:$X$435,3,FALSE),$AD115)","v":0},{"$f":"MATCH(J115,[2]!BLDGTYPE,0)","v":16},0.08,0.91,0.01,0.95,"POST2013",{"$f":"IFERROR(IF(G115=\"gasht\",INDEX('Savings from 6P'!$Z$11:$AF$28,MATCH(J115,'Savings from 6P'!$Z$11:$Z$28,0),MATCH(MMap!F115&MMap!H115&MMap!K115,'Savings from 6P'!$Y$7:$AE$7,0)),\"\"),\"\")","v":""},0.08,15,null,0]
["Demand Control Ventilation-DOAS-Residential Care-ElecHt-Vent-New","Demand Control Ventilation","Demand Control Ventilation-New-Residential Care-DOAS","Demand Control Ventilation-New-Residential Care","Demand Control Ventilation-New","DOAS","ElecHt","Vent","OtherHealth","Residential Care","New","POST2013",0,0,0,{"$f":"INDEX('Savings from 6P'!$A$11:$L$92,MATCH(MMap!F116&MMap!J116&H116,'Savings from 6P'!$A$11:$A$92,0),MATCH(MMap!K116&G116,'Savings from 6P'!$A$4:$L$4,0))","v":0.55020399829497058},{"$f":"IF(P116<=0,0,VLOOKUP(F116&K116&H116,Costs!$A$13:$B$24,2,FALSE))","v":0.66131085943522216},{"$f":"VLOOKUP($R$9,[2]CHAR!$B$17:$T$54,MATCH(J116,[2]CHAR!$B$16:$T$16,0),FALSE)","v":5.827742495837801E-2},{"$f":"IFERROR(VLOOKUP($F116&$I116&$K116&$H116&$G116,'Savings from 6P'!$V$11:$X$435,3,FALSE),$AD116)","v":0},{"$f":"MATCH(J116,[2]!BLDGTYPE,0)","v":17},0.33985691133471541,0.40556621261939335,0.25457687604589124,0.8423386600487599,"POST2013",{"$f":"IFERROR(IF(G116=\"gasht\",INDEX('Savings from 6P'!$Z$11:$AF$28,MATCH(J116,'Savings from 6P'!$Z$11:$Z$28,0),MATCH(MMap!F116&MMap!H116&MMap!K116,'Savings from 6P'!$Y$7:$AE$7,0)),\"\"),\"\")","v":""},0.33985691133471541,15,null,0]
["Demand Control Ventilation-DOAS-Assembly-ElecHt-Vent-New","Demand Control Ventilation","Demand Control Ventilation-New-Assembly-DOAS","Demand Control Ventilation-New-Assembly","Demand Control Ventilation-New","DOAS","ElecHt","Vent","Assembly","Assembly","New","POST2013",0,0,0,{"$f":"INDEX('Savings from 6P'!$A$11:$L$92,MATCH(MMap!F117&MMap!J117&H117,'Savings from 6P'!$A$11:$A$92,0),MATCH(MMap!K117&G117,'Savings from 6P'!$A$4:$L$4,0))","v":0.55020399829497058},{"$f":"IF(P117<=0,0,VLOOKUP(F117&K117&H117,Costs!$A$13:$B$24,2,FALSE))","v":0.66131085943522216},{"$f":"VLOOKUP($R$9,[2]CHAR!$B$17:$T$54,MATCH(J117,[2]CHAR!$B$16:$T$16,0),FALSE)","v":9.0984350406775827E-2},{"$f":"IFERROR(VLOOKUP($F117&$I117&$K117&$H117&$G117,'Savings from 6P'!$V$11:$X$435,3,FALSE),$AD117)","v":0},{"$f":"MATCH(J117,[2]!BLDGTYPE,0)","v":18},0.10640191237323121,0.77815390025512432,0.11544418737164447,0.91177234717447209,"POST2013",{"$f":"IFERROR(IF(G117=\"gasht\",INDEX('Savings from 6P'!$Z$11:$AF$28,MATCH(J117,'Savings from 6P'!$Z$11:$Z$28,0),MATCH(MMap!F117&MMap!H117&MMap!K117,'Savings from 6P'!$Y$7:$AE$7,0)),\"\"),\"\")","v":""},0.10640191237323121,15,null,0]
["Demand Control Ventilation-DOAS-Other-ElecHt-Vent-New","Demand Control Ventilation","Demand Control Ventilation-New-Other-DOAS","Demand Control Ventilation-New-Other","Demand Control Ventilation-New","DOAS","ElecHt","Vent","Other","Other","New","POST2013",0,0,0,{"$f":"INDEX('Savings from 6P'!$A$11:$L$92,MATCH(MMap!F118&MMap!J118&H118,'Savings from 6P'!$A$11:$A$92,0),MATCH(MMap!K118&G118,'Savings from 6P'!$A$4:$L$4,0))","v":0.55020399829497058},{"$f":"IF(P118<=0,0,VLOOKUP(F118&K118&H118,Costs!$A$13:$B$24,2,FALSE))","v":0.66131085943522216},{"$f":"VLOOKUP($R$9,[2]CHAR!$B$17:$T$54,MATCH(J118,[2]CHAR!$B$16:$T$16,0),FALSE)","v":0.21334717399999265},{"$f":"IFERROR(VLOOKUP($F118&$I118&$K118&$H118&$G118,'Savings from 6P'!$V$11:$X$435,3,FALSE),$AD118)","v":0},{"$f":"MATCH(J118,[2]!BLDGTYPE,0)","v":19},0.16939513747697868,0.7257160432726234,0.104888819250398,0.87717751610580841,"POST2013",{"$f":"IFERROR(IF(G118=\"gasht\",INDEX('Savings from 6P'!$Z$11:$AF$28,MATCH(J118,'Savings from 6P'!$Z$11:$Z$28,0),MATCH(MMap!F118&MMap!H118&MMap!K118,'Savings from 6P'!$Y$7:$AE$7,0)),\"\"),\"\")","v":""},0.16939513747697868,15,null,0]
["Demand Control Ventilation-DOAS-Large Off-ElecHt-Heat-New","Demand Control Ventilation","Demand Control Ventilation-New-Large Off-DOAS","Demand Control Ventilation-New-Large Off","Demand Control Ventilation-New","DOAS","ElecHt","Heat","Large Off","Large Off","New","POST2013",0,0,0,{"$f":"INDEX('Savings from 6P'!$A$11:$L$92,MATCH(MMap!F119&MMap!J119&H119,'Savings from 6P'!$A$11:$A$92,0),MATCH(MMap!K119&G119,'Savings from 6P'!$A$4:$L$4,0))","v":1.5034280691473776},{"$f":"IF(P119<=0,0,VLOOKUP(F119&K119&H119,Costs!$A$13:$B$24,2,FALSE))","v":0},{"$f":"VLOOKUP($R$9,[2]CHAR!$B$17:$T$54,MATCH(J119,[2]CHAR!$B$16:$T$16,0),FALSE)","v":0.15073291148870363},{"$f":"IFERROR(VLOOKUP($F119&$I119&$K119&$H119&$G119,'Savings from 6P'!$V$11:$X$435,3,FALSE),$AD119)","v":0},{"$f":"MATCH(J119,[2]!BLDGTYPE,0)","v":2},0.20943280302167308,0.54037060186620078,0.25019659511212627,0.95128694884061893,"POST2013",{"$f":"IFERROR(IF(G119=\"gasht\",INDEX('Savings from 6P'!$Z$11:$AF$28,MATCH(J119,'Savings from 6P'!$Z$11:$Z$28,0),MATCH(MMap!F119&MMap!H119&MMap!K119,'Savings from 6P'!$Y$7:$AE$7,0)),\"\"),\"\")","v":""},0.20943280302167308,15,null,0]
["Demand Control Ventilation-DOAS-Medium Off-ElecHt-Heat-New","Demand Control Ventilation","Demand Control Ventilation-New-Medium Off-DOAS","Demand Control Ventilation-New-Medium Off","Demand Control Ventilation-New","DOAS","ElecHt","Heat","Medium Off","Medium Off","New","POST2013",0,0,0,{"$f":"INDEX('Savings from 6P'!$A$11:$L$92,MATCH(MMap!F120&MMap!J120&H120,'Savings from 6P'!$A$11:$A$92,0),MATCH(MMap!K120&G120,'Savings from 6P'!$A$4:$L$4,0))","v":1.5034280691473776},{"$f":"IF(P120<=0,0,VLOOKUP(F120&K120&H120,Costs!$A$13:$B$24,2,FALSE))","v":0},{"$f":"VLOOKUP($R$9,[2]CHAR!$B$17:$T$54,MATCH(J120,[2]CHAR!$B$16:$T$16,0),FALSE)","v":0.12013270538231059},{"$f":"IFERROR(VLOOKUP($F120&$I120&$K120&$H120&$G120,'Savings from 6P'!$V$11:$X$435,3,FALSE),$AD120)","v":0},{"$f":"MATCH(J120,[2]!BLDGTYPE,0)","v":3},0.22131165109110185,0.51430081857580845,0.26438753033308959,0.97665874571205136,"POST2013",{"$f":"IFERROR(IF(G120=\"gasht\",INDEX('Savings from 6P'!$Z$11:$AF$28,MATCH(J120,'Savings from 6P'!$Z$11:$Z$28,0),MATCH(MMap!F120&MMap!H120&MMap!K120,'Savings from 6P'!$Y$7:$AE$7,0)),\"\"),\"\")","v":""},0.22131165109110185,15,null,0]
["Demand Control Ventilation-DOAS-Small Off-ElecHt-Heat-New","Demand Control Ventilation","Demand Control Ventilation-New-Small Off-DOAS","Demand Control Ventilation-New-Small Off","Demand Control Ventilation-New","DOAS","ElecHt","Heat","Small Off","Small Off","New","POST2013",0,0,0,{"$f":"INDEX('Savings from 6P'!$A$11:$L$92,MATCH(MMap!F121&MMap!J121&H121,'Savings from 6P'!$A$11:$A$92,0),MATCH(MMap!K121&G121,'Savings from 6P'!$A$4:$L$4,0))","v":1.5034280691473776},{"$f":"IF(P121<=0,0,VLOOKUP(F121&K121&H121,Costs!$A$13:$B$24,2,FALSE))","v":0},{"$f":"VLOOKUP($R$9,[2]CHAR!$B$17:$T$54,MATCH(J121,[2]CHAR!$B$16:$T$16,0),FALSE)","v":3.1538695729415013E-2},{"$f":"IFERROR(VLOOKUP($F121&$I121&$K121&$H121&$G121,'Savings from 6P'!$V$11:$X$435,3,FALSE),$AD121)","v":0},{"$f":"MATCH(J121,[2]!BLDGTYPE,0)","v":4},0.30640942705415353,0.3275419203320854,0.36604865261376096,0.91122609210258287,"POST2013",{"$f":"IFERROR(IF(G121=\"gasht\",INDEX('Savings from 6P'!$Z$11:$AF$28,MATCH(J121,'Savings from 6P'!$Z$11:$Z$28,0),MATCH(MMap!F121&MMap!H121&MMap!K121,'Savings from 6P'!$Y$7:$AE$7,0)),\"\"),\"\")","v":""},0.30640942705415353,15,null,0]
["Demand Control Ventilation-DOAS-Xlarge Ret-ElecHt-Heat-New","Demand Control Ventilation","Demand Control Ventilation-New-Xlarge Ret-DOAS","Demand Control Ventilation-New-Xlarge Ret","Demand Control Ventilation-New","DOAS","ElecHt","Heat","Big Box","Xlarge Ret","New","POST2013",3.658091230505308E-2,119.29686092005944,0,{"$f":"INDEX('Savings from 6P'!$A$11:$L$92,MATCH(MMap!F122&MMap!J122&H122,'Savings from 6P'!$A$11:$A$92,0),MATCH(MMap!K122&G122,'Savings from 6P'!$A$4:$L$4,0))","v":3.2611778493993562},{"$f":"IF(P122<=0,0,VLOOKUP(F122&K122&H122,Costs!$A$13:$B$24,2,FALSE))","v":0},{"$f":"VLOOKUP($R$9,[2]CHAR!$B$17:$T$54,MATCH(J122,[2]CHAR!$B$16:$T$16,0),FALSE)","v":2.6820893655991742E-2},{"$f":"IFERROR(VLOOKUP($F122&$I122&$K122&$H122&$G122,'Savings from 6P'!$V$11:$X$435,3,FALSE),$AD122)","v":0.7},{"$f":"MATCH(J122,[2]!BLDGTYPE,0)","v":5},5.2995881766435368E-2,0.91606730000738101,3.0936818226183656E-2,0.98608503921852686,"POST2013",{"$f":"IFERROR(IF(G122=\"gasht\",INDEX('Savings from 6P'!$Z$11:$AF$28,MATCH(J122,'Savings from 6P'!$Z$11:$Z$28,0),MATCH(MMap!F122&MMap!H122&MMap!K122,'Savings from 6P'!$Y$7:$AE$7,0)),\"\"),\"\")","v":""},5.2995881766435368E-2,15,null,0.7]
["Demand Control Ventilation-DOAS-Large Ret-ElecHt-Heat-New","Demand Control Ventilation","Demand Control Ventilation-New-Large Ret-DOAS","Demand Control Ventilation-New-Large Ret","Demand Control Ventilation-New","DOAS","ElecHt","Heat","Small Box","Large Ret","New","POST2013",4.9055523917715315E-3,15.997878799113352,0,{"$f":"INDEX('Savings from 6P'!$A$11:$L$92,MATCH(MMap!F123&MMap!J123&H123,'Savings from 6P'!$A$11:$A$92,0),MATCH(MMap!K123&G123,'Savings from 6P'!$A$4:$L$4,0))","v":3.2611778493993562},{"$f":"IF(P123<=0,0,VLOOKUP(F123&K123&H123,Costs!$A$13:$B$24,2,FALSE))","v":0},{"$f":"VLOOKUP($R$9,[2]CHAR!$B$17:$T$54,MATCH(J123,[2]CHAR!$B$16:$T$16,0),FALSE)","v":1.0839638408159987E-2},{"$f":"IFERROR(VLOOKUP($F123&$I123&$K123&$H123&$G123,'Savings from 6P'!$V$11:$X$435,3,FALSE),$AD123)","v":0.6},{"$f":"MATCH(J123,[2]!BLDGTYPE,0)","v":6},1.0593107738682607E-2,0.98322307122393326,6.1838210373840949E-3,0.77181511362305244,"POST2013",{"$f":"IFERROR(IF(G123=\"gasht\",INDEX('Savings from 6P'!$Z$11:$AF$28,MATCH(J123,'Savings from 6P'!$Z$11:$Z$28,0),MATCH(MMap!F123&MMap!H123&MMap!K123,'Savings from 6P'!$Y$7:$AE$7,0)),\"\"),\"\")","v":""},1.0593107738682607E-2,15,null,0.6]
["Demand Control Ventilation-DOAS-Medium Ret-ElecHt-Heat-New","Demand Control Ventilation","Demand Control Ventilation-New-Medium Ret-DOAS","Demand Control Ventilation-New-Medium Ret","Demand Control Ventilation-New","DOAS","ElecHt","Heat","High End","Medium Ret","New","POST2013",3.2606862153531896E-2,51.911118135784037,0,{"$f":"INDEX('Savings from 6P'!$A$11:$L$92,MATCH(MMap!F124&MMap!J124&H124,'Savings from 6P'!$A$11:$A$92,0),MATCH(MMap!K124&G124,'Savings from 6P'!$A$4:$L$4,0))","v":1.5920304717257545},{"$f":"IF(P124<=0,0,VLOOKUP(F124&K124&H124,Costs!$A$13:$B$24,2,FALSE))","v":0},{"$f":"VLOOKUP($R$9,[2]CHAR!$B$17:$T$54,MATCH(J124,[2]CHAR!$B$16:$T$16,0),FALSE)","v":4.0894012773033235E-2},{"$f":"IFERROR(VLOOKUP($F124&$I124&$K124&$H124&$G124,'Savings from 6P'!$V$11:$X$435,3,FALSE),$AD124)","v":0.3},{"$f":"MATCH(J124,[2]!BLDGTYPE,0)","v":7},0.12006240959495594,0.80985008893074606,7.0087501474297986E-2,0.90527535536267667,"POST2013",{"$f":"IFERROR(IF(G124=\"gasht\",INDEX('Savings from 6P'!$Z$11:$AF$28,MATCH(J124,'Savings from 6P'!$Z$11:$Z$28,0),MATCH(MMap!F124&MMap!H124&MMap!K124,'Savings from 6P'!$Y$7:$AE$7,0)),\"\"),\"\")","v":""},0.12006240959495594,15,null,0.3]
["Demand Control Ventilation-DOAS-Small Ret-ElecHt-Heat-New","Demand Control Ventilation","Demand Control Ventilation-New-Small Ret-DOAS","Demand Control Ventilation-New-Small Ret","Demand Control Ventilation-New","DOAS","ElecHt","Heat","Anchor","Small Ret","New","POST2013",4.4001238746589351E-2,70.051312878250187,0,{"$f":"INDEX('Savings from 6P'!$A$11:$L$92,MATCH(MMap!F125&MMap!J125&H125,'Savings from 6P'!$A$11:$A$92,0),MATCH(MMap!K125&G125,'Savings from 6P'!$A$4:$L$4,0))","v":1.5920304717257545},{"$f":"IF(P125<=0,0,VLOOKUP(F125&K125&H125,Costs!$A$13:$B$24,2,FALSE))","v":0},{"$f":"VLOOKUP($R$9,[2]CHAR!$B$17:$T$54,MATCH(J125,[2]CHAR!$B$16:$T$16,0),FALSE)","v":1.3016203517984767E-2},{"$f":"IFERROR(VLOOKUP($F125&$I125&$K125&$H125&$G125,'Savings from 6P'!$V$11:$X$435,3,FALSE),$AD125)","v":0.3},{"$f":"MATCH(J125,[2]!BLDGTYPE,0)","v":8},0.2732917310450087,0.56717178566142912,0.15953648329356207,0.53668215741883951,"POST2013",{"$f":"IFERROR(IF(G125=\"gasht\",INDEX('Savings from 6P'!$Z$11:$AF$28,MATCH(J125,'Savings from 6P'!$Z$11:$Z$28,0),MATCH(MMap!F125&MMap!H125&MMap!K125,'Savings from 6P'!$Y$7:$AE$7,0)),\"\"),\"\")","v":""},0.2732917310450087,15,null,0.3]
["Demand Control Ventilation-DOAS-School K-12-ElecHt-Heat-New","Demand Control Ventilation","Demand Control Ventilation-New-School K-12-DOAS","Demand Control Ventilation-New-School K-12","Demand Control Ventilation-New","DOAS","ElecHt","Heat","K-12","School K-12","New","POST2013",0,0,0,{"$f":"INDEX('Savings from 6P'!$A$11:$L$92,MATCH(MMap!F126&MMap!J126&H126,'Savings from 6P'!$A$11:$A$92,0),MATCH(MMap!K126&G126,'Savings from 6P'!$A$4:$L$4,0))","v":1.5034280691473776},{"$f":"IF(P126<=0,0,VLOOKUP(F126&K126&H126,Costs!$A$13:$B$24,2,FALSE))","v":0},{"$f":"VLOOKUP($R$9,[2]CHAR!$B$17:$T$54,MATCH(J126,[2]CHAR!$B$16:$T$16,0),FALSE)","v":3.0886857559635036E-2},{"$f":"IFERROR(VLOOKUP($F126&$I126&$K126&$H126&$G126,'Savings from 6P'!$V$11:$X$435,3,FALSE),$AD126)","v":0},{"$f":"MATCH(J126,[2]!BLDGTYPE,0)","v":9},5.8369343906151915E-2,0.84777782221188291,9.3852833881965178E-2,0.96128535178408803,"POST2013",{"$f":"IFERROR(IF(G126=\"gasht\",INDEX('Savings from 6P'!$Z$11:$AF$28,MATCH(J126,'Savings from 6P'!$Z$11:$Z$28,0),MATCH(MMap!F126&MMap!H126&MMap!K126,'Savings from 6P'!$Y$7:$AE$7,0)),\"\"),\"\")","v":""},5.8369343906151915E-2,15,null,0]
["Demand Control Ventilation-DOAS-University-ElecHt-Heat-New","Demand Control Ventilation","Demand Control Ventilation-New-University-DOAS","Demand Control Ventilation-New-University","Demand Control Ventilation-New","DOAS","ElecHt","Heat","University","University","New","POST2013",0,0,0,{"$f":"INDEX('Savings from 6P'!$A$11:$L$92,MATCH(MMap!F127&MMap!J127&H127,'Savings from 6P'!$A$11:$A$92,0),MATCH(MMap!K127&G127,'Savings from 6P'!$A$4:$L$4,0))","v":1.5034280691473776},{"$f":"IF(P127<=0,0,VLOOKUP(F127&K127&H127,Costs!$A$13:$B$24,2,FALSE))","v":0},{"$f":"VLOOKUP($R$9,[2]CHAR!$B$17:$T$54,MATCH(J127,[2]CHAR!$B$16:$T$16,0),FALSE)","v":2.2325826170102026E-2},{"$f":"IFERROR(VLOOKUP($F127&$I127&$K127&$H127&$G127,'Savings from 6P'!$V$11:$X$435,3,FALSE),$AD127)","v":0},{"$f":"MATCH(J127,[2]!BLDGTYPE,0)","v":10},0.1,0.8,0.1,0.75,"POST2013",{"$f":"IFERROR(IF(G127=\"gasht\",INDEX('Savings from 6P'!$Z$11:$AF$28,MATCH(J127,'Savings from 6P'!$Z$11:$Z$28,0),MATCH(MMap!F127&MMap!H127&MMap!K127,'Savings from 6P'!$Y$7:$AE$7,0)),\"\"),\"\")","v":""},0.1,15,null,0]
["Demand Control Ventilation-DOAS-Warehouse-ElecHt-Heat-New","Demand Control Ventilation","Demand Control Ventilation-New-Warehouse-DOAS","Demand Control Ventilation-New-Warehouse","Demand Control Ventilation-New","DOAS","ElecHt","Heat","Warehouse","Warehouse","New","POST2013",0,0,0,{"$f":"INDEX('Savings from 6P'!$A$11:$L$92,MATCH(MMap!F128&MMap!J128&H128,'Savings from 6P'!$A$11:$A$92,0),MATCH(MMap!K128&G128,'Savings from 6P'!$A$4:$L$4,0))","v":1.5034280691473776},{"$f":"IF(P128<=0,0,VLOOKUP(F128&K128&H128,Costs!$A$13:$B$24,2,FALSE))","v":0},{"$f":"VLOOKUP($R$9,[2]CHAR!$B$17:$T$54,MATCH(J128,[2]CHAR!$B$16:$T$16,0),FALSE)","v":0.10087192274660353},{"$f":"IFERROR(VLOOKUP($F128&$I128&$K128&$H128&$G128,'Savings from 6P'!$V$11:$X$435,3,FALSE),$AD128)","v":0},{"$f":"MATCH(J128,[2]!BLDGTYPE,0)","v":11},6.3929137015483993E-3,0.98700382329725422,6.6032630011973147E-3,0.18162271351024481,"POST2013",{"$f":"IFERROR(IF(G128=\"gasht\",INDEX('Savings from 6P'!$Z$11:$AF$28,MATCH(J128,'Savings from 6P'!$Z$11:$Z$28,0),MATCH(MMap!F128&MMap!H128&MMap!K128,'Savings from 6P'!$Y$7:$AE$7,0)),\"\"),\"\")","v":""},6.3929137015483993E-3,15,null,0]
["Demand Control Ventilation-DOAS-Supermarket-ElecHt-Heat-New","Demand Control Ventilation","Demand Control Ventilation-New-Supermarket-DOAS","Demand Control Ventilation-New-Supermarket","Demand Control Ventilation-New","DOAS","ElecHt","Heat","Supermarket","Supermarket","New","POST2013",2.5274194597693127E-2,82.423643583405706,0,{"$f":"INDEX('Savings from 6P'!$A$11:$L$92,MATCH(MMap!F129&MMap!J129&H129,'Savings from 6P'!$A$11:$A$92,0),MATCH(MMap!K129&G129,'Savings from 6P'!$A$4:$L$4,0))","v":3.2611778493993562},{"$f":"IF(P129<=0,0,VLOOKUP(F129&K129&H129,Costs!$A$13:$B$24,2,FALSE))","v":0},{"$f":"VLOOKUP($R$9,[2]CHAR!$B$17:$T$54,MATCH(J129,[2]CHAR!$B$16:$T$16,0),FALSE)","v":6.1675003194375045E-3},{"$f":"IFERROR(VLOOKUP($F129&$I129&$K129&$H129&$G129,'Savings from 6P'!$V$11:$X$435,3,FALSE),$AD129)","v":0.7},{"$f":"MATCH(J129,[2]!BLDGTYPE,0)","v":12},3.9182634298973458E-2,0.46957192737561176,6.234756715808213E-2,0.92147944946531313,"POST2013",{"$f":"IFERROR(IF(G129=\"gasht\",INDEX('Savings from 6P'!$Z$11:$AF$28,MATCH(J129,'Savings from 6P'!$Z$11:$Z$28,0),MATCH(MMap!F129&MMap!H129&MMap!K129,'Savings from 6P'!$Y$7:$AE$7,0)),\"\"),\"\")","v":""},3.9182634298973458E-2,15,null,0]
["Demand Control Ventilation-DOAS-MiniMart-ElecHt-Heat-New","Demand Control Ventilation","Demand Control Ventilation-New-MiniMart-DOAS","Demand Control Ventilation-New-MiniMart","Demand Control Ventilation-New","DOAS","ElecHt","Heat","MIniMart","MiniMart","New","POST2013",2.4894102316628049E-3,8.1184095055668593,0,{"$f":"INDEX('Savings from 6P'!$A$11:$L$92,MATCH(MMap!F130&MMap!J130&H130,'Savings from 6P'!$A$11:$A$92,0),MATCH(MMap!K130&G130,'Savings from 6P'!$A$4:$L$4,0))","v":3.2611778493993562},{"$f":"IF(P130<=0,0,VLOOKUP(F130&K130&H130,Costs!$A$13:$B$24,2,FALSE))","v":0},{"$f":"VLOOKUP($R$9,[2]CHAR!$B$17:$T$54,MATCH(J130,[2]CHAR!$B$16:$T$16,0),FALSE)","v":2.5477723102065148E-3},{"$f":"IFERROR(VLOOKUP($F130&$I130&$K130&$H130&$G130,'Savings from 6P'!$V$11:$X$435,3,FALSE),$AD130)","v":0.3},{"$f":"MATCH(J130,[2]!BLDGTYPE,0)","v":13},9.8940421863423066E-3,0.86606113087441317,1.5743440192688529E-2,0.83868998628257874,"POST2013",{"$f":"IFERROR(IF(G130=\"gasht\",INDEX('Savings from 6P'!$Z$11:$AF$28,MATCH(J130,'Savings from 6P'!$Z$11:$Z$28,0),MATCH(MMap!F130&MMap!H130&MMap!K130,'Savings from 6P'!$Y$7:$AE$7,0)),\"\"),\"\")","v":""},9.8940421863423066E-3,15,null,0]
["Demand Control Ventilation-DOAS-Restaurant-ElecHt-Heat-New","Demand Control Ventilation","Demand Control Ventilation-New-Restaurant-DOAS","Demand Control Ventilation-New-Restaurant","Demand Control Ventilation-New","DOAS","ElecHt","Heat","Restaurant","Restaurant","New","POST2013",9.0151665582973231E-3,29.400061488565058,0,{"$f":"INDEX('Savings from 6P'!$A$11:$L$92,MATCH(MMap!F131&MMap!J131&H131,'Savings from 6P'!$A$11:$A$92,0),MATCH(MMap!K131&G131,'Savings from 6P'!$A$4:$L$4,0))","v":3.2611778493993562},{"$f":"IF(P131<=0,0,VLOOKUP(F131&K131&H131,Costs!$A$13:$B$24,2,FALSE))","v":0},{"$f":"VLOOKUP($R$9,[2]CHAR!$B$17:$T$54,MATCH(J131,[2]CHAR!$B$16:$T$16,0),FALSE)","v":1.1693580853842011E-2},{"$f":"IFERROR(VLOOKUP($F131&$I131&$K131&$H131&$G131,'Savings from 6P'!$V$11:$X$435,3,FALSE),$AD131)","v":0.3},{"$f":"MATCH(J131,[2]!BLDGTYPE,0)","v":14},3.0050555941853869E-2,0.79365284945968273,0.17629659459846331,0.99999997512427186,"POST2013",{"$f":"IFERROR(IF(G131=\"gasht\",INDEX('Savings from 6P'!$Z$11:$AF$28,MATCH(J131,'Savings from 6P'!$Z$11:$Z$28,0),MATCH(MMap!F131&MMap!H131&MMap!K131,'Savings from 6P'!$Y$7:$AE$7,0)),\"\"),\"\")","v":""},3.0050555941853869E-2,15,null,0]
["Demand Control Ventilation-DOAS-Lodging-ElecHt-Heat-New","Demand Control Ventilation","Demand Control Ventilation-New-Lodging-DOAS","Demand Control Ventilation-New-Lodging","Demand Control Ventilation-New","DOAS","ElecHt","Heat","Lodging","Lodging","New","POST2013",0,0,0,{"$f":"INDEX('Savings from 6P'!$A$11:$L$92,MATCH(MMap!F132&MMap!J132&H132,'Savings from 6P'!$A$11:$A$92,0),MATCH(MMap!K132&G132,'Savings from 6P'!$A$4:$L$4,0))","v":1.5034280691473776},{"$f":"IF(P132<=0,0,VLOOKUP(F132&K132&H132,Costs!$A$13:$B$24,2,FALSE))","v":0},{"$f":"VLOOKUP($R$9,[2]CHAR!$B$17:$T$54,MATCH(J132,[2]CHAR!$B$16:$T$16,0),FALSE)","v":2.3957473342185561E-2},{"$f":"IFERROR(VLOOKUP($F132&$I132&$K132&$H132&$G132,'Savings from 6P'!$V$11:$X$435,3,FALSE),$AD132)","v":0},{"$f":"MATCH(J132,[2]!BLDGTYPE,0)","v":15},0.44679184687802564,0.24941748529786834,0.30379066782410608,0.94438859080377269,"POST2013",{"$f":"IFERROR(IF(G132=\"gasht\",INDEX('Savings from 6P'!$Z$11:$AF$28,MATCH(J132,'Savings from 6P'!$Z$11:$Z$28,0),MATCH(MMap!F132&MMap!H132&MMap!K132,'Savings from 6P'!$Y$7:$AE$7,0)),\"\"),\"\")","v":""},0.44679184687802564,15,null,0]
["Demand Control Ventilation-DOAS-Hospital-ElecHt-Heat-New","Demand Control Ventilation","Demand Control Ventilation-New-Hospital-DOAS","Demand Control Ventilation-New-Hospital","Demand Control Ventilation-New","DOAS","ElecHt","Heat","Hospital","Hospital","New","POST2013",0,0,0,{"$f":"INDEX('Savings from 6P'!$A$11:$L$92,MATCH(MMap!F133&MMap!J133&H133,'Savings from 6P'!$A$11:$A$92,0),MATCH(MMap!K133&G133,'Savings from 6P'!$A$4:$L$4,0))","v":1.5034280691473776},{"$f":"IF(P133<=0,0,VLOOKUP(F133&K133&H133,Costs!$A$13:$B$24,2,FALSE))","v":0},{"$f":"VLOOKUP($R$9,[2]CHAR!$B$17:$T$54,MATCH(J133,[2]CHAR!$B$16:$T$16,0),FALSE)","v":4.4965056377242296E-2},{"$f":"IFERROR(VLOOKUP($F133&$I133&$K133&$H133&$G133,'Savings from 6P'!$V$11:$X$435,3,FALSE),$AD133)","v":0},{"$f":"MATCH(J133,[2]!BLDGTYPE,0)","v":16},0.08,0.91,0.01,0.95,"POST2013",{"$f":"IFERROR(IF(G133=\"gasht\",INDEX('Savings from 6P'!$Z$11:$AF$28,MATCH(J133,'Savings from 6P'!$Z$11:$Z$28,0),MATCH(MMap!F133&MMap!H133&MMap!K133,'Savings from 6P'!$Y$7:$AE$7,0)),\"\"),\"\")","v":""},0.08,15,null,0]
["Demand Control Ventilation-DOAS-Residential Care-ElecHt-Heat-New","Demand Control Ventilation","Demand Control Ventilation-New-Residential Care-DOAS","Demand Control Ventilation-New-Residential Care","Demand Control Ventilation-New","DOAS","ElecHt","Heat","OtherHealth","Residential Care","New","POST2013",0,0,0,{"$f":"INDEX('Savings from 6P'!$A$11:$L$92,MATCH(MMap!F134&MMap!J134&H134,'Savings from 6P'!$A$11:$A$92,0),MATCH(MMap!K134&G134,'Savings from 6P'!$A$4:$L$4,0))","v":1.5034280691473776},{"$f":"IF(P134<=0,0,VLOOKUP(F134&K134&H134,Costs!$A$13:$B$24,2,FALSE))","v":0},{"$f":"VLOOKUP($R$9,[2]CHAR!$B$17:$T$54,MATCH(J134,[2]CHAR!$B$16:$T$16,0),FALSE)","v":5.827742495837801E-2},{"$f":"IFERROR(VLOOKUP($F134&$I134&$K134&$H134&$G134,'Savings from 6P'!$V$11:$X$435,3,FALSE),$AD134)","v":0},{"$f":"MATCH(J134,[2]!BLDGTYPE,0)","v":17},0.33985691133471541,0.40556621261939335,0.25457687604589124,0.8423386600487599,"POST2013",{"$f":"IFERROR(IF(G134=\"gasht\",INDEX('Savings from 6P'!$Z$11:$AF$28,MATCH(J134,'Savings from 6P'!$Z$11:$Z$28,0),MATCH(MMap!F134&MMap!H134&MMap!K134,'Savings from 6P'!$Y$7:$AE$7,0)),\"\"),\"\")","v":""},0.33985691133471541,15,null,0]
["Demand Control Ventilation-DOAS-Assembly-ElecHt-Heat-New","Demand Control Ventilation","Demand Control Ventilation-New-Assembly-DOAS","Demand Control Ventilation-New-Assembly","Demand Control Ventilation-New","DOAS","ElecHt","Heat","Assembly","Assembly","New","POST2013",0,0,0,{"$f":"INDEX('Savings from 6P'!$A$11:$L$92,MATCH(MMap!F135&MMap!J135&H135,'Savings from 6P'!$A$11:$A$92,0),MATCH(MMap!K135&G135,'Savings from 6P'!$A$4:$L$4,0))","v":1.5034280691473776},{"$f":"IF(P135<=0,0,VLOOKUP(F135&K135&H135,Costs!$A$13:$B$24,2,FALSE))","v":0},{"$f":"VLOOKUP($R$9,[2]CHAR!$B$17:$T$54,MATCH(J135,[2]CHAR!$B$16:$T$16,0),FALSE)","v":9.0984350406775827E-2},{"$f":"IFERROR(VLOOKUP($F135&$I135&$K135&$H135&$G135,'Savings from 6P'!$V$11:$X$435,3,FALSE),$AD135)","v":0},{"$f":"MATCH(J135,[2]!BLDGTYPE,0)","v":18},0.10640191237323121,0.77815390025512432,0.11544418737164447,0.91177234717447209,"POST2013",{"$f":"IFERROR(IF(G135=\"gasht\",INDEX('Savings from 6P'!$Z$11:$AF$28,MATCH(J135,'Savings from 6P'!$Z$11:$Z$28,0),MATCH(MMap!F135&MMap!H135&MMap!K135,'Savings from 6P'!$Y$7:$AE$7,0)),\"\"),\"\")","v":""},0.10640191237323121,15,null,0]
["Demand Control Ventilation-DOAS-Other-ElecHt-Heat-New","Demand Control Ventilation","Demand Control Ventilation-New-Other-DOAS","Demand Control Ventilation-New-Other","Demand Control Ventilation-New","DOAS","ElecHt","Heat","Other","Other","New","POST2013",0,0,0,{"$f":"INDEX('Savings from 6P'!$A$11:$L$92,MATCH(MMap!F136&MMap!J136&H136,'Savings from 6P'!$A$11:$A$92,0),MATCH(MMap!K136&G136,'Savings from 6P'!$A$4:$L$4,0))","v":1.5034280691473776},{"$f":"IF(P136<=0,0,VLOOKUP(F136&K136&H136,Costs!$A$13:$B$24,2,FALSE))","v":0},{"$f":"VLOOKUP($R$9,[2]CHAR!$B$17:$T$54,MATCH(J136,[2]CHAR!$B$16:$T$16,0),FALSE)","v":0.21334717399999265},{"$f":"IFERROR(VLOOKUP($F136&$I136&$K136&$H136&$G136,'Savings from 6P'!$V$11:$X$435,3,FALSE),$AD136)","v":0},{"$f":"MATCH(J136,[2]!BLDGTYPE,0)","v":19},0.16939513747697868,0.7257160432726234,0.104888819250398,0.87717751610580841,"POST2013",{"$f":"IFERROR(IF(G136=\"gasht\",INDEX('Savings from 6P'!$Z$11:$AF$28,MATCH(J136,'Savings from 6P'!$Z$11:$Z$28,0),MATCH(MMap!F136&MMap!H136&MMap!K136,'Savings from 6P'!$Y$7:$AE$7,0)),\"\"),\"\")","v":""},0.16939513747697868,15,null,0]
["Demand Control Ventilation-DOAS-Large Off-GasHt-Vent-New","Demand Control Ventilation","Demand Control Ventilation-New-Large Off-DOAS","Demand Control Ventilation-New-Large Off","Demand Control Ventilation-New","DOAS","GasHt","Vent","Large Off","Large Off","New","POST2013",0,0,0,{"$f":"INDEX('Savings from 6P'!$A$11:$L$92,MATCH(MMap!F137&MMap!J137&H137,'Savings from 6P'!$A$11:$A$92,0),MATCH(MMap!K137&G137,'Savings from 6P'!$A$4:$L$4,0))","v":0.55020399829497058},{"$f":"IF(P137<=0,0,VLOOKUP(F137&K137&H137,Costs!$A$13:$B$24,2,FALSE))","v":0.66131085943522216},{"$f":"VLOOKUP($R$9,[2]CHAR!$B$17:$T$54,MATCH(J137,[2]CHAR!$B$16:$T$16,0),FALSE)","v":0.15073291148870363},{"$f":"IFERROR(VLOOKUP($F137&$I137&$K137&$H137&$G137,'Savings from 6P'!$V$11:$X$435,3,FALSE),$AD137)","v":0},{"$f":"MATCH(J137,[2]!BLDGTYPE,0)","v":2},0.20943280302167308,0.54037060186620078,0.25019659511212627,0.95128694884061893,"POST2013",{"$f":"IFERROR(IF(G137=\"gasht\",INDEX('Savings from 6P'!$Z$11:$AF$28,MATCH(J137,'Savings from 6P'!$Z$11:$Z$28,0),MATCH(MMap!F137&MMap!H137&MMap!K137,'Savings from 6P'!$Y$7:$AE$7,0)),\"\"),\"\")","v":0.13913},0.54037060186620078,15,null,0]
["Demand Control Ventilation-DOAS-Medium Off-GasHt-Vent-New","Demand Control Ventilation","Demand Control Ventilation-New-Medium Off-DOAS","Demand Control Ventilation-New-Medium Off","Demand Control Ventilation-New","DOAS","GasHt","Vent","Medium Off","Medium Off","New","POST2013",0,0,0,{"$f":"INDEX('Savings from 6P'!$A$11:$L$92,MATCH(MMap!F138&MMap!J138&H138,'Savings from 6P'!$A$11:$A$92,0),MATCH(MMap!K138&G138,'Savings from 6P'!$A$4:$L$4,0))","v":0.55020399829497058},{"$f":"IF(P138<=0,0,VLOOKUP(F138&K138&H138,Costs!$A$13:$B$24,2,FALSE))","v":0.66131085943522216},{"$f":"VLOOKUP($R$9,[2]CHAR!$B$17:$T$54,MATCH(J138,[2]CHAR!$B$16:$T$16,0),FALSE)","v":0.12013270538231059},{"$f":"IFERROR(VLOOKUP($F138&$I138&$K138&$H138&$G138,'Savings from 6P'!$V$11:$X$435,3,FALSE),$AD138)","v":0},{"$f":"MATCH(J138,[2]!BLDGTYPE,0)","v":3},0.22131165109110185,0.51430081857580845,0.26438753033308959,0.97665874571205136,"POST2013",{"$f":"IFERROR(IF(G138=\"gasht\",INDEX('Savings from 6P'!$Z$11:$AF$28,MATCH(J138,'Savings from 6P'!$Z$11:$Z$28,0),MATCH(MMap!F138&MMap!H138&MMap!K138,'Savings from 6P'!$Y$7:$AE$7,0)),\"\"),\"\")","v":0.13913},0.51430081857580845,15,null,0]
[{"$f":"CONCATENATE(B139,\"-\",F139,\"-\",J139,\"-\",G139,\"-\",H139,\"-\",K139)","v":"Demand Control Ventilation-DOAS-Small Off-GasHt-Vent-New"},"Demand Control Ventilation","Demand Control Ventilation-New-Small Off-DOAS","Demand Control Ventilation-New-Small Off",{"$f":"CONCATENATE(B139,\"-\",K139)","v":"Demand Control Ventilation-New"},"DOAS","GasHt","Vent","Small Off","Small Off","New","POST2013",0,0,0,{"$f":"INDEX('Savings from 6P'!$A$11:$L$92,MATCH(MMap!F139&MMap!J139&H139,'Savings from 6P'!$A$11:$A$92,0),MATCH(MMap!K139&G139,'Savings from 6P'!$A$4:$L$4,0))","v":0.55020399829497058},{"$f":"IF(P139<=0,0,VLOOKUP(F139&K139&H139,Costs!$A$13:$B$24,2,FALSE))","v":0.66131085943522216},{"$f":"VLOOKUP($R$9,[2]CHAR!$B$17:$T$54,MATCH(J139,[2]CHAR!$B$16:$T$16,0),FALSE)","v":3.1538695729415013E-2},{"$f":"IFERROR(VLOOKUP($F139&$I139&$K139&$H139&$G139,'Savings from 6P'!$V$11:$X$435,3,FALSE),$AD139)","v":0},{"$f":"MATCH(J139,[2]!BLDGTYPE,0)","v":4},{"$f":"VLOOKUP(U$9,V_PRE2013,$T139,FALSE)","v":0.30640942705415353},{"$f":"VLOOKUP(V$9,V_PRE2013,$T139,FALSE)","v":0.3275419203320854},0.36604865261376096,{"$f":"VLOOKUP($X$9,V_POST2013,MATCH(J139,BLDGTYP,FALSE)+1,FALSE)","v":0.91122609210258287},"POST2013",{"$f":"IFERROR(IF(G139=\"gasht\",INDEX('Savings from 6P'!$Z$11:$AF$28,MATCH(J139,'Savings from 6P'!$Z$11:$Z$28,0),MATCH(MMap!F139&MMap!H139&MMap!K139,'Savings from 6P'!$Y$7:$AE$7,0)),\"\"),\"\")","v":0.13913},{"$f":"IF(G139=\"ElecHt\",U139,IF(G139=\"gasht\",V139,W139))","v":0.3275419203320854},{"$f":"$AB$9","v":15},null,0]
["Demand Control Ventilation-DOAS-Xlarge Ret-GasHt-Vent-New","Demand Control Ventilation",{"$f":"CONCATENATE(D140,\"-\",F140)","v":"Demand Control Ventilation-New-Xlarge Ret-DOAS"},{"$f":"CONCATENATE(B140,\"-\",K140,\"-\",J140)","v":"Demand Control Ventilation-New-Xlarge Ret"},"Demand Control Ventilation-New","DOAS","GasHt","Vent","Big Box","Xlarge Ret","New","POST2013",0.6323241816182118,{"$f":"M140*P140*$N$9","v":360.72450410633644},{"$f":"Q140*M140*$O$9","v":418.16284798761319},{"$f":"INDEX('Savings from 6P'!$A$11:$L$92,MATCH(MMap!F140&MMap!J140&H140,'Savings from 6P'!$A$11:$A$92,0),MATCH(MMap!K140&G140,'Savings from 6P'!$A$4:$L$4,0))","v":0.57047399829497059},{"$f":"IF(P140<=0,0,VLOOKUP(F140&K140&H140,Costs!$A$13:$B$24,2,FALSE))","v":0.66131085943522216},{"$f":"VLOOKUP($R$9,[2]CHAR!$B$17:$T$54,MATCH(J140,[2]CHAR!$B$16:$T$16,0),FALSE)","v":2.6820893655991742E-2},{"$f":"IFERROR(VLOOKUP($F140&$I140&$K140&$H140&$G140,'Savings from 6P'!$V$11:$X$435,3,FALSE),$AD140)","v":0.7},{"$f":"MATCH(J140,[2]!BLDGTYPE,0)","v":5},5.2995881766435368E-2,0.91606730000738101,3.0936818226183656E-2,0.98608503921852686,"POST2013",{"$f":"IFERROR(IF(G140=\"gasht\",INDEX('Savings from 6P'!$Z$11:$AF$28,MATCH(J140,'Savings from 6P'!$Z$11:$Z$28,0),MATCH(MMap!F140&MMap!H140&MMap!K140,'Savings from 6P'!$Y$7:$AE$7,0)),\"\"),\"\")","v":1.5034280691473776E-2},0.91606730000738101,15,null,0.7]
["Demand Control Ventilation-DOAS-Large Ret-GasHt-Vent-New","Demand Control Ventilation","Demand Control Ventilation-New-Large Ret-DOAS","Demand Control Ventilation-New-Large Ret","Demand Control Ventilation-New","DOAS","GasHt","Vent","Small Box","Large Ret","New",{"$f":"L140","v":"POST2013"},{"$f":"S141*X141*AA141","v":0.45531985586010398},259.74813867560323,301.10796519676688,{"$f":"INDEX('Savings from 6P'!$A$11:$L$92,MATCH(MMap!F141&MMap!J141&H141,'Savings from 6P'!$A$11:$A$92,0),MATCH(MMap!K141&G141,'Savings from 6P'!$A$4:$L$4,0))","v":0.57047399829497059},{"$f":"IF(P141<=0,0,VLOOKUP(F141&K141&H141,Costs!$A$13:$B$24,2,FALSE))","v":0.66131085943522216},{"$f":"VLOOKUP($R$9,[2]CHAR!$B$17:$T$54,MATCH(J141,[2]CHAR!$B$16:$T$16,0),FALSE)","v":1.0839638408159987E-2},{"$f":"IFERROR(VLOOKUP($F141&$I141&$K141&$H141&$G141,'Savings from 6P'!$V$11:$X$435,3,FALSE),$AD141)","v":0.6},{"$f":"MATCH(J141,[2]!BLDGTYPE,0)","v":6},1.0593107738682607E-2,0.98322307122393326,6.1838210373840949E-3,0.77181511362305244,"POST2013",{"$f":"IFERROR(IF(G141=\"gasht\",INDEX('Savings from 6P'!$Z$11:$AF$28,MATCH(J141,'Savings from 6P'!$Z$11:$Z$28,0),MATCH(MMap!F141&MMap!H141&MMap!K141,'Savings from 6P'!$Y$7:$AE$7,0)),\"\"),\"\")","v":1.5034280691473776E-2},0.98322307122393326,15,null,0.6]
["Demand Control Ventilation-DOAS-Medium Ret-GasHt-Vent-New","Demand Control Ventilation","Demand Control Ventilation-New-Medium Ret-DOAS","Demand Control Ventilation-New-Medium Ret","Demand Control Ventilation-New","DOAS","GasHt","Vent","High End","Medium Ret","New","POST2013",0.21994119811418295,117.67601861681753,145.44950275010279,{"$f":"INDEX('Savings from 6P'!$A$11:$L$92,MATCH(MMap!F142&MMap!J142&H142,'Savings from 6P'!$A$11:$A$92,0),MATCH(MMap!K142&G142,'Savings from 6P'!$A$4:$L$4,0))","v":0.53503399829497056},{"$f":"IF(P142<=0,0,VLOOKUP(F142&K142&H142,Costs!$A$13:$B$24,2,FALSE))","v":0.66131085943522216},{"$f":"VLOOKUP($R$9,[2]CHAR!$B$17:$T$54,MATCH(J142,[2]CHAR!$B$16:$T$16,0),FALSE)","v":4.0894012773033235E-2},{"$f":"IFERROR(VLOOKUP($F142&$I142&$K142&$H142&$G142,'Savings from 6P'!$V$11:$X$435,3,FALSE),$AD142)","v":0.3},{"$f":"MATCH(J142,[2]!BLDGTYPE,0)","v":7},0.12006240959495594,0.80985008893074606,7.0087501474297986E-2,0.90527535536267667,"POST2013",{"$f":"IFERROR(IF(G142=\"gasht\",INDEX('Savings from 6P'!$Z$11:$AF$28,MATCH(J142,'Savings from 6P'!$Z$11:$Z$28,0),MATCH(MMap!F142&MMap!H142&MMap!K142,'Savings from 6P'!$Y$7:$AE$7,0)),\"\"),\"\")","v":3.2611778493993562E-2},0.80985008893074606,15,null,0.3]
["Demand Control Ventilation-DOAS-Small Ret-GasHt-Vent-New","Demand Control Ventilation","Demand Control Ventilation-New-Small Ret-DOAS","Demand Control Ventilation-New-Small Ret","Demand Control Ventilation-New","DOAS","GasHt","Vent","Anchor","Small Ret","New","POST2013",9.1317293266761426E-2,48.85785652998976,60.389117691540228,{"$f":"INDEX('Savings from 6P'!$A$11:$L$92,MATCH(MMap!F143&MMap!J143&H143,'Savings from 6P'!$A$11:$A$92,0),MATCH(MMap!K143&G143,'Savings from 6P'!$A$4:$L$4,0))","v":0.53503399829497056},{"$f":"IF(P143<=0,0,VLOOKUP(F143&K143&H143,Costs!$A$13:$B$24,2,FALSE))","v":0.66131085943522216},{"$f":"VLOOKUP($R$9,[2]CHAR!$B$17:$T$54,MATCH(J143,[2]CHAR!$B$16:$T$16,0),FALSE)","v":1.3016203517984767E-2},{"$f":"IFERROR(VLOOKUP($F143&$I143&$K143&$H143&$G143,'Savings from 6P'!$V$11:$X$435,3,FALSE),$AD143)","v":0.3},{"$f":"MATCH(J143,[2]!BLDGTYPE,0)","v":8},0.2732917310450087,0.56717178566142912,0.15953648329356207,0.53668215741883951,"POST2013",{"$f":"IFERROR(IF(G143=\"gasht\",INDEX('Savings from 6P'!$Z$11:$AF$28,MATCH(J143,'Savings from 6P'!$Z$11:$Z$28,0),MATCH(MMap!F143&MMap!H143&MMap!K143,'Savings from 6P'!$Y$7:$AE$7,0)),\"\"),\"\")","v":3.2611778493993562E-2},0.56717178566142912,15,null,0.3]
["Demand Control Ventilation-DOAS-School K-12-GasHt-Vent-New","Demand Control Ventilation","Demand Control Ventilation-New-School K-12-DOAS","Demand Control Ventilation-New-School K-12","Demand Control Ventilation-New","DOAS","GasHt","Vent","K-12","School K-12","New","POST2013",0,0,0,{"$f":"INDEX('Savings from 6P'!$A$11:$L$92,MATCH(MMap!F144&MMap!J144&H144,'Savings from 6P'!$A$11:$A$92,0),MATCH(MMap!K144&G144,'Savings from 6P'!$A$4:$L$4,0))","v":0.55020399829497058},{"$f":"IF(P144<=0,0,VLOOKUP(F144&K144&H144,Costs!$A$13:$B$24,2,FALSE))","v":0.66131085943522216},{"$f":"VLOOKUP($R$9,[2]CHAR!$B$17:$T$54,MATCH(J144,[2]CHAR!$B$16:$T$16,0),FALSE)","v":3.0886857559635036E-2},{"$f":"IFERROR(VLOOKUP($F144&$I144&$K144&$H144&$G144,'Savings from 6P'!$V$11:$X$435,3,FALSE),$AD144)","v":0},{"$f":"MATCH(J144,[2]!BLDGTYPE,0)","v":9},5.8369343906151915E-2,0.84777782221188291,9.3852833881965178E-2,0.96128535178408803,"POST2013",{"$f":"IFERROR(IF(G144=\"gasht\",INDEX('Savings from 6P'!$Z$11:$AF$28,MATCH(J144,'Savings from 6P'!$Z$11:$Z$28,0),MATCH(MMap!F144&MMap!H144&MMap!K144,'Savings from 6P'!$Y$7:$AE$7,0)),\"\"),\"\")","v":0},0.84777782221188291,15,null,0]
["Demand Control Ventilation-DOAS-University-GasHt-Vent-New","Demand Control Ventilation","Demand Control Ventilation-New-University-DOAS","Demand Control Ventilation-New-University","Demand Control Ventilation-New","DOAS","GasHt","Vent","University","University","New","POST2013",0,0,0,{"$f":"INDEX('Savings from 6P'!$A$11:$L$92,MATCH(MMap!F145&MMap!J145&H145,'Savings from 6P'!$A$11:$A$92,0),MATCH(MMap!K145&G145,'Savings from 6P'!$A$4:$L$4,0))","v":0.55020399829497058},{"$f":"IF(P145<=0,0,VLOOKUP(F145&K145&H145,Costs!$A$13:$B$24,2,FALSE))","v":0.66131085943522216},{"$f":"VLOOKUP($R$9,[2]CHAR!$B$17:$T$54,MATCH(J145,[2]CHAR!$B$16:$T$16,0),FALSE)","v":2.2325826170102026E-2},{"$f":"IFERROR(VLOOKUP($F145&$I145&$K145&$H145&$G145,'Savings from 6P'!$V$11:$X$435,3,FALSE),$AD145)","v":0},{"$f":"MATCH(J145,[2]!BLDGTYPE,0)","v":10},0.1,0.8,0.1,0.75,"POST2013",{"$f":"IFERROR(IF(G145=\"gasht\",INDEX('Savings from 6P'!$Z$11:$AF$28,MATCH(J145,'Savings from 6P'!$Z$11:$Z$28,0),MATCH(MMap!F145&MMap!H145&MMap!K145,'Savings from 6P'!$Y$7:$AE$7,0)),\"\"),\"\")","v":0},0.8,15,null,0]
["Demand Control Ventilation-DOAS-Warehouse-GasHt-Vent-New","Demand Control Ventilation","Demand Control Ventilation-New-Warehouse-DOAS","Demand Control Ventilation-New-Warehouse","Demand Control Ventilation-New","DOAS","GasHt","Vent","Warehouse","Warehouse","New","POST2013",0,0,0,{"$f":"INDEX('Savings from 6P'!$A$11:$L$92,MATCH(MMap!F146&MMap!J146&H146,'Savings from 6P'!$A$11:$A$92,0),MATCH(MMap!K146&G146,'Savings from 6P'!$A$4:$L$4,0))","v":0.55020399829497058},{"$f":"IF(P146<=0,0,VLOOKUP(F146&K146&H146,Costs!$A$13:$B$24,2,FALSE))","v":0.66131085943522216},{"$f":"VLOOKUP($R$9,[2]CHAR!$B$17:$T$54,MATCH(J146,[2]CHAR!$B$16:$T$16,0),FALSE)","v":0.10087192274660353},{"$f":"IFERROR(VLOOKUP($F146&$I146&$K146&$H146&$G146,'Savings from 6P'!$V$11:$X$435,3,FALSE),$AD146)","v":0},{"$f":"MATCH(J146,[2]!BLDGTYPE,0)","v":11},6.3929137015483993E-3,0.98700382329725422,6.6032630011973147E-3,0.18162271351024481,"POST2013",{"$f":"IFERROR(IF(G146=\"gasht\",INDEX('Savings from 6P'!$Z$11:$AF$28,MATCH(J146,'Savings from 6P'!$Z$11:$Z$28,0),MATCH(MMap!F146&MMap!H146&MMap!K146,'Savings from 6P'!$Y$7:$AE$7,0)),\"\"),\"\")","v":0.13913},0.98700382329725422,15,null,0]
["Demand Control Ventilation-DOAS-Supermarket-GasHt-Vent-New","Demand Control Ventilation","Demand Control Ventilation-New-Supermarket-DOAS","Demand Control Ventilation-New-Supermarket","Demand Control Ventilation-New","DOAS","GasHt","Vent","Supermarket","Supermarket","New","POST2013",0.30289061678571128,172.79122120377443,200.30485410142327,{"$f":"INDEX('Savings from 6P'!$A$11:$L$92,MATCH(MMap!F147&MMap!J147&H147,'Savings from 6P'!$A$11:$A$92,0),MATCH(MMap!K147&G147,'Savings from 6P'!$A$4:$L$4,0))","v":0.57047399829497059},{"$f":"IF(P147<=0,0,VLOOKUP(F147&K147&H147,Costs!$A$13:$B$24,2,FALSE))","v":0.66131085943522216},{"$f":"VLOOKUP($R$9,[2]CHAR!$B$17:$T$54,MATCH(J147,[2]CHAR!$B$16:$T$16,0),FALSE)","v":6.1675003194375045E-3},{"$f":"IFERROR(VLOOKUP($F147&$I147&$K147&$H147&$G147,'Savings from 6P'!$V$11:$X$435,3,FALSE),$AD147)","v":0.7},{"$f":"MATCH(J147,[2]!BLDGTYPE,0)","v":12},3.9182634298973458E-2,0.46957192737561176,6.234756715808213E-2,0.92147944946531313,"POST2013",{"$f":"IFERROR(IF(G147=\"gasht\",INDEX('Savings from 6P'!$Z$11:$AF$28,MATCH(J147,'Savings from 6P'!$Z$11:$Z$28,0),MATCH(MMap!F147&MMap!H147&MMap!K147,'Savings from 6P'!$Y$7:$AE$7,0)),\"\"),\"\")","v":0.13913},0.46957192737561176,15,null,0]
["Demand Control Ventilation-DOAS-MiniMart-GasHt-Vent-New","Demand Control Ventilation","Demand Control Ventilation-New-MiniMart-DOAS","Demand Control Ventilation-New-MiniMart","Demand Control Ventilation-New","DOAS","GasHt","Vent","MIniMart","MiniMart","New","POST2013",0.21790703939188083,124.31030001850591,144.10429149722953,{"$f":"INDEX('Savings from 6P'!$A$11:$L$92,MATCH(MMap!F148&MMap!J148&H148,'Savings from 6P'!$A$11:$A$92,0),MATCH(MMap!K148&G148,'Savings from 6P'!$A$4:$L$4,0))","v":0.57047399829497059},{"$f":"IF(P148<=0,0,VLOOKUP(F148&K148&H148,Costs!$A$13:$B$24,2,FALSE))","v":0.66131085943522216},{"$f":"VLOOKUP($R$9,[2]CHAR!$B$17:$T$54,MATCH(J148,[2]CHAR!$B$16:$T$16,0),FALSE)","v":2.5477723102065148E-3},{"$f":"IFERROR(VLOOKUP($F148&$I148&$K148&$H148&$G148,'Savings from 6P'!$V$11:$X$435,3,FALSE),$AD148)","v":0.3},{"$f":"MATCH(J148,[2]!BLDGTYPE,0)","v":13},9.8940421863423066E-3,0.86606113087441317,1.5743440192688529E-2,0.83868998628257874,"POST2013",{"$f":"IFERROR(IF(G148=\"gasht\",INDEX('Savings from 6P'!$Z$11:$AF$28,MATCH(J148,'Savings from 6P'!$Z$11:$Z$28,0),MATCH(MMap!F148&MMap!H148&MMap!K148,'Savings from 6P'!$Y$7:$AE$7,0)),\"\"),\"\")","v":0.13913},0.86606113087441317,15,null,0]
["Demand Control Ventilation-DOAS-Restaurant-GasHt-Vent-New","Demand Control Ventilation","Demand Control Ventilation-New-Restaurant-DOAS","Demand Control Ventilation-New-Restaurant","Demand Control Ventilation-New","DOAS","GasHt","Vent","Restaurant","Restaurant","New","POST2013",0.23809584891509705,135.82749090803065,157.45537047400163,{"$f":"INDEX('Savings from 6P'!$A$11:$L$92,MATCH(MMap!F149&MMap!J149&H149,'Savings from 6P'!$A$11:$A$92,0),MATCH(MMap!K149&G149,'Savings from 6P'!$A$4:$L$4,0))","v":0.57047399829497059},{"$f":"IF(P149<=0,0,VLOOKUP(F149&K149&H149,Costs!$A$13:$B$24,2,FALSE))","v":0.66131085943522216},{"$f":"VLOOKUP($R$9,[2]CHAR!$B$17:$T$54,MATCH(J149,[2]CHAR!$B$16:$T$16,0),FALSE)","v":1.1693580853842011E-2},{"$f":"IFERROR(VLOOKUP($F149&$I149&$K149&$H149&$G149,'Savings from 6P'!$V$11:$X$435,3,FALSE),$AD149)","v":0.3},{"$f":"MATCH(J149,[2]!BLDGTYPE,0)","v":14},3.0050555941853869E-2,0.79365284945968273,0.17629659459846331,0.99999997512427186,"POST2013",{"$f":"IFERROR(IF(G149=\"gasht\",INDEX('Savings from 6P'!$Z$11:$AF$28,MATCH(J149,'Savings from 6P'!$Z$11:$Z$28,0),MATCH(MMap!F149&MMap!H149&MMap!K149,'Savings from 6P'!$Y$7:$AE$7,0)),\"\"),\"\")","v":1.5034280691473776E-2},0.79365284945968273,15,null,0]
["Demand Control Ventilation-DOAS-Lodging-GasHt-Vent-New","Demand Control Ventilation","Demand Control Ventilation-New-Lodging-DOAS","Demand Control Ventilation-New-Lodging","Demand Control Ventilation-New","DOAS","GasHt","Vent","Lodging","Lodging","New","POST2013",0,0,0,{"$f":"INDEX('Savings from 6P'!$A$11:$L$92,MATCH(MMap!F150&MMap!J150&H150,'Savings from 6P'!$A$11:$A$92,0),MATCH(MMap!K150&G150,'Savings from 6P'!$A$4:$L$4,0))","v":0.55020399829497058},{"$f":"IF(P150<=0,0,VLOOKUP(F150&K150&H150,Costs!$A$13:$B$24,2,FALSE))","v":0.66131085943522216},{"$f":"VLOOKUP($R$9,[2]CHAR!$B$17:$T$54,MATCH(J150,[2]CHAR!$B$16:$T$16,0),FALSE)","v":2.3957473342185561E-2},{"$f":"IFERROR(VLOOKUP($F150&$I150&$K150&$H150&$G150,'Savings from 6P'!$V$11:$X$435,3,FALSE),$AD150)","v":0},{"$f":"MATCH(J150,[2]!BLDGTYPE,0)","v":15},0.44679184687802564,0.24941748529786834,0.30379066782410608,0.94438859080377269,"POST2013",{"$f":"IFERROR(IF(G150=\"gasht\",INDEX('Savings from 6P'!$Z$11:$AF$28,MATCH(J150,'Savings from 6P'!$Z$11:$Z$28,0),MATCH(MMap!F150&MMap!H150&MMap!K150,'Savings from 6P'!$Y$7:$AE$7,0)),\"\"),\"\")","v":0.13913},0.24941748529786834,15,null,0]
["Demand Control Ventilation-DOAS-Hospital-GasHt-Vent-New","Demand Control Ventilation","Demand Control Ventilation-New-Hospital-DOAS","Demand Control Ventilation-New-Hospital","Demand Control Ventilation-New","DOAS","GasHt","Vent","Hospital","Hospital","New","POST2013",0,0,0,{"$f":"INDEX('Savings from 6P'!$A$11:$L$92,MATCH(MMap!F151&MMap!J151&H151,'Savings from 6P'!$A$11:$A$92,0),MATCH(MMap!K151&G151,'Savings from 6P'!$A$4:$L$4,0))","v":0.55020399829497058},{"$f":"IF(P151<=0,0,VLOOKUP(F151&K151&H151,Costs!$A$13:$B$24,2,FALSE))","v":0.66131085943522216},{"$f":"VLOOKUP($R$9,[2]CHAR!$B$17:$T$54,MATCH(J151,[2]CHAR!$B$16:$T$16,0),FALSE)","v":4.4965056377242296E-2},{"$f":"IFERROR(VLOOKUP($F151&$I151&$K151&$H151&$G151,'Savings from 6P'!$V$11:$X$435,3,FALSE),$AD151)","v":0},{"$f":"MATCH(J151,[2]!BLDGTYPE,0)","v":16},0.08,0.91,0.01,0.95,"POST2013",{"$f":"IFERROR(IF(G151=\"gasht\",INDEX('Savings from 6P'!$Z$11:$AF$28,MATCH(J151,'Savings from 6P'!$Z$11:$Z$28,0),MATCH(MMap!F151&MMap!H151&MMap!K151,'Savings from 6P'!$Y$7:$AE$7,0)),\"\"),\"\")","v":0.13913},0.91,15,null,0]
["Demand Control Ventilation-DOAS-Residential Care-GasHt-Vent-New","Demand Control Ventilation","Demand Control Ventilation-New-Residential Care-DOAS","Demand Control Ventilation-New-Residential Care","Demand Control Ventilation-New","DOAS","GasHt","Vent","OtherHealth","Residential Care","New","POST2013",0,0,0,{"$f":"INDEX('Savings from 6P'!$A$11:$L$92,MATCH(MMap!F152&MMap!J152&H152,'Savings from 6P'!$A$11:$A$92,0),MATCH(MMap!K152&G152,'Savings from 6P'!$A$4:$L$4,0))","v":0.55020399829497058},{"$f":"IF(P152<=0,0,VLOOKUP(F152&K152&H152,Costs!$A$13:$B$24,2,FALSE))","v":0.66131085943522216},{"$f":"VLOOKUP($R$9,[2]CHAR!$B$17:$T$54,MATCH(J152,[2]CHAR!$B$16:$T$16,0),FALSE)","v":5.827742495837801E-2},{"$f":"IFERROR(VLOOKUP($F152&$I152&$K152&$H152&$G152,'Savings from 6P'!$V$11:$X$435,3,FALSE),$AD152)","v":0},{"$f":"MATCH(J152,[2]!BLDGTYPE,0)","v":17},0.33985691133471541,0.40556621261939335,0.25457687604589124,0.8423386600487599,"POST2013",{"$f":"IFERROR(IF(G152=\"gasht\",INDEX('Savings from 6P'!$Z$11:$AF$28,MATCH(J152,'Savings from 6P'!$Z$11:$Z$28,0),MATCH(MMap!F152&MMap!H152&MMap!K152,'Savings from 6P'!$Y$7:$AE$7,0)),\"\"),\"\")","v":0.13913},0.40556621261939335,15,null,0]
["Demand Control Ventilation-DOAS-Assembly-GasHt-Vent-New","Demand Control Ventilation","Demand Control Ventilation-New-Assembly-DOAS","Demand Control Ventilation-New-Assembly","Demand Control Ventilation-New","DOAS","GasHt","Vent","Assembly","Assembly","New","POST2013",0,0,0,{"$f":"INDEX('Savings from 6P'!$A$11:$L$92,MATCH(MMap!F153&MMap!J153&H153,'Savings from 6P'!$A$11:$A$92,0),MATCH(MMap!K153&G153,'Savings from 6P'!$A$4:$L$4,0))","v":0.55020399829497058},{"$f":"IF(P153<=0,0,VLOOKUP(F153&K153&H153,Costs!$A$13:$B$24,2,FALSE))","v":0.66131085943522216},{"$f":"VLOOKUP($R$9,[2]CHAR!$B$17:$T$54,MATCH(J153,[2]CHAR!$B$16:$T$16,0),FALSE)","v":9.0984350406775827E-2},{"$f":"IFERROR(VLOOKUP($F153&$I153&$K153&$H153&$G153,'Savings from 6P'!$V$11:$X$435,3,FALSE),$AD153)","v":0},{"$f":"MATCH(J153,[2]!BLDGTYPE,0)","v":18},0.10640191237323121,0.77815390025512432,0.11544418737164447,0.91177234717447209,"POST2013",{"$f":"IFERROR(IF(G153=\"gasht\",INDEX('Savings from 6P'!$Z$11:$AF$28,MATCH(J153,'Savings from 6P'!$Z$11:$Z$28,0),MATCH(MMap!F153&MMap!H153&MMap!K153,'Savings from 6P'!$Y$7:$AE$7,0)),\"\"),\"\")","v":0.13913},0.77815390025512432,15,null,0]
["Demand Control Ventilation-DOAS-Other-GasHt-Vent-New","Demand Control Ventilation","Demand Control Ventilation-New-Other-DOAS","Demand Control Ventilation-New-Other","Demand Control Ventilation-New","DOAS","GasHt","Vent","Other","Other","New","POST2013",0,0,0,{"$f":"INDEX('Savings from 6P'!$A$11:$L$92,MATCH(MMap!F154&MMap!J154&H154,'Savings from 6P'!$A$11:$A$92,0),MATCH(MMap!K154&G154,'Savings from 6P'!$A$4:$L$4,0))","v":0.55020399829497058},{"$f":"IF(P154<=0,0,VLOOKUP(F154&K154&H154,Costs!$A$13:$B$24,2,FALSE))","v":0.66131085943522216},{"$f":"VLOOKUP($R$9,[2]CHAR!$B$17:$T$54,MATCH(J154,[2]CHAR!$B$16:$T$16,0),FALSE)","v":0.21334717399999265},{"$f":"IFERROR(VLOOKUP($F154&$I154&$K154&$H154&$G154,'Savings from 6P'!$V$11:$X$435,3,FALSE),$AD154)","v":0},{"$f":"MATCH(J154,[2]!BLDGTYPE,0)","v":19},0.16939513747697868,0.7257160432726234,0.104888819250398,0.87717751610580841,"POST2013",{"$f":"IFERROR(IF(G154=\"gasht\",INDEX('Savings from 6P'!$Z$11:$AF$28,MATCH(J154,'Savings from 6P'!$Z$11:$Z$28,0),MATCH(MMap!F154&MMap!H154&MMap!K154,'Savings from 6P'!$Y$7:$AE$7,0)),\"\"),\"\")","v":0.13913},0.7257160432726234,15,null,0]
["Demand Control Ventilation-DOAS-Large Off-HtPmpHt-Vent-New","Demand Control Ventilation","Demand Control Ventilation-New-Large Off-DOAS","Demand Control Ventilation-New-Large Off","Demand Control Ventilation-New","DOAS","HtPmpHt","Vent","Large Off","Large Off","New","POST2013",0,0,0,{"$f":"INDEX('Savings from 6P'!$A$11:$L$92,MATCH(MMap!F155&MMap!J155&H155,'Savings from 6P'!$A$11:$A$92,0),MATCH(MMap!K155&G155,'Savings from 6P'!$A$4:$L$4,0))","v":0.55020399829497058},{"$f":"IF(P155<=0,0,VLOOKUP(F155&K155&H155,Costs!$A$13:$B$24,2,FALSE))","v":0.66131085943522216},{"$f":"VLOOKUP($R$9,[2]CHAR!$B$17:$T$54,MATCH(J155,[2]CHAR!$B$16:$T$16,0),FALSE)","v":0.15073291148870363},{"$f":"IFERROR(VLOOKUP($F155&$I155&$K155&$H155&$G155,'Savings from 6P'!$V$11:$X$435,3,FALSE),$AD155)","v":0},{"$f":"MATCH(J155,[2]!BLDGTYPE,0)","v":2},0.20943280302167308,0.54037060186620078,0.25019659511212627,0.95128694884061893,"POST2013",{"$f":"IFERROR(IF(G155=\"gasht\",INDEX('Savings from 6P'!$Z$11:$AF$28,MATCH(J155,'Savings from 6P'!$Z$11:$Z$28,0),MATCH(MMap!F155&MMap!H155&MMap!K155,'Savings from 6P'!$Y$7:$AE$7,0)),\"\"),\"\")","v":""},0.25019659511212627,15,null,0]
["Demand Control Ventilation-DOAS-Medium Off-HtPmpHt-Vent-New","Demand Control Ventilation","Demand Control Ventilation-New-Medium Off-DOAS","Demand Control Ventilation-New-Medium Off","Demand Control Ventilation-New","DOAS","HtPmpHt","Vent","Medium Off","Medium Off","New","POST2013",0,0,0,{"$f":"INDEX('Savings from 6P'!$A$11:$L$92,MATCH(MMap!F156&MMap!J156&H156,'Savings from 6P'!$A$11:$A$92,0),MATCH(MMap!K156&G156,'Savings from 6P'!$A$4:$L$4,0))","v":0.55020399829497058},{"$f":"IF(P156<=0,0,VLOOKUP(F156&K156&H156,Costs!$A$13:$B$24,2,FALSE))","v":0.66131085943522216},{"$f":"VLOOKUP($R$9,[2]CHAR!$B$17:$T$54,MATCH(J156,[2]CHAR!$B$16:$T$16,0),FALSE)","v":0.12013270538231059},{"$f":"IFERROR(VLOOKUP($F156&$I156&$K156&$H156&$G156,'Savings from 6P'!$V$11:$X$435,3,FALSE),$AD156)","v":0},{"$f":"MATCH(J156,[2]!BLDGTYPE,0)","v":3},0.22131165109110185,0.51430081857580845,0.26438753033308959,0.97665874571205136,"POST2013",{"$f":"IFERROR(IF(G156=\"gasht\",INDEX('Savings from 6P'!$Z$11:$AF$28,MATCH(J156,'Savings from 6P'!$Z$11:$Z$28,0),MATCH(MMap!F156&MMap!H156&MMap!K156,'Savings from 6P'!$Y$7:$AE$7,0)),\"\"),\"\")","v":""},0.26438753033308959,15,null,0]
["Demand Control Ventilation-DOAS-Small Off-HtPmpHt-Vent-New","Demand Control Ventilation","Demand Control Ventilation-New-Small Off-DOAS","Demand Control Ventilation-New-Small Off","Demand Control Ventilation-New","DOAS","HtPmpHt","Vent","Small Off","Small Off","New","POST2013",0,0,0,{"$f":"INDEX('Savings from 6P'!$A$11:$L$92,MATCH(MMap!F157&MMap!J157&H157,'Savings from 6P'!$A$11:$A$92,0),MATCH(MMap!K157&G157,'Savings from 6P'!$A$4:$L$4,0))","v":0.55020399829497058},{"$f":"IF(P157<=0,0,VLOOKUP(F157&K157&H157,Costs!$A$13:$B$24,2,FALSE))","v":0.66131085943522216},{"$f":"VLOOKUP($R$9,[2]CHAR!$B$17:$T$54,MATCH(J157,[2]CHAR!$B$16:$T$16,0),FALSE)","v":3.1538695729415013E-2},{"$f":"IFERROR(VLOOKUP($F157&$I157&$K157&$H157&$G157,'Savings from 6P'!$V$11:$X$435,3,FALSE),$AD157)","v":0},{"$f":"MATCH(J157,[2]!BLDGTYPE,0)","v":4},0.30640942705415353,0.3275419203320854,0.36604865261376096,0.91122609210258287,"POST2013",{"$f":"IFERROR(IF(G157=\"gasht\",INDEX('Savings from 6P'!$Z$11:$AF$28,MATCH(J157,'Savings from 6P'!$Z$11:$Z$28,0),MATCH(MMap!F157&MMap!H157&MMap!K157,'Savings from 6P'!$Y$7:$AE$7,0)),\"\"),\"\")","v":""},0.36604865261376096,15,null,0]
["Demand Control Ventilation-DOAS-Xlarge Ret-HtPmpHt-Vent-New","Demand Control Ventilation","Demand Control Ventilation-New-Xlarge Ret-DOAS","Demand Control Ventilation-New-Xlarge Ret","Demand Control Ventilation-New","DOAS","HtPmpHt","Vent","Big Box","Xlarge Ret","New","POST2013",2.1354433529703922E-2,11.749294709367279,14.121918790280827,{"$f":"INDEX('Savings from 6P'!$A$11:$L$92,MATCH(MMap!F158&MMap!J158&H158,'Savings from 6P'!$A$11:$A$92,0),MATCH(MMap!K158&G158,'Savings from 6P'!$A$4:$L$4,0))","v":0.55020399829497058},{"$f":"IF(P158<=0,0,VLOOKUP(F158&K158&H158,Costs!$A$13:$B$24,2,FALSE))","v":0.66131085943522216},{"$f":"VLOOKUP($R$9,[2]CHAR!$B$17:$T$54,MATCH(J158,[2]CHAR!$B$16:$T$16,0),FALSE)","v":2.6820893655991742E-2},{"$f":"IFERROR(VLOOKUP($F158&$I158&$K158&$H158&$G158,'Savings from 6P'!$V$11:$X$435,3,FALSE),$AD158)","v":0.7},{"$f":"MATCH(J158,[2]!BLDGTYPE,0)","v":5},5.2995881766435368E-2,0.91606730000738101,3.0936818226183656E-2,0.98608503921852686,"POST2013",{"$f":"IFERROR(IF(G158=\"gasht\",INDEX('Savings from 6P'!$Z$11:$AF$28,MATCH(J158,'Savings from 6P'!$Z$11:$Z$28,0),MATCH(MMap!F158&MMap!H158&MMap!K158,'Savings from 6P'!$Y$7:$AE$7,0)),\"\"),\"\")","v":""},3.0936818226183656E-2,15,null,0.7]
["Demand Control Ventilation-DOAS-Large Ret-HtPmpHt-Vent-New","Demand Control Ventilation","Demand Control Ventilation-New-Large Ret-DOAS","Demand Control Ventilation-New-Large Ret","Demand Control Ventilation-New","DOAS","HtPmpHt","Vent","Small Box","Large Ret","New","POST2013",2.8636599219559362E-3,1.5755971388172194,1.8937694041188813,{"$f":"INDEX('Savings from 6P'!$A$11:$L$92,MATCH(MMap!F159&MMap!J159&H159,'Savings from 6P'!$A$11:$A$92,0),MATCH(MMap!K159&G159,'Savings from 6P'!$A$4:$L$4,0))","v":0.55020399829497058},{"$f":"IF(P159<=0,0,VLOOKUP(F159&K159&H159,Costs!$A$13:$B$24,2,FALSE))","v":0.66131085943522216},{"$f":"VLOOKUP($R$9,[2]CHAR!$B$17:$T$54,MATCH(J159,[2]CHAR!$B$16:$T$16,0),FALSE)","v":1.0839638408159987E-2},{"$f":"IFERROR(VLOOKUP($F159&$I159&$K159&$H159&$G159,'Savings from 6P'!$V$11:$X$435,3,FALSE),$AD159)","v":0.6},{"$f":"MATCH(J159,[2]!BLDGTYPE,0)","v":6},1.0593107738682607E-2,0.98322307122393326,6.1838210373840949E-3,0.77181511362305244,"POST2013",{"$f":"IFERROR(IF(G159=\"gasht\",INDEX('Savings from 6P'!$Z$11:$AF$28,MATCH(J159,'Savings from 6P'!$Z$11:$Z$28,0),MATCH(MMap!F159&MMap!H159&MMap!K159,'Savings from 6P'!$Y$7:$AE$7,0)),\"\"),\"\")","v":""},6.1838210373840949E-3,15,null,0.6]
["Demand Control Ventilation-DOAS-Medium Ret-HtPmpHt-Vent-New","Demand Control Ventilation","Demand Control Ventilation-New-Medium Ret-DOAS","Demand Control Ventilation-New-Medium Ret","Demand Control Ventilation-New","DOAS","HtPmpHt","Vent","High End","Medium Ret","New","POST2013",1.9034546341088171E-2,10.472883502597615,12.587752199784582,{"$f":"INDEX('Savings from 6P'!$A$11:$L$92,MATCH(MMap!F160&MMap!J160&H160,'Savings from 6P'!$A$11:$A$92,0),MATCH(MMap!K160&G160,'Savings from 6P'!$A$4:$L$4,0))","v":0.55020399829497058},{"$f":"IF(P160<=0,0,VLOOKUP(F160&K160&H160,Costs!$A$13:$B$24,2,FALSE))","v":0.66131085943522216},{"$f":"VLOOKUP($R$9,[2]CHAR!$B$17:$T$54,MATCH(J160,[2]CHAR!$B$16:$T$16,0),FALSE)","v":4.0894012773033235E-2},{"$f":"IFERROR(VLOOKUP($F160&$I160&$K160&$H160&$G160,'Savings from 6P'!$V$11:$X$435,3,FALSE),$AD160)","v":0.3},{"$f":"MATCH(J160,[2]!BLDGTYPE,0)","v":7},0.12006240959495594,0.80985008893074606,7.0087501474297986E-2,0.90527535536267667,"POST2013",{"$f":"IFERROR(IF(G160=\"gasht\",INDEX('Savings from 6P'!$Z$11:$AF$28,MATCH(J160,'Savings from 6P'!$Z$11:$Z$28,0),MATCH(MMap!F160&MMap!H160&MMap!K160,'Savings from 6P'!$Y$7:$AE$7,0)),\"\"),\"\")","v":""},7.0087501474297986E-2,15,null,0.3]
["Demand Control Ventilation-DOAS-Small Ret-HtPmpHt-Vent-New","Demand Control Ventilation","Demand Control Ventilation-New-Small Ret-DOAS","Demand Control Ventilation-New-Small Ret","Demand Control Ventilation-New","DOAS","HtPmpHt","Vent","Anchor","Small Ret","New","POST2013",2.5686115212301061E-2,14.132603290473311,16.986506926598949,{"$f":"INDEX('Savings from 6P'!$A$11:$L$92,MATCH(MMap!F161&MMap!J161&H161,'Savings from 6P'!$A$11:$A$92,0),MATCH(MMap!K161&G161,'Savings from 6P'!$A$4:$L$4,0))","v":0.55020399829497058},{"$f":"IF(P161<=0,0,VLOOKUP(F161&K161&H161,Costs!$A$13:$B$24,2,FALSE))","v":0.66131085943522216},{"$f":"VLOOKUP($R$9,[2]CHAR!$B$17:$T$54,MATCH(J161,[2]CHAR!$B$16:$T$16,0),FALSE)","v":1.3016203517984767E-2},{"$f":"IFERROR(VLOOKUP($F161&$I161&$K161&$H161&$G161,'Savings from 6P'!$V$11:$X$435,3,FALSE),$AD161)","v":0.3},{"$f":"MATCH(J161,[2]!BLDGTYPE,0)","v":8},0.2732917310450087,0.56717178566142912,0.15953648329356207,0.53668215741883951,"POST2013",{"$f":"IFERROR(IF(G161=\"gasht\",INDEX('Savings from 6P'!$Z$11:$AF$28,MATCH(J161,'Savings from 6P'!$Z$11:$Z$28,0),MATCH(MMap!F161&MMap!H161&MMap!K161,'Savings from 6P'!$Y$7:$AE$7,0)),\"\"),\"\")","v":""},0.15953648329356207,15,null,0.3]
["Demand Control Ventilation-DOAS-School K-12-HtPmpHt-Vent-New","Demand Control Ventilation","Demand Control Ventilation-New-School K-12-DOAS","Demand Control Ventilation-New-School K-12","Demand Control Ventilation-New","DOAS","HtPmpHt","Vent","K-12","School K-12","New","POST2013",0,0,0,{"$f":"INDEX('Savings from 6P'!$A$11:$L$92,MATCH(MMap!F162&MMap!J162&H162,'Savings from 6P'!$A$11:$A$92,0),MATCH(MMap!K162&G162,'Savings from 6P'!$A$4:$L$4,0))","v":0.55020399829497058},{"$f":"IF(P162<=0,0,VLOOKUP(F162&K162&H162,Costs!$A$13:$B$24,2,FALSE))","v":0.66131085943522216},{"$f":"VLOOKUP($R$9,[2]CHAR!$B$17:$T$54,MATCH(J162,[2]CHAR!$B$16:$T$16,0),FALSE)","v":3.0886857559635036E-2},{"$f":"IFERROR(VLOOKUP($F162&$I162&$K162&$H162&$G162,'Savings from 6P'!$V$11:$X$435,3,FALSE),$AD162)","v":0},{"$f":"MATCH(J162,[2]!BLDGTYPE,0)","v":9},5.8369343906151915E-2,0.84777782221188291,9.3852833881965178E-2,0.96128535178408803,"POST2013",{"$f":"IFERROR(IF(G162=\"gasht\",INDEX('Savings from 6P'!$Z$11:$AF$28,MATCH(J162,'Savings from 6P'!$Z$11:$Z$28,0),MATCH(MMap!F162&MMap!H162&MMap!K162,'Savings from 6P'!$Y$7:$AE$7,0)),\"\"),\"\")","v":""},9.3852833881965178E-2,15,null,0]
["Demand Control Ventilation-DOAS-University-HtPmpHt-Vent-New","Demand Control Ventilation","Demand Control Ventilation-New-University-DOAS","Demand Control Ventilation-New-University","Demand Control Ventilation-New","DOAS","HtPmpHt","Vent","University","University","New","POST2013",0,0,0,{"$f":"INDEX('Savings from 6P'!$A$11:$L$92,MATCH(MMap!F163&MMap!J163&H163,'Savings from 6P'!$A$11:$A$92,0),MATCH(MMap!K163&G163,'Savings from 6P'!$A$4:$L$4,0))","v":0.55020399829497058},{"$f":"IF(P163<=0,0,VLOOKUP(F163&K163&H163,Costs!$A$13:$B$24,2,FALSE))","v":0.66131085943522216},{"$f":"VLOOKUP($R$9,[2]CHAR!$B$17:$T$54,MATCH(J163,[2]CHAR!$B$16:$T$16,0),FALSE)","v":2.2325826170102026E-2},{"$f":"IFERROR(VLOOKUP($F163&$I163&$K163&$H163&$G163,'Savings from 6P'!$V$11:$X$435,3,FALSE),$AD163)","v":0},{"$f":"MATCH(J163,[2]!BLDGTYPE,0)","v":10},0.1,0.8,0.1,0.75,"POST2013",{"$f":"IFERROR(IF(G163=\"gasht\",INDEX('Savings from 6P'!$Z$11:$AF$28,MATCH(J163,'Savings from 6P'!$Z$11:$Z$28,0),MATCH(MMap!F163&MMap!H163&MMap!K163,'Savings from 6P'!$Y$7:$AE$7,0)),\"\"),\"\")","v":""},0.1,15,null,0]
["Demand Control Ventilation-DOAS-Warehouse-HtPmpHt-Vent-New","Demand Control Ventilation","Demand Control Ventilation-New-Warehouse-DOAS","Demand Control Ventilation-New-Warehouse","Demand Control Ventilation-New","DOAS","HtPmpHt","Vent","Warehouse","Warehouse","New","POST2013",0,0,0,{"$f":"INDEX('Savings from 6P'!$A$11:$L$92,MATCH(MMap!F164&MMap!J164&H164,'Savings from 6P'!$A$11:$A$92,0),MATCH(MMap!K164&G164,'Savings from 6P'!$A$4:$L$4,0))","v":0.55020399829497058},{"$f":"IF(P164<=0,0,VLOOKUP(F164&K164&H164,Costs!$A$13:$B$24,2,FALSE))","v":0.66131085943522216},{"$f":"VLOOKUP($R$9,[2]CHAR!$B$17:$T$54,MATCH(J164,[2]CHAR!$B$16:$T$16,0),FALSE)","v":0.10087192274660353},{"$f":"IFERROR(VLOOKUP($F164&$I164&$K164&$H164&$G164,'Savings from 6P'!$V$11:$X$435,3,FALSE),$AD164)","v":0},{"$f":"MATCH(J164,[2]!BLDGTYPE,0)","v":11},6.3929137015483993E-3,0.98700382329725422,6.6032630011973147E-3,0.18162271351024481,"POST2013",{"$f":"IFERROR(IF(G164=\"gasht\",INDEX('Savings from 6P'!$Z$11:$AF$28,MATCH(J164,'Savings from 6P'!$Z$11:$Z$28,0),MATCH(MMap!F164&MMap!H164&MMap!K164,'Savings from 6P'!$Y$7:$AE$7,0)),\"\"),\"\")","v":""},6.6032630011973147E-3,15,null,0]
["Demand Control Ventilation-DOAS-Supermarket-HtPmpHt-Vent-New","Demand Control Ventilation","Demand Control Ventilation-New-Supermarket-DOAS","Demand Control Ventilation-New-Supermarket","Demand Control Ventilation-New","DOAS","HtPmpHt","Vent","Supermarket","Supermarket","New","POST2013",4.0216401302231808E-2,22.127224793523002,26.595542908570703,{"$f":"INDEX('Savings from 6P'!$A$11:$L$92,MATCH(MMap!F165&MMap!J165&H165,'Savings from 6P'!$A$11:$A$92,0),MATCH(MMap!K165&G165,'Savings from 6P'!$A$4:$L$4,0))","v":0.55020399829497058},{"$f":"IF(P165<=0,0,VLOOKUP(F165&K165&H165,Costs!$A$13:$B$24,2,FALSE))","v":0.66131085943522216},{"$f":"VLOOKUP($R$9,[2]CHAR!$B$17:$T$54,MATCH(J165,[2]CHAR!$B$16:$T$16,0),FALSE)","v":6.1675003194375045E-3},{"$f":"IFERROR(VLOOKUP($F165&$I165&$K165&$H165&$G165,'Savings from 6P'!$V$11:$X$435,3,FALSE),$AD165)","v":0.7},{"$f":"MATCH(J165,[2]!BLDGTYPE,0)","v":12},3.9182634298973458E-2,0.46957192737561176,6.234756715808213E-2,0.92147944946531313,"POST2013",{"$f":"IFERROR(IF(G165=\"gasht\",INDEX('Savings from 6P'!$Z$11:$AF$28,MATCH(J165,'Savings from 6P'!$Z$11:$Z$28,0),MATCH(MMap!F165&MMap!H165&MMap!K165,'Savings from 6P'!$Y$7:$AE$7,0)),\"\"),\"\")","v":""},6.234756715808213E-2,15,null,0]
["Demand Control Ventilation-DOAS-MiniMart-HtPmpHt-Vent-New","Demand Control Ventilation","Demand Control Ventilation-New-MiniMart-DOAS","Demand Control Ventilation-New-MiniMart","Demand Control Ventilation-New","DOAS","HtPmpHt","Vent","MIniMart","MiniMart","New","POST2013",3.9611596917739616E-3,2.1794459002989068,2.6195579201271983,{"$f":"INDEX('Savings from 6P'!$A$11:$L$92,MATCH(MMap!F166&MMap!J166&H166,'Savings from 6P'!$A$11:$A$92,0),MATCH(MMap!K166&G166,'Savings from 6P'!$A$4:$L$4,0))","v":0.55020399829497058},{"$f":"IF(P166<=0,0,VLOOKUP(F166&K166&H166,Costs!$A$13:$B$24,2,FALSE))","v":0.66131085943522216},{"$f":"VLOOKUP($R$9,[2]CHAR!$B$17:$T$54,MATCH(J166,[2]CHAR!$B$16:$T$16,0),FALSE)","v":2.5477723102065148E-3},{"$f":"IFERROR(VLOOKUP($F166&$I166&$K166&$H166&$G166,'Savings from 6P'!$V$11:$X$435,3,FALSE),$AD166)","v":0.3},{"$f":"MATCH(J166,[2]!BLDGTYPE,0)","v":13},9.8940421863423066E-3,0.86606113087441317,1.5743440192688529E-2,0.83868998628257874,"POST2013",{"$f":"IFERROR(IF(G166=\"gasht\",INDEX('Savings from 6P'!$Z$11:$AF$28,MATCH(J166,'Savings from 6P'!$Z$11:$Z$28,0),MATCH(MMap!F166&MMap!H166&MMap!K166,'Savings from 6P'!$Y$7:$AE$7,0)),\"\"),\"\")","v":""},1.5743440192688529E-2,15,null,0]
["Demand Control Ventilation-DOAS-Restaurant-HtPmpHt-Vent-New","Demand Control Ventilation","Demand Control Ventilation-New-Restaurant-DOAS","Demand Control Ventilation-New-Restaurant","Demand Control Ventilation-New","DOAS","HtPmpHt","Vent","Restaurant","Restaurant","New","POST2013",5.2888977063887142E-2,29.099726646281699,34.976054876768963,{"$f":"INDEX('Savings from 6P'!$A$11:$L$92,MATCH(MMap!F167&MMap!J167&H167,'Savings from 6P'!$A$11:$A$92,0),MATCH(MMap!K167&G167,'Savings from 6P'!$A$4:$L$4,0))","v":0.55020399829497058},{"$f":"IF(P167<=0,0,VLOOKUP(F167&K167&H167,Costs!$A$13:$B$24,2,FALSE))","v":0.66131085943522216},{"$f":"VLOOKUP($R$9,[2]CHAR!$B$17:$T$54,MATCH(J167,[2]CHAR!$B$16:$T$16,0),FALSE)","v":1.1693580853842011E-2},{"$f":"IFERROR(VLOOKUP($F167&$I167&$K167&$H167&$G167,'Savings from 6P'!$V$11:$X$435,3,FALSE),$AD167)","v":0.3},{"$f":"MATCH(J167,[2]!BLDGTYPE,0)","v":14},3.0050555941853869E-2,0.79365284945968273,0.17629659459846331,0.99999997512427186,"POST2013",{"$f":"IFERROR(IF(G167=\"gasht\",INDEX('Savings from 6P'!$Z$11:$AF$28,MATCH(J167,'Savings from 6P'!$Z$11:$Z$28,0),MATCH(MMap!F167&MMap!H167&MMap!K167,'Savings from 6P'!$Y$7:$AE$7,0)),\"\"),\"\")","v":""},0.17629659459846331,15,null,0]
["Demand Control Ventilation-DOAS-Lodging-HtPmpHt-Vent-New","Demand Control Ventilation","Demand Control Ventilation-New-Lodging-DOAS","Demand Control Ventilation-New-Lodging","Demand Control Ventilation-New","DOAS","HtPmpHt","Vent","Lodging","Lodging","New","POST2013",0,0,0,{"$f":"INDEX('Savings from 6P'!$A$11:$L$92,MATCH(MMap!F168&MMap!J168&H168,'Savings from 6P'!$A$11:$A$92,0),MATCH(MMap!K168&G168,'Savings from 6P'!$A$4:$L$4,0))","v":0.55020399829497058},{"$f":"IF(P168<=0,0,VLOOKUP(F168&K168&H168,Costs!$A$13:$B$24,2,FALSE))","v":0.66131085943522216},{"$f":"VLOOKUP($R$9,[2]CHAR!$B$17:$T$54,MATCH(J168,[2]CHAR!$B$16:$T$16,0),FALSE)","v":2.3957473342185561E-2},{"$f":"IFERROR(VLOOKUP($F168&$I168&$K168&$H168&$G168,'Savings from 6P'!$V$11:$X$435,3,FALSE),$AD168)","v":0},{"$f":"MATCH(J168,[2]!BLDGTYPE,0)","v":15},0.44679184687802564,0.24941748529786834,0.30379066782410608,0.94438859080377269,"POST2013",{"$f":"IFERROR(IF(G168=\"gasht\",INDEX('Savings from 6P'!$Z$11:$AF$28,MATCH(J168,'Savings from 6P'!$Z$11:$Z$28,0),MATCH(MMap!F168&MMap!H168&MMap!K168,'Savings from 6P'!$Y$7:$AE$7,0)),\"\"),\"\")","v":""},0.30379066782410608,15,null,0]
["Demand Control Ventilation-DOAS-Hospital-HtPmpHt-Vent-New","Demand Control Ventilation","Demand Control Ventilation-New-Hospital-DOAS","Demand Control Ventilation-New-Hospital","Demand Control Ventilation-New","DOAS","HtPmpHt","Vent","Hospital","Hospital","New","POST2013",0,0,0,{"$f":"INDEX('Savings from 6P'!$A$11:$L$92,MATCH(MMap!F169&MMap!J169&H169,'Savings from 6P'!$A$11:$A$92,0),MATCH(MMap!K169&G169,'Savings from 6P'!$A$4:$L$4,0))","v":0.55020399829497058},{"$f":"IF(P169<=0,0,VLOOKUP(F169&K169&H169,Costs!$A$13:$B$24,2,FALSE))","v":0.66131085943522216},{"$f":"VLOOKUP($R$9,[2]CHAR!$B$17:$T$54,MATCH(J169,[2]CHAR!$B$16:$T$16,0),FALSE)","v":4.4965056377242296E-2},{"$f":"IFERROR(VLOOKUP($F169&$I169&$K169&$H169&$G169,'Savings from 6P'!$V$11:$X$435,3,FALSE),$AD169)","v":0},{"$f":"MATCH(J169,[2]!BLDGTYPE,0)","v":16},0.08,0.91,0.01,0.95,"POST2013",{"$f":"IFERROR(IF(G169=\"gasht\",INDEX('Savings from 6P'!$Z$11:$AF$28,MATCH(J169,'Savings from 6P'!$Z$11:$Z$28,0),MATCH(MMap!F169&MMap!H169&MMap!K169,'Savings from 6P'!$Y$7:$AE$7,0)),\"\"),\"\")","v":""},0.01,15,null,0]
["Demand Control Ventilation-DOAS-Residential Care-HtPmpHt-Vent-New","Demand Control Ventilation","Demand Control Ventilation-New-Residential Care-DOAS","Demand Control Ventilation-New-Residential Care","Demand Control Ventilation-New","DOAS","HtPmpHt","Vent","OtherHealth","Residential Care","New","POST2013",0,0,0,{"$f":"INDEX('Savings from 6P'!$A$11:$L$92,MATCH(MMap!F170&MMap!J170&H170,'Savings from 6P'!$A$11:$A$92,0),MATCH(MMap!K170&G170,'Savings from 6P'!$A$4:$L$4,0))","v":0.55020399829497058},{"$f":"IF(P170<=0,0,VLOOKUP(F170&K170&H170,Costs!$A$13:$B$24,2,FALSE))","v":0.66131085943522216},{"$f":"VLOOKUP($R$9,[2]CHAR!$B$17:$T$54,MATCH(J170,[2]CHAR!$B$16:$T$16,0),FALSE)","v":5.827742495837801E-2},{"$f":"IFERROR(VLOOKUP($F170&$I170&$K170&$H170&$G170,'Savings from 6P'!$V$11:$X$435,3,FALSE),$AD170)","v":0},{"$f":"MATCH(J170,[2]!BLDGTYPE,0)","v":17},0.33985691133471541,0.40556621261939335,0.25457687604589124,0.8423386600487599,"POST2013",{"$f":"IFERROR(IF(G170=\"gasht\",INDEX('Savings from 6P'!$Z$11:$AF$28,MATCH(J170,'Savings from 6P'!$Z$11:$Z$28,0),MATCH(MMap!F170&MMap!H170&MMap!K170,'Savings from 6P'!$Y$7:$AE$7,0)),\"\"),\"\")","v":""},0.25457687604589124,15,null,0]
["Demand Control Ventilation-DOAS-Assembly-HtPmpHt-Vent-New","Demand Control Ventilation","Demand Control Ventilation-New-Assembly-DOAS","Demand Control Ventilation-New-Assembly","Demand Control Ventilation-New","DOAS","HtPmpHt","Vent","Assembly","Assembly","New","POST2013",0,0,0,{"$f":"INDEX('Savings from 6P'!$A$11:$L$92,MATCH(MMap!F171&MMap!J171&H171,'Savings from 6P'!$A$11:$A$92,0),MATCH(MMap!K171&G171,'Savings from 6P'!$A$4:$L$4,0))","v":0.55020399829497058},{"$f":"IF(P171<=0,0,VLOOKUP(F171&K171&H171,Costs!$A$13:$B$24,2,FALSE))","v":0.66131085943522216},{"$f":"VLOOKUP($R$9,[2]CHAR!$B$17:$T$54,MATCH(J171,[2]CHAR!$B$16:$T$16,0),FALSE)","v":9.0984350406775827E-2},{"$f":"IFERROR(VLOOKUP($F171&$I171&$K171&$H171&$G171,'Savings from 6P'!$V$11:$X$435,3,FALSE),$AD171)","v":0},{"$f":"MATCH(J171,[2]!BLDGTYPE,0)","v":18},0.10640191237323121,0.77815390025512432,0.11544418737164447,0.91177234717447209,"POST2013",{"$f":"IFERROR(IF(G171=\"gasht\",INDEX('Savings from 6P'!$Z$11:$AF$28,MATCH(J171,'Savings from 6P'!$Z$11:$Z$28,0),MATCH(MMap!F171&MMap!H171&MMap!K171,'Savings from 6P'!$Y$7:$AE$7,0)),\"\"),\"\")","v":""},0.11544418737164447,15,null,0]
["Demand Control Ventilation-DOAS-Other-HtPmpHt-Vent-New","Demand Control Ventilation","Demand Control Ventilation-New-Other-DOAS","Demand Control Ventilation-New-Other","Demand Control Ventilation-New","DOAS","HtPmpHt","Vent","Other","Other","New","POST2013",0,0,0,{"$f":"INDEX('Savings from 6P'!$A$11:$L$92,MATCH(MMap!F172&MMap!J172&H172,'Savings from 6P'!$A$11:$A$92,0),MATCH(MMap!K172&G172,'Savings from 6P'!$A$4:$L$4,0))","v":0.55020399829497058},{"$f":"IF(P172<=0,0,VLOOKUP(F172&K172&H172,Costs!$A$13:$B$24,2,FALSE))","v":0.66131085943522216},{"$f":"VLOOKUP($R$9,[2]CHAR!$B$17:$T$54,MATCH(J172,[2]CHAR!$B$16:$T$16,0),FALSE)","v":0.21334717399999265},{"$f":"IFERROR(VLOOKUP($F172&$I172&$K172&$H172&$G172,'Savings from 6P'!$V$11:$X$435,3,FALSE),$AD172)","v":0},{"$f":"MATCH(J172,[2]!BLDGTYPE,0)","v":19},0.16939513747697868,0.7257160432726234,0.104888819250398,0.87717751610580841,"POST2013",{"$f":"IFERROR(IF(G172=\"gasht\",INDEX('Savings from 6P'!$Z$11:$AF$28,MATCH(J172,'Savings from 6P'!$Z$11:$Z$28,0),MATCH(MMap!F172&MMap!H172&MMap!K172,'Savings from 6P'!$Y$7:$AE$7,0)),\"\"),\"\")","v":""},0.104888819250398,15,null,0]
["Demand Control Ventilation-DOAS-Large Off-HtPmpHt-Heat-New","Demand Control Ventilation","Demand Control Ventilation-New-Large Off-DOAS","Demand Control Ventilation-New-Large Off","Demand Control Ventilation-New","DOAS","HtPmpHt","Heat","Large Off","Large Off","New","POST2013",0,0,0,{"$f":"INDEX('Savings from 6P'!$A$11:$L$92,MATCH(MMap!F173&MMap!J173&H173,'Savings from 6P'!$A$11:$A$92,0),MATCH(MMap!K173&G173,'Savings from 6P'!$A$4:$L$4,0))","v":0.71591812816541789},{"$f":"IF(P173<=0,0,VLOOKUP(F173&K173&H173,Costs!$A$13:$B$24,2,FALSE))","v":0},{"$f":"VLOOKUP($R$9,[2]CHAR!$B$17:$T$54,MATCH(J173,[2]CHAR!$B$16:$T$16,0),FALSE)","v":0.15073291148870363},{"$f":"IFERROR(VLOOKUP($F173&$I173&$K173&$H173&$G173,'Savings from 6P'!$V$11:$X$435,3,FALSE),$AD173)","v":0},{"$f":"MATCH(J173,[2]!BLDGTYPE,0)","v":2},0.20943280302167308,0.54037060186620078,0.25019659511212627,0.95128694884061893,"POST2013",{"$f":"IFERROR(IF(G173=\"gasht\",INDEX('Savings from 6P'!$Z$11:$AF$28,MATCH(J173,'Savings from 6P'!$Z$11:$Z$28,0),MATCH(MMap!F173&MMap!H173&MMap!K173,'Savings from 6P'!$Y$7:$AE$7,0)),\"\"),\"\")","v":""},0.25019659511212627,15,null,0]
["Demand Control Ventilation-DOAS-Medium Off-HtPmpHt-Heat-New","Demand Control Ventilation","Demand Control Ventilation-New-Medium Off-DOAS","Demand Control Ventilation-New-Medium Off","Demand Control Ventilation-New","DOAS","HtPmpHt","Heat","Medium Off","Medium Off","New","POST2013",0,0,0,{"$f":"INDEX('Savings from 6P'!$A$11:$L$92,MATCH(MMap!F174&MMap!J174&H174,'Savings from 6P'!$A$11:$A$92,0),MATCH(MMap!K174&G174,'Savings from 6P'!$A$4:$L$4,0))","v":0.71591812816541789},{"$f":"IF(P174<=0,0,VLOOKUP(F174&K174&H174,Costs!$A$13:$B$24,2,FALSE))","v":0},{"$f":"VLOOKUP($R$9,[2]CHAR!$B$17:$T$54,MATCH(J174,[2]CHAR!$B$16:$T$16,0),FALSE)","v":0.12013270538231059},{"$f":"IFERROR(VLOOKUP($F174&$I174&$K174&$H174&$G174,'Savings from 6P'!$V$11:$X$435,3,FALSE),$AD174)","v":0},{"$f":"MATCH(J174,[2]!BLDGTYPE,0)","v":3},0.22131165109110185,0.51430081857580845,0.26438753033308959,0.97665874571205136,"POST2013",{"$f":"IFERROR(IF(G174=\"gasht\",INDEX('Savings from 6P'!$Z$11:$AF$28,MATCH(J174,'Savings from 6P'!$Z$11:$Z$28,0),MATCH(MMap!F174&MMap!H174&MMap!K174,'Savings from 6P'!$Y$7:$AE$7,0)),\"\"),\"\")","v":""},0.26438753033308959,15,null,0]
["Demand Control Ventilation-DOAS-Small Off-HtPmpHt-Heat-New","Demand Control Ventilation","Demand Control Ventilation-New-Small Off-DOAS","Demand Control Ventilation-New-Small Off","Demand Control Ventilation-New","DOAS","HtPmpHt","Heat","Small Off","Small Off","New","POST2013",0,0,0,{"$f":"INDEX('Savings from 6P'!$A$11:$L$92,MATCH(MMap!F175&MMap!J175&H175,'Savings from 6P'!$A$11:$A$92,0),MATCH(MMap!K175&G175,'Savings from 6P'!$A$4:$L$4,0))","v":0.71591812816541789},{"$f":"IF(P175<=0,0,VLOOKUP(F175&K175&H175,Costs!$A$13:$B$24,2,FALSE))","v":0},{"$f":"VLOOKUP($R$9,[2]CHAR!$B$17:$T$54,MATCH(J175,[2]CHAR!$B$16:$T$16,0),FALSE)","v":3.1538695729415013E-2},{"$f":"IFERROR(VLOOKUP($F175&$I175&$K175&$H175&$G175,'Savings from 6P'!$V$11:$X$435,3,FALSE),$AD175)","v":0},{"$f":"MATCH(J175,[2]!BLDGTYPE,0)","v":4},0.30640942705415353,0.3275419203320854,0.36604865261376096,0.91122609210258287,"POST2013",{"$f":"IFERROR(IF(G175=\"gasht\",INDEX('Savings from 6P'!$Z$11:$AF$28,MATCH(J175,'Savings from 6P'!$Z$11:$Z$28,0),MATCH(MMap!F175&MMap!H175&MMap!K175,'Savings from 6P'!$Y$7:$AE$7,0)),\"\"),\"\")","v":""},0.36604865261376096,15,null,0]
["Demand Control Ventilation-DOAS-Xlarge Ret-HtPmpHt-Heat-New","Demand Control Ventilation","Demand Control Ventilation-New-Xlarge Ret-DOAS","Demand Control Ventilation-New-Xlarge Ret","Demand Control Ventilation-New","DOAS","HtPmpHt","Heat","Big Box","Xlarge Ret","New","POST2013",2.1354433529703922E-2,33.162193149305402,0,{"$f":"INDEX('Savings from 6P'!$A$11:$L$92,MATCH(MMap!F176&MMap!J176&H176,'Savings from 6P'!$A$11:$A$92,0),MATCH(MMap!K176&G176,'Savings from 6P'!$A$4:$L$4,0))","v":1.5529418330473124},{"$f":"IF(P176<=0,0,VLOOKUP(F176&K176&H176,Costs!$A$13:$B$24,2,FALSE))","v":0},{"$f":"VLOOKUP($R$9,[2]CHAR!$B$17:$T$54,MATCH(J176,[2]CHAR!$B$16:$T$16,0),FALSE)","v":2.6820893655991742E-2},{"$f":"IFERROR(VLOOKUP($F176&$I176&$K176&$H176&$G176,'Savings from 6P'!$V$11:$X$435,3,FALSE),$AD176)","v":0.7},{"$f":"MATCH(J176,[2]!BLDGTYPE,0)","v":5},5.2995881766435368E-2,0.91606730000738101,3.0936818226183656E-2,0.98608503921852686,"POST2013",{"$f":"IFERROR(IF(G176=\"gasht\",INDEX('Savings from 6P'!$Z$11:$AF$28,MATCH(J176,'Savings from 6P'!$Z$11:$Z$28,0),MATCH(MMap!F176&MMap!H176&MMap!K176,'Savings from 6P'!$Y$7:$AE$7,0)),\"\"),\"\")","v":""},3.0936818226183656E-2,15,null,0.7]
["Demand Control Ventilation-DOAS-Large Ret-HtPmpHt-Heat-New","Demand Control Ventilation","Demand Control Ventilation-New-Large Ret-DOAS","Demand Control Ventilation-New-Large Ret","Demand Control Ventilation-New","DOAS","HtPmpHt","Heat","Small Box","Large Ret","New","POST2013",2.8636599219559362E-3,4.4470972884263755,0,{"$f":"INDEX('Savings from 6P'!$A$11:$L$92,MATCH(MMap!F177&MMap!J177&H177,'Savings from 6P'!$A$11:$A$92,0),MATCH(MMap!K177&G177,'Savings from 6P'!$A$4:$L$4,0))","v":1.5529418330473124},{"$f":"IF(P177<=0,0,VLOOKUP(F177&K177&H177,Costs!$A$13:$B$24,2,FALSE))","v":0},{"$f":"VLOOKUP($R$9,[2]CHAR!$B$17:$T$54,MATCH(J177,[2]CHAR!$B$16:$T$16,0),FALSE)","v":1.0839638408159987E-2},{"$f":"IFERROR(VLOOKUP($F177&$I177&$K177&$H177&$G177,'Savings from 6P'!$V$11:$X$435,3,FALSE),$AD177)","v":0.6},{"$f":"MATCH(J177,[2]!BLDGTYPE,0)","v":6},1.0593107738682607E-2,0.98322307122393326,6.1838210373840949E-3,0.77181511362305244,"POST2013",{"$f":"IFERROR(IF(G177=\"gasht\",INDEX('Savings from 6P'!$Z$11:$AF$28,MATCH(J177,'Savings from 6P'!$Z$11:$Z$28,0),MATCH(MMap!F177&MMap!H177&MMap!K177,'Savings from 6P'!$Y$7:$AE$7,0)),\"\"),\"\")","v":""},6.1838210373840949E-3,15,null,0.6]
["Demand Control Ventilation-DOAS-Medium Ret-HtPmpHt-Heat-New","Demand Control Ventilation","Demand Control Ventilation-New-Medium Ret-DOAS","Demand Control Ventilation-New-Medium Ret","Demand Control Ventilation-New","DOAS","HtPmpHt","Heat","High End","Medium Ret","New","POST2013",1.9034546341088171E-2,14.430275138327778,0,{"$f":"INDEX('Savings from 6P'!$A$11:$L$92,MATCH(MMap!F178&MMap!J178&H178,'Savings from 6P'!$A$11:$A$92,0),MATCH(MMap!K178&G178,'Savings from 6P'!$A$4:$L$4,0))","v":0.75810974844083545},{"$f":"IF(P178<=0,0,VLOOKUP(F178&K178&H178,Costs!$A$13:$B$24,2,FALSE))","v":0},{"$f":"VLOOKUP($R$9,[2]CHAR!$B$17:$T$54,MATCH(J178,[2]CHAR!$B$16:$T$16,0),FALSE)","v":4.0894012773033235E-2},{"$f":"IFERROR(VLOOKUP($F178&$I178&$K178&$H178&$G178,'Savings from 6P'!$V$11:$X$435,3,FALSE),$AD178)","v":0.3},{"$f":"MATCH(J178,[2]!BLDGTYPE,0)","v":7},0.12006240959495594,0.80985008893074606,7.0087501474297986E-2,0.90527535536267667,"POST2013",{"$f":"IFERROR(IF(G178=\"gasht\",INDEX('Savings from 6P'!$Z$11:$AF$28,MATCH(J178,'Savings from 6P'!$Z$11:$Z$28,0),MATCH(MMap!F178&MMap!H178&MMap!K178,'Savings from 6P'!$Y$7:$AE$7,0)),\"\"),\"\")","v":""},7.0087501474297986E-2,15,null,0.3]
["Demand Control Ventilation-DOAS-Small Ret-HtPmpHt-Heat-New","Demand Control Ventilation","Demand Control Ventilation-New-Small Ret-DOAS","Demand Control Ventilation-New-Small Ret","Demand Control Ventilation-New","DOAS","HtPmpHt","Heat","Anchor","Small Ret","New","POST2013",2.5686115212301061E-2,19.472894342019874,0,{"$f":"INDEX('Savings from 6P'!$A$11:$L$92,MATCH(MMap!F179&MMap!J179&H179,'Savings from 6P'!$A$11:$A$92,0),MATCH(MMap!K179&G179,'Savings from 6P'!$A$4:$L$4,0))","v":0.75810974844083545},{"$f":"IF(P179<=0,0,VLOOKUP(F179&K179&H179,Costs!$A$13:$B$24,2,FALSE))","v":0},{"$f":"VLOOKUP($R$9,[2]CHAR!$B$17:$T$54,MATCH(J179,[2]CHAR!$B$16:$T$16,0),FALSE)","v":1.3016203517984767E-2},{"$f":"IFERROR(VLOOKUP($F179&$I179&$K179&$H179&$G179,'Savings from 6P'!$V$11:$X$435,3,FALSE),$AD179)","v":0.3},{"$f":"MATCH(J179,[2]!BLDGTYPE,0)","v":8},0.2732917310450087,0.56717178566142912,0.15953648329356207,0.53668215741883951,"POST2013",{"$f":"IFERROR(IF(G179=\"gasht\",INDEX('Savings from 6P'!$Z$11:$AF$28,MATCH(J179,'Savings from 6P'!$Z$11:$Z$28,0),MATCH(MMap!F179&MMap!H179&MMap!K179,'Savings from 6P'!$Y$7:$AE$7,0)),\"\"),\"\")","v":""},0.15953648329356207,15,null,0.3]
["Demand Control Ventilation-DOAS-School K-12-HtPmpHt-Heat-New","Demand Control Ventilation","Demand Control Ventilation-New-School K-12-DOAS","Demand Control Ventilation-New-School K-12","Demand Control Ventilation-New","DOAS","HtPmpHt","Heat","K-12","School K-12","New","POST2013",0,0,0,{"$f":"INDEX('Savings from 6P'!$A$11:$L$92,MATCH(MMap!F180&MMap!J180&H180,'Savings from 6P'!$A$11:$A$92,0),MATCH(MMap!K180&G180,'Savings from 6P'!$A$4:$L$4,0))","v":0.71591812816541789},{"$f":"IF(P180<=0,0,VLOOKUP(F180&K180&H180,Costs!$A$13:$B$24,2,FALSE))","v":0},{"$f":"VLOOKUP($R$9,[2]CHAR!$B$17:$T$54,MATCH(J180,[2]CHAR!$B$16:$T$16,0),FALSE)","v":3.0886857559635036E-2},{"$f":"IFERROR(VLOOKUP($F180&$I180&$K180&$H180&$G180,'Savings from 6P'!$V$11:$X$435,3,FALSE),$AD180)","v":0},{"$f":"MATCH(J180,[2]!BLDGTYPE,0)","v":9},5.8369343906151915E-2,0.84777782221188291,9.3852833881965178E-2,0.96128535178408803,"POST2013",{"$f":"IFERROR(IF(G180=\"gasht\",INDEX('Savings from 6P'!$Z$11:$AF$28,MATCH(J180,'Savings from 6P'!$Z$11:$Z$28,0),MATCH(MMap!F180&MMap!H180&MMap!K180,'Savings from 6P'!$Y$7:$AE$7,0)),\"\"),\"\")","v":""},9.3852833881965178E-2,15,null,0]
["Demand Control Ventilation-DOAS-University-HtPmpHt-Heat-New","Demand Control Ventilation","Demand Control Ventilation-New-University-DOAS","Demand Control Ventilation-New-University","Demand Control Ventilation-New","DOAS","HtPmpHt","Heat","University","University","New","PRE2013",0,0,0,{"$f":"INDEX('Savings from 6P'!$A$11:$L$92,MATCH(MMap!F181&MMap!J181&H181,'Savings from 6P'!$A$11:$A$92,0),MATCH(MMap!K181&G181,'Savings from 6P'!$A$4:$L$4,0))","v":0.71591812816541789},{"$f":"IF(P181<=0,0,VLOOKUP(F181&K181&H181,Costs!$A$13:$B$24,2,FALSE))","v":0},{"$f":"VLOOKUP($R$9,[2]CHAR!$B$17:$T$54,MATCH(J181,[2]CHAR!$B$16:$T$16,0),FALSE)","v":2.2325826170102026E-2},{"$f":"IFERROR(VLOOKUP($F181&$I181&$K181&$H181&$G181,'Savings from 6P'!$V$11:$X$435,3,FALSE),$AD181)","v":0},{"$f":"MATCH(J181,[2]!BLDGTYPE,0)","v":10},0.1,0.8,0.1,0.75,"POST2013",{"$f":"IFERROR(IF(G181=\"gasht\",INDEX('Savings from 6P'!$Z$11:$AF$28,MATCH(J181,'Savings from 6P'!$Z$11:$Z$28,0),MATCH(MMap!F181&MMap!H181&MMap!K181,'Savings from 6P'!$Y$7:$AE$7,0)),\"\"),\"\")","v":""},0.1,15,null,0]
["Demand Control Ventilation-DOAS-Warehouse-HtPmpHt-Heat-New","Demand Control Ventilation","Demand Control Ventilation-New-Warehouse-DOAS","Demand Control Ventilation-New-Warehouse","Demand Control Ventilation-New","DOAS","HtPmpHt","Heat","Warehouse","Warehouse","New","PRE2013",0,0,0,{"$f":"INDEX('Savings from 6P'!$A$11:$L$92,MATCH(MMap!F182&MMap!J182&H182,'Savings from 6P'!$A$11:$A$92,0),MATCH(MMap!K182&G182,'Savings from 6P'!$A$4:$L$4,0))","v":0.71591812816541789},{"$f":"IF(P182<=0,0,VLOOKUP(F182&K182&H182,Costs!$A$13:$B$24,2,FALSE))","v":0},{"$f":"VLOOKUP($R$9,[2]CHAR!$B$17:$T$54,MATCH(J182,[2]CHAR!$B$16:$T$16,0),FALSE)","v":0.10087192274660353},{"$f":"IFERROR(VLOOKUP($F182&$I182&$K182&$H182&$G182,'Savings from 6P'!$V$11:$X$435,3,FALSE),$AD182)","v":0},{"$f":"MATCH(J182,[2]!BLDGTYPE,0)","v":11},6.3929137015483993E-3,0.98700382329725422,6.6032630011973147E-3,0.18162271351024481,"POST2013",{"$f":"IFERROR(IF(G182=\"gasht\",INDEX('Savings from 6P'!$Z$11:$AF$28,MATCH(J182,'Savings from 6P'!$Z$11:$Z$28,0),MATCH(MMap!F182&MMap!H182&MMap!K182,'Savings from 6P'!$Y$7:$AE$7,0)),\"\"),\"\")","v":""},6.6032630011973147E-3,15,null,0]
["Demand Control Ventilation-DOAS-Supermarket-HtPmpHt-Heat-New","Demand Control Ventilation","Demand Control Ventilation-New-Supermarket-DOAS","Demand Control Ventilation-New-Supermarket","Demand Control Ventilation-New","DOAS","HtPmpHt","Heat","Supermarket","Supermarket","New","PRE2013",4.0216401302231808E-2,62.453731956854185,0,{"$f":"INDEX('Savings from 6P'!$A$11:$L$92,MATCH(MMap!F183&MMap!J183&H183,'Savings from 6P'!$A$11:$A$92,0),MATCH(MMap!K183&G183,'Savings from 6P'!$A$4:$L$4,0))","v":1.5529418330473124},{"$f":"IF(P183<=0,0,VLOOKUP(F183&K183&H183,Costs!$A$13:$B$24,2,FALSE))","v":0},{"$f":"VLOOKUP($R$9,[2]CHAR!$B$17:$T$54,MATCH(J183,[2]CHAR!$B$16:$T$16,0),FALSE)","v":6.1675003194375045E-3},{"$f":"IFERROR(VLOOKUP($F183&$I183&$K183&$H183&$G183,'Savings from 6P'!$V$11:$X$435,3,FALSE),$AD183)","v":0.7},{"$f":"MATCH(J183,[2]!BLDGTYPE,0)","v":12},3.9182634298973458E-2,0.46957192737561176,6.234756715808213E-2,0.92147944946531313,"POST2013",{"$f":"IFERROR(IF(G183=\"gasht\",INDEX('Savings from 6P'!$Z$11:$AF$28,MATCH(J183,'Savings from 6P'!$Z$11:$Z$28,0),MATCH(MMap!F183&MMap!H183&MMap!K183,'Savings from 6P'!$Y$7:$AE$7,0)),\"\"),\"\")","v":""},6.234756715808213E-2,15,null,0]
["Demand Control Ventilation-DOAS-MiniMart-HtPmpHt-Heat-New","Demand Control Ventilation","Demand Control Ventilation-New-MiniMart-DOAS","Demand Control Ventilation-New-MiniMart","Demand Control Ventilation-New","DOAS","HtPmpHt","Heat","MIniMart","MiniMart","New","PRE2013",3.9611596917739616E-3,6.151450592736583,0,{"$f":"INDEX('Savings from 6P'!$A$11:$L$92,MATCH(MMap!F184&MMap!J184&H184,'Savings from 6P'!$A$11:$A$92,0),MATCH(MMap!K184&G184,'Savings from 6P'!$A$4:$L$4,0))","v":1.5529418330473124},{"$f":"IF(P184<=0,0,VLOOKUP(F184&K184&H184,Costs!$A$13:$B$24,2,FALSE))","v":0},{"$f":"VLOOKUP($R$9,[2]CHAR!$B$17:$T$54,MATCH(J184,[2]CHAR!$B$16:$T$16,0),FALSE)","v":2.5477723102065148E-3},{"$f":"IFERROR(VLOOKUP($F184&$I184&$K184&$H184&$G184,'Savings from 6P'!$V$11:$X$435,3,FALSE),$AD184)","v":0.3},{"$f":"MATCH(J184,[2]!BLDGTYPE,0)","v":13},9.8940421863423066E-3,0.86606113087441317,1.5743440192688529E-2,0.83868998628257874,"POST2013",{"$f":"IFERROR(IF(G184=\"gasht\",INDEX('Savings from 6P'!$Z$11:$AF$28,MATCH(J184,'Savings from 6P'!$Z$11:$Z$28,0),MATCH(MMap!F184&MMap!H184&MMap!K184,'Savings from 6P'!$Y$7:$AE$7,0)),\"\"),\"\")","v":""},1.5743440192688529E-2,15,null,0]
["Demand Control Ventilation-DOAS-Restaurant-HtPmpHt-Heat-New","Demand Control Ventilation","Demand Control Ventilation-New-Restaurant-DOAS","Demand Control Ventilation-New-Restaurant","Demand Control Ventilation-New","DOAS","HtPmpHt","Heat","Restaurant","Restaurant","New","PRE2013",5.2888977063887142E-2,82.133504989590151,0,{"$f":"INDEX('Savings from 6P'!$A$11:$L$92,MATCH(MMap!F185&MMap!J185&H185,'Savings from 6P'!$A$11:$A$92,0),MATCH(MMap!K185&G185,'Savings from 6P'!$A$4:$L$4,0))","v":1.5529418330473124},{"$f":"IF(P185<=0,0,VLOOKUP(F185&K185&H185,Costs!$A$13:$B$24,2,FALSE))","v":0},{"$f":"VLOOKUP($R$9,[2]CHAR!$B$17:$T$54,MATCH(J185,[2]CHAR!$B$16:$T$16,0),FALSE)","v":1.1693580853842011E-2},{"$f":"IFERROR(VLOOKUP($F185&$I185&$K185&$H185&$G185,'Savings from 6P'!$V$11:$X$435,3,FALSE),$AD185)","v":0.3},{"$f":"MATCH(J185,[2]!BLDGTYPE,0)","v":14},3.0050555941853869E-2,0.79365284945968273,0.17629659459846331,0.99999997512427186,"POST2013",{"$f":"IFERROR(IF(G185=\"gasht\",INDEX('Savings from 6P'!$Z$11:$AF$28,MATCH(J185,'Savings from 6P'!$Z$11:$Z$28,0),MATCH(MMap!F185&MMap!H185&MMap!K185,'Savings from 6P'!$Y$7:$AE$7,0)),\"\"),\"\")","v":""},0.17629659459846331,15,null,0]
["Demand Control Ventilation-DOAS-Lodging-HtPmpHt-Heat-New","Demand Control Ventilation","Demand Control Ventilation-New-Lodging-DOAS","Demand Control Ventilation-New-Lodging","Demand Control Ventilation-New","DOAS","HtPmpHt","Heat","Lodging","Lodging","New","PRE2013",0,0,0,{"$f":"INDEX('Savings from 6P'!$A$11:$L$92,MATCH(MMap!F186&MMap!J186&H186,'Savings from 6P'!$A$11:$A$92,0),MATCH(MMap!K186&G186,'Savings from 6P'!$A$4:$L$4,0))","v":0.71591812816541789},{"$f":"IF(P186<=0,0,VLOOKUP(F186&K186&H186,Costs!$A$13:$B$24,2,FALSE))","v":0},{"$f":"VLOOKUP($R$9,[2]CHAR!$B$17:$T$54,MATCH(J186,[2]CHAR!$B$16:$T$16,0),FALSE)","v":2.3957473342185561E-2},{"$f":"IFERROR(VLOOKUP($F186&$I186&$K186&$H186&$G186,'Savings from 6P'!$V$11:$X$435,3,FALSE),$AD186)","v":0},{"$f":"MATCH(J186,[2]!BLDGTYPE,0)","v":15},0.44679184687802564,0.24941748529786834,0.30379066782410608,0.94438859080377269,"POST2013",{"$f":"IFERROR(IF(G186=\"gasht\",INDEX('Savings from 6P'!$Z$11:$AF$28,MATCH(J186,'Savings from 6P'!$Z$11:$Z$28,0),MATCH(MMap!F186&MMap!H186&MMap!K186,'Savings from 6P'!$Y$7:$AE$7,0)),\"\"),\"\")","v":""},0.30379066782410608,15,null,0]
["Demand Control Ventilation-DOAS-Hospital-HtPmpHt-Heat-New","Demand Control Ventilation","Demand Control Ventilation-New-Hospital-DOAS","Demand Control Ventilation-New-Hospital","Demand Control Ventilation-New","DOAS","HtPmpHt","Heat","Hospital","Hospital","New","PRE2013",0,0,0,{"$f":"INDEX('Savings from 6P'!$A$11:$L$92,MATCH(MMap!F187&MMap!J187&H187,'Savings from 6P'!$A$11:$A$92,0),MATCH(MMap!K187&G187,'Savings from 6P'!$A$4:$L$4,0))","v":0.71591812816541789},{"$f":"IF(P187<=0,0,VLOOKUP(F187&K187&H187,Costs!$A$13:$B$24,2,FALSE))","v":0},{"$f":"VLOOKUP($R$9,[2]CHAR!$B$17:$T$54,MATCH(J187,[2]CHAR!$B$16:$T$16,0),FALSE)","v":4.4965056377242296E-2},{"$f":"IFERROR(VLOOKUP($F187&$I187&$K187&$H187&$G187,'Savings from 6P'!$V$11:$X$435,3,FALSE),$AD187)","v":0},{"$f":"MATCH(J187,[2]!BLDGTYPE,0)","v":16},0.08,0.91,0.01,0.95,"POST2013",{"$f":"IFERROR(IF(G187=\"gasht\",INDEX('Savings from 6P'!$Z$11:$AF$28,MATCH(J187,'Savings from 6P'!$Z$11:$Z$28,0),MATCH(MMap!F187&MMap!H187&MMap!K187,'Savings from 6P'!$Y$7:$AE$7,0)),\"\"),\"\")","v":""},0.01,15,null,0]
["Demand Control Ventilation-DOAS-Residential Care-HtPmpHt-Heat-New","Demand Control Ventilation","Demand Control Ventilation-New-Residential Care-DOAS","Demand Control Ventilation-New-Residential Care","Demand Control Ventilation-New","DOAS","HtPmpHt","Heat","OtherHealth","Residential Care","New","PRE2013",0,0,0,{"$f":"INDEX('Savings from 6P'!$A$11:$L$92,MATCH(MMap!F188&MMap!J188&H188,'Savings from 6P'!$A$11:$A$92,0),MATCH(MMap!K188&G188,'Savings from 6P'!$A$4:$L$4,0))","v":0.71591812816541789},{"$f":"IF(P188<=0,0,VLOOKUP(F188&K188&H188,Costs!$A$13:$B$24,2,FALSE))","v":0},{"$f":"VLOOKUP($R$9,[2]CHAR!$B$17:$T$54,MATCH(J188,[2]CHAR!$B$16:$T$16,0),FALSE)","v":5.827742495837801E-2},{"$f":"IFERROR(VLOOKUP($F188&$I188&$K188&$H188&$G188,'Savings from 6P'!$V$11:$X$435,3,FALSE),$AD188)","v":0},{"$f":"MATCH(J188,[2]!BLDGTYPE,0)","v":17},0.33985691133471541,0.40556621261939335,0.25457687604589124,0.8423386600487599,"POST2013",{"$f":"IFERROR(IF(G188=\"gasht\",INDEX('Savings from 6P'!$Z$11:$AF$28,MATCH(J188,'Savings from 6P'!$Z$11:$Z$28,0),MATCH(MMap!F188&MMap!H188&MMap!K188,'Savings from 6P'!$Y$7:$AE$7,0)),\"\"),\"\")","v":""},0.25457687604589124,15,null,0]
["Demand Control Ventilation-DOAS-Assembly-HtPmpHt-Heat-New","Demand Control Ventilation","Demand Control Ventilation-New-Assembly-DOAS","Demand Control Ventilation-New-Assembly","Demand Control Ventilation-New","DOAS","HtPmpHt","Heat","Assembly","Assembly","New","PRE2013",0,0,0,{"$f":"INDEX('Savings from 6P'!$A$11:$L$92,MATCH(MMap!F189&MMap!J189&H189,'Savings from 6P'!$A$11:$A$92,0),MATCH(MMap!K189&G189,'Savings from 6P'!$A$4:$L$4,0))","v":0.71591812816541789},{"$f":"IF(P189<=0,0,VLOOKUP(F189&K189&H189,Costs!$A$13:$B$24,2,FALSE))","v":0},{"$f":"VLOOKUP($R$9,[2]CHAR!$B$17:$T$54,MATCH(J189,[2]CHAR!$B$16:$T$16,0),FALSE)","v":9.0984350406775827E-2},{"$f":"IFERROR(VLOOKUP($F189&$I189&$K189&$H189&$G189,'Savings from 6P'!$V$11:$X$435,3,FALSE),$AD189)","v":0},{"$f":"MATCH(J189,[2]!BLDGTYPE,0)","v":18},0.10640191237323121,0.77815390025512432,0.11544418737164447,0.91177234717447209,"POST2013",{"$f":"IFERROR(IF(G189=\"gasht\",INDEX('Savings from 6P'!$Z$11:$AF$28,MATCH(J189,'Savings from 6P'!$Z$11:$Z$28,0),MATCH(MMap!F189&MMap!H189&MMap!K189,'Savings from 6P'!$Y$7:$AE$7,0)),\"\"),\"\")","v":""},0.11544418737164447,15,null,0]
["Demand Control Ventilation-DOAS-Other-HtPmpHt-Heat-New","Demand Control Ventilation","Demand Control Ventilation-New-Other-DOAS","Demand Control Ventilation-New-Other","Demand Control Ventilation-New","DOAS","HtPmpHt","Heat","Other","Other","New","PRE2013",0,0,0,{"$f":"INDEX('Savings from 6P'!$A$11:$L$92,MATCH(MMap!F190&MMap!J190&H190,'Savings from 6P'!$A$11:$A$92,0),MATCH(MMap!K190&G190,'Savings from 6P'!$A$4:$L$4,0))","v":0.71591812816541789},{"$f":"IF(P190<=0,0,VLOOKUP(F190&K190&H190,Costs!$A$13:$B$24,2,FALSE))","v":0},{"$f":"VLOOKUP($R$9,[2]CHAR!$B$17:$T$54,MATCH(J190,[2]CHAR!$B$16:$T$16,0),FALSE)","v":0.21334717399999265},{"$f":"IFERROR(VLOOKUP($F190&$I190&$K190&$H190&$G190,'Savings from 6P'!$V$11:$X$435,3,FALSE),$AD190)","v":0},{"$f":"MATCH(J190,[2]!BLDGTYPE,0)","v":19},0.16939513747697868,0.7257160432726234,0.104888819250398,0.87717751610580841,"POST2013",{"$f":"IFERROR(IF(G190=\"gasht\",INDEX('Savings from 6P'!$Z$11:$AF$28,MATCH(J190,'Savings from 6P'!$Z$11:$Z$28,0),MATCH(MMap!F190&MMap!H190&MMap!K190,'Savings from 6P'!$Y$7:$AE$7,0)),\"\"),\"\")","v":""},0.104888819250398,15,null,0]
["Demand Control Ventilation-DCV Only-Large Off-ElecHt-Vent-NR","Demand Control Ventilation","Demand Control Ventilation-NR-Large Off-DCV Only","Demand Control Ventilation-NR-Large Off","Demand Control Ventilation-NR","DCV Only","ElecHt","Vent","Large Off","Large Off","NR","PRE2013",9.961534608681287E-2,0.50206134427753679,14.707905812370464,{"$f":"INDEX('Savings from 6P'!$A$11:$L$92,MATCH(MMap!F191&MMap!J191&H191,'Savings from 6P'!$A$11:$A$92,0),MATCH(MMap!K191&G191,'Savings from 6P'!$A$4:$L$4,0))","v":5.0399999999999993E-3},{"$f":"IF(P191<=0,0,VLOOKUP(F191&K191&H191,Costs!$A$13:$B$24,2,FALSE))","v":0.14764698804090692},{"$f":"VLOOKUP($R$9,[2]CHAR!$B$17:$T$54,MATCH(J191,[2]CHAR!$B$16:$T$16,0),FALSE)","v":0.15073291148870363},{"$f":"IFERROR(VLOOKUP($F191&$I191&$K191&$H191&$G191,'Savings from 6P'!$V$11:$X$435,3,FALSE),$AD191)","v":0.5},{"$f":"MATCH(J191,[2]!BLDGTYPE,0)","v":2},0.20943280302167308,0.54037060186620078,0.25019659511212627,0.95128694884061893,"POST2013",{"$f":"IFERROR(IF(G191=\"gasht\",INDEX('Savings from 6P'!$Z$11:$AF$28,MATCH(J191,'Savings from 6P'!$Z$11:$Z$28,0),MATCH(MMap!F191&MMap!H191&MMap!K191,'Savings from 6P'!$Y$7:$AE$7,0)),\"\"),\"\")","v":""},0.20943280302167308,15,null,1]
["Demand Control Ventilation-DCV Only-Medium Off-ElecHt-Vent-NR","Demand Control Ventilation","Demand Control Ventilation-NR-Medium Off-DCV Only","Demand Control Ventilation-NR-Medium Off","Demand Control Ventilation-NR","DCV Only","ElecHt","Vent","Medium Off","Medium Off","NR","PRE2013",0.10807297978304933,0.54468781810656852,15.956649953573061,{"$f":"INDEX('Savings from 6P'!$A$11:$L$92,MATCH(MMap!F192&MMap!J192&H192,'Savings from 6P'!$A$11:$A$92,0),MATCH(MMap!K192&G192,'Savings from 6P'!$A$4:$L$4,0))","v":5.0399999999999993E-3},{"$f":"IF(P192<=0,0,VLOOKUP(F192&K192&H192,Costs!$A$13:$B$24,2,FALSE))","v":0.14764698804090692},{"$f":"VLOOKUP($R$9,[2]CHAR!$B$17:$T$54,MATCH(J192,[2]CHAR!$B$16:$T$16,0),FALSE)","v":0.12013270538231059},{"$f":"IFERROR(VLOOKUP($F192&$I192&$K192&$H192&$G192,'Savings from 6P'!$V$11:$X$435,3,FALSE),$AD192)","v":0.5},{"$f":"MATCH(J192,[2]!BLDGTYPE,0)","v":3},0.22131165109110185,0.51430081857580845,0.26438753033308959,0.97665874571205136,"POST2013",{"$f":"IFERROR(IF(G192=\"gasht\",INDEX('Savings from 6P'!$Z$11:$AF$28,MATCH(J192,'Savings from 6P'!$Z$11:$Z$28,0),MATCH(MMap!F192&MMap!H192&MMap!K192,'Savings from 6P'!$Y$7:$AE$7,0)),\"\"),\"\")","v":""},0.22131165109110185,15,null,1]
["Demand Control Ventilation-DCV Only-Small Off-ElecHt-Vent-NR","Demand Control Ventilation","Demand Control Ventilation-NR-Small Off-DCV Only","Demand Control Ventilation-NR-Small Off","Demand Control Ventilation-NR","DCV Only","ElecHt","Vent","Small Off","Small Off","NR","PRE2013",0.13960413239897387,0.70360482729082818,20.612129666772482,{"$f":"INDEX('Savings from 6P'!$A$11:$L$92,MATCH(MMap!F193&MMap!J193&H193,'Savings from 6P'!$A$11:$A$92,0),MATCH(MMap!K193&G193,'Savings from 6P'!$A$4:$L$4,0))","v":5.0399999999999993E-3},{"$f":"IF(P193<=0,0,VLOOKUP(F193&K193&H193,Costs!$A$13:$B$24,2,FALSE))","v":0.14764698804090692},{"$f":"VLOOKUP($R$9,[2]CHAR!$B$17:$T$54,MATCH(J193,[2]CHAR!$B$16:$T$16,0),FALSE)","v":3.1538695729415013E-2},{"$f":"IFERROR(VLOOKUP($F193&$I193&$K193&$H193&$G193,'Savings from 6P'!$V$11:$X$435,3,FALSE),$AD193)","v":0.5},{"$f":"MATCH(J193,[2]!BLDGTYPE,0)","v":4},0.30640942705415353,0.3275419203320854,0.36604865261376096,0.91122609210258287,"POST2013",{"$f":"IFERROR(IF(G193=\"gasht\",INDEX('Savings from 6P'!$Z$11:$AF$28,MATCH(J193,'Savings from 6P'!$Z$11:$Z$28,0),MATCH(MMap!F193&MMap!H193&MMap!K193,'Savings from 6P'!$Y$7:$AE$7,0)),\"\"),\"\")","v":""},0.30640942705415353,15,null,1]
["Demand Control Ventilation-DCV Only-Xlarge Ret-ElecHt-Vent-NR","Demand Control Ventilation","Demand Control Ventilation-NR-Xlarge Ret-DCV Only","Demand Control Ventilation-NR-Xlarge Ret","Demand Control Ventilation-NR","DCV Only","ElecHt","Vent","Big Box","Xlarge Ret","NR","PRE2013",7.8387669225113768E-3,0.243942426628554,1.157370326063494,{"$f":"INDEX('Savings from 6P'!$A$11:$L$92,MATCH(MMap!F194&MMap!J194&H194,'Savings from 6P'!$A$11:$A$92,0),MATCH(MMap!K194&G194,'Savings from 6P'!$A$4:$L$4,0))","v":3.1119999999999995E-2},{"$f":"IF(P194<=0,0,VLOOKUP(F194&K194&H194,Costs!$A$13:$B$24,2,FALSE))","v":0.14764698804090692},{"$f":"VLOOKUP($R$9,[2]CHAR!$B$17:$T$54,MATCH(J194,[2]CHAR!$B$16:$T$16,0),FALSE)","v":2.6820893655991742E-2},{"$f":"IFERROR(VLOOKUP($F194&$I194&$K194&$H194&$G194,'Savings from 6P'!$V$11:$X$435,3,FALSE),$AD194)","v":0.15000000000000002},{"$f":"MATCH(J194,[2]!BLDGTYPE,0)","v":5},5.2995881766435368E-2,0.91606730000738101,3.0936818226183656E-2,0.98608503921852686,"POST2013",{"$f":"IFERROR(IF(G194=\"gasht\",INDEX('Savings from 6P'!$Z$11:$AF$28,MATCH(J194,'Savings from 6P'!$Z$11:$Z$28,0),MATCH(MMap!F194&MMap!H194&MMap!K194,'Savings from 6P'!$Y$7:$AE$7,0)),\"\"),\"\")","v":""},5.2995881766435368E-2,15,null,0.30000000000000004]
["Demand Control Ventilation-DCV Only-Large Ret-ElecHt-Vent-NR","Demand Control Ventilation","Demand Control Ventilation-NR-Large Ret-DCV Only","Demand Control Ventilation-NR-Large Ret","Demand Control Ventilation-NR","DCV Only","ElecHt","Vent","Small Box","Large Ret","NR","PRE2013",1.6351841305905107E-3,5.0886930143976689E-2,0.24143001177397791,{"$f":"INDEX('Savings from 6P'!$A$11:$L$92,MATCH(MMap!F195&MMap!J195&H195,'Savings from 6P'!$A$11:$A$92,0),MATCH(MMap!K195&G195,'Savings from 6P'!$A$4:$L$4,0))","v":3.1119999999999995E-2},{"$f":"IF(P195<=0,0,VLOOKUP(F195&K195&H195,Costs!$A$13:$B$24,2,FALSE))","v":0.14764698804090692},{"$f":"VLOOKUP($R$9,[2]CHAR!$B$17:$T$54,MATCH(J195,[2]CHAR!$B$16:$T$16,0),FALSE)","v":1.0839638408159987E-2},{"$f":"IFERROR(VLOOKUP($F195&$I195&$K195&$H195&$G195,'Savings from 6P'!$V$11:$X$435,3,FALSE),$AD195)","v":0.2},{"$f":"MATCH(J195,[2]!BLDGTYPE,0)","v":6},1.0593107738682607E-2,0.98322307122393326,6.1838210373840949E-3,0.77181511362305244,"POST2013",{"$f":"IFERROR(IF(G195=\"gasht\",INDEX('Savings from 6P'!$Z$11:$AF$28,MATCH(J195,'Savings from 6P'!$Z$11:$Z$28,0),MATCH(MMap!F195&MMap!H195&MMap!K195,'Savings from 6P'!$Y$7:$AE$7,0)),\"\"),\"\")","v":""},1.0593107738682607E-2,15,null,0.4]
["Demand Control Ventilation-DCV Only-Medium Ret-ElecHt-Vent-NR","Demand Control Ventilation","Demand Control Ventilation-NR-Medium Ret-DCV Only","Demand Control Ventilation-NR-Medium Ret","Demand Control Ventilation-NR","DCV Only","ElecHt","Vent","High End","Medium Ret","NR","PRE2013",3.8041339179120538E-2,0.51736221283603934,5.6166891508396946,{"$f":"INDEX('Savings from 6P'!$A$11:$L$92,MATCH(MMap!F196&MMap!J196&H196,'Savings from 6P'!$A$11:$A$92,0),MATCH(MMap!K196&G196,'Savings from 6P'!$A$4:$L$4,0))","v":1.3599999999999999E-2},{"$f":"IF(P196<=0,0,VLOOKUP(F196&K196&H196,Costs!$A$13:$B$24,2,FALSE))","v":0.14764698804090692},{"$f":"VLOOKUP($R$9,[2]CHAR!$B$17:$T$54,MATCH(J196,[2]CHAR!$B$16:$T$16,0),FALSE)","v":4.0894012773033235E-2},{"$f":"IFERROR(VLOOKUP($F196&$I196&$K196&$H196&$G196,'Savings from 6P'!$V$11:$X$435,3,FALSE),$AD196)","v":0.35},{"$f":"MATCH(J196,[2]!BLDGTYPE,0)","v":7},0.12006240959495594,0.80985008893074606,7.0087501474297986E-2,0.90527535536267667,"POST2013",{"$f":"IFERROR(IF(G196=\"gasht\",INDEX('Savings from 6P'!$Z$11:$AF$28,MATCH(J196,'Savings from 6P'!$Z$11:$Z$28,0),MATCH(MMap!F196&MMap!H196&MMap!K196,'Savings from 6P'!$Y$7:$AE$7,0)),\"\"),\"\")","v":""},0.12006240959495594,15,null,0.7]
["Demand Control Ventilation-DCV Only-Small Ret-ElecHt-Vent-NR","Demand Control Ventilation","Demand Control Ventilation-NR-Small Ret-DCV Only","Demand Control Ventilation-NR-Small Ret","Demand Control Ventilation-NR","DCV Only","ElecHt","Vent","Anchor","Small Ret","NR","PRE2013",5.1334778537687573E-2,0.69815298811255089,7.5794254328365627,{"$f":"INDEX('Savings from 6P'!$A$11:$L$92,MATCH(MMap!F197&MMap!J197&H197,'Savings from 6P'!$A$11:$A$92,0),MATCH(MMap!K197&G197,'Savings from 6P'!$A$4:$L$4,0))","v":1.3599999999999999E-2},{"$f":"IF(P197<=0,0,VLOOKUP(F197&K197&H197,Costs!$A$13:$B$24,2,FALSE))","v":0.14764698804090692},{"$f":"VLOOKUP($R$9,[2]CHAR!$B$17:$T$54,MATCH(J197,[2]CHAR!$B$16:$T$16,0),FALSE)","v":1.3016203517984767E-2},{"$f":"IFERROR(VLOOKUP($F197&$I197&$K197&$H197&$G197,'Savings from 6P'!$V$11:$X$435,3,FALSE),$AD197)","v":0.35},{"$f":"MATCH(J197,[2]!BLDGTYPE,0)","v":8},0.2732917310450087,0.56717178566142912,0.15953648329356207,0.53668215741883951,"POST2013",{"$f":"IFERROR(IF(G197=\"gasht\",INDEX('Savings from 6P'!$Z$11:$AF$28,MATCH(J197,'Savings from 6P'!$Z$11:$Z$28,0),MATCH(MMap!F197&MMap!H197&MMap!K197,'Savings from 6P'!$Y$7:$AE$7,0)),\"\"),\"\")","v":""},0.2732917310450087,15,null,0.7]
["Demand Control Ventilation-DCV Only-School K-12-ElecHt-Vent-NR","Demand Control Ventilation","Demand Control Ventilation-NR-School K-12-DCV Only","Demand Control Ventilation-NR-School K-12","Demand Control Ventilation-NR","DCV Only","ElecHt","Vent","K-12","School K-12","NR","PRE2013",2.8054797645115828E-2,0,0,{"$f":"INDEX('Savings from 6P'!$A$11:$L$92,MATCH(MMap!F198&MMap!J198&H198,'Savings from 6P'!$A$11:$A$92,0),MATCH(MMap!K198&G198,'Savings from 6P'!$A$4:$L$4,0))","v":0},{"$f":"IF(P198<=0,0,VLOOKUP(F198&K198&H198,Costs!$A$13:$B$24,2,FALSE))","v":0},{"$f":"VLOOKUP($R$9,[2]CHAR!$B$17:$T$54,MATCH(J198,[2]CHAR!$B$16:$T$16,0),FALSE)","v":3.0886857559635036E-2},{"$f":"IFERROR(VLOOKUP($F198&$I198&$K198&$H198&$G198,'Savings from 6P'!$V$11:$X$435,3,FALSE),$AD198)","v":0.5},{"$f":"MATCH(J198,[2]!BLDGTYPE,0)","v":9},5.8369343906151915E-2,0.84777782221188291,9.3852833881965178E-2,0.96128535178408803,"POST2013",{"$f":"IFERROR(IF(G198=\"gasht\",INDEX('Savings from 6P'!$Z$11:$AF$28,MATCH(J198,'Savings from 6P'!$Z$11:$Z$28,0),MATCH(MMap!F198&MMap!H198&MMap!K198,'Savings from 6P'!$Y$7:$AE$7,0)),\"\"),\"\")","v":""},5.8369343906151915E-2,15,null,1]
["Demand Control Ventilation-DCV Only-University-ElecHt-Vent-NR","Demand Control Ventilation","Demand Control Ventilation-NR-University-DCV Only","Demand Control Ventilation-NR-University","Demand Control Ventilation-NR","DCV Only","ElecHt","Vent","University","University","NR","PRE2013",3.7500000000000006E-2,0,0,{"$f":"INDEX('Savings from 6P'!$A$11:$L$92,MATCH(MMap!F199&MMap!J199&H199,'Savings from 6P'!$A$11:$A$92,0),MATCH(MMap!K199&G199,'Savings from 6P'!$A$4:$L$4,0))","v":0},{"$f":"IF(P199<=0,0,VLOOKUP(F199&K199&H199,Costs!$A$13:$B$24,2,FALSE))","v":0},{"$f":"VLOOKUP($R$9,[2]CHAR!$B$17:$T$54,MATCH(J199,[2]CHAR!$B$16:$T$16,0),FALSE)","v":2.2325826170102026E-2},{"$f":"IFERROR(VLOOKUP($F199&$I199&$K199&$H199&$G199,'Savings from 6P'!$V$11:$X$435,3,FALSE),$AD199)","v":0.5},{"$f":"MATCH(J199,[2]!BLDGTYPE,0)","v":10},0.1,0.8,0.1,0.75,"POST2013",{"$f":"IFERROR(IF(G199=\"gasht\",INDEX('Savings from 6P'!$Z$11:$AF$28,MATCH(J199,'Savings from 6P'!$Z$11:$Z$28,0),MATCH(MMap!F199&MMap!H199&MMap!K199,'Savings from 6P'!$Y$7:$AE$7,0)),\"\"),\"\")","v":""},0.1,15,null,1]
["Demand Control Ventilation-DCV Only-Warehouse-ElecHt-Vent-NR","Demand Control Ventilation","Demand Control Ventilation-NR-Warehouse-DCV Only","Demand Control Ventilation-NR-Warehouse","Demand Control Ventilation-NR","DCV Only","ElecHt","Vent","Warehouse","Warehouse","NR","PRE2013",5.8054916685602181E-4,2.9259678009543495E-3,8.5716335895949528E-2,{"$f":"INDEX('Savings from 6P'!$A$11:$L$92,MATCH(MMap!F200&MMap!J200&H200,'Savings from 6P'!$A$11:$A$92,0),MATCH(MMap!K200&G200,'Savings from 6P'!$A$4:$L$4,0))","v":5.0399999999999993E-3},{"$f":"IF(P200<=0,0,VLOOKUP(F200&K200&H200,Costs!$A$13:$B$24,2,FALSE))","v":0.14764698804090692},{"$f":"VLOOKUP($R$9,[2]CHAR!$B$17:$T$54,MATCH(J200,[2]CHAR!$B$16:$T$16,0),FALSE)","v":0.10087192274660353},{"$f":"IFERROR(VLOOKUP($F200&$I200&$K200&$H200&$G200,'Savings from 6P'!$V$11:$X$435,3,FALSE),$AD200)","v":0.5},{"$f":"MATCH(J200,[2]!BLDGTYPE,0)","v":11},6.3929137015483993E-3,0.98700382329725422,6.6032630011973147E-3,0.18162271351024481,"POST2013",{"$f":"IFERROR(IF(G200=\"gasht\",INDEX('Savings from 6P'!$Z$11:$AF$28,MATCH(J200,'Savings from 6P'!$Z$11:$Z$28,0),MATCH(MMap!F200&MMap!H200&MMap!K200,'Savings from 6P'!$Y$7:$AE$7,0)),\"\"),\"\")","v":""},6.3929137015483993E-3,15,null,1]
["Demand Control Ventilation-DCV Only-Supermarket-ElecHt-Vent-NR","Demand Control Ventilation","Demand Control Ventilation-NR-Supermarket-DCV Only","Demand Control Ventilation-NR-Supermarket","Demand Control Ventilation-NR","DCV Only","ElecHt","Vent","Supermarket","Supermarket","NR","PRE2013",5.4158988423628146E-3,2.7296130165508581E-2,0.79964115160910409,{"$f":"INDEX('Savings from 6P'!$A$11:$L$92,MATCH(MMap!F201&MMap!J201&H201,'Savings from 6P'!$A$11:$A$92,0),MATCH(MMap!K201&G201,'Savings from 6P'!$A$4:$L$4,0))","v":5.0399999999999993E-3},{"$f":"IF(P201<=0,0,VLOOKUP(F201&K201&H201,Costs!$A$13:$B$24,2,FALSE))","v":0.14764698804090692},{"$f":"VLOOKUP($R$9,[2]CHAR!$B$17:$T$54,MATCH(J201,[2]CHAR!$B$16:$T$16,0),FALSE)","v":6.1675003194375045E-3},{"$f":"IFERROR(VLOOKUP($F201&$I201&$K201&$H201&$G201,'Savings from 6P'!$V$11:$X$435,3,FALSE),$AD201)","v":0.15000000000000002},{"$f":"MATCH(J201,[2]!BLDGTYPE,0)","v":12},3.9182634298973458E-2,0.46957192737561176,6.234756715808213E-2,0.92147944946531313,"POST2013",{"$f":"IFERROR(IF(G201=\"gasht\",INDEX('Savings from 6P'!$Z$11:$AF$28,MATCH(J201,'Savings from 6P'!$Z$11:$Z$28,0),MATCH(MMap!F201&MMap!H201&MMap!K201,'Savings from 6P'!$Y$7:$AE$7,0)),\"\"),\"\")","v":""},3.9182634298973458E-2,15,null,1]
["Demand Control Ventilation-DCV Only-MiniMart-ElecHt-Vent-NR","Demand Control Ventilation","Demand Control Ventilation-NR-MiniMart-DCV Only","Demand Control Ventilation-NR-MiniMart","Demand Control Ventilation-NR","DCV Only","ElecHt","Vent","MIniMart","MiniMart","NR","PRE2013",2.9043119369399394E-3,1.4637732162177293E-2,0.42881290982043446,{"$f":"INDEX('Savings from 6P'!$A$11:$L$92,MATCH(MMap!F202&MMap!J202&H202,'Savings from 6P'!$A$11:$A$92,0),MATCH(MMap!K202&G202,'Savings from 6P'!$A$4:$L$4,0))","v":5.0399999999999993E-3},{"$f":"IF(P202<=0,0,VLOOKUP(F202&K202&H202,Costs!$A$13:$B$24,2,FALSE))","v":0.14764698804090692},{"$f":"VLOOKUP($R$9,[2]CHAR!$B$17:$T$54,MATCH(J202,[2]CHAR!$B$16:$T$16,0),FALSE)","v":2.5477723102065148E-3},{"$f":"IFERROR(VLOOKUP($F202&$I202&$K202&$H202&$G202,'Savings from 6P'!$V$11:$X$435,3,FALSE),$AD202)","v":0.35},{"$f":"MATCH(J202,[2]!BLDGTYPE,0)","v":13},9.8940421863423066E-3,0.86606113087441317,1.5743440192688529E-2,0.83868998628257874,"POST2013",{"$f":"IFERROR(IF(G202=\"gasht\",INDEX('Savings from 6P'!$Z$11:$AF$28,MATCH(J202,'Savings from 6P'!$Z$11:$Z$28,0),MATCH(MMap!F202&MMap!H202&MMap!K202,'Savings from 6P'!$Y$7:$AE$7,0)),\"\"),\"\")","v":""},9.8940421863423066E-3,15,null,1]
[{"$f":"CONCATENATE(B203,\"-\",F203,\"-\",J203,\"-\",G203,\"-\",H203,\"-\",K203)","v":"Demand Control Ventilation-DCV Only-Restaurant-ElecHt-Vent-NR"},"Demand Control Ventilation","Demand Control Ventilation-NR-Restaurant-DCV Only","Demand Control Ventilation-NR-Restaurant",{"$f":"CONCATENATE(B203,\"-\",K203)","v":"Demand Control Ventilation-NR"},"DCV Only","ElecHt","Vent","Restaurant","Restaurant","NR","PRE2013",1.0517694318013542E-2,0.32731064717658137,1.5529058871896602,{"$f":"INDEX('Savings from 6P'!$A$11:$L$92,MATCH(MMap!F203&MMap!J203&H203,'Savings from 6P'!$A$11:$A$92,0),MATCH(MMap!K203&G203,'Savings from 6P'!$A$4:$L$4,0))","v":3.1119999999999995E-2},{"$f":"IF(P203<=0,0,VLOOKUP(F203&K203&H203,Costs!$A$13:$B$24,2,FALSE))","v":0.14764698804090692},{"$f":"VLOOKUP($R$9,[2]CHAR!$B$17:$T$54,MATCH(J203,[2]CHAR!$B$16:$T$16,0),FALSE)","v":1.1693580853842011E-2},{"$f":"IFERROR(VLOOKUP($F203&$I203&$K203&$H203&$G203,'Savings from 6P'!$V$11:$X$435,3,FALSE),$AD203)","v":0.35},{"$f":"MATCH(J203,[2]!BLDGTYPE,0)","v":14},{"$f":"VLOOKUP(U$9,V_PRE2013,$T203,FALSE)","v":3.0050555941853869E-2},{"$f":"VLOOKUP(V$9,V_PRE2013,$T203,FALSE)","v":0.79365284945968273},0.17629659459846331,{"$f":"VLOOKUP($X$9,V_POST2013,MATCH(J203,BLDGTYP,FALSE)+1,FALSE)","v":0.99999997512427186},"POST2013",{"$f":"IFERROR(IF(G203=\"gasht\",INDEX('Savings from 6P'!$Z$11:$AF$28,MATCH(J203,'Savings from 6P'!$Z$11:$Z$28,0),MATCH(MMap!F203&MMap!H203&MMap!K203,'Savings from 6P'!$Y$7:$AE$7,0)),\"\"),\"\")","v":""},{"$f":"IF(G203=\"ElecHt\",U203,IF(G203=\"gasht\",V203,W203))","v":3.0050555941853869E-2},{"$f":"$AB$9","v":15},null,1]
["Demand Control Ventilation-DCV Only-Lodging-ElecHt-Vent-NR","Demand Control Ventilation",{"$f":"CONCATENATE(D204,\"-\",F204)","v":"Demand Control Ventilation-NR-Lodging-DCV Only"},{"$f":"CONCATENATE(B204,\"-\",K204,\"-\",J204)","v":"Demand Control Ventilation-NR-Lodging"},"Demand Control Ventilation-NR","DCV Only","ElecHt","Vent","Lodging","Lodging","NR","PRE2013",0.21097256132787681,{"$f":"M204*P204*$N$9","v":1.063301709092499},{"$f":"Q204*M204*$O$9","v":31.14946323933653},{"$f":"INDEX('Savings from 6P'!$A$11:$L$92,MATCH(MMap!F204&MMap!J204&H204,'Savings from 6P'!$A$11:$A$92,0),MATCH(MMap!K204&G204,'Savings from 6P'!$A$4:$L$4,0))","v":5.0399999999999993E-3},{"$f":"IF(P204<=0,0,VLOOKUP(F204&K204&H204,Costs!$A$13:$B$24,2,FALSE))","v":0.14764698804090692},{"$f":"VLOOKUP($R$9,[2]CHAR!$B$17:$T$54,MATCH(J204,[2]CHAR!$B$16:$T$16,0),FALSE)","v":2.3957473342185561E-2},{"$f":"IFERROR(VLOOKUP($F204&$I204&$K204&$H204&$G204,'Savings from 6P'!$V$11:$X$435,3,FALSE),$AD204)","v":0.5},{"$f":"MATCH(J204,[2]!BLDGTYPE,0)","v":15},0.44679184687802564,0.24941748529786834,0.30379066782410608,0.94438859080377269,"POST2013",{"$f":"IFERROR(IF(G204=\"gasht\",INDEX('Savings from 6P'!$Z$11:$AF$28,MATCH(J204,'Savings from 6P'!$Z$11:$Z$28,0),MATCH(MMap!F204&MMap!H204&MMap!K204,'Savings from 6P'!$Y$7:$AE$7,0)),\"\"),\"\")","v":""},0.44679184687802564,15,null,1]
["Demand Control Ventilation-DCV Only-Hospital-ElecHt-Vent-NR","Demand Control Ventilation","Demand Control Ventilation-NR-Hospital-DCV Only","Demand Control Ventilation-NR-Hospital","Demand Control Ventilation-NR","DCV Only","ElecHt","Vent","Hospital","Hospital","NR","PRE2013",{"$f":"S205*X205*AA205","v":3.7999999999999999E-2},0.19152,5.6105855455544633,{"$f":"INDEX('Savings from 6P'!$A$11:$L$92,MATCH(MMap!F205&MMap!J205&H205,'Savings from 6P'!$A$11:$A$92,0),MATCH(MMap!K205&G205,'Savings from 6P'!$A$4:$L$4,0))","v":5.0399999999999993E-3},{"$f":"IF(P205<=0,0,VLOOKUP(F205&K205&H205,Costs!$A$13:$B$24,2,FALSE))","v":0.14764698804090692},{"$f":"VLOOKUP($R$9,[2]CHAR!$B$17:$T$54,MATCH(J205,[2]CHAR!$B$16:$T$16,0),FALSE)","v":4.4965056377242296E-2},{"$f":"IFERROR(VLOOKUP($F205&$I205&$K205&$H205&$G205,'Savings from 6P'!$V$11:$X$435,3,FALSE),$AD205)","v":0.5},{"$f":"MATCH(J205,[2]!BLDGTYPE,0)","v":16},0.08,0.91,0.01,0.95,"POST2013",{"$f":"IFERROR(IF(G205=\"gasht\",INDEX('Savings from 6P'!$Z$11:$AF$28,MATCH(J205,'Savings from 6P'!$Z$11:$Z$28,0),MATCH(MMap!F205&MMap!H205&MMap!K205,'Savings from 6P'!$Y$7:$AE$7,0)),\"\"),\"\")","v":""},0.08,15,null,1]
["Demand Control Ventilation-DCV Only-Residential Care-ElecHt-Vent-NR","Demand Control Ventilation","Demand Control Ventilation-NR-Residential Care-DCV Only","Demand Control Ventilation-NR-Residential Care","Demand Control Ventilation-NR","DCV Only","ElecHt","Vent","OtherHealth","Residential Care","NR","PRE2013",0.14313730765099719,0.72141203056102576,21.133792350954398,{"$f":"INDEX('Savings from 6P'!$A$11:$L$92,MATCH(MMap!F206&MMap!J206&H206,'Savings from 6P'!$A$11:$A$92,0),MATCH(MMap!K206&G206,'Savings from 6P'!$A$4:$L$4,0))","v":5.0399999999999993E-3},{"$f":"IF(P206<=0,0,VLOOKUP(F206&K206&H206,Costs!$A$13:$B$24,2,FALSE))","v":0.14764698804090692},{"$f":"VLOOKUP($R$9,[2]CHAR!$B$17:$T$54,MATCH(J206,[2]CHAR!$B$16:$T$16,0),FALSE)","v":5.827742495837801E-2},{"$f":"IFERROR(VLOOKUP($F206&$I206&$K206&$H206&$G206,'Savings from 6P'!$V$11:$X$435,3,FALSE),$AD206)","v":0.5},{"$f":"MATCH(J206,[2]!BLDGTYPE,0)","v":17},0.33985691133471541,0.40556621261939335,0.25457687604589124,0.8423386600487599,"POST2013",{"$f":"IFERROR(IF(G206=\"gasht\",INDEX('Savings from 6P'!$Z$11:$AF$28,MATCH(J206,'Savings from 6P'!$Z$11:$Z$28,0),MATCH(MMap!F206&MMap!H206&MMap!K206,'Savings from 6P'!$Y$7:$AE$7,0)),\"\"),\"\")","v":""},0.33985691133471541,15,null,1]
["Demand Control Ventilation-DCV Only-Assembly-ElecHt-Vent-NR","Demand Control Ventilation","Demand Control Ventilation-NR-Assembly-DCV Only","Demand Control Ventilation-NR-Assembly","Demand Control Ventilation-NR","DCV Only","ElecHt","Vent","Assembly","Assembly","NR","PRE2013",9.7014321388393526E-2,0.48895217979750333,14.323872349828839,{"$f":"INDEX('Savings from 6P'!$A$11:$L$92,MATCH(MMap!F207&MMap!J207&H207,'Savings from 6P'!$A$11:$A$92,0),MATCH(MMap!K207&G207,'Savings from 6P'!$A$4:$L$4,0))","v":5.0399999999999993E-3},{"$f":"IF(P207<=0,0,VLOOKUP(F207&K207&H207,Costs!$A$13:$B$24,2,FALSE))","v":0.14764698804090692},{"$f":"VLOOKUP($R$9,[2]CHAR!$B$17:$T$54,MATCH(J207,[2]CHAR!$B$16:$T$16,0),FALSE)","v":9.0984350406775827E-2},{"$f":"IFERROR(VLOOKUP($F207&$I207&$K207&$H207&$G207,'Savings from 6P'!$V$11:$X$435,3,FALSE),$AD207)","v":1},{"$f":"MATCH(J207,[2]!BLDGTYPE,0)","v":18},0.10640191237323121,0.77815390025512432,0.11544418737164447,0.91177234717447209,"POST2013",{"$f":"IFERROR(IF(G207=\"gasht\",INDEX('Savings from 6P'!$Z$11:$AF$28,MATCH(J207,'Savings from 6P'!$Z$11:$Z$28,0),MATCH(MMap!F207&MMap!H207&MMap!K207,'Savings from 6P'!$Y$7:$AE$7,0)),\"\"),\"\")","v":""},0.10640191237323121,15,null,1]
["Demand Control Ventilation-DCV Only-Other-ElecHt-Vent-NR","Demand Control Ventilation","Demand Control Ventilation-NR-Other-DCV Only","Demand Control Ventilation-NR-Other","Demand Control Ventilation-NR","DCV Only","ElecHt","Vent","Other","Other","NR","PRE2013",7.4294802966229048E-2,0.37444580694979435,10.969403885056357,{"$f":"INDEX('Savings from 6P'!$A$11:$L$92,MATCH(MMap!F208&MMap!J208&H208,'Savings from 6P'!$A$11:$A$92,0),MATCH(MMap!K208&G208,'Savings from 6P'!$A$4:$L$4,0))","v":5.0399999999999993E-3},{"$f":"IF(P208<=0,0,VLOOKUP(F208&K208&H208,Costs!$A$13:$B$24,2,FALSE))","v":0.14764698804090692},{"$f":"VLOOKUP($R$9,[2]CHAR!$B$17:$T$54,MATCH(J208,[2]CHAR!$B$16:$T$16,0),FALSE)","v":0.21334717399999265},{"$f":"IFERROR(VLOOKUP($F208&$I208&$K208&$H208&$G208,'Savings from 6P'!$V$11:$X$435,3,FALSE),$AD208)","v":0.5},{"$f":"MATCH(J208,[2]!BLDGTYPE,0)","v":19},0.16939513747697868,0.7257160432726234,0.104888819250398,0.87717751610580841,"POST2013",{"$f":"IFERROR(IF(G208=\"gasht\",INDEX('Savings from 6P'!$Z$11:$AF$28,MATCH(J208,'Savings from 6P'!$Z$11:$Z$28,0),MATCH(MMap!F208&MMap!H208&MMap!K208,'Savings from 6P'!$Y$7:$AE$7,0)),\"\"),\"\")","v":""},0.16939513747697868,15,null,1]
["Demand Control Ventilation-DCV Only-Large Off-ElecHt-Heat-NR","Demand Control Ventilation","Demand Control Ventilation-NR-Large Off-DCV Only","Demand Control Ventilation-NR-Large Off","Demand Control Ventilation-NR","DCV Only","ElecHt","Heat","Large Off","Large Off","NR","PRE2013",9.961534608681287E-2,51.626025244170712,0,{"$f":"INDEX('Savings from 6P'!$A$11:$L$92,MATCH(MMap!F209&MMap!J209&H209,'Savings from 6P'!$A$11:$A$92,0),MATCH(MMap!K209&G209,'Savings from 6P'!$A$4:$L$4,0))","v":0.51825373571637867},{"$f":"IF(P209<=0,0,VLOOKUP(F209&K209&H209,Costs!$A$13:$B$24,2,FALSE))","v":0},{"$f":"VLOOKUP($R$9,[2]CHAR!$B$17:$T$54,MATCH(J209,[2]CHAR!$B$16:$T$16,0),FALSE)","v":0.15073291148870363},{"$f":"IFERROR(VLOOKUP($F209&$I209&$K209&$H209&$G209,'Savings from 6P'!$V$11:$X$435,3,FALSE),$AD209)","v":0.5},{"$f":"MATCH(J209,[2]!BLDGTYPE,0)","v":2},0.20943280302167308,0.54037060186620078,0.25019659511212627,0.95128694884061893,"POST2013",{"$f":"IFERROR(IF(G209=\"gasht\",INDEX('Savings from 6P'!$Z$11:$AF$28,MATCH(J209,'Savings from 6P'!$Z$11:$Z$28,0),MATCH(MMap!F209&MMap!H209&MMap!K209,'Savings from 6P'!$Y$7:$AE$7,0)),\"\"),\"\")","v":""},0.20943280302167308,15,null,1]
["Demand Control Ventilation-DCV Only-Medium Off-ElecHt-Heat-NR","Demand Control Ventilation","Demand Control Ventilation-NR-Medium Off-DCV Only","Demand Control Ventilation-NR-Medium Off","Demand Control Ventilation-NR","DCV Only","ElecHt","Heat","Medium Off","Medium Off","NR","PRE2013",0.10807297978304933,56.009225502565982,0,{"$f":"INDEX('Savings from 6P'!$A$11:$L$92,MATCH(MMap!F210&MMap!J210&H210,'Savings from 6P'!$A$11:$A$92,0),MATCH(MMap!K210&G210,'Savings from 6P'!$A$4:$L$4,0))","v":0.51825373571637867},{"$f":"IF(P210<=0,0,VLOOKUP(F210&K210&H210,Costs!$A$13:$B$24,2,FALSE))","v":0},{"$f":"VLOOKUP($R$9,[2]CHAR!$B$17:$T$54,MATCH(J210,[2]CHAR!$B$16:$T$16,0),FALSE)","v":0.12013270538231059},{"$f":"IFERROR(VLOOKUP($F210&$I210&$K210&$H210&$G210,'Savings from 6P'!$V$11:$X$435,3,FALSE),$AD210)","v":0.5},{"$f":"MATCH(J210,[2]!BLDGTYPE,0)","v":3},0.22131165109110185,0.51430081857580845,0.26438753033308959,0.97665874571205136,"POST2013",{"$f":"IFERROR(IF(G210=\"gasht\",INDEX('Savings from 6P'!$Z$11:$AF$28,MATCH(J210,'Savings from 6P'!$Z$11:$Z$28,0),MATCH(MMap!F210&MMap!H210&MMap!K210,'Savings from 6P'!$Y$7:$AE$7,0)),\"\"),\"\")","v":""},0.22131165109110185,15,null,1]
["Demand Control Ventilation-DCV Only-Small Off-ElecHt-Heat-NR","Demand Control Ventilation","Demand Control Ventilation-NR-Small Off-DCV Only","Demand Control Ventilation-NR-Small Off","Demand Control Ventilation-NR","DCV Only","ElecHt","Heat","Small Off","Small Off","NR","PRE2013",0.13960413239897387,72.350363137212142,0,{"$f":"INDEX('Savings from 6P'!$A$11:$L$92,MATCH(MMap!F211&MMap!J211&H211,'Savings from 6P'!$A$11:$A$92,0),MATCH(MMap!K211&G211,'Savings from 6P'!$A$4:$L$4,0))","v":0.51825373571637867},{"$f":"IF(P211<=0,0,VLOOKUP(F211&K211&H211,Costs!$A$13:$B$24,2,FALSE))","v":0},{"$f":"VLOOKUP($R$9,[2]CHAR!$B$17:$T$54,MATCH(J211,[2]CHAR!$B$16:$T$16,0),FALSE)","v":3.1538695729415013E-2},{"$f":"IFERROR(VLOOKUP($F211&$I211&$K211&$H211&$G211,'Savings from 6P'!$V$11:$X$435,3,FALSE),$AD211)","v":0.5},{"$f":"MATCH(J211,[2]!BLDGTYPE,0)","v":4},0.30640942705415353,0.3275419203320854,0.36604865261376096,0.91122609210258287,"POST2013",{"$f":"IFERROR(IF(G211=\"gasht\",INDEX('Savings from 6P'!$Z$11:$AF$28,MATCH(J211,'Savings from 6P'!$Z$11:$Z$28,0),MATCH(MMap!F211&MMap!H211&MMap!K211,'Savings from 6P'!$Y$7:$AE$7,0)),\"\"),\"\")","v":""},0.30640942705415353,15,null,1]
["Demand Control Ventilation-DCV Only-Xlarge Ret-ElecHt-Heat-NR","Demand Control Ventilation","Demand Control Ventilation-NR-Xlarge Ret-DCV Only","Demand Control Ventilation-NR-Xlarge Ret","Demand Control Ventilation-NR","DCV Only","ElecHt","Heat","Big Box","Xlarge Ret","NR","PRE2013",7.8387669225113768E-3,15.783183794754814,0,{"$f":"INDEX('Savings from 6P'!$A$11:$L$92,MATCH(MMap!F212&MMap!J212&H212,'Savings from 6P'!$A$11:$A$92,0),MATCH(MMap!K212&G212,'Savings from 6P'!$A$4:$L$4,0))","v":2.0134778786990917},{"$f":"IF(P212<=0,0,VLOOKUP(F212&K212&H212,Costs!$A$13:$B$24,2,FALSE))","v":0},{"$f":"VLOOKUP($R$9,[2]CHAR!$B$17:$T$54,MATCH(J212,[2]CHAR!$B$16:$T$16,0),FALSE)","v":2.6820893655991742E-2},{"$f":"IFERROR(VLOOKUP($F212&$I212&$K212&$H212&$G212,'Savings from 6P'!$V$11:$X$435,3,FALSE),$AD212)","v":0.15000000000000002},{"$f":"MATCH(J212,[2]!BLDGTYPE,0)","v":5},5.2995881766435368E-2,0.91606730000738101,3.0936818226183656E-2,0.98608503921852686,"POST2013",{"$f":"IFERROR(IF(G212=\"gasht\",INDEX('Savings from 6P'!$Z$11:$AF$28,MATCH(J212,'Savings from 6P'!$Z$11:$Z$28,0),MATCH(MMap!F212&MMap!H212&MMap!K212,'Savings from 6P'!$Y$7:$AE$7,0)),\"\"),\"\")","v":""},5.2995881766435368E-2,15,null,0.30000000000000004]
["Demand Control Ventilation-DCV Only-Large Ret-ElecHt-Heat-NR","Demand Control Ventilation","Demand Control Ventilation-NR-Large Ret-DCV Only","Demand Control Ventilation-NR-Large Ret","Demand Control Ventilation-NR","DCV Only","ElecHt","Heat","Small Box","Large Ret","NR","PRE2013",1.6351841305905107E-3,3.2924070745437999,0,{"$f":"INDEX('Savings from 6P'!$A$11:$L$92,MATCH(MMap!F213&MMap!J213&H213,'Savings from 6P'!$A$11:$A$92,0),MATCH(MMap!K213&G213,'Savings from 6P'!$A$4:$L$4,0))","v":2.0134778786990917},{"$f":"IF(P213<=0,0,VLOOKUP(F213&K213&H213,Costs!$A$13:$B$24,2,FALSE))","v":0},{"$f":"VLOOKUP($R$9,[2]CHAR!$B$17:$T$54,MATCH(J213,[2]CHAR!$B$16:$T$16,0),FALSE)","v":1.0839638408159987E-2},{"$f":"IFERROR(VLOOKUP($F213&$I213&$K213&$H213&$G213,'Savings from 6P'!$V$11:$X$435,3,FALSE),$AD213)","v":0.2},{"$f":"MATCH(J213,[2]!BLDGTYPE,0)","v":6},1.0593107738682607E-2,0.98322307122393326,6.1838210373840949E-3,0.77181511362305244,"POST2013",{"$f":"IFERROR(IF(G213=\"gasht\",INDEX('Savings from 6P'!$Z$11:$AF$28,MATCH(J213,'Savings from 6P'!$Z$11:$Z$28,0),MATCH(MMap!F213&MMap!H213&MMap!K213,'Savings from 6P'!$Y$7:$AE$7,0)),\"\"),\"\")","v":""},1.0593107738682607E-2,15,null,0.4]
["Demand Control Ventilation-DCV Only-Medium Ret-ElecHt-Heat-NR","Demand Control Ventilation","Demand Control Ventilation-NR-Medium Ret-DCV Only","Demand Control Ventilation-NR-Medium Ret","Demand Control Ventilation-NR","DCV Only","ElecHt","Heat","High End","Medium Ret","NR","PRE2013",3.8041339179120538E-2,46.92916920004955,0,{"$f":"INDEX('Savings from 6P'!$A$11:$L$92,MATCH(MMap!F214&MMap!J214&H214,'Savings from 6P'!$A$11:$A$92,0),MATCH(MMap!K214&G214,'Savings from 6P'!$A$4:$L$4,0))","v":1.2336360972751246},{"$f":"IF(P214<=0,0,VLOOKUP(F214&K214&H214,Costs!$A$13:$B$24,2,FALSE))","v":0},{"$f":"VLOOKUP($R$9,[2]CHAR!$B$17:$T$54,MATCH(J214,[2]CHAR!$B$16:$T$16,0),FALSE)","v":4.0894012773033235E-2},{"$f":"IFERROR(VLOOKUP($F214&$I214&$K214&$H214&$G214,'Savings from 6P'!$V$11:$X$435,3,FALSE),$AD214)","v":0.35},{"$f":"MATCH(J214,[2]!BLDGTYPE,0)","v":7},0.12006240959495594,0.80985008893074606,7.0087501474297986E-2,0.90527535536267667,"POST2013",{"$f":"IFERROR(IF(G214=\"gasht\",INDEX('Savings from 6P'!$Z$11:$AF$28,MATCH(J214,'Savings from 6P'!$Z$11:$Z$28,0),MATCH(MMap!F214&MMap!H214&MMap!K214,'Savings from 6P'!$Y$7:$AE$7,0)),\"\"),\"\")","v":""},0.12006240959495594,15,null,0.7]
["Demand Control Ventilation-DCV Only-Small Ret-ElecHt-Heat-NR","Demand Control Ventilation","Demand Control Ventilation-NR-Small Ret-DCV Only","Demand Control Ventilation-NR-Small Ret","Demand Control Ventilation-NR","DCV Only","ElecHt","Heat","Anchor","Small Ret","NR","PRE2013",5.1334778537687573E-2,63.328435849715717,0,{"$f":"INDEX('Savings from 6P'!$A$11:$L$92,MATCH(MMap!F215&MMap!J215&H215,'Savings from 6P'!$A$11:$A$92,0),MATCH(MMap!K215&G215,'Savings from 6P'!$A$4:$L$4,0))","v":1.2336360972751246},{"$f":"IF(P215<=0,0,VLOOKUP(F215&K215&H215,Costs!$A$13:$B$24,2,FALSE))","v":0},{"$f":"VLOOKUP($R$9,[2]CHAR!$B$17:$T$54,MATCH(J215,[2]CHAR!$B$16:$T$16,0),FALSE)","v":1.3016203517984767E-2},{"$f":"IFERROR(VLOOKUP($F215&$I215&$K215&$H215&$G215,'Savings from 6P'!$V$11:$X$435,3,FALSE),$AD215)","v":0.35},{"$f":"MATCH(J215,[2]!BLDGTYPE,0)","v":8},0.2732917310450087,0.56717178566142912,0.15953648329356207,0.53668215741883951,"POST2013",{"$f":"IFERROR(IF(G215=\"gasht\",INDEX('Savings from 6P'!$Z$11:$AF$28,MATCH(J215,'Savings from 6P'!$Z$11:$Z$28,0),MATCH(MMap!F215&MMap!H215&MMap!K215,'Savings from 6P'!$Y$7:$AE$7,0)),\"\"),\"\")","v":""},0.2732917310450087,15,null,0.7]
["Demand Control Ventilation-DCV Only-School K-12-ElecHt-Heat-NR","Demand Control Ventilation","Demand Control Ventilation-NR-School K-12-DCV Only","Demand Control Ventilation-NR-School K-12","Demand Control Ventilation-NR","DCV Only","ElecHt","Heat","K-12","School K-12","NR","PRE2013",2.8054797645115828E-2,0,0,{"$f":"INDEX('Savings from 6P'!$A$11:$L$92,MATCH(MMap!F216&MMap!J216&H216,'Savings from 6P'!$A$11:$A$92,0),MATCH(MMap!K216&G216,'Savings from 6P'!$A$4:$L$4,0))","v":0},{"$f":"IF(P216<=0,0,VLOOKUP(F216&K216&H216,Costs!$A$13:$B$24,2,FALSE))","v":0},{"$f":"VLOOKUP($R$9,[2]CHAR!$B$17:$T$54,MATCH(J216,[2]CHAR!$B$16:$T$16,0),FALSE)","v":3.0886857559635036E-2},{"$f":"IFERROR(VLOOKUP($F216&$I216&$K216&$H216&$G216,'Savings from 6P'!$V$11:$X$435,3,FALSE),$AD216)","v":0.5},{"$f":"MATCH(J216,[2]!BLDGTYPE,0)","v":9},5.8369343906151915E-2,0.84777782221188291,9.3852833881965178E-2,0.96128535178408803,"POST2013",{"$f":"IFERROR(IF(G216=\"gasht\",INDEX('Savings from 6P'!$Z$11:$AF$28,MATCH(J216,'Savings from 6P'!$Z$11:$Z$28,0),MATCH(MMap!F216&MMap!H216&MMap!K216,'Savings from 6P'!$Y$7:$AE$7,0)),\"\"),\"\")","v":""},5.8369343906151915E-2,15,null,1]
["Demand Control Ventilation-DCV Only-University-ElecHt-Heat-NR","Demand Control Ventilation","Demand Control Ventilation-NR-University-DCV Only","Demand Control Ventilation-NR-University","Demand Control Ventilation-NR","DCV Only","ElecHt","Heat","University","University","NR","PRE2013",3.7500000000000006E-2,0,0,{"$f":"INDEX('Savings from 6P'!$A$11:$L$92,MATCH(MMap!F217&MMap!J217&H217,'Savings from 6P'!$A$11:$A$92,0),MATCH(MMap!K217&G217,'Savings from 6P'!$A$4:$L$4,0))","v":0},{"$f":"IF(P217<=0,0,VLOOKUP(F217&K217&H217,Costs!$A$13:$B$24,2,FALSE))","v":0},{"$f":"VLOOKUP($R$9,[2]CHAR!$B$17:$T$54,MATCH(J217,[2]CHAR!$B$16:$T$16,0),FALSE)","v":2.2325826170102026E-2},{"$f":"IFERROR(VLOOKUP($F217&$I217&$K217&$H217&$G217,'Savings from 6P'!$V$11:$X$435,3,FALSE),$AD217)","v":0.5},{"$f":"MATCH(J217,[2]!BLDGTYPE,0)","v":10},0.1,0.8,0.1,0.75,"POST2013",{"$f":"IFERROR(IF(G217=\"gasht\",INDEX('Savings from 6P'!$Z$11:$AF$28,MATCH(J217,'Savings from 6P'!$Z$11:$Z$28,0),MATCH(MMap!F217&MMap!H217&MMap!K217,'Savings from 6P'!$Y$7:$AE$7,0)),\"\"),\"\")","v":""},0.1,15,null,1]
["Demand Control Ventilation-DCV Only-Warehouse-ElecHt-Heat-NR","Demand Control Ventilation","Demand Control Ventilation-NR-Warehouse-DCV Only","Demand Control Ventilation-NR-Warehouse","Demand Control Ventilation-NR","DCV Only","ElecHt","Heat","Warehouse","Warehouse","NR","PRE2013",5.8054916685602181E-4,0.30087177449016456,0,{"$f":"INDEX('Savings from 6P'!$A$11:$L$92,MATCH(MMap!F218&MMap!J218&H218,'Savings from 6P'!$A$11:$A$92,0),MATCH(MMap!K218&G218,'Savings from 6P'!$A$4:$L$4,0))","v":0.51825373571637867},{"$f":"IF(P218<=0,0,VLOOKUP(F218&K218&H218,Costs!$A$13:$B$24,2,FALSE))","v":0},{"$f":"VLOOKUP($R$9,[2]CHAR!$B$17:$T$54,MATCH(J218,[2]CHAR!$B$16:$T$16,0),FALSE)","v":0.10087192274660353},{"$f":"IFERROR(VLOOKUP($F218&$I218&$K218&$H218&$G218,'Savings from 6P'!$V$11:$X$435,3,FALSE),$AD218)","v":0.5},{"$f":"MATCH(J218,[2]!BLDGTYPE,0)","v":11},6.3929137015483993E-3,0.98700382329725422,6.6032630011973147E-3,0.18162271351024481,"POST2013",{"$f":"IFERROR(IF(G218=\"gasht\",INDEX('Savings from 6P'!$Z$11:$AF$28,MATCH(J218,'Savings from 6P'!$Z$11:$Z$28,0),MATCH(MMap!F218&MMap!H218&MMap!K218,'Savings from 6P'!$Y$7:$AE$7,0)),\"\"),\"\")","v":""},6.3929137015483993E-3,15,null,1]
["Demand Control Ventilation-DCV Only-Supermarket-ElecHt-Heat-NR","Demand Control Ventilation","Demand Control Ventilation-NR-Supermarket-DCV Only","Demand Control Ventilation-NR-Supermarket","Demand Control Ventilation-NR","DCV Only","ElecHt","Heat","Supermarket","Supermarket","NR","PRE2013",5.4158988423628146E-3,10.904792512369546,0,{"$f":"INDEX('Savings from 6P'!$A$11:$L$92,MATCH(MMap!F219&MMap!J219&H219,'Savings from 6P'!$A$11:$A$92,0),MATCH(MMap!K219&G219,'Savings from 6P'!$A$4:$L$4,0))","v":2.0134778786990917},{"$f":"IF(P219<=0,0,VLOOKUP(F219&K219&H219,Costs!$A$13:$B$24,2,FALSE))","v":0},{"$f":"VLOOKUP($R$9,[2]CHAR!$B$17:$T$54,MATCH(J219,[2]CHAR!$B$16:$T$16,0),FALSE)","v":6.1675003194375045E-3},{"$f":"IFERROR(VLOOKUP($F219&$I219&$K219&$H219&$G219,'Savings from 6P'!$V$11:$X$435,3,FALSE),$AD219)","v":0.15000000000000002},{"$f":"MATCH(J219,[2]!BLDGTYPE,0)","v":12},3.9182634298973458E-2,0.46957192737561176,6.234756715808213E-2,0.92147944946531313,"POST2013",{"$f":"IFERROR(IF(G219=\"gasht\",INDEX('Savings from 6P'!$Z$11:$AF$28,MATCH(J219,'Savings from 6P'!$Z$11:$Z$28,0),MATCH(MMap!F219&MMap!H219&MMap!K219,'Savings from 6P'!$Y$7:$AE$7,0)),\"\"),\"\")","v":""},3.9182634298973458E-2,15,null,1]
["Demand Control Ventilation-DCV Only-MiniMart-ElecHt-Heat-NR","Demand Control Ventilation","Demand Control Ventilation-NR-MiniMart-DCV Only","Demand Control Ventilation-NR-MiniMart","Demand Control Ventilation-NR","DCV Only","ElecHt","Heat","MIniMart","MiniMart","NR","PRE2013",2.9043119369399394E-3,5.8477678378702791,0,{"$f":"INDEX('Savings from 6P'!$A$11:$L$92,MATCH(MMap!F220&MMap!J220&H220,'Savings from 6P'!$A$11:$A$92,0),MATCH(MMap!K220&G220,'Savings from 6P'!$A$4:$L$4,0))","v":2.0134778786990917},{"$f":"IF(P220<=0,0,VLOOKUP(F220&K220&H220,Costs!$A$13:$B$24,2,FALSE))","v":0},{"$f":"VLOOKUP($R$9,[2]CHAR!$B$17:$T$54,MATCH(J220,[2]CHAR!$B$16:$T$16,0),FALSE)","v":2.5477723102065148E-3},{"$f":"IFERROR(VLOOKUP($F220&$I220&$K220&$H220&$G220,'Savings from 6P'!$V$11:$X$435,3,FALSE),$AD220)","v":0.35},{"$f":"MATCH(J220,[2]!BLDGTYPE,0)","v":13},9.8940421863423066E-3,0.86606113087441317,1.5743440192688529E-2,0.83868998628257874,"POST2013",{"$f":"IFERROR(IF(G220=\"gasht\",INDEX('Savings from 6P'!$Z$11:$AF$28,MATCH(J220,'Savings from 6P'!$Z$11:$Z$28,0),MATCH(MMap!F220&MMap!H220&MMap!K220,'Savings from 6P'!$Y$7:$AE$7,0)),\"\"),\"\")","v":""},9.8940421863423066E-3,15,null,1]
["Demand Control Ventilation-DCV Only-Restaurant-ElecHt-Heat-NR","Demand Control Ventilation","Demand Control Ventilation-NR-Restaurant-DCV Only","Demand Control Ventilation-NR-Restaurant","Demand Control Ventilation-NR","DCV Only","ElecHt","Heat","Restaurant","Restaurant","NR","PRE2013",1.0517694318013542E-2,21.177144844239397,0,{"$f":"INDEX('Savings from 6P'!$A$11:$L$92,MATCH(MMap!F221&MMap!J221&H221,'Savings from 6P'!$A$11:$A$92,0),MATCH(MMap!K221&G221,'Savings from 6P'!$A$4:$L$4,0))","v":2.0134778786990917},{"$f":"IF(P221<=0,0,VLOOKUP(F221&K221&H221,Costs!$A$13:$B$24,2,FALSE))","v":0},{"$f":"VLOOKUP($R$9,[2]CHAR!$B$17:$T$54,MATCH(J221,[2]CHAR!$B$16:$T$16,0),FALSE)","v":1.1693580853842011E-2},{"$f":"IFERROR(VLOOKUP($F221&$I221&$K221&$H221&$G221,'Savings from 6P'!$V$11:$X$435,3,FALSE),$AD221)","v":0.35},{"$f":"MATCH(J221,[2]!BLDGTYPE,0)","v":14},3.0050555941853869E-2,0.79365284945968273,0.17629659459846331,0.99999997512427186,"POST2013",{"$f":"IFERROR(IF(G221=\"gasht\",INDEX('Savings from 6P'!$Z$11:$AF$28,MATCH(J221,'Savings from 6P'!$Z$11:$Z$28,0),MATCH(MMap!F221&MMap!H221&MMap!K221,'Savings from 6P'!$Y$7:$AE$7,0)),\"\"),\"\")","v":""},3.0050555941853869E-2,15,null,1]
["Demand Control Ventilation-DCV Only-Lodging-ElecHt-Heat-NR","Demand Control Ventilation","Demand Control Ventilation-NR-Lodging-DCV Only","Demand Control Ventilation-NR-Lodging","Demand Control Ventilation-NR","DCV Only","ElecHt","Heat","Lodging","Lodging","NR","PRE2013",0.21097256132787681,109.33731804182496,0,{"$f":"INDEX('Savings from 6P'!$A$11:$L$92,MATCH(MMap!F222&MMap!J222&H222,'Savings from 6P'!$A$11:$A$92,0),MATCH(MMap!K222&G222,'Savings from 6P'!$A$4:$L$4,0))","v":0.51825373571637867},{"$f":"IF(P222<=0,0,VLOOKUP(F222&K222&H222,Costs!$A$13:$B$24,2,FALSE))","v":0},{"$f":"VLOOKUP($R$9,[2]CHAR!$B$17:$T$54,MATCH(J222,[2]CHAR!$B$16:$T$16,0),FALSE)","v":2.3957473342185561E-2},{"$f":"IFERROR(VLOOKUP($F222&$I222&$K222&$H222&$G222,'Savings from 6P'!$V$11:$X$435,3,FALSE),$AD222)","v":0.5},{"$f":"MATCH(J222,[2]!BLDGTYPE,0)","v":15},0.44679184687802564,0.24941748529786834,0.30379066782410608,0.94438859080377269,"POST2013",{"$f":"IFERROR(IF(G222=\"gasht\",INDEX('Savings from 6P'!$Z$11:$AF$28,MATCH(J222,'Savings from 6P'!$Z$11:$Z$28,0),MATCH(MMap!F222&MMap!H222&MMap!K222,'Savings from 6P'!$Y$7:$AE$7,0)),\"\"),\"\")","v":""},0.44679184687802564,15,null,1]
["Demand Control Ventilation-DCV Only-Hospital-ElecHt-Heat-NR","Demand Control Ventilation","Demand Control Ventilation-NR-Hospital-DCV Only","Demand Control Ventilation-NR-Hospital","Demand Control Ventilation-NR","DCV Only","ElecHt","Heat","Hospital","Hospital","NR","PRE2013",3.7999999999999999E-2,19.69364195722239,0,{"$f":"INDEX('Savings from 6P'!$A$11:$L$92,MATCH(MMap!F223&MMap!J223&H223,'Savings from 6P'!$A$11:$A$92,0),MATCH(MMap!K223&G223,'Savings from 6P'!$A$4:$L$4,0))","v":0.51825373571637867},{"$f":"IF(P223<=0,0,VLOOKUP(F223&K223&H223,Costs!$A$13:$B$24,2,FALSE))","v":0},{"$f":"VLOOKUP($R$9,[2]CHAR!$B$17:$T$54,MATCH(J223,[2]CHAR!$B$16:$T$16,0),FALSE)","v":4.4965056377242296E-2},{"$f":"IFERROR(VLOOKUP($F223&$I223&$K223&$H223&$G223,'Savings from 6P'!$V$11:$X$435,3,FALSE),$AD223)","v":0.5},{"$f":"MATCH(J223,[2]!BLDGTYPE,0)","v":16},0.08,0.91,0.01,0.95,"POST2013",{"$f":"IFERROR(IF(G223=\"gasht\",INDEX('Savings from 6P'!$Z$11:$AF$28,MATCH(J223,'Savings from 6P'!$Z$11:$Z$28,0),MATCH(MMap!F223&MMap!H223&MMap!K223,'Savings from 6P'!$Y$7:$AE$7,0)),\"\"),\"\")","v":""},0.08,15,null,1]
["Demand Control Ventilation-DCV Only-Residential Care-ElecHt-Heat-NR","Demand Control Ventilation","Demand Control Ventilation-NR-Residential Care-DCV Only","Demand Control Ventilation-NR-Residential Care","Demand Control Ventilation-NR","DCV Only","ElecHt","Heat","OtherHealth","Residential Care","NR","PRE2013",0.14313730765099719,74.18144441051389,0,{"$f":"INDEX('Savings from 6P'!$A$11:$L$92,MATCH(MMap!F224&MMap!J224&H224,'Savings from 6P'!$A$11:$A$92,0),MATCH(MMap!K224&G224,'Savings from 6P'!$A$4:$L$4,0))","v":0.51825373571637867},{"$f":"IF(P224<=0,0,VLOOKUP(F224&K224&H224,Costs!$A$13:$B$24,2,FALSE))","v":0},{"$f":"VLOOKUP($R$9,[2]CHAR!$B$17:$T$54,MATCH(J224,[2]CHAR!$B$16:$T$16,0),FALSE)","v":5.827742495837801E-2},{"$f":"IFERROR(VLOOKUP($F224&$I224&$K224&$H224&$G224,'Savings from 6P'!$V$11:$X$435,3,FALSE),$AD224)","v":0.5},{"$f":"MATCH(J224,[2]!BLDGTYPE,0)","v":17},0.33985691133471541,0.40556621261939335,0.25457687604589124,0.8423386600487599,"POST2013",{"$f":"IFERROR(IF(G224=\"gasht\",INDEX('Savings from 6P'!$Z$11:$AF$28,MATCH(J224,'Savings from 6P'!$Z$11:$Z$28,0),MATCH(MMap!F224&MMap!H224&MMap!K224,'Savings from 6P'!$Y$7:$AE$7,0)),\"\"),\"\")","v":""},0.33985691133471541,15,null,1]
["Demand Control Ventilation-DCV Only-Assembly-ElecHt-Heat-NR","Demand Control Ventilation","Demand Control Ventilation-NR-Assembly-DCV Only","Demand Control Ventilation-NR-Assembly","Demand Control Ventilation-NR","DCV Only","ElecHt","Heat","Assembly","Assembly","NR","PRE2013",9.7014321388393526E-2,50.278034477524315,0,{"$f":"INDEX('Savings from 6P'!$A$11:$L$92,MATCH(MMap!F225&MMap!J225&H225,'Savings from 6P'!$A$11:$A$92,0),MATCH(MMap!K225&G225,'Savings from 6P'!$A$4:$L$4,0))","v":0.51825373571637867},{"$f":"IF(P225<=0,0,VLOOKUP(F225&K225&H225,Costs!$A$13:$B$24,2,FALSE))","v":0},{"$f":"VLOOKUP($R$9,[2]CHAR!$B$17:$T$54,MATCH(J225,[2]CHAR!$B$16:$T$16,0),FALSE)","v":9.0984350406775827E-2},{"$f":"IFERROR(VLOOKUP($F225&$I225&$K225&$H225&$G225,'Savings from 6P'!$V$11:$X$435,3,FALSE),$AD225)","v":1},{"$f":"MATCH(J225,[2]!BLDGTYPE,0)","v":18},0.10640191237323121,0.77815390025512432,0.11544418737164447,0.91177234717447209,"POST2013",{"$f":"IFERROR(IF(G225=\"gasht\",INDEX('Savings from 6P'!$Z$11:$AF$28,MATCH(J225,'Savings from 6P'!$Z$11:$Z$28,0),MATCH(MMap!F225&MMap!H225&MMap!K225,'Savings from 6P'!$Y$7:$AE$7,0)),\"\"),\"\")","v":""},0.10640191237323121,15,null,1]
["Demand Control Ventilation-DCV Only-Other-ElecHt-Heat-NR","Demand Control Ventilation","Demand Control Ventilation-NR-Other-DCV Only","Demand Control Ventilation-NR-Other","Demand Control Ventilation-NR","DCV Only","ElecHt","Heat","Other","Other","NR","PRE2013",7.4294802966229048E-2,38.503559181560497,0,{"$f":"INDEX('Savings from 6P'!$A$11:$L$92,MATCH(MMap!F226&MMap!J226&H226,'Savings from 6P'!$A$11:$A$92,0),MATCH(MMap!K226&G226,'Savings from 6P'!$A$4:$L$4,0))","v":0.51825373571637867},{"$f":"IF(P226<=0,0,VLOOKUP(F226&K226&H226,Costs!$A$13:$B$24,2,FALSE))","v":0},{"$f":"VLOOKUP($R$9,[2]CHAR!$B$17:$T$54,MATCH(J226,[2]CHAR!$B$16:$T$16,0),FALSE)","v":0.21334717399999265},{"$f":"IFERROR(VLOOKUP($F226&$I226&$K226&$H226&$G226,'Savings from 6P'!$V$11:$X$435,3,FALSE),$AD226)","v":0.5},{"$f":"MATCH(J226,[2]!BLDGTYPE,0)","v":19},0.16939513747697868,0.7257160432726234,0.104888819250398,0.87717751610580841,"POST2013",{"$f":"IFERROR(IF(G226=\"gasht\",INDEX('Savings from 6P'!$Z$11:$AF$28,MATCH(J226,'Savings from 6P'!$Z$11:$Z$28,0),MATCH(MMap!F226&MMap!H226&MMap!K226,'Savings from 6P'!$Y$7:$AE$7,0)),\"\"),\"\")","v":""},0.16939513747697868,15,null,1]
["Demand Control Ventilation-DCV Only-Large Off-GasHt-Vent-NR","Demand Control Ventilation","Demand Control Ventilation-NR-Large Off-DCV Only","Demand Control Ventilation-NR-Large Off","Demand Control Ventilation-NR","DCV Only","GasHt","Vent","Large Off","Large Off","NR","PRE2013",0.2570237505462335,1.2953997027530166,37.948782623128785,{"$f":"INDEX('Savings from 6P'!$A$11:$L$92,MATCH(MMap!F227&MMap!J227&H227,'Savings from 6P'!$A$11:$A$92,0),MATCH(MMap!K227&G227,'Savings from 6P'!$A$4:$L$4,0))","v":5.0399999999999993E-3},{"$f":"IF(P227<=0,0,VLOOKUP(F227&K227&H227,Costs!$A$13:$B$24,2,FALSE))","v":0.14764698804090692},{"$f":"VLOOKUP($R$9,[2]CHAR!$B$17:$T$54,MATCH(J227,[2]CHAR!$B$16:$T$16,0),FALSE)","v":0.15073291148870363},{"$f":"IFERROR(VLOOKUP($F227&$I227&$K227&$H227&$G227,'Savings from 6P'!$V$11:$X$435,3,FALSE),$AD227)","v":0.5},{"$f":"MATCH(J227,[2]!BLDGTYPE,0)","v":2},0.20943280302167308,0.54037060186620078,0.25019659511212627,0.95128694884061893,"POST2013",{"$f":"IFERROR(IF(G227=\"gasht\",INDEX('Savings from 6P'!$Z$11:$AF$28,MATCH(J227,'Savings from 6P'!$Z$11:$Z$28,0),MATCH(MMap!F227&MMap!H227&MMap!K227,'Savings from 6P'!$Y$7:$AE$7,0)),\"\"),\"\")","v":2.1790000000000004E-2},0.54037060186620078,15,null,1]
["Demand Control Ventilation-DCV Only-Medium Off-GasHt-Vent-NR","Demand Control Ventilation","Demand Control Ventilation-NR-Medium Off-DCV Only","Demand Control Ventilation-NR-Medium Off","Demand Control Ventilation-NR","DCV Only","GasHt","Vent","Medium Off","Medium Off","NR","PRE2013",0.25114819619446516,1.2657869088201044,37.081274720019543,{"$f":"INDEX('Savings from 6P'!$A$11:$L$92,MATCH(MMap!F228&MMap!J228&H228,'Savings from 6P'!$A$11:$A$92,0),MATCH(MMap!K228&G228,'Savings from 6P'!$A$4:$L$4,0))","v":5.0399999999999993E-3},{"$f":"IF(P228<=0,0,VLOOKUP(F228&K228&H228,Costs!$A$13:$B$24,2,FALSE))","v":0.14764698804090692},{"$f":"VLOOKUP($R$9,[2]CHAR!$B$17:$T$54,MATCH(J228,[2]CHAR!$B$16:$T$16,0),FALSE)","v":0.12013270538231059},{"$f":"IFERROR(VLOOKUP($F228&$I228&$K228&$H228&$G228,'Savings from 6P'!$V$11:$X$435,3,FALSE),$AD228)","v":0.5},{"$f":"MATCH(J228,[2]!BLDGTYPE,0)","v":3},0.22131165109110185,0.51430081857580845,0.26438753033308959,0.97665874571205136,"POST2013",{"$f":"IFERROR(IF(G228=\"gasht\",INDEX('Savings from 6P'!$Z$11:$AF$28,MATCH(J228,'Savings from 6P'!$Z$11:$Z$28,0),MATCH(MMap!F228&MMap!H228&MMap!K228,'Savings from 6P'!$Y$7:$AE$7,0)),\"\"),\"\")","v":2.1790000000000004E-2},0.51430081857580845,15,null,1]
["Demand Control Ventilation-DCV Only-Small Off-GasHt-Vent-NR","Demand Control Ventilation","Demand Control Ventilation-NR-Small Off-DCV Only","Demand Control Ventilation-NR-Small Off","Demand Control Ventilation-NR","DCV Only","GasHt","Vent","Small Off","Small Off","NR","PRE2013",0.14923237203199086,0.75213115504123385,22.033710248723526,{"$f":"INDEX('Savings from 6P'!$A$11:$L$92,MATCH(MMap!F229&MMap!J229&H229,'Savings from 6P'!$A$11:$A$92,0),MATCH(MMap!K229&G229,'Savings from 6P'!$A$4:$L$4,0))","v":5.0399999999999993E-3},{"$f":"IF(P229<=0,0,VLOOKUP(F229&K229&H229,Costs!$A$13:$B$24,2,FALSE))","v":0.14764698804090692},{"$f":"VLOOKUP($R$9,[2]CHAR!$B$17:$T$54,MATCH(J229,[2]CHAR!$B$16:$T$16,0),FALSE)","v":3.1538695729415013E-2},{"$f":"IFERROR(VLOOKUP($F229&$I229&$K229&$H229&$G229,'Savings from 6P'!$V$11:$X$435,3,FALSE),$AD229)","v":0.5},{"$f":"MATCH(J229,[2]!BLDGTYPE,0)","v":4},0.30640942705415353,0.3275419203320854,0.36604865261376096,0.91122609210258287,"POST2013",{"$f":"IFERROR(IF(G229=\"gasht\",INDEX('Savings from 6P'!$Z$11:$AF$28,MATCH(J229,'Savings from 6P'!$Z$11:$Z$28,0),MATCH(MMap!F229&MMap!H229&MMap!K229,'Savings from 6P'!$Y$7:$AE$7,0)),\"\"),\"\")","v":2.1790000000000004E-2},0.3275419203320854,15,null,1]
["Demand Control Ventilation-DCV Only-Xlarge Ret-GasHt-Vent-NR","Demand Control Ventilation","Demand Control Ventilation-NR-Xlarge Ret-DCV Only","Demand Control Ventilation-NR-Xlarge Ret","Demand Control Ventilation-NR","DCV Only","GasHt","Vent","Big Box","Xlarge Ret","NR","PRE2013",0.13549803891818826,4.2166989711340186,20.005877331720082,{"$f":"INDEX('Savings from 6P'!$A$11:$L$92,MATCH(MMap!F230&MMap!J230&H230,'Savings from 6P'!$A$11:$A$92,0),MATCH(MMap!K230&G230,'Savings from 6P'!$A$4:$L$4,0))","v":3.1119999999999995E-2},{"$f":"IF(P230<=0,0,VLOOKUP(F230&K230&H230,Costs!$A$13:$B$24,2,FALSE))","v":0.14764698804090692},{"$f":"VLOOKUP($R$9,[2]CHAR!$B$17:$T$54,MATCH(J230,[2]CHAR!$B$16:$T$16,0),FALSE)","v":2.6820893655991742E-2},{"$f":"IFERROR(VLOOKUP($F230&$I230&$K230&$H230&$G230,'Savings from 6P'!$V$11:$X$435,3,FALSE),$AD230)","v":0.15000000000000002},{"$f":"MATCH(J230,[2]!BLDGTYPE,0)","v":5},5.2995881766435368E-2,0.91606730000738101,3.0936818226183656E-2,0.98608503921852686,"POST2013",{"$f":"IFERROR(IF(G230=\"gasht\",INDEX('Savings from 6P'!$Z$11:$AF$28,MATCH(J230,'Savings from 6P'!$Z$11:$Z$28,0),MATCH(MMap!F230&MMap!H230&MMap!K230,'Savings from 6P'!$Y$7:$AE$7,0)),\"\"),\"\")","v":8.5900000000000004E-2},0.91606730000738101,15,null,0.30000000000000004]
["Demand Control Ventilation-DCV Only-Large Ret-GasHt-Vent-NR","Demand Control Ventilation","Demand Control Ventilation-NR-Large Ret-DCV Only","Demand Control Ventilation-NR-Large Ret","Demand Control Ventilation-NR","DCV Only","GasHt","Vent","Small Box","Large Ret","NR","PRE2013",0.15177328528670134,4.7231846381221443,22.408868437654746,{"$f":"INDEX('Savings from 6P'!$A$11:$L$92,MATCH(MMap!F231&MMap!J231&H231,'Savings from 6P'!$A$11:$A$92,0),MATCH(MMap!K231&G231,'Savings from 6P'!$A$4:$L$4,0))","v":3.1119999999999995E-2},{"$f":"IF(P231<=0,0,VLOOKUP(F231&K231&H231,Costs!$A$13:$B$24,2,FALSE))","v":0.14764698804090692},{"$f":"VLOOKUP($R$9,[2]CHAR!$B$17:$T$54,MATCH(J231,[2]CHAR!$B$16:$T$16,0),FALSE)","v":1.0839638408159987E-2},{"$f":"IFERROR(VLOOKUP($F231&$I231&$K231&$H231&$G231,'Savings from 6P'!$V$11:$X$435,3,FALSE),$AD231)","v":0.2},{"$f":"MATCH(J231,[2]!BLDGTYPE,0)","v":6},1.0593107738682607E-2,0.98322307122393326,6.1838210373840949E-3,0.77181511362305244,"POST2013",{"$f":"IFERROR(IF(G231=\"gasht\",INDEX('Savings from 6P'!$Z$11:$AF$28,MATCH(J231,'Savings from 6P'!$Z$11:$Z$28,0),MATCH(MMap!F231&MMap!H231&MMap!K231,'Savings from 6P'!$Y$7:$AE$7,0)),\"\"),\"\")","v":8.5900000000000004E-2},0.98322307122393326,15,null,0.4]
["Demand Control Ventilation-DCV Only-Medium Ret-GasHt-Vent-NR","Demand Control Ventilation","Demand Control Ventilation-NR-Medium Ret-DCV Only","Demand Control Ventilation-NR-Medium Ret","Demand Control Ventilation-NR","DCV Only","GasHt","Vent","High End","Medium Ret","NR","PRE2013",0.2565980644665467,3.4897336767450349,37.885931355612087,{"$f":"INDEX('Savings from 6P'!$A$11:$L$92,MATCH(MMap!F232&MMap!J232&H232,'Savings from 6P'!$A$11:$A$92,0),MATCH(MMap!K232&G232,'Savings from 6P'!$A$4:$L$4,0))","v":1.3599999999999999E-2},{"$f":"IF(P232<=0,0,VLOOKUP(F232&K232&H232,Costs!$A$13:$B$24,2,FALSE))","v":0.14764698804090692},{"$f":"VLOOKUP($R$9,[2]CHAR!$B$17:$T$54,MATCH(J232,[2]CHAR!$B$16:$T$16,0),FALSE)","v":4.0894012773033235E-2},{"$f":"IFERROR(VLOOKUP($F232&$I232&$K232&$H232&$G232,'Savings from 6P'!$V$11:$X$435,3,FALSE),$AD232)","v":0.35},{"$f":"MATCH(J232,[2]!BLDGTYPE,0)","v":7},0.12006240959495594,0.80985008893074606,7.0087501474297986E-2,0.90527535536267667,"POST2013",{"$f":"IFERROR(IF(G232=\"gasht\",INDEX('Savings from 6P'!$Z$11:$AF$28,MATCH(J232,'Savings from 6P'!$Z$11:$Z$28,0),MATCH(MMap!F232&MMap!H232&MMap!K232,'Savings from 6P'!$Y$7:$AE$7,0)),\"\"),\"\")","v":5.2629999999999996E-2},0.80985008893074606,15,null,0.7]
["Demand Control Ventilation-DCV Only-Small Ret-GasHt-Vent-NR","Demand Control Ventilation","Demand Control Ventilation-NR-Small Ret-DCV Only","Demand Control Ventilation-NR-Small Ret","Demand Control Ventilation-NR","DCV Only","GasHt","Vent","Anchor","Small Ret","NR","PRE2013",0.10653684214455499,1.4489010531659479,15.729843858033099,{"$f":"INDEX('Savings from 6P'!$A$11:$L$92,MATCH(MMap!F233&MMap!J233&H233,'Savings from 6P'!$A$11:$A$92,0),MATCH(MMap!K233&G233,'Savings from 6P'!$A$4:$L$4,0))","v":1.3599999999999999E-2},{"$f":"IF(P233<=0,0,VLOOKUP(F233&K233&H233,Costs!$A$13:$B$24,2,FALSE))","v":0.14764698804090692},{"$f":"VLOOKUP($R$9,[2]CHAR!$B$17:$T$54,MATCH(J233,[2]CHAR!$B$16:$T$16,0),FALSE)","v":1.3016203517984767E-2},{"$f":"IFERROR(VLOOKUP($F233&$I233&$K233&$H233&$G233,'Savings from 6P'!$V$11:$X$435,3,FALSE),$AD233)","v":0.35},{"$f":"MATCH(J233,[2]!BLDGTYPE,0)","v":8},0.2732917310450087,0.56717178566142912,0.15953648329356207,0.53668215741883951,"POST2013",{"$f":"IFERROR(IF(G233=\"gasht\",INDEX('Savings from 6P'!$Z$11:$AF$28,MATCH(J233,'Savings from 6P'!$Z$11:$Z$28,0),MATCH(MMap!F233&MMap!H233&MMap!K233,'Savings from 6P'!$Y$7:$AE$7,0)),\"\"),\"\")","v":5.2629999999999996E-2},0.56717178566142912,15,null,0.7]
["Demand Control Ventilation-DCV Only-School K-12-GasHt-Vent-NR","Demand Control Ventilation","Demand Control Ventilation-NR-School K-12-DCV Only","Demand Control Ventilation-NR-School K-12","Demand Control Ventilation-NR","DCV Only","GasHt","Vent","K-12","School K-12","NR","PRE2013",0.40747820102984894,0,0,{"$f":"INDEX('Savings from 6P'!$A$11:$L$92,MATCH(MMap!F234&MMap!J234&H234,'Savings from 6P'!$A$11:$A$92,0),MATCH(MMap!K234&G234,'Savings from 6P'!$A$4:$L$4,0))","v":0},{"$f":"IF(P234<=0,0,VLOOKUP(F234&K234&H234,Costs!$A$13:$B$24,2,FALSE))","v":0},{"$f":"VLOOKUP($R$9,[2]CHAR!$B$17:$T$54,MATCH(J234,[2]CHAR!$B$16:$T$16,0),FALSE)","v":3.0886857559635036E-2},{"$f":"IFERROR(VLOOKUP($F234&$I234&$K234&$H234&$G234,'Savings from 6P'!$V$11:$X$435,3,FALSE),$AD234)","v":0.5},{"$f":"MATCH(J234,[2]!BLDGTYPE,0)","v":9},5.8369343906151915E-2,0.84777782221188291,9.3852833881965178E-2,0.96128535178408803,"POST2013",{"$f":"IFERROR(IF(G234=\"gasht\",INDEX('Savings from 6P'!$Z$11:$AF$28,MATCH(J234,'Savings from 6P'!$Z$11:$Z$28,0),MATCH(MMap!F234&MMap!H234&MMap!K234,'Savings from 6P'!$Y$7:$AE$7,0)),\"\"),\"\")","v":0},0.84777782221188291,15,null,1]
["Demand Control Ventilation-DCV Only-University-GasHt-Vent-NR","Demand Control Ventilation","Demand Control Ventilation-NR-University-DCV Only","Demand Control Ventilation-NR-University","Demand Control Ventilation-NR","DCV Only","GasHt","Vent","University","University","NR","PRE2013",0.30000000000000004,0,0,{"$f":"INDEX('Savings from 6P'!$A$11:$L$92,MATCH(MMap!F235&MMap!J235&H235,'Savings from 6P'!$A$11:$A$92,0),MATCH(MMap!K235&G235,'Savings from 6P'!$A$4:$L$4,0))","v":0},{"$f":"IF(P235<=0,0,VLOOKUP(F235&K235&H235,Costs!$A$13:$B$24,2,FALSE))","v":0},{"$f":"VLOOKUP($R$9,[2]CHAR!$B$17:$T$54,MATCH(J235,[2]CHAR!$B$16:$T$16,0),FALSE)","v":2.2325826170102026E-2},{"$f":"IFERROR(VLOOKUP($F235&$I235&$K235&$H235&$G235,'Savings from 6P'!$V$11:$X$435,3,FALSE),$AD235)","v":0.5},{"$f":"MATCH(J235,[2]!BLDGTYPE,0)","v":10},0.1,0.8,0.1,0.75,"POST2013",{"$f":"IFERROR(IF(G235=\"gasht\",INDEX('Savings from 6P'!$Z$11:$AF$28,MATCH(J235,'Savings from 6P'!$Z$11:$Z$28,0),MATCH(MMap!F235&MMap!H235&MMap!K235,'Savings from 6P'!$Y$7:$AE$7,0)),\"\"),\"\")","v":0},0.8,15,null,1]
["Demand Control Ventilation-DCV Only-Warehouse-GasHt-Vent-NR","Demand Control Ventilation","Demand Control Ventilation-NR-Warehouse-DCV Only","Demand Control Ventilation-NR-Warehouse","Demand Control Ventilation-NR","DCV Only","GasHt","Vent","Warehouse","Warehouse","NR","PRE2013",8.9631156316116747E-2,0.45174102783322839,13.233770264698348,{"$f":"INDEX('Savings from 6P'!$A$11:$L$92,MATCH(MMap!F236&MMap!J236&H236,'Savings from 6P'!$A$11:$A$92,0),MATCH(MMap!K236&G236,'Savings from 6P'!$A$4:$L$4,0))","v":5.0399999999999993E-3},{"$f":"IF(P236<=0,0,VLOOKUP(F236&K236&H236,Costs!$A$13:$B$24,2,FALSE))","v":0.14764698804090692},{"$f":"VLOOKUP($R$9,[2]CHAR!$B$17:$T$54,MATCH(J236,[2]CHAR!$B$16:$T$16,0),FALSE)","v":0.10087192274660353},{"$f":"IFERROR(VLOOKUP($F236&$I236&$K236&$H236&$G236,'Savings from 6P'!$V$11:$X$435,3,FALSE),$AD236)","v":0.5},{"$f":"MATCH(J236,[2]!BLDGTYPE,0)","v":11},6.3929137015483993E-3,0.98700382329725422,6.6032630011973147E-3,0.18162271351024481,"POST2013",{"$f":"IFERROR(IF(G236=\"gasht\",INDEX('Savings from 6P'!$Z$11:$AF$28,MATCH(J236,'Savings from 6P'!$Z$11:$Z$28,0),MATCH(MMap!F236&MMap!H236&MMap!K236,'Savings from 6P'!$Y$7:$AE$7,0)),\"\"),\"\")","v":2.1790000000000004E-2},0.98700382329725422,15,null,1]
["Demand Control Ventilation-DCV Only-Supermarket-GasHt-Vent-NR","Demand Control Ventilation","Demand Control Ventilation-NR-Supermarket-DCV Only","Demand Control Ventilation-NR-Supermarket","Demand Control Ventilation-NR","DCV Only","GasHt","Vent","Supermarket","Supermarket","NR","PRE2013",6.4905132168366728E-2,0.32712186612856825,9.5830472730563248,{"$f":"INDEX('Savings from 6P'!$A$11:$L$92,MATCH(MMap!F237&MMap!J237&H237,'Savings from 6P'!$A$11:$A$92,0),MATCH(MMap!K237&G237,'Savings from 6P'!$A$4:$L$4,0))","v":5.0399999999999993E-3},{"$f":"IF(P237<=0,0,VLOOKUP(F237&K237&H237,Costs!$A$13:$B$24,2,FALSE))","v":0.14764698804090692},{"$f":"VLOOKUP($R$9,[2]CHAR!$B$17:$T$54,MATCH(J237,[2]CHAR!$B$16:$T$16,0),FALSE)","v":6.1675003194375045E-3},{"$f":"IFERROR(VLOOKUP($F237&$I237&$K237&$H237&$G237,'Savings from 6P'!$V$11:$X$435,3,FALSE),$AD237)","v":0.15000000000000002},{"$f":"MATCH(J237,[2]!BLDGTYPE,0)","v":12},3.9182634298973458E-2,0.46957192737561176,6.234756715808213E-2,0.92147944946531313,"POST2013",{"$f":"IFERROR(IF(G237=\"gasht\",INDEX('Savings from 6P'!$Z$11:$AF$28,MATCH(J237,'Savings from 6P'!$Z$11:$Z$28,0),MATCH(MMap!F237&MMap!H237&MMap!K237,'Savings from 6P'!$Y$7:$AE$7,0)),\"\"),\"\")","v":8.5900000000000004E-2},0.46957192737561176,15,null,1]
["Demand Control Ventilation-DCV Only-MiniMart-GasHt-Vent-NR","Demand Control Ventilation","Demand Control Ventilation-NR-MiniMart-DCV Only","Demand Control Ventilation-NR-MiniMart","Demand Control Ventilation-NR","DCV Only","GasHt","Vent","MIniMart","MiniMart","NR","PRE2013",0.25422487929052767,1.2812933916242593,37.535537712309548,{"$f":"INDEX('Savings from 6P'!$A$11:$L$92,MATCH(MMap!F238&MMap!J238&H238,'Savings from 6P'!$A$11:$A$92,0),MATCH(MMap!K238&G238,'Savings from 6P'!$A$4:$L$4,0))","v":5.0399999999999993E-3},{"$f":"IF(P238<=0,0,VLOOKUP(F238&K238&H238,Costs!$A$13:$B$24,2,FALSE))","v":0.14764698804090692},{"$f":"VLOOKUP($R$9,[2]CHAR!$B$17:$T$54,MATCH(J238,[2]CHAR!$B$16:$T$16,0),FALSE)","v":2.5477723102065148E-3},{"$f":"IFERROR(VLOOKUP($F238&$I238&$K238&$H238&$G238,'Savings from 6P'!$V$11:$X$435,3,FALSE),$AD238)","v":0.35},{"$f":"MATCH(J238,[2]!BLDGTYPE,0)","v":13},9.8940421863423066E-3,0.86606113087441317,1.5743440192688529E-2,0.83868998628257874,"POST2013",{"$f":"IFERROR(IF(G238=\"gasht\",INDEX('Savings from 6P'!$Z$11:$AF$28,MATCH(J238,'Savings from 6P'!$Z$11:$Z$28,0),MATCH(MMap!F238&MMap!H238&MMap!K238,'Savings from 6P'!$Y$7:$AE$7,0)),\"\"),\"\")","v":8.5900000000000004E-2},0.86606113087441317,15,null,1]
["Demand Control Ventilation-DCV Only-Restaurant-GasHt-Vent-NR","Demand Control Ventilation","Demand Control Ventilation-NR-Restaurant-DCV Only","Demand Control Ventilation-NR-Restaurant","Demand Control Ventilation-NR","DCV Only","GasHt","Vent","Restaurant","Restaurant","NR","PRE2013",0.27777849040094654,8.6444666212774539,41.013157450249736,{"$f":"INDEX('Savings from 6P'!$A$11:$L$92,MATCH(MMap!F239&MMap!J239&H239,'Savings from 6P'!$A$11:$A$92,0),MATCH(MMap!K239&G239,'Savings from 6P'!$A$4:$L$4,0))","v":3.1119999999999995E-2},{"$f":"IF(P239<=0,0,VLOOKUP(F239&K239&H239,Costs!$A$13:$B$24,2,FALSE))","v":0.14764698804090692},{"$f":"VLOOKUP($R$9,[2]CHAR!$B$17:$T$54,MATCH(J239,[2]CHAR!$B$16:$T$16,0),FALSE)","v":1.1693580853842011E-2},{"$f":"IFERROR(VLOOKUP($F239&$I239&$K239&$H239&$G239,'Savings from 6P'!$V$11:$X$435,3,FALSE),$AD239)","v":0.35},{"$f":"MATCH(J239,[2]!BLDGTYPE,0)","v":14},3.0050555941853869E-2,0.79365284945968273,0.17629659459846331,0.99999997512427186,"POST2013",{"$f":"IFERROR(IF(G239=\"gasht\",INDEX('Savings from 6P'!$Z$11:$AF$28,MATCH(J239,'Savings from 6P'!$Z$11:$Z$28,0),MATCH(MMap!F239&MMap!H239&MMap!K239,'Savings from 6P'!$Y$7:$AE$7,0)),\"\"),\"\")","v":8.5900000000000004E-2},0.79365284945968273,15,null,1]
["Demand Control Ventilation-DCV Only-Lodging-GasHt-Vent-NR","Demand Control Ventilation","Demand Control Ventilation-NR-Lodging-DCV Only","Demand Control Ventilation-NR-Lodging","Demand Control Ventilation-NR","DCV Only","GasHt","Vent","Lodging","Lodging","NR","PRE2013",0.11777351373113729,0.59357850920493194,17.388904573396815,{"$f":"INDEX('Savings from 6P'!$A$11:$L$92,MATCH(MMap!F240&MMap!J240&H240,'Savings from 6P'!$A$11:$A$92,0),MATCH(MMap!K240&G240,'Savings from 6P'!$A$4:$L$4,0))","v":5.0399999999999993E-3},{"$f":"IF(P240<=0,0,VLOOKUP(F240&K240&H240,Costs!$A$13:$B$24,2,FALSE))","v":0.14764698804090692},{"$f":"VLOOKUP($R$9,[2]CHAR!$B$17:$T$54,MATCH(J240,[2]CHAR!$B$16:$T$16,0),FALSE)","v":2.3957473342185561E-2},{"$f":"IFERROR(VLOOKUP($F240&$I240&$K240&$H240&$G240,'Savings from 6P'!$V$11:$X$435,3,FALSE),$AD240)","v":0.5},{"$f":"MATCH(J240,[2]!BLDGTYPE,0)","v":15},0.44679184687802564,0.24941748529786834,0.30379066782410608,0.94438859080377269,"POST2013",{"$f":"IFERROR(IF(G240=\"gasht\",INDEX('Savings from 6P'!$Z$11:$AF$28,MATCH(J240,'Savings from 6P'!$Z$11:$Z$28,0),MATCH(MMap!F240&MMap!H240&MMap!K240,'Savings from 6P'!$Y$7:$AE$7,0)),\"\"),\"\")","v":2.1790000000000004E-2},0.24941748529786834,15,null,1]
["Demand Control Ventilation-DCV Only-Hospital-GasHt-Vent-NR","Demand Control Ventilation","Demand Control Ventilation-NR-Hospital-DCV Only","Demand Control Ventilation-NR-Hospital","Demand Control Ventilation-NR","DCV Only","GasHt","Vent","Hospital","Hospital","NR","PRE2013",0.43224999999999997,2.1785399999999995,63.820410580682008,{"$f":"INDEX('Savings from 6P'!$A$11:$L$92,MATCH(MMap!F241&MMap!J241&H241,'Savings from 6P'!$A$11:$A$92,0),MATCH(MMap!K241&G241,'Savings from 6P'!$A$4:$L$4,0))","v":5.0399999999999993E-3},{"$f":"IF(P241<=0,0,VLOOKUP(F241&K241&H241,Costs!$A$13:$B$24,2,FALSE))","v":0.14764698804090692},{"$f":"VLOOKUP($R$9,[2]CHAR!$B$17:$T$54,MATCH(J241,[2]CHAR!$B$16:$T$16,0),FALSE)","v":4.4965056377242296E-2},{"$f":"IFERROR(VLOOKUP($F241&$I241&$K241&$H241&$G241,'Savings from 6P'!$V$11:$X$435,3,FALSE),$AD241)","v":0.5},{"$f":"MATCH(J241,[2]!BLDGTYPE,0)","v":16},0.08,0.91,0.01,0.95,"POST2013",{"$f":"IFERROR(IF(G241=\"gasht\",INDEX('Savings from 6P'!$Z$11:$AF$28,MATCH(J241,'Savings from 6P'!$Z$11:$Z$28,0),MATCH(MMap!F241&MMap!H241&MMap!K241,'Savings from 6P'!$Y$7:$AE$7,0)),\"\"),\"\")","v":2.1790000000000004E-2},0.91,15,null,1]
["Demand Control Ventilation-DCV Only-Residential Care-GasHt-Vent-NR","Demand Control Ventilation","Demand Control Ventilation-NR-Residential Care-DCV Only","Demand Control Ventilation-NR-Residential Care","Demand Control Ventilation-NR","DCV Only","GasHt","Vent","OtherHealth","Residential Care","NR","PRE2013",0.17081205004943512,0.86089273224915286,25.219884710891744,{"$f":"INDEX('Savings from 6P'!$A$11:$L$92,MATCH(MMap!F242&MMap!J242&H242,'Savings from 6P'!$A$11:$A$92,0),MATCH(MMap!K242&G242,'Savings from 6P'!$A$4:$L$4,0))","v":5.0399999999999993E-3},{"$f":"IF(P242<=0,0,VLOOKUP(F242&K242&H242,Costs!$A$13:$B$24,2,FALSE))","v":0.14764698804090692},{"$f":"VLOOKUP($R$9,[2]CHAR!$B$17:$T$54,MATCH(J242,[2]CHAR!$B$16:$T$16,0),FALSE)","v":5.827742495837801E-2},{"$f":"IFERROR(VLOOKUP($F242&$I242&$K242&$H242&$G242,'Savings from 6P'!$V$11:$X$435,3,FALSE),$AD242)","v":0.5},{"$f":"MATCH(J242,[2]!BLDGTYPE,0)","v":17},0.33985691133471541,0.40556621261939335,0.25457687604589124,0.8423386600487599,"POST2013",{"$f":"IFERROR(IF(G242=\"gasht\",INDEX('Savings from 6P'!$Z$11:$AF$28,MATCH(J242,'Savings from 6P'!$Z$11:$Z$28,0),MATCH(MMap!F242&MMap!H242&MMap!K242,'Savings from 6P'!$Y$7:$AE$7,0)),\"\"),\"\")","v":2.1790000000000004E-2},0.40556621261939335,15,null,1]
["Demand Control Ventilation-DCV Only-Assembly-GasHt-Vent-NR","Demand Control Ventilation","Demand Control Ventilation-NR-Assembly-DCV Only","Demand Control Ventilation-NR-Assembly","Demand Control Ventilation-NR","DCV Only","GasHt","Vent","Assembly","Assembly","NR","PRE2013",0.70949920809858469,3.5758760088168664,104.75542109316467,{"$f":"INDEX('Savings from 6P'!$A$11:$L$92,MATCH(MMap!F243&MMap!J243&H243,'Savings from 6P'!$A$11:$A$92,0),MATCH(MMap!K243&G243,'Savings from 6P'!$A$4:$L$4,0))","v":5.0399999999999993E-3},{"$f":"IF(P243<=0,0,VLOOKUP(F243&K243&H243,Costs!$A$13:$B$24,2,FALSE))","v":0.14764698804090692},{"$f":"VLOOKUP($R$9,[2]CHAR!$B$17:$T$54,MATCH(J243,[2]CHAR!$B$16:$T$16,0),FALSE)","v":9.0984350406775827E-2},{"$f":"IFERROR(VLOOKUP($F243&$I243&$K243&$H243&$G243,'Savings from 6P'!$V$11:$X$435,3,FALSE),$AD243)","v":1},{"$f":"MATCH(J243,[2]!BLDGTYPE,0)","v":18},0.10640191237323121,0.77815390025512432,0.11544418737164447,0.91177234717447209,"POST2013",{"$f":"IFERROR(IF(G243=\"gasht\",INDEX('Savings from 6P'!$Z$11:$AF$28,MATCH(J243,'Savings from 6P'!$Z$11:$Z$28,0),MATCH(MMap!F243&MMap!H243&MMap!K243,'Savings from 6P'!$Y$7:$AE$7,0)),\"\"),\"\")","v":2.1790000000000004E-2},0.77815390025512432,15,null,1]
["Demand Control Ventilation-DCV Only-Other-GasHt-Vent-NR","Demand Control Ventilation","Demand Control Ventilation-NR-Other-DCV Only","Demand Control Ventilation-NR-Other","Demand Control Ventilation-NR","DCV Only","GasHt","Vent","Other","Other","NR","PRE2013",0.31829089811800759,1.6041861265147581,46.994692427958995,{"$f":"INDEX('Savings from 6P'!$A$11:$L$92,MATCH(MMap!F244&MMap!J244&H244,'Savings from 6P'!$A$11:$A$92,0),MATCH(MMap!K244&G244,'Savings from 6P'!$A$4:$L$4,0))","v":5.0399999999999993E-3},{"$f":"IF(P244<=0,0,VLOOKUP(F244&K244&H244,Costs!$A$13:$B$24,2,FALSE))","v":0.14764698804090692},{"$f":"VLOOKUP($R$9,[2]CHAR!$B$17:$T$54,MATCH(J244,[2]CHAR!$B$16:$T$16,0),FALSE)","v":0.21334717399999265},{"$f":"IFERROR(VLOOKUP($F244&$I244&$K244&$H244&$G244,'Savings from 6P'!$V$11:$X$435,3,FALSE),$AD244)","v":0.5},{"$f":"MATCH(J244,[2]!BLDGTYPE,0)","v":19},0.16939513747697868,0.7257160432726234,0.104888819250398,0.87717751610580841,"POST2013",{"$f":"IFERROR(IF(G244=\"gasht\",INDEX('Savings from 6P'!$Z$11:$AF$28,MATCH(J244,'Savings from 6P'!$Z$11:$Z$28,0),MATCH(MMap!F244&MMap!H244&MMap!K244,'Savings from 6P'!$Y$7:$AE$7,0)),\"\"),\"\")","v":2.1790000000000004E-2},0.7257160432726234,15,null,1]
["Demand Control Ventilation-DCV Only-Large Off-HtPmpHt-Vent-NR","Demand Control Ventilation","Demand Control Ventilation-NR-Large Off-DCV Only","Demand Control Ventilation-NR-Large Off","Demand Control Ventilation-NR","DCV Only","HtPmpHt","Vent","Large Off","Large Off","NR","PRE2013",0.11900437778726315,0.59978206404780621,17.570637943971612,{"$f":"INDEX('Savings from 6P'!$A$11:$L$92,MATCH(MMap!F245&MMap!J245&H245,'Savings from 6P'!$A$11:$A$92,0),MATCH(MMap!K245&G245,'Savings from 6P'!$A$4:$L$4,0))","v":5.0399999999999993E-3},{"$f":"IF(P245<=0,0,VLOOKUP(F245&K245&H245,Costs!$A$13:$B$24,2,FALSE))","v":0.14764698804090692},{"$f":"VLOOKUP($R$9,[2]CHAR!$B$17:$T$54,MATCH(J245,[2]CHAR!$B$16:$T$16,0),FALSE)","v":0.15073291148870363},{"$f":"IFERROR(VLOOKUP($F245&$I245&$K245&$H245&$G245,'Savings from 6P'!$V$11:$X$435,3,FALSE),$AD245)","v":0.5},{"$f":"MATCH(J245,[2]!BLDGTYPE,0)","v":2},0.20943280302167308,0.54037060186620078,0.25019659511212627,0.95128694884061893,"POST2013",{"$f":"IFERROR(IF(G245=\"gasht\",INDEX('Savings from 6P'!$Z$11:$AF$28,MATCH(J245,'Savings from 6P'!$Z$11:$Z$28,0),MATCH(MMap!F245&MMap!H245&MMap!K245,'Savings from 6P'!$Y$7:$AE$7,0)),\"\"),\"\")","v":""},0.25019659511212627,15,null,1]
["Demand Control Ventilation-DCV Only-Medium Off-HtPmpHt-Vent-NR","Demand Control Ventilation","Demand Control Ventilation-NR-Medium Off-DCV Only","Demand Control Ventilation-NR-Medium Off","Demand Control Ventilation-NR","DCV Only","HtPmpHt","Vent","Medium Off","Medium Off","NR","PRE2013",0.12910819687851111,0.6507053122676959,19.062436400504588,{"$f":"INDEX('Savings from 6P'!$A$11:$L$92,MATCH(MMap!F246&MMap!J246&H246,'Savings from 6P'!$A$11:$A$92,0),MATCH(MMap!K246&G246,'Savings from 6P'!$A$4:$L$4,0))","v":5.0399999999999993E-3},{"$f":"IF(P246<=0,0,VLOOKUP(F246&K246&H246,Costs!$A$13:$B$24,2,FALSE))","v":0.14764698804090692},{"$f":"VLOOKUP($R$9,[2]CHAR!$B$17:$T$54,MATCH(J246,[2]CHAR!$B$16:$T$16,0),FALSE)","v":0.12013270538231059},{"$f":"IFERROR(VLOOKUP($F246&$I246&$K246&$H246&$G246,'Savings from 6P'!$V$11:$X$435,3,FALSE),$AD246)","v":0.5},{"$f":"MATCH(J246,[2]!BLDGTYPE,0)","v":3},0.22131165109110185,0.51430081857580845,0.26438753033308959,0.97665874571205136,"POST2013",{"$f":"IFERROR(IF(G246=\"gasht\",INDEX('Savings from 6P'!$Z$11:$AF$28,MATCH(J246,'Savings from 6P'!$Z$11:$Z$28,0),MATCH(MMap!F246&MMap!H246&MMap!K246,'Savings from 6P'!$Y$7:$AE$7,0)),\"\"),\"\")","v":""},0.26438753033308959,15,null,1]
["Demand Control Ventilation-DCV Only-Small Off-HtPmpHt-Vent-NR","Demand Control Ventilation","Demand Control Ventilation-NR-Small Off-DCV Only","Demand Control Ventilation-NR-Small Off","Demand Control Ventilation-NR","DCV Only","HtPmpHt","Vent","Small Off","Small Off","NR","PRE2013",0.16677654162032665,0.84055376976644613,24.624054046120182,{"$f":"INDEX('Savings from 6P'!$A$11:$L$92,MATCH(MMap!F247&MMap!J247&H247,'Savings from 6P'!$A$11:$A$92,0),MATCH(MMap!K247&G247,'Savings from 6P'!$A$4:$L$4,0))","v":5.0399999999999993E-3},{"$f":"IF(P247<=0,0,VLOOKUP(F247&K247&H247,Costs!$A$13:$B$24,2,FALSE))","v":0.14764698804090692},{"$f":"VLOOKUP($R$9,[2]CHAR!$B$17:$T$54,MATCH(J247,[2]CHAR!$B$16:$T$16,0),FALSE)","v":3.1538695729415013E-2},{"$f":"IFERROR(VLOOKUP($F247&$I247&$K247&$H247&$G247,'Savings from 6P'!$V$11:$X$435,3,FALSE),$AD247)","v":0.5},{"$f":"MATCH(J247,[2]!BLDGTYPE,0)","v":4},0.30640942705415353,0.3275419203320854,0.36604865261376096,0.91122609210258287,"POST2013",{"$f":"IFERROR(IF(G247=\"gasht\",INDEX('Savings from 6P'!$Z$11:$AF$28,MATCH(J247,'Savings from 6P'!$Z$11:$Z$28,0),MATCH(MMap!F247&MMap!H247&MMap!K247,'Savings from 6P'!$Y$7:$AE$7,0)),\"\"),\"\")","v":""},0.36604865261376096,15,null,1]
["Demand Control Ventilation-DCV Only-Xlarge Ret-HtPmpHt-Vent-NR","Demand Control Ventilation","Demand Control Ventilation-NR-Xlarge Ret-DCV Only","Demand Control Ventilation-NR-Xlarge Ret","Demand Control Ventilation-NR","DCV Only","HtPmpHt","Vent","Big Box","Xlarge Ret","NR","PRE2013",4.5759500420794125E-3,0.14240356530951129,0.67562524113868649,{"$f":"INDEX('Savings from 6P'!$A$11:$L$92,MATCH(MMap!F248&MMap!J248&H248,'Savings from 6P'!$A$11:$A$92,0),MATCH(MMap!K248&G248,'Savings from 6P'!$A$4:$L$4,0))","v":3.1119999999999995E-2},{"$f":"IF(P248<=0,0,VLOOKUP(F248&K248&H248,Costs!$A$13:$B$24,2,FALSE))","v":0.14764698804090692},{"$f":"VLOOKUP($R$9,[2]CHAR!$B$17:$T$54,MATCH(J248,[2]CHAR!$B$16:$T$16,0),FALSE)","v":2.6820893655991742E-2},{"$f":"IFERROR(VLOOKUP($F248&$I248&$K248&$H248&$G248,'Savings from 6P'!$V$11:$X$435,3,FALSE),$AD248)","v":0.15000000000000002},{"$f":"MATCH(J248,[2]!BLDGTYPE,0)","v":5},5.2995881766435368E-2,0.91606730000738101,3.0936818226183656E-2,0.98608503921852686,"POST2013",{"$f":"IFERROR(IF(G248=\"gasht\",INDEX('Savings from 6P'!$Z$11:$AF$28,MATCH(J248,'Savings from 6P'!$Z$11:$Z$28,0),MATCH(MMap!F248&MMap!H248&MMap!K248,'Savings from 6P'!$Y$7:$AE$7,0)),\"\"),\"\")","v":""},3.0936818226183656E-2,15,null,0.30000000000000004]
["Demand Control Ventilation-DCV Only-Large Ret-HtPmpHt-Vent-NR","Demand Control Ventilation","Demand Control Ventilation-NR-Large Ret-DCV Only","Demand Control Ventilation-NR-Large Ret","Demand Control Ventilation-NR","DCV Only","HtPmpHt","Vent","Small Box","Large Ret","NR","PRE2013",9.5455330731864549E-4,2.9705698923756244E-2,0.14093692075008421,{"$f":"INDEX('Savings from 6P'!$A$11:$L$92,MATCH(MMap!F249&MMap!J249&H249,'Savings from 6P'!$A$11:$A$92,0),MATCH(MMap!K249&G249,'Savings from 6P'!$A$4:$L$4,0))","v":3.1119999999999995E-2},{"$f":"IF(P249<=0,0,VLOOKUP(F249&K249&H249,Costs!$A$13:$B$24,2,FALSE))","v":0.14764698804090692},{"$f":"VLOOKUP($R$9,[2]CHAR!$B$17:$T$54,MATCH(J249,[2]CHAR!$B$16:$T$16,0),FALSE)","v":1.0839638408159987E-2},{"$f":"IFERROR(VLOOKUP($F249&$I249&$K249&$H249&$G249,'Savings from 6P'!$V$11:$X$435,3,FALSE),$AD249)","v":0.2},{"$f":"MATCH(J249,[2]!BLDGTYPE,0)","v":6},1.0593107738682607E-2,0.98322307122393326,6.1838210373840949E-3,0.77181511362305244,"POST2013",{"$f":"IFERROR(IF(G249=\"gasht\",INDEX('Savings from 6P'!$Z$11:$AF$28,MATCH(J249,'Savings from 6P'!$Z$11:$Z$28,0),MATCH(MMap!F249&MMap!H249&MMap!K249,'Savings from 6P'!$Y$7:$AE$7,0)),\"\"),\"\")","v":""},6.1838210373840949E-3,15,null,0.4]
["Demand Control Ventilation-DCV Only-Medium Ret-HtPmpHt-Vent-NR","Demand Control Ventilation","Demand Control Ventilation-NR-Medium Ret-DCV Only","Demand Control Ventilation-NR-Medium Ret","Demand Control Ventilation-NR","DCV Only","HtPmpHt","Vent","High End","Medium Ret","NR","PRE2013",2.2206970731269531E-2,0.30201480194526559,3.2787923419845222,{"$f":"INDEX('Savings from 6P'!$A$11:$L$92,MATCH(MMap!F250&MMap!J250&H250,'Savings from 6P'!$A$11:$A$92,0),MATCH(MMap!K250&G250,'Savings from 6P'!$A$4:$L$4,0))","v":1.3599999999999999E-2},{"$f":"IF(P250<=0,0,VLOOKUP(F250&K250&H250,Costs!$A$13:$B$24,2,FALSE))","v":0.14764698804090692},{"$f":"VLOOKUP($R$9,[2]CHAR!$B$17:$T$54,MATCH(J250,[2]CHAR!$B$16:$T$16,0),FALSE)","v":4.0894012773033235E-2},{"$f":"IFERROR(VLOOKUP($F250&$I250&$K250&$H250&$G250,'Savings from 6P'!$V$11:$X$435,3,FALSE),$AD250)","v":0.35},{"$f":"MATCH(J250,[2]!BLDGTYPE,0)","v":7},0.12006240959495594,0.80985008893074606,7.0087501474297986E-2,0.90527535536267667,"POST2013",{"$f":"IFERROR(IF(G250=\"gasht\",INDEX('Savings from 6P'!$Z$11:$AF$28,MATCH(J250,'Savings from 6P'!$Z$11:$Z$28,0),MATCH(MMap!F250&MMap!H250&MMap!K250,'Savings from 6P'!$Y$7:$AE$7,0)),\"\"),\"\")","v":""},7.0087501474297986E-2,15,null,0.7]
["Demand Control Ventilation-DCV Only-Small Ret-HtPmpHt-Vent-NR","Demand Control Ventilation","Demand Control Ventilation-NR-Small Ret-DCV Only","Demand Control Ventilation-NR-Small Ret","Demand Control Ventilation-NR","DCV Only","HtPmpHt","Vent","Anchor","Small Ret","NR","PRE2013",2.9967134414351237E-2,0.40755302803517679,4.4245571364959675,{"$f":"INDEX('Savings from 6P'!$A$11:$L$92,MATCH(MMap!F251&MMap!J251&H251,'Savings from 6P'!$A$11:$A$92,0),MATCH(MMap!K251&G251,'Savings from 6P'!$A$4:$L$4,0))","v":1.3599999999999999E-2},{"$f":"IF(P251<=0,0,VLOOKUP(F251&K251&H251,Costs!$A$13:$B$24,2,FALSE))","v":0.14764698804090692},{"$f":"VLOOKUP($R$9,[2]CHAR!$B$17:$T$54,MATCH(J251,[2]CHAR!$B$16:$T$16,0),FALSE)","v":1.3016203517984767E-2},{"$f":"IFERROR(VLOOKUP($F251&$I251&$K251&$H251&$G251,'Savings from 6P'!$V$11:$X$435,3,FALSE),$AD251)","v":0.35},{"$f":"MATCH(J251,[2]!BLDGTYPE,0)","v":8},0.2732917310450087,0.56717178566142912,0.15953648329356207,0.53668215741883951,"POST2013",{"$f":"IFERROR(IF(G251=\"gasht\",INDEX('Savings from 6P'!$Z$11:$AF$28,MATCH(J251,'Savings from 6P'!$Z$11:$Z$28,0),MATCH(MMap!F251&MMap!H251&MMap!K251,'Savings from 6P'!$Y$7:$AE$7,0)),\"\"),\"\")","v":""},0.15953648329356207,15,null,0.7]
["Demand Control Ventilation-DCV Only-School K-12-HtPmpHt-Vent-NR","Demand Control Ventilation","Demand Control Ventilation-NR-School K-12-DCV Only","Demand Control Ventilation-NR-School K-12","Demand Control Ventilation-NR","DCV Only","HtPmpHt","Vent","K-12","School K-12","NR","PRE2013",4.5109677217079237E-2,0,0,{"$f":"INDEX('Savings from 6P'!$A$11:$L$92,MATCH(MMap!F252&MMap!J252&H252,'Savings from 6P'!$A$11:$A$92,0),MATCH(MMap!K252&G252,'Savings from 6P'!$A$4:$L$4,0))","v":0},{"$f":"IF(P252<=0,0,VLOOKUP(F252&K252&H252,Costs!$A$13:$B$24,2,FALSE))","v":0},{"$f":"VLOOKUP($R$9,[2]CHAR!$B$17:$T$54,MATCH(J252,[2]CHAR!$B$16:$T$16,0),FALSE)","v":3.0886857559635036E-2},{"$f":"IFERROR(VLOOKUP($F252&$I252&$K252&$H252&$G252,'Savings from 6P'!$V$11:$X$435,3,FALSE),$AD252)","v":0.5},{"$f":"MATCH(J252,[2]!BLDGTYPE,0)","v":9},5.8369343906151915E-2,0.84777782221188291,9.3852833881965178E-2,0.96128535178408803,"POST2013",{"$f":"IFERROR(IF(G252=\"gasht\",INDEX('Savings from 6P'!$Z$11:$AF$28,MATCH(J252,'Savings from 6P'!$Z$11:$Z$28,0),MATCH(MMap!F252&MMap!H252&MMap!K252,'Savings from 6P'!$Y$7:$AE$7,0)),\"\"),\"\")","v":""},9.3852833881965178E-2,15,null,1]
["Demand Control Ventilation-DCV Only-University-HtPmpHt-Vent-NR","Demand Control Ventilation","Demand Control Ventilation-NR-University-DCV Only","Demand Control Ventilation-NR-University","Demand Control Ventilation-NR","DCV Only","HtPmpHt","Vent","University","University","NR","PRE2013",3.7500000000000006E-2,0,0,{"$f":"INDEX('Savings from 6P'!$A$11:$L$92,MATCH(MMap!F253&MMap!J253&H253,'Savings from 6P'!$A$11:$A$92,0),MATCH(MMap!K253&G253,'Savings from 6P'!$A$4:$L$4,0))","v":0},{"$f":"IF(P253<=0,0,VLOOKUP(F253&K253&H253,Costs!$A$13:$B$24,2,FALSE))","v":0},{"$f":"VLOOKUP($R$9,[2]CHAR!$B$17:$T$54,MATCH(J253,[2]CHAR!$B$16:$T$16,0),FALSE)","v":2.2325826170102026E-2},{"$f":"IFERROR(VLOOKUP($F253&$I253&$K253&$H253&$G253,'Savings from 6P'!$V$11:$X$435,3,FALSE),$AD253)","v":0.5},{"$f":"MATCH(J253,[2]!BLDGTYPE,0)","v":10},0.1,0.8,0.1,0.75,"POST2013",{"$f":"IFERROR(IF(G253=\"gasht\",INDEX('Savings from 6P'!$Z$11:$AF$28,MATCH(J253,'Savings from 6P'!$Z$11:$Z$28,0),MATCH(MMap!F253&MMap!H253&MMap!K253,'Savings from 6P'!$Y$7:$AE$7,0)),\"\"),\"\")","v":""},0.1,15,null,1]
["Demand Control Ventilation-DCV Only-Warehouse-HtPmpHt-Vent-NR","Demand Control Ventilation","Demand Control Ventilation-NR-Warehouse-DCV Only","Demand Control Ventilation-NR-Warehouse","Demand Control Ventilation-NR","DCV Only","HtPmpHt","Vent","Warehouse","Warehouse","NR","PRE2013",5.9965127214962964E-4,3.0222424116341331E-3,8.8536704207790987E-2,{"$f":"INDEX('Savings from 6P'!$A$11:$L$92,MATCH(MMap!F254&MMap!J254&H254,'Savings from 6P'!$A$11:$A$92,0),MATCH(MMap!K254&G254,'Savings from 6P'!$A$4:$L$4,0))","v":5.0399999999999993E-3},{"$f":"IF(P254<=0,0,VLOOKUP(F254&K254&H254,Costs!$A$13:$B$24,2,FALSE))","v":0.14764698804090692},{"$f":"VLOOKUP($R$9,[2]CHAR!$B$17:$T$54,MATCH(J254,[2]CHAR!$B$16:$T$16,0),FALSE)","v":0.10087192274660353},{"$f":"IFERROR(VLOOKUP($F254&$I254&$K254&$H254&$G254,'Savings from 6P'!$V$11:$X$435,3,FALSE),$AD254)","v":0.5},{"$f":"MATCH(J254,[2]!BLDGTYPE,0)","v":11},6.3929137015483993E-3,0.98700382329725422,6.6032630011973147E-3,0.18162271351024481,"POST2013",{"$f":"IFERROR(IF(G254=\"gasht\",INDEX('Savings from 6P'!$Z$11:$AF$28,MATCH(J254,'Savings from 6P'!$Z$11:$Z$28,0),MATCH(MMap!F254&MMap!H254&MMap!K254,'Savings from 6P'!$Y$7:$AE$7,0)),\"\"),\"\")","v":""},6.6032630011973147E-3,15,null,1]
["Demand Control Ventilation-DCV Only-Supermarket-HtPmpHt-Vent-NR","Demand Control Ventilation","Demand Control Ventilation-NR-Supermarket-DCV Only","Demand Control Ventilation-NR-Supermarket","Demand Control Ventilation-NR","DCV Only","HtPmpHt","Vent","Supermarket","Supermarket","NR","PRE2013",8.6178002790496758E-3,4.3433713406410356E-2,1.2723922547397719,{"$f":"INDEX('Savings from 6P'!$A$11:$L$92,MATCH(MMap!F255&MMap!J255&H255,'Savings from 6P'!$A$11:$A$92,0),MATCH(MMap!K255&G255,'Savings from 6P'!$A$4:$L$4,0))","v":5.0399999999999993E-3},{"$f":"IF(P255<=0,0,VLOOKUP(F255&K255&H255,Costs!$A$13:$B$24,2,FALSE))","v":0.14764698804090692},{"$f":"VLOOKUP($R$9,[2]CHAR!$B$17:$T$54,MATCH(J255,[2]CHAR!$B$16:$T$16,0),FALSE)","v":6.1675003194375045E-3},{"$f":"IFERROR(VLOOKUP($F255&$I255&$K255&$H255&$G255,'Savings from 6P'!$V$11:$X$435,3,FALSE),$AD255)","v":0.15000000000000002},{"$f":"MATCH(J255,[2]!BLDGTYPE,0)","v":12},3.9182634298973458E-2,0.46957192737561176,6.234756715808213E-2,0.92147944946531313,"POST2013",{"$f":"IFERROR(IF(G255=\"gasht\",INDEX('Savings from 6P'!$Z$11:$AF$28,MATCH(J255,'Savings from 6P'!$Z$11:$Z$28,0),MATCH(MMap!F255&MMap!H255&MMap!K255,'Savings from 6P'!$Y$7:$AE$7,0)),\"\"),\"\")","v":""},6.234756715808213E-2,15,null,1]
["Demand Control Ventilation-DCV Only-MiniMart-HtPmpHt-Vent-NR","Demand Control Ventilation","Demand Control Ventilation-NR-MiniMart-DCV Only","Demand Control Ventilation-NR-MiniMart","Demand Control Ventilation-NR","DCV Only","HtPmpHt","Vent","MIniMart","MiniMart","NR","PRE2013",4.6213529737362891E-3,2.3291618987630894E-2,0.68232884724605147,{"$f":"INDEX('Savings from 6P'!$A$11:$L$92,MATCH(MMap!F256&MMap!J256&H256,'Savings from 6P'!$A$11:$A$92,0),MATCH(MMap!K256&G256,'Savings from 6P'!$A$4:$L$4,0))","v":5.0399999999999993E-3},{"$f":"IF(P256<=0,0,VLOOKUP(F256&K256&H256,Costs!$A$13:$B$24,2,FALSE))","v":0.14764698804090692},{"$f":"VLOOKUP($R$9,[2]CHAR!$B$17:$T$54,MATCH(J256,[2]CHAR!$B$16:$T$16,0),FALSE)","v":2.5477723102065148E-3},{"$f":"IFERROR(VLOOKUP($F256&$I256&$K256&$H256&$G256,'Savings from 6P'!$V$11:$X$435,3,FALSE),$AD256)","v":0.35},{"$f":"MATCH(J256,[2]!BLDGTYPE,0)","v":13},9.8940421863423066E-3,0.86606113087441317,1.5743440192688529E-2,0.83868998628257874,"POST2013",{"$f":"IFERROR(IF(G256=\"gasht\",INDEX('Savings from 6P'!$Z$11:$AF$28,MATCH(J256,'Savings from 6P'!$Z$11:$Z$28,0),MATCH(MMap!F256&MMap!H256&MMap!K256,'Savings from 6P'!$Y$7:$AE$7,0)),\"\"),\"\")","v":""},1.5743440192688529E-2,15,null,1]
["Demand Control Ventilation-DCV Only-Restaurant-HtPmpHt-Vent-NR","Demand Control Ventilation","Demand Control Ventilation-NR-Restaurant-DCV Only","Demand Control Ventilation-NR-Restaurant","Demand Control Ventilation-NR","DCV Only","HtPmpHt","Vent","Restaurant","Restaurant","NR","PRE2013",6.1703806574534996E-2,1.9202224605995288,9.1103811913888038,{"$f":"INDEX('Savings from 6P'!$A$11:$L$92,MATCH(MMap!F257&MMap!J257&H257,'Savings from 6P'!$A$11:$A$92,0),MATCH(MMap!K257&G257,'Savings from 6P'!$A$4:$L$4,0))","v":3.1119999999999995E-2},{"$f":"IF(P257<=0,0,VLOOKUP(F257&K257&H257,Costs!$A$13:$B$24,2,FALSE))","v":0.14764698804090692},{"$f":"VLOOKUP($R$9,[2]CHAR!$B$17:$T$54,MATCH(J257,[2]CHAR!$B$16:$T$16,0),FALSE)","v":1.1693580853842011E-2},{"$f":"IFERROR(VLOOKUP($F257&$I257&$K257&$H257&$G257,'Savings from 6P'!$V$11:$X$435,3,FALSE),$AD257)","v":0.35},{"$f":"MATCH(J257,[2]!BLDGTYPE,0)","v":14},3.0050555941853869E-2,0.79365284945968273,0.17629659459846331,0.99999997512427186,"POST2013",{"$f":"IFERROR(IF(G257=\"gasht\",INDEX('Savings from 6P'!$Z$11:$AF$28,MATCH(J257,'Savings from 6P'!$Z$11:$Z$28,0),MATCH(MMap!F257&MMap!H257&MMap!K257,'Savings from 6P'!$Y$7:$AE$7,0)),\"\"),\"\")","v":""},0.17629659459846331,15,null,1]
["Demand Control Ventilation-DCV Only-Lodging-HtPmpHt-Vent-NR","Demand Control Ventilation","Demand Control Ventilation-NR-Lodging-DCV Only","Demand Control Ventilation-NR-Lodging","Demand Control Ventilation-NR","DCV Only","HtPmpHt","Vent","Lodging","Lodging","NR","PRE2013",0.14344822034287227,0.72297903052807622,21.179697673453443,{"$f":"INDEX('Savings from 6P'!$A$11:$L$92,MATCH(MMap!F258&MMap!J258&H258,'Savings from 6P'!$A$11:$A$92,0),MATCH(MMap!K258&G258,'Savings from 6P'!$A$4:$L$4,0))","v":5.0399999999999993E-3},{"$f":"IF(P258<=0,0,VLOOKUP(F258&K258&H258,Costs!$A$13:$B$24,2,FALSE))","v":0.14764698804090692},{"$f":"VLOOKUP($R$9,[2]CHAR!$B$17:$T$54,MATCH(J258,[2]CHAR!$B$16:$T$16,0),FALSE)","v":2.3957473342185561E-2},{"$f":"IFERROR(VLOOKUP($F258&$I258&$K258&$H258&$G258,'Savings from 6P'!$V$11:$X$435,3,FALSE),$AD258)","v":0.5},{"$f":"MATCH(J258,[2]!BLDGTYPE,0)","v":15},0.44679184687802564,0.24941748529786834,0.30379066782410608,0.94438859080377269,"POST2013",{"$f":"IFERROR(IF(G258=\"gasht\",INDEX('Savings from 6P'!$Z$11:$AF$28,MATCH(J258,'Savings from 6P'!$Z$11:$Z$28,0),MATCH(MMap!F258&MMap!H258&MMap!K258,'Savings from 6P'!$Y$7:$AE$7,0)),\"\"),\"\")","v":""},0.30379066782410608,15,null,1]
["Demand Control Ventilation-DCV Only-Hospital-HtPmpHt-Vent-NR","Demand Control Ventilation","Demand Control Ventilation-NR-Hospital-DCV Only","Demand Control Ventilation-NR-Hospital","Demand Control Ventilation-NR","DCV Only","HtPmpHt","Vent","Hospital","Hospital","NR","PRE2013",4.7499999999999999E-3,2.3939999999999999E-2,0.70132319319430791,{"$f":"INDEX('Savings from 6P'!$A$11:$L$92,MATCH(MMap!F259&MMap!J259&H259,'Savings from 6P'!$A$11:$A$92,0),MATCH(MMap!K259&G259,'Savings from 6P'!$A$4:$L$4,0))","v":5.0399999999999993E-3},{"$f":"IF(P259<=0,0,VLOOKUP(F259&K259&H259,Costs!$A$13:$B$24,2,FALSE))","v":0.14764698804090692},{"$f":"VLOOKUP($R$9,[2]CHAR!$B$17:$T$54,MATCH(J259,[2]CHAR!$B$16:$T$16,0),FALSE)","v":4.4965056377242296E-2},{"$f":"IFERROR(VLOOKUP($F259&$I259&$K259&$H259&$G259,'Savings from 6P'!$V$11:$X$435,3,FALSE),$AD259)","v":0.5},{"$f":"MATCH(J259,[2]!BLDGTYPE,0)","v":16},0.08,0.91,0.01,0.95,"POST2013",{"$f":"IFERROR(IF(G259=\"gasht\",INDEX('Savings from 6P'!$Z$11:$AF$28,MATCH(J259,'Savings from 6P'!$Z$11:$Z$28,0),MATCH(MMap!F259&MMap!H259&MMap!K259,'Savings from 6P'!$Y$7:$AE$7,0)),\"\"),\"\")","v":""},0.01,15,null,1]
["Demand Control Ventilation-DCV Only-Residential Care-HtPmpHt-Vent-NR","Demand Control Ventilation","Demand Control Ventilation-NR-Residential Care-DCV Only","Demand Control Ventilation-NR-Residential Care","Demand Control Ventilation-NR","DCV Only","HtPmpHt","Vent","OtherHealth","Residential Care","NR","PRE2013",0.10721997232394763,0.54038866051269596,15.830705971460267,{"$f":"INDEX('Savings from 6P'!$A$11:$L$92,MATCH(MMap!F260&MMap!J260&H260,'Savings from 6P'!$A$11:$A$92,0),MATCH(MMap!K260&G260,'Savings from 6P'!$A$4:$L$4,0))","v":5.0399999999999993E-3},{"$f":"IF(P260<=0,0,VLOOKUP(F260&K260&H260,Costs!$A$13:$B$24,2,FALSE))","v":0.14764698804090692},{"$f":"VLOOKUP($R$9,[2]CHAR!$B$17:$T$54,MATCH(J260,[2]CHAR!$B$16:$T$16,0),FALSE)","v":5.827742495837801E-2},{"$f":"IFERROR(VLOOKUP($F260&$I260&$K260&$H260&$G260,'Savings from 6P'!$V$11:$X$435,3,FALSE),$AD260)","v":0.5},{"$f":"MATCH(J260,[2]!BLDGTYPE,0)","v":17},0.33985691133471541,0.40556621261939335,0.25457687604589124,0.8423386600487599,"POST2013",{"$f":"IFERROR(IF(G260=\"gasht\",INDEX('Savings from 6P'!$Z$11:$AF$28,MATCH(J260,'Savings from 6P'!$Z$11:$Z$28,0),MATCH(MMap!F260&MMap!H260&MMap!K260,'Savings from 6P'!$Y$7:$AE$7,0)),\"\"),\"\")","v":""},0.25457687604589124,15,null,1]
["Demand Control Ventilation-DCV Only-Assembly-HtPmpHt-Vent-NR","Demand Control Ventilation","Demand Control Ventilation-NR-Assembly-DCV Only","Demand Control Ventilation-NR-Assembly","Demand Control Ventilation-NR","DCV Only","HtPmpHt","Vent","Assembly","Assembly","NR","PRE2013",0.10525881768749383,0.53050444114496886,15.541147396305403,{"$f":"INDEX('Savings from 6P'!$A$11:$L$92,MATCH(MMap!F261&MMap!J261&H261,'Savings from 6P'!$A$11:$A$92,0),MATCH(MMap!K261&G261,'Savings from 6P'!$A$4:$L$4,0))","v":5.0399999999999993E-3},{"$f":"IF(P261<=0,0,VLOOKUP(F261&K261&H261,Costs!$A$13:$B$24,2,FALSE))","v":0.14764698804090692},{"$f":"VLOOKUP($R$9,[2]CHAR!$B$17:$T$54,MATCH(J261,[2]CHAR!$B$16:$T$16,0),FALSE)","v":9.0984350406775827E-2},{"$f":"IFERROR(VLOOKUP($F261&$I261&$K261&$H261&$G261,'Savings from 6P'!$V$11:$X$435,3,FALSE),$AD261)","v":1},{"$f":"MATCH(J261,[2]!BLDGTYPE,0)","v":18},0.10640191237323121,0.77815390025512432,0.11544418737164447,0.91177234717447209,"POST2013",{"$f":"IFERROR(IF(G261=\"gasht\",INDEX('Savings from 6P'!$Z$11:$AF$28,MATCH(J261,'Savings from 6P'!$Z$11:$Z$28,0),MATCH(MMap!F261&MMap!H261&MMap!K261,'Savings from 6P'!$Y$7:$AE$7,0)),\"\"),\"\")","v":""},0.11544418737164447,15,null,1]
["Demand Control Ventilation-DCV Only-Other-HtPmpHt-Vent-NR","Demand Control Ventilation","Demand Control Ventilation-NR-Other-DCV Only","Demand Control Ventilation-NR-Other","Demand Control Ventilation-NR","DCV Only","HtPmpHt","Vent","Other","Other","NR","PRE2013",4.6003056968667612E-2,0.23185540712208474,6.7922128020980264,{"$f":"INDEX('Savings from 6P'!$A$11:$L$92,MATCH(MMap!F262&MMap!J262&H262,'Savings from 6P'!$A$11:$A$92,0),MATCH(MMap!K262&G262,'Savings from 6P'!$A$4:$L$4,0))","v":5.0399999999999993E-3},{"$f":"IF(P262<=0,0,VLOOKUP(F262&K262&H262,Costs!$A$13:$B$24,2,FALSE))","v":0.14764698804090692},{"$f":"VLOOKUP($R$9,[2]CHAR!$B$17:$T$54,MATCH(J262,[2]CHAR!$B$16:$T$16,0),FALSE)","v":0.21334717399999265},{"$f":"IFERROR(VLOOKUP($F262&$I262&$K262&$H262&$G262,'Savings from 6P'!$V$11:$X$435,3,FALSE),$AD262)","v":0.5},{"$f":"MATCH(J262,[2]!BLDGTYPE,0)","v":19},0.16939513747697868,0.7257160432726234,0.104888819250398,0.87717751610580841,"POST2013",{"$f":"IFERROR(IF(G262=\"gasht\",INDEX('Savings from 6P'!$Z$11:$AF$28,MATCH(J262,'Savings from 6P'!$Z$11:$Z$28,0),MATCH(MMap!F262&MMap!H262&MMap!K262,'Savings from 6P'!$Y$7:$AE$7,0)),\"\"),\"\")","v":""},0.104888819250398,15,null,1]
["Demand Control Ventilation-DCV Only-Large Off-HtPmpHt-Heat-NR","Demand Control Ventilation","Demand Control Ventilation-NR-Large Off-DCV Only","Demand Control Ventilation-NR-Large Off","Demand Control Ventilation-NR","DCV Only","HtPmpHt","Heat","Large Off","Large Off","NR","PRE2013",0.11900437778726315,29.368792073739222,0,{"$f":"INDEX('Savings from 6P'!$A$11:$L$92,MATCH(MMap!F263&MMap!J263&H263,'Savings from 6P'!$A$11:$A$92,0),MATCH(MMap!K263&G263,'Savings from 6P'!$A$4:$L$4,0))","v":0.24678749319827556},{"$f":"IF(P263<=0,0,VLOOKUP(F263&K263&H263,Costs!$A$13:$B$24,2,FALSE))","v":0},{"$f":"VLOOKUP($R$9,[2]CHAR!$B$17:$T$54,MATCH(J263,[2]CHAR!$B$16:$T$16,0),FALSE)","v":0.15073291148870363},{"$f":"IFERROR(VLOOKUP($F263&$I263&$K263&$H263&$G263,'Savings from 6P'!$V$11:$X$435,3,FALSE),$AD263)","v":0.5},{"$f":"MATCH(J263,[2]!BLDGTYPE,0)","v":2},0.20943280302167308,0.54037060186620078,0.25019659511212627,0.95128694884061893,"POST2013",{"$f":"IFERROR(IF(G263=\"gasht\",INDEX('Savings from 6P'!$Z$11:$AF$28,MATCH(J263,'Savings from 6P'!$Z$11:$Z$28,0),MATCH(MMap!F263&MMap!H263&MMap!K263,'Savings from 6P'!$Y$7:$AE$7,0)),\"\"),\"\")","v":""},0.25019659511212627,15,null,1]
["Demand Control Ventilation-DCV Only-Medium Off-HtPmpHt-Heat-NR","Demand Control Ventilation","Demand Control Ventilation-NR-Medium Off-DCV Only","Demand Control Ventilation-NR-Medium Off","Demand Control Ventilation-NR","DCV Only","HtPmpHt","Heat","Medium Off","Medium Off","NR","PRE2013",0.12910819687851111,31.862288258997179,0,{"$f":"INDEX('Savings from 6P'!$A$11:$L$92,MATCH(MMap!F264&MMap!J264&H264,'Savings from 6P'!$A$11:$A$92,0),MATCH(MMap!K264&G264,'Savings from 6P'!$A$4:$L$4,0))","v":0.24678749319827556},{"$f":"IF(P264<=0,0,VLOOKUP(F264&K264&H264,Costs!$A$13:$B$24,2,FALSE))","v":0},{"$f":"VLOOKUP($R$9,[2]CHAR!$B$17:$T$54,MATCH(J264,[2]CHAR!$B$16:$T$16,0),FALSE)","v":0.12013270538231059},{"$f":"IFERROR(VLOOKUP($F264&$I264&$K264&$H264&$G264,'Savings from 6P'!$V$11:$X$435,3,FALSE),$AD264)","v":0.5},{"$f":"MATCH(J264,[2]!BLDGTYPE,0)","v":3},0.22131165109110185,0.51430081857580845,0.26438753033308959,0.97665874571205136,"POST2013",{"$f":"IFERROR(IF(G264=\"gasht\",INDEX('Savings from 6P'!$Z$11:$AF$28,MATCH(J264,'Savings from 6P'!$Z$11:$Z$28,0),MATCH(MMap!F264&MMap!H264&MMap!K264,'Savings from 6P'!$Y$7:$AE$7,0)),\"\"),\"\")","v":""},0.26438753033308959,15,null,1]
["Demand Control Ventilation-DCV Only-Small Off-HtPmpHt-Heat-NR","Demand Control Ventilation","Demand Control Ventilation-NR-Small Off-DCV Only","Demand Control Ventilation-NR-Small Off","Demand Control Ventilation-NR","DCV Only","HtPmpHt","Heat","Small Off","Small Off","NR","PRE2013",0.16677654162032665,41.158364630758285,0,{"$f":"INDEX('Savings from 6P'!$A$11:$L$92,MATCH(MMap!F265&MMap!J265&H265,'Savings from 6P'!$A$11:$A$92,0),MATCH(MMap!K265&G265,'Savings from 6P'!$A$4:$L$4,0))","v":0.24678749319827556},{"$f":"IF(P265<=0,0,VLOOKUP(F265&K265&H265,Costs!$A$13:$B$24,2,FALSE))","v":0},{"$f":"VLOOKUP($R$9,[2]CHAR!$B$17:$T$54,MATCH(J265,[2]CHAR!$B$16:$T$16,0),FALSE)","v":3.1538695729415013E-2},{"$f":"IFERROR(VLOOKUP($F265&$I265&$K265&$H265&$G265,'Savings from 6P'!$V$11:$X$435,3,FALSE),$AD265)","v":0.5},{"$f":"MATCH(J265,[2]!BLDGTYPE,0)","v":4},0.30640942705415353,0.3275419203320854,0.36604865261376096,0.91122609210258287,"POST2013",{"$f":"IFERROR(IF(G265=\"gasht\",INDEX('Savings from 6P'!$Z$11:$AF$28,MATCH(J265,'Savings from 6P'!$Z$11:$Z$28,0),MATCH(MMap!F265&MMap!H265&MMap!K265,'Savings from 6P'!$Y$7:$AE$7,0)),\"\"),\"\")","v":""},0.36604865261376096,15,null,1]
["Demand Control Ventilation-DCV Only-Xlarge Ret-HtPmpHt-Heat-NR","Demand Control Ventilation","Demand Control Ventilation-NR-Xlarge Ret-DCV Only","Demand Control Ventilation-NR-Xlarge Ret","Demand Control Ventilation-NR","DCV Only","HtPmpHt","Heat","Big Box","Xlarge Ret","NR","PRE2013",4.5759500420794125E-3,4.3874162779805115,0,{"$f":"INDEX('Savings from 6P'!$A$11:$L$92,MATCH(MMap!F266&MMap!J266&H266,'Savings from 6P'!$A$11:$A$92,0),MATCH(MMap!K266&G266,'Savings from 6P'!$A$4:$L$4,0))","v":0.9587989898567103},{"$f":"IF(P266<=0,0,VLOOKUP(F266&K266&H266,Costs!$A$13:$B$24,2,FALSE))","v":0},{"$f":"VLOOKUP($R$9,[2]CHAR!$B$17:$T$54,MATCH(J266,[2]CHAR!$B$16:$T$16,0),FALSE)","v":2.6820893655991742E-2},{"$f":"IFERROR(VLOOKUP($F266&$I266&$K266&$H266&$G266,'Savings from 6P'!$V$11:$X$435,3,FALSE),$AD266)","v":0.15000000000000002},{"$f":"MATCH(J266,[2]!BLDGTYPE,0)","v":5},5.2995881766435368E-2,0.91606730000738101,3.0936818226183656E-2,0.98608503921852686,"POST2013",{"$f":"IFERROR(IF(G266=\"gasht\",INDEX('Savings from 6P'!$Z$11:$AF$28,MATCH(J266,'Savings from 6P'!$Z$11:$Z$28,0),MATCH(MMap!F266&MMap!H266&MMap!K266,'Savings from 6P'!$Y$7:$AE$7,0)),\"\"),\"\")","v":""},3.0936818226183656E-2,15,null,0.30000000000000004]
[{"$f":"CONCATENATE(B267,\"-\",F267,\"-\",J267,\"-\",G267,\"-\",H267,\"-\",K267)","v":"Demand Control Ventilation-DCV Only-Large Ret-HtPmpHt-Heat-NR"},"Demand Control Ventilation","Demand Control Ventilation-NR-Large Ret-DCV Only","Demand Control Ventilation-NR-Large Ret",{"$f":"CONCATENATE(B267,\"-\",K267)","v":"Demand Control Ventilation-NR"},"DCV Only","HtPmpHt","Heat","Small Box","Large Ret","NR","PRE2013",9.5455330731864549E-4,0.91522474682149924,0,{"$f":"INDEX('Savings from 6P'!$A$11:$L$92,MATCH(MMap!F267&MMap!J267&H267,'Savings from 6P'!$A$11:$A$92,0),MATCH(MMap!K267&G267,'Savings from 6P'!$A$4:$L$4,0))","v":0.9587989898567103},{"$f":"IF(P267<=0,0,VLOOKUP(F267&K267&H267,Costs!$A$13:$B$24,2,FALSE))","v":0},{"$f":"VLOOKUP($R$9,[2]CHAR!$B$17:$T$54,MATCH(J267,[2]CHAR!$B$16:$T$16,0),FALSE)","v":1.0839638408159987E-2},{"$f":"IFERROR(VLOOKUP($F267&$I267&$K267&$H267&$G267,'Savings from 6P'!$V$11:$X$435,3,FALSE),$AD267)","v":0.2},{"$f":"MATCH(J267,[2]!BLDGTYPE,0)","v":6},{"$f":"VLOOKUP(U$9,V_PRE2013,$T267,FALSE)","v":1.0593107738682607E-2},{"$f":"VLOOKUP(V$9,V_PRE2013,$T267,FALSE)","v":0.98322307122393326},6.1838210373840949E-3,{"$f":"VLOOKUP($X$9,V_POST2013,MATCH(J267,BLDGTYP,FALSE)+1,FALSE)","v":0.77181511362305244},"POST2013",{"$f":"IFERROR(IF(G267=\"gasht\",INDEX('Savings from 6P'!$Z$11:$AF$28,MATCH(J267,'Savings from 6P'!$Z$11:$Z$28,0),MATCH(MMap!F267&MMap!H267&MMap!K267,'Savings from 6P'!$Y$7:$AE$7,0)),\"\"),\"\")","v":""},{"$f":"IF(G267=\"ElecHt\",U267,IF(G267=\"gasht\",V267,W267))","v":6.1838210373840949E-3},{"$f":"$AB$9","v":15},null,0.4]
["Demand Control Ventilation-DCV Only-Medium Ret-HtPmpHt-Heat-NR","Demand Control Ventilation",{"$f":"CONCATENATE(D268,\"-\",F268)","v":"Demand Control Ventilation-NR-Medium Ret-DCV Only"},{"$f":"CONCATENATE(B268,\"-\",K268,\"-\",J268)","v":"Demand Control Ventilation-NR-Medium Ret"},"Demand Control Ventilation-NR","DCV Only","HtPmpHt","Heat","High End","Medium Ret","NR","PRE2013",2.2206970731269531E-2,{"$f":"M268*P268*$N$9","v":13.045390812012505},{"$f":"Q268*M268*$O$9","v":0},{"$f":"INDEX('Savings from 6P'!$A$11:$L$92,MATCH(MMap!F268&MMap!J268&H268,'Savings from 6P'!$A$11:$A$92,0),MATCH(MMap!K268&G268,'Savings from 6P'!$A$4:$L$4,0))","v":0.58744576060720211},{"$f":"IF(P268<=0,0,VLOOKUP(F268&K268&H268,Costs!$A$13:$B$24,2,FALSE))","v":0},{"$f":"VLOOKUP($R$9,[2]CHAR!$B$17:$T$54,MATCH(J268,[2]CHAR!$B$16:$T$16,0),FALSE)","v":4.0894012773033235E-2},{"$f":"IFERROR(VLOOKUP($F268&$I268&$K268&$H268&$G268,'Savings from 6P'!$V$11:$X$435,3,FALSE),$AD268)","v":0.35},{"$f":"MATCH(J268,[2]!BLDGTYPE,0)","v":7},0.12006240959495594,0.80985008893074606,7.0087501474297986E-2,0.90527535536267667,"POST2013",{"$f":"IFERROR(IF(G268=\"gasht\",INDEX('Savings from 6P'!$Z$11:$AF$28,MATCH(J268,'Savings from 6P'!$Z$11:$Z$28,0),MATCH(MMap!F268&MMap!H268&MMap!K268,'Savings from 6P'!$Y$7:$AE$7,0)),\"\"),\"\")","v":""},7.0087501474297986E-2,15,null,0.7]
["Demand Control Ventilation-DCV Only-Small Ret-HtPmpHt-Heat-NR","Demand Control Ventilation","Demand Control Ventilation-NR-Small Ret-DCV Only","Demand Control Ventilation-NR-Small Ret","Demand Control Ventilation-NR","DCV Only","HtPmpHt","Heat","Anchor","Small Ret","NR","PRE2013",{"$f":"S269*X269*AA269","v":2.9967134414351237E-2},17.604066069256824,0,{"$f":"INDEX('Savings from 6P'!$A$11:$L$92,MATCH(MMap!F269&MMap!J269&H269,'Savings from 6P'!$A$11:$A$92,0),MATCH(MMap!K269&G269,'Savings from 6P'!$A$4:$L$4,0))","v":0.58744576060720211},{"$f":"IF(P269<=0,0,VLOOKUP(F269&K269&H269,Costs!$A$13:$B$24,2,FALSE))","v":0},{"$f":"VLOOKUP($R$9,[2]CHAR!$B$17:$T$54,MATCH(J269,[2]CHAR!$B$16:$T$16,0),FALSE)","v":1.3016203517984767E-2},{"$f":"IFERROR(VLOOKUP($F269&$I269&$K269&$H269&$G269,'Savings from 6P'!$V$11:$X$435,3,FALSE),$AD269)","v":0.35},{"$f":"MATCH(J269,[2]!BLDGTYPE,0)","v":8},0.2732917310450087,0.56717178566142912,0.15953648329356207,0.53668215741883951,"POST2013",{"$f":"IFERROR(IF(G269=\"gasht\",INDEX('Savings from 6P'!$Z$11:$AF$28,MATCH(J269,'Savings from 6P'!$Z$11:$Z$28,0),MATCH(MMap!F269&MMap!H269&MMap!K269,'Savings from 6P'!$Y$7:$AE$7,0)),\"\"),\"\")","v":""},0.15953648329356207,15,null,0.7]
["Demand Control Ventilation-DCV Only-School K-12-HtPmpHt-Heat-NR","Demand Control Ventilation","Demand Control Ventilation-NR-School K-12-DCV Only","Demand Control Ventilation-NR-School K-12","Demand Control Ventilation-NR","DCV Only","HtPmpHt","Heat","K-12","School K-12","NR","PRE2013",4.5109677217079237E-2,0,0,{"$f":"INDEX('Savings from 6P'!$A$11:$L$92,MATCH(MMap!F270&MMap!J270&H270,'Savings from 6P'!$A$11:$A$92,0),MATCH(MMap!K270&G270,'Savings from 6P'!$A$4:$L$4,0))","v":0},{"$f":"IF(P270<=0,0,VLOOKUP(F270&K270&H270,Costs!$A$13:$B$24,2,FALSE))","v":0},{"$f":"VLOOKUP($R$9,[2]CHAR!$B$17:$T$54,MATCH(J270,[2]CHAR!$B$16:$T$16,0),FALSE)","v":3.0886857559635036E-2},{"$f":"IFERROR(VLOOKUP($F270&$I270&$K270&$H270&$G270,'Savings from 6P'!$V$11:$X$435,3,FALSE),$AD270)","v":0.5},{"$f":"MATCH(J270,[2]!BLDGTYPE,0)","v":9},5.8369343906151915E-2,0.84777782221188291,9.3852833881965178E-2,0.96128535178408803,"POST2013",{"$f":"IFERROR(IF(G270=\"gasht\",INDEX('Savings from 6P'!$Z$11:$AF$28,MATCH(J270,'Savings from 6P'!$Z$11:$Z$28,0),MATCH(MMap!F270&MMap!H270&MMap!K270,'Savings from 6P'!$Y$7:$AE$7,0)),\"\"),\"\")","v":""},9.3852833881965178E-2,15,null,1]
["Demand Control Ventilation-DCV Only-University-HtPmpHt-Heat-NR","Demand Control Ventilation","Demand Control Ventilation-NR-University-DCV Only","Demand Control Ventilation-NR-University","Demand Control Ventilation-NR","DCV Only","HtPmpHt","Heat","University","University","NR","PRE2013",3.7500000000000006E-2,0,0,{"$f":"INDEX('Savings from 6P'!$A$11:$L$92,MATCH(MMap!F271&MMap!J271&H271,'Savings from 6P'!$A$11:$A$92,0),MATCH(MMap!K271&G271,'Savings from 6P'!$A$4:$L$4,0))","v":0},{"$f":"IF(P271<=0,0,VLOOKUP(F271&K271&H271,Costs!$A$13:$B$24,2,FALSE))","v":0},{"$f":"VLOOKUP($R$9,[2]CHAR!$B$17:$T$54,MATCH(J271,[2]CHAR!$B$16:$T$16,0),FALSE)","v":2.2325826170102026E-2},{"$f":"IFERROR(VLOOKUP($F271&$I271&$K271&$H271&$G271,'Savings from 6P'!$V$11:$X$435,3,FALSE),$AD271)","v":0.5},{"$f":"MATCH(J271,[2]!BLDGTYPE,0)","v":10},0.1,0.8,0.1,0.75,"POST2013",{"$f":"IFERROR(IF(G271=\"gasht\",INDEX('Savings from 6P'!$Z$11:$AF$28,MATCH(J271,'Savings from 6P'!$Z$11:$Z$28,0),MATCH(MMap!F271&MMap!H271&MMap!K271,'Savings from 6P'!$Y$7:$AE$7,0)),\"\"),\"\")","v":""},0.1,15,null,1]
["Demand Control Ventilation-DCV Only-Warehouse-HtPmpHt-Heat-NR","Demand Control Ventilation","Demand Control Ventilation-NR-Warehouse-DCV Only","Demand Control Ventilation-NR-Warehouse","Demand Control Ventilation-NR","DCV Only","HtPmpHt","Heat","Warehouse","Warehouse","NR","PRE2013",5.9965127214962964E-4,0.147986434246964,0,{"$f":"INDEX('Savings from 6P'!$A$11:$L$92,MATCH(MMap!F272&MMap!J272&H272,'Savings from 6P'!$A$11:$A$92,0),MATCH(MMap!K272&G272,'Savings from 6P'!$A$4:$L$4,0))","v":0.24678749319827556},{"$f":"IF(P272<=0,0,VLOOKUP(F272&K272&H272,Costs!$A$13:$B$24,2,FALSE))","v":0},{"$f":"VLOOKUP($R$9,[2]CHAR!$B$17:$T$54,MATCH(J272,[2]CHAR!$B$16:$T$16,0),FALSE)","v":0.10087192274660353},{"$f":"IFERROR(VLOOKUP($F272&$I272&$K272&$H272&$G272,'Savings from 6P'!$V$11:$X$435,3,FALSE),$AD272)","v":0.5},{"$f":"MATCH(J272,[2]!BLDGTYPE,0)","v":11},6.3929137015483993E-3,0.98700382329725422,6.6032630011973147E-3,0.18162271351024481,"POST2013",{"$f":"IFERROR(IF(G272=\"gasht\",INDEX('Savings from 6P'!$Z$11:$AF$28,MATCH(J272,'Savings from 6P'!$Z$11:$Z$28,0),MATCH(MMap!F272&MMap!H272&MMap!K272,'Savings from 6P'!$Y$7:$AE$7,0)),\"\"),\"\")","v":""},6.6032630011973147E-3,15,null,1]
["Demand Control Ventilation-DCV Only-Supermarket-HtPmpHt-Heat-NR","Demand Control Ventilation","Demand Control Ventilation-NR-Supermarket-DCV Only","Demand Control Ventilation-NR-Supermarket","Demand Control Ventilation-NR","DCV Only","HtPmpHt","Heat","Supermarket","Supermarket","NR","PRE2013",8.6178002790496758E-3,8.2627382023397065,0,{"$f":"INDEX('Savings from 6P'!$A$11:$L$92,MATCH(MMap!F273&MMap!J273&H273,'Savings from 6P'!$A$11:$A$92,0),MATCH(MMap!K273&G273,'Savings from 6P'!$A$4:$L$4,0))","v":0.9587989898567103},{"$f":"IF(P273<=0,0,VLOOKUP(F273&K273&H273,Costs!$A$13:$B$24,2,FALSE))","v":0},{"$f":"VLOOKUP($R$9,[2]CHAR!$B$17:$T$54,MATCH(J273,[2]CHAR!$B$16:$T$16,0),FALSE)","v":6.1675003194375045E-3},{"$f":"IFERROR(VLOOKUP($F273&$I273&$K273&$H273&$G273,'Savings from 6P'!$V$11:$X$435,3,FALSE),$AD273)","v":0.15000000000000002},{"$f":"MATCH(J273,[2]!BLDGTYPE,0)","v":12},3.9182634298973458E-2,0.46957192737561176,6.234756715808213E-2,0.92147944946531313,"POST2013",{"$f":"IFERROR(IF(G273=\"gasht\",INDEX('Savings from 6P'!$Z$11:$AF$28,MATCH(J273,'Savings from 6P'!$Z$11:$Z$28,0),MATCH(MMap!F273&MMap!H273&MMap!K273,'Savings from 6P'!$Y$7:$AE$7,0)),\"\"),\"\")","v":""},6.234756715808213E-2,15,null,1]
["Demand Control Ventilation-DCV Only-MiniMart-HtPmpHt-Heat-NR","Demand Control Ventilation","Demand Control Ventilation-NR-MiniMart-DCV Only","Demand Control Ventilation-NR-MiniMart","Demand Control Ventilation-NR","DCV Only","HtPmpHt","Heat","MIniMart","MiniMart","NR","PRE2013",4.6213529737362891E-3,4.4309485629896583,0,{"$f":"INDEX('Savings from 6P'!$A$11:$L$92,MATCH(MMap!F274&MMap!J274&H274,'Savings from 6P'!$A$11:$A$92,0),MATCH(MMap!K274&G274,'Savings from 6P'!$A$4:$L$4,0))","v":0.9587989898567103},{"$f":"IF(P274<=0,0,VLOOKUP(F274&K274&H274,Costs!$A$13:$B$24,2,FALSE))","v":0},{"$f":"VLOOKUP($R$9,[2]CHAR!$B$17:$T$54,MATCH(J274,[2]CHAR!$B$16:$T$16,0),FALSE)","v":2.5477723102065148E-3},{"$f":"IFERROR(VLOOKUP($F274&$I274&$K274&$H274&$G274,'Savings from 6P'!$V$11:$X$435,3,FALSE),$AD274)","v":0.35},{"$f":"MATCH(J274,[2]!BLDGTYPE,0)","v":13},9.8940421863423066E-3,0.86606113087441317,1.5743440192688529E-2,0.83868998628257874,"POST2013",{"$f":"IFERROR(IF(G274=\"gasht\",INDEX('Savings from 6P'!$Z$11:$AF$28,MATCH(J274,'Savings from 6P'!$Z$11:$Z$28,0),MATCH(MMap!F274&MMap!H274&MMap!K274,'Savings from 6P'!$Y$7:$AE$7,0)),\"\"),\"\")","v":""},1.5743440192688529E-2,15,null,1]
["Demand Control Ventilation-DCV Only-Restaurant-HtPmpHt-Heat-NR","Demand Control Ventilation","Demand Control Ventilation-NR-Restaurant-DCV Only","Demand Control Ventilation-NR-Restaurant","Demand Control Ventilation-NR","DCV Only","HtPmpHt","Heat","Restaurant","Restaurant","NR","PRE2013",6.1703806574534996E-2,59.161547413977992,0,{"$f":"INDEX('Savings from 6P'!$A$11:$L$92,MATCH(MMap!F275&MMap!J275&H275,'Savings from 6P'!$A$11:$A$92,0),MATCH(MMap!K275&G275,'Savings from 6P'!$A$4:$L$4,0))","v":0.9587989898567103},{"$f":"IF(P275<=0,0,VLOOKUP(F275&K275&H275,Costs!$A$13:$B$24,2,FALSE))","v":0},{"$f":"VLOOKUP($R$9,[2]CHAR!$B$17:$T$54,MATCH(J275,[2]CHAR!$B$16:$T$16,0),FALSE)","v":1.1693580853842011E-2},{"$f":"IFERROR(VLOOKUP($F275&$I275&$K275&$H275&$G275,'Savings from 6P'!$V$11:$X$435,3,FALSE),$AD275)","v":0.35},{"$f":"MATCH(J275,[2]!BLDGTYPE,0)","v":14},3.0050555941853869E-2,0.79365284945968273,0.17629659459846331,0.99999997512427186,"POST2013",{"$f":"IFERROR(IF(G275=\"gasht\",INDEX('Savings from 6P'!$Z$11:$AF$28,MATCH(J275,'Savings from 6P'!$Z$11:$Z$28,0),MATCH(MMap!F275&MMap!H275&MMap!K275,'Savings from 6P'!$Y$7:$AE$7,0)),\"\"),\"\")","v":""},0.17629659459846331,15,null,1]
["Demand Control Ventilation-DCV Only-Lodging-HtPmpHt-Heat-NR","Demand Control Ventilation","Demand Control Ventilation-NR-Lodging-DCV Only","Demand Control Ventilation-NR-Lodging","Demand Control Ventilation-NR","DCV Only","HtPmpHt","Heat","Lodging","Lodging","NR","PRE2013",0.14344822034287227,35.401226702171321,0,{"$f":"INDEX('Savings from 6P'!$A$11:$L$92,MATCH(MMap!F276&MMap!J276&H276,'Savings from 6P'!$A$11:$A$92,0),MATCH(MMap!K276&G276,'Savings from 6P'!$A$4:$L$4,0))","v":0.24678749319827556},{"$f":"IF(P276<=0,0,VLOOKUP(F276&K276&H276,Costs!$A$13:$B$24,2,FALSE))","v":0},{"$f":"VLOOKUP($R$9,[2]CHAR!$B$17:$T$54,MATCH(J276,[2]CHAR!$B$16:$T$16,0),FALSE)","v":2.3957473342185561E-2},{"$f":"IFERROR(VLOOKUP($F276&$I276&$K276&$H276&$G276,'Savings from 6P'!$V$11:$X$435,3,FALSE),$AD276)","v":0.5},{"$f":"MATCH(J276,[2]!BLDGTYPE,0)","v":15},0.44679184687802564,0.24941748529786834,0.30379066782410608,0.94438859080377269,"POST2013",{"$f":"IFERROR(IF(G276=\"gasht\",INDEX('Savings from 6P'!$Z$11:$AF$28,MATCH(J276,'Savings from 6P'!$Z$11:$Z$28,0),MATCH(MMap!F276&MMap!H276&MMap!K276,'Savings from 6P'!$Y$7:$AE$7,0)),\"\"),\"\")","v":""},0.30379066782410608,15,null,1]
["Demand Control Ventilation-DCV Only-Hospital-HtPmpHt-Heat-NR","Demand Control Ventilation","Demand Control Ventilation-NR-Hospital-DCV Only","Demand Control Ventilation-NR-Hospital","Demand Control Ventilation-NR","DCV Only","HtPmpHt","Heat","Hospital","Hospital","NR","PRE2013",4.7499999999999999E-3,1.1722405926918087,0,{"$f":"INDEX('Savings from 6P'!$A$11:$L$92,MATCH(MMap!F277&MMap!J277&H277,'Savings from 6P'!$A$11:$A$92,0),MATCH(MMap!K277&G277,'Savings from 6P'!$A$4:$L$4,0))","v":0.24678749319827556},{"$f":"IF(P277<=0,0,VLOOKUP(F277&K277&H277,Costs!$A$13:$B$24,2,FALSE))","v":0},{"$f":"VLOOKUP($R$9,[2]CHAR!$B$17:$T$54,MATCH(J277,[2]CHAR!$B$16:$T$16,0),FALSE)","v":4.4965056377242296E-2},{"$f":"IFERROR(VLOOKUP($F277&$I277&$K277&$H277&$G277,'Savings from 6P'!$V$11:$X$435,3,FALSE),$AD277)","v":0.5},{"$f":"MATCH(J277,[2]!BLDGTYPE,0)","v":16},0.08,0.91,0.01,0.95,"POST2013",{"$f":"IFERROR(IF(G277=\"gasht\",INDEX('Savings from 6P'!$Z$11:$AF$28,MATCH(J277,'Savings from 6P'!$Z$11:$Z$28,0),MATCH(MMap!F277&MMap!H277&MMap!K277,'Savings from 6P'!$Y$7:$AE$7,0)),\"\"),\"\")","v":""},0.01,15,null,1]
["Demand Control Ventilation-DCV Only-Residential Care-HtPmpHt-Heat-NR","Demand Control Ventilation","Demand Control Ventilation-NR-Residential Care-DCV Only","Demand Control Ventilation-NR-Residential Care","Demand Control Ventilation-NR","DCV Only","HtPmpHt","Heat","OtherHealth","Residential Care","NR","PRE2013",0.10721997232394763,26.460548190615519,0,{"$f":"INDEX('Savings from 6P'!$A$11:$L$92,MATCH(MMap!F278&MMap!J278&H278,'Savings from 6P'!$A$11:$A$92,0),MATCH(MMap!K278&G278,'Savings from 6P'!$A$4:$L$4,0))","v":0.24678749319827556},{"$f":"IF(P278<=0,0,VLOOKUP(F278&K278&H278,Costs!$A$13:$B$24,2,FALSE))","v":0},{"$f":"VLOOKUP($R$9,[2]CHAR!$B$17:$T$54,MATCH(J278,[2]CHAR!$B$16:$T$16,0),FALSE)","v":5.827742495837801E-2},{"$f":"IFERROR(VLOOKUP($F278&$I278&$K278&$H278&$G278,'Savings from 6P'!$V$11:$X$435,3,FALSE),$AD278)","v":0.5},{"$f":"MATCH(J278,[2]!BLDGTYPE,0)","v":17},0.33985691133471541,0.40556621261939335,0.25457687604589124,0.8423386600487599,"POST2013",{"$f":"IFERROR(IF(G278=\"gasht\",INDEX('Savings from 6P'!$Z$11:$AF$28,MATCH(J278,'Savings from 6P'!$Z$11:$Z$28,0),MATCH(MMap!F278&MMap!H278&MMap!K278,'Savings from 6P'!$Y$7:$AE$7,0)),\"\"),\"\")","v":""},0.25457687604589124,15,null,1]
["Demand Control Ventilation-DCV Only-Assembly-HtPmpHt-Heat-NR","Demand Control Ventilation","Demand Control Ventilation-NR-Assembly-DCV Only","Demand Control Ventilation-NR-Assembly","Demand Control Ventilation-NR","DCV Only","HtPmpHt","Heat","Assembly","Assembly","NR","PRE2013",0.10525881768749383,25.976559754110912,0,{"$f":"INDEX('Savings from 6P'!$A$11:$L$92,MATCH(MMap!F279&MMap!J279&H279,'Savings from 6P'!$A$11:$A$92,0),MATCH(MMap!K279&G279,'Savings from 6P'!$A$4:$L$4,0))","v":0.24678749319827556},{"$f":"IF(P279<=0,0,VLOOKUP(F279&K279&H279,Costs!$A$13:$B$24,2,FALSE))","v":0},{"$f":"VLOOKUP($R$9,[2]CHAR!$B$17:$T$54,MATCH(J279,[2]CHAR!$B$16:$T$16,0),FALSE)","v":9.0984350406775827E-2},{"$f":"IFERROR(VLOOKUP($F279&$I279&$K279&$H279&$G279,'Savings from 6P'!$V$11:$X$435,3,FALSE),$AD279)","v":1},{"$f":"MATCH(J279,[2]!BLDGTYPE,0)","v":18},0.10640191237323121,0.77815390025512432,0.11544418737164447,0.91177234717447209,"POST2013",{"$f":"IFERROR(IF(G279=\"gasht\",INDEX('Savings from 6P'!$Z$11:$AF$28,MATCH(J279,'Savings from 6P'!$Z$11:$Z$28,0),MATCH(MMap!F279&MMap!H279&MMap!K279,'Savings from 6P'!$Y$7:$AE$7,0)),\"\"),\"\")","v":""},0.11544418737164447,15,null,1]
["Demand Control Ventilation-DCV Only-Other-HtPmpHt-Heat-NR","Demand Control Ventilation","Demand Control Ventilation-NR-Other-DCV Only","Demand Control Ventilation-NR-Other","Demand Control Ventilation-NR","DCV Only","HtPmpHt","Heat","Other","Other","NR","PRE2013",4.6003056968667612E-2,11.352979108754942,0,{"$f":"INDEX('Savings from 6P'!$A$11:$L$92,MATCH(MMap!F280&MMap!J280&H280,'Savings from 6P'!$A$11:$A$92,0),MATCH(MMap!K280&G280,'Savings from 6P'!$A$4:$L$4,0))","v":0.24678749319827556},{"$f":"IF(P280<=0,0,VLOOKUP(F280&K280&H280,Costs!$A$13:$B$24,2,FALSE))","v":0},{"$f":"VLOOKUP($R$9,[2]CHAR!$B$17:$T$54,MATCH(J280,[2]CHAR!$B$16:$T$16,0),FALSE)","v":0.21334717399999265},{"$f":"IFERROR(VLOOKUP($F280&$I280&$K280&$H280&$G280,'Savings from 6P'!$V$11:$X$435,3,FALSE),$AD280)","v":0.5},{"$f":"MATCH(J280,[2]!BLDGTYPE,0)","v":19},0.16939513747697868,0.7257160432726234,0.104888819250398,0.87717751610580841,"POST2013",{"$f":"IFERROR(IF(G280=\"gasht\",INDEX('Savings from 6P'!$Z$11:$AF$28,MATCH(J280,'Savings from 6P'!$Z$11:$Z$28,0),MATCH(MMap!F280&MMap!H280&MMap!K280,'Savings from 6P'!$Y$7:$AE$7,0)),\"\"),\"\")","v":""},0.104888819250398,15,null,1]
["Demand Control Ventilation-DCV Only-Large Off-ElecHt-Vent-Retro","Demand Control Ventilation","Demand Control Ventilation-Retro-Large Off-DCV Only","Demand Control Ventilation-Retro-Large Off","Demand Control Ventilation-Retro","DCV Only","ElecHt","Vent","Large Off","Large Off","Retro","PRE2013",9.961534608681287E-2,0.53891902232965772,23.900346945102008,{"$f":"INDEX('Savings from 6P'!$A$11:$L$92,MATCH(MMap!F281&MMap!J281&H281,'Savings from 6P'!$A$11:$A$92,0),MATCH(MMap!K281&G281,'Savings from 6P'!$A$4:$L$4,0))","v":5.4099999999999999E-3},{"$f":"IF(P281<=0,0,VLOOKUP(F281&K281&H281,Costs!$A$13:$B$24,2,FALSE))","v":0.23992635556647376},{"$f":"VLOOKUP($R$9,[2]CHAR!$B$17:$T$54,MATCH(J281,[2]CHAR!$B$16:$T$16,0),FALSE)","v":0.15073291148870363},{"$f":"IFERROR(VLOOKUP($F281&$I281&$K281&$H281&$G281,'Savings from 6P'!$V$11:$X$435,3,FALSE),$AD281)","v":0.5},{"$f":"MATCH(J281,[2]!BLDGTYPE,0)","v":2},0.20943280302167308,0.54037060186620078,0.25019659511212627,0.95128694884061893,"POST2013",{"$f":"IFERROR(IF(G281=\"gasht\",INDEX('Savings from 6P'!$Z$11:$AF$28,MATCH(J281,'Savings from 6P'!$Z$11:$Z$28,0),MATCH(MMap!F281&MMap!H281&MMap!K281,'Savings from 6P'!$Y$7:$AE$7,0)),\"\"),\"\")","v":""},0.20943280302167308,15,null,1]
["Demand Control Ventilation-DCV Only-Medium Off-ElecHt-Vent-Retro","Demand Control Ventilation","Demand Control Ventilation-Retro-Medium Off-DCV Only","Demand Control Ventilation-Retro-Medium Off","Demand Control Ventilation-Retro","DCV Only","ElecHt","Vent","Medium Off","Medium Off","Retro","PRE2013",0.10807297978304933,0.58467482062629694,25.929556174556225,{"$f":"INDEX('Savings from 6P'!$A$11:$L$92,MATCH(MMap!F282&MMap!J282&H282,'Savings from 6P'!$A$11:$A$92,0),MATCH(MMap!K282&G282,'Savings from 6P'!$A$4:$L$4,0))","v":5.4099999999999999E-3},{"$f":"IF(P282<=0,0,VLOOKUP(F282&K282&H282,Costs!$A$13:$B$24,2,FALSE))","v":0.23992635556647376},{"$f":"VLOOKUP($R$9,[2]CHAR!$B$17:$T$54,MATCH(J282,[2]CHAR!$B$16:$T$16,0),FALSE)","v":0.12013270538231059},{"$f":"IFERROR(VLOOKUP($F282&$I282&$K282&$H282&$G282,'Savings from 6P'!$V$11:$X$435,3,FALSE),$AD282)","v":0.5},{"$f":"MATCH(J282,[2]!BLDGTYPE,0)","v":3},0.22131165109110185,0.51430081857580845,0.26438753033308959,0.97665874571205136,"POST2013",{"$f":"IFERROR(IF(G282=\"gasht\",INDEX('Savings from 6P'!$Z$11:$AF$28,MATCH(J282,'Savings from 6P'!$Z$11:$Z$28,0),MATCH(MMap!F282&MMap!H282&MMap!K282,'Savings from 6P'!$Y$7:$AE$7,0)),\"\"),\"\")","v":""},0.22131165109110185,15,null,1]
["Demand Control Ventilation-DCV Only-Small Off-ElecHt-Vent-Retro","Demand Control Ventilation","Demand Control Ventilation-Retro-Small Off-DCV Only","Demand Control Ventilation-Retro-Small Off","Demand Control Ventilation-Retro","DCV Only","ElecHt","Vent","Small Off","Small Off","Retro","PRE2013",0.13960413239897387,0.75525835627844862,33.494710708505288,{"$f":"INDEX('Savings from 6P'!$A$11:$L$92,MATCH(MMap!F283&MMap!J283&H283,'Savings from 6P'!$A$11:$A$92,0),MATCH(MMap!K283&G283,'Savings from 6P'!$A$4:$L$4,0))","v":5.4099999999999999E-3},{"$f":"IF(P283<=0,0,VLOOKUP(F283&K283&H283,Costs!$A$13:$B$24,2,FALSE))","v":0.23992635556647376},{"$f":"VLOOKUP($R$9,[2]CHAR!$B$17:$T$54,MATCH(J283,[2]CHAR!$B$16:$T$16,0),FALSE)","v":3.1538695729415013E-2},{"$f":"IFERROR(VLOOKUP($F283&$I283&$K283&$H283&$G283,'Savings from 6P'!$V$11:$X$435,3,FALSE),$AD283)","v":0.5},{"$f":"MATCH(J283,[2]!BLDGTYPE,0)","v":4},0.30640942705415353,0.3275419203320854,0.36604865261376096,0.91122609210258287,"POST2013",{"$f":"IFERROR(IF(G283=\"gasht\",INDEX('Savings from 6P'!$Z$11:$AF$28,MATCH(J283,'Savings from 6P'!$Z$11:$Z$28,0),MATCH(MMap!F283&MMap!H283&MMap!K283,'Savings from 6P'!$Y$7:$AE$7,0)),\"\"),\"\")","v":""},0.30640942705415353,15,null,1]
["Demand Control Ventilation-DCV Only-Xlarge Ret-ElecHt-Vent-Retro","Demand Control Ventilation","Demand Control Ventilation-Retro-Xlarge Ret-DCV Only","Demand Control Ventilation-Retro-Xlarge Ret","Demand Control Ventilation-Retro","DCV Only","ElecHt","Vent","Big Box","Xlarge Ret","Retro","PRE2013",7.8387669225113768E-3,0.27568943266472512,1.8807267798531777,{"$f":"INDEX('Savings from 6P'!$A$11:$L$92,MATCH(MMap!F284&MMap!J284&H284,'Savings from 6P'!$A$11:$A$92,0),MATCH(MMap!K284&G284,'Savings from 6P'!$A$4:$L$4,0))","v":3.517E-2},{"$f":"IF(P284<=0,0,VLOOKUP(F284&K284&H284,Costs!$A$13:$B$24,2,FALSE))","v":0.23992635556647376},{"$f":"VLOOKUP($R$9,[2]CHAR!$B$17:$T$54,MATCH(J284,[2]CHAR!$B$16:$T$16,0),FALSE)","v":2.6820893655991742E-2},{"$f":"IFERROR(VLOOKUP($F284&$I284&$K284&$H284&$G284,'Savings from 6P'!$V$11:$X$435,3,FALSE),$AD284)","v":0.15000000000000002},{"$f":"MATCH(J284,[2]!BLDGTYPE,0)","v":5},5.2995881766435368E-2,0.91606730000738101,3.0936818226183656E-2,0.98608503921852686,"POST2013",{"$f":"IFERROR(IF(G284=\"gasht\",INDEX('Savings from 6P'!$Z$11:$AF$28,MATCH(J284,'Savings from 6P'!$Z$11:$Z$28,0),MATCH(MMap!F284&MMap!H284&MMap!K284,'Savings from 6P'!$Y$7:$AE$7,0)),\"\"),\"\")","v":""},5.2995881766435368E-2,15,null,0.30000000000000004]
["Demand Control Ventilation-DCV Only-Large Ret-ElecHt-Vent-Retro","Demand Control Ventilation","Demand Control Ventilation-Retro-Large Ret-DCV Only","Demand Control Ventilation-Retro-Large Ret","Demand Control Ventilation-Retro","DCV Only","ElecHt","Vent","Small Box","Large Ret","Retro","PRE2013",1.6351841305905107E-3,5.750942587286826E-2,0.39232376913271416,{"$f":"INDEX('Savings from 6P'!$A$11:$L$92,MATCH(MMap!F285&MMap!J285&H285,'Savings from 6P'!$A$11:$A$92,0),MATCH(MMap!K285&G285,'Savings from 6P'!$A$4:$L$4,0))","v":3.517E-2},{"$f":"IF(P285<=0,0,VLOOKUP(F285&K285&H285,Costs!$A$13:$B$24,2,FALSE))","v":0.23992635556647376},{"$f":"VLOOKUP($R$9,[2]CHAR!$B$17:$T$54,MATCH(J285,[2]CHAR!$B$16:$T$16,0),FALSE)","v":1.0839638408159987E-2},{"$f":"IFERROR(VLOOKUP($F285&$I285&$K285&$H285&$G285,'Savings from 6P'!$V$11:$X$435,3,FALSE),$AD285)","v":0.2},{"$f":"MATCH(J285,[2]!BLDGTYPE,0)","v":6},1.0593107738682607E-2,0.98322307122393326,6.1838210373840949E-3,0.77181511362305244,"POST2013",{"$f":"IFERROR(IF(G285=\"gasht\",INDEX('Savings from 6P'!$Z$11:$AF$28,MATCH(J285,'Savings from 6P'!$Z$11:$Z$28,0),MATCH(MMap!F285&MMap!H285&MMap!K285,'Savings from 6P'!$Y$7:$AE$7,0)),\"\"),\"\")","v":""},1.0593107738682607E-2,15,null,0.4]
["Demand Control Ventilation-DCV Only-Medium Ret-ElecHt-Vent-Retro","Demand Control Ventilation","Demand Control Ventilation-Retro-Medium Ret-DCV Only","Demand Control Ventilation-Retro-Medium Ret","Demand Control Ventilation-Retro","DCV Only","ElecHt","Vent","High End","Medium Ret","Retro","PRE2013",3.8041339179120538E-2,0.62730168306369749,9.1271198701145035,{"$f":"INDEX('Savings from 6P'!$A$11:$L$92,MATCH(MMap!F286&MMap!J286&H286,'Savings from 6P'!$A$11:$A$92,0),MATCH(MMap!K286&G286,'Savings from 6P'!$A$4:$L$4,0))","v":1.6489999999999998E-2},{"$f":"IF(P286<=0,0,VLOOKUP(F286&K286&H286,Costs!$A$13:$B$24,2,FALSE))","v":0.23992635556647376},{"$f":"VLOOKUP($R$9,[2]CHAR!$B$17:$T$54,MATCH(J286,[2]CHAR!$B$16:$T$16,0),FALSE)","v":4.0894012773033235E-2},{"$f":"IFERROR(VLOOKUP($F286&$I286&$K286&$H286&$G286,'Savings from 6P'!$V$11:$X$435,3,FALSE),$AD286)","v":0.35},{"$f":"MATCH(J286,[2]!BLDGTYPE,0)","v":7},0.12006240959495594,0.80985008893074606,7.0087501474297986E-2,0.90527535536267667,"POST2013",{"$f":"IFERROR(IF(G286=\"gasht\",INDEX('Savings from 6P'!$Z$11:$AF$28,MATCH(J286,'Savings from 6P'!$Z$11:$Z$28,0),MATCH(MMap!F286&MMap!H286&MMap!K286,'Savings from 6P'!$Y$7:$AE$7,0)),\"\"),\"\")","v":""},0.12006240959495594,15,null,0.7]
["Demand Control Ventilation-DCV Only-Small Ret-ElecHt-Vent-Retro","Demand Control Ventilation","Demand Control Ventilation-Retro-Small Ret-DCV Only","Demand Control Ventilation-Retro-Small Ret","Demand Control Ventilation-Retro","DCV Only","ElecHt","Vent","Anchor","Small Ret","Retro","PRE2013",5.1334778537687573E-2,0.84651049808646794,12.316566328359416,{"$f":"INDEX('Savings from 6P'!$A$11:$L$92,MATCH(MMap!F287&MMap!J287&H287,'Savings from 6P'!$A$11:$A$92,0),MATCH(MMap!K287&G287,'Savings from 6P'!$A$4:$L$4,0))","v":1.6489999999999998E-2},{"$f":"IF(P287<=0,0,VLOOKUP(F287&K287&H287,Costs!$A$13:$B$24,2,FALSE))","v":0.23992635556647376},{"$f":"VLOOKUP($R$9,[2]CHAR!$B$17:$T$54,MATCH(J287,[2]CHAR!$B$16:$T$16,0),FALSE)","v":1.3016203517984767E-2},{"$f":"IFERROR(VLOOKUP($F287&$I287&$K287&$H287&$G287,'Savings from 6P'!$V$11:$X$435,3,FALSE),$AD287)","v":0.35},{"$f":"MATCH(J287,[2]!BLDGTYPE,0)","v":8},0.2732917310450087,0.56717178566142912,0.15953648329356207,0.53668215741883951,"POST2013",{"$f":"IFERROR(IF(G287=\"gasht\",INDEX('Savings from 6P'!$Z$11:$AF$28,MATCH(J287,'Savings from 6P'!$Z$11:$Z$28,0),MATCH(MMap!F287&MMap!H287&MMap!K287,'Savings from 6P'!$Y$7:$AE$7,0)),\"\"),\"\")","v":""},0.2732917310450087,15,null,0.7]
["Demand Control Ventilation-DCV Only-School K-12-ElecHt-Vent-Retro","Demand Control Ventilation","Demand Control Ventilation-Retro-School K-12-DCV Only","Demand Control Ventilation-Retro-School K-12","Demand Control Ventilation-Retro","DCV Only","ElecHt","Vent","K-12","School K-12","Retro","PRE2013",2.8054797645115828E-2,0,0,{"$f":"INDEX('Savings from 6P'!$A$11:$L$92,MATCH(MMap!F288&MMap!J288&H288,'Savings from 6P'!$A$11:$A$92,0),MATCH(MMap!K288&G288,'Savings from 6P'!$A$4:$L$4,0))","v":0},{"$f":"IF(P288<=0,0,VLOOKUP(F288&K288&H288,Costs!$A$13:$B$24,2,FALSE))","v":0},{"$f":"VLOOKUP($R$9,[2]CHAR!$B$17:$T$54,MATCH(J288,[2]CHAR!$B$16:$T$16,0),FALSE)","v":3.0886857559635036E-2},{"$f":"IFERROR(VLOOKUP($F288&$I288&$K288&$H288&$G288,'Savings from 6P'!$V$11:$X$435,3,FALSE),$AD288)","v":0.5},{"$f":"MATCH(J288,[2]!BLDGTYPE,0)","v":9},5.8369343906151915E-2,0.84777782221188291,9.3852833881965178E-2,0.96128535178408803,"POST2013",{"$f":"IFERROR(IF(G288=\"gasht\",INDEX('Savings from 6P'!$Z$11:$AF$28,MATCH(J288,'Savings from 6P'!$Z$11:$Z$28,0),MATCH(MMap!F288&MMap!H288&MMap!K288,'Savings from 6P'!$Y$7:$AE$7,0)),\"\"),\"\")","v":""},5.8369343906151915E-2,15,null,1]
["Demand Control Ventilation-DCV Only-University-ElecHt-Vent-Retro","Demand Control Ventilation","Demand Control Ventilation-Retro-University-DCV Only","Demand Control Ventilation-Retro-University","Demand Control Ventilation-Retro","DCV Only","ElecHt","Vent","University","University","Retro","PRE2013",3.7500000000000006E-2,0,0,{"$f":"INDEX('Savings from 6P'!$A$11:$L$92,MATCH(MMap!F289&MMap!J289&H289,'Savings from 6P'!$A$11:$A$92,0),MATCH(MMap!K289&G289,'Savings from 6P'!$A$4:$L$4,0))","v":0},{"$f":"IF(P289<=0,0,VLOOKUP(F289&K289&H289,Costs!$A$13:$B$24,2,FALSE))","v":0},{"$f":"VLOOKUP($R$9,[2]CHAR!$B$17:$T$54,MATCH(J289,[2]CHAR!$B$16:$T$16,0),FALSE)","v":2.2325826170102026E-2},{"$f":"IFERROR(VLOOKUP($F289&$I289&$K289&$H289&$G289,'Savings from 6P'!$V$11:$X$435,3,FALSE),$AD289)","v":0.5},{"$f":"MATCH(J289,[2]!BLDGTYPE,0)","v":10},0.1,0.8,0.1,0.75,"POST2013",{"$f":"IFERROR(IF(G289=\"gasht\",INDEX('Savings from 6P'!$Z$11:$AF$28,MATCH(J289,'Savings from 6P'!$Z$11:$Z$28,0),MATCH(MMap!F289&MMap!H289&MMap!K289,'Savings from 6P'!$Y$7:$AE$7,0)),\"\"),\"\")","v":""},0.1,15,null,1]
["Demand Control Ventilation-DCV Only-Warehouse-ElecHt-Vent-Retro","Demand Control Ventilation","Demand Control Ventilation-Retro-Warehouse-DCV Only","Demand Control Ventilation-Retro-Warehouse","Demand Control Ventilation-Retro","DCV Only","ElecHt","Vent","Warehouse","Warehouse","Retro","PRE2013",5.8054916685602181E-4,3.140770992691078E-3,0.13928904583091797,{"$f":"INDEX('Savings from 6P'!$A$11:$L$92,MATCH(MMap!F290&MMap!J290&H290,'Savings from 6P'!$A$11:$A$92,0),MATCH(MMap!K290&G290,'Savings from 6P'!$A$4:$L$4,0))","v":5.4099999999999999E-3},{"$f":"IF(P290<=0,0,VLOOKUP(F290&K290&H290,Costs!$A$13:$B$24,2,FALSE))","v":0.23992635556647376},{"$f":"VLOOKUP($R$9,[2]CHAR!$B$17:$T$54,MATCH(J290,[2]CHAR!$B$16:$T$16,0),FALSE)","v":0.10087192274660353},{"$f":"IFERROR(VLOOKUP($F290&$I290&$K290&$H290&$G290,'Savings from 6P'!$V$11:$X$435,3,FALSE),$AD290)","v":0.5},{"$f":"MATCH(J290,[2]!BLDGTYPE,0)","v":11},6.3929137015483993E-3,0.98700382329725422,6.6032630011973147E-3,0.18162271351024481,"POST2013",{"$f":"IFERROR(IF(G290=\"gasht\",INDEX('Savings from 6P'!$Z$11:$AF$28,MATCH(J290,'Savings from 6P'!$Z$11:$Z$28,0),MATCH(MMap!F290&MMap!H290&MMap!K290,'Savings from 6P'!$Y$7:$AE$7,0)),\"\"),\"\")","v":""},6.3929137015483993E-3,15,null,1]
["Demand Control Ventilation-DCV Only-Supermarket-ElecHt-Vent-Retro","Demand Control Ventilation","Demand Control Ventilation-Retro-Supermarket-DCV Only","Demand Control Ventilation-Retro-Supermarket","Demand Control Ventilation-Retro","DCV Only","ElecHt","Vent","Supermarket","Supermarket","Retro","PRE2013",5.4158988423628146E-3,2.9300012737182825E-2,1.2994168713647944,{"$f":"INDEX('Savings from 6P'!$A$11:$L$92,MATCH(MMap!F291&MMap!J291&H291,'Savings from 6P'!$A$11:$A$92,0),MATCH(MMap!K291&G291,'Savings from 6P'!$A$4:$L$4,0))","v":5.4099999999999999E-3},{"$f":"IF(P291<=0,0,VLOOKUP(F291&K291&H291,Costs!$A$13:$B$24,2,FALSE))","v":0.23992635556647376},{"$f":"VLOOKUP($R$9,[2]CHAR!$B$17:$T$54,MATCH(J291,[2]CHAR!$B$16:$T$16,0),FALSE)","v":6.1675003194375045E-3},{"$f":"IFERROR(VLOOKUP($F291&$I291&$K291&$H291&$G291,'Savings from 6P'!$V$11:$X$435,3,FALSE),$AD291)","v":0.15000000000000002},{"$f":"MATCH(J291,[2]!BLDGTYPE,0)","v":12},3.9182634298973458E-2,0.46957192737561176,6.234756715808213E-2,0.92147944946531313,"POST2013",{"$f":"IFERROR(IF(G291=\"gasht\",INDEX('Savings from 6P'!$Z$11:$AF$28,MATCH(J291,'Savings from 6P'!$Z$11:$Z$28,0),MATCH(MMap!F291&MMap!H291&MMap!K291,'Savings from 6P'!$Y$7:$AE$7,0)),\"\"),\"\")","v":""},3.9182634298973458E-2,15,null,1]
["Demand Control Ventilation-DCV Only-MiniMart-ElecHt-Vent-Retro","Demand Control Ventilation","Demand Control Ventilation-Retro-MiniMart-DCV Only","Demand Control Ventilation-Retro-MiniMart","Demand Control Ventilation-Retro","DCV Only","ElecHt","Vent","MIniMart","MiniMart","Retro","PRE2013",2.9043119369399394E-3,1.5712327578845074E-2,0.69682097845820612,{"$f":"INDEX('Savings from 6P'!$A$11:$L$92,MATCH(MMap!F292&MMap!J292&H292,'Savings from 6P'!$A$11:$A$92,0),MATCH(MMap!K292&G292,'Savings from 6P'!$A$4:$L$4,0))","v":5.4099999999999999E-3},{"$f":"IF(P292<=0,0,VLOOKUP(F292&K292&H292,Costs!$A$13:$B$24,2,FALSE))","v":0.23992635556647376},{"$f":"VLOOKUP($R$9,[2]CHAR!$B$17:$T$54,MATCH(J292,[2]CHAR!$B$16:$T$16,0),FALSE)","v":2.5477723102065148E-3},{"$f":"IFERROR(VLOOKUP($F292&$I292&$K292&$H292&$G292,'Savings from 6P'!$V$11:$X$435,3,FALSE),$AD292)","v":0.35},{"$f":"MATCH(J292,[2]!BLDGTYPE,0)","v":13},9.8940421863423066E-3,0.86606113087441317,1.5743440192688529E-2,0.83868998628257874,"POST2013",{"$f":"IFERROR(IF(G292=\"gasht\",INDEX('Savings from 6P'!$Z$11:$AF$28,MATCH(J292,'Savings from 6P'!$Z$11:$Z$28,0),MATCH(MMap!F292&MMap!H292&MMap!K292,'Savings from 6P'!$Y$7:$AE$7,0)),\"\"),\"\")","v":""},9.8940421863423066E-3,15,null,1]
["Demand Control Ventilation-DCV Only-Restaurant-ElecHt-Vent-Retro","Demand Control Ventilation","Demand Control Ventilation-Retro-Restaurant-DCV Only","Demand Control Ventilation-Retro-Restaurant","Demand Control Ventilation-Retro","DCV Only","ElecHt","Vent","Restaurant","Restaurant","Retro","PRE2013",1.0517694318013542E-2,0.36990730916453624,2.5234720666831976,{"$f":"INDEX('Savings from 6P'!$A$11:$L$92,MATCH(MMap!F293&MMap!J293&H293,'Savings from 6P'!$A$11:$A$92,0),MATCH(MMap!K293&G293,'Savings from 6P'!$A$4:$L$4,0))","v":3.517E-2},{"$f":"IF(P293<=0,0,VLOOKUP(F293&K293&H293,Costs!$A$13:$B$24,2,FALSE))","v":0.23992635556647376},{"$f":"VLOOKUP($R$9,[2]CHAR!$B$17:$T$54,MATCH(J293,[2]CHAR!$B$16:$T$16,0),FALSE)","v":1.1693580853842011E-2},{"$f":"IFERROR(VLOOKUP($F293&$I293&$K293&$H293&$G293,'Savings from 6P'!$V$11:$X$435,3,FALSE),$AD293)","v":0.35},{"$f":"MATCH(J293,[2]!BLDGTYPE,0)","v":14},3.0050555941853869E-2,0.79365284945968273,0.17629659459846331,0.99999997512427186,"POST2013",{"$f":"IFERROR(IF(G293=\"gasht\",INDEX('Savings from 6P'!$Z$11:$AF$28,MATCH(J293,'Savings from 6P'!$Z$11:$Z$28,0),MATCH(MMap!F293&MMap!H293&MMap!K293,'Savings from 6P'!$Y$7:$AE$7,0)),\"\"),\"\")","v":""},3.0050555941853869E-2,15,null,1]
["Demand Control Ventilation-DCV Only-Lodging-ElecHt-Vent-Retro","Demand Control Ventilation","Demand Control Ventilation-Retro-Lodging-DCV Only","Demand Control Ventilation-Retro-Lodging","Demand Control Ventilation-Retro","DCV Only","ElecHt","Vent","Lodging","Lodging","Retro","PRE2013",0.21097256132787681,1.1413615567838136,50.617877763921861,{"$f":"INDEX('Savings from 6P'!$A$11:$L$92,MATCH(MMap!F294&MMap!J294&H294,'Savings from 6P'!$A$11:$A$92,0),MATCH(MMap!K294&G294,'Savings from 6P'!$A$4:$L$4,0))","v":5.4099999999999999E-3},{"$f":"IF(P294<=0,0,VLOOKUP(F294&K294&H294,Costs!$A$13:$B$24,2,FALSE))","v":0.23992635556647376},{"$f":"VLOOKUP($R$9,[2]CHAR!$B$17:$T$54,MATCH(J294,[2]CHAR!$B$16:$T$16,0),FALSE)","v":2.3957473342185561E-2},{"$f":"IFERROR(VLOOKUP($F294&$I294&$K294&$H294&$G294,'Savings from 6P'!$V$11:$X$435,3,FALSE),$AD294)","v":0.5},{"$f":"MATCH(J294,[2]!BLDGTYPE,0)","v":15},0.44679184687802564,0.24941748529786834,0.30379066782410608,0.94438859080377269,"POST2013",{"$f":"IFERROR(IF(G294=\"gasht\",INDEX('Savings from 6P'!$Z$11:$AF$28,MATCH(J294,'Savings from 6P'!$Z$11:$Z$28,0),MATCH(MMap!F294&MMap!H294&MMap!K294,'Savings from 6P'!$Y$7:$AE$7,0)),\"\"),\"\")","v":""},0.44679184687802564,15,null,1]
["Demand Control Ventilation-DCV Only-Hospital-ElecHt-Vent-Retro","Demand Control Ventilation","Demand Control Ventilation-Retro-Hospital-DCV Only","Demand Control Ventilation-Retro-Hospital","Demand Control Ventilation-Retro","DCV Only","ElecHt","Vent","Hospital","Hospital","Retro","PRE2013",3.7999999999999999E-2,0.20557999999999998,9.1172015115260017,{"$f":"INDEX('Savings from 6P'!$A$11:$L$92,MATCH(MMap!F295&MMap!J295&H295,'Savings from 6P'!$A$11:$A$92,0),MATCH(MMap!K295&G295,'Savings from 6P'!$A$4:$L$4,0))","v":5.4099999999999999E-3},{"$f":"IF(P295<=0,0,VLOOKUP(F295&K295&H295,Costs!$A$13:$B$24,2,FALSE))","v":0.23992635556647376},{"$f":"VLOOKUP($R$9,[2]CHAR!$B$17:$T$54,MATCH(J295,[2]CHAR!$B$16:$T$16,0),FALSE)","v":4.4965056377242296E-2},{"$f":"IFERROR(VLOOKUP($F295&$I295&$K295&$H295&$G295,'Savings from 6P'!$V$11:$X$435,3,FALSE),$AD295)","v":0.5},{"$f":"MATCH(J295,[2]!BLDGTYPE,0)","v":16},0.08,0.91,0.01,0.95,"POST2013",{"$f":"IFERROR(IF(G295=\"gasht\",INDEX('Savings from 6P'!$Z$11:$AF$28,MATCH(J295,'Savings from 6P'!$Z$11:$Z$28,0),MATCH(MMap!F295&MMap!H295&MMap!K295,'Savings from 6P'!$Y$7:$AE$7,0)),\"\"),\"\")","v":""},0.08,15,null,1]
["Demand Control Ventilation-DCV Only-Residential Care-ElecHt-Vent-Retro","Demand Control Ventilation","Demand Control Ventilation-Retro-Residential Care-DCV Only","Demand Control Ventilation-Retro-Residential Care","Demand Control Ventilation-Retro","DCV Only","ElecHt","Vent","OtherHealth","Residential Care","Retro","PRE2013",0.14313730765099719,0.77437283439189486,34.342412570300901,{"$f":"INDEX('Savings from 6P'!$A$11:$L$92,MATCH(MMap!F296&MMap!J296&H296,'Savings from 6P'!$A$11:$A$92,0),MATCH(MMap!K296&G296,'Savings from 6P'!$A$4:$L$4,0))","v":5.4099999999999999E-3},{"$f":"IF(P296<=0,0,VLOOKUP(F296&K296&H296,Costs!$A$13:$B$24,2,FALSE))","v":0.23992635556647376},{"$f":"VLOOKUP($R$9,[2]CHAR!$B$17:$T$54,MATCH(J296,[2]CHAR!$B$16:$T$16,0),FALSE)","v":5.827742495837801E-2},{"$f":"IFERROR(VLOOKUP($F296&$I296&$K296&$H296&$G296,'Savings from 6P'!$V$11:$X$435,3,FALSE),$AD296)","v":0.5},{"$f":"MATCH(J296,[2]!BLDGTYPE,0)","v":17},0.33985691133471541,0.40556621261939335,0.25457687604589124,0.8423386600487599,"POST2013",{"$f":"IFERROR(IF(G296=\"gasht\",INDEX('Savings from 6P'!$Z$11:$AF$28,MATCH(J296,'Savings from 6P'!$Z$11:$Z$28,0),MATCH(MMap!F296&MMap!H296&MMap!K296,'Savings from 6P'!$Y$7:$AE$7,0)),\"\"),\"\")","v":""},0.33985691133471541,15,null,1]
["Demand Control Ventilation-DCV Only-Assembly-ElecHt-Vent-Retro","Demand Control Ventilation","Demand Control Ventilation-Retro-Assembly-DCV Only","Demand Control Ventilation-Retro-Assembly","Demand Control Ventilation-Retro","DCV Only","ElecHt","Vent","Assembly","Assembly","Retro","PRE2013",9.7014321388393526E-2,0.52484747871120896,23.276292568471867,{"$f":"INDEX('Savings from 6P'!$A$11:$L$92,MATCH(MMap!F297&MMap!J297&H297,'Savings from 6P'!$A$11:$A$92,0),MATCH(MMap!K297&G297,'Savings from 6P'!$A$4:$L$4,0))","v":5.4099999999999999E-3},{"$f":"IF(P297<=0,0,VLOOKUP(F297&K297&H297,Costs!$A$13:$B$24,2,FALSE))","v":0.23992635556647376},{"$f":"VLOOKUP($R$9,[2]CHAR!$B$17:$T$54,MATCH(J297,[2]CHAR!$B$16:$T$16,0),FALSE)","v":9.0984350406775827E-2},{"$f":"IFERROR(VLOOKUP($F297&$I297&$K297&$H297&$G297,'Savings from 6P'!$V$11:$X$435,3,FALSE),$AD297)","v":1},{"$f":"MATCH(J297,[2]!BLDGTYPE,0)","v":18},0.10640191237323121,0.77815390025512432,0.11544418737164447,0.91177234717447209,"POST2013",{"$f":"IFERROR(IF(G297=\"gasht\",INDEX('Savings from 6P'!$Z$11:$AF$28,MATCH(J297,'Savings from 6P'!$Z$11:$Z$28,0),MATCH(MMap!F297&MMap!H297&MMap!K297,'Savings from 6P'!$Y$7:$AE$7,0)),\"\"),\"\")","v":""},0.10640191237323121,15,null,1]
["Demand Control Ventilation-DCV Only-Other-ElecHt-Vent-Retro","Demand Control Ventilation","Demand Control Ventilation-Retro-Other-DCV Only","Demand Control Ventilation-Retro-Other","Demand Control Ventilation-Retro","DCV Only","ElecHt","Vent","Other","Other","Retro","PRE2013",7.4294802966229048E-2,0.4019348840472991,17.825281313216578,{"$f":"INDEX('Savings from 6P'!$A$11:$L$92,MATCH(MMap!F298&MMap!J298&H298,'Savings from 6P'!$A$11:$A$92,0),MATCH(MMap!K298&G298,'Savings from 6P'!$A$4:$L$4,0))","v":5.4099999999999999E-3},{"$f":"IF(P298<=0,0,VLOOKUP(F298&K298&H298,Costs!$A$13:$B$24,2,FALSE))","v":0.23992635556647376},{"$f":"VLOOKUP($R$9,[2]CHAR!$B$17:$T$54,MATCH(J298,[2]CHAR!$B$16:$T$16,0),FALSE)","v":0.21334717399999265},{"$f":"IFERROR(VLOOKUP($F298&$I298&$K298&$H298&$G298,'Savings from 6P'!$V$11:$X$435,3,FALSE),$AD298)","v":0.5},{"$f":"MATCH(J298,[2]!BLDGTYPE,0)","v":19},0.16939513747697868,0.7257160432726234,0.104888819250398,0.87717751610580841,"POST2013",{"$f":"IFERROR(IF(G298=\"gasht\",INDEX('Savings from 6P'!$Z$11:$AF$28,MATCH(J298,'Savings from 6P'!$Z$11:$Z$28,0),MATCH(MMap!F298&MMap!H298&MMap!K298,'Savings from 6P'!$Y$7:$AE$7,0)),\"\"),\"\")","v":""},0.16939513747697868,15,null,1]
["Demand Control Ventilation-DCV Only-Large Off-ElecHt-Heat-Retro","Demand Control Ventilation","Demand Control Ventilation-Retro-Large Off-DCV Only","Demand Control Ventilation-Retro-Large Off","Demand Control Ventilation-Retro","DCV Only","ElecHt","Heat","Large Off","Large Off","Retro","PRE2013",9.961534608681287E-2,62.226755891322888,0,{"$f":"INDEX('Savings from 6P'!$A$11:$L$92,MATCH(MMap!F299&MMap!J299&H299,'Savings from 6P'!$A$11:$A$92,0),MATCH(MMap!K299&G299,'Savings from 6P'!$A$4:$L$4,0))","v":0.62467037796659819},{"$f":"IF(P299<=0,0,VLOOKUP(F299&K299&H299,Costs!$A$13:$B$24,2,FALSE))","v":0},{"$f":"VLOOKUP($R$9,[2]CHAR!$B$17:$T$54,MATCH(J299,[2]CHAR!$B$16:$T$16,0),FALSE)","v":0.15073291148870363},{"$f":"IFERROR(VLOOKUP($F299&$I299&$K299&$H299&$G299,'Savings from 6P'!$V$11:$X$435,3,FALSE),$AD299)","v":0.5},{"$f":"MATCH(J299,[2]!BLDGTYPE,0)","v":2},0.20943280302167308,0.54037060186620078,0.25019659511212627,0.95128694884061893,"POST2013",{"$f":"IFERROR(IF(G299=\"gasht\",INDEX('Savings from 6P'!$Z$11:$AF$28,MATCH(J299,'Savings from 6P'!$Z$11:$Z$28,0),MATCH(MMap!F299&MMap!H299&MMap!K299,'Savings from 6P'!$Y$7:$AE$7,0)),\"\"),\"\")","v":""},0.20943280302167308,15,null,1]
["Demand Control Ventilation-DCV Only-Medium Off-ElecHt-Heat-Retro","Demand Control Ventilation","Demand Control Ventilation-Retro-Medium Off-DCV Only","Demand Control Ventilation-Retro-Medium Off","Demand Control Ventilation-Retro","DCV Only","ElecHt","Heat","Medium Off","Medium Off","Retro","PRE2013",0.10807297978304933,67.509989129053949,0,{"$f":"INDEX('Savings from 6P'!$A$11:$L$92,MATCH(MMap!F300&MMap!J300&H300,'Savings from 6P'!$A$11:$A$92,0),MATCH(MMap!K300&G300,'Savings from 6P'!$A$4:$L$4,0))","v":0.62467037796659819},{"$f":"IF(P300<=0,0,VLOOKUP(F300&K300&H300,Costs!$A$13:$B$24,2,FALSE))","v":0},{"$f":"VLOOKUP($R$9,[2]CHAR!$B$17:$T$54,MATCH(J300,[2]CHAR!$B$16:$T$16,0),FALSE)","v":0.12013270538231059},{"$f":"IFERROR(VLOOKUP($F300&$I300&$K300&$H300&$G300,'Savings from 6P'!$V$11:$X$435,3,FALSE),$AD300)","v":0.5},{"$f":"MATCH(J300,[2]!BLDGTYPE,0)","v":3},0.22131165109110185,0.51430081857580845,0.26438753033308959,0.97665874571205136,"POST2013",{"$f":"IFERROR(IF(G300=\"gasht\",INDEX('Savings from 6P'!$Z$11:$AF$28,MATCH(J300,'Savings from 6P'!$Z$11:$Z$28,0),MATCH(MMap!F300&MMap!H300&MMap!K300,'Savings from 6P'!$Y$7:$AE$7,0)),\"\"),\"\")","v":""},0.22131165109110185,15,null,1]
["Demand Control Ventilation-DCV Only-Small Off-ElecHt-Heat-Retro","Demand Control Ventilation","Demand Control Ventilation-Retro-Small Off-DCV Only","Demand Control Ventilation-Retro-Small Off","Demand Control Ventilation-Retro","DCV Only","ElecHt","Heat","Small Off","Small Off","Retro","PRE2013",0.13960413239897387,87.206566151366033,0,{"$f":"INDEX('Savings from 6P'!$A$11:$L$92,MATCH(MMap!F301&MMap!J301&H301,'Savings from 6P'!$A$11:$A$92,0),MATCH(MMap!K301&G301,'Savings from 6P'!$A$4:$L$4,0))","v":0.62467037796659819},{"$f":"IF(P301<=0,0,VLOOKUP(F301&K301&H301,Costs!$A$13:$B$24,2,FALSE))","v":0},{"$f":"VLOOKUP($R$9,[2]CHAR!$B$17:$T$54,MATCH(J301,[2]CHAR!$B$16:$T$16,0),FALSE)","v":3.1538695729415013E-2},{"$f":"IFERROR(VLOOKUP($F301&$I301&$K301&$H301&$G301,'Savings from 6P'!$V$11:$X$435,3,FALSE),$AD301)","v":0.5},{"$f":"MATCH(J301,[2]!BLDGTYPE,0)","v":4},0.30640942705415353,0.3275419203320854,0.36604865261376096,0.91122609210258287,"POST2013",{"$f":"IFERROR(IF(G301=\"gasht\",INDEX('Savings from 6P'!$Z$11:$AF$28,MATCH(J301,'Savings from 6P'!$Z$11:$Z$28,0),MATCH(MMap!F301&MMap!H301&MMap!K301,'Savings from 6P'!$Y$7:$AE$7,0)),\"\"),\"\")","v":""},0.30640942705415353,15,null,1]
["Demand Control Ventilation-DCV Only-Xlarge Ret-ElecHt-Heat-Retro","Demand Control Ventilation","Demand Control Ventilation-Retro-Xlarge Ret-DCV Only","Demand Control Ventilation-Retro-Xlarge Ret","Demand Control Ventilation-Retro","DCV Only","ElecHt","Heat","Big Box","Xlarge Ret","Retro","PRE2013",7.8387669225113768E-3,19.728979743443521,0,{"$f":"INDEX('Savings from 6P'!$A$11:$L$92,MATCH(MMap!F302&MMap!J302&H302,'Savings from 6P'!$A$11:$A$92,0),MATCH(MMap!K302&G302,'Savings from 6P'!$A$4:$L$4,0))","v":2.5168473483738647},{"$f":"IF(P302<=0,0,VLOOKUP(F302&K302&H302,Costs!$A$13:$B$24,2,FALSE))","v":0},{"$f":"VLOOKUP($R$9,[2]CHAR!$B$17:$T$54,MATCH(J302,[2]CHAR!$B$16:$T$16,0),FALSE)","v":2.6820893655991742E-2},{"$f":"IFERROR(VLOOKUP($F302&$I302&$K302&$H302&$G302,'Savings from 6P'!$V$11:$X$435,3,FALSE),$AD302)","v":0.15000000000000002},{"$f":"MATCH(J302,[2]!BLDGTYPE,0)","v":5},5.2995881766435368E-2,0.91606730000738101,3.0936818226183656E-2,0.98608503921852686,"POST2013",{"$f":"IFERROR(IF(G302=\"gasht\",INDEX('Savings from 6P'!$Z$11:$AF$28,MATCH(J302,'Savings from 6P'!$Z$11:$Z$28,0),MATCH(MMap!F302&MMap!H302&MMap!K302,'Savings from 6P'!$Y$7:$AE$7,0)),\"\"),\"\")","v":""},5.2995881766435368E-2,15,null,0.30000000000000004]
["Demand Control Ventilation-DCV Only-Large Ret-ElecHt-Heat-Retro","Demand Control Ventilation","Demand Control Ventilation-Retro-Large Ret-DCV Only","Demand Control Ventilation-Retro-Large Ret","Demand Control Ventilation-Retro","DCV Only","ElecHt","Heat","Small Box","Large Ret","Retro","PRE2013",1.6351841305905107E-3,4.1155088431797502,0,{"$f":"INDEX('Savings from 6P'!$A$11:$L$92,MATCH(MMap!F303&MMap!J303&H303,'Savings from 6P'!$A$11:$A$92,0),MATCH(MMap!K303&G303,'Savings from 6P'!$A$4:$L$4,0))","v":2.5168473483738647},{"$f":"IF(P303<=0,0,VLOOKUP(F303&K303&H303,Costs!$A$13:$B$24,2,FALSE))","v":0},{"$f":"VLOOKUP($R$9,[2]CHAR!$B$17:$T$54,MATCH(J303,[2]CHAR!$B$16:$T$16,0),FALSE)","v":1.0839638408159987E-2},{"$f":"IFERROR(VLOOKUP($F303&$I303&$K303&$H303&$G303,'Savings from 6P'!$V$11:$X$435,3,FALSE),$AD303)","v":0.2},{"$f":"MATCH(J303,[2]!BLDGTYPE,0)","v":6},1.0593107738682607E-2,0.98322307122393326,6.1838210373840949E-3,0.77181511362305244,"POST2013",{"$f":"IFERROR(IF(G303=\"gasht\",INDEX('Savings from 6P'!$Z$11:$AF$28,MATCH(J303,'Savings from 6P'!$Z$11:$Z$28,0),MATCH(MMap!F303&MMap!H303&MMap!K303,'Savings from 6P'!$Y$7:$AE$7,0)),\"\"),\"\")","v":""},1.0593107738682607E-2,15,null,0.4]
["Demand Control Ventilation-DCV Only-Medium Ret-ElecHt-Heat-Retro","Demand Control Ventilation","Demand Control Ventilation-Retro-Medium Ret-DCV Only","Demand Control Ventilation-Retro-Medium Ret","Demand Control Ventilation-Retro","DCV Only","ElecHt","Heat","High End","Medium Ret","Retro","PRE2013",3.8041339179120538E-2,58.661461500061939,0,{"$f":"INDEX('Savings from 6P'!$A$11:$L$92,MATCH(MMap!F304&MMap!J304&H304,'Savings from 6P'!$A$11:$A$92,0),MATCH(MMap!K304&G304,'Savings from 6P'!$A$4:$L$4,0))","v":1.5420451215939057},{"$f":"IF(P304<=0,0,VLOOKUP(F304&K304&H304,Costs!$A$13:$B$24,2,FALSE))","v":0},{"$f":"VLOOKUP($R$9,[2]CHAR!$B$17:$T$54,MATCH(J304,[2]CHAR!$B$16:$T$16,0),FALSE)","v":4.0894012773033235E-2},{"$f":"IFERROR(VLOOKUP($F304&$I304&$K304&$H304&$G304,'Savings from 6P'!$V$11:$X$435,3,FALSE),$AD304)","v":0.35},{"$f":"MATCH(J304,[2]!BLDGTYPE,0)","v":7},0.12006240959495594,0.80985008893074606,7.0087501474297986E-2,0.90527535536267667,"POST2013",{"$f":"IFERROR(IF(G304=\"gasht\",INDEX('Savings from 6P'!$Z$11:$AF$28,MATCH(J304,'Savings from 6P'!$Z$11:$Z$28,0),MATCH(MMap!F304&MMap!H304&MMap!K304,'Savings from 6P'!$Y$7:$AE$7,0)),\"\"),\"\")","v":""},0.12006240959495594,15,null,0.7]
["Demand Control Ventilation-DCV Only-Small Ret-ElecHt-Heat-Retro","Demand Control Ventilation","Demand Control Ventilation-Retro-Small Ret-DCV Only","Demand Control Ventilation-Retro-Small Ret","Demand Control Ventilation-Retro","DCV Only","ElecHt","Heat","Anchor","Small Ret","Retro","PRE2013",5.1334778537687573E-2,79.16054481214465,0,{"$f":"INDEX('Savings from 6P'!$A$11:$L$92,MATCH(MMap!F305&MMap!J305&H305,'Savings from 6P'!$A$11:$A$92,0),MATCH(MMap!K305&G305,'Savings from 6P'!$A$4:$L$4,0))","v":1.5420451215939057},{"$f":"IF(P305<=0,0,VLOOKUP(F305&K305&H305,Costs!$A$13:$B$24,2,FALSE))","v":0},{"$f":"VLOOKUP($R$9,[2]CHAR!$B$17:$T$54,MATCH(J305,[2]CHAR!$B$16:$T$16,0),FALSE)","v":1.3016203517984767E-2},{"$f":"IFERROR(VLOOKUP($F305&$I305&$K305&$H305&$G305,'Savings from 6P'!$V$11:$X$435,3,FALSE),$AD305)","v":0.35},{"$f":"MATCH(J305,[2]!BLDGTYPE,0)","v":8},0.2732917310450087,0.56717178566142912,0.15953648329356207,0.53668215741883951,"POST2013",{"$f":"IFERROR(IF(G305=\"gasht\",INDEX('Savings from 6P'!$Z$11:$AF$28,MATCH(J305,'Savings from 6P'!$Z$11:$Z$28,0),MATCH(MMap!F305&MMap!H305&MMap!K305,'Savings from 6P'!$Y$7:$AE$7,0)),\"\"),\"\")","v":""},0.2732917310450087,15,null,0.7]
["Demand Control Ventilation-DCV Only-School K-12-ElecHt-Heat-Retro","Demand Control Ventilation","Demand Control Ventilation-Retro-School K-12-DCV Only","Demand Control Ventilation-Retro-School K-12","Demand Control Ventilation-Retro","DCV Only","ElecHt","Heat","K-12","School K-12","Retro","PRE2013",2.8054797645115828E-2,0,0,{"$f":"INDEX('Savings from 6P'!$A$11:$L$92,MATCH(MMap!F306&MMap!J306&H306,'Savings from 6P'!$A$11:$A$92,0),MATCH(MMap!K306&G306,'Savings from 6P'!$A$4:$L$4,0))","v":0},{"$f":"IF(P306<=0,0,VLOOKUP(F306&K306&H306,Costs!$A$13:$B$24,2,FALSE))","v":0},{"$f":"VLOOKUP($R$9,[2]CHAR!$B$17:$T$54,MATCH(J306,[2]CHAR!$B$16:$T$16,0),FALSE)","v":3.0886857559635036E-2},{"$f":"IFERROR(VLOOKUP($F306&$I306&$K306&$H306&$G306,'Savings from 6P'!$V$11:$X$435,3,FALSE),$AD306)","v":0.5},{"$f":"MATCH(J306,[2]!BLDGTYPE,0)","v":9},5.8369343906151915E-2,0.84777782221188291,9.3852833881965178E-2,0.96128535178408803,"POST2013",{"$f":"IFERROR(IF(G306=\"gasht\",INDEX('Savings from 6P'!$Z$11:$AF$28,MATCH(J306,'Savings from 6P'!$Z$11:$Z$28,0),MATCH(MMap!F306&MMap!H306&MMap!K306,'Savings from 6P'!$Y$7:$AE$7,0)),\"\"),\"\")","v":""},5.8369343906151915E-2,15,null,1]
["Demand Control Ventilation-DCV Only-University-ElecHt-Heat-Retro","Demand Control Ventilation","Demand Control Ventilation-Retro-University-DCV Only","Demand Control Ventilation-Retro-University","Demand Control Ventilation-Retro","DCV Only","ElecHt","Heat","University","University","Retro","PRE2013",3.7500000000000006E-2,0,0,{"$f":"INDEX('Savings from 6P'!$A$11:$L$92,MATCH(MMap!F307&MMap!J307&H307,'Savings from 6P'!$A$11:$A$92,0),MATCH(MMap!K307&G307,'Savings from 6P'!$A$4:$L$4,0))","v":0},{"$f":"IF(P307<=0,0,VLOOKUP(F307&K307&H307,Costs!$A$13:$B$24,2,FALSE))","v":0},{"$f":"VLOOKUP($R$9,[2]CHAR!$B$17:$T$54,MATCH(J307,[2]CHAR!$B$16:$T$16,0),FALSE)","v":2.2325826170102026E-2},{"$f":"IFERROR(VLOOKUP($F307&$I307&$K307&$H307&$G307,'Savings from 6P'!$V$11:$X$435,3,FALSE),$AD307)","v":0.5},{"$f":"MATCH(J307,[2]!BLDGTYPE,0)","v":10},0.1,0.8,0.1,0.75,"POST2013",{"$f":"IFERROR(IF(G307=\"gasht\",INDEX('Savings from 6P'!$Z$11:$AF$28,MATCH(J307,'Savings from 6P'!$Z$11:$Z$28,0),MATCH(MMap!F307&MMap!H307&MMap!K307,'Savings from 6P'!$Y$7:$AE$7,0)),\"\"),\"\")","v":""},0.1,15,null,1]
["Demand Control Ventilation-DCV Only-Warehouse-ElecHt-Heat-Retro","Demand Control Ventilation","Demand Control Ventilation-Retro-Warehouse-DCV Only","Demand Control Ventilation-Retro-Warehouse","Demand Control Ventilation-Retro","DCV Only","ElecHt","Heat","Warehouse","Warehouse","Retro","PRE2013",5.8054916685602181E-4,0.36265186748814482,0,{"$f":"INDEX('Savings from 6P'!$A$11:$L$92,MATCH(MMap!F308&MMap!J308&H308,'Savings from 6P'!$A$11:$A$92,0),MATCH(MMap!K308&G308,'Savings from 6P'!$A$4:$L$4,0))","v":0.62467037796659819},{"$f":"IF(P308<=0,0,VLOOKUP(F308&K308&H308,Costs!$A$13:$B$24,2,FALSE))","v":0},{"$f":"VLOOKUP($R$9,[2]CHAR!$B$17:$T$54,MATCH(J308,[2]CHAR!$B$16:$T$16,0),FALSE)","v":0.10087192274660353},{"$f":"IFERROR(VLOOKUP($F308&$I308&$K308&$H308&$G308,'Savings from 6P'!$V$11:$X$435,3,FALSE),$AD308)","v":0.5},{"$f":"MATCH(J308,[2]!BLDGTYPE,0)","v":11},6.3929137015483993E-3,0.98700382329725422,6.6032630011973147E-3,0.18162271351024481,"POST2013",{"$f":"IFERROR(IF(G308=\"gasht\",INDEX('Savings from 6P'!$Z$11:$AF$28,MATCH(J308,'Savings from 6P'!$Z$11:$Z$28,0),MATCH(MMap!F308&MMap!H308&MMap!K308,'Savings from 6P'!$Y$7:$AE$7,0)),\"\"),\"\")","v":""},6.3929137015483993E-3,15,null,1]
["Demand Control Ventilation-DCV Only-Supermarket-ElecHt-Heat-Retro","Demand Control Ventilation","Demand Control Ventilation-Retro-Supermarket-DCV Only","Demand Control Ventilation-Retro-Supermarket","Demand Control Ventilation-Retro","DCV Only","ElecHt","Heat","Supermarket","Supermarket","Retro","PRE2013",5.4158988423628146E-3,13.630990640461935,0,{"$f":"INDEX('Savings from 6P'!$A$11:$L$92,MATCH(MMap!F309&MMap!J309&H309,'Savings from 6P'!$A$11:$A$92,0),MATCH(MMap!K309&G309,'Savings from 6P'!$A$4:$L$4,0))","v":2.5168473483738647},{"$f":"IF(P309<=0,0,VLOOKUP(F309&K309&H309,Costs!$A$13:$B$24,2,FALSE))","v":0},{"$f":"VLOOKUP($R$9,[2]CHAR!$B$17:$T$54,MATCH(J309,[2]CHAR!$B$16:$T$16,0),FALSE)","v":6.1675003194375045E-3},{"$f":"IFERROR(VLOOKUP($F309&$I309&$K309&$H309&$G309,'Savings from 6P'!$V$11:$X$435,3,FALSE),$AD309)","v":0.15000000000000002},{"$f":"MATCH(J309,[2]!BLDGTYPE,0)","v":12},3.9182634298973458E-2,0.46957192737561176,6.234756715808213E-2,0.92147944946531313,"POST2013",{"$f":"IFERROR(IF(G309=\"gasht\",INDEX('Savings from 6P'!$Z$11:$AF$28,MATCH(J309,'Savings from 6P'!$Z$11:$Z$28,0),MATCH(MMap!F309&MMap!H309&MMap!K309,'Savings from 6P'!$Y$7:$AE$7,0)),\"\"),\"\")","v":""},3.9182634298973458E-2,15,null,1]
["Demand Control Ventilation-DCV Only-MiniMart-ElecHt-Heat-Retro","Demand Control Ventilation","Demand Control Ventilation-Retro-MiniMart-DCV Only","Demand Control Ventilation-Retro-MiniMart","Demand Control Ventilation-Retro","DCV Only","ElecHt","Heat","MIniMart","MiniMart","Retro","PRE2013",2.9043119369399394E-3,7.3097097973378498,0,{"$f":"INDEX('Savings from 6P'!$A$11:$L$92,MATCH(MMap!F310&MMap!J310&H310,'Savings from 6P'!$A$11:$A$92,0),MATCH(MMap!K310&G310,'Savings from 6P'!$A$4:$L$4,0))","v":2.5168473483738647},{"$f":"IF(P310<=0,0,VLOOKUP(F310&K310&H310,Costs!$A$13:$B$24,2,FALSE))","v":0},{"$f":"VLOOKUP($R$9,[2]CHAR!$B$17:$T$54,MATCH(J310,[2]CHAR!$B$16:$T$16,0),FALSE)","v":2.5477723102065148E-3},{"$f":"IFERROR(VLOOKUP($F310&$I310&$K310&$H310&$G310,'Savings from 6P'!$V$11:$X$435,3,FALSE),$AD310)","v":0.35},{"$f":"MATCH(J310,[2]!BLDGTYPE,0)","v":13},9.8940421863423066E-3,0.86606113087441317,1.5743440192688529E-2,0.83868998628257874,"POST2013",{"$f":"IFERROR(IF(G310=\"gasht\",INDEX('Savings from 6P'!$Z$11:$AF$28,MATCH(J310,'Savings from 6P'!$Z$11:$Z$28,0),MATCH(MMap!F310&MMap!H310&MMap!K310,'Savings from 6P'!$Y$7:$AE$7,0)),\"\"),\"\")","v":""},9.8940421863423066E-3,15,null,1]
["Demand Control Ventilation-DCV Only-Restaurant-ElecHt-Heat-Retro","Demand Control Ventilation","Demand Control Ventilation-Retro-Restaurant-DCV Only","Demand Control Ventilation-Retro-Restaurant","Demand Control Ventilation-Retro","DCV Only","ElecHt","Heat","Restaurant","Restaurant","Retro","PRE2013",1.0517694318013542E-2,26.471431055299245,0,{"$f":"INDEX('Savings from 6P'!$A$11:$L$92,MATCH(MMap!F311&MMap!J311&H311,'Savings from 6P'!$A$11:$A$92,0),MATCH(MMap!K311&G311,'Savings from 6P'!$A$4:$L$4,0))","v":2.5168473483738647},{"$f":"IF(P311<=0,0,VLOOKUP(F311&K311&H311,Costs!$A$13:$B$24,2,FALSE))","v":0},{"$f":"VLOOKUP($R$9,[2]CHAR!$B$17:$T$54,MATCH(J311,[2]CHAR!$B$16:$T$16,0),FALSE)","v":1.1693580853842011E-2},{"$f":"IFERROR(VLOOKUP($F311&$I311&$K311&$H311&$G311,'Savings from 6P'!$V$11:$X$435,3,FALSE),$AD311)","v":0.35},{"$f":"MATCH(J311,[2]!BLDGTYPE,0)","v":14},3.0050555941853869E-2,0.79365284945968273,0.17629659459846331,0.99999997512427186,"POST2013",{"$f":"IFERROR(IF(G311=\"gasht\",INDEX('Savings from 6P'!$Z$11:$AF$28,MATCH(J311,'Savings from 6P'!$Z$11:$Z$28,0),MATCH(MMap!F311&MMap!H311&MMap!K311,'Savings from 6P'!$Y$7:$AE$7,0)),\"\"),\"\")","v":""},3.0050555941853869E-2,15,null,1]
["Demand Control Ventilation-DCV Only-Lodging-ElecHt-Heat-Retro","Demand Control Ventilation","Demand Control Ventilation-Retro-Lodging-DCV Only","Demand Control Ventilation-Retro-Lodging","Demand Control Ventilation-Retro","DCV Only","ElecHt","Heat","Lodging","Lodging","Retro","PRE2013",0.21097256132787681,131.78830962526612,0,{"$f":"INDEX('Savings from 6P'!$A$11:$L$92,MATCH(MMap!F312&MMap!J312&H312,'Savings from 6P'!$A$11:$A$92,0),MATCH(MMap!K312&G312,'Savings from 6P'!$A$4:$L$4,0))","v":0.62467037796659819},{"$f":"IF(P312<=0,0,VLOOKUP(F312&K312&H312,Costs!$A$13:$B$24,2,FALSE))","v":0},{"$f":"VLOOKUP($R$9,[2]CHAR!$B$17:$T$54,MATCH(J312,[2]CHAR!$B$16:$T$16,0),FALSE)","v":2.3957473342185561E-2},{"$f":"IFERROR(VLOOKUP($F312&$I312&$K312&$H312&$G312,'Savings from 6P'!$V$11:$X$435,3,FALSE),$AD312)","v":0.5},{"$f":"MATCH(J312,[2]!BLDGTYPE,0)","v":15},0.44679184687802564,0.24941748529786834,0.30379066782410608,0.94438859080377269,"POST2013",{"$f":"IFERROR(IF(G312=\"gasht\",INDEX('Savings from 6P'!$Z$11:$AF$28,MATCH(J312,'Savings from 6P'!$Z$11:$Z$28,0),MATCH(MMap!F312&MMap!H312&MMap!K312,'Savings from 6P'!$Y$7:$AE$7,0)),\"\"),\"\")","v":""},0.44679184687802564,15,null,1]
["Demand Control Ventilation-DCV Only-Hospital-ElecHt-Heat-Retro","Demand Control Ventilation","Demand Control Ventilation-Retro-Hospital-DCV Only","Demand Control Ventilation-Retro-Hospital","Demand Control Ventilation-Retro","DCV Only","ElecHt","Heat","Hospital","Hospital","Retro","PRE2013",3.7999999999999999E-2,23.737474362730733,0,{"$f":"INDEX('Savings from 6P'!$A$11:$L$92,MATCH(MMap!F313&MMap!J313&H313,'Savings from 6P'!$A$11:$A$92,0),MATCH(MMap!K313&G313,'Savings from 6P'!$A$4:$L$4,0))","v":0.62467037796659819},{"$f":"IF(P313<=0,0,VLOOKUP(F313&K313&H313,Costs!$A$13:$B$24,2,FALSE))","v":0},{"$f":"VLOOKUP($R$9,[2]CHAR!$B$17:$T$54,MATCH(J313,[2]CHAR!$B$16:$T$16,0),FALSE)","v":4.4965056377242296E-2},{"$f":"IFERROR(VLOOKUP($F313&$I313&$K313&$H313&$G313,'Savings from 6P'!$V$11:$X$435,3,FALSE),$AD313)","v":0.5},{"$f":"MATCH(J313,[2]!BLDGTYPE,0)","v":16},0.08,0.91,0.01,0.95,"POST2013",{"$f":"IFERROR(IF(G313=\"gasht\",INDEX('Savings from 6P'!$Z$11:$AF$28,MATCH(J313,'Savings from 6P'!$Z$11:$Z$28,0),MATCH(MMap!F313&MMap!H313&MMap!K313,'Savings from 6P'!$Y$7:$AE$7,0)),\"\"),\"\")","v":""},0.08,15,null,1]
["Demand Control Ventilation-DCV Only-Residential Care-ElecHt-Heat-Retro","Demand Control Ventilation","Demand Control Ventilation-Retro-Residential Care-DCV Only","Demand Control Ventilation-Retro-Residential Care","Demand Control Ventilation-Retro","DCV Only","ElecHt","Heat","OtherHealth","Residential Care","Retro","PRE2013",0.14313730765099719,89.413636071469668,0,{"$f":"INDEX('Savings from 6P'!$A$11:$L$92,MATCH(MMap!F314&MMap!J314&H314,'Savings from 6P'!$A$11:$A$92,0),MATCH(MMap!K314&G314,'Savings from 6P'!$A$4:$L$4,0))","v":0.62467037796659819},{"$f":"IF(P314<=0,0,VLOOKUP(F314&K314&H314,Costs!$A$13:$B$24,2,FALSE))","v":0},{"$f":"VLOOKUP($R$9,[2]CHAR!$B$17:$T$54,MATCH(J314,[2]CHAR!$B$16:$T$16,0),FALSE)","v":5.827742495837801E-2},{"$f":"IFERROR(VLOOKUP($F314&$I314&$K314&$H314&$G314,'Savings from 6P'!$V$11:$X$435,3,FALSE),$AD314)","v":0.5},{"$f":"MATCH(J314,[2]!BLDGTYPE,0)","v":17},0.33985691133471541,0.40556621261939335,0.25457687604589124,0.8423386600487599,"POST2013",{"$f":"IFERROR(IF(G314=\"gasht\",INDEX('Savings from 6P'!$Z$11:$AF$28,MATCH(J314,'Savings from 6P'!$Z$11:$Z$28,0),MATCH(MMap!F314&MMap!H314&MMap!K314,'Savings from 6P'!$Y$7:$AE$7,0)),\"\"),\"\")","v":""},0.33985691133471541,15,null,1]
["Demand Control Ventilation-DCV Only-Assembly-ElecHt-Heat-Retro","Demand Control Ventilation","Demand Control Ventilation-Retro-Assembly-DCV Only","Demand Control Ventilation-Retro-Assembly","Demand Control Ventilation-Retro","DCV Only","ElecHt","Heat","Assembly","Assembly","Retro","PRE2013",9.7014321388393526E-2,60.601972809860811,0,{"$f":"INDEX('Savings from 6P'!$A$11:$L$92,MATCH(MMap!F315&MMap!J315&H315,'Savings from 6P'!$A$11:$A$92,0),MATCH(MMap!K315&G315,'Savings from 6P'!$A$4:$L$4,0))","v":0.62467037796659819},{"$f":"IF(P315<=0,0,VLOOKUP(F315&K315&H315,Costs!$A$13:$B$24,2,FALSE))","v":0},{"$f":"VLOOKUP($R$9,[2]CHAR!$B$17:$T$54,MATCH(J315,[2]CHAR!$B$16:$T$16,0),FALSE)","v":9.0984350406775827E-2},{"$f":"IFERROR(VLOOKUP($F315&$I315&$K315&$H315&$G315,'Savings from 6P'!$V$11:$X$435,3,FALSE),$AD315)","v":1},{"$f":"MATCH(J315,[2]!BLDGTYPE,0)","v":18},0.10640191237323121,0.77815390025512432,0.11544418737164447,0.91177234717447209,"POST2013",{"$f":"IFERROR(IF(G315=\"gasht\",INDEX('Savings from 6P'!$Z$11:$AF$28,MATCH(J315,'Savings from 6P'!$Z$11:$Z$28,0),MATCH(MMap!F315&MMap!H315&MMap!K315,'Savings from 6P'!$Y$7:$AE$7,0)),\"\"),\"\")","v":""},0.10640191237323121,15,null,1]
["Demand Control Ventilation-DCV Only-Other-ElecHt-Heat-Retro","Demand Control Ventilation","Demand Control Ventilation-Retro-Other-DCV Only","Demand Control Ventilation-Retro-Other","Demand Control Ventilation-Retro","DCV Only","ElecHt","Heat","Other","Other","Retro","PRE2013",7.4294802966229048E-2,46.409762649868242,0,{"$f":"INDEX('Savings from 6P'!$A$11:$L$92,MATCH(MMap!F316&MMap!J316&H316,'Savings from 6P'!$A$11:$A$92,0),MATCH(MMap!K316&G316,'Savings from 6P'!$A$4:$L$4,0))","v":0.62467037796659819},{"$f":"IF(P316<=0,0,VLOOKUP(F316&K316&H316,Costs!$A$13:$B$24,2,FALSE))","v":0},{"$f":"VLOOKUP($R$9,[2]CHAR!$B$17:$T$54,MATCH(J316,[2]CHAR!$B$16:$T$16,0),FALSE)","v":0.21334717399999265},{"$f":"IFERROR(VLOOKUP($F316&$I316&$K316&$H316&$G316,'Savings from 6P'!$V$11:$X$435,3,FALSE),$AD316)","v":0.5},{"$f":"MATCH(J316,[2]!BLDGTYPE,0)","v":19},0.16939513747697868,0.7257160432726234,0.104888819250398,0.87717751610580841,"POST2013",{"$f":"IFERROR(IF(G316=\"gasht\",INDEX('Savings from 6P'!$Z$11:$AF$28,MATCH(J316,'Savings from 6P'!$Z$11:$Z$28,0),MATCH(MMap!F316&MMap!H316&MMap!K316,'Savings from 6P'!$Y$7:$AE$7,0)),\"\"),\"\")","v":""},0.16939513747697868,15,null,1]
["Demand Control Ventilation-DCV Only-Large Off-GasHt-Vent-Retro","Demand Control Ventilation","Demand Control Ventilation-Retro-Large Off-DCV Only","Demand Control Ventilation-Retro-Large Off","Demand Control Ventilation-Retro","DCV Only","GasHt","Vent","Large Off","Large Off","Retro","PRE2013",0.2570237505462335,1.3904984904551232,61.666771762584276,{"$f":"INDEX('Savings from 6P'!$A$11:$L$92,MATCH(MMap!F317&MMap!J317&H317,'Savings from 6P'!$A$11:$A$92,0),MATCH(MMap!K317&G317,'Savings from 6P'!$A$4:$L$4,0))","v":5.4099999999999999E-3},{"$f":"IF(P317<=0,0,VLOOKUP(F317&K317&H317,Costs!$A$13:$B$24,2,FALSE))","v":0.23992635556647376},{"$f":"VLOOKUP($R$9,[2]CHAR!$B$17:$T$54,MATCH(J317,[2]CHAR!$B$16:$T$16,0),FALSE)","v":0.15073291148870363},{"$f":"IFERROR(VLOOKUP($F317&$I317&$K317&$H317&$G317,'Savings from 6P'!$V$11:$X$435,3,FALSE),$AD317)","v":0.5},{"$f":"MATCH(J317,[2]!BLDGTYPE,0)","v":2},0.20943280302167308,0.54037060186620078,0.25019659511212627,0.95128694884061893,"POST2013",{"$f":"IFERROR(IF(G317=\"gasht\",INDEX('Savings from 6P'!$Z$11:$AF$28,MATCH(J317,'Savings from 6P'!$Z$11:$Z$28,0),MATCH(MMap!F317&MMap!H317&MMap!K317,'Savings from 6P'!$Y$7:$AE$7,0)),\"\"),\"\")","v":2.1319999999999995E-2},0.54037060186620078,15,null,1]
["Demand Control Ventilation-DCV Only-Medium Off-GasHt-Vent-Retro","Demand Control Ventilation","Demand Control Ventilation-Retro-Medium Off-DCV Only","Demand Control Ventilation-Retro-Medium Off","Demand Control Ventilation-Retro","DCV Only","GasHt","Vent","Medium Off","Medium Off","Retro","PRE2013",0.25114819619446516,1.3587117414120564,60.257071420031764,{"$f":"INDEX('Savings from 6P'!$A$11:$L$92,MATCH(MMap!F318&MMap!J318&H318,'Savings from 6P'!$A$11:$A$92,0),MATCH(MMap!K318&G318,'Savings from 6P'!$A$4:$L$4,0))","v":5.4099999999999999E-3},{"$f":"IF(P318<=0,0,VLOOKUP(F318&K318&H318,Costs!$A$13:$B$24,2,FALSE))","v":0.23992635556647376},{"$f":"VLOOKUP($R$9,[2]CHAR!$B$17:$T$54,MATCH(J318,[2]CHAR!$B$16:$T$16,0),FALSE)","v":0.12013270538231059},{"$f":"IFERROR(VLOOKUP($F318&$I318&$K318&$H318&$G318,'Savings from 6P'!$V$11:$X$435,3,FALSE),$AD318)","v":0.5},{"$f":"MATCH(J318,[2]!BLDGTYPE,0)","v":3},0.22131165109110185,0.51430081857580845,0.26438753033308959,0.97665874571205136,"POST2013",{"$f":"IFERROR(IF(G318=\"gasht\",INDEX('Savings from 6P'!$Z$11:$AF$28,MATCH(J318,'Savings from 6P'!$Z$11:$Z$28,0),MATCH(MMap!F318&MMap!H318&MMap!K318,'Savings from 6P'!$Y$7:$AE$7,0)),\"\"),\"\")","v":2.1319999999999995E-2},0.51430081857580845,15,null,1]
["Demand Control Ventilation-DCV Only-Small Off-GasHt-Vent-Retro","Demand Control Ventilation","Demand Control Ventilation-Retro-Small Off-DCV Only","Demand Control Ventilation-Retro-Small Off","Demand Control Ventilation-Retro","DCV Only","GasHt","Vent","Small Off","Small Off","Retro","PRE2013",0.14923237203199086,0.80734713269307057,35.804779154175733,{"$f":"INDEX('Savings from 6P'!$A$11:$L$92,MATCH(MMap!F319&MMap!J319&H319,'Savings from 6P'!$A$11:$A$92,0),MATCH(MMap!K319&G319,'Savings from 6P'!$A$4:$L$4,0))","v":5.4099999999999999E-3},{"$f":"IF(P319<=0,0,VLOOKUP(F319&K319&H319,Costs!$A$13:$B$24,2,FALSE))","v":0.23992635556647376},{"$f":"VLOOKUP($R$9,[2]CHAR!$B$17:$T$54,MATCH(J319,[2]CHAR!$B$16:$T$16,0),FALSE)","v":3.1538695729415013E-2},{"$f":"IFERROR(VLOOKUP($F319&$I319&$K319&$H319&$G319,'Savings from 6P'!$V$11:$X$435,3,FALSE),$AD319)","v":0.5},{"$f":"MATCH(J319,[2]!BLDGTYPE,0)","v":4},0.30640942705415353,0.3275419203320854,0.36604865261376096,0.91122609210258287,"POST2013",{"$f":"IFERROR(IF(G319=\"gasht\",INDEX('Savings from 6P'!$Z$11:$AF$28,MATCH(J319,'Savings from 6P'!$Z$11:$Z$28,0),MATCH(MMap!F319&MMap!H319&MMap!K319,'Savings from 6P'!$Y$7:$AE$7,0)),\"\"),\"\")","v":2.1319999999999995E-2},0.3275419203320854,15,null,1]
["Demand Control Ventilation-DCV Only-Xlarge Ret-GasHt-Vent-Retro","Demand Control Ventilation","Demand Control Ventilation-Retro-Xlarge Ret-DCV Only","Demand Control Ventilation-Retro-Xlarge Ret","Demand Control Ventilation-Retro","DCV Only","GasHt","Vent","Big Box","Xlarge Ret","Retro","PRE2013",0.13549803891818826,4.7654660287526811,32.509550664045136,{"$f":"INDEX('Savings from 6P'!$A$11:$L$92,MATCH(MMap!F320&MMap!J320&H320,'Savings from 6P'!$A$11:$A$92,0),MATCH(MMap!K320&G320,'Savings from 6P'!$A$4:$L$4,0))","v":3.517E-2},{"$f":"IF(P320<=0,0,VLOOKUP(F320&K320&H320,Costs!$A$13:$B$24,2,FALSE))","v":0.23992635556647376},{"$f":"VLOOKUP($R$9,[2]CHAR!$B$17:$T$54,MATCH(J320,[2]CHAR!$B$16:$T$16,0),FALSE)","v":2.6820893655991742E-2},{"$f":"IFERROR(VLOOKUP($F320&$I320&$K320&$H320&$G320,'Savings from 6P'!$V$11:$X$435,3,FALSE),$AD320)","v":0.15000000000000002},{"$f":"MATCH(J320,[2]!BLDGTYPE,0)","v":5},5.2995881766435368E-2,0.91606730000738101,3.0936818226183656E-2,0.98608503921852686,"POST2013",{"$f":"IFERROR(IF(G320=\"gasht\",INDEX('Savings from 6P'!$Z$11:$AF$28,MATCH(J320,'Savings from 6P'!$Z$11:$Z$28,0),MATCH(MMap!F320&MMap!H320&MMap!K320,'Savings from 6P'!$Y$7:$AE$7,0)),\"\"),\"\")","v":8.5900000000000004E-2},0.91606730000738101,15,null,0.30000000000000004]
["Demand Control Ventilation-DCV Only-Large Ret-GasHt-Vent-Retro","Demand Control Ventilation","Demand Control Ventilation-Retro-Large Ret-DCV Only","Demand Control Ventilation-Retro-Large Ret","Demand Control Ventilation-Retro","DCV Only","GasHt","Vent","Small Box","Large Ret","Retro","PRE2013",0.15177328528670134,5.3378664435332857,36.414411211188963,{"$f":"INDEX('Savings from 6P'!$A$11:$L$92,MATCH(MMap!F321&MMap!J321&H321,'Savings from 6P'!$A$11:$A$92,0),MATCH(MMap!K321&G321,'Savings from 6P'!$A$4:$L$4,0))","v":3.517E-2},{"$f":"IF(P321<=0,0,VLOOKUP(F321&K321&H321,Costs!$A$13:$B$24,2,FALSE))","v":0.23992635556647376},{"$f":"VLOOKUP($R$9,[2]CHAR!$B$17:$T$54,MATCH(J321,[2]CHAR!$B$16:$T$16,0),FALSE)","v":1.0839638408159987E-2},{"$f":"IFERROR(VLOOKUP($F321&$I321&$K321&$H321&$G321,'Savings from 6P'!$V$11:$X$435,3,FALSE),$AD321)","v":0.2},{"$f":"MATCH(J321,[2]!BLDGTYPE,0)","v":6},1.0593107738682607E-2,0.98322307122393326,6.1838210373840949E-3,0.77181511362305244,"POST2013",{"$f":"IFERROR(IF(G321=\"gasht\",INDEX('Savings from 6P'!$Z$11:$AF$28,MATCH(J321,'Savings from 6P'!$Z$11:$Z$28,0),MATCH(MMap!F321&MMap!H321&MMap!K321,'Savings from 6P'!$Y$7:$AE$7,0)),\"\"),\"\")","v":8.5900000000000004E-2},0.98322307122393326,15,null,0.4]
["Demand Control Ventilation-DCV Only-Medium Ret-GasHt-Vent-Retro","Demand Control Ventilation","Demand Control Ventilation-Retro-Medium Ret-DCV Only","Demand Control Ventilation-Retro-Medium Ret","Demand Control Ventilation-Retro","DCV Only","GasHt","Vent","High End","Medium Ret","Retro","PRE2013",0.2565980644665467,4.2313020830533539,61.564638452869644,{"$f":"INDEX('Savings from 6P'!$A$11:$L$92,MATCH(MMap!F322&MMap!J322&H322,'Savings from 6P'!$A$11:$A$92,0),MATCH(MMap!K322&G322,'Savings from 6P'!$A$4:$L$4,0))","v":1.6489999999999998E-2},{"$f":"IF(P322<=0,0,VLOOKUP(F322&K322&H322,Costs!$A$13:$B$24,2,FALSE))","v":0.23992635556647376},{"$f":"VLOOKUP($R$9,[2]CHAR!$B$17:$T$54,MATCH(J322,[2]CHAR!$B$16:$T$16,0),FALSE)","v":4.0894012773033235E-2},{"$f":"IFERROR(VLOOKUP($F322&$I322&$K322&$H322&$G322,'Savings from 6P'!$V$11:$X$435,3,FALSE),$AD322)","v":0.35},{"$f":"MATCH(J322,[2]!BLDGTYPE,0)","v":7},0.12006240959495594,0.80985008893074606,7.0087501474297986E-2,0.90527535536267667,"POST2013",{"$f":"IFERROR(IF(G322=\"gasht\",INDEX('Savings from 6P'!$Z$11:$AF$28,MATCH(J322,'Savings from 6P'!$Z$11:$Z$28,0),MATCH(MMap!F322&MMap!H322&MMap!K322,'Savings from 6P'!$Y$7:$AE$7,0)),\"\"),\"\")","v":5.2629999999999996E-2},0.80985008893074606,15,null,0.7]
["Demand Control Ventilation-DCV Only-Small Ret-GasHt-Vent-Retro","Demand Control Ventilation","Demand Control Ventilation-Retro-Small Ret-DCV Only","Demand Control Ventilation-Retro-Small Ret","Demand Control Ventilation-Retro","DCV Only","GasHt","Vent","Anchor","Small Ret","Retro","PRE2013",0.10653684214455499,1.7567925269637115,25.560996269303786,{"$f":"INDEX('Savings from 6P'!$A$11:$L$92,MATCH(MMap!F323&MMap!J323&H323,'Savings from 6P'!$A$11:$A$92,0),MATCH(MMap!K323&G323,'Savings from 6P'!$A$4:$L$4,0))","v":1.6489999999999998E-2},{"$f":"IF(P323<=0,0,VLOOKUP(F323&K323&H323,Costs!$A$13:$B$24,2,FALSE))","v":0.23992635556647376},{"$f":"VLOOKUP($R$9,[2]CHAR!$B$17:$T$54,MATCH(J323,[2]CHAR!$B$16:$T$16,0),FALSE)","v":1.3016203517984767E-2},{"$f":"IFERROR(VLOOKUP($F323&$I323&$K323&$H323&$G323,'Savings from 6P'!$V$11:$X$435,3,FALSE),$AD323)","v":0.35},{"$f":"MATCH(J323,[2]!BLDGTYPE,0)","v":8},0.2732917310450087,0.56717178566142912,0.15953648329356207,0.53668215741883951,"POST2013",{"$f":"IFERROR(IF(G323=\"gasht\",INDEX('Savings from 6P'!$Z$11:$AF$28,MATCH(J323,'Savings from 6P'!$Z$11:$Z$28,0),MATCH(MMap!F323&MMap!H323&MMap!K323,'Savings from 6P'!$Y$7:$AE$7,0)),\"\"),\"\")","v":5.2629999999999996E-2},0.56717178566142912,15,null,0.7]
["Demand Control Ventilation-DCV Only-School K-12-GasHt-Vent-Retro","Demand Control Ventilation","Demand Control Ventilation-Retro-School K-12-DCV Only","Demand Control Ventilation-Retro-School K-12","Demand Control Ventilation-Retro","DCV Only","GasHt","Vent","K-12","School K-12","Retro","PRE2013",0.40747820102984894,0,0,{"$f":"INDEX('Savings from 6P'!$A$11:$L$92,MATCH(MMap!F324&MMap!J324&H324,'Savings from 6P'!$A$11:$A$92,0),MATCH(MMap!K324&G324,'Savings from 6P'!$A$4:$L$4,0))","v":0},{"$f":"IF(P324<=0,0,VLOOKUP(F324&K324&H324,Costs!$A$13:$B$24,2,FALSE))","v":0},{"$f":"VLOOKUP($R$9,[2]CHAR!$B$17:$T$54,MATCH(J324,[2]CHAR!$B$16:$T$16,0),FALSE)","v":3.0886857559635036E-2},{"$f":"IFERROR(VLOOKUP($F324&$I324&$K324&$H324&$G324,'Savings from 6P'!$V$11:$X$435,3,FALSE),$AD324)","v":0.5},{"$f":"MATCH(J324,[2]!BLDGTYPE,0)","v":9},5.8369343906151915E-2,0.84777782221188291,9.3852833881965178E-2,0.96128535178408803,"POST2013",{"$f":"IFERROR(IF(G324=\"gasht\",INDEX('Savings from 6P'!$Z$11:$AF$28,MATCH(J324,'Savings from 6P'!$Z$11:$Z$28,0),MATCH(MMap!F324&MMap!H324&MMap!K324,'Savings from 6P'!$Y$7:$AE$7,0)),\"\"),\"\")","v":0},0.84777782221188291,15,null,1]
["Demand Control Ventilation-DCV Only-University-GasHt-Vent-Retro","Demand Control Ventilation","Demand Control Ventilation-Retro-University-DCV Only","Demand Control Ventilation-Retro-University","Demand Control Ventilation-Retro","DCV Only","GasHt","Vent","University","University","Retro","PRE2013",0.30000000000000004,0,0,{"$f":"INDEX('Savings from 6P'!$A$11:$L$92,MATCH(MMap!F325&MMap!J325&H325,'Savings from 6P'!$A$11:$A$92,0),MATCH(MMap!K325&G325,'Savings from 6P'!$A$4:$L$4,0))","v":0},{"$f":"IF(P325<=0,0,VLOOKUP(F325&K325&H325,Costs!$A$13:$B$24,2,FALSE))","v":0},{"$f":"VLOOKUP($R$9,[2]CHAR!$B$17:$T$54,MATCH(J325,[2]CHAR!$B$16:$T$16,0),FALSE)","v":2.2325826170102026E-2},{"$f":"IFERROR(VLOOKUP($F325&$I325&$K325&$H325&$G325,'Savings from 6P'!$V$11:$X$435,3,FALSE),$AD325)","v":0.5},{"$f":"MATCH(J325,[2]!BLDGTYPE,0)","v":10},0.1,0.8,0.1,0.75,"POST2013",{"$f":"IFERROR(IF(G325=\"gasht\",INDEX('Savings from 6P'!$Z$11:$AF$28,MATCH(J325,'Savings from 6P'!$Z$11:$Z$28,0),MATCH(MMap!F325&MMap!H325&MMap!K325,'Savings from 6P'!$Y$7:$AE$7,0)),\"\"),\"\")","v":0},0.8,15,null,1]
["Demand Control Ventilation-DCV Only-Warehouse-GasHt-Vent-Retro","Demand Control Ventilation","Demand Control Ventilation-Retro-Warehouse-DCV Only","Demand Control Ventilation-Retro-Warehouse","Demand Control Ventilation-Retro","DCV Only","GasHt","Vent","Warehouse","Warehouse","Retro","PRE2013",8.9631156316116747E-2,0.48490455567019158,21.504876680134821,{"$f":"INDEX('Savings from 6P'!$A$11:$L$92,MATCH(MMap!F326&MMap!J326&H326,'Savings from 6P'!$A$11:$A$92,0),MATCH(MMap!K326&G326,'Savings from 6P'!$A$4:$L$4,0))","v":5.4099999999999999E-3},{"$f":"IF(P326<=0,0,VLOOKUP(F326&K326&H326,Costs!$A$13:$B$24,2,FALSE))","v":0.23992635556647376},{"$f":"VLOOKUP($R$9,[2]CHAR!$B$17:$T$54,MATCH(J326,[2]CHAR!$B$16:$T$16,0),FALSE)","v":0.10087192274660353},{"$f":"IFERROR(VLOOKUP($F326&$I326&$K326&$H326&$G326,'Savings from 6P'!$V$11:$X$435,3,FALSE),$AD326)","v":0.5},{"$f":"MATCH(J326,[2]!BLDGTYPE,0)","v":11},6.3929137015483993E-3,0.98700382329725422,6.6032630011973147E-3,0.18162271351024481,"POST2013",{"$f":"IFERROR(IF(G326=\"gasht\",INDEX('Savings from 6P'!$Z$11:$AF$28,MATCH(J326,'Savings from 6P'!$Z$11:$Z$28,0),MATCH(MMap!F326&MMap!H326&MMap!K326,'Savings from 6P'!$Y$7:$AE$7,0)),\"\"),\"\")","v":2.1319999999999995E-2},0.98700382329725422,15,null,1]
["Demand Control Ventilation-DCV Only-Supermarket-GasHt-Vent-Retro","Demand Control Ventilation","Demand Control Ventilation-Retro-Supermarket-DCV Only","Demand Control Ventilation-Retro-Supermarket","Demand Control Ventilation-Retro","DCV Only","GasHt","Vent","Supermarket","Supermarket","Retro","PRE2013",6.4905132168366728E-2,0.351136765030864,15.57245181871653,{"$f":"INDEX('Savings from 6P'!$A$11:$L$92,MATCH(MMap!F327&MMap!J327&H327,'Savings from 6P'!$A$11:$A$92,0),MATCH(MMap!K327&G327,'Savings from 6P'!$A$4:$L$4,0))","v":5.4099999999999999E-3},{"$f":"IF(P327<=0,0,VLOOKUP(F327&K327&H327,Costs!$A$13:$B$24,2,FALSE))","v":0.23992635556647376},{"$f":"VLOOKUP($R$9,[2]CHAR!$B$17:$T$54,MATCH(J327,[2]CHAR!$B$16:$T$16,0),FALSE)","v":6.1675003194375045E-3},{"$f":"IFERROR(VLOOKUP($F327&$I327&$K327&$H327&$G327,'Savings from 6P'!$V$11:$X$435,3,FALSE),$AD327)","v":0.15000000000000002},{"$f":"MATCH(J327,[2]!BLDGTYPE,0)","v":12},3.9182634298973458E-2,0.46957192737561176,6.234756715808213E-2,0.92147944946531313,"POST2013",{"$f":"IFERROR(IF(G327=\"gasht\",INDEX('Savings from 6P'!$Z$11:$AF$28,MATCH(J327,'Savings from 6P'!$Z$11:$Z$28,0),MATCH(MMap!F327&MMap!H327&MMap!K327,'Savings from 6P'!$Y$7:$AE$7,0)),\"\"),\"\")","v":2.1319999999999995E-2},0.46957192737561176,15,null,1]
["Demand Control Ventilation-DCV Only-MiniMart-GasHt-Vent-Retro","Demand Control Ventilation","Demand Control Ventilation-Retro-MiniMart-DCV Only","Demand Control Ventilation-Retro-MiniMart","Demand Control Ventilation-Retro","DCV Only","GasHt","Vent","MIniMart","MiniMart","Retro","PRE2013",0.25422487929052767,1.3753565969617547,60.995248782503019,{"$f":"INDEX('Savings from 6P'!$A$11:$L$92,MATCH(MMap!F328&MMap!J328&H328,'Savings from 6P'!$A$11:$A$92,0),MATCH(MMap!K328&G328,'Savings from 6P'!$A$4:$L$4,0))","v":5.4099999999999999E-3},{"$f":"IF(P328<=0,0,VLOOKUP(F328&K328&H328,Costs!$A$13:$B$24,2,FALSE))","v":0.23992635556647376},{"$f":"VLOOKUP($R$9,[2]CHAR!$B$17:$T$54,MATCH(J328,[2]CHAR!$B$16:$T$16,0),FALSE)","v":2.5477723102065148E-3},{"$f":"IFERROR(VLOOKUP($F328&$I328&$K328&$H328&$G328,'Savings from 6P'!$V$11:$X$435,3,FALSE),$AD328)","v":0.35},{"$f":"MATCH(J328,[2]!BLDGTYPE,0)","v":13},9.8940421863423066E-3,0.86606113087441317,1.5743440192688529E-2,0.83868998628257874,"POST2013",{"$f":"IFERROR(IF(G328=\"gasht\",INDEX('Savings from 6P'!$Z$11:$AF$28,MATCH(J328,'Savings from 6P'!$Z$11:$Z$28,0),MATCH(MMap!F328&MMap!H328&MMap!K328,'Savings from 6P'!$Y$7:$AE$7,0)),\"\"),\"\")","v":2.1319999999999995E-2},0.86606113087441317,15,null,1]
["Demand Control Ventilation-DCV Only-Restaurant-GasHt-Vent-Retro","Demand Control Ventilation","Demand Control Ventilation-Retro-Restaurant-DCV Only","Demand Control Ventilation-Retro-Restaurant","Demand Control Ventilation-Retro","DCV Only","GasHt","Vent","Restaurant","Restaurant","Retro","PRE2013",0.27777849040094654,9.7694695074012898,66.646380856655824,{"$f":"INDEX('Savings from 6P'!$A$11:$L$92,MATCH(MMap!F329&MMap!J329&H329,'Savings from 6P'!$A$11:$A$92,0),MATCH(MMap!K329&G329,'Savings from 6P'!$A$4:$L$4,0))","v":3.517E-2},{"$f":"IF(P329<=0,0,VLOOKUP(F329&K329&H329,Costs!$A$13:$B$24,2,FALSE))","v":0.23992635556647376},{"$f":"VLOOKUP($R$9,[2]CHAR!$B$17:$T$54,MATCH(J329,[2]CHAR!$B$16:$T$16,0),FALSE)","v":1.1693580853842011E-2},{"$f":"IFERROR(VLOOKUP($F329&$I329&$K329&$H329&$G329,'Savings from 6P'!$V$11:$X$435,3,FALSE),$AD329)","v":0.35},{"$f":"MATCH(J329,[2]!BLDGTYPE,0)","v":14},3.0050555941853869E-2,0.79365284945968273,0.17629659459846331,0.99999997512427186,"POST2013",{"$f":"IFERROR(IF(G329=\"gasht\",INDEX('Savings from 6P'!$Z$11:$AF$28,MATCH(J329,'Savings from 6P'!$Z$11:$Z$28,0),MATCH(MMap!F329&MMap!H329&MMap!K329,'Savings from 6P'!$Y$7:$AE$7,0)),\"\"),\"\")","v":8.5900000000000004E-2},0.79365284945968273,15,null,1]
["Demand Control Ventilation-DCV Only-Lodging-GasHt-Vent-Retro","Demand Control Ventilation","Demand Control Ventilation-Retro-Lodging-DCV Only","Demand Control Ventilation-Retro-Lodging","Demand Control Ventilation-Retro","DCV Only","GasHt","Vent","Lodging","Lodging","Retro","PRE2013",0.11777351373113729,0.6371547092854527,28.256969931769824,{"$f":"INDEX('Savings from 6P'!$A$11:$L$92,MATCH(MMap!F330&MMap!J330&H330,'Savings from 6P'!$A$11:$A$92,0),MATCH(MMap!K330&G330,'Savings from 6P'!$A$4:$L$4,0))","v":5.4099999999999999E-3},{"$f":"IF(P330<=0,0,VLOOKUP(F330&K330&H330,Costs!$A$13:$B$24,2,FALSE))","v":0.23992635556647376},{"$f":"VLOOKUP($R$9,[2]CHAR!$B$17:$T$54,MATCH(J330,[2]CHAR!$B$16:$T$16,0),FALSE)","v":2.3957473342185561E-2},{"$f":"IFERROR(VLOOKUP($F330&$I330&$K330&$H330&$G330,'Savings from 6P'!$V$11:$X$435,3,FALSE),$AD330)","v":0.5},{"$f":"MATCH(J330,[2]!BLDGTYPE,0)","v":15},0.44679184687802564,0.24941748529786834,0.30379066782410608,0.94438859080377269,"POST2013",{"$f":"IFERROR(IF(G330=\"gasht\",INDEX('Savings from 6P'!$Z$11:$AF$28,MATCH(J330,'Savings from 6P'!$Z$11:$Z$28,0),MATCH(MMap!F330&MMap!H330&MMap!K330,'Savings from 6P'!$Y$7:$AE$7,0)),\"\"),\"\")","v":2.1319999999999995E-2},0.24941748529786834,15,null,1]
[{"$f":"CONCATENATE(B331,\"-\",F331,\"-\",J331,\"-\",G331,\"-\",H331,\"-\",K331)","v":"Demand Control Ventilation-DCV Only-Hospital-GasHt-Vent-Retro"},"Demand Control Ventilation","Demand Control Ventilation-Retro-Hospital-DCV Only","Demand Control Ventilation-Retro-Hospital",{"$f":"CONCATENATE(B331,\"-\",K331)","v":"Demand Control Ventilation-Retro"},"DCV Only","GasHt","Vent","Hospital","Hospital","Retro","PRE2013",0.43224999999999997,2.3384724999999995,103.70816719360828,{"$f":"INDEX('Savings from 6P'!$A$11:$L$92,MATCH(MMap!F331&MMap!J331&H331,'Savings from 6P'!$A$11:$A$92,0),MATCH(MMap!K331&G331,'Savings from 6P'!$A$4:$L$4,0))","v":5.4099999999999999E-3},{"$f":"IF(P331<=0,0,VLOOKUP(F331&K331&H331,Costs!$A$13:$B$24,2,FALSE))","v":0.23992635556647376},{"$f":"VLOOKUP($R$9,[2]CHAR!$B$17:$T$54,MATCH(J331,[2]CHAR!$B$16:$T$16,0),FALSE)","v":4.4965056377242296E-2},{"$f":"IFERROR(VLOOKUP($F331&$I331&$K331&$H331&$G331,'Savings from 6P'!$V$11:$X$435,3,FALSE),$AD331)","v":0.5},{"$f":"MATCH(J331,[2]!BLDGTYPE,0)","v":16},{"$f":"VLOOKUP(U$9,V_PRE2013,$T331,FALSE)","v":0.08},{"$f":"VLOOKUP(V$9,V_PRE2013,$T331,FALSE)","v":0.91},0.01,{"$f":"VLOOKUP($X$9,V_POST2013,MATCH(J331,BLDGTYP,FALSE)+1,FALSE)","v":0.95},"POST2013",{"$f":"IFERROR(IF(G331=\"gasht\",INDEX('Savings from 6P'!$Z$11:$AF$28,MATCH(J331,'Savings from 6P'!$Z$11:$Z$28,0),MATCH(MMap!F331&MMap!H331&MMap!K331,'Savings from 6P'!$Y$7:$AE$7,0)),\"\"),\"\")","v":2.1319999999999995E-2},{"$f":"IF(G331=\"ElecHt\",U331,IF(G331=\"gasht\",V331,W331))","v":0.91},{"$f":"$AB$9","v":15},null,1]
["Demand Control Ventilation-DCV Only-Residential Care-GasHt-Vent-Retro","Demand Control Ventilation",{"$f":"CONCATENATE(D332,\"-\",F332)","v":"Demand Control Ventilation-Retro-Residential Care-DCV Only"},{"$f":"CONCATENATE(B332,\"-\",K332,\"-\",J332)","v":"Demand Control Ventilation-Retro-Residential Care"},"Demand Control Ventilation-Retro","DCV Only","GasHt","Vent","OtherHealth","Residential Care","Retro","PRE2013",0.17081205004943512,{"$f":"M332*P332*$N$9","v":0.92409319076744389},{"$f":"Q332*M332*$O$9","v":40.982312655199081},{"$f":"INDEX('Savings from 6P'!$A$11:$L$92,MATCH(MMap!F332&MMap!J332&H332,'Savings from 6P'!$A$11:$A$92,0),MATCH(MMap!K332&G332,'Savings from 6P'!$A$4:$L$4,0))","v":5.4099999999999999E-3},{"$f":"IF(P332<=0,0,VLOOKUP(F332&K332&H332,Costs!$A$13:$B$24,2,FALSE))","v":0.23992635556647376},{"$f":"VLOOKUP($R$9,[2]CHAR!$B$17:$T$54,MATCH(J332,[2]CHAR!$B$16:$T$16,0),FALSE)","v":5.827742495837801E-2},{"$f":"IFERROR(VLOOKUP($F332&$I332&$K332&$H332&$G332,'Savings from 6P'!$V$11:$X$435,3,FALSE),$AD332)","v":0.5},{"$f":"MATCH(J332,[2]!BLDGTYPE,0)","v":17},0.33985691133471541,0.40556621261939335,0.25457687604589124,0.8423386600487599,"POST2013",{"$f":"IFERROR(IF(G332=\"gasht\",INDEX('Savings from 6P'!$Z$11:$AF$28,MATCH(J332,'Savings from 6P'!$Z$11:$Z$28,0),MATCH(MMap!F332&MMap!H332&MMap!K332,'Savings from 6P'!$Y$7:$AE$7,0)),\"\"),\"\")","v":2.1319999999999995E-2},0.40556621261939335,15,null,1]
["Demand Control Ventilation-DCV Only-Assembly-GasHt-Vent-Retro","Demand Control Ventilation","Demand Control Ventilation-Retro-Assembly-DCV Only","Demand Control Ventilation-Retro-Assembly","Demand Control Ventilation-Retro","DCV Only","GasHt","Vent","Assembly","Assembly","Retro","PRE2013",{"$f":"S333*X333*AA333","v":0.70949920809858469},3.8383907158133432,170.22755927639261,{"$f":"INDEX('Savings from 6P'!$A$11:$L$92,MATCH(MMap!F333&MMap!J333&H333,'Savings from 6P'!$A$11:$A$92,0),MATCH(MMap!K333&G333,'Savings from 6P'!$A$4:$L$4,0))","v":5.4099999999999999E-3},{"$f":"IF(P333<=0,0,VLOOKUP(F333&K333&H333,Costs!$A$13:$B$24,2,FALSE))","v":0.23992635556647376},{"$f":"VLOOKUP($R$9,[2]CHAR!$B$17:$T$54,MATCH(J333,[2]CHAR!$B$16:$T$16,0),FALSE)","v":9.0984350406775827E-2},{"$f":"IFERROR(VLOOKUP($F333&$I333&$K333&$H333&$G333,'Savings from 6P'!$V$11:$X$435,3,FALSE),$AD333)","v":1},{"$f":"MATCH(J333,[2]!BLDGTYPE,0)","v":18},0.10640191237323121,0.77815390025512432,0.11544418737164447,0.91177234717447209,"POST2013",{"$f":"IFERROR(IF(G333=\"gasht\",INDEX('Savings from 6P'!$Z$11:$AF$28,MATCH(J333,'Savings from 6P'!$Z$11:$Z$28,0),MATCH(MMap!F333&MMap!H333&MMap!K333,'Savings from 6P'!$Y$7:$AE$7,0)),\"\"),\"\")","v":2.1319999999999995E-2},0.77815390025512432,15,null,1]
["Demand Control Ventilation-DCV Only-Other-GasHt-Vent-Retro","Demand Control Ventilation","Demand Control Ventilation-Retro-Other-DCV Only","Demand Control Ventilation-Retro-Other","Demand Control Ventilation-Retro","DCV Only","GasHt","Vent","Other","Other","Retro","PRE2013",0.31829089811800759,1.7219537588184211,76.366375195433363,{"$f":"INDEX('Savings from 6P'!$A$11:$L$92,MATCH(MMap!F334&MMap!J334&H334,'Savings from 6P'!$A$11:$A$92,0),MATCH(MMap!K334&G334,'Savings from 6P'!$A$4:$L$4,0))","v":5.4099999999999999E-3},{"$f":"IF(P334<=0,0,VLOOKUP(F334&K334&H334,Costs!$A$13:$B$24,2,FALSE))","v":0.23992635556647376},{"$f":"VLOOKUP($R$9,[2]CHAR!$B$17:$T$54,MATCH(J334,[2]CHAR!$B$16:$T$16,0),FALSE)","v":0.21334717399999265},{"$f":"IFERROR(VLOOKUP($F334&$I334&$K334&$H334&$G334,'Savings from 6P'!$V$11:$X$435,3,FALSE),$AD334)","v":0.5},{"$f":"MATCH(J334,[2]!BLDGTYPE,0)","v":19},0.16939513747697868,0.7257160432726234,0.104888819250398,0.87717751610580841,"POST2013",{"$f":"IFERROR(IF(G334=\"gasht\",INDEX('Savings from 6P'!$Z$11:$AF$28,MATCH(J334,'Savings from 6P'!$Z$11:$Z$28,0),MATCH(MMap!F334&MMap!H334&MMap!K334,'Savings from 6P'!$Y$7:$AE$7,0)),\"\"),\"\")","v":2.1319999999999995E-2},0.7257160432726234,15,null,1]
["Demand Control Ventilation-DCV Only-Large Off-HtPmpHt-heat-Retro","Demand Control Ventilation","Demand Control Ventilation-Retro-Large Off-DCV Only","Demand Control Ventilation-Retro-Large Off","Demand Control Ventilation-Retro","DCV Only","HtPmpHt","heat","Large Off","Large Off","Retro","PRE2013",0.11900437778726315,35.399290310499765,0,{"$f":"INDEX('Savings from 6P'!$A$11:$L$92,MATCH(MMap!F335&MMap!J335&H335,'Savings from 6P'!$A$11:$A$92,0),MATCH(MMap!K335&G335,'Savings from 6P'!$A$4:$L$4,0))","v":0.29746208474599911},{"$f":"IF(P335<=0,0,VLOOKUP(F335&K335&H335,Costs!$A$13:$B$24,2,FALSE))","v":0},{"$f":"VLOOKUP($R$9,[2]CHAR!$B$17:$T$54,MATCH(J335,[2]CHAR!$B$16:$T$16,0),FALSE)","v":0.15073291148870363},{"$f":"IFERROR(VLOOKUP($F335&$I335&$K335&$H335&$G335,'Savings from 6P'!$V$11:$X$435,3,FALSE),$AD335)","v":0.5},{"$f":"MATCH(J335,[2]!BLDGTYPE,0)","v":2},0.20943280302167308,0.54037060186620078,0.25019659511212627,0.95128694884061893,"POST2013",{"$f":"IFERROR(IF(G335=\"gasht\",INDEX('Savings from 6P'!$Z$11:$AF$28,MATCH(J335,'Savings from 6P'!$Z$11:$Z$28,0),MATCH(MMap!F335&MMap!H335&MMap!K335,'Savings from 6P'!$Y$7:$AE$7,0)),\"\"),\"\")","v":""},0.25019659511212627,15,null,1]
["Demand Control Ventilation-DCV Only-Medium Off-HtPmpHt-Vent-Retro","Demand Control Ventilation","Demand Control Ventilation-Retro-Medium Off-DCV Only","Demand Control Ventilation-Retro-Medium Off","Demand Control Ventilation-Retro","DCV Only","HtPmpHt","Vent","Medium Off","Medium Off","Retro","PRE2013",0.12910819687851111,0.69847534511274512,30.976459150819956,{"$f":"INDEX('Savings from 6P'!$A$11:$L$92,MATCH(MMap!F336&MMap!J336&H336,'Savings from 6P'!$A$11:$A$92,0),MATCH(MMap!K336&G336,'Savings from 6P'!$A$4:$L$4,0))","v":5.4099999999999999E-3},{"$f":"IF(P336<=0,0,VLOOKUP(F336&K336&H336,Costs!$A$13:$B$24,2,FALSE))","v":0.23992635556647376},{"$f":"VLOOKUP($R$9,[2]CHAR!$B$17:$T$54,MATCH(J336,[2]CHAR!$B$16:$T$16,0),FALSE)","v":0.12013270538231059},{"$f":"IFERROR(VLOOKUP($F336&$I336&$K336&$H336&$G336,'Savings from 6P'!$V$11:$X$435,3,FALSE),$AD336)","v":0.5},{"$f":"MATCH(J336,[2]!BLDGTYPE,0)","v":3},0.22131165109110185,0.51430081857580845,0.26438753033308959,0.97665874571205136,"POST2013",{"$f":"IFERROR(IF(G336=\"gasht\",INDEX('Savings from 6P'!$Z$11:$AF$28,MATCH(J336,'Savings from 6P'!$Z$11:$Z$28,0),MATCH(MMap!F336&MMap!H336&MMap!K336,'Savings from 6P'!$Y$7:$AE$7,0)),\"\"),\"\")","v":""},0.26438753033308959,15,null,1]
["Demand Control Ventilation-DCV Only-Small Off-HtPmpHt-Vent-Retro","Demand Control Ventilation","Demand Control Ventilation-Retro-Small Off-DCV Only","Demand Control Ventilation-Retro-Small Off","Demand Control Ventilation-Retro","DCV Only","HtPmpHt","Vent","Small Off","Small Off","Retro","PRE2013",0.16677654162032665,0.90226109016596712,40.014087824945307,{"$f":"INDEX('Savings from 6P'!$A$11:$L$92,MATCH(MMap!F337&MMap!J337&H337,'Savings from 6P'!$A$11:$A$92,0),MATCH(MMap!K337&G337,'Savings from 6P'!$A$4:$L$4,0))","v":5.4099999999999999E-3},{"$f":"IF(P337<=0,0,VLOOKUP(F337&K337&H337,Costs!$A$13:$B$24,2,FALSE))","v":0.23992635556647376},{"$f":"VLOOKUP($R$9,[2]CHAR!$B$17:$T$54,MATCH(J337,[2]CHAR!$B$16:$T$16,0),FALSE)","v":3.1538695729415013E-2},{"$f":"IFERROR(VLOOKUP($F337&$I337&$K337&$H337&$G337,'Savings from 6P'!$V$11:$X$435,3,FALSE),$AD337)","v":0.5},{"$f":"MATCH(J337,[2]!BLDGTYPE,0)","v":4},0.30640942705415353,0.3275419203320854,0.36604865261376096,0.91122609210258287,"POST2013",{"$f":"IFERROR(IF(G337=\"gasht\",INDEX('Savings from 6P'!$Z$11:$AF$28,MATCH(J337,'Savings from 6P'!$Z$11:$Z$28,0),MATCH(MMap!F337&MMap!H337&MMap!K337,'Savings from 6P'!$Y$7:$AE$7,0)),\"\"),\"\")","v":""},0.36604865261376096,15,null,1]
["Demand Control Ventilation-DCV Only-Xlarge Ret-HtPmpHt-Vent-Retro","Demand Control Ventilation","Demand Control Ventilation-Retro-Xlarge Ret-DCV Only","Demand Control Ventilation-Retro-Xlarge Ret","Demand Control Ventilation-Retro","DCV Only","HtPmpHt","Vent","Big Box","Xlarge Ret","Retro","PRE2013",4.5759500420794125E-3,0.16093616297993293,1.0978910168503657,{"$f":"INDEX('Savings from 6P'!$A$11:$L$92,MATCH(MMap!F338&MMap!J338&H338,'Savings from 6P'!$A$11:$A$92,0),MATCH(MMap!K338&G338,'Savings from 6P'!$A$4:$L$4,0))","v":3.517E-2},{"$f":"IF(P338<=0,0,VLOOKUP(F338&K338&H338,Costs!$A$13:$B$24,2,FALSE))","v":0.23992635556647376},{"$f":"VLOOKUP($R$9,[2]CHAR!$B$17:$T$54,MATCH(J338,[2]CHAR!$B$16:$T$16,0),FALSE)","v":2.6820893655991742E-2},{"$f":"IFERROR(VLOOKUP($F338&$I338&$K338&$H338&$G338,'Savings from 6P'!$V$11:$X$435,3,FALSE),$AD338)","v":0.15000000000000002},{"$f":"MATCH(J338,[2]!BLDGTYPE,0)","v":5},5.2995881766435368E-2,0.91606730000738101,3.0936818226183656E-2,0.98608503921852686,"POST2013",{"$f":"IFERROR(IF(G338=\"gasht\",INDEX('Savings from 6P'!$Z$11:$AF$28,MATCH(J338,'Savings from 6P'!$Z$11:$Z$28,0),MATCH(MMap!F338&MMap!H338&MMap!K338,'Savings from 6P'!$Y$7:$AE$7,0)),\"\"),\"\")","v":""},3.0936818226183656E-2,15,null,0.30000000000000004]
["Demand Control Ventilation-DCV Only-Large Ret-HtPmpHt-Vent-Retro","Demand Control Ventilation","Demand Control Ventilation-Retro-Large Ret-DCV Only","Demand Control Ventilation-Retro-Large Ret","Demand Control Ventilation-Retro","DCV Only","HtPmpHt","Vent","Small Box","Large Ret","Retro","PRE2013",9.5455330731864549E-4,3.3571639818396767E-2,0.22902249621888685,{"$f":"INDEX('Savings from 6P'!$A$11:$L$92,MATCH(MMap!F339&MMap!J339&H339,'Savings from 6P'!$A$11:$A$92,0),MATCH(MMap!K339&G339,'Savings from 6P'!$A$4:$L$4,0))","v":3.517E-2},{"$f":"IF(P339<=0,0,VLOOKUP(F339&K339&H339,Costs!$A$13:$B$24,2,FALSE))","v":0.23992635556647376},{"$f":"VLOOKUP($R$9,[2]CHAR!$B$17:$T$54,MATCH(J339,[2]CHAR!$B$16:$T$16,0),FALSE)","v":1.0839638408159987E-2},{"$f":"IFERROR(VLOOKUP($F339&$I339&$K339&$H339&$G339,'Savings from 6P'!$V$11:$X$435,3,FALSE),$AD339)","v":0.2},{"$f":"MATCH(J339,[2]!BLDGTYPE,0)","v":6},1.0593107738682607E-2,0.98322307122393326,6.1838210373840949E-3,0.77181511362305244,"POST2013",{"$f":"IFERROR(IF(G339=\"gasht\",INDEX('Savings from 6P'!$Z$11:$AF$28,MATCH(J339,'Savings from 6P'!$Z$11:$Z$28,0),MATCH(MMap!F339&MMap!H339&MMap!K339,'Savings from 6P'!$Y$7:$AE$7,0)),\"\"),\"\")","v":""},6.1838210373840949E-3,15,null,0.4]
["Demand Control Ventilation-DCV Only-Medium Ret-HtPmpHt-Vent-Retro","Demand Control Ventilation","Demand Control Ventilation-Retro-Medium Ret-DCV Only","Demand Control Ventilation-Retro-Medium Ret","Demand Control Ventilation-Retro","DCV Only","HtPmpHt","Vent","High End","Medium Ret","Retro","PRE2013",2.2206970731269531E-2,0.3661929473586345,5.3280375557248494,{"$f":"INDEX('Savings from 6P'!$A$11:$L$92,MATCH(MMap!F340&MMap!J340&H340,'Savings from 6P'!$A$11:$A$92,0),MATCH(MMap!K340&G340,'Savings from 6P'!$A$4:$L$4,0))","v":1.6489999999999998E-2},{"$f":"IF(P340<=0,0,VLOOKUP(F340&K340&H340,Costs!$A$13:$B$24,2,FALSE))","v":0.23992635556647376},{"$f":"VLOOKUP($R$9,[2]CHAR!$B$17:$T$54,MATCH(J340,[2]CHAR!$B$16:$T$16,0),FALSE)","v":4.0894012773033235E-2},{"$f":"IFERROR(VLOOKUP($F340&$I340&$K340&$H340&$G340,'Savings from 6P'!$V$11:$X$435,3,FALSE),$AD340)","v":0.35},{"$f":"MATCH(J340,[2]!BLDGTYPE,0)","v":7},0.12006240959495594,0.80985008893074606,7.0087501474297986E-2,0.90527535536267667,"POST2013",{"$f":"IFERROR(IF(G340=\"gasht\",INDEX('Savings from 6P'!$Z$11:$AF$28,MATCH(J340,'Savings from 6P'!$Z$11:$Z$28,0),MATCH(MMap!F340&MMap!H340&MMap!K340,'Savings from 6P'!$Y$7:$AE$7,0)),\"\"),\"\")","v":""},7.0087501474297986E-2,15,null,0.7]
["Demand Control Ventilation-DCV Only-Small Ret-HtPmpHt-Vent-Retro","Demand Control Ventilation","Demand Control Ventilation-Retro-Small Ret-DCV Only","Demand Control Ventilation-Retro-Small Ret","Demand Control Ventilation-Retro","DCV Only","HtPmpHt","Vent","Anchor","Small Ret","Retro","PRE2013",2.9967134414351237E-2,0.49415804649265183,7.1899053468059479,{"$f":"INDEX('Savings from 6P'!$A$11:$L$92,MATCH(MMap!F341&MMap!J341&H341,'Savings from 6P'!$A$11:$A$92,0),MATCH(MMap!K341&G341,'Savings from 6P'!$A$4:$L$4,0))","v":1.6489999999999998E-2},{"$f":"IF(P341<=0,0,VLOOKUP(F341&K341&H341,Costs!$A$13:$B$24,2,FALSE))","v":0.23992635556647376},{"$f":"VLOOKUP($R$9,[2]CHAR!$B$17:$T$54,MATCH(J341,[2]CHAR!$B$16:$T$16,0),FALSE)","v":1.3016203517984767E-2},{"$f":"IFERROR(VLOOKUP($F341&$I341&$K341&$H341&$G341,'Savings from 6P'!$V$11:$X$435,3,FALSE),$AD341)","v":0.35},{"$f":"MATCH(J341,[2]!BLDGTYPE,0)","v":8},0.2732917310450087,0.56717178566142912,0.15953648329356207,0.53668215741883951,"POST2013",{"$f":"IFERROR(IF(G341=\"gasht\",INDEX('Savings from 6P'!$Z$11:$AF$28,MATCH(J341,'Savings from 6P'!$Z$11:$Z$28,0),MATCH(MMap!F341&MMap!H341&MMap!K341,'Savings from 6P'!$Y$7:$AE$7,0)),\"\"),\"\")","v":""},0.15953648329356207,15,null,0.7]
["Demand Control Ventilation-DCV Only-School K-12-HtPmpHt-Vent-Retro","Demand Control Ventilation","Demand Control Ventilation-Retro-School K-12-DCV Only","Demand Control Ventilation-Retro-School K-12","Demand Control Ventilation-Retro","DCV Only","HtPmpHt","Vent","K-12","School K-12","Retro","PRE2013",4.5109677217079237E-2,0,0,{"$f":"INDEX('Savings from 6P'!$A$11:$L$92,MATCH(MMap!F342&MMap!J342&H342,'Savings from 6P'!$A$11:$A$92,0),MATCH(MMap!K342&G342,'Savings from 6P'!$A$4:$L$4,0))","v":0},{"$f":"IF(P342<=0,0,VLOOKUP(F342&K342&H342,Costs!$A$13:$B$24,2,FALSE))","v":0},{"$f":"VLOOKUP($R$9,[2]CHAR!$B$17:$T$54,MATCH(J342,[2]CHAR!$B$16:$T$16,0),FALSE)","v":3.0886857559635036E-2},{"$f":"IFERROR(VLOOKUP($F342&$I342&$K342&$H342&$G342,'Savings from 6P'!$V$11:$X$435,3,FALSE),$AD342)","v":0.5},{"$f":"MATCH(J342,[2]!BLDGTYPE,0)","v":9},5.8369343906151915E-2,0.84777782221188291,9.3852833881965178E-2,0.96128535178408803,"POST2013",{"$f":"IFERROR(IF(G342=\"gasht\",INDEX('Savings from 6P'!$Z$11:$AF$28,MATCH(J342,'Savings from 6P'!$Z$11:$Z$28,0),MATCH(MMap!F342&MMap!H342&MMap!K342,'Savings from 6P'!$Y$7:$AE$7,0)),\"\"),\"\")","v":""},9.3852833881965178E-2,15,null,1]
["Demand Control Ventilation-DCV Only-University-HtPmpHt-Vent-Retro","Demand Control Ventilation","Demand Control Ventilation-Retro-University-DCV Only","Demand Control Ventilation-Retro-University","Demand Control Ventilation-Retro","DCV Only","HtPmpHt","Vent","University","University","Retro","PRE2013",3.7500000000000006E-2,0,0,{"$f":"INDEX('Savings from 6P'!$A$11:$L$92,MATCH(MMap!F343&MMap!J343&H343,'Savings from 6P'!$A$11:$A$92,0),MATCH(MMap!K343&G343,'Savings from 6P'!$A$4:$L$4,0))","v":0},{"$f":"IF(P343<=0,0,VLOOKUP(F343&K343&H343,Costs!$A$13:$B$24,2,FALSE))","v":0},{"$f":"VLOOKUP($R$9,[2]CHAR!$B$17:$T$54,MATCH(J343,[2]CHAR!$B$16:$T$16,0),FALSE)","v":2.2325826170102026E-2},{"$f":"IFERROR(VLOOKUP($F343&$I343&$K343&$H343&$G343,'Savings from 6P'!$V$11:$X$435,3,FALSE),$AD343)","v":0.5},{"$f":"MATCH(J343,[2]!BLDGTYPE,0)","v":10},0.1,0.8,0.1,0.75,"POST2013",{"$f":"IFERROR(IF(G343=\"gasht\",INDEX('Savings from 6P'!$Z$11:$AF$28,MATCH(J343,'Savings from 6P'!$Z$11:$Z$28,0),MATCH(MMap!F343&MMap!H343&MMap!K343,'Savings from 6P'!$Y$7:$AE$7,0)),\"\"),\"\")","v":""},0.1,15,null,1]
["Demand Control Ventilation-DCV Only-Warehouse-HtPmpHt-Vent-Retro","Demand Control Ventilation","Demand Control Ventilation-Retro-Warehouse-DCV Only","Demand Control Ventilation-Retro-Warehouse","Demand Control Ventilation-Retro","DCV Only","HtPmpHt","Vent","Warehouse","Warehouse","Retro","PRE2013",5.9965127214962964E-4,3.2441133823294965E-3,0.14387214433766035,{"$f":"INDEX('Savings from 6P'!$A$11:$L$92,MATCH(MMap!F344&MMap!J344&H344,'Savings from 6P'!$A$11:$A$92,0),MATCH(MMap!K344&G344,'Savings from 6P'!$A$4:$L$4,0))","v":5.4099999999999999E-3},{"$f":"IF(P344<=0,0,VLOOKUP(F344&K344&H344,Costs!$A$13:$B$24,2,FALSE))","v":0.23992635556647376},{"$f":"VLOOKUP($R$9,[2]CHAR!$B$17:$T$54,MATCH(J344,[2]CHAR!$B$16:$T$16,0),FALSE)","v":0.10087192274660353},{"$f":"IFERROR(VLOOKUP($F344&$I344&$K344&$H344&$G344,'Savings from 6P'!$V$11:$X$435,3,FALSE),$AD344)","v":0.5},{"$f":"MATCH(J344,[2]!BLDGTYPE,0)","v":11},6.3929137015483993E-3,0.98700382329725422,6.6032630011973147E-3,0.18162271351024481,"POST2013",{"$f":"IFERROR(IF(G344=\"gasht\",INDEX('Savings from 6P'!$Z$11:$AF$28,MATCH(J344,'Savings from 6P'!$Z$11:$Z$28,0),MATCH(MMap!F344&MMap!H344&MMap!K344,'Savings from 6P'!$Y$7:$AE$7,0)),\"\"),\"\")","v":""},6.6032630011973147E-3,15,null,1]
["Demand Control Ventilation-DCV Only-Supermarket-HtPmpHt-Vent-Retro","Demand Control Ventilation","Demand Control Ventilation-Retro-Supermarket-DCV Only","Demand Control Ventilation-Retro-Supermarket","Demand Control Ventilation-Retro","DCV Only","HtPmpHt","Vent","Supermarket","Supermarket","Retro","PRE2013",8.6178002790496758E-3,4.6622299509658752E-2,2.0676374139521294,{"$f":"INDEX('Savings from 6P'!$A$11:$L$92,MATCH(MMap!F345&MMap!J345&H345,'Savings from 6P'!$A$11:$A$92,0),MATCH(MMap!K345&G345,'Savings from 6P'!$A$4:$L$4,0))","v":5.4099999999999999E-3},{"$f":"IF(P345<=0,0,VLOOKUP(F345&K345&H345,Costs!$A$13:$B$24,2,FALSE))","v":0.23992635556647376},{"$f":"VLOOKUP($R$9,[2]CHAR!$B$17:$T$54,MATCH(J345,[2]CHAR!$B$16:$T$16,0),FALSE)","v":6.1675003194375045E-3},{"$f":"IFERROR(VLOOKUP($F345&$I345&$K345&$H345&$G345,'Savings from 6P'!$V$11:$X$435,3,FALSE),$AD345)","v":0.15000000000000002},{"$f":"MATCH(J345,[2]!BLDGTYPE,0)","v":12},3.9182634298973458E-2,0.46957192737561176,6.234756715808213E-2,0.92147944946531313,"POST2013",{"$f":"IFERROR(IF(G345=\"gasht\",INDEX('Savings from 6P'!$Z$11:$AF$28,MATCH(J345,'Savings from 6P'!$Z$11:$Z$28,0),MATCH(MMap!F345&MMap!H345&MMap!K345,'Savings from 6P'!$Y$7:$AE$7,0)),\"\"),\"\")","v":""},6.234756715808213E-2,15,null,1]
["Demand Control Ventilation-DCV Only-MiniMart-HtPmpHt-Vent-Retro","Demand Control Ventilation","Demand Control Ventilation-Retro-MiniMart-DCV Only","Demand Control Ventilation-Retro-MiniMart","Demand Control Ventilation-Retro","DCV Only","HtPmpHt","Vent","MIniMart","MiniMart","Retro","PRE2013",4.6213529737362891E-3,2.5001519587913322E-2,1.1087843767748338,{"$f":"INDEX('Savings from 6P'!$A$11:$L$92,MATCH(MMap!F346&MMap!J346&H346,'Savings from 6P'!$A$11:$A$92,0),MATCH(MMap!K346&G346,'Savings from 6P'!$A$4:$L$4,0))","v":5.4099999999999999E-3},{"$f":"IF(P346<=0,0,VLOOKUP(F346&K346&H346,Costs!$A$13:$B$24,2,FALSE))","v":0.23992635556647376},{"$f":"VLOOKUP($R$9,[2]CHAR!$B$17:$T$54,MATCH(J346,[2]CHAR!$B$16:$T$16,0),FALSE)","v":2.5477723102065148E-3},{"$f":"IFERROR(VLOOKUP($F346&$I346&$K346&$H346&$G346,'Savings from 6P'!$V$11:$X$435,3,FALSE),$AD346)","v":0.35},{"$f":"MATCH(J346,[2]!BLDGTYPE,0)","v":13},9.8940421863423066E-3,0.86606113087441317,1.5743440192688529E-2,0.83868998628257874,"POST2013",{"$f":"IFERROR(IF(G346=\"gasht\",INDEX('Savings from 6P'!$Z$11:$AF$28,MATCH(J346,'Savings from 6P'!$Z$11:$Z$28,0),MATCH(MMap!F346&MMap!H346&MMap!K346,'Savings from 6P'!$Y$7:$AE$7,0)),\"\"),\"\")","v":""},1.5743440192688529E-2,15,null,1]
["Demand Control Ventilation-DCV Only-Restaurant-HtPmpHt-Vent-Retro","Demand Control Ventilation","Demand Control Ventilation-Retro-Restaurant-DCV Only","Demand Control Ventilation-Retro-Restaurant","Demand Control Ventilation-Retro","DCV Only","HtPmpHt","Vent","Restaurant","Restaurant","Retro","PRE2013",6.1703806574534996E-2,2.1701228772263956,14.804369436006805,{"$f":"INDEX('Savings from 6P'!$A$11:$L$92,MATCH(MMap!F347&MMap!J347&H347,'Savings from 6P'!$A$11:$A$92,0),MATCH(MMap!K347&G347,'Savings from 6P'!$A$4:$L$4,0))","v":3.517E-2},{"$f":"IF(P347<=0,0,VLOOKUP(F347&K347&H347,Costs!$A$13:$B$24,2,FALSE))","v":0.23992635556647376},{"$f":"VLOOKUP($R$9,[2]CHAR!$B$17:$T$54,MATCH(J347,[2]CHAR!$B$16:$T$16,0),FALSE)","v":1.1693580853842011E-2},{"$f":"IFERROR(VLOOKUP($F347&$I347&$K347&$H347&$G347,'Savings from 6P'!$V$11:$X$435,3,FALSE),$AD347)","v":0.35},{"$f":"MATCH(J347,[2]!BLDGTYPE,0)","v":14},3.0050555941853869E-2,0.79365284945968273,0.17629659459846331,0.99999997512427186,"POST2013",{"$f":"IFERROR(IF(G347=\"gasht\",INDEX('Savings from 6P'!$Z$11:$AF$28,MATCH(J347,'Savings from 6P'!$Z$11:$Z$28,0),MATCH(MMap!F347&MMap!H347&MMap!K347,'Savings from 6P'!$Y$7:$AE$7,0)),\"\"),\"\")","v":""},0.17629659459846331,15,null,1]
["Demand Control Ventilation-DCV Only-Lodging-HtPmpHt-Vent-Retro","Demand Control Ventilation","Demand Control Ventilation-Retro-Lodging-DCV Only","Demand Control Ventilation-Retro-Lodging","Demand Control Ventilation-Retro","DCV Only","HtPmpHt","Vent","Lodging","Lodging","Retro","PRE2013",0.14344822034287227,0.77605487205493895,34.417008719361846,{"$f":"INDEX('Savings from 6P'!$A$11:$L$92,MATCH(MMap!F348&MMap!J348&H348,'Savings from 6P'!$A$11:$A$92,0),MATCH(MMap!K348&G348,'Savings from 6P'!$A$4:$L$4,0))","v":5.4099999999999999E-3},{"$f":"IF(P348<=0,0,VLOOKUP(F348&K348&H348,Costs!$A$13:$B$24,2,FALSE))","v":0.23992635556647376},{"$f":"VLOOKUP($R$9,[2]CHAR!$B$17:$T$54,MATCH(J348,[2]CHAR!$B$16:$T$16,0),FALSE)","v":2.3957473342185561E-2},{"$f":"IFERROR(VLOOKUP($F348&$I348&$K348&$H348&$G348,'Savings from 6P'!$V$11:$X$435,3,FALSE),$AD348)","v":0.5},{"$f":"MATCH(J348,[2]!BLDGTYPE,0)","v":15},0.44679184687802564,0.24941748529786834,0.30379066782410608,0.94438859080377269,"POST2013",{"$f":"IFERROR(IF(G348=\"gasht\",INDEX('Savings from 6P'!$Z$11:$AF$28,MATCH(J348,'Savings from 6P'!$Z$11:$Z$28,0),MATCH(MMap!F348&MMap!H348&MMap!K348,'Savings from 6P'!$Y$7:$AE$7,0)),\"\"),\"\")","v":""},0.30379066782410608,15,null,1]
["Demand Control Ventilation-DCV Only-Hospital-HtPmpHt-Vent-Retro","Demand Control Ventilation","Demand Control Ventilation-Retro-Hospital-DCV Only","Demand Control Ventilation-Retro-Hospital","Demand Control Ventilation-Retro","DCV Only","HtPmpHt","Vent","Hospital","Hospital","Retro","PRE2013",4.7499999999999999E-3,2.5697499999999998E-2,1.1396501889407502,{"$f":"INDEX('Savings from 6P'!$A$11:$L$92,MATCH(MMap!F349&MMap!J349&H349,'Savings from 6P'!$A$11:$A$92,0),MATCH(MMap!K349&G349,'Savings from 6P'!$A$4:$L$4,0))","v":5.4099999999999999E-3},{"$f":"IF(P349<=0,0,VLOOKUP(F349&K349&H349,Costs!$A$13:$B$24,2,FALSE))","v":0.23992635556647376},{"$f":"VLOOKUP($R$9,[2]CHAR!$B$17:$T$54,MATCH(J349,[2]CHAR!$B$16:$T$16,0),FALSE)","v":4.4965056377242296E-2},{"$f":"IFERROR(VLOOKUP($F349&$I349&$K349&$H349&$G349,'Savings from 6P'!$V$11:$X$435,3,FALSE),$AD349)","v":0.5},{"$f":"MATCH(J349,[2]!BLDGTYPE,0)","v":16},0.08,0.91,0.01,0.95,"POST2013",{"$f":"IFERROR(IF(G349=\"gasht\",INDEX('Savings from 6P'!$Z$11:$AF$28,MATCH(J349,'Savings from 6P'!$Z$11:$Z$28,0),MATCH(MMap!F349&MMap!H349&MMap!K349,'Savings from 6P'!$Y$7:$AE$7,0)),\"\"),\"\")","v":""},0.01,15,null,1]
["Demand Control Ventilation-DCV Only-Residential Care-HtPmpHt-Vent-Retro","Demand Control Ventilation","Demand Control Ventilation-Retro-Residential Care-DCV Only","Demand Control Ventilation-Retro-Residential Care","Demand Control Ventilation-Retro","DCV Only","HtPmpHt","Vent","OtherHealth","Residential Care","Retro","PRE2013",0.10721997232394763,0.58006005027255669,25.724897203622934,{"$f":"INDEX('Savings from 6P'!$A$11:$L$92,MATCH(MMap!F350&MMap!J350&H350,'Savings from 6P'!$A$11:$A$92,0),MATCH(MMap!K350&G350,'Savings from 6P'!$A$4:$L$4,0))","v":5.4099999999999999E-3},{"$f":"IF(P350<=0,0,VLOOKUP(F350&K350&H350,Costs!$A$13:$B$24,2,FALSE))","v":0.23992635556647376},{"$f":"VLOOKUP($R$9,[2]CHAR!$B$17:$T$54,MATCH(J350,[2]CHAR!$B$16:$T$16,0),FALSE)","v":5.827742495837801E-2},{"$f":"IFERROR(VLOOKUP($F350&$I350&$K350&$H350&$G350,'Savings from 6P'!$V$11:$X$435,3,FALSE),$AD350)","v":0.5},{"$f":"MATCH(J350,[2]!BLDGTYPE,0)","v":17},0.33985691133471541,0.40556621261939335,0.25457687604589124,0.8423386600487599,"POST2013",{"$f":"IFERROR(IF(G350=\"gasht\",INDEX('Savings from 6P'!$Z$11:$AF$28,MATCH(J350,'Savings from 6P'!$Z$11:$Z$28,0),MATCH(MMap!F350&MMap!H350&MMap!K350,'Savings from 6P'!$Y$7:$AE$7,0)),\"\"),\"\")","v":""},0.25457687604589124,15,null,1]
["Demand Control Ventilation-DCV Only-Assembly-HtPmpHt-Vent-Retro","Demand Control Ventilation","Demand Control Ventilation-Retro-Assembly-DCV Only","Demand Control Ventilation-Retro-Assembly","Demand Control Ventilation-Retro","DCV Only","HtPmpHt","Vent","Assembly","Assembly","Retro","PRE2013",0.10525881768749383,0.56945020368934163,25.254364518996283,{"$f":"INDEX('Savings from 6P'!$A$11:$L$92,MATCH(MMap!F351&MMap!J351&H351,'Savings from 6P'!$A$11:$A$92,0),MATCH(MMap!K351&G351,'Savings from 6P'!$A$4:$L$4,0))","v":5.4099999999999999E-3},{"$f":"IF(P351<=0,0,VLOOKUP(F351&K351&H351,Costs!$A$13:$B$24,2,FALSE))","v":0.23992635556647376},{"$f":"VLOOKUP($R$9,[2]CHAR!$B$17:$T$54,MATCH(J351,[2]CHAR!$B$16:$T$16,0),FALSE)","v":9.0984350406775827E-2},{"$f":"IFERROR(VLOOKUP($F351&$I351&$K351&$H351&$G351,'Savings from 6P'!$V$11:$X$435,3,FALSE),$AD351)","v":1},{"$f":"MATCH(J351,[2]!BLDGTYPE,0)","v":18},0.10640191237323121,0.77815390025512432,0.11544418737164447,0.91177234717447209,"POST2013",{"$f":"IFERROR(IF(G351=\"gasht\",INDEX('Savings from 6P'!$Z$11:$AF$28,MATCH(J351,'Savings from 6P'!$Z$11:$Z$28,0),MATCH(MMap!F351&MMap!H351&MMap!K351,'Savings from 6P'!$Y$7:$AE$7,0)),\"\"),\"\")","v":""},0.11544418737164447,15,null,1]
["Demand Control Ventilation-DCV Only-Other-HtPmpHt-Vent-Retro","Demand Control Ventilation","Demand Control Ventilation-Retro-Other-DCV Only","Demand Control Ventilation-Retro-Other","Demand Control Ventilation-Retro","DCV Only","HtPmpHt","Vent","Other","Other","Retro","PRE2013",4.6003056968667612E-2,0.24887653820049174,11.037345803409295,{"$f":"INDEX('Savings from 6P'!$A$11:$L$92,MATCH(MMap!F352&MMap!J352&H352,'Savings from 6P'!$A$11:$A$92,0),MATCH(MMap!K352&G352,'Savings from 6P'!$A$4:$L$4,0))","v":5.4099999999999999E-3},{"$f":"IF(P352<=0,0,VLOOKUP(F352&K352&H352,Costs!$A$13:$B$24,2,FALSE))","v":0.23992635556647376},{"$f":"VLOOKUP($R$9,[2]CHAR!$B$17:$T$54,MATCH(J352,[2]CHAR!$B$16:$T$16,0),FALSE)","v":0.21334717399999265},{"$f":"IFERROR(VLOOKUP($F352&$I352&$K352&$H352&$G352,'Savings from 6P'!$V$11:$X$435,3,FALSE),$AD352)","v":0.5},{"$f":"MATCH(J352,[2]!BLDGTYPE,0)","v":19},0.16939513747697868,0.7257160432726234,0.104888819250398,0.87717751610580841,"POST2013",{"$f":"IFERROR(IF(G352=\"gasht\",INDEX('Savings from 6P'!$Z$11:$AF$28,MATCH(J352,'Savings from 6P'!$Z$11:$Z$28,0),MATCH(MMap!F352&MMap!H352&MMap!K352,'Savings from 6P'!$Y$7:$AE$7,0)),\"\"),\"\")","v":""},0.104888819250398,15,null,1]
[{"$f":"CONCATENATE(B353,\"-\",F353,\"-\",J353,\"-\",G353,\"-\",H353,\"-\",K353)","v":"Demand Control Ventilation-DCV Only-Large Off-HtPmpHt-Heat-Retro"},"Demand Control Ventilation",{"$f":"CONCATENATE(D353,\"-\",F353)","v":"Demand Control Ventilation-Retro-Large Off-DCV Only"},{"$f":"CONCATENATE(B353,\"-\",K353,\"-\",J353)","v":"Demand Control Ventilation-Retro-Large Off"},{"$f":"CONCATENATE(B353,\"-\",K353)","v":"Demand Control Ventilation-Retro"},"DCV Only","HtPmpHt","Heat","Large Off","Large Off","Retro","PRE2013",{"$f":"S353*X353*AA353","v":0.11900437778726315},35.399290310499765,0,{"$f":"INDEX('Savings from 6P'!$A$11:$L$92,MATCH(MMap!F353&MMap!J353&H353,'Savings from 6P'!$A$11:$A$92,0),MATCH(MMap!K353&G353,'Savings from 6P'!$A$4:$L$4,0))","v":0.29746208474599911},{"$f":"IF(P353<=0,0,VLOOKUP(F353&K353&H353,Costs!$A$13:$B$24,2,FALSE))","v":0},{"$f":"VLOOKUP($R$9,[2]CHAR!$B$17:$T$54,MATCH(J353,[2]CHAR!$B$16:$T$16,0),FALSE)","v":0.15073291148870363},{"$f":"IFERROR(VLOOKUP($F353&$I353&$K353&$H353&$G353,'Savings from 6P'!$V$11:$X$435,3,FALSE),$AD353)","v":0.5},{"$f":"MATCH(J353,[2]!BLDGTYPE,0)","v":2},0.20943280302167308,0.54037060186620078,0.25019659511212627,{"$f":"VLOOKUP($X$9,V_POST2013,MATCH(J353,BLDGTYP,FALSE)+1,FALSE)","v":0.95128694884061893},"POST2013",{"$f":"IFERROR(IF(G353=\"gasht\",INDEX('Savings from 6P'!$Z$11:$AF$28,MATCH(J353,'Savings from 6P'!$Z$11:$Z$28,0),MATCH(MMap!F353&MMap!H353&MMap!K353,'Savings from 6P'!$Y$7:$AE$7,0)),\"\"),\"\")","v":""},0.25019659511212627,15,null,1]
["Demand Control Ventilation-DCV Only-Medium Off-HtPmpHt-Heat-Retro","Demand Control Ventilation","Demand Control Ventilation-Retro-Medium Off-DCV Only","Demand Control Ventilation-Retro-Medium Off","Demand Control Ventilation-Retro","DCV Only","HtPmpHt","Heat","Medium Off","Medium Off","Retro","PRE2013",0.12910819687851111,38.404793401278809,0,{"$f":"INDEX('Savings from 6P'!$A$11:$L$92,MATCH(MMap!F354&MMap!J354&H354,'Savings from 6P'!$A$11:$A$92,0),MATCH(MMap!K354&G354,'Savings from 6P'!$A$4:$L$4,0))","v":0.29746208474599911},{"$f":"IF(P354<=0,0,VLOOKUP(F354&K354&H354,Costs!$A$13:$B$24,2,FALSE))","v":0},{"$f":"VLOOKUP($R$9,[2]CHAR!$B$17:$T$54,MATCH(J354,[2]CHAR!$B$16:$T$16,0),FALSE)","v":0.12013270538231059},{"$f":"IFERROR(VLOOKUP($F354&$I354&$K354&$H354&$G354,'Savings from 6P'!$V$11:$X$435,3,FALSE),$AD354)","v":0.5},{"$f":"MATCH(J354,[2]!BLDGTYPE,0)","v":3},0.22131165109110185,0.51430081857580845,0.26438753033308959,0.97665874571205136,"POST2013",{"$f":"IFERROR(IF(G354=\"gasht\",INDEX('Savings from 6P'!$Z$11:$AF$28,MATCH(J354,'Savings from 6P'!$Z$11:$Z$28,0),MATCH(MMap!F354&MMap!H354&MMap!K354,'Savings from 6P'!$Y$7:$AE$7,0)),\"\"),\"\")","v":""},0.26438753033308959,15,null,1]
["Demand Control Ventilation-DCV Only-Small Off-HtPmpHt-Heat-Retro","Demand Control Ventilation","Demand Control Ventilation-Retro-Small Off-DCV Only","Demand Control Ventilation-Retro-Small Off","Demand Control Ventilation-Retro","DCV Only","HtPmpHt","Heat","Small Off","Small Off","Retro","PRE2013",0.16677654162032665,49.609697757110254,0,{"$f":"INDEX('Savings from 6P'!$A$11:$L$92,MATCH(MMap!F355&MMap!J355&H355,'Savings from 6P'!$A$11:$A$92,0),MATCH(MMap!K355&G355,'Savings from 6P'!$A$4:$L$4,0))","v":0.29746208474599911},{"$f":"IF(P355<=0,0,VLOOKUP(F355&K355&H355,Costs!$A$13:$B$24,2,FALSE))","v":0},{"$f":"VLOOKUP($R$9,[2]CHAR!$B$17:$T$54,MATCH(J355,[2]CHAR!$B$16:$T$16,0),FALSE)","v":3.1538695729415013E-2},{"$f":"IFERROR(VLOOKUP($F355&$I355&$K355&$H355&$G355,'Savings from 6P'!$V$11:$X$435,3,FALSE),$AD355)","v":0.5},{"$f":"MATCH(J355,[2]!BLDGTYPE,0)","v":4},0.30640942705415353,0.3275419203320854,0.36604865261376096,0.91122609210258287,"POST2013",{"$f":"IFERROR(IF(G355=\"gasht\",INDEX('Savings from 6P'!$Z$11:$AF$28,MATCH(J355,'Savings from 6P'!$Z$11:$Z$28,0),MATCH(MMap!F355&MMap!H355&MMap!K355,'Savings from 6P'!$Y$7:$AE$7,0)),\"\"),\"\")","v":""},0.36604865261376096,15,null,1]
["Demand Control Ventilation-DCV Only-Xlarge Ret-HtPmpHt-Heat-Retro","Demand Control Ventilation","Demand Control Ventilation-Retro-Xlarge Ret-DCV Only","Demand Control Ventilation-Retro-Xlarge Ret","Demand Control Ventilation-Retro","DCV Only","HtPmpHt","Heat","Big Box","Xlarge Ret","Retro","PRE2013",4.5759500420794125E-3,5.4842703474756398,0,{"$f":"INDEX('Savings from 6P'!$A$11:$L$92,MATCH(MMap!F356&MMap!J356&H356,'Savings from 6P'!$A$11:$A$92,0),MATCH(MMap!K356&G356,'Savings from 6P'!$A$4:$L$4,0))","v":1.198498737320888},{"$f":"IF(P356<=0,0,VLOOKUP(F356&K356&H356,Costs!$A$13:$B$24,2,FALSE))","v":0},{"$f":"VLOOKUP($R$9,[2]CHAR!$B$17:$T$54,MATCH(J356,[2]CHAR!$B$16:$T$16,0),FALSE)","v":2.6820893655991742E-2},{"$f":"IFERROR(VLOOKUP($F356&$I356&$K356&$H356&$G356,'Savings from 6P'!$V$11:$X$435,3,FALSE),$AD356)","v":0.15000000000000002},{"$f":"MATCH(J356,[2]!BLDGTYPE,0)","v":5},5.2995881766435368E-2,0.91606730000738101,3.0936818226183656E-2,0.98608503921852686,"POST2013",{"$f":"IFERROR(IF(G356=\"gasht\",INDEX('Savings from 6P'!$Z$11:$AF$28,MATCH(J356,'Savings from 6P'!$Z$11:$Z$28,0),MATCH(MMap!F356&MMap!H356&MMap!K356,'Savings from 6P'!$Y$7:$AE$7,0)),\"\"),\"\")","v":""},3.0936818226183656E-2,15,null,0.30000000000000004]
["Demand Control Ventilation-DCV Only-Large Ret-HtPmpHt-Heat-Retro","Demand Control Ventilation","Demand Control Ventilation-Retro-Large Ret-DCV Only","Demand Control Ventilation-Retro-Large Ret","Demand Control Ventilation-Retro","DCV Only","HtPmpHt","Heat","Small Box","Large Ret","Retro","PRE2013",9.5455330731864549E-4,1.1440309335268741,0,{"$f":"INDEX('Savings from 6P'!$A$11:$L$92,MATCH(MMap!F357&MMap!J357&H357,'Savings from 6P'!$A$11:$A$92,0),MATCH(MMap!K357&G357,'Savings from 6P'!$A$4:$L$4,0))","v":1.198498737320888},{"$f":"IF(P357<=0,0,VLOOKUP(F357&K357&H357,Costs!$A$13:$B$24,2,FALSE))","v":0},{"$f":"VLOOKUP($R$9,[2]CHAR!$B$17:$T$54,MATCH(J357,[2]CHAR!$B$16:$T$16,0),FALSE)","v":1.0839638408159987E-2},{"$f":"IFERROR(VLOOKUP($F357&$I357&$K357&$H357&$G357,'Savings from 6P'!$V$11:$X$435,3,FALSE),$AD357)","v":0.2},{"$f":"MATCH(J357,[2]!BLDGTYPE,0)","v":6},1.0593107738682607E-2,0.98322307122393326,6.1838210373840949E-3,0.77181511362305244,"POST2013",{"$f":"IFERROR(IF(G357=\"gasht\",INDEX('Savings from 6P'!$Z$11:$AF$28,MATCH(J357,'Savings from 6P'!$Z$11:$Z$28,0),MATCH(MMap!F357&MMap!H357&MMap!K357,'Savings from 6P'!$Y$7:$AE$7,0)),\"\"),\"\")","v":""},6.1838210373840949E-3,15,null,0.4]
["Demand Control Ventilation-DCV Only-Medium Ret-HtPmpHt-Heat-Retro","Demand Control Ventilation","Demand Control Ventilation-Retro-Medium Ret-DCV Only","Demand Control Ventilation-Retro-Medium Ret","Demand Control Ventilation-Retro","DCV Only","HtPmpHt","Heat","High End","Medium Ret","Retro","PRE2013",2.2206970731269531E-2,16.306738515015631,0,{"$f":"INDEX('Savings from 6P'!$A$11:$L$92,MATCH(MMap!F358&MMap!J358&H358,'Savings from 6P'!$A$11:$A$92,0),MATCH(MMap!K358&G358,'Savings from 6P'!$A$4:$L$4,0))","v":0.73430720075900269},{"$f":"IF(P358<=0,0,VLOOKUP(F358&K358&H358,Costs!$A$13:$B$24,2,FALSE))","v":0},{"$f":"VLOOKUP($R$9,[2]CHAR!$B$17:$T$54,MATCH(J358,[2]CHAR!$B$16:$T$16,0),FALSE)","v":4.0894012773033235E-2},{"$f":"IFERROR(VLOOKUP($F358&$I358&$K358&$H358&$G358,'Savings from 6P'!$V$11:$X$435,3,FALSE),$AD358)","v":0.35},{"$f":"MATCH(J358,[2]!BLDGTYPE,0)","v":7},0.12006240959495594,0.80985008893074606,7.0087501474297986E-2,0.90527535536267667,"POST2013",{"$f":"IFERROR(IF(G358=\"gasht\",INDEX('Savings from 6P'!$Z$11:$AF$28,MATCH(J358,'Savings from 6P'!$Z$11:$Z$28,0),MATCH(MMap!F358&MMap!H358&MMap!K358,'Savings from 6P'!$Y$7:$AE$7,0)),\"\"),\"\")","v":""},7.0087501474297986E-2,15,null,0.7]
["Demand Control Ventilation-DCV Only-Small Ret-HtPmpHt-Heat-Retro","Demand Control Ventilation","Demand Control Ventilation-Retro-Small Ret-DCV Only","Demand Control Ventilation-Retro-Small Ret","Demand Control Ventilation-Retro","DCV Only","HtPmpHt","Heat","Anchor","Small Ret","Retro","PRE2013",2.9967134414351237E-2,22.005082586571035,0,{"$f":"INDEX('Savings from 6P'!$A$11:$L$92,MATCH(MMap!F359&MMap!J359&H359,'Savings from 6P'!$A$11:$A$92,0),MATCH(MMap!K359&G359,'Savings from 6P'!$A$4:$L$4,0))","v":0.73430720075900269},{"$f":"IF(P359<=0,0,VLOOKUP(F359&K359&H359,Costs!$A$13:$B$24,2,FALSE))","v":0},{"$f":"VLOOKUP($R$9,[2]CHAR!$B$17:$T$54,MATCH(J359,[2]CHAR!$B$16:$T$16,0),FALSE)","v":1.3016203517984767E-2},{"$f":"IFERROR(VLOOKUP($F359&$I359&$K359&$H359&$G359,'Savings from 6P'!$V$11:$X$435,3,FALSE),$AD359)","v":0.35},{"$f":"MATCH(J359,[2]!BLDGTYPE,0)","v":8},0.2732917310450087,0.56717178566142912,0.15953648329356207,0.53668215741883951,"POST2013",{"$f":"IFERROR(IF(G359=\"gasht\",INDEX('Savings from 6P'!$Z$11:$AF$28,MATCH(J359,'Savings from 6P'!$Z$11:$Z$28,0),MATCH(MMap!F359&MMap!H359&MMap!K359,'Savings from 6P'!$Y$7:$AE$7,0)),\"\"),\"\")","v":""},0.15953648329356207,15,null,0.7]
["Demand Control Ventilation-DCV Only-School K-12-HtPmpHt-Heat-Retro","Demand Control Ventilation","Demand Control Ventilation-Retro-School K-12-DCV Only","Demand Control Ventilation-Retro-School K-12","Demand Control Ventilation-Retro","DCV Only","HtPmpHt","Heat","K-12","School K-12","Retro","PRE2013",4.5109677217079237E-2,0,0,{"$f":"INDEX('Savings from 6P'!$A$11:$L$92,MATCH(MMap!F360&MMap!J360&H360,'Savings from 6P'!$A$11:$A$92,0),MATCH(MMap!K360&G360,'Savings from 6P'!$A$4:$L$4,0))","v":0},{"$f":"IF(P360<=0,0,VLOOKUP(F360&K360&H360,Costs!$A$13:$B$24,2,FALSE))","v":0},{"$f":"VLOOKUP($R$9,[2]CHAR!$B$17:$T$54,MATCH(J360,[2]CHAR!$B$16:$T$16,0),FALSE)","v":3.0886857559635036E-2},{"$f":"IFERROR(VLOOKUP($F360&$I360&$K360&$H360&$G360,'Savings from 6P'!$V$11:$X$435,3,FALSE),$AD360)","v":0.5},{"$f":"MATCH(J360,[2]!BLDGTYPE,0)","v":9},5.8369343906151915E-2,0.84777782221188291,9.3852833881965178E-2,0.96128535178408803,"POST2013",{"$f":"IFERROR(IF(G360=\"gasht\",INDEX('Savings from 6P'!$Z$11:$AF$28,MATCH(J360,'Savings from 6P'!$Z$11:$Z$28,0),MATCH(MMap!F360&MMap!H360&MMap!K360,'Savings from 6P'!$Y$7:$AE$7,0)),\"\"),\"\")","v":""},9.3852833881965178E-2,15,null,1]
["Demand Control Ventilation-DCV Only-University-HtPmpHt-Heat-Retro","Demand Control Ventilation","Demand Control Ventilation-Retro-University-DCV Only","Demand Control Ventilation-Retro-University","Demand Control Ventilation-Retro","DCV Only","HtPmpHt","Heat","University","University","Retro","PRE2013",3.7500000000000006E-2,0,0,{"$f":"INDEX('Savings from 6P'!$A$11:$L$92,MATCH(MMap!F361&MMap!J361&H361,'Savings from 6P'!$A$11:$A$92,0),MATCH(MMap!K361&G361,'Savings from 6P'!$A$4:$L$4,0))","v":0},{"$f":"IF(P361<=0,0,VLOOKUP(F361&K361&H361,Costs!$A$13:$B$24,2,FALSE))","v":0},{"$f":"VLOOKUP($R$9,[2]CHAR!$B$17:$T$54,MATCH(J361,[2]CHAR!$B$16:$T$16,0),FALSE)","v":2.2325826170102026E-2},{"$f":"IFERROR(VLOOKUP($F361&$I361&$K361&$H361&$G361,'Savings from 6P'!$V$11:$X$435,3,FALSE),$AD361)","v":0.5},{"$f":"MATCH(J361,[2]!BLDGTYPE,0)","v":10},0.1,0.8,0.1,0.75,"POST2013",{"$f":"IFERROR(IF(G361=\"gasht\",INDEX('Savings from 6P'!$Z$11:$AF$28,MATCH(J361,'Savings from 6P'!$Z$11:$Z$28,0),MATCH(MMap!F361&MMap!H361&MMap!K361,'Savings from 6P'!$Y$7:$AE$7,0)),\"\"),\"\")","v":""},0.1,15,null,1]
["Demand Control Ventilation-DCV Only-Warehouse-HtPmpHt-Heat-Retro","Demand Control Ventilation","Demand Control Ventilation-Retro-Warehouse-DCV Only","Demand Control Ventilation-Retro-Warehouse","Demand Control Ventilation-Retro","DCV Only","HtPmpHt","Heat","Warehouse","Warehouse","Retro","PRE2013",5.9965127214962964E-4,0.17837351753421932,0,{"$f":"INDEX('Savings from 6P'!$A$11:$L$92,MATCH(MMap!F362&MMap!J362&H362,'Savings from 6P'!$A$11:$A$92,0),MATCH(MMap!K362&G362,'Savings from 6P'!$A$4:$L$4,0))","v":0.29746208474599911},{"$f":"IF(P362<=0,0,VLOOKUP(F362&K362&H362,Costs!$A$13:$B$24,2,FALSE))","v":0},{"$f":"VLOOKUP($R$9,[2]CHAR!$B$17:$T$54,MATCH(J362,[2]CHAR!$B$16:$T$16,0),FALSE)","v":0.10087192274660353},{"$f":"IFERROR(VLOOKUP($F362&$I362&$K362&$H362&$G362,'Savings from 6P'!$V$11:$X$435,3,FALSE),$AD362)","v":0.5},{"$f":"MATCH(J362,[2]!BLDGTYPE,0)","v":11},6.3929137015483993E-3,0.98700382329725422,6.6032630011973147E-3,0.18162271351024481,"POST2013",{"$f":"IFERROR(IF(G362=\"gasht\",INDEX('Savings from 6P'!$Z$11:$AF$28,MATCH(J362,'Savings from 6P'!$Z$11:$Z$28,0),MATCH(MMap!F362&MMap!H362&MMap!K362,'Savings from 6P'!$Y$7:$AE$7,0)),\"\"),\"\")","v":""},6.6032630011973147E-3,15,null,1]
["Demand Control Ventilation-DCV Only-Supermarket-HtPmpHt-Heat-Retro","Demand Control Ventilation","Demand Control Ventilation-Retro-Supermarket-DCV Only","Demand Control Ventilation-Retro-Supermarket","Demand Control Ventilation-Retro","DCV Only","HtPmpHt","Heat","Supermarket","Supermarket","Retro","PRE2013",8.6178002790496758E-3,10.328422752924633,0,{"$f":"INDEX('Savings from 6P'!$A$11:$L$92,MATCH(MMap!F363&MMap!J363&H363,'Savings from 6P'!$A$11:$A$92,0),MATCH(MMap!K363&G363,'Savings from 6P'!$A$4:$L$4,0))","v":1.198498737320888},{"$f":"IF(P363<=0,0,VLOOKUP(F363&K363&H363,Costs!$A$13:$B$24,2,FALSE))","v":0},{"$f":"VLOOKUP($R$9,[2]CHAR!$B$17:$T$54,MATCH(J363,[2]CHAR!$B$16:$T$16,0),FALSE)","v":6.1675003194375045E-3},{"$f":"IFERROR(VLOOKUP($F363&$I363&$K363&$H363&$G363,'Savings from 6P'!$V$11:$X$435,3,FALSE),$AD363)","v":0.15000000000000002},{"$f":"MATCH(J363,[2]!BLDGTYPE,0)","v":12},3.9182634298973458E-2,0.46957192737561176,6.234756715808213E-2,0.92147944946531313,"POST2013",{"$f":"IFERROR(IF(G363=\"gasht\",INDEX('Savings from 6P'!$Z$11:$AF$28,MATCH(J363,'Savings from 6P'!$Z$11:$Z$28,0),MATCH(MMap!F363&MMap!H363&MMap!K363,'Savings from 6P'!$Y$7:$AE$7,0)),\"\"),\"\")","v":""},6.234756715808213E-2,15,null,1]
["Demand Control Ventilation-DCV Only-MiniMart-HtPmpHt-Heat-Retro","Demand Control Ventilation","Demand Control Ventilation-Retro-MiniMart-DCV Only","Demand Control Ventilation-Retro-MiniMart","Demand Control Ventilation-Retro","DCV Only","HtPmpHt","Heat","MIniMart","MiniMart","Retro","PRE2013",4.6213529737362891E-3,5.538685703737074,0,{"$f":"INDEX('Savings from 6P'!$A$11:$L$92,MATCH(MMap!F364&MMap!J364&H364,'Savings from 6P'!$A$11:$A$92,0),MATCH(MMap!K364&G364,'Savings from 6P'!$A$4:$L$4,0))","v":1.198498737320888},{"$f":"IF(P364<=0,0,VLOOKUP(F364&K364&H364,Costs!$A$13:$B$24,2,FALSE))","v":0},{"$f":"VLOOKUP($R$9,[2]CHAR!$B$17:$T$54,MATCH(J364,[2]CHAR!$B$16:$T$16,0),FALSE)","v":2.5477723102065148E-3},{"$f":"IFERROR(VLOOKUP($F364&$I364&$K364&$H364&$G364,'Savings from 6P'!$V$11:$X$435,3,FALSE),$AD364)","v":0.35},{"$f":"MATCH(J364,[2]!BLDGTYPE,0)","v":13},9.8940421863423066E-3,0.86606113087441317,1.5743440192688529E-2,0.83868998628257874,"POST2013",{"$f":"IFERROR(IF(G364=\"gasht\",INDEX('Savings from 6P'!$Z$11:$AF$28,MATCH(J364,'Savings from 6P'!$Z$11:$Z$28,0),MATCH(MMap!F364&MMap!H364&MMap!K364,'Savings from 6P'!$Y$7:$AE$7,0)),\"\"),\"\")","v":""},1.5743440192688529E-2,15,null,1]
["Demand Control Ventilation-DCV Only-Restaurant-HtPmpHt-Heat-Retro","Demand Control Ventilation","Demand Control Ventilation-Retro-Restaurant-DCV Only","Demand Control Ventilation-Retro-Restaurant","Demand Control Ventilation-Retro","DCV Only","HtPmpHt","Heat","Restaurant","Restaurant","Retro","PRE2013",6.1703806574534996E-2,73.951934267472495,0,{"$f":"INDEX('Savings from 6P'!$A$11:$L$92,MATCH(MMap!F365&MMap!J365&H365,'Savings from 6P'!$A$11:$A$92,0),MATCH(MMap!K365&G365,'Savings from 6P'!$A$4:$L$4,0))","v":1.198498737320888},{"$f":"IF(P365<=0,0,VLOOKUP(F365&K365&H365,Costs!$A$13:$B$24,2,FALSE))","v":0},{"$f":"VLOOKUP($R$9,[2]CHAR!$B$17:$T$54,MATCH(J365,[2]CHAR!$B$16:$T$16,0),FALSE)","v":1.1693580853842011E-2},{"$f":"IFERROR(VLOOKUP($F365&$I365&$K365&$H365&$G365,'Savings from 6P'!$V$11:$X$435,3,FALSE),$AD365)","v":0.35},{"$f":"MATCH(J365,[2]!BLDGTYPE,0)","v":14},3.0050555941853869E-2,0.79365284945968273,0.17629659459846331,0.99999997512427186,"POST2013",{"$f":"IFERROR(IF(G365=\"gasht\",INDEX('Savings from 6P'!$Z$11:$AF$28,MATCH(J365,'Savings from 6P'!$Z$11:$Z$28,0),MATCH(MMap!F365&MMap!H365&MMap!K365,'Savings from 6P'!$Y$7:$AE$7,0)),\"\"),\"\")","v":""},0.17629659459846331,15,null,1]
["Demand Control Ventilation-DCV Only-Lodging-HtPmpHt-Heat-Retro","Demand Control Ventilation","Demand Control Ventilation-Retro-Lodging-DCV Only","Demand Control Ventilation-Retro-Lodging","Demand Control Ventilation-Retro","DCV Only","HtPmpHt","Heat","Lodging","Lodging","Retro","PRE2013",0.14344822034287227,42.67040667629422,0,{"$f":"INDEX('Savings from 6P'!$A$11:$L$92,MATCH(MMap!F366&MMap!J366&H366,'Savings from 6P'!$A$11:$A$92,0),MATCH(MMap!K366&G366,'Savings from 6P'!$A$4:$L$4,0))","v":0.29746208474599911},{"$f":"IF(P366<=0,0,VLOOKUP(F366&K366&H366,Costs!$A$13:$B$24,2,FALSE))","v":0},{"$f":"VLOOKUP($R$9,[2]CHAR!$B$17:$T$54,MATCH(J366,[2]CHAR!$B$16:$T$16,0),FALSE)","v":2.3957473342185561E-2},{"$f":"IFERROR(VLOOKUP($F366&$I366&$K366&$H366&$G366,'Savings from 6P'!$V$11:$X$435,3,FALSE),$AD366)","v":0.5},{"$f":"MATCH(J366,[2]!BLDGTYPE,0)","v":15},0.44679184687802564,0.24941748529786834,0.30379066782410608,0.94438859080377269,"POST2013",{"$f":"IFERROR(IF(G366=\"gasht\",INDEX('Savings from 6P'!$Z$11:$AF$28,MATCH(J366,'Savings from 6P'!$Z$11:$Z$28,0),MATCH(MMap!F366&MMap!H366&MMap!K366,'Savings from 6P'!$Y$7:$AE$7,0)),\"\"),\"\")","v":""},0.30379066782410608,15,null,1]
["Demand Control Ventilation-DCV Only-Hospital-HtPmpHt-Heat-Retro","Demand Control Ventilation","Demand Control Ventilation-Retro-Hospital-DCV Only","Demand Control Ventilation-Retro-Hospital","Demand Control Ventilation-Retro","DCV Only","HtPmpHt","Heat","Hospital","Hospital","Retro","PRE2013",4.7499999999999999E-3,1.4129449025434959,0,{"$f":"INDEX('Savings from 6P'!$A$11:$L$92,MATCH(MMap!F367&MMap!J367&H367,'Savings from 6P'!$A$11:$A$92,0),MATCH(MMap!K367&G367,'Savings from 6P'!$A$4:$L$4,0))","v":0.29746208474599911},{"$f":"IF(P367<=0,0,VLOOKUP(F367&K367&H367,Costs!$A$13:$B$24,2,FALSE))","v":0},{"$f":"VLOOKUP($R$9,[2]CHAR!$B$17:$T$54,MATCH(J367,[2]CHAR!$B$16:$T$16,0),FALSE)","v":4.4965056377242296E-2},{"$f":"IFERROR(VLOOKUP($F367&$I367&$K367&$H367&$G367,'Savings from 6P'!$V$11:$X$435,3,FALSE),$AD367)","v":0.5},{"$f":"MATCH(J367,[2]!BLDGTYPE,0)","v":16},0.08,0.91,0.01,0.95,"POST2013",{"$f":"IFERROR(IF(G367=\"gasht\",INDEX('Savings from 6P'!$Z$11:$AF$28,MATCH(J367,'Savings from 6P'!$Z$11:$Z$28,0),MATCH(MMap!F367&MMap!H367&MMap!K367,'Savings from 6P'!$Y$7:$AE$7,0)),\"\"),\"\")","v":""},0.01,15,null,1]
["Demand Control Ventilation-DCV Only-Residential Care-HtPmpHt-Heat-Retro","Demand Control Ventilation","Demand Control Ventilation-Retro-Residential Care-DCV Only","Demand Control Ventilation-Retro-Residential Care","Demand Control Ventilation-Retro","DCV Only","HtPmpHt","Heat","OtherHealth","Residential Care","Retro","PRE2013",0.10721997232394763,31.893876493889792,0,{"$f":"INDEX('Savings from 6P'!$A$11:$L$92,MATCH(MMap!F368&MMap!J368&H368,'Savings from 6P'!$A$11:$A$92,0),MATCH(MMap!K368&G368,'Savings from 6P'!$A$4:$L$4,0))","v":0.29746208474599911},{"$f":"IF(P368<=0,0,VLOOKUP(F368&K368&H368,Costs!$A$13:$B$24,2,FALSE))","v":0},{"$f":"VLOOKUP($R$9,[2]CHAR!$B$17:$T$54,MATCH(J368,[2]CHAR!$B$16:$T$16,0),FALSE)","v":5.827742495837801E-2},{"$f":"IFERROR(VLOOKUP($F368&$I368&$K368&$H368&$G368,'Savings from 6P'!$V$11:$X$435,3,FALSE),$AD368)","v":0.5},{"$f":"MATCH(J368,[2]!BLDGTYPE,0)","v":17},0.33985691133471541,0.40556621261939335,0.25457687604589124,0.8423386600487599,"POST2013",{"$f":"IFERROR(IF(G368=\"gasht\",INDEX('Savings from 6P'!$Z$11:$AF$28,MATCH(J368,'Savings from 6P'!$Z$11:$Z$28,0),MATCH(MMap!F368&MMap!H368&MMap!K368,'Savings from 6P'!$Y$7:$AE$7,0)),\"\"),\"\")","v":""},0.25457687604589124,15,null,1]
["Demand Control Ventilation-DCV Only-Assembly-HtPmpHt-Heat-Retro","Demand Control Ventilation","Demand Control Ventilation-Retro-Assembly-DCV Only","Demand Control Ventilation-Retro-Assembly","Demand Control Ventilation-Retro","DCV Only","HtPmpHt","Heat","Assembly","Assembly","Retro","PRE2013",0.10525881768749383,31.310507347220963,0,{"$f":"INDEX('Savings from 6P'!$A$11:$L$92,MATCH(MMap!F369&MMap!J369&H369,'Savings from 6P'!$A$11:$A$92,0),MATCH(MMap!K369&G369,'Savings from 6P'!$A$4:$L$4,0))","v":0.29746208474599911},{"$f":"IF(P369<=0,0,VLOOKUP(F369&K369&H369,Costs!$A$13:$B$24,2,FALSE))","v":0},{"$f":"VLOOKUP($R$9,[2]CHAR!$B$17:$T$54,MATCH(J369,[2]CHAR!$B$16:$T$16,0),FALSE)","v":9.0984350406775827E-2},{"$f":"IFERROR(VLOOKUP($F369&$I369&$K369&$H369&$G369,'Savings from 6P'!$V$11:$X$435,3,FALSE),$AD369)","v":1},{"$f":"MATCH(J369,[2]!BLDGTYPE,0)","v":18},0.10640191237323121,0.77815390025512432,0.11544418737164447,0.91177234717447209,"POST2013",{"$f":"IFERROR(IF(G369=\"gasht\",INDEX('Savings from 6P'!$Z$11:$AF$28,MATCH(J369,'Savings from 6P'!$Z$11:$Z$28,0),MATCH(MMap!F369&MMap!H369&MMap!K369,'Savings from 6P'!$Y$7:$AE$7,0)),\"\"),\"\")","v":""},0.11544418737164447,15,null,1]
["Demand Control Ventilation-DCV Only-Other-HtPmpHt-Heat-Retro","Demand Control Ventilation","Demand Control Ventilation-Retro-Other-DCV Only","Demand Control Ventilation-Retro-Other","Demand Control Ventilation-Retro","DCV Only","HtPmpHt","Heat","Other","Other","Retro","PRE2013",4.6003056968667612E-2,13.684165230588832,0,{"$f":"INDEX('Savings from 6P'!$A$11:$L$92,MATCH(MMap!F370&MMap!J370&H370,'Savings from 6P'!$A$11:$A$92,0),MATCH(MMap!K370&G370,'Savings from 6P'!$A$4:$L$4,0))","v":0.29746208474599911},{"$f":"IF(P370<=0,0,VLOOKUP(F370&K370&H370,Costs!$A$13:$B$24,2,FALSE))","v":0},{"$f":"VLOOKUP($R$9,[2]CHAR!$B$17:$T$54,MATCH(J370,[2]CHAR!$B$16:$T$16,0),FALSE)","v":0.21334717399999265},{"$f":"IFERROR(VLOOKUP($F370&$I370&$K370&$H370&$G370,'Savings from 6P'!$V$11:$X$435,3,FALSE),$AD370)","v":0.5},{"$f":"MATCH(J370,[2]!BLDGTYPE,0)","v":19},0.16939513747697868,0.7257160432726234,0.104888819250398,0.87717751610580841,"POST2013",{"$f":"IFERROR(IF(G370=\"gasht\",INDEX('Savings from 6P'!$Z$11:$AF$28,MATCH(J370,'Savings from 6P'!$Z$11:$Z$28,0),MATCH(MMap!F370&MMap!H370&MMap!K370,'Savings from 6P'!$Y$7:$AE$7,0)),\"\"),\"\")","v":""},0.104888819250398,15,null,1]
["Demand Control Ventilation-DOAS-Large Off-HtPmpHt-Heat-Retro","Demand Control Ventilation","Demand Control Ventilation-Retro-Large Off-DOAS","Demand Control Ventilation-Retro-Large Off","Demand Control Ventilation-Retro","DOAS","HtPmpHt","Heat","Large Off","Large Off","Retro","PRE2013",0,0,0,{"$f":"INDEX('Savings from 6P'!$A$11:$L$92,MATCH(MMap!F371&MMap!J371&H371,'Savings from 6P'!$A$11:$A$92,0),MATCH(MMap!K371&G371,'Savings from 6P'!$A$4:$L$4,0))","v":0.84676237913858776},{"$f":"IF(P371<=0,0,VLOOKUP(F371&K371&H371,Costs!$A$13:$B$24,2,FALSE))","v":0},{"$f":"VLOOKUP($R$9,[2]CHAR!$B$17:$T$54,MATCH(J371,[2]CHAR!$B$16:$T$16,0),FALSE)","v":0.15073291148870363},{"$f":"IFERROR(VLOOKUP($F371&$I371&$K371&$H371&$G371,'Savings from 6P'!$V$11:$X$435,3,FALSE),$AD371)","v":0},{"$f":"MATCH(J371,[2]!BLDGTYPE,0)","v":2},0.20943280302167308,0.54037060186620078,0.25019659511212627,0.95128694884061893,"POST2013",{"$f":"IFERROR(IF(G371=\"gasht\",INDEX('Savings from 6P'!$Z$11:$AF$28,MATCH(J371,'Savings from 6P'!$Z$11:$Z$28,0),MATCH(MMap!F371&MMap!H371&MMap!K371,'Savings from 6P'!$Y$7:$AE$7,0)),\"\"),\"\")","v":""},0.25019659511212627,15,null,0]
["Demand Control Ventilation-DOAS-Medium Off-HtPmpHt-Heat-Retro","Demand Control Ventilation","Demand Control Ventilation-Retro-Medium Off-DOAS","Demand Control Ventilation-Retro-Medium Off","Demand Control Ventilation-Retro","DOAS","HtPmpHt","Heat","Medium Off","Medium Off","Retro","PRE2013",0,0,0,{"$f":"INDEX('Savings from 6P'!$A$11:$L$92,MATCH(MMap!F372&MMap!J372&H372,'Savings from 6P'!$A$11:$A$92,0),MATCH(MMap!K372&G372,'Savings from 6P'!$A$4:$L$4,0))","v":0.84676237913858776},{"$f":"IF(P372<=0,0,VLOOKUP(F372&K372&H372,Costs!$A$13:$B$24,2,FALSE))","v":0},{"$f":"VLOOKUP($R$9,[2]CHAR!$B$17:$T$54,MATCH(J372,[2]CHAR!$B$16:$T$16,0),FALSE)","v":0.12013270538231059},{"$f":"IFERROR(VLOOKUP($F372&$I372&$K372&$H372&$G372,'Savings from 6P'!$V$11:$X$435,3,FALSE),$AD372)","v":0},{"$f":"MATCH(J372,[2]!BLDGTYPE,0)","v":3},0.22131165109110185,0.51430081857580845,0.26438753033308959,0.97665874571205136,"POST2013",{"$f":"IFERROR(IF(G372=\"gasht\",INDEX('Savings from 6P'!$Z$11:$AF$28,MATCH(J372,'Savings from 6P'!$Z$11:$Z$28,0),MATCH(MMap!F372&MMap!H372&MMap!K372,'Savings from 6P'!$Y$7:$AE$7,0)),\"\"),\"\")","v":""},0.26438753033308959,15,null,0]
["Demand Control Ventilation-DOAS-Small Off-HtPmpHt-Heat-Retro","Demand Control Ventilation","Demand Control Ventilation-Retro-Small Off-DOAS","Demand Control Ventilation-Retro-Small Off","Demand Control Ventilation-Retro","DOAS","HtPmpHt","Heat","Small Off","Small Off","Retro","PRE2013",0,0,0,{"$f":"INDEX('Savings from 6P'!$A$11:$L$92,MATCH(MMap!F373&MMap!J373&H373,'Savings from 6P'!$A$11:$A$92,0),MATCH(MMap!K373&G373,'Savings from 6P'!$A$4:$L$4,0))","v":0.84676237913858776},{"$f":"IF(P373<=0,0,VLOOKUP(F373&K373&H373,Costs!$A$13:$B$24,2,FALSE))","v":0},{"$f":"VLOOKUP($R$9,[2]CHAR!$B$17:$T$54,MATCH(J373,[2]CHAR!$B$16:$T$16,0),FALSE)","v":3.1538695729415013E-2},{"$f":"IFERROR(VLOOKUP($F373&$I373&$K373&$H373&$G373,'Savings from 6P'!$V$11:$X$435,3,FALSE),$AD373)","v":0},{"$f":"MATCH(J373,[2]!BLDGTYPE,0)","v":4},0.30640942705415353,0.3275419203320854,0.36604865261376096,0.91122609210258287,"POST2013",{"$f":"IFERROR(IF(G373=\"gasht\",INDEX('Savings from 6P'!$Z$11:$AF$28,MATCH(J373,'Savings from 6P'!$Z$11:$Z$28,0),MATCH(MMap!F373&MMap!H373&MMap!K373,'Savings from 6P'!$Y$7:$AE$7,0)),\"\"),\"\")","v":""},0.36604865261376096,15,null,0]
["Demand Control Ventilation-DOAS-Xlarge Ret-HtPmpHt-Heat-Retro","Demand Control Ventilation","Demand Control Ventilation-Retro-Xlarge Ret-DOAS","Demand Control Ventilation-Retro-Xlarge Ret","Demand Control Ventilation-Retro","DOAS","HtPmpHt","Heat","Big Box","Xlarge Ret","Retro","PRE2013",2.1354433529703922E-2,41.45274143663174,0,{"$f":"INDEX('Savings from 6P'!$A$11:$L$92,MATCH(MMap!F374&MMap!J374&H374,'Savings from 6P'!$A$11:$A$92,0),MATCH(MMap!K374&G374,'Savings from 6P'!$A$4:$L$4,0))","v":1.9411772913091401},{"$f":"IF(P374<=0,0,VLOOKUP(F374&K374&H374,Costs!$A$13:$B$24,2,FALSE))","v":0},{"$f":"VLOOKUP($R$9,[2]CHAR!$B$17:$T$54,MATCH(J374,[2]CHAR!$B$16:$T$16,0),FALSE)","v":2.6820893655991742E-2},{"$f":"IFERROR(VLOOKUP($F374&$I374&$K374&$H374&$G374,'Savings from 6P'!$V$11:$X$435,3,FALSE),$AD374)","v":0.7},{"$f":"MATCH(J374,[2]!BLDGTYPE,0)","v":5},5.2995881766435368E-2,0.91606730000738101,3.0936818226183656E-2,0.98608503921852686,"POST2013",{"$f":"IFERROR(IF(G374=\"gasht\",INDEX('Savings from 6P'!$Z$11:$AF$28,MATCH(J374,'Savings from 6P'!$Z$11:$Z$28,0),MATCH(MMap!F374&MMap!H374&MMap!K374,'Savings from 6P'!$Y$7:$AE$7,0)),\"\"),\"\")","v":""},3.0936818226183656E-2,15,null,0.7]
["Demand Control Ventilation-DOAS-Large Ret-HtPmpHt-Heat-Retro","Demand Control Ventilation","Demand Control Ventilation-Retro-Large Ret-DOAS","Demand Control Ventilation-Retro-Large Ret","Demand Control Ventilation-Retro","DOAS","HtPmpHt","Heat","Small Box","Large Ret","Retro","PRE2013",2.8636599219559362E-3,5.5588716105329681,0,{"$f":"INDEX('Savings from 6P'!$A$11:$L$92,MATCH(MMap!F375&MMap!J375&H375,'Savings from 6P'!$A$11:$A$92,0),MATCH(MMap!K375&G375,'Savings from 6P'!$A$4:$L$4,0))","v":1.9411772913091401},{"$f":"IF(P375<=0,0,VLOOKUP(F375&K375&H375,Costs!$A$13:$B$24,2,FALSE))","v":0},{"$f":"VLOOKUP($R$9,[2]CHAR!$B$17:$T$54,MATCH(J375,[2]CHAR!$B$16:$T$16,0),FALSE)","v":1.0839638408159987E-2},{"$f":"IFERROR(VLOOKUP($F375&$I375&$K375&$H375&$G375,'Savings from 6P'!$V$11:$X$435,3,FALSE),$AD375)","v":0.6},{"$f":"MATCH(J375,[2]!BLDGTYPE,0)","v":6},1.0593107738682607E-2,0.98322307122393326,6.1838210373840949E-3,0.77181511362305244,"POST2013",{"$f":"IFERROR(IF(G375=\"gasht\",INDEX('Savings from 6P'!$Z$11:$AF$28,MATCH(J375,'Savings from 6P'!$Z$11:$Z$28,0),MATCH(MMap!F375&MMap!H375&MMap!K375,'Savings from 6P'!$Y$7:$AE$7,0)),\"\"),\"\")","v":""},6.1838210373840949E-3,15,null,0.6]
["Demand Control Ventilation-DOAS-Medium Ret-HtPmpHt-Heat-Retro","Demand Control Ventilation","Demand Control Ventilation-Retro-Medium Ret-DOAS","Demand Control Ventilation-Retro-Medium Ret","Demand Control Ventilation-Retro","DOAS","HtPmpHt","Heat","High End","Medium Ret","Retro","PRE2013",1.9034546341088171E-2,18.037843922909722,0,{"$f":"INDEX('Savings from 6P'!$A$11:$L$92,MATCH(MMap!F376&MMap!J376&H376,'Savings from 6P'!$A$11:$A$92,0),MATCH(MMap!K376&G376,'Savings from 6P'!$A$4:$L$4,0))","v":0.94763718555104437},{"$f":"IF(P376<=0,0,VLOOKUP(F376&K376&H376,Costs!$A$13:$B$24,2,FALSE))","v":0},{"$f":"VLOOKUP($R$9,[2]CHAR!$B$17:$T$54,MATCH(J376,[2]CHAR!$B$16:$T$16,0),FALSE)","v":4.0894012773033235E-2},{"$f":"IFERROR(VLOOKUP($F376&$I376&$K376&$H376&$G376,'Savings from 6P'!$V$11:$X$435,3,FALSE),$AD376)","v":0.3},{"$f":"MATCH(J376,[2]!BLDGTYPE,0)","v":7},0.12006240959495594,0.80985008893074606,7.0087501474297986E-2,0.90527535536267667,"POST2013",{"$f":"IFERROR(IF(G376=\"gasht\",INDEX('Savings from 6P'!$Z$11:$AF$28,MATCH(J376,'Savings from 6P'!$Z$11:$Z$28,0),MATCH(MMap!F376&MMap!H376&MMap!K376,'Savings from 6P'!$Y$7:$AE$7,0)),\"\"),\"\")","v":""},7.0087501474297986E-2,15,null,0.3]
["Demand Control Ventilation-DOAS-Small Ret-HtPmpHt-Heat-Retro","Demand Control Ventilation","Demand Control Ventilation-Retro-Small Ret-DOAS","Demand Control Ventilation-Retro-Small Ret","Demand Control Ventilation-Retro","DOAS","HtPmpHt","Heat","Anchor","Small Ret","Retro","PRE2013",2.5686115212301061E-2,24.341117927524845,0,{"$f":"INDEX('Savings from 6P'!$A$11:$L$92,MATCH(MMap!F377&MMap!J377&H377,'Savings from 6P'!$A$11:$A$92,0),MATCH(MMap!K377&G377,'Savings from 6P'!$A$4:$L$4,0))","v":0.94763718555104437},{"$f":"IF(P377<=0,0,VLOOKUP(F377&K377&H377,Costs!$A$13:$B$24,2,FALSE))","v":0},{"$f":"VLOOKUP($R$9,[2]CHAR!$B$17:$T$54,MATCH(J377,[2]CHAR!$B$16:$T$16,0),FALSE)","v":1.3016203517984767E-2},{"$f":"IFERROR(VLOOKUP($F377&$I377&$K377&$H377&$G377,'Savings from 6P'!$V$11:$X$435,3,FALSE),$AD377)","v":0.3},{"$f":"MATCH(J377,[2]!BLDGTYPE,0)","v":8},0.2732917310450087,0.56717178566142912,0.15953648329356207,0.53668215741883951,"POST2013",{"$f":"IFERROR(IF(G377=\"gasht\",INDEX('Savings from 6P'!$Z$11:$AF$28,MATCH(J377,'Savings from 6P'!$Z$11:$Z$28,0),MATCH(MMap!F377&MMap!H377&MMap!K377,'Savings from 6P'!$Y$7:$AE$7,0)),\"\"),\"\")","v":""},0.15953648329356207,15,null,0.3]
["Demand Control Ventilation-DOAS-School K-12-HtPmpHt-Heat-Retro","Demand Control Ventilation","Demand Control Ventilation-Retro-School K-12-DOAS","Demand Control Ventilation-Retro-School K-12","Demand Control Ventilation-Retro","DOAS","HtPmpHt","Heat","K-12","School K-12","Retro","PRE2013",0,0,0,{"$f":"INDEX('Savings from 6P'!$A$11:$L$92,MATCH(MMap!F378&MMap!J378&H378,'Savings from 6P'!$A$11:$A$92,0),MATCH(MMap!K378&G378,'Savings from 6P'!$A$4:$L$4,0))","v":0.84676237913858776},{"$f":"IF(P378<=0,0,VLOOKUP(F378&K378&H378,Costs!$A$13:$B$24,2,FALSE))","v":0},{"$f":"VLOOKUP($R$9,[2]CHAR!$B$17:$T$54,MATCH(J378,[2]CHAR!$B$16:$T$16,0),FALSE)","v":3.0886857559635036E-2},{"$f":"IFERROR(VLOOKUP($F378&$I378&$K378&$H378&$G378,'Savings from 6P'!$V$11:$X$435,3,FALSE),$AD378)","v":0},{"$f":"MATCH(J378,[2]!BLDGTYPE,0)","v":9},5.8369343906151915E-2,0.84777782221188291,9.3852833881965178E-2,0.96128535178408803,"POST2013",{"$f":"IFERROR(IF(G378=\"gasht\",INDEX('Savings from 6P'!$Z$11:$AF$28,MATCH(J378,'Savings from 6P'!$Z$11:$Z$28,0),MATCH(MMap!F378&MMap!H378&MMap!K378,'Savings from 6P'!$Y$7:$AE$7,0)),\"\"),\"\")","v":""},9.3852833881965178E-2,15,null,0]
["Demand Control Ventilation-DOAS-University-HtPmpHt-Heat-Retro","Demand Control Ventilation","Demand Control Ventilation-Retro-University-DOAS","Demand Control Ventilation-Retro-University","Demand Control Ventilation-Retro","DOAS","HtPmpHt","Heat","University","University","Retro","PRE2013",0,0,0,{"$f":"INDEX('Savings from 6P'!$A$11:$L$92,MATCH(MMap!F379&MMap!J379&H379,'Savings from 6P'!$A$11:$A$92,0),MATCH(MMap!K379&G379,'Savings from 6P'!$A$4:$L$4,0))","v":0.84676237913858776},{"$f":"IF(P379<=0,0,VLOOKUP(F379&K379&H379,Costs!$A$13:$B$24,2,FALSE))","v":0},{"$f":"VLOOKUP($R$9,[2]CHAR!$B$17:$T$54,MATCH(J379,[2]CHAR!$B$16:$T$16,0),FALSE)","v":2.2325826170102026E-2},{"$f":"IFERROR(VLOOKUP($F379&$I379&$K379&$H379&$G379,'Savings from 6P'!$V$11:$X$435,3,FALSE),$AD379)","v":0},{"$f":"MATCH(J379,[2]!BLDGTYPE,0)","v":10},0.1,0.8,0.1,0.75,"POST2013",{"$f":"IFERROR(IF(G379=\"gasht\",INDEX('Savings from 6P'!$Z$11:$AF$28,MATCH(J379,'Savings from 6P'!$Z$11:$Z$28,0),MATCH(MMap!F379&MMap!H379&MMap!K379,'Savings from 6P'!$Y$7:$AE$7,0)),\"\"),\"\")","v":""},0.1,15,null,0]
["Demand Control Ventilation-DOAS-Warehouse-HtPmpHt-Heat-Retro","Demand Control Ventilation","Demand Control Ventilation-Retro-Warehouse-DOAS","Demand Control Ventilation-Retro-Warehouse","Demand Control Ventilation-Retro","DOAS","HtPmpHt","Heat","Warehouse","Warehouse","Retro","PRE2013",0,0,0,{"$f":"INDEX('Savings from 6P'!$A$11:$L$92,MATCH(MMap!F380&MMap!J380&H380,'Savings from 6P'!$A$11:$A$92,0),MATCH(MMap!K380&G380,'Savings from 6P'!$A$4:$L$4,0))","v":0.84676237913858776},{"$f":"IF(P380<=0,0,VLOOKUP(F380&K380&H380,Costs!$A$13:$B$24,2,FALSE))","v":0},{"$f":"VLOOKUP($R$9,[2]CHAR!$B$17:$T$54,MATCH(J380,[2]CHAR!$B$16:$T$16,0),FALSE)","v":0.10087192274660353},{"$f":"IFERROR(VLOOKUP($F380&$I380&$K380&$H380&$G380,'Savings from 6P'!$V$11:$X$435,3,FALSE),$AD380)","v":0},{"$f":"MATCH(J380,[2]!BLDGTYPE,0)","v":11},6.3929137015483993E-3,0.98700382329725422,6.6032630011973147E-3,0.18162271351024481,"POST2013",{"$f":"IFERROR(IF(G380=\"gasht\",INDEX('Savings from 6P'!$Z$11:$AF$28,MATCH(J380,'Savings from 6P'!$Z$11:$Z$28,0),MATCH(MMap!F380&MMap!H380&MMap!K380,'Savings from 6P'!$Y$7:$AE$7,0)),\"\"),\"\")","v":""},6.6032630011973147E-3,15,null,0]
["Demand Control Ventilation-DOAS-Supermarket-HtPmpHt-Heat-Retro","Demand Control Ventilation","Demand Control Ventilation-Retro-Supermarket-DOAS","Demand Control Ventilation-Retro-Supermarket","Demand Control Ventilation-Retro","DOAS","HtPmpHt","Heat","Supermarket","Supermarket","Retro","PRE2013",4.0216401302231808E-2,78.06716494606772,0,{"$f":"INDEX('Savings from 6P'!$A$11:$L$92,MATCH(MMap!F381&MMap!J381&H381,'Savings from 6P'!$A$11:$A$92,0),MATCH(MMap!K381&G381,'Savings from 6P'!$A$4:$L$4,0))","v":1.9411772913091401},{"$f":"IF(P381<=0,0,VLOOKUP(F381&K381&H381,Costs!$A$13:$B$24,2,FALSE))","v":0},{"$f":"VLOOKUP($R$9,[2]CHAR!$B$17:$T$54,MATCH(J381,[2]CHAR!$B$16:$T$16,0),FALSE)","v":6.1675003194375045E-3},{"$f":"IFERROR(VLOOKUP($F381&$I381&$K381&$H381&$G381,'Savings from 6P'!$V$11:$X$435,3,FALSE),$AD381)","v":0.7},{"$f":"MATCH(J381,[2]!BLDGTYPE,0)","v":12},3.9182634298973458E-2,0.46957192737561176,6.234756715808213E-2,0.92147944946531313,"POST2013",{"$f":"IFERROR(IF(G381=\"gasht\",INDEX('Savings from 6P'!$Z$11:$AF$28,MATCH(J381,'Savings from 6P'!$Z$11:$Z$28,0),MATCH(MMap!F381&MMap!H381&MMap!K381,'Savings from 6P'!$Y$7:$AE$7,0)),\"\"),\"\")","v":""},6.234756715808213E-2,15,null,0]
["Demand Control Ventilation-DOAS-MiniMart-HtPmpHt-Heat-Retro","Demand Control Ventilation","Demand Control Ventilation-Retro-MiniMart-DOAS","Demand Control Ventilation-Retro-MiniMart","Demand Control Ventilation-Retro","DOAS","HtPmpHt","Heat","MIniMart","MiniMart","Retro","PRE2013",3.9611596917739616E-3,7.6893132409207263,0,{"$f":"INDEX('Savings from 6P'!$A$11:$L$92,MATCH(MMap!F382&MMap!J382&H382,'Savings from 6P'!$A$11:$A$92,0),MATCH(MMap!K382&G382,'Savings from 6P'!$A$4:$L$4,0))","v":1.9411772913091401},{"$f":"IF(P382<=0,0,VLOOKUP(F382&K382&H382,Costs!$A$13:$B$24,2,FALSE))","v":0},{"$f":"VLOOKUP($R$9,[2]CHAR!$B$17:$T$54,MATCH(J382,[2]CHAR!$B$16:$T$16,0),FALSE)","v":2.5477723102065148E-3},{"$f":"IFERROR(VLOOKUP($F382&$I382&$K382&$H382&$G382,'Savings from 6P'!$V$11:$X$435,3,FALSE),$AD382)","v":0.3},{"$f":"MATCH(J382,[2]!BLDGTYPE,0)","v":13},9.8940421863423066E-3,0.86606113087441317,1.5743440192688529E-2,0.83868998628257874,"POST2013",{"$f":"IFERROR(IF(G382=\"gasht\",INDEX('Savings from 6P'!$Z$11:$AF$28,MATCH(J382,'Savings from 6P'!$Z$11:$Z$28,0),MATCH(MMap!F382&MMap!H382&MMap!K382,'Savings from 6P'!$Y$7:$AE$7,0)),\"\"),\"\")","v":""},1.5743440192688529E-2,15,null,0]
["Demand Control Ventilation-DOAS-Restaurant-HtPmpHt-Heat-Retro","Demand Control Ventilation","Demand Control Ventilation-Retro-Restaurant-DOAS","Demand Control Ventilation-Retro-Restaurant","Demand Control Ventilation-Retro","DOAS","HtPmpHt","Heat","Restaurant","Restaurant","Retro","PRE2013",5.2888977063887142E-2,102.66688123698768,0,{"$f":"INDEX('Savings from 6P'!$A$11:$L$92,MATCH(MMap!F383&MMap!J383&H383,'Savings from 6P'!$A$11:$A$92,0),MATCH(MMap!K383&G383,'Savings from 6P'!$A$4:$L$4,0))","v":1.9411772913091401},{"$f":"IF(P383<=0,0,VLOOKUP(F383&K383&H383,Costs!$A$13:$B$24,2,FALSE))","v":0},{"$f":"VLOOKUP($R$9,[2]CHAR!$B$17:$T$54,MATCH(J383,[2]CHAR!$B$16:$T$16,0),FALSE)","v":1.1693580853842011E-2},{"$f":"IFERROR(VLOOKUP($F383&$I383&$K383&$H383&$G383,'Savings from 6P'!$V$11:$X$435,3,FALSE),$AD383)","v":0.3},{"$f":"MATCH(J383,[2]!BLDGTYPE,0)","v":14},3.0050555941853869E-2,0.79365284945968273,0.17629659459846331,0.99999997512427186,"POST2013",{"$f":"IFERROR(IF(G383=\"gasht\",INDEX('Savings from 6P'!$Z$11:$AF$28,MATCH(J383,'Savings from 6P'!$Z$11:$Z$28,0),MATCH(MMap!F383&MMap!H383&MMap!K383,'Savings from 6P'!$Y$7:$AE$7,0)),\"\"),\"\")","v":""},0.17629659459846331,15,null,0]
["Demand Control Ventilation-DOAS-Lodging-HtPmpHt-Heat-Retro","Demand Control Ventilation","Demand Control Ventilation-Retro-Lodging-DOAS","Demand Control Ventilation-Retro-Lodging","Demand Control Ventilation-Retro","DOAS","HtPmpHt","Heat","Lodging","Lodging","Retro","PRE2013",0,0,0,{"$f":"INDEX('Savings from 6P'!$A$11:$L$92,MATCH(MMap!F384&MMap!J384&H384,'Savings from 6P'!$A$11:$A$92,0),MATCH(MMap!K384&G384,'Savings from 6P'!$A$4:$L$4,0))","v":0.84676237913858776},{"$f":"IF(P384<=0,0,VLOOKUP(F384&K384&H384,Costs!$A$13:$B$24,2,FALSE))","v":0},{"$f":"VLOOKUP($R$9,[2]CHAR!$B$17:$T$54,MATCH(J384,[2]CHAR!$B$16:$T$16,0),FALSE)","v":2.3957473342185561E-2},{"$f":"IFERROR(VLOOKUP($F384&$I384&$K384&$H384&$G384,'Savings from 6P'!$V$11:$X$435,3,FALSE),$AD384)","v":0},{"$f":"MATCH(J384,[2]!BLDGTYPE,0)","v":15},0.44679184687802564,0.24941748529786834,0.30379066782410608,0.94438859080377269,"POST2013",{"$f":"IFERROR(IF(G384=\"gasht\",INDEX('Savings from 6P'!$Z$11:$AF$28,MATCH(J384,'Savings from 6P'!$Z$11:$Z$28,0),MATCH(MMap!F384&MMap!H384&MMap!K384,'Savings from 6P'!$Y$7:$AE$7,0)),\"\"),\"\")","v":""},0.30379066782410608,15,null,0]
["Demand Control Ventilation-DOAS-Hospital-HtPmpHt-Heat-Retro","Demand Control Ventilation","Demand Control Ventilation-Retro-Hospital-DOAS","Demand Control Ventilation-Retro-Hospital","Demand Control Ventilation-Retro","DOAS","HtPmpHt","Heat","Hospital","Hospital","Retro","PRE2013",0,0,0,{"$f":"INDEX('Savings from 6P'!$A$11:$L$92,MATCH(MMap!F385&MMap!J385&H385,'Savings from 6P'!$A$11:$A$92,0),MATCH(MMap!K385&G385,'Savings from 6P'!$A$4:$L$4,0))","v":0.84676237913858776},{"$f":"IF(P385<=0,0,VLOOKUP(F385&K385&H385,Costs!$A$13:$B$24,2,FALSE))","v":0},{"$f":"VLOOKUP($R$9,[2]CHAR!$B$17:$T$54,MATCH(J385,[2]CHAR!$B$16:$T$16,0),FALSE)","v":4.4965056377242296E-2},{"$f":"IFERROR(VLOOKUP($F385&$I385&$K385&$H385&$G385,'Savings from 6P'!$V$11:$X$435,3,FALSE),$AD385)","v":0},{"$f":"MATCH(J385,[2]!BLDGTYPE,0)","v":16},0.08,0.91,0.01,0.95,"POST2013",{"$f":"IFERROR(IF(G385=\"gasht\",INDEX('Savings from 6P'!$Z$11:$AF$28,MATCH(J385,'Savings from 6P'!$Z$11:$Z$28,0),MATCH(MMap!F385&MMap!H385&MMap!K385,'Savings from 6P'!$Y$7:$AE$7,0)),\"\"),\"\")","v":""},0.01,15,null,0]
["Demand Control Ventilation-DOAS-Residential Care-HtPmpHt-Heat-Retro","Demand Control Ventilation","Demand Control Ventilation-Retro-Residential Care-DOAS","Demand Control Ventilation-Retro-Residential Care","Demand Control Ventilation-Retro","DOAS","HtPmpHt","Heat","OtherHealth","Residential Care","Retro","PRE2013",0,0,0,{"$f":"INDEX('Savings from 6P'!$A$11:$L$92,MATCH(MMap!F386&MMap!J386&H386,'Savings from 6P'!$A$11:$A$92,0),MATCH(MMap!K386&G386,'Savings from 6P'!$A$4:$L$4,0))","v":0.84676237913858776},{"$f":"IF(P386<=0,0,VLOOKUP(F386&K386&H386,Costs!$A$13:$B$24,2,FALSE))","v":0},{"$f":"VLOOKUP($R$9,[2]CHAR!$B$17:$T$54,MATCH(J386,[2]CHAR!$B$16:$T$16,0),FALSE)","v":5.827742495837801E-2},{"$f":"IFERROR(VLOOKUP($F386&$I386&$K386&$H386&$G386,'Savings from 6P'!$V$11:$X$435,3,FALSE),$AD386)","v":0},{"$f":"MATCH(J386,[2]!BLDGTYPE,0)","v":17},0.33985691133471541,0.40556621261939335,0.25457687604589124,0.8423386600487599,"POST2013",{"$f":"IFERROR(IF(G386=\"gasht\",INDEX('Savings from 6P'!$Z$11:$AF$28,MATCH(J386,'Savings from 6P'!$Z$11:$Z$28,0),MATCH(MMap!F386&MMap!H386&MMap!K386,'Savings from 6P'!$Y$7:$AE$7,0)),\"\"),\"\")","v":""},0.25457687604589124,15,null,0]
["Demand Control Ventilation-DOAS-Assembly-HtPmpHt-Heat-Retro","Demand Control Ventilation","Demand Control Ventilation-Retro-Assembly-DOAS","Demand Control Ventilation-Retro-Assembly","Demand Control Ventilation-Retro","DOAS","HtPmpHt","Heat","Assembly","Assembly","Retro","PRE2013",0,0,0,{"$f":"INDEX('Savings from 6P'!$A$11:$L$92,MATCH(MMap!F387&MMap!J387&H387,'Savings from 6P'!$A$11:$A$92,0),MATCH(MMap!K387&G387,'Savings from 6P'!$A$4:$L$4,0))","v":0.84676237913858776},{"$f":"IF(P387<=0,0,VLOOKUP(F387&K387&H387,Costs!$A$13:$B$24,2,FALSE))","v":0},{"$f":"VLOOKUP($R$9,[2]CHAR!$B$17:$T$54,MATCH(J387,[2]CHAR!$B$16:$T$16,0),FALSE)","v":9.0984350406775827E-2},{"$f":"IFERROR(VLOOKUP($F387&$I387&$K387&$H387&$G387,'Savings from 6P'!$V$11:$X$435,3,FALSE),$AD387)","v":0},{"$f":"MATCH(J387,[2]!BLDGTYPE,0)","v":18},0.10640191237323121,0.77815390025512432,0.11544418737164447,0.91177234717447209,"POST2013",{"$f":"IFERROR(IF(G387=\"gasht\",INDEX('Savings from 6P'!$Z$11:$AF$28,MATCH(J387,'Savings from 6P'!$Z$11:$Z$28,0),MATCH(MMap!F387&MMap!H387&MMap!K387,'Savings from 6P'!$Y$7:$AE$7,0)),\"\"),\"\")","v":""},0.11544418737164447,15,null,0]
["Demand Control Ventilation-DOAS-Other-HtPmpHt-Heat-Retro","Demand Control Ventilation","Demand Control Ventilation-Retro-Other-DOAS","Demand Control Ventilation-Retro-Other","Demand Control Ventilation-Retro","DOAS","HtPmpHt","Heat","Other","Other","Retro","PRE2013",0,0,0,{"$f":"INDEX('Savings from 6P'!$A$11:$L$92,MATCH(MMap!F388&MMap!J388&H388,'Savings from 6P'!$A$11:$A$92,0),MATCH(MMap!K388&G388,'Savings from 6P'!$A$4:$L$4,0))","v":0.84676237913858776},{"$f":"IF(P388<=0,0,VLOOKUP(F388&K388&H388,Costs!$A$13:$B$24,2,FALSE))","v":0},{"$f":"VLOOKUP($R$9,[2]CHAR!$B$17:$T$54,MATCH(J388,[2]CHAR!$B$16:$T$16,0),FALSE)","v":0.21334717399999265},{"$f":"IFERROR(VLOOKUP($F388&$I388&$K388&$H388&$G388,'Savings from 6P'!$V$11:$X$435,3,FALSE),$AD388)","v":0},{"$f":"MATCH(J388,[2]!BLDGTYPE,0)","v":19},0.16939513747697868,0.7257160432726234,0.104888819250398,0.87717751610580841,"POST2013",{"$f":"IFERROR(IF(G388=\"gasht\",INDEX('Savings from 6P'!$Z$11:$AF$28,MATCH(J388,'Savings from 6P'!$Z$11:$Z$28,0),MATCH(MMap!F388&MMap!H388&MMap!K388,'Savings from 6P'!$Y$7:$AE$7,0)),\"\"),\"\")","v":""},0.104888819250398,15,null,0]
["Demand Control Ventilation-DOAS-Large Off-ElecHt-Vent-Retro","Demand Control Ventilation","Demand Control Ventilation-Retro-Large Off-DOAS","Demand Control Ventilation-Retro-Large Off","Demand Control Ventilation-Retro","DOAS","ElecHt","Vent","Large Off","Large Off","Retro","PRE2013",0,0,0,{"$f":"INDEX('Savings from 6P'!$A$11:$L$92,MATCH(MMap!F389&MMap!J389&H389,'Savings from 6P'!$A$11:$A$92,0),MATCH(MMap!K389&G389,'Savings from 6P'!$A$4:$L$4,0))","v":0.62467037796659819},{"$f":"IF(P389<=0,0,VLOOKUP(F389&K389&H389,Costs!$A$13:$B$24,2,FALSE))","v":0.71667847995056222},{"$f":"VLOOKUP($R$9,[2]CHAR!$B$17:$T$54,MATCH(J389,[2]CHAR!$B$16:$T$16,0),FALSE)","v":0.15073291148870363},{"$f":"IFERROR(VLOOKUP($F389&$I389&$K389&$H389&$G389,'Savings from 6P'!$V$11:$X$435,3,FALSE),$AD389)","v":0},{"$f":"MATCH(J389,[2]!BLDGTYPE,0)","v":2},0.20943280302167308,0.54037060186620078,0.25019659511212627,0.95128694884061893,"POST2013",{"$f":"IFERROR(IF(G389=\"gasht\",INDEX('Savings from 6P'!$Z$11:$AF$28,MATCH(J389,'Savings from 6P'!$Z$11:$Z$28,0),MATCH(MMap!F389&MMap!H389&MMap!K389,'Savings from 6P'!$Y$7:$AE$7,0)),\"\"),\"\")","v":""},0.20943280302167308,15,null,0]
["Demand Control Ventilation-DOAS-Medium Off-ElecHt-Vent-Retro","Demand Control Ventilation","Demand Control Ventilation-Retro-Medium Off-DOAS","Demand Control Ventilation-Retro-Medium Off","Demand Control Ventilation-Retro","DOAS","ElecHt","Vent","Medium Off","Medium Off","Retro","PRE2013",0,0,0,{"$f":"INDEX('Savings from 6P'!$A$11:$L$92,MATCH(MMap!F390&MMap!J390&H390,'Savings from 6P'!$A$11:$A$92,0),MATCH(MMap!K390&G390,'Savings from 6P'!$A$4:$L$4,0))","v":0.62467037796659819},{"$f":"IF(P390<=0,0,VLOOKUP(F390&K390&H390,Costs!$A$13:$B$24,2,FALSE))","v":0.71667847995056222},{"$f":"VLOOKUP($R$9,[2]CHAR!$B$17:$T$54,MATCH(J390,[2]CHAR!$B$16:$T$16,0),FALSE)","v":0.12013270538231059},{"$f":"IFERROR(VLOOKUP($F390&$I390&$K390&$H390&$G390,'Savings from 6P'!$V$11:$X$435,3,FALSE),$AD390)","v":0},{"$f":"MATCH(J390,[2]!BLDGTYPE,0)","v":3},0.22131165109110185,0.51430081857580845,0.26438753033308959,0.97665874571205136,"POST2013",{"$f":"IFERROR(IF(G390=\"gasht\",INDEX('Savings from 6P'!$Z$11:$AF$28,MATCH(J390,'Savings from 6P'!$Z$11:$Z$28,0),MATCH(MMap!F390&MMap!H390&MMap!K390,'Savings from 6P'!$Y$7:$AE$7,0)),\"\"),\"\")","v":""},0.22131165109110185,15,null,0]
["Demand Control Ventilation-DOAS-Small Off-ElecHt-Vent-Retro","Demand Control Ventilation","Demand Control Ventilation-Retro-Small Off-DOAS","Demand Control Ventilation-Retro-Small Off","Demand Control Ventilation-Retro","DOAS","ElecHt","Vent","Small Off","Small Off","Retro","PRE2013",0,0,0,{"$f":"INDEX('Savings from 6P'!$A$11:$L$92,MATCH(MMap!F391&MMap!J391&H391,'Savings from 6P'!$A$11:$A$92,0),MATCH(MMap!K391&G391,'Savings from 6P'!$A$4:$L$4,0))","v":0.62467037796659819},{"$f":"IF(P391<=0,0,VLOOKUP(F391&K391&H391,Costs!$A$13:$B$24,2,FALSE))","v":0.71667847995056222},{"$f":"VLOOKUP($R$9,[2]CHAR!$B$17:$T$54,MATCH(J391,[2]CHAR!$B$16:$T$16,0),FALSE)","v":3.1538695729415013E-2},{"$f":"IFERROR(VLOOKUP($F391&$I391&$K391&$H391&$G391,'Savings from 6P'!$V$11:$X$435,3,FALSE),$AD391)","v":0},{"$f":"MATCH(J391,[2]!BLDGTYPE,0)","v":4},0.30640942705415353,0.3275419203320854,0.36604865261376096,0.91122609210258287,"POST2013",{"$f":"IFERROR(IF(G391=\"gasht\",INDEX('Savings from 6P'!$Z$11:$AF$28,MATCH(J391,'Savings from 6P'!$Z$11:$Z$28,0),MATCH(MMap!F391&MMap!H391&MMap!K391,'Savings from 6P'!$Y$7:$AE$7,0)),\"\"),\"\")","v":""},0.30640942705415353,15,null,0]
["Demand Control Ventilation-DOAS-Xlarge Ret-ElecHt-Vent-Retro","Demand Control Ventilation","Demand Control Ventilation-Retro-Xlarge Ret-DOAS","Demand Control Ventilation-Retro-Xlarge Ret","Demand Control Ventilation-Retro","DOAS","ElecHt","Vent","Big Box","Xlarge Ret","Retro","PRE2013",3.658091230505308E-2,92.068572136069733,26.21675262599026,{"$f":"INDEX('Savings from 6P'!$A$11:$L$92,MATCH(MMap!F392&MMap!J392&H392,'Savings from 6P'!$A$11:$A$92,0),MATCH(MMap!K392&G392,'Savings from 6P'!$A$4:$L$4,0))","v":2.5168473483738647},{"$f":"IF(P392<=0,0,VLOOKUP(F392&K392&H392,Costs!$A$13:$B$24,2,FALSE))","v":0.71667847995056222},{"$f":"VLOOKUP($R$9,[2]CHAR!$B$17:$T$54,MATCH(J392,[2]CHAR!$B$16:$T$16,0),FALSE)","v":2.6820893655991742E-2},{"$f":"IFERROR(VLOOKUP($F392&$I392&$K392&$H392&$G392,'Savings from 6P'!$V$11:$X$435,3,FALSE),$AD392)","v":0.7},{"$f":"MATCH(J392,[2]!BLDGTYPE,0)","v":5},5.2995881766435368E-2,0.91606730000738101,3.0936818226183656E-2,0.98608503921852686,"POST2013",{"$f":"IFERROR(IF(G392=\"gasht\",INDEX('Savings from 6P'!$Z$11:$AF$28,MATCH(J392,'Savings from 6P'!$Z$11:$Z$28,0),MATCH(MMap!F392&MMap!H392&MMap!K392,'Savings from 6P'!$Y$7:$AE$7,0)),\"\"),\"\")","v":""},5.2995881766435368E-2,15,null,0.7]
["Demand Control Ventilation-DOAS-Large Ret-ElecHt-Vent-Retro","Demand Control Ventilation","Demand Control Ventilation-Retro-Large Ret-DOAS","Demand Control Ventilation-Retro-Large Ret","Demand Control Ventilation-Retro","DOAS","ElecHt","Vent","Small Box","Large Ret","Retro","PRE2013",4.9055523917715315E-3,12.346526529539249,3.5157038314526661,{"$f":"INDEX('Savings from 6P'!$A$11:$L$92,MATCH(MMap!F393&MMap!J393&H393,'Savings from 6P'!$A$11:$A$92,0),MATCH(MMap!K393&G393,'Savings from 6P'!$A$4:$L$4,0))","v":2.5168473483738647},{"$f":"IF(P393<=0,0,VLOOKUP(F393&K393&H393,Costs!$A$13:$B$24,2,FALSE))","v":0.71667847995056222},{"$f":"VLOOKUP($R$9,[2]CHAR!$B$17:$T$54,MATCH(J393,[2]CHAR!$B$16:$T$16,0),FALSE)","v":1.0839638408159987E-2},{"$f":"IFERROR(VLOOKUP($F393&$I393&$K393&$H393&$G393,'Savings from 6P'!$V$11:$X$435,3,FALSE),$AD393)","v":0.6},{"$f":"MATCH(J393,[2]!BLDGTYPE,0)","v":6},1.0593107738682607E-2,0.98322307122393326,6.1838210373840949E-3,0.77181511362305244,"POST2013",{"$f":"IFERROR(IF(G393=\"gasht\",INDEX('Savings from 6P'!$Z$11:$AF$28,MATCH(J393,'Savings from 6P'!$Z$11:$Z$28,0),MATCH(MMap!F393&MMap!H393&MMap!K393,'Savings from 6P'!$Y$7:$AE$7,0)),\"\"),\"\")","v":""},1.0593107738682607E-2,15,null,0.6]
["Demand Control Ventilation-DOAS-Medium Ret-ElecHt-Vent-Retro","Demand Control Ventilation","Demand Control Ventilation-Retro-Medium Ret-DOAS","Demand Control Ventilation-Retro-Medium Ret","Demand Control Ventilation-Retro","DOAS","ElecHt","Vent","High End","Medium Ret","Retro","PRE2013",3.2606862153531896E-2,50.281252714338812,23.368636404150756,{"$f":"INDEX('Savings from 6P'!$A$11:$L$92,MATCH(MMap!F394&MMap!J394&H394,'Savings from 6P'!$A$11:$A$92,0),MATCH(MMap!K394&G394,'Savings from 6P'!$A$4:$L$4,0))","v":1.5420451215939057},{"$f":"IF(P394<=0,0,VLOOKUP(F394&K394&H394,Costs!$A$13:$B$24,2,FALSE))","v":0.71667847995056222},{"$f":"VLOOKUP($R$9,[2]CHAR!$B$17:$T$54,MATCH(J394,[2]CHAR!$B$16:$T$16,0),FALSE)","v":4.0894012773033235E-2},{"$f":"IFERROR(VLOOKUP($F394&$I394&$K394&$H394&$G394,'Savings from 6P'!$V$11:$X$435,3,FALSE),$AD394)","v":0.3},{"$f":"MATCH(J394,[2]!BLDGTYPE,0)","v":7},0.12006240959495594,0.80985008893074606,7.0087501474297986E-2,0.90527535536267667,"POST2013",{"$f":"IFERROR(IF(G394=\"gasht\",INDEX('Savings from 6P'!$Z$11:$AF$28,MATCH(J394,'Savings from 6P'!$Z$11:$Z$28,0),MATCH(MMap!F394&MMap!H394&MMap!K394,'Savings from 6P'!$Y$7:$AE$7,0)),\"\"),\"\")","v":""},0.12006240959495594,15,null,0.3]
["Demand Control Ventilation-DOAS-Small Ret-ElecHt-Vent-Retro","Demand Control Ventilation","Demand Control Ventilation-Retro-Small Ret-DOAS","Demand Control Ventilation-Retro-Small Ret","Demand Control Ventilation-Retro","DOAS","ElecHt","Vent","Anchor","Small Ret","Retro","PRE2013",4.4001238746589351E-2,67.851895553266857,31.534740900847439,{"$f":"INDEX('Savings from 6P'!$A$11:$L$92,MATCH(MMap!F395&MMap!J395&H395,'Savings from 6P'!$A$11:$A$92,0),MATCH(MMap!K395&G395,'Savings from 6P'!$A$4:$L$4,0))","v":1.5420451215939057},{"$f":"IF(P395<=0,0,VLOOKUP(F395&K395&H395,Costs!$A$13:$B$24,2,FALSE))","v":0.71667847995056222},{"$f":"VLOOKUP($R$9,[2]CHAR!$B$17:$T$54,MATCH(J395,[2]CHAR!$B$16:$T$16,0),FALSE)","v":1.3016203517984767E-2},{"$f":"IFERROR(VLOOKUP($F395&$I395&$K395&$H395&$G395,'Savings from 6P'!$V$11:$X$435,3,FALSE),$AD395)","v":0.3},{"$f":"MATCH(J395,[2]!BLDGTYPE,0)","v":8},{"$f":"VLOOKUP(U$9,V_PRE2013,$T395,FALSE)","v":0.2732917310450087},0.56717178566142912,0.15953648329356207,0.53668215741883951,"POST2013",{"$f":"IFERROR(IF(G395=\"gasht\",INDEX('Savings from 6P'!$Z$11:$AF$28,MATCH(J395,'Savings from 6P'!$Z$11:$Z$28,0),MATCH(MMap!F395&MMap!H395&MMap!K395,'Savings from 6P'!$Y$7:$AE$7,0)),\"\"),\"\")","v":""},{"$f":"IF(G395=\"ElecHt\",U395,IF(G395=\"gasht\",V395,W395))","v":0.2732917310450087},15,null,0.3]
["Demand Control Ventilation-DOAS-School K-12-ElecHt-Vent-Retro","Demand Control Ventilation","Demand Control Ventilation-Retro-School K-12-DOAS","Demand Control Ventilation-Retro-School K-12","Demand Control Ventilation-Retro","DOAS","ElecHt","Vent","K-12","School K-12","Retro","PRE2013",0,0,{"$f":"Q396*M396*$O$9","v":0},{"$f":"INDEX('Savings from 6P'!$A$11:$L$92,MATCH(MMap!F396&MMap!J396&H396,'Savings from 6P'!$A$11:$A$92,0),MATCH(MMap!K396&G396,'Savings from 6P'!$A$4:$L$4,0))","v":0},{"$f":"IF(P396<=0,0,VLOOKUP(F396&K396&H396,Costs!$A$13:$B$24,2,FALSE))","v":0},{"$f":"VLOOKUP($R$9,[2]CHAR!$B$17:$T$54,MATCH(J396,[2]CHAR!$B$16:$T$16,0),FALSE)","v":3.0886857559635036E-2},{"$f":"IFERROR(VLOOKUP($F396&$I396&$K396&$H396&$G396,'Savings from 6P'!$V$11:$X$435,3,FALSE),$AD396)","v":0},{"$f":"MATCH(J396,[2]!BLDGTYPE,0)","v":9},5.8369343906151915E-2,0.84777782221188291,9.3852833881965178E-2,0.96128535178408803,"POST2013",{"$f":"IFERROR(IF(G396=\"gasht\",INDEX('Savings from 6P'!$Z$11:$AF$28,MATCH(J396,'Savings from 6P'!$Z$11:$Z$28,0),MATCH(MMap!F396&MMap!H396&MMap!K396,'Savings from 6P'!$Y$7:$AE$7,0)),\"\"),\"\")","v":""},5.8369343906151915E-2,15,null,0]
["Demand Control Ventilation-DOAS-University-ElecHt-Vent-Retro","Demand Control Ventilation","Demand Control Ventilation-Retro-University-DOAS","Demand Control Ventilation-Retro-University","Demand Control Ventilation-Retro","DOAS","ElecHt","Vent","University","University","Retro","PRE2013",0,0,0,{"$f":"INDEX('Savings from 6P'!$A$11:$L$92,MATCH(MMap!F397&MMap!J397&H397,'Savings from 6P'!$A$11:$A$92,0),MATCH(MMap!K397&G397,'Savings from 6P'!$A$4:$L$4,0))","v":0},{"$f":"IF(P397<=0,0,VLOOKUP(F397&K397&H397,Costs!$A$13:$B$24,2,FALSE))","v":0},{"$f":"VLOOKUP($R$9,[2]CHAR!$B$17:$T$54,MATCH(J397,[2]CHAR!$B$16:$T$16,0),FALSE)","v":2.2325826170102026E-2},{"$f":"IFERROR(VLOOKUP($F397&$I397&$K397&$H397&$G397,'Savings from 6P'!$V$11:$X$435,3,FALSE),$AD397)","v":0},{"$f":"MATCH(J397,[2]!BLDGTYPE,0)","v":10},0.1,0.8,0.1,0.75,"POST2013",{"$f":"IFERROR(IF(G397=\"gasht\",INDEX('Savings from 6P'!$Z$11:$AF$28,MATCH(J397,'Savings from 6P'!$Z$11:$Z$28,0),MATCH(MMap!F397&MMap!H397&MMap!K397,'Savings from 6P'!$Y$7:$AE$7,0)),\"\"),\"\")","v":""},0.1,15,null,0]
["Demand Control Ventilation-DOAS-Warehouse-ElecHt-Vent-Retro","Demand Control Ventilation","Demand Control Ventilation-Retro-Warehouse-DOAS","Demand Control Ventilation-Retro-Warehouse","Demand Control Ventilation-Retro","DOAS","ElecHt","Vent","Warehouse","Warehouse","Retro","PRE2013",0,0,0,{"$f":"INDEX('Savings from 6P'!$A$11:$L$92,MATCH(MMap!F398&MMap!J398&H398,'Savings from 6P'!$A$11:$A$92,0),MATCH(MMap!K398&G398,'Savings from 6P'!$A$4:$L$4,0))","v":0.62467037796659819},{"$f":"IF(P398<=0,0,VLOOKUP(F398&K398&H398,Costs!$A$13:$B$24,2,FALSE))","v":0.71667847995056222},{"$f":"VLOOKUP($R$9,[2]CHAR!$B$17:$T$54,MATCH(J398,[2]CHAR!$B$16:$T$16,0),FALSE)","v":0.10087192274660353},{"$f":"IFERROR(VLOOKUP($F398&$I398&$K398&$H398&$G398,'Savings from 6P'!$V$11:$X$435,3,FALSE),$AD398)","v":0},{"$f":"MATCH(J398,[2]!BLDGTYPE,0)","v":11},6.3929137015483993E-3,0.98700382329725422,6.6032630011973147E-3,0.18162271351024481,"POST2013",{"$f":"IFERROR(IF(G398=\"gasht\",INDEX('Savings from 6P'!$Z$11:$AF$28,MATCH(J398,'Savings from 6P'!$Z$11:$Z$28,0),MATCH(MMap!F398&MMap!H398&MMap!K398,'Savings from 6P'!$Y$7:$AE$7,0)),\"\"),\"\")","v":""},6.3929137015483993E-3,15,null,0]
["Demand Control Ventilation-DOAS-Supermarket-ElecHt-Vent-Retro","Demand Control Ventilation","Demand Control Ventilation-Retro-Supermarket-DOAS","Demand Control Ventilation-Retro-Supermarket","Demand Control Ventilation-Retro","DOAS","ElecHt","Vent","Supermarket","Supermarket","Retro","PRE2013",2.5274194597693127E-2,63.611289655488996,18.113471366249421,{"$f":"INDEX('Savings from 6P'!$A$11:$L$92,MATCH(MMap!F399&MMap!J399&H399,'Savings from 6P'!$A$11:$A$92,0),MATCH(MMap!K399&G399,'Savings from 6P'!$A$4:$L$4,0))","v":2.5168473483738647},{"$f":"IF(P399<=0,0,VLOOKUP(F399&K399&H399,Costs!$A$13:$B$24,2,FALSE))","v":0.71667847995056222},{"$f":"VLOOKUP($R$9,[2]CHAR!$B$17:$T$54,MATCH(J399,[2]CHAR!$B$16:$T$16,0),FALSE)","v":6.1675003194375045E-3},{"$f":"IFERROR(VLOOKUP($F399&$I399&$K399&$H399&$G399,'Savings from 6P'!$V$11:$X$435,3,FALSE),$AD399)","v":0.7},{"$f":"MATCH(J399,[2]!BLDGTYPE,0)","v":12},3.9182634298973458E-2,0.46957192737561176,6.234756715808213E-2,0.92147944946531313,"POST2013",{"$f":"IFERROR(IF(G399=\"gasht\",INDEX('Savings from 6P'!$Z$11:$AF$28,MATCH(J399,'Savings from 6P'!$Z$11:$Z$28,0),MATCH(MMap!F399&MMap!H399&MMap!K399,'Savings from 6P'!$Y$7:$AE$7,0)),\"\"),\"\")","v":""},3.9182634298973458E-2,15,null,0]
["Demand Control Ventilation-DOAS-MiniMart-ElecHt-Vent-Retro","Demand Control Ventilation","Demand Control Ventilation-Retro-MiniMart-DOAS","Demand Control Ventilation-Retro-MiniMart","Demand Control Ventilation-Retro","DOAS","ElecHt","Vent","MIniMart","MiniMart","Retro","PRE2013",2.4894102316628049E-3,6.2654655405752981,1.7841067408014759,{"$f":"INDEX('Savings from 6P'!$A$11:$L$92,MATCH(MMap!F400&MMap!J400&H400,'Savings from 6P'!$A$11:$A$92,0),MATCH(MMap!K400&G400,'Savings from 6P'!$A$4:$L$4,0))","v":2.5168473483738647},{"$f":"IF(P400<=0,0,VLOOKUP(F400&K400&H400,Costs!$A$13:$B$24,2,FALSE))","v":0.71667847995056222},{"$f":"VLOOKUP($R$9,[2]CHAR!$B$17:$T$54,MATCH(J400,[2]CHAR!$B$16:$T$16,0),FALSE)","v":2.5477723102065148E-3},{"$f":"IFERROR(VLOOKUP($F400&$I400&$K400&$H400&$G400,'Savings from 6P'!$V$11:$X$435,3,FALSE),$AD400)","v":0.3},{"$f":"MATCH(J400,[2]!BLDGTYPE,0)","v":13},9.8940421863423066E-3,0.86606113087441317,1.5743440192688529E-2,0.83868998628257874,"POST2013",{"$f":"IFERROR(IF(G400=\"gasht\",INDEX('Savings from 6P'!$Z$11:$AF$28,MATCH(J400,'Savings from 6P'!$Z$11:$Z$28,0),MATCH(MMap!F400&MMap!H400&MMap!K400,'Savings from 6P'!$Y$7:$AE$7,0)),\"\"),\"\")","v":""},9.8940421863423066E-3,15,null,0]
["Demand Control Ventilation-DOAS-Restaurant-ElecHt-Vent-Retro","Demand Control Ventilation","Demand Control Ventilation-Retro-Restaurant-DOAS","Demand Control Ventilation-Retro-Restaurant","Demand Control Ventilation-Retro","DOAS","ElecHt","Vent","Restaurant","Restaurant","Retro","PRE2013",9.0151665582973231E-3,22.689798047399357,6.4609758655016671,{"$f":"INDEX('Savings from 6P'!$A$11:$L$92,MATCH(MMap!F401&MMap!J401&H401,'Savings from 6P'!$A$11:$A$92,0),MATCH(MMap!K401&G401,'Savings from 6P'!$A$4:$L$4,0))","v":2.5168473483738647},{"$f":"IF(P401<=0,0,VLOOKUP(F401&K401&H401,Costs!$A$13:$B$24,2,FALSE))","v":0.71667847995056222},{"$f":"VLOOKUP($R$9,[2]CHAR!$B$17:$T$54,MATCH(J401,[2]CHAR!$B$16:$T$16,0),FALSE)","v":1.1693580853842011E-2},{"$f":"IFERROR(VLOOKUP($F401&$I401&$K401&$H401&$G401,'Savings from 6P'!$V$11:$X$435,3,FALSE),$AD401)","v":0.3},{"$f":"MATCH(J401,[2]!BLDGTYPE,0)","v":14},3.0050555941853869E-2,0.79365284945968273,0.17629659459846331,0.99999997512427186,"POST2013",{"$f":"IFERROR(IF(G401=\"gasht\",INDEX('Savings from 6P'!$Z$11:$AF$28,MATCH(J401,'Savings from 6P'!$Z$11:$Z$28,0),MATCH(MMap!F401&MMap!H401&MMap!K401,'Savings from 6P'!$Y$7:$AE$7,0)),\"\"),\"\")","v":""},3.0050555941853869E-2,15,null,0]
["Demand Control Ventilation-DOAS-Lodging-ElecHt-Vent-Retro","Demand Control Ventilation","Demand Control Ventilation-Retro-Lodging-DOAS","Demand Control Ventilation-Retro-Lodging","Demand Control Ventilation-Retro","DOAS","ElecHt","Vent","Lodging","Lodging","Retro","PRE2013",0,0,0,{"$f":"INDEX('Savings from 6P'!$A$11:$L$92,MATCH(MMap!F402&MMap!J402&H402,'Savings from 6P'!$A$11:$A$92,0),MATCH(MMap!K402&G402,'Savings from 6P'!$A$4:$L$4,0))","v":0.62467037796659819},{"$f":"IF(P402<=0,0,VLOOKUP(F402&K402&H402,Costs!$A$13:$B$24,2,FALSE))","v":0.71667847995056222},{"$f":"VLOOKUP($R$9,[2]CHAR!$B$17:$T$54,MATCH(J402,[2]CHAR!$B$16:$T$16,0),FALSE)","v":2.3957473342185561E-2},{"$f":"IFERROR(VLOOKUP($F402&$I402&$K402&$H402&$G402,'Savings from 6P'!$V$11:$X$435,3,FALSE),$AD402)","v":0},{"$f":"MATCH(J402,[2]!BLDGTYPE,0)","v":15},0.44679184687802564,0.24941748529786834,0.30379066782410608,0.94438859080377269,"POST2013",{"$f":"IFERROR(IF(G402=\"gasht\",INDEX('Savings from 6P'!$Z$11:$AF$28,MATCH(J402,'Savings from 6P'!$Z$11:$Z$28,0),MATCH(MMap!F402&MMap!H402&MMap!K402,'Savings from 6P'!$Y$7:$AE$7,0)),\"\"),\"\")","v":""},0.44679184687802564,15,null,0]
["Demand Control Ventilation-DOAS-Hospital-ElecHt-Vent-Retro","Demand Control Ventilation","Demand Control Ventilation-Retro-Hospital-DOAS","Demand Control Ventilation-Retro-Hospital","Demand Control Ventilation-Retro","DOAS","ElecHt","Vent","Hospital","Hospital","Retro","PRE2013",0,0,0,{"$f":"INDEX('Savings from 6P'!$A$11:$L$92,MATCH(MMap!F403&MMap!J403&H403,'Savings from 6P'!$A$11:$A$92,0),MATCH(MMap!K403&G403,'Savings from 6P'!$A$4:$L$4,0))","v":0.62467037796659819},{"$f":"IF(P403<=0,0,VLOOKUP(F403&K403&H403,Costs!$A$13:$B$24,2,FALSE))","v":0.71667847995056222},{"$f":"VLOOKUP($R$9,[2]CHAR!$B$17:$T$54,MATCH(J403,[2]CHAR!$B$16:$T$16,0),FALSE)","v":4.4965056377242296E-2},{"$f":"IFERROR(VLOOKUP($F403&$I403&$K403&$H403&$G403,'Savings from 6P'!$V$11:$X$435,3,FALSE),$AD403)","v":0},{"$f":"MATCH(J403,[2]!BLDGTYPE,0)","v":16},0.08,0.91,0.01,0.95,"POST2013",{"$f":"IFERROR(IF(G403=\"gasht\",INDEX('Savings from 6P'!$Z$11:$AF$28,MATCH(J403,'Savings from 6P'!$Z$11:$Z$28,0),MATCH(MMap!F403&MMap!H403&MMap!K403,'Savings from 6P'!$Y$7:$AE$7,0)),\"\"),\"\")","v":""},0.08,15,null,0]
["Demand Control Ventilation-DOAS-Residential Care-ElecHt-Vent-Retro","Demand Control Ventilation","Demand Control Ventilation-Retro-Residential Care-DOAS","Demand Control Ventilation-Retro-Residential Care","Demand Control Ventilation-Retro","DOAS","ElecHt","Vent","OtherHealth","Residential Care","Retro","PRE2013",0,0,0,{"$f":"INDEX('Savings from 6P'!$A$11:$L$92,MATCH(MMap!F404&MMap!J404&H404,'Savings from 6P'!$A$11:$A$92,0),MATCH(MMap!K404&G404,'Savings from 6P'!$A$4:$L$4,0))","v":0.62467037796659819},{"$f":"IF(P404<=0,0,VLOOKUP(F404&K404&H404,Costs!$A$13:$B$24,2,FALSE))","v":0.71667847995056222},{"$f":"VLOOKUP($R$9,[2]CHAR!$B$17:$T$54,MATCH(J404,[2]CHAR!$B$16:$T$16,0),FALSE)","v":5.827742495837801E-2},{"$f":"IFERROR(VLOOKUP($F404&$I404&$K404&$H404&$G404,'Savings from 6P'!$V$11:$X$435,3,FALSE),$AD404)","v":0},{"$f":"MATCH(J404,[2]!BLDGTYPE,0)","v":17},0.33985691133471541,0.40556621261939335,0.25457687604589124,0.8423386600487599,"POST2013",{"$f":"IFERROR(IF(G404=\"gasht\",INDEX('Savings from 6P'!$Z$11:$AF$28,MATCH(J404,'Savings from 6P'!$Z$11:$Z$28,0),MATCH(MMap!F404&MMap!H404&MMap!K404,'Savings from 6P'!$Y$7:$AE$7,0)),\"\"),\"\")","v":""},0.33985691133471541,15,null,0]
["Demand Control Ventilation-DOAS-Assembly-ElecHt-Vent-Retro","Demand Control Ventilation","Demand Control Ventilation-Retro-Assembly-DOAS","Demand Control Ventilation-Retro-Assembly","Demand Control Ventilation-Retro","DOAS","ElecHt","Vent","Assembly","Assembly","Retro","PRE2013",0,0,0,{"$f":"INDEX('Savings from 6P'!$A$11:$L$92,MATCH(MMap!F405&MMap!J405&H405,'Savings from 6P'!$A$11:$A$92,0),MATCH(MMap!K405&G405,'Savings from 6P'!$A$4:$L$4,0))","v":0.62467037796659819},{"$f":"IF(P405<=0,0,VLOOKUP(F405&K405&H405,Costs!$A$13:$B$24,2,FALSE))","v":0.71667847995056222},{"$f":"VLOOKUP($R$9,[2]CHAR!$B$17:$T$54,MATCH(J405,[2]CHAR!$B$16:$T$16,0),FALSE)","v":9.0984350406775827E-2},{"$f":"IFERROR(VLOOKUP($F405&$I405&$K405&$H405&$G405,'Savings from 6P'!$V$11:$X$435,3,FALSE),$AD405)","v":0},{"$f":"MATCH(J405,[2]!BLDGTYPE,0)","v":18},0.10640191237323121,0.77815390025512432,0.11544418737164447,0.91177234717447209,"POST2013",{"$f":"IFERROR(IF(G405=\"gasht\",INDEX('Savings from 6P'!$Z$11:$AF$28,MATCH(J405,'Savings from 6P'!$Z$11:$Z$28,0),MATCH(MMap!F405&MMap!H405&MMap!K405,'Savings from 6P'!$Y$7:$AE$7,0)),\"\"),\"\")","v":""},0.10640191237323121,15,null,0]
["Demand Control Ventilation-DOAS-Other-ElecHt-Vent-Retro","Demand Control Ventilation","Demand Control Ventilation-Retro-Other-DOAS","Demand Control Ventilation-Retro-Other","Demand Control Ventilation-Retro","DOAS","ElecHt","Vent","Other","Other","Retro","PRE2013",0,0,0,{"$f":"INDEX('Savings from 6P'!$A$11:$L$92,MATCH(MMap!F406&MMap!J406&H406,'Savings from 6P'!$A$11:$A$92,0),MATCH(MMap!K406&G406,'Savings from 6P'!$A$4:$L$4,0))","v":0.62467037796659819},{"$f":"IF(P406<=0,0,VLOOKUP(F406&K406&H406,Costs!$A$13:$B$24,2,FALSE))","v":0.71667847995056222},{"$f":"VLOOKUP($R$9,[2]CHAR!$B$17:$T$54,MATCH(J406,[2]CHAR!$B$16:$T$16,0),FALSE)","v":0.21334717399999265},{"$f":"IFERROR(VLOOKUP($F406&$I406&$K406&$H406&$G406,'Savings from 6P'!$V$11:$X$435,3,FALSE),$AD406)","v":0},{"$f":"MATCH(J406,[2]!BLDGTYPE,0)","v":19},0.16939513747697868,0.7257160432726234,0.104888819250398,0.87717751610580841,"POST2013",{"$f":"IFERROR(IF(G406=\"gasht\",INDEX('Savings from 6P'!$Z$11:$AF$28,MATCH(J406,'Savings from 6P'!$Z$11:$Z$28,0),MATCH(MMap!F406&MMap!H406&MMap!K406,'Savings from 6P'!$Y$7:$AE$7,0)),\"\"),\"\")","v":""},0.16939513747697868,15,null,0]
["Demand Control Ventilation-DOAS-Large Off-ElecHt-Heat-Retro","Demand Control Ventilation","Demand Control Ventilation-Retro-Large Off-DOAS","Demand Control Ventilation-Retro-Large Off","Demand Control Ventilation-Retro","DOAS","ElecHt","Heat","Large Off","Large Off","Retro","PRE2013",0,0,0,{"$f":"INDEX('Savings from 6P'!$A$11:$L$92,MATCH(MMap!F407&MMap!J407&H407,'Savings from 6P'!$A$11:$A$92,0),MATCH(MMap!K407&G407,'Savings from 6P'!$A$4:$L$4,0))","v":1.7782009961910343},{"$f":"IF(P407<=0,0,VLOOKUP(F407&K407&H407,Costs!$A$13:$B$24,2,FALSE))","v":0},{"$f":"VLOOKUP($R$9,[2]CHAR!$B$17:$T$54,MATCH(J407,[2]CHAR!$B$16:$T$16,0),FALSE)","v":0.15073291148870363},{"$f":"IFERROR(VLOOKUP($F407&$I407&$K407&$H407&$G407,'Savings from 6P'!$V$11:$X$435,3,FALSE),$AD407)","v":0},{"$f":"MATCH(J407,[2]!BLDGTYPE,0)","v":2},0.20943280302167308,0.54037060186620078,0.25019659511212627,0.95128694884061893,"POST2013",{"$f":"IFERROR(IF(G407=\"gasht\",INDEX('Savings from 6P'!$Z$11:$AF$28,MATCH(J407,'Savings from 6P'!$Z$11:$Z$28,0),MATCH(MMap!F407&MMap!H407&MMap!K407,'Savings from 6P'!$Y$7:$AE$7,0)),\"\"),\"\")","v":""},0.20943280302167308,15,null,0]
["Demand Control Ventilation-DOAS-Medium Off-ElecHt-Heat-Retro","Demand Control Ventilation","Demand Control Ventilation-Retro-Medium Off-DOAS","Demand Control Ventilation-Retro-Medium Off","Demand Control Ventilation-Retro","DOAS","ElecHt","Heat","Medium Off","Medium Off","Retro","PRE2013",0,0,0,{"$f":"INDEX('Savings from 6P'!$A$11:$L$92,MATCH(MMap!F408&MMap!J408&H408,'Savings from 6P'!$A$11:$A$92,0),MATCH(MMap!K408&G408,'Savings from 6P'!$A$4:$L$4,0))","v":1.7782009961910343},{"$f":"IF(P408<=0,0,VLOOKUP(F408&K408&H408,Costs!$A$13:$B$24,2,FALSE))","v":0},{"$f":"VLOOKUP($R$9,[2]CHAR!$B$17:$T$54,MATCH(J408,[2]CHAR!$B$16:$T$16,0),FALSE)","v":0.12013270538231059},{"$f":"IFERROR(VLOOKUP($F408&$I408&$K408&$H408&$G408,'Savings from 6P'!$V$11:$X$435,3,FALSE),$AD408)","v":0},{"$f":"MATCH(J408,[2]!BLDGTYPE,0)","v":3},0.22131165109110185,0.51430081857580845,0.26438753033308959,0.97665874571205136,"POST2013",{"$f":"IFERROR(IF(G408=\"gasht\",INDEX('Savings from 6P'!$Z$11:$AF$28,MATCH(J408,'Savings from 6P'!$Z$11:$Z$28,0),MATCH(MMap!F408&MMap!H408&MMap!K408,'Savings from 6P'!$Y$7:$AE$7,0)),\"\"),\"\")","v":""},0.22131165109110185,15,null,0]
["Demand Control Ventilation-DOAS-Small Off-ElecHt-Heat-Retro","Demand Control Ventilation","Demand Control Ventilation-Retro-Small Off-DOAS","Demand Control Ventilation-Retro-Small Off","Demand Control Ventilation-Retro","DOAS","ElecHt","Heat","Small Off","Small Off","Retro","PRE2013",0,0,0,{"$f":"INDEX('Savings from 6P'!$A$11:$L$92,MATCH(MMap!F409&MMap!J409&H409,'Savings from 6P'!$A$11:$A$92,0),MATCH(MMap!K409&G409,'Savings from 6P'!$A$4:$L$4,0))","v":1.7782009961910343},{"$f":"IF(P409<=0,0,VLOOKUP(F409&K409&H409,Costs!$A$13:$B$24,2,FALSE))","v":0},{"$f":"VLOOKUP($R$9,[2]CHAR!$B$17:$T$54,MATCH(J409,[2]CHAR!$B$16:$T$16,0),FALSE)","v":3.1538695729415013E-2},{"$f":"IFERROR(VLOOKUP($F409&$I409&$K409&$H409&$G409,'Savings from 6P'!$V$11:$X$435,3,FALSE),$AD409)","v":0},{"$f":"MATCH(J409,[2]!BLDGTYPE,0)","v":4},0.30640942705415353,0.3275419203320854,0.36604865261376096,0.91122609210258287,"POST2013",{"$f":"IFERROR(IF(G409=\"gasht\",INDEX('Savings from 6P'!$Z$11:$AF$28,MATCH(J409,'Savings from 6P'!$Z$11:$Z$28,0),MATCH(MMap!F409&MMap!H409&MMap!K409,'Savings from 6P'!$Y$7:$AE$7,0)),\"\"),\"\")","v":""},0.30640942705415353,15,null,0]
["Demand Control Ventilation-DOAS-Xlarge Ret-ElecHt-Heat-Retro","Demand Control Ventilation","Demand Control Ventilation-Retro-Xlarge Ret-DOAS","Demand Control Ventilation-Retro-Xlarge Ret","Demand Control Ventilation-Retro","DOAS","ElecHt","Heat","Big Box","Xlarge Ret","Retro","PRE2013",3.658091230505308E-2,149.12107615007429,0,{"$f":"INDEX('Savings from 6P'!$A$11:$L$92,MATCH(MMap!F410&MMap!J410&H410,'Savings from 6P'!$A$11:$A$92,0),MATCH(MMap!K410&G410,'Savings from 6P'!$A$4:$L$4,0))","v":4.0764723117491943},{"$f":"IF(P410<=0,0,VLOOKUP(F410&K410&H410,Costs!$A$13:$B$24,2,FALSE))","v":0},{"$f":"VLOOKUP($R$9,[2]CHAR!$B$17:$T$54,MATCH(J410,[2]CHAR!$B$16:$T$16,0),FALSE)","v":2.6820893655991742E-2},{"$f":"IFERROR(VLOOKUP($F410&$I410&$K410&$H410&$G410,'Savings from 6P'!$V$11:$X$435,3,FALSE),$AD410)","v":0.7},{"$f":"MATCH(J410,[2]!BLDGTYPE,0)","v":5},5.2995881766435368E-2,0.91606730000738101,3.0936818226183656E-2,0.98608503921852686,"POST2013",{"$f":"IFERROR(IF(G410=\"gasht\",INDEX('Savings from 6P'!$Z$11:$AF$28,MATCH(J410,'Savings from 6P'!$Z$11:$Z$28,0),MATCH(MMap!F410&MMap!H410&MMap!K410,'Savings from 6P'!$Y$7:$AE$7,0)),\"\"),\"\")","v":""},5.2995881766435368E-2,15,null,0.7]
["Demand Control Ventilation-DOAS-Large Ret-ElecHt-Heat-Retro","Demand Control Ventilation","Demand Control Ventilation-Retro-Large Ret-DOAS","Demand Control Ventilation-Retro-Large Ret","Demand Control Ventilation-Retro","DOAS","ElecHt","Heat","Small Box","Large Ret","Retro","PRE2013",4.9055523917715315E-3,19.997348498891682,0,{"$f":"INDEX('Savings from 6P'!$A$11:$L$92,MATCH(MMap!F411&MMap!J411&H411,'Savings from 6P'!$A$11:$A$92,0),MATCH(MMap!K411&G411,'Savings from 6P'!$A$4:$L$4,0))","v":4.0764723117491943},{"$f":"IF(P411<=0,0,VLOOKUP(F411&K411&H411,Costs!$A$13:$B$24,2,FALSE))","v":0},{"$f":"VLOOKUP($R$9,[2]CHAR!$B$17:$T$54,MATCH(J411,[2]CHAR!$B$16:$T$16,0),FALSE)","v":1.0839638408159987E-2},{"$f":"IFERROR(VLOOKUP($F411&$I411&$K411&$H411&$G411,'Savings from 6P'!$V$11:$X$435,3,FALSE),$AD411)","v":0.6},{"$f":"MATCH(J411,[2]!BLDGTYPE,0)","v":6},1.0593107738682607E-2,0.98322307122393326,6.1838210373840949E-3,0.77181511362305244,"POST2013",{"$f":"IFERROR(IF(G411=\"gasht\",INDEX('Savings from 6P'!$Z$11:$AF$28,MATCH(J411,'Savings from 6P'!$Z$11:$Z$28,0),MATCH(MMap!F411&MMap!H411&MMap!K411,'Savings from 6P'!$Y$7:$AE$7,0)),\"\"),\"\")","v":""},1.0593107738682607E-2,15,null,0.6]
["Demand Control Ventilation-DOAS-Medium Ret-ElecHt-Heat-Retro","Demand Control Ventilation","Demand Control Ventilation-Retro-Medium Ret-DOAS","Demand Control Ventilation-Retro-Medium Ret","Demand Control Ventilation-Retro","DOAS","ElecHt","Heat","High End","Medium Ret","Retro","PRE2013",3.2606862153531896E-2,64.888897669730056,0,{"$f":"INDEX('Savings from 6P'!$A$11:$L$92,MATCH(MMap!F412&MMap!J412&H412,'Savings from 6P'!$A$11:$A$92,0),MATCH(MMap!K412&G412,'Savings from 6P'!$A$4:$L$4,0))","v":1.9900380896571932},{"$f":"IF(P412<=0,0,VLOOKUP(F412&K412&H412,Costs!$A$13:$B$24,2,FALSE))","v":0},{"$f":"VLOOKUP($R$9,[2]CHAR!$B$17:$T$54,MATCH(J412,[2]CHAR!$B$16:$T$16,0),FALSE)","v":4.0894012773033235E-2},{"$f":"IFERROR(VLOOKUP($F412&$I412&$K412&$H412&$G412,'Savings from 6P'!$V$11:$X$435,3,FALSE),$AD412)","v":0.3},{"$f":"MATCH(J412,[2]!BLDGTYPE,0)","v":7},0.12006240959495594,0.80985008893074606,7.0087501474297986E-2,0.90527535536267667,"POST2013",{"$f":"IFERROR(IF(G412=\"gasht\",INDEX('Savings from 6P'!$Z$11:$AF$28,MATCH(J412,'Savings from 6P'!$Z$11:$Z$28,0),MATCH(MMap!F412&MMap!H412&MMap!K412,'Savings from 6P'!$Y$7:$AE$7,0)),\"\"),\"\")","v":""},0.12006240959495594,15,null,0.3]
[{"$f":"CONCATENATE(B413,\"-\",F413,\"-\",J413,\"-\",G413,\"-\",H413,\"-\",K413)","v":"Demand Control Ventilation-DOAS-Small Ret-ElecHt-Heat-Retro"},"Demand Control Ventilation","Demand Control Ventilation-Retro-Small Ret-DOAS","Demand Control Ventilation-Retro-Small Ret",{"$f":"CONCATENATE(B413,\"-\",K413)","v":"Demand Control Ventilation-Retro"},"DOAS","ElecHt","Heat","Anchor","Small Ret","Retro","PRE2013",4.4001238746589351E-2,87.564141097812737,0,{"$f":"INDEX('Savings from 6P'!$A$11:$L$92,MATCH(MMap!F413&MMap!J413&H413,'Savings from 6P'!$A$11:$A$92,0),MATCH(MMap!K413&G413,'Savings from 6P'!$A$4:$L$4,0))","v":1.9900380896571932},{"$f":"IF(P413<=0,0,VLOOKUP(F413&K413&H413,Costs!$A$13:$B$24,2,FALSE))","v":0},{"$f":"VLOOKUP($R$9,[2]CHAR!$B$17:$T$54,MATCH(J413,[2]CHAR!$B$16:$T$16,0),FALSE)","v":1.3016203517984767E-2},{"$f":"IFERROR(VLOOKUP($F413&$I413&$K413&$H413&$G413,'Savings from 6P'!$V$11:$X$435,3,FALSE),$AD413)","v":0.3},{"$f":"MATCH(J413,[2]!BLDGTYPE,0)","v":8},0.2732917310450087,{"$f":"VLOOKUP(V$9,V_PRE2013,$T413,FALSE)","v":0.56717178566142912},0.15953648329356207,{"$f":"VLOOKUP($X$9,V_POST2013,MATCH(J413,BLDGTYP,FALSE)+1,FALSE)","v":0.53668215741883951},"POST2013",{"$f":"IFERROR(IF(G413=\"gasht\",INDEX('Savings from 6P'!$Z$11:$AF$28,MATCH(J413,'Savings from 6P'!$Z$11:$Z$28,0),MATCH(MMap!F413&MMap!H413&MMap!K413,'Savings from 6P'!$Y$7:$AE$7,0)),\"\"),\"\")","v":""},0.2732917310450087,{"$f":"$AB$9","v":15},null,0.3]
["Demand Control Ventilation-DOAS-School K-12-ElecHt-Heat-Retro","Demand Control Ventilation",{"$f":"CONCATENATE(D414,\"-\",F414)","v":"Demand Control Ventilation-Retro-School K-12-DOAS"},{"$f":"CONCATENATE(B414,\"-\",K414,\"-\",J414)","v":"Demand Control Ventilation-Retro-School K-12"},"Demand Control Ventilation-Retro","DOAS","ElecHt","Heat","K-12","School K-12","Retro","PRE2013",0,{"$f":"M414*P414*$N$9","v":0},0,{"$f":"INDEX('Savings from 6P'!$A$11:$L$92,MATCH(MMap!F414&MMap!J414&H414,'Savings from 6P'!$A$11:$A$92,0),MATCH(MMap!K414&G414,'Savings from 6P'!$A$4:$L$4,0))","v":1.7782009961910343},{"$f":"IF(P414<=0,0,VLOOKUP(F414&K414&H414,Costs!$A$13:$B$24,2,FALSE))","v":0},{"$f":"VLOOKUP($R$9,[2]CHAR!$B$17:$T$54,MATCH(J414,[2]CHAR!$B$16:$T$16,0),FALSE)","v":3.0886857559635036E-2},{"$f":"IFERROR(VLOOKUP($F414&$I414&$K414&$H414&$G414,'Savings from 6P'!$V$11:$X$435,3,FALSE),$AD414)","v":0},{"$f":"MATCH(J414,[2]!BLDGTYPE,0)","v":9},5.8369343906151915E-2,0.84777782221188291,9.3852833881965178E-2,0.96128535178408803,"POST2013",{"$f":"IFERROR(IF(G414=\"gasht\",INDEX('Savings from 6P'!$Z$11:$AF$28,MATCH(J414,'Savings from 6P'!$Z$11:$Z$28,0),MATCH(MMap!F414&MMap!H414&MMap!K414,'Savings from 6P'!$Y$7:$AE$7,0)),\"\"),\"\")","v":""},5.8369343906151915E-2,15,null,0]
["Demand Control Ventilation-DOAS-University-ElecHt-Heat-Retro","Demand Control Ventilation","Demand Control Ventilation-Retro-University-DOAS","Demand Control Ventilation-Retro-University","Demand Control Ventilation-Retro","DOAS","ElecHt","Heat","University","University","Retro","PRE2013",{"$f":"S415*X415*AA415","v":0},0,0,{"$f":"INDEX('Savings from 6P'!$A$11:$L$92,MATCH(MMap!F415&MMap!J415&H415,'Savings from 6P'!$A$11:$A$92,0),MATCH(MMap!K415&G415,'Savings from 6P'!$A$4:$L$4,0))","v":1.7782009961910343},{"$f":"IF(P415<=0,0,VLOOKUP(F415&K415&H415,Costs!$A$13:$B$24,2,FALSE))","v":0},{"$f":"VLOOKUP($R$9,[2]CHAR!$B$17:$T$54,MATCH(J415,[2]CHAR!$B$16:$T$16,0),FALSE)","v":2.2325826170102026E-2},{"$f":"IFERROR(VLOOKUP($F415&$I415&$K415&$H415&$G415,'Savings from 6P'!$V$11:$X$435,3,FALSE),$AD415)","v":0},{"$f":"MATCH(J415,[2]!BLDGTYPE,0)","v":10},0.1,0.8,0.1,0.75,"POST2013",{"$f":"IFERROR(IF(G415=\"gasht\",INDEX('Savings from 6P'!$Z$11:$AF$28,MATCH(J415,'Savings from 6P'!$Z$11:$Z$28,0),MATCH(MMap!F415&MMap!H415&MMap!K415,'Savings from 6P'!$Y$7:$AE$7,0)),\"\"),\"\")","v":""},0.1,15,null,0]
["Demand Control Ventilation-DOAS-Warehouse-ElecHt-Heat-Retro","Demand Control Ventilation","Demand Control Ventilation-Retro-Warehouse-DOAS","Demand Control Ventilation-Retro-Warehouse","Demand Control Ventilation-Retro","DOAS","ElecHt","Heat","Warehouse","Warehouse","Retro","PRE2013",0,0,0,{"$f":"INDEX('Savings from 6P'!$A$11:$L$92,MATCH(MMap!F416&MMap!J416&H416,'Savings from 6P'!$A$11:$A$92,0),MATCH(MMap!K416&G416,'Savings from 6P'!$A$4:$L$4,0))","v":1.7782009961910343},{"$f":"IF(P416<=0,0,VLOOKUP(F416&K416&H416,Costs!$A$13:$B$24,2,FALSE))","v":0},{"$f":"VLOOKUP($R$9,[2]CHAR!$B$17:$T$54,MATCH(J416,[2]CHAR!$B$16:$T$16,0),FALSE)","v":0.10087192274660353},{"$f":"IFERROR(VLOOKUP($F416&$I416&$K416&$H416&$G416,'Savings from 6P'!$V$11:$X$435,3,FALSE),$AD416)","v":0},{"$f":"MATCH(J416,[2]!BLDGTYPE,0)","v":11},6.3929137015483993E-3,0.98700382329725422,6.6032630011973147E-3,0.18162271351024481,"POST2013",{"$f":"IFERROR(IF(G416=\"gasht\",INDEX('Savings from 6P'!$Z$11:$AF$28,MATCH(J416,'Savings from 6P'!$Z$11:$Z$28,0),MATCH(MMap!F416&MMap!H416&MMap!K416,'Savings from 6P'!$Y$7:$AE$7,0)),\"\"),\"\")","v":""},6.3929137015483993E-3,15,null,0]
["Demand Control Ventilation-DOAS-Supermarket-ElecHt-Heat-Retro","Demand Control Ventilation","Demand Control Ventilation-Retro-Supermarket-DOAS","Demand Control Ventilation-Retro-Supermarket","Demand Control Ventilation-Retro","DOAS","ElecHt","Heat","Supermarket","Supermarket","Retro","PRE2013",2.5274194597693127E-2,103.0295544792571,0,{"$f":"INDEX('Savings from 6P'!$A$11:$L$92,MATCH(MMap!F417&MMap!J417&H417,'Savings from 6P'!$A$11:$A$92,0),MATCH(MMap!K417&G417,'Savings from 6P'!$A$4:$L$4,0))","v":4.0764723117491943},{"$f":"IF(P417<=0,0,VLOOKUP(F417&K417&H417,Costs!$A$13:$B$24,2,FALSE))","v":0},{"$f":"VLOOKUP($R$9,[2]CHAR!$B$17:$T$54,MATCH(J417,[2]CHAR!$B$16:$T$16,0),FALSE)","v":6.1675003194375045E-3},{"$f":"IFERROR(VLOOKUP($F417&$I417&$K417&$H417&$G417,'Savings from 6P'!$V$11:$X$435,3,FALSE),$AD417)","v":0.7},{"$f":"MATCH(J417,[2]!BLDGTYPE,0)","v":12},3.9182634298973458E-2,0.46957192737561176,6.234756715808213E-2,0.92147944946531313,"POST2013",{"$f":"IFERROR(IF(G417=\"gasht\",INDEX('Savings from 6P'!$Z$11:$AF$28,MATCH(J417,'Savings from 6P'!$Z$11:$Z$28,0),MATCH(MMap!F417&MMap!H417&MMap!K417,'Savings from 6P'!$Y$7:$AE$7,0)),\"\"),\"\")","v":""},3.9182634298973458E-2,15,null,0]
["Demand Control Ventilation-DOAS-MiniMart-ElecHt-Heat-Retro","Demand Control Ventilation","Demand Control Ventilation-Retro-MiniMart-DOAS","Demand Control Ventilation-Retro-MiniMart","Demand Control Ventilation-Retro","DOAS","ElecHt","Heat","MIniMart","MiniMart","Retro","PRE2013",2.4894102316628049E-3,10.148011881958572,0,{"$f":"INDEX('Savings from 6P'!$A$11:$L$92,MATCH(MMap!F418&MMap!J418&H418,'Savings from 6P'!$A$11:$A$92,0),MATCH(MMap!K418&G418,'Savings from 6P'!$A$4:$L$4,0))","v":4.0764723117491943},{"$f":"IF(P418<=0,0,VLOOKUP(F418&K418&H418,Costs!$A$13:$B$24,2,FALSE))","v":0},{"$f":"VLOOKUP($R$9,[2]CHAR!$B$17:$T$54,MATCH(J418,[2]CHAR!$B$16:$T$16,0),FALSE)","v":2.5477723102065148E-3},{"$f":"IFERROR(VLOOKUP($F418&$I418&$K418&$H418&$G418,'Savings from 6P'!$V$11:$X$435,3,FALSE),$AD418)","v":0.3},{"$f":"MATCH(J418,[2]!BLDGTYPE,0)","v":13},9.8940421863423066E-3,0.86606113087441317,1.5743440192688529E-2,0.83868998628257874,"POST2013",{"$f":"IFERROR(IF(G418=\"gasht\",INDEX('Savings from 6P'!$Z$11:$AF$28,MATCH(J418,'Savings from 6P'!$Z$11:$Z$28,0),MATCH(MMap!F418&MMap!H418&MMap!K418,'Savings from 6P'!$Y$7:$AE$7,0)),\"\"),\"\")","v":""},9.8940421863423066E-3,15,null,0]
["Demand Control Ventilation-DOAS-Restaurant-ElecHt-Heat-Retro","Demand Control Ventilation","Demand Control Ventilation-Retro-Restaurant-DOAS","Demand Control Ventilation-Retro-Restaurant","Demand Control Ventilation-Retro","DOAS","ElecHt","Heat","Restaurant","Restaurant","Retro","PRE2013",9.0151665582973231E-3,36.750076860706315,0,{"$f":"INDEX('Savings from 6P'!$A$11:$L$92,MATCH(MMap!F419&MMap!J419&H419,'Savings from 6P'!$A$11:$A$92,0),MATCH(MMap!K419&G419,'Savings from 6P'!$A$4:$L$4,0))","v":4.0764723117491943},{"$f":"IF(P419<=0,0,VLOOKUP(F419&K419&H419,Costs!$A$13:$B$24,2,FALSE))","v":0},{"$f":"VLOOKUP($R$9,[2]CHAR!$B$17:$T$54,MATCH(J419,[2]CHAR!$B$16:$T$16,0),FALSE)","v":1.1693580853842011E-2},{"$f":"IFERROR(VLOOKUP($F419&$I419&$K419&$H419&$G419,'Savings from 6P'!$V$11:$X$435,3,FALSE),$AD419)","v":0.3},{"$f":"MATCH(J419,[2]!BLDGTYPE,0)","v":14},3.0050555941853869E-2,0.79365284945968273,0.17629659459846331,0.99999997512427186,"POST2013",{"$f":"IFERROR(IF(G419=\"gasht\",INDEX('Savings from 6P'!$Z$11:$AF$28,MATCH(J419,'Savings from 6P'!$Z$11:$Z$28,0),MATCH(MMap!F419&MMap!H419&MMap!K419,'Savings from 6P'!$Y$7:$AE$7,0)),\"\"),\"\")","v":""},3.0050555941853869E-2,15,null,0]
["Demand Control Ventilation-DOAS-Lodging-ElecHt-Heat-Retro","Demand Control Ventilation","Demand Control Ventilation-Retro-Lodging-DOAS","Demand Control Ventilation-Retro-Lodging","Demand Control Ventilation-Retro","DOAS","ElecHt","Heat","Lodging","Lodging","Retro","PRE2013",0,0,0,{"$f":"INDEX('Savings from 6P'!$A$11:$L$92,MATCH(MMap!F420&MMap!J420&H420,'Savings from 6P'!$A$11:$A$92,0),MATCH(MMap!K420&G420,'Savings from 6P'!$A$4:$L$4,0))","v":1.7782009961910343},{"$f":"IF(P420<=0,0,VLOOKUP(F420&K420&H420,Costs!$A$13:$B$24,2,FALSE))","v":0},{"$f":"VLOOKUP($R$9,[2]CHAR!$B$17:$T$54,MATCH(J420,[2]CHAR!$B$16:$T$16,0),FALSE)","v":2.3957473342185561E-2},{"$f":"IFERROR(VLOOKUP($F420&$I420&$K420&$H420&$G420,'Savings from 6P'!$V$11:$X$435,3,FALSE),$AD420)","v":0},{"$f":"MATCH(J420,[2]!BLDGTYPE,0)","v":15},0.44679184687802564,0.24941748529786834,0.30379066782410608,0.94438859080377269,"POST2013",{"$f":"IFERROR(IF(G420=\"gasht\",INDEX('Savings from 6P'!$Z$11:$AF$28,MATCH(J420,'Savings from 6P'!$Z$11:$Z$28,0),MATCH(MMap!F420&MMap!H420&MMap!K420,'Savings from 6P'!$Y$7:$AE$7,0)),\"\"),\"\")","v":""},0.44679184687802564,15,null,0]
["Demand Control Ventilation-DOAS-Hospital-ElecHt-Heat-Retro","Demand Control Ventilation","Demand Control Ventilation-Retro-Hospital-DOAS","Demand Control Ventilation-Retro-Hospital","Demand Control Ventilation-Retro","DOAS","ElecHt","Heat","Hospital","Hospital","Retro","PRE2013",0,0,0,{"$f":"INDEX('Savings from 6P'!$A$11:$L$92,MATCH(MMap!F421&MMap!J421&H421,'Savings from 6P'!$A$11:$A$92,0),MATCH(MMap!K421&G421,'Savings from 6P'!$A$4:$L$4,0))","v":1.7782009961910343},{"$f":"IF(P421<=0,0,VLOOKUP(F421&K421&H421,Costs!$A$13:$B$24,2,FALSE))","v":0},{"$f":"VLOOKUP($R$9,[2]CHAR!$B$17:$T$54,MATCH(J421,[2]CHAR!$B$16:$T$16,0),FALSE)","v":4.4965056377242296E-2},{"$f":"IFERROR(VLOOKUP($F421&$I421&$K421&$H421&$G421,'Savings from 6P'!$V$11:$X$435,3,FALSE),$AD421)","v":0},{"$f":"MATCH(J421,[2]!BLDGTYPE,0)","v":16},0.08,0.91,0.01,0.95,"POST2013",{"$f":"IFERROR(IF(G421=\"gasht\",INDEX('Savings from 6P'!$Z$11:$AF$28,MATCH(J421,'Savings from 6P'!$Z$11:$Z$28,0),MATCH(MMap!F421&MMap!H421&MMap!K421,'Savings from 6P'!$Y$7:$AE$7,0)),\"\"),\"\")","v":""},0.08,15,null,0]
["Demand Control Ventilation-DOAS-Residential Care-ElecHt-Heat-Retro","Demand Control Ventilation","Demand Control Ventilation-Retro-Residential Care-DOAS","Demand Control Ventilation-Retro-Residential Care","Demand Control Ventilation-Retro","DOAS","ElecHt","Heat","OtherHealth","Residential Care","Retro","PRE2013",0,0,0,{"$f":"INDEX('Savings from 6P'!$A$11:$L$92,MATCH(MMap!F422&MMap!J422&H422,'Savings from 6P'!$A$11:$A$92,0),MATCH(MMap!K422&G422,'Savings from 6P'!$A$4:$L$4,0))","v":1.7782009961910343},{"$f":"IF(P422<=0,0,VLOOKUP(F422&K422&H422,Costs!$A$13:$B$24,2,FALSE))","v":0},{"$f":"VLOOKUP($R$9,[2]CHAR!$B$17:$T$54,MATCH(J422,[2]CHAR!$B$16:$T$16,0),FALSE)","v":5.827742495837801E-2},{"$f":"IFERROR(VLOOKUP($F422&$I422&$K422&$H422&$G422,'Savings from 6P'!$V$11:$X$435,3,FALSE),$AD422)","v":0},{"$f":"MATCH(J422,[2]!BLDGTYPE,0)","v":17},0.33985691133471541,0.40556621261939335,0.25457687604589124,0.8423386600487599,"POST2013",{"$f":"IFERROR(IF(G422=\"gasht\",INDEX('Savings from 6P'!$Z$11:$AF$28,MATCH(J422,'Savings from 6P'!$Z$11:$Z$28,0),MATCH(MMap!F422&MMap!H422&MMap!K422,'Savings from 6P'!$Y$7:$AE$7,0)),\"\"),\"\")","v":""},0.33985691133471541,15,null,0]
["Demand Control Ventilation-DOAS-Assembly-ElecHt-Heat-Retro","Demand Control Ventilation","Demand Control Ventilation-Retro-Assembly-DOAS","Demand Control Ventilation-Retro-Assembly","Demand Control Ventilation-Retro","DOAS","ElecHt","Heat","Assembly","Assembly","Retro","PRE2013",0,0,0,{"$f":"INDEX('Savings from 6P'!$A$11:$L$92,MATCH(MMap!F423&MMap!J423&H423,'Savings from 6P'!$A$11:$A$92,0),MATCH(MMap!K423&G423,'Savings from 6P'!$A$4:$L$4,0))","v":1.7782009961910343},{"$f":"IF(P423<=0,0,VLOOKUP(F423&K423&H423,Costs!$A$13:$B$24,2,FALSE))","v":0},{"$f":"VLOOKUP($R$9,[2]CHAR!$B$17:$T$54,MATCH(J423,[2]CHAR!$B$16:$T$16,0),FALSE)","v":9.0984350406775827E-2},{"$f":"IFERROR(VLOOKUP($F423&$I423&$K423&$H423&$G423,'Savings from 6P'!$V$11:$X$435,3,FALSE),$AD423)","v":0},{"$f":"MATCH(J423,[2]!BLDGTYPE,0)","v":18},0.10640191237323121,0.77815390025512432,0.11544418737164447,0.91177234717447209,"POST2013",{"$f":"IFERROR(IF(G423=\"gasht\",INDEX('Savings from 6P'!$Z$11:$AF$28,MATCH(J423,'Savings from 6P'!$Z$11:$Z$28,0),MATCH(MMap!F423&MMap!H423&MMap!K423,'Savings from 6P'!$Y$7:$AE$7,0)),\"\"),\"\")","v":""},0.10640191237323121,15,null,0]
["Demand Control Ventilation-DOAS-Other-ElecHt-Heat-Retro","Demand Control Ventilation","Demand Control Ventilation-Retro-Other-DOAS","Demand Control Ventilation-Retro-Other","Demand Control Ventilation-Retro","DOAS","ElecHt","Heat","Other","Other","Retro","PRE2013",0,0,0,{"$f":"INDEX('Savings from 6P'!$A$11:$L$92,MATCH(MMap!F424&MMap!J424&H424,'Savings from 6P'!$A$11:$A$92,0),MATCH(MMap!K424&G424,'Savings from 6P'!$A$4:$L$4,0))","v":1.7782009961910343},{"$f":"IF(P424<=0,0,VLOOKUP(F424&K424&H424,Costs!$A$13:$B$24,2,FALSE))","v":0},{"$f":"VLOOKUP($R$9,[2]CHAR!$B$17:$T$54,MATCH(J424,[2]CHAR!$B$16:$T$16,0),FALSE)","v":0.21334717399999265},{"$f":"IFERROR(VLOOKUP($F424&$I424&$K424&$H424&$G424,'Savings from 6P'!$V$11:$X$435,3,FALSE),$AD424)","v":0},{"$f":"MATCH(J424,[2]!BLDGTYPE,0)","v":19},0.16939513747697868,0.7257160432726234,0.104888819250398,0.87717751610580841,"POST2013",{"$f":"IFERROR(IF(G424=\"gasht\",INDEX('Savings from 6P'!$Z$11:$AF$28,MATCH(J424,'Savings from 6P'!$Z$11:$Z$28,0),MATCH(MMap!F424&MMap!H424&MMap!K424,'Savings from 6P'!$Y$7:$AE$7,0)),\"\"),\"\")","v":""},0.16939513747697868,15,null,0]
["Demand Control Ventilation-DOAS-Large Off-GasHt-Vent-Retro","Demand Control Ventilation","Demand Control Ventilation-Retro-Large Off-DOAS","Demand Control Ventilation-Retro-Large Off","Demand Control Ventilation-Retro","DOAS","GasHt","Vent","Large Off","Large Off","Retro","PRE2013",0,0,0,{"$f":"INDEX('Savings from 6P'!$A$11:$L$92,MATCH(MMap!F425&MMap!J425&H425,'Savings from 6P'!$A$11:$A$92,0),MATCH(MMap!K425&G425,'Savings from 6P'!$A$4:$L$4,0))","v":0.55136399829497051},{"$f":"IF(P425<=0,0,VLOOKUP(F425&K425&H425,Costs!$A$13:$B$24,2,FALSE))","v":0.71667847995056222},{"$f":"VLOOKUP($R$9,[2]CHAR!$B$17:$T$54,MATCH(J425,[2]CHAR!$B$16:$T$16,0),FALSE)","v":0.15073291148870363},{"$f":"IFERROR(VLOOKUP($F425&$I425&$K425&$H425&$G425,'Savings from 6P'!$V$11:$X$435,3,FALSE),$AD425)","v":0},{"$f":"MATCH(J425,[2]!BLDGTYPE,0)","v":2},0.20943280302167308,0.54037060186620078,0.25019659511212627,0.95128694884061893,"POST2013",{"$f":"IFERROR(IF(G425=\"gasht\",INDEX('Savings from 6P'!$Z$11:$AF$28,MATCH(J425,'Savings from 6P'!$Z$11:$Z$28,0),MATCH(MMap!F425&MMap!H425&MMap!K425,'Savings from 6P'!$Y$7:$AE$7,0)),\"\"),\"\")","v":6.0690000000000001E-2},0.54037060186620078,15,null,0]
["Demand Control Ventilation-DOAS-Medium Off-GasHt-Vent-Retro","Demand Control Ventilation","Demand Control Ventilation-Retro-Medium Off-DOAS","Demand Control Ventilation-Retro-Medium Off","Demand Control Ventilation-Retro","DOAS","GasHt","Vent","Medium Off","Medium Off","Retro","PRE2013",0,0,0,{"$f":"INDEX('Savings from 6P'!$A$11:$L$92,MATCH(MMap!F426&MMap!J426&H426,'Savings from 6P'!$A$11:$A$92,0),MATCH(MMap!K426&G426,'Savings from 6P'!$A$4:$L$4,0))","v":0.55136399829497051},{"$f":"IF(P426<=0,0,VLOOKUP(F426&K426&H426,Costs!$A$13:$B$24,2,FALSE))","v":0.71667847995056222},{"$f":"VLOOKUP($R$9,[2]CHAR!$B$17:$T$54,MATCH(J426,[2]CHAR!$B$16:$T$16,0),FALSE)","v":0.12013270538231059},{"$f":"IFERROR(VLOOKUP($F426&$I426&$K426&$H426&$G426,'Savings from 6P'!$V$11:$X$435,3,FALSE),$AD426)","v":0},{"$f":"MATCH(J426,[2]!BLDGTYPE,0)","v":3},0.22131165109110185,0.51430081857580845,0.26438753033308959,0.97665874571205136,"POST2013",{"$f":"IFERROR(IF(G426=\"gasht\",INDEX('Savings from 6P'!$Z$11:$AF$28,MATCH(J426,'Savings from 6P'!$Z$11:$Z$28,0),MATCH(MMap!F426&MMap!H426&MMap!K426,'Savings from 6P'!$Y$7:$AE$7,0)),\"\"),\"\")","v":6.0690000000000001E-2},0.51430081857580845,15,null,0]
["Demand Control Ventilation-DOAS-Small Off-GasHt-Vent-Retro","Demand Control Ventilation","Demand Control Ventilation-Retro-Small Off-DOAS","Demand Control Ventilation-Retro-Small Off","Demand Control Ventilation-Retro","DOAS","GasHt","Vent","Small Off","Small Off","Retro","PRE2013",0,0,0,{"$f":"INDEX('Savings from 6P'!$A$11:$L$92,MATCH(MMap!F427&MMap!J427&H427,'Savings from 6P'!$A$11:$A$92,0),MATCH(MMap!K427&G427,'Savings from 6P'!$A$4:$L$4,0))","v":0.55136399829497051},{"$f":"IF(P427<=0,0,VLOOKUP(F427&K427&H427,Costs!$A$13:$B$24,2,FALSE))","v":0.71667847995056222},{"$f":"VLOOKUP($R$9,[2]CHAR!$B$17:$T$54,MATCH(J427,[2]CHAR!$B$16:$T$16,0),FALSE)","v":3.1538695729415013E-2},{"$f":"IFERROR(VLOOKUP($F427&$I427&$K427&$H427&$G427,'Savings from 6P'!$V$11:$X$435,3,FALSE),$AD427)","v":0},{"$f":"MATCH(J427,[2]!BLDGTYPE,0)","v":4},0.30640942705415353,0.3275419203320854,0.36604865261376096,0.91122609210258287,"POST2013",{"$f":"IFERROR(IF(G427=\"gasht\",INDEX('Savings from 6P'!$Z$11:$AF$28,MATCH(J427,'Savings from 6P'!$Z$11:$Z$28,0),MATCH(MMap!F427&MMap!H427&MMap!K427,'Savings from 6P'!$Y$7:$AE$7,0)),\"\"),\"\")","v":6.0690000000000001E-2},0.3275419203320854,15,null,0]
["Demand Control Ventilation-DOAS-Xlarge Ret-GasHt-Vent-Retro","Demand Control Ventilation","Demand Control Ventilation-Retro-Xlarge Ret-DOAS","Demand Control Ventilation-Retro-Xlarge Ret","Demand Control Ventilation-Retro","DOAS","GasHt","Vent","Big Box","Xlarge Ret","Retro","PRE2013",0.6323241816182118,382.63453699940743,453.17313331812323,{"$f":"INDEX('Savings from 6P'!$A$11:$L$92,MATCH(MMap!F428&MMap!J428&H428,'Savings from 6P'!$A$11:$A$92,0),MATCH(MMap!K428&G428,'Savings from 6P'!$A$4:$L$4,0))","v":0.60512399829497054},{"$f":"IF(P428<=0,0,VLOOKUP(F428&K428&H428,Costs!$A$13:$B$24,2,FALSE))","v":0.71667847995056222},{"$f":"VLOOKUP($R$9,[2]CHAR!$B$17:$T$54,MATCH(J428,[2]CHAR!$B$16:$T$16,0),FALSE)","v":2.6820893655991742E-2},{"$f":"IFERROR(VLOOKUP($F428&$I428&$K428&$H428&$G428,'Savings from 6P'!$V$11:$X$435,3,FALSE),$AD428)","v":0.7},{"$f":"MATCH(J428,[2]!BLDGTYPE,0)","v":5},5.2995881766435368E-2,0.91606730000738101,3.0936818226183656E-2,0.98608503921852686,"POST2013",{"$f":"IFERROR(IF(G428=\"gasht\",INDEX('Savings from 6P'!$Z$11:$AF$28,MATCH(J428,'Savings from 6P'!$Z$11:$Z$28,0),MATCH(MMap!F428&MMap!H428&MMap!K428,'Savings from 6P'!$Y$7:$AE$7,0)),\"\"),\"\")","v":0.13913},0.91606730000738101,15,null,0.7]
["Demand Control Ventilation-DOAS-Large Ret-GasHt-Vent-Retro","Demand Control Ventilation","Demand Control Ventilation-Retro-Large Ret-DOAS","Demand Control Ventilation-Retro-Large Ret","Demand Control Ventilation-Retro","DOAS","GasHt","Vent","Small Box","Large Ret","Retro","PRE2013",0.45531985586010398,275.52497168115582,326.31794218912842,{"$f":"INDEX('Savings from 6P'!$A$11:$L$92,MATCH(MMap!F429&MMap!J429&H429,'Savings from 6P'!$A$11:$A$92,0),MATCH(MMap!K429&G429,'Savings from 6P'!$A$4:$L$4,0))","v":0.60512399829497054},{"$f":"IF(P429<=0,0,VLOOKUP(F429&K429&H429,Costs!$A$13:$B$24,2,FALSE))","v":0.71667847995056222},{"$f":"VLOOKUP($R$9,[2]CHAR!$B$17:$T$54,MATCH(J429,[2]CHAR!$B$16:$T$16,0),FALSE)","v":1.0839638408159987E-2},{"$f":"IFERROR(VLOOKUP($F429&$I429&$K429&$H429&$G429,'Savings from 6P'!$V$11:$X$435,3,FALSE),$AD429)","v":0.6},{"$f":"MATCH(J429,[2]!BLDGTYPE,0)","v":6},1.0593107738682607E-2,0.98322307122393326,6.1838210373840949E-3,0.77181511362305244,"POST2013",{"$f":"IFERROR(IF(G429=\"gasht\",INDEX('Savings from 6P'!$Z$11:$AF$28,MATCH(J429,'Savings from 6P'!$Z$11:$Z$28,0),MATCH(MMap!F429&MMap!H429&MMap!K429,'Savings from 6P'!$Y$7:$AE$7,0)),\"\"),\"\")","v":0.13913},0.98322307122393326,15,null,0.6]
["Demand Control Ventilation-DOAS-Medium Ret-GasHt-Vent-Retro","Demand Control Ventilation","Demand Control Ventilation-Retro-Medium Ret-DOAS","Demand Control Ventilation-Retro-Medium Ret","Demand Control Ventilation-Retro","DOAS","GasHt","Vent","High End","Medium Ret","Retro","PRE2013",0.21994119811418295,126.41428241789404,157.6271235429781,{"$f":"INDEX('Savings from 6P'!$A$11:$L$92,MATCH(MMap!F430&MMap!J430&H430,'Savings from 6P'!$A$11:$A$92,0),MATCH(MMap!K430&G430,'Savings from 6P'!$A$4:$L$4,0))","v":0.5747639982949706},{"$f":"IF(P430<=0,0,VLOOKUP(F430&K430&H430,Costs!$A$13:$B$24,2,FALSE))","v":0.71667847995056222},{"$f":"VLOOKUP($R$9,[2]CHAR!$B$17:$T$54,MATCH(J430,[2]CHAR!$B$16:$T$16,0),FALSE)","v":4.0894012773033235E-2},{"$f":"IFERROR(VLOOKUP($F430&$I430&$K430&$H430&$G430,'Savings from 6P'!$V$11:$X$435,3,FALSE),$AD430)","v":0.3},{"$f":"MATCH(J430,[2]!BLDGTYPE,0)","v":7},0.12006240959495594,0.80985008893074606,7.0087501474297986E-2,0.90527535536267667,"POST2013",{"$f":"IFERROR(IF(G430=\"gasht\",INDEX('Savings from 6P'!$Z$11:$AF$28,MATCH(J430,'Savings from 6P'!$Z$11:$Z$28,0),MATCH(MMap!F430&MMap!H430&MMap!K430,'Savings from 6P'!$Y$7:$AE$7,0)),\"\"),\"\")","v":6.7919999999999994E-2},0.80985008893074606,15,null,0.3]
["Demand Control Ventilation-DOAS-Small Ret-GasHt-Vent-Retro","Demand Control Ventilation","Demand Control Ventilation-Retro-Small Ret-DOAS","Demand Control Ventilation-Retro-Small Ret","Demand Control Ventilation-Retro","DOAS","GasHt","Vent","Anchor","Small Ret","Retro","PRE2013",9.1317293266761426E-2,52.485892591478191,65.445138931622296,{"$f":"INDEX('Savings from 6P'!$A$11:$L$92,MATCH(MMap!F431&MMap!J431&H431,'Savings from 6P'!$A$11:$A$92,0),MATCH(MMap!K431&G431,'Savings from 6P'!$A$4:$L$4,0))","v":0.5747639982949706},{"$f":"IF(P431<=0,0,VLOOKUP(F431&K431&H431,Costs!$A$13:$B$24,2,FALSE))","v":0.71667847995056222},{"$f":"VLOOKUP($R$9,[2]CHAR!$B$17:$T$54,MATCH(J431,[2]CHAR!$B$16:$T$16,0),FALSE)","v":1.3016203517984767E-2},{"$f":"IFERROR(VLOOKUP($F431&$I431&$K431&$H431&$G431,'Savings from 6P'!$V$11:$X$435,3,FALSE),$AD431)","v":0.3},{"$f":"MATCH(J431,[2]!BLDGTYPE,0)","v":8},0.2732917310450087,0.56717178566142912,0.15953648329356207,0.53668215741883951,"POST2013",{"$f":"IFERROR(IF(G431=\"gasht\",INDEX('Savings from 6P'!$Z$11:$AF$28,MATCH(J431,'Savings from 6P'!$Z$11:$Z$28,0),MATCH(MMap!F431&MMap!H431&MMap!K431,'Savings from 6P'!$Y$7:$AE$7,0)),\"\"),\"\")","v":6.7919999999999994E-2},0.56717178566142912,15,null,0.3]
["Demand Control Ventilation-DOAS-School K-12-GasHt-Vent-Retro","Demand Control Ventilation","Demand Control Ventilation-Retro-School K-12-DOAS","Demand Control Ventilation-Retro-School K-12","Demand Control Ventilation-Retro","DOAS","GasHt","Vent","K-12","School K-12","Retro","PRE2013",0,0,0,{"$f":"INDEX('Savings from 6P'!$A$11:$L$92,MATCH(MMap!F432&MMap!J432&H432,'Savings from 6P'!$A$11:$A$92,0),MATCH(MMap!K432&G432,'Savings from 6P'!$A$4:$L$4,0))","v":0.55136399829497051},{"$f":"IF(P432<=0,0,VLOOKUP(F432&K432&H432,Costs!$A$13:$B$24,2,FALSE))","v":0.71667847995056222},{"$f":"VLOOKUP($R$9,[2]CHAR!$B$17:$T$54,MATCH(J432,[2]CHAR!$B$16:$T$16,0),FALSE)","v":3.0886857559635036E-2},{"$f":"IFERROR(VLOOKUP($F432&$I432&$K432&$H432&$G432,'Savings from 6P'!$V$11:$X$435,3,FALSE),$AD432)","v":0},{"$f":"MATCH(J432,[2]!BLDGTYPE,0)","v":9},5.8369343906151915E-2,0.84777782221188291,9.3852833881965178E-2,0.96128535178408803,"POST2013",{"$f":"IFERROR(IF(G432=\"gasht\",INDEX('Savings from 6P'!$Z$11:$AF$28,MATCH(J432,'Savings from 6P'!$Z$11:$Z$28,0),MATCH(MMap!F432&MMap!H432&MMap!K432,'Savings from 6P'!$Y$7:$AE$7,0)),\"\"),\"\")","v":0},0.84777782221188291,15,null,0]
["Demand Control Ventilation-DOAS-University-GasHt-Vent-Retro","Demand Control Ventilation","Demand Control Ventilation-Retro-University-DOAS","Demand Control Ventilation-Retro-University","Demand Control Ventilation-Retro","DOAS","GasHt","Vent","University","University","Retro","PRE2013",0,0,0,{"$f":"INDEX('Savings from 6P'!$A$11:$L$92,MATCH(MMap!F433&MMap!J433&H433,'Savings from 6P'!$A$11:$A$92,0),MATCH(MMap!K433&G433,'Savings from 6P'!$A$4:$L$4,0))","v":0.55136399829497051},{"$f":"IF(P433<=0,0,VLOOKUP(F433&K433&H433,Costs!$A$13:$B$24,2,FALSE))","v":0.71667847995056222},{"$f":"VLOOKUP($R$9,[2]CHAR!$B$17:$T$54,MATCH(J433,[2]CHAR!$B$16:$T$16,0),FALSE)","v":2.2325826170102026E-2},{"$f":"IFERROR(VLOOKUP($F433&$I433&$K433&$H433&$G433,'Savings from 6P'!$V$11:$X$435,3,FALSE),$AD433)","v":0},{"$f":"MATCH(J433,[2]!BLDGTYPE,0)","v":10},0.1,0.8,0.1,0.75,"POST2013",{"$f":"IFERROR(IF(G433=\"gasht\",INDEX('Savings from 6P'!$Z$11:$AF$28,MATCH(J433,'Savings from 6P'!$Z$11:$Z$28,0),MATCH(MMap!F433&MMap!H433&MMap!K433,'Savings from 6P'!$Y$7:$AE$7,0)),\"\"),\"\")","v":0},0.8,15,null,0]
["Demand Control Ventilation-DOAS-Warehouse-GasHt-Vent-Retro","Demand Control Ventilation","Demand Control Ventilation-Retro-Warehouse-DOAS","Demand Control Ventilation-Retro-Warehouse","Demand Control Ventilation-Retro","DOAS","GasHt","Vent","Warehouse","Warehouse","Retro","PRE2013",0,0,0,{"$f":"INDEX('Savings from 6P'!$A$11:$L$92,MATCH(MMap!F434&MMap!J434&H434,'Savings from 6P'!$A$11:$A$92,0),MATCH(MMap!K434&G434,'Savings from 6P'!$A$4:$L$4,0))","v":0.55136399829497051},{"$f":"IF(P434<=0,0,VLOOKUP(F434&K434&H434,Costs!$A$13:$B$24,2,FALSE))","v":0.71667847995056222},{"$f":"VLOOKUP($R$9,[2]CHAR!$B$17:$T$54,MATCH(J434,[2]CHAR!$B$16:$T$16,0),FALSE)","v":0.10087192274660353},{"$f":"IFERROR(VLOOKUP($F434&$I434&$K434&$H434&$G434,'Savings from 6P'!$V$11:$X$435,3,FALSE),$AD434)","v":0},{"$f":"MATCH(J434,[2]!BLDGTYPE,0)","v":11},6.3929137015483993E-3,0.98700382329725422,6.6032630011973147E-3,0.18162271351024481,"POST2013",{"$f":"IFERROR(IF(G434=\"gasht\",INDEX('Savings from 6P'!$Z$11:$AF$28,MATCH(J434,'Savings from 6P'!$Z$11:$Z$28,0),MATCH(MMap!F434&MMap!H434&MMap!K434,'Savings from 6P'!$Y$7:$AE$7,0)),\"\"),\"\")","v":6.0690000000000001E-2},0.98700382329725422,15,null,0]
["Demand Control Ventilation-DOAS-Supermarket-GasHt-Vent-Retro","Demand Control Ventilation","Demand Control Ventilation-Retro-Supermarket-DOAS","Demand Control Ventilation-Retro-Supermarket","Demand Control Ventilation-Retro","DOAS","GasHt","Vent","Supermarket","Supermarket","Retro","PRE2013",0.30289061678571128,183.28638107539933,217.07518682927179,{"$f":"INDEX('Savings from 6P'!$A$11:$L$92,MATCH(MMap!F435&MMap!J435&H435,'Savings from 6P'!$A$11:$A$92,0),MATCH(MMap!K435&G435,'Savings from 6P'!$A$4:$L$4,0))","v":0.60512399829497054},{"$f":"IF(P435<=0,0,VLOOKUP(F435&K435&H435,Costs!$A$13:$B$24,2,FALSE))","v":0.71667847995056222},{"$f":"VLOOKUP($R$9,[2]CHAR!$B$17:$T$54,MATCH(J435,[2]CHAR!$B$16:$T$16,0),FALSE)","v":6.1675003194375045E-3},{"$f":"IFERROR(VLOOKUP($F435&$I435&$K435&$H435&$G435,'Savings from 6P'!$V$11:$X$435,3,FALSE),$AD435)","v":0.7},{"$f":"MATCH(J435,[2]!BLDGTYPE,0)","v":12},3.9182634298973458E-2,0.46957192737561176,6.234756715808213E-2,0.92147944946531313,"POST2013",{"$f":"IFERROR(IF(G435=\"gasht\",INDEX('Savings from 6P'!$Z$11:$AF$28,MATCH(J435,'Savings from 6P'!$Z$11:$Z$28,0),MATCH(MMap!F435&MMap!H435&MMap!K435,'Savings from 6P'!$Y$7:$AE$7,0)),\"\"),\"\")","v":6.0690000000000001E-2},0.46957192737561176,15,null,0]
["Demand Control Ventilation-DOAS-MiniMart-GasHt-Vent-Retro","Demand Control Ventilation","Demand Control Ventilation-Retro-MiniMart-DOAS","Demand Control Ventilation-Retro-MiniMart","Demand Control Ventilation-Retro","DOAS","GasHt","Vent","MIniMart","MiniMart","Retro","PRE2013",0.21790703939188083,131.86077893343457,156.16928576190045,{"$f":"INDEX('Savings from 6P'!$A$11:$L$92,MATCH(MMap!F436&MMap!J436&H436,'Savings from 6P'!$A$11:$A$92,0),MATCH(MMap!K436&G436,'Savings from 6P'!$A$4:$L$4,0))","v":0.60512399829497054},{"$f":"IF(P436<=0,0,VLOOKUP(F436&K436&H436,Costs!$A$13:$B$24,2,FALSE))","v":0.71667847995056222},{"$f":"VLOOKUP($R$9,[2]CHAR!$B$17:$T$54,MATCH(J436,[2]CHAR!$B$16:$T$16,0),FALSE)","v":2.5477723102065148E-3},{"$f":"IFERROR(VLOOKUP($F436&$I436&$K436&$H436&$G436,'Savings from 6P'!$V$11:$X$435,3,FALSE),$AD436)","v":0.3},{"$f":"MATCH(J436,[2]!BLDGTYPE,0)","v":13},9.8940421863423066E-3,0.86606113087441317,1.5743440192688529E-2,0.83868998628257874,"POST2013",{"$f":"IFERROR(IF(G436=\"gasht\",INDEX('Savings from 6P'!$Z$11:$AF$28,MATCH(J436,'Savings from 6P'!$Z$11:$Z$28,0),MATCH(MMap!F436&MMap!H436&MMap!K436,'Savings from 6P'!$Y$7:$AE$7,0)),\"\"),\"\")","v":6.0690000000000001E-2},0.86606113087441317,15,null,0]
["Demand Control Ventilation-DOAS-Restaurant-GasHt-Vent-Retro","Demand Control Ventilation","Demand Control Ventilation-Retro-Restaurant-DOAS","Demand Control Ventilation-Retro-Restaurant","Demand Control Ventilation-Retro","DOAS","GasHt","Vent","Restaurant","Restaurant","Retro","PRE2013",0.23809584891509705,144.07751207293876,170.63817108301046,{"$f":"INDEX('Savings from 6P'!$A$11:$L$92,MATCH(MMap!F437&MMap!J437&H437,'Savings from 6P'!$A$11:$A$92,0),MATCH(MMap!K437&G437,'Savings from 6P'!$A$4:$L$4,0))","v":0.60512399829497054},{"$f":"IF(P437<=0,0,VLOOKUP(F437&K437&H437,Costs!$A$13:$B$24,2,FALSE))","v":0.71667847995056222},{"$f":"VLOOKUP($R$9,[2]CHAR!$B$17:$T$54,MATCH(J437,[2]CHAR!$B$16:$T$16,0),FALSE)","v":1.1693580853842011E-2},{"$f":"IFERROR(VLOOKUP($F437&$I437&$K437&$H437&$G437,'Savings from 6P'!$V$11:$X$435,3,FALSE),$AD437)","v":0.3},{"$f":"MATCH(J437,[2]!BLDGTYPE,0)","v":14},3.0050555941853869E-2,0.79365284945968273,0.17629659459846331,0.99999997512427186,"POST2013",{"$f":"IFERROR(IF(G437=\"gasht\",INDEX('Savings from 6P'!$Z$11:$AF$28,MATCH(J437,'Savings from 6P'!$Z$11:$Z$28,0),MATCH(MMap!F437&MMap!H437&MMap!K437,'Savings from 6P'!$Y$7:$AE$7,0)),\"\"),\"\")","v":0.13913},0.79365284945968273,15,null,0]
["Demand Control Ventilation-DOAS-Lodging-GasHt-Vent-Retro","Demand Control Ventilation","Demand Control Ventilation-Retro-Lodging-DOAS","Demand Control Ventilation-Retro-Lodging","Demand Control Ventilation-Retro","DOAS","GasHt","Vent","Lodging","Lodging","Retro","PRE2013",0,0,0,{"$f":"INDEX('Savings from 6P'!$A$11:$L$92,MATCH(MMap!F438&MMap!J438&H438,'Savings from 6P'!$A$11:$A$92,0),MATCH(MMap!K438&G438,'Savings from 6P'!$A$4:$L$4,0))","v":0.55136399829497051},{"$f":"IF(P438<=0,0,VLOOKUP(F438&K438&H438,Costs!$A$13:$B$24,2,FALSE))","v":0.71667847995056222},{"$f":"VLOOKUP($R$9,[2]CHAR!$B$17:$T$54,MATCH(J438,[2]CHAR!$B$16:$T$16,0),FALSE)","v":2.3957473342185561E-2},{"$f":"IFERROR(VLOOKUP($F438&$I438&$K438&$H438&$G438,'Savings from 6P'!$V$11:$X$435,3,FALSE),$AD438)","v":0},{"$f":"MATCH(J438,[2]!BLDGTYPE,0)","v":15},0.44679184687802564,0.24941748529786834,0.30379066782410608,0.94438859080377269,"POST2013",{"$f":"IFERROR(IF(G438=\"gasht\",INDEX('Savings from 6P'!$Z$11:$AF$28,MATCH(J438,'Savings from 6P'!$Z$11:$Z$28,0),MATCH(MMap!F438&MMap!H438&MMap!K438,'Savings from 6P'!$Y$7:$AE$7,0)),\"\"),\"\")","v":6.0690000000000001E-2},0.24941748529786834,15,null,0]
["Demand Control Ventilation-DOAS-Hospital-GasHt-Vent-Retro","Demand Control Ventilation","Demand Control Ventilation-Retro-Hospital-DOAS","Demand Control Ventilation-Retro-Hospital","Demand Control Ventilation-Retro","DOAS","GasHt","Vent","Hospital","Hospital","Retro","PRE2013",0,0,0,{"$f":"INDEX('Savings from 6P'!$A$11:$L$92,MATCH(MMap!F439&MMap!J439&H439,'Savings from 6P'!$A$11:$A$92,0),MATCH(MMap!K439&G439,'Savings from 6P'!$A$4:$L$4,0))","v":0.55136399829497051},{"$f":"IF(P439<=0,0,VLOOKUP(F439&K439&H439,Costs!$A$13:$B$24,2,FALSE))","v":0.71667847995056222},{"$f":"VLOOKUP($R$9,[2]CHAR!$B$17:$T$54,MATCH(J439,[2]CHAR!$B$16:$T$16,0),FALSE)","v":4.4965056377242296E-2},{"$f":"IFERROR(VLOOKUP($F439&$I439&$K439&$H439&$G439,'Savings from 6P'!$V$11:$X$435,3,FALSE),$AD439)","v":0},{"$f":"MATCH(J439,[2]!BLDGTYPE,0)","v":16},0.08,0.91,0.01,0.95,"POST2013",{"$f":"IFERROR(IF(G439=\"gasht\",INDEX('Savings from 6P'!$Z$11:$AF$28,MATCH(J439,'Savings from 6P'!$Z$11:$Z$28,0),MATCH(MMap!F439&MMap!H439&MMap!K439,'Savings from 6P'!$Y$7:$AE$7,0)),\"\"),\"\")","v":6.0690000000000001E-2},0.91,15,null,0]
["Demand Control Ventilation-DOAS-Residential Care-GasHt-Vent-Retro","Demand Control Ventilation","Demand Control Ventilation-Retro-Residential Care-DOAS","Demand Control Ventilation-Retro-Residential Care","Demand Control Ventilation-Retro","DOAS","GasHt","Vent","OtherHealth","Residential Care","Retro","PRE2013",0,0,0,{"$f":"INDEX('Savings from 6P'!$A$11:$L$92,MATCH(MMap!F440&MMap!J440&H440,'Savings from 6P'!$A$11:$A$92,0),MATCH(MMap!K440&G440,'Savings from 6P'!$A$4:$L$4,0))","v":0.55136399829497051},{"$f":"IF(P440<=0,0,VLOOKUP(F440&K440&H440,Costs!$A$13:$B$24,2,FALSE))","v":0.71667847995056222},{"$f":"VLOOKUP($R$9,[2]CHAR!$B$17:$T$54,MATCH(J440,[2]CHAR!$B$16:$T$16,0),FALSE)","v":5.827742495837801E-2},{"$f":"IFERROR(VLOOKUP($F440&$I440&$K440&$H440&$G440,'Savings from 6P'!$V$11:$X$435,3,FALSE),$AD440)","v":0},{"$f":"MATCH(J440,[2]!BLDGTYPE,0)","v":17},0.33985691133471541,0.40556621261939335,0.25457687604589124,0.8423386600487599,"POST2013",{"$f":"IFERROR(IF(G440=\"gasht\",INDEX('Savings from 6P'!$Z$11:$AF$28,MATCH(J440,'Savings from 6P'!$Z$11:$Z$28,0),MATCH(MMap!F440&MMap!H440&MMap!K440,'Savings from 6P'!$Y$7:$AE$7,0)),\"\"),\"\")","v":6.0690000000000001E-2},0.40556621261939335,15,null,0]
["Demand Control Ventilation-DOAS-Assembly-GasHt-Vent-Retro","Demand Control Ventilation","Demand Control Ventilation-Retro-Assembly-DOAS","Demand Control Ventilation-Retro-Assembly","Demand Control Ventilation-Retro","DOAS","GasHt","Vent","Assembly","Assembly","Retro","PRE2013",0,0,0,{"$f":"INDEX('Savings from 6P'!$A$11:$L$92,MATCH(MMap!F441&MMap!J441&H441,'Savings from 6P'!$A$11:$A$92,0),MATCH(MMap!K441&G441,'Savings from 6P'!$A$4:$L$4,0))","v":0.55136399829497051},{"$f":"IF(P441<=0,0,VLOOKUP(F441&K441&H441,Costs!$A$13:$B$24,2,FALSE))","v":0.71667847995056222},{"$f":"VLOOKUP($R$9,[2]CHAR!$B$17:$T$54,MATCH(J441,[2]CHAR!$B$16:$T$16,0),FALSE)","v":9.0984350406775827E-2},{"$f":"IFERROR(VLOOKUP($F441&$I441&$K441&$H441&$G441,'Savings from 6P'!$V$11:$X$435,3,FALSE),$AD441)","v":0},{"$f":"MATCH(J441,[2]!BLDGTYPE,0)","v":18},0.10640191237323121,0.77815390025512432,0.11544418737164447,0.91177234717447209,"POST2013",{"$f":"IFERROR(IF(G441=\"gasht\",INDEX('Savings from 6P'!$Z$11:$AF$28,MATCH(J441,'Savings from 6P'!$Z$11:$Z$28,0),MATCH(MMap!F441&MMap!H441&MMap!K441,'Savings from 6P'!$Y$7:$AE$7,0)),\"\"),\"\")","v":6.0690000000000001E-2},0.77815390025512432,15,null,0]
["Demand Control Ventilation-DOAS-Other-GasHt-Vent-Retro","Demand Control Ventilation","Demand Control Ventilation-Retro-Other-DOAS","Demand Control Ventilation-Retro-Other","Demand Control Ventilation-Retro","DOAS","GasHt","Vent","Other","Other","Retro","PRE2013",0,0,0,{"$f":"INDEX('Savings from 6P'!$A$11:$L$92,MATCH(MMap!F442&MMap!J442&H442,'Savings from 6P'!$A$11:$A$92,0),MATCH(MMap!K442&G442,'Savings from 6P'!$A$4:$L$4,0))","v":0.55136399829497051},{"$f":"IF(P442<=0,0,VLOOKUP(F442&K442&H442,Costs!$A$13:$B$24,2,FALSE))","v":0.71667847995056222},{"$f":"VLOOKUP($R$9,[2]CHAR!$B$17:$T$54,MATCH(J442,[2]CHAR!$B$16:$T$16,0),FALSE)","v":0.21334717399999265},{"$f":"IFERROR(VLOOKUP($F442&$I442&$K442&$H442&$G442,'Savings from 6P'!$V$11:$X$435,3,FALSE),$AD442)","v":0},{"$f":"MATCH(J442,[2]!BLDGTYPE,0)","v":19},0.16939513747697868,0.7257160432726234,0.104888819250398,0.87717751610580841,"POST2013",{"$f":"IFERROR(IF(G442=\"gasht\",INDEX('Savings from 6P'!$Z$11:$AF$28,MATCH(J442,'Savings from 6P'!$Z$11:$Z$28,0),MATCH(MMap!F442&MMap!H442&MMap!K442,'Savings from 6P'!$Y$7:$AE$7,0)),\"\"),\"\")","v":6.0690000000000001E-2},0.7257160432726234,15,null,0]
["Demand Control Ventilation-DOAS-Large Off-HtPmpHt-Vent-Retro","Demand Control Ventilation","Demand Control Ventilation-Retro-Large Off-DOAS","Demand Control Ventilation-Retro-Large Off","Demand Control Ventilation-Retro","DOAS","HtPmpHt","Vent","Large Off","Large Off","Retro","PRE2013",0,0,0,{"$f":"INDEX('Savings from 6P'!$A$11:$L$92,MATCH(MMap!F443&MMap!J443&H443,'Savings from 6P'!$A$11:$A$92,0),MATCH(MMap!K443&G443,'Savings from 6P'!$A$4:$L$4,0))","v":0.55136399829497051},{"$f":"IF(P443<=0,0,VLOOKUP(F443&K443&H443,Costs!$A$13:$B$24,2,FALSE))","v":0.71667847995056222},{"$f":"VLOOKUP($R$9,[2]CHAR!$B$17:$T$54,MATCH(J443,[2]CHAR!$B$16:$T$16,0),FALSE)","v":0.15073291148870363},{"$f":"IFERROR(VLOOKUP($F443&$I443&$K443&$H443&$G443,'Savings from 6P'!$V$11:$X$435,3,FALSE),$AD443)","v":0},{"$f":"MATCH(J443,[2]!BLDGTYPE,0)","v":2},0.20943280302167308,0.54037060186620078,0.25019659511212627,0.95128694884061893,"POST2013",{"$f":"IFERROR(IF(G443=\"gasht\",INDEX('Savings from 6P'!$Z$11:$AF$28,MATCH(J443,'Savings from 6P'!$Z$11:$Z$28,0),MATCH(MMap!F443&MMap!H443&MMap!K443,'Savings from 6P'!$Y$7:$AE$7,0)),\"\"),\"\")","v":""},0.25019659511212627,15,null,0]
["Demand Control Ventilation-DOAS-Medium Off-HtPmpHt-Vent-Retro","Demand Control Ventilation","Demand Control Ventilation-Retro-Medium Off-DOAS","Demand Control Ventilation-Retro-Medium Off","Demand Control Ventilation-Retro","DOAS","HtPmpHt","Vent","Medium Off","Medium Off","Retro","PRE2013",0,0,0,{"$f":"INDEX('Savings from 6P'!$A$11:$L$92,MATCH(MMap!F444&MMap!J444&H444,'Savings from 6P'!$A$11:$A$92,0),MATCH(MMap!K444&G444,'Savings from 6P'!$A$4:$L$4,0))","v":0.55136399829497051},{"$f":"IF(P444<=0,0,VLOOKUP(F444&K444&H444,Costs!$A$13:$B$24,2,FALSE))","v":0.71667847995056222},{"$f":"VLOOKUP($R$9,[2]CHAR!$B$17:$T$54,MATCH(J444,[2]CHAR!$B$16:$T$16,0),FALSE)","v":0.12013270538231059},{"$f":"IFERROR(VLOOKUP($F444&$I444&$K444&$H444&$G444,'Savings from 6P'!$V$11:$X$435,3,FALSE),$AD444)","v":0},{"$f":"MATCH(J444,[2]!BLDGTYPE,0)","v":3},0.22131165109110185,0.51430081857580845,0.26438753033308959,0.97665874571205136,"POST2013",{"$f":"IFERROR(IF(G444=\"gasht\",INDEX('Savings from 6P'!$Z$11:$AF$28,MATCH(J444,'Savings from 6P'!$Z$11:$Z$28,0),MATCH(MMap!F444&MMap!H444&MMap!K444,'Savings from 6P'!$Y$7:$AE$7,0)),\"\"),\"\")","v":""},0.26438753033308959,15,null,0]
["Demand Control Ventilation-DOAS-Small Off-HtPmpHt-Vent-Retro","Demand Control Ventilation","Demand Control Ventilation-Retro-Small Off-DOAS","Demand Control Ventilation-Retro-Small Off","Demand Control Ventilation-Retro","DOAS","HtPmpHt","Vent","Small Off","Small Off","Retro","PRE2013",0,0,0,{"$f":"INDEX('Savings from 6P'!$A$11:$L$92,MATCH(MMap!F445&MMap!J445&H445,'Savings from 6P'!$A$11:$A$92,0),MATCH(MMap!K445&G445,'Savings from 6P'!$A$4:$L$4,0))","v":0.55136399829497051},{"$f":"IF(P445<=0,0,VLOOKUP(F445&K445&H445,Costs!$A$13:$B$24,2,FALSE))","v":0.71667847995056222},{"$f":"VLOOKUP($R$9,[2]CHAR!$B$17:$T$54,MATCH(J445,[2]CHAR!$B$16:$T$16,0),FALSE)","v":3.1538695729415013E-2},{"$f":"IFERROR(VLOOKUP($F445&$I445&$K445&$H445&$G445,'Savings from 6P'!$V$11:$X$435,3,FALSE),$AD445)","v":0},{"$f":"MATCH(J445,[2]!BLDGTYPE,0)","v":4},0.30640942705415353,0.3275419203320854,0.36604865261376096,0.91122609210258287,"POST2013",{"$f":"IFERROR(IF(G445=\"gasht\",INDEX('Savings from 6P'!$Z$11:$AF$28,MATCH(J445,'Savings from 6P'!$Z$11:$Z$28,0),MATCH(MMap!F445&MMap!H445&MMap!K445,'Savings from 6P'!$Y$7:$AE$7,0)),\"\"),\"\")","v":""},0.36604865261376096,15,null,0]
["Demand Control Ventilation-DOAS-Xlarge Ret-HtPmpHt-Vent-Retro","Demand Control Ventilation","Demand Control Ventilation-Retro-Xlarge Ret-DOAS","Demand Control Ventilation-Retro-Xlarge Ret","Demand Control Ventilation-Retro","DOAS","HtPmpHt","Vent","Big Box","Xlarge Ret","Retro","PRE2013",2.1354433529703922E-2,12.922080198818618,15.304262962273526,{"$f":"INDEX('Savings from 6P'!$A$11:$L$92,MATCH(MMap!F446&MMap!J446&H446,'Savings from 6P'!$A$11:$A$92,0),MATCH(MMap!K446&G446,'Savings from 6P'!$A$4:$L$4,0))","v":0.60512399829497054},{"$f":"IF(P446<=0,0,VLOOKUP(F446&K446&H446,Costs!$A$13:$B$24,2,FALSE))","v":0.71667847995056222},{"$f":"VLOOKUP($R$9,[2]CHAR!$B$17:$T$54,MATCH(J446,[2]CHAR!$B$16:$T$16,0),FALSE)","v":2.6820893655991742E-2},{"$f":"IFERROR(VLOOKUP($F446&$I446&$K446&$H446&$G446,'Savings from 6P'!$V$11:$X$435,3,FALSE),$AD446)","v":0.7},{"$f":"MATCH(J446,[2]!BLDGTYPE,0)","v":5},5.2995881766435368E-2,0.91606730000738101,3.0936818226183656E-2,0.98608503921852686,"POST2013",{"$f":"IFERROR(IF(G446=\"gasht\",INDEX('Savings from 6P'!$Z$11:$AF$28,MATCH(J446,'Savings from 6P'!$Z$11:$Z$28,0),MATCH(MMap!F446&MMap!H446&MMap!K446,'Savings from 6P'!$Y$7:$AE$7,0)),\"\"),\"\")","v":""},3.0936818226183656E-2,15,null,0.7]
["Demand Control Ventilation-DOAS-Large Ret-HtPmpHt-Vent-Retro","Demand Control Ventilation","Demand Control Ventilation-Retro-Large Ret-DOAS","Demand Control Ventilation-Retro-Large Ret","Demand Control Ventilation-Retro","DOAS","HtPmpHt","Vent","Small Box","Large Ret","Retro","PRE2013",2.8636599219559362E-3,1.7328693417310395,2.0523234399627261,{"$f":"INDEX('Savings from 6P'!$A$11:$L$92,MATCH(MMap!F447&MMap!J447&H447,'Savings from 6P'!$A$11:$A$92,0),MATCH(MMap!K447&G447,'Savings from 6P'!$A$4:$L$4,0))","v":0.60512399829497054},{"$f":"IF(P447<=0,0,VLOOKUP(F447&K447&H447,Costs!$A$13:$B$24,2,FALSE))","v":0.71667847995056222},{"$f":"VLOOKUP($R$9,[2]CHAR!$B$17:$T$54,MATCH(J447,[2]CHAR!$B$16:$T$16,0),FALSE)","v":1.0839638408159987E-2},{"$f":"IFERROR(VLOOKUP($F447&$I447&$K447&$H447&$G447,'Savings from 6P'!$V$11:$X$435,3,FALSE),$AD447)","v":0.6},{"$f":"MATCH(J447,[2]!BLDGTYPE,0)","v":6},1.0593107738682607E-2,0.98322307122393326,6.1838210373840949E-3,0.77181511362305244,"POST2013",{"$f":"IFERROR(IF(G447=\"gasht\",INDEX('Savings from 6P'!$Z$11:$AF$28,MATCH(J447,'Savings from 6P'!$Z$11:$Z$28,0),MATCH(MMap!F447&MMap!H447&MMap!K447,'Savings from 6P'!$Y$7:$AE$7,0)),\"\"),\"\")","v":""},6.1838210373840949E-3,15,null,0.6]
["Demand Control Ventilation-DOAS-Medium Ret-HtPmpHt-Vent-Retro","Demand Control Ventilation","Demand Control Ventilation-Retro-Medium Ret-DOAS","Demand Control Ventilation-Retro-Medium Ret","Demand Control Ventilation-Retro","DOAS","HtPmpHt","Vent","High End","Medium Ret","Retro","PRE2013",1.9034546341088171E-2,10.94037196073474,13.641649738279606,{"$f":"INDEX('Savings from 6P'!$A$11:$L$92,MATCH(MMap!F448&MMap!J448&H448,'Savings from 6P'!$A$11:$A$92,0),MATCH(MMap!K448&G448,'Savings from 6P'!$A$4:$L$4,0))","v":0.5747639982949706},{"$f":"IF(P448<=0,0,VLOOKUP(F448&K448&H448,Costs!$A$13:$B$24,2,FALSE))","v":0.71667847995056222},{"$f":"VLOOKUP($R$9,[2]CHAR!$B$17:$T$54,MATCH(J448,[2]CHAR!$B$16:$T$16,0),FALSE)","v":4.0894012773033235E-2},{"$f":"IFERROR(VLOOKUP($F448&$I448&$K448&$H448&$G448,'Savings from 6P'!$V$11:$X$435,3,FALSE),$AD448)","v":0.3},{"$f":"MATCH(J448,[2]!BLDGTYPE,0)","v":7},0.12006240959495594,0.80985008893074606,7.0087501474297986E-2,0.90527535536267667,"POST2013",{"$f":"IFERROR(IF(G448=\"gasht\",INDEX('Savings from 6P'!$Z$11:$AF$28,MATCH(J448,'Savings from 6P'!$Z$11:$Z$28,0),MATCH(MMap!F448&MMap!H448&MMap!K448,'Savings from 6P'!$Y$7:$AE$7,0)),\"\"),\"\")","v":""},7.0087501474297986E-2,15,null,0.3]
["Demand Control Ventilation-DOAS-Small Ret-HtPmpHt-Vent-Retro","Demand Control Ventilation","Demand Control Ventilation-Retro-Small Ret-DOAS","Demand Control Ventilation-Retro-Small Ret","Demand Control Ventilation-Retro","DOAS","HtPmpHt","Vent","Anchor","Small Ret","Retro","PRE2013",2.5686115212301061E-2,14.763454280087426,18.408686006186937,{"$f":"INDEX('Savings from 6P'!$A$11:$L$92,MATCH(MMap!F449&MMap!J449&H449,'Savings from 6P'!$A$11:$A$92,0),MATCH(MMap!K449&G449,'Savings from 6P'!$A$4:$L$4,0))","v":0.5747639982949706},{"$f":"IF(P449<=0,0,VLOOKUP(F449&K449&H449,Costs!$A$13:$B$24,2,FALSE))","v":0.71667847995056222},{"$f":"VLOOKUP($R$9,[2]CHAR!$B$17:$T$54,MATCH(J449,[2]CHAR!$B$16:$T$16,0),FALSE)","v":1.3016203517984767E-2},{"$f":"IFERROR(VLOOKUP($F449&$I449&$K449&$H449&$G449,'Savings from 6P'!$V$11:$X$435,3,FALSE),$AD449)","v":0.3},{"$f":"MATCH(J449,[2]!BLDGTYPE,0)","v":8},0.2732917310450087,0.56717178566142912,0.15953648329356207,0.53668215741883951,"POST2013",{"$f":"IFERROR(IF(G449=\"gasht\",INDEX('Savings from 6P'!$Z$11:$AF$28,MATCH(J449,'Savings from 6P'!$Z$11:$Z$28,0),MATCH(MMap!F449&MMap!H449&MMap!K449,'Savings from 6P'!$Y$7:$AE$7,0)),\"\"),\"\")","v":""},0.15953648329356207,15,null,0.3]
["Demand Control Ventilation-DOAS-School K-12-HtPmpHt-Vent-Retro","Demand Control Ventilation","Demand Control Ventilation-Retro-School K-12-DOAS","Demand Control Ventilation-Retro-School K-12","Demand Control Ventilation-Retro","DOAS","HtPmpHt","Vent","K-12","School K-12","Retro","PRE2013",0,0,0,{"$f":"INDEX('Savings from 6P'!$A$11:$L$92,MATCH(MMap!F450&MMap!J450&H450,'Savings from 6P'!$A$11:$A$92,0),MATCH(MMap!K450&G450,'Savings from 6P'!$A$4:$L$4,0))","v":0.55136399829497051},{"$f":"IF(P450<=0,0,VLOOKUP(F450&K450&H450,Costs!$A$13:$B$24,2,FALSE))","v":0.71667847995056222},{"$f":"VLOOKUP($R$9,[2]CHAR!$B$17:$T$54,MATCH(J450,[2]CHAR!$B$16:$T$16,0),FALSE)","v":3.0886857559635036E-2},{"$f":"IFERROR(VLOOKUP($F450&$I450&$K450&$H450&$G450,'Savings from 6P'!$V$11:$X$435,3,FALSE),$AD450)","v":0},{"$f":"MATCH(J450,[2]!BLDGTYPE,0)","v":9},5.8369343906151915E-2,0.84777782221188291,9.3852833881965178E-2,0.96128535178408803,"POST2013",{"$f":"IFERROR(IF(G450=\"gasht\",INDEX('Savings from 6P'!$Z$11:$AF$28,MATCH(J450,'Savings from 6P'!$Z$11:$Z$28,0),MATCH(MMap!F450&MMap!H450&MMap!K450,'Savings from 6P'!$Y$7:$AE$7,0)),\"\"),\"\")","v":""},9.3852833881965178E-2,15,null,0]
["Demand Control Ventilation-DOAS-University-HtPmpHt-Vent-Retro","Demand Control Ventilation","Demand Control Ventilation-Retro-University-DOAS","Demand Control Ventilation-Retro-University","Demand Control Ventilation-Retro","DOAS","HtPmpHt","Vent","University","University","Retro","PRE2013",0,0,0,{"$f":"INDEX('Savings from 6P'!$A$11:$L$92,MATCH(MMap!F451&MMap!J451&H451,'Savings from 6P'!$A$11:$A$92,0),MATCH(MMap!K451&G451,'Savings from 6P'!$A$4:$L$4,0))","v":0.55136399829497051},{"$f":"IF(P451<=0,0,VLOOKUP(F451&K451&H451,Costs!$A$13:$B$24,2,FALSE))","v":0.71667847995056222},{"$f":"VLOOKUP($R$9,[2]CHAR!$B$17:$T$54,MATCH(J451,[2]CHAR!$B$16:$T$16,0),FALSE)","v":2.2325826170102026E-2},{"$f":"IFERROR(VLOOKUP($F451&$I451&$K451&$H451&$G451,'Savings from 6P'!$V$11:$X$435,3,FALSE),$AD451)","v":0},{"$f":"MATCH(J451,[2]!BLDGTYPE,0)","v":10},0.1,0.8,0.1,0.75,"POST2013",{"$f":"IFERROR(IF(G451=\"gasht\",INDEX('Savings from 6P'!$Z$11:$AF$28,MATCH(J451,'Savings from 6P'!$Z$11:$Z$28,0),MATCH(MMap!F451&MMap!H451&MMap!K451,'Savings from 6P'!$Y$7:$AE$7,0)),\"\"),\"\")","v":""},0.1,15,null,0]
["Demand Control Ventilation-DOAS-Warehouse-HtPmpHt-Vent-Retro","Demand Control Ventilation","Demand Control Ventilation-Retro-Warehouse-DOAS","Demand Control Ventilation-Retro-Warehouse","Demand Control Ventilation-Retro","DOAS","HtPmpHt","Vent","Warehouse","Warehouse","Retro","PRE2013",0,0,0,{"$f":"INDEX('Savings from 6P'!$A$11:$L$92,MATCH(MMap!F452&MMap!J452&H452,'Savings from 6P'!$A$11:$A$92,0),MATCH(MMap!K452&G452,'Savings from 6P'!$A$4:$L$4,0))","v":0.55136399829497051},{"$f":"IF(P452<=0,0,VLOOKUP(F452&K452&H452,Costs!$A$13:$B$24,2,FALSE))","v":0.71667847995056222},{"$f":"VLOOKUP($R$9,[2]CHAR!$B$17:$T$54,MATCH(J452,[2]CHAR!$B$16:$T$16,0),FALSE)","v":0.10087192274660353},{"$f":"IFERROR(VLOOKUP($F452&$I452&$K452&$H452&$G452,'Savings from 6P'!$V$11:$X$435,3,FALSE),$AD452)","v":0},{"$f":"MATCH(J452,[2]!BLDGTYPE,0)","v":11},6.3929137015483993E-3,0.98700382329725422,6.6032630011973147E-3,0.18162271351024481,"POST2013",{"$f":"IFERROR(IF(G452=\"gasht\",INDEX('Savings from 6P'!$Z$11:$AF$28,MATCH(J452,'Savings from 6P'!$Z$11:$Z$28,0),MATCH(MMap!F452&MMap!H452&MMap!K452,'Savings from 6P'!$Y$7:$AE$7,0)),\"\"),\"\")","v":""},6.6032630011973147E-3,15,null,0]
["Demand Control Ventilation-DOAS-Supermarket-HtPmpHt-Vent-Retro","Demand Control Ventilation","Demand Control Ventilation-Retro-Supermarket-DOAS","Demand Control Ventilation-Retro-Supermarket","Demand Control Ventilation-Retro","DOAS","HtPmpHt","Vent","Supermarket","Supermarket","Retro","PRE2013",4.0216401302231808E-2,24.335909553041571,28.822229354365302,{"$f":"INDEX('Savings from 6P'!$A$11:$L$92,MATCH(MMap!F453&MMap!J453&H453,'Savings from 6P'!$A$11:$A$92,0),MATCH(MMap!K453&G453,'Savings from 6P'!$A$4:$L$4,0))","v":0.60512399829497054},{"$f":"IF(P453<=0,0,VLOOKUP(F453&K453&H453,Costs!$A$13:$B$24,2,FALSE))","v":0.71667847995056222},{"$f":"VLOOKUP($R$9,[2]CHAR!$B$17:$T$54,MATCH(J453,[2]CHAR!$B$16:$T$16,0),FALSE)","v":6.1675003194375045E-3},{"$f":"IFERROR(VLOOKUP($F453&$I453&$K453&$H453&$G453,'Savings from 6P'!$V$11:$X$435,3,FALSE),$AD453)","v":0.7},{"$f":"MATCH(J453,[2]!BLDGTYPE,0)","v":12},3.9182634298973458E-2,0.46957192737561176,6.234756715808213E-2,0.92147944946531313,"POST2013",{"$f":"IFERROR(IF(G453=\"gasht\",INDEX('Savings from 6P'!$Z$11:$AF$28,MATCH(J453,'Savings from 6P'!$Z$11:$Z$28,0),MATCH(MMap!F453&MMap!H453&MMap!K453,'Savings from 6P'!$Y$7:$AE$7,0)),\"\"),\"\")","v":""},6.234756715808213E-2,15,null,0]
[{"$f":"CONCATENATE(B454,\"-\",F454,\"-\",J454,\"-\",G454,\"-\",H454,\"-\",K454)","v":"Demand Control Ventilation-DOAS-MiniMart-HtPmpHt-Vent-Retro"},"Demand Control Ventilation",{"$f":"CONCATENATE(D454,\"-\",F454)","v":"Demand Control Ventilation-Retro-MiniMart-DOAS"},{"$f":"CONCATENATE(B454,\"-\",K454,\"-\",J454)","v":"Demand Control Ventilation-Retro-MiniMart"},{"$f":"CONCATENATE(B454,\"-\",K454)","v":"Demand Control Ventilation-Retro"},"DOAS","HtPmpHt","Vent","MIniMart","MiniMart","Retro","PRE2013",{"$f":"S454*X454*AA454","v":3.9611596917739616E-3},2.3969927905711326,2.8388779067420007,{"$f":"INDEX('Savings from 6P'!$A$11:$L$92,MATCH(MMap!F454&MMap!J454&H454,'Savings from 6P'!$A$11:$A$92,0),MATCH(MMap!K454&G454,'Savings from 6P'!$A$4:$L$4,0))","v":0.60512399829497054},{"$f":"IF(P454<=0,0,VLOOKUP(F454&K454&H454,Costs!$A$13:$B$24,2,FALSE))","v":0.71667847995056222},{"$f":"VLOOKUP($R$9,[2]CHAR!$B$17:$T$54,MATCH(J454,[2]CHAR!$B$16:$T$16,0),FALSE)","v":2.5477723102065148E-3},{"$f":"IFERROR(VLOOKUP($F454&$I454&$K454&$H454&$G454,'Savings from 6P'!$V$11:$X$435,3,FALSE),$AD454)","v":0.3},{"$f":"MATCH(J454,[2]!BLDGTYPE,0)","v":13},9.8940421863423066E-3,0.86606113087441317,1.5743440192688529E-2,0.83868998628257874,"POST2013",{"$f":"IFERROR(IF(G454=\"gasht\",INDEX('Savings from 6P'!$Z$11:$AF$28,MATCH(J454,'Savings from 6P'!$Z$11:$Z$28,0),MATCH(MMap!F454&MMap!H454&MMap!K454,'Savings from 6P'!$Y$7:$AE$7,0)),\"\"),\"\")","v":""},1.5743440192688529E-2,15,null,0]
["Demand Control Ventilation-DOAS-Restaurant-HtPmpHt-Vent-Retro","Demand Control Ventilation","Demand Control Ventilation-Retro-Restaurant-DOAS","Demand Control Ventilation-Retro-Restaurant","Demand Control Ventilation-Retro","DOAS","HtPmpHt","Vent","Restaurant","Restaurant","Retro","PRE2013",5.2888977063887142E-2,32.004389266630376,37.904391688286786,{"$f":"INDEX('Savings from 6P'!$A$11:$L$92,MATCH(MMap!F455&MMap!J455&H455,'Savings from 6P'!$A$11:$A$92,0),MATCH(MMap!K455&G455,'Savings from 6P'!$A$4:$L$4,0))","v":0.60512399829497054},{"$f":"IF(P455<=0,0,VLOOKUP(F455&K455&H455,Costs!$A$13:$B$24,2,FALSE))","v":0.71667847995056222},{"$f":"VLOOKUP($R$9,[2]CHAR!$B$17:$T$54,MATCH(J455,[2]CHAR!$B$16:$T$16,0),FALSE)","v":1.1693580853842011E-2},{"$f":"IFERROR(VLOOKUP($F455&$I455&$K455&$H455&$G455,'Savings from 6P'!$V$11:$X$435,3,FALSE),$AD455)","v":0.3},{"$f":"MATCH(J455,[2]!BLDGTYPE,0)","v":14},3.0050555941853869E-2,0.79365284945968273,0.17629659459846331,0.99999997512427186,"POST2013",{"$f":"IFERROR(IF(G455=\"gasht\",INDEX('Savings from 6P'!$Z$11:$AF$28,MATCH(J455,'Savings from 6P'!$Z$11:$Z$28,0),MATCH(MMap!F455&MMap!H455&MMap!K455,'Savings from 6P'!$Y$7:$AE$7,0)),\"\"),\"\")","v":""},0.17629659459846331,15,null,0]
["Demand Control Ventilation-DOAS-Lodging-HtPmpHt-Vent-Retro","Demand Control Ventilation","Demand Control Ventilation-Retro-Lodging-DOAS","Demand Control Ventilation-Retro-Lodging","Demand Control Ventilation-Retro","DOAS","HtPmpHt","Vent","Lodging","Lodging","Retro","PRE2013",0,0,0,{"$f":"INDEX('Savings from 6P'!$A$11:$L$92,MATCH(MMap!F456&MMap!J456&H456,'Savings from 6P'!$A$11:$A$92,0),MATCH(MMap!K456&G456,'Savings from 6P'!$A$4:$L$4,0))","v":0.55136399829497051},{"$f":"IF(P456<=0,0,VLOOKUP(F456&K456&H456,Costs!$A$13:$B$24,2,FALSE))","v":0.71667847995056222},{"$f":"VLOOKUP($R$9,[2]CHAR!$B$17:$T$54,MATCH(J456,[2]CHAR!$B$16:$T$16,0),FALSE)","v":2.3957473342185561E-2},{"$f":"IFERROR(VLOOKUP($F456&$I456&$K456&$H456&$G456,'Savings from 6P'!$V$11:$X$435,3,FALSE),$AD456)","v":0},{"$f":"MATCH(J456,[2]!BLDGTYPE,0)","v":15},0.44679184687802564,0.24941748529786834,0.30379066782410608,0.94438859080377269,"POST2013",{"$f":"IFERROR(IF(G456=\"gasht\",INDEX('Savings from 6P'!$Z$11:$AF$28,MATCH(J456,'Savings from 6P'!$Z$11:$Z$28,0),MATCH(MMap!F456&MMap!H456&MMap!K456,'Savings from 6P'!$Y$7:$AE$7,0)),\"\"),\"\")","v":""},0.30379066782410608,15,null,0]
["Demand Control Ventilation-DOAS-Hospital-HtPmpHt-Vent-Retro","Demand Control Ventilation","Demand Control Ventilation-Retro-Hospital-DOAS","Demand Control Ventilation-Retro-Hospital","Demand Control Ventilation-Retro","DOAS","HtPmpHt","Vent","Hospital","Hospital","Retro","PRE2013",0,0,0,{"$f":"INDEX('Savings from 6P'!$A$11:$L$92,MATCH(MMap!F457&MMap!J457&H457,'Savings from 6P'!$A$11:$A$92,0),MATCH(MMap!K457&G457,'Savings from 6P'!$A$4:$L$4,0))","v":0.55136399829497051},{"$f":"IF(P457<=0,0,VLOOKUP(F457&K457&H457,Costs!$A$13:$B$24,2,FALSE))","v":0.71667847995056222},{"$f":"VLOOKUP($R$9,[2]CHAR!$B$17:$T$54,MATCH(J457,[2]CHAR!$B$16:$T$16,0),FALSE)","v":4.4965056377242296E-2},{"$f":"IFERROR(VLOOKUP($F457&$I457&$K457&$H457&$G457,'Savings from 6P'!$V$11:$X$435,3,FALSE),$AD457)","v":0},{"$f":"MATCH(J457,[2]!BLDGTYPE,0)","v":16},0.08,0.91,0.01,0.95,"POST2013",{"$f":"IFERROR(IF(G457=\"gasht\",INDEX('Savings from 6P'!$Z$11:$AF$28,MATCH(J457,'Savings from 6P'!$Z$11:$Z$28,0),MATCH(MMap!F457&MMap!H457&MMap!K457,'Savings from 6P'!$Y$7:$AE$7,0)),\"\"),\"\")","v":""},0.01,15,null,0]
["Demand Control Ventilation-DOAS-Residential Care-HtPmpHt-Vent-Retro","Demand Control Ventilation","Demand Control Ventilation-Retro-Residential Care-DOAS","Demand Control Ventilation-Retro-Residential Care","Demand Control Ventilation-Retro","DOAS","HtPmpHt","Vent","OtherHealth","Residential Care","Retro","PRE2013",0,0,0,{"$f":"INDEX('Savings from 6P'!$A$11:$L$92,MATCH(MMap!F458&MMap!J458&H458,'Savings from 6P'!$A$11:$A$92,0),MATCH(MMap!K458&G458,'Savings from 6P'!$A$4:$L$4,0))","v":0.55136399829497051},{"$f":"IF(P458<=0,0,VLOOKUP(F458&K458&H458,Costs!$A$13:$B$24,2,FALSE))","v":0.71667847995056222},{"$f":"VLOOKUP($R$9,[2]CHAR!$B$17:$T$54,MATCH(J458,[2]CHAR!$B$16:$T$16,0),FALSE)","v":5.827742495837801E-2},{"$f":"IFERROR(VLOOKUP($F458&$I458&$K458&$H458&$G458,'Savings from 6P'!$V$11:$X$435,3,FALSE),$AD458)","v":0},{"$f":"MATCH(J458,[2]!BLDGTYPE,0)","v":17},0.33985691133471541,0.40556621261939335,0.25457687604589124,0.8423386600487599,"POST2013",{"$f":"IFERROR(IF(G458=\"gasht\",INDEX('Savings from 6P'!$Z$11:$AF$28,MATCH(J458,'Savings from 6P'!$Z$11:$Z$28,0),MATCH(MMap!F458&MMap!H458&MMap!K458,'Savings from 6P'!$Y$7:$AE$7,0)),\"\"),\"\")","v":""},0.25457687604589124,15,null,0]
["Demand Control Ventilation-DOAS-Assembly-HtPmpHt-Vent-Retro","Demand Control Ventilation","Demand Control Ventilation-Retro-Assembly-DOAS","Demand Control Ventilation-Retro-Assembly","Demand Control Ventilation-Retro","DOAS","HtPmpHt","Vent","Assembly","Assembly","Retro","PRE2013",0,0,0,{"$f":"INDEX('Savings from 6P'!$A$11:$L$92,MATCH(MMap!F459&MMap!J459&H459,'Savings from 6P'!$A$11:$A$92,0),MATCH(MMap!K459&G459,'Savings from 6P'!$A$4:$L$4,0))","v":0.55136399829497051},{"$f":"IF(P459<=0,0,VLOOKUP(F459&K459&H459,Costs!$A$13:$B$24,2,FALSE))","v":0.71667847995056222},{"$f":"VLOOKUP($R$9,[2]CHAR!$B$17:$T$54,MATCH(J459,[2]CHAR!$B$16:$T$16,0),FALSE)","v":9.0984350406775827E-2},{"$f":"IFERROR(VLOOKUP($F459&$I459&$K459&$H459&$G459,'Savings from 6P'!$V$11:$X$435,3,FALSE),$AD459)","v":0},{"$f":"MATCH(J459,[2]!BLDGTYPE,0)","v":18},0.10640191237323121,0.77815390025512432,0.11544418737164447,0.91177234717447209,"POST2013",{"$f":"IFERROR(IF(G459=\"gasht\",INDEX('Savings from 6P'!$Z$11:$AF$28,MATCH(J459,'Savings from 6P'!$Z$11:$Z$28,0),MATCH(MMap!F459&MMap!H459&MMap!K459,'Savings from 6P'!$Y$7:$AE$7,0)),\"\"),\"\")","v":""},0.11544418737164447,15,null,0]
["Demand Control Ventilation-DOAS-Other-HtPmpHt-Vent-Retro","Demand Control Ventilation","Demand Control Ventilation-Retro-Other-DOAS","Demand Control Ventilation-Retro-Other","Demand Control Ventilation-Retro","DOAS","HtPmpHt","Vent","Other","Other","Retro","PRE2013",0,0,{"$f":"Q460*M460*$O$9","v":0},{"$f":"INDEX('Savings from 6P'!$A$11:$L$92,MATCH(MMap!F460&MMap!J460&H460,'Savings from 6P'!$A$11:$A$92,0),MATCH(MMap!K460&G460,'Savings from 6P'!$A$4:$L$4,0))","v":0.55136399829497051},{"$f":"IF(P460<=0,0,VLOOKUP(F460&K460&H460,Costs!$A$13:$B$24,2,FALSE))","v":0.71667847995056222},{"$f":"VLOOKUP($R$9,[2]CHAR!$B$17:$T$54,MATCH(J460,[2]CHAR!$B$16:$T$16,0),FALSE)","v":0.21334717399999265},{"$f":"IFERROR(VLOOKUP($F460&$I460&$K460&$H460&$G460,'Savings from 6P'!$V$11:$X$435,3,FALSE),$AD460)","v":0},{"$f":"MATCH(J460,[2]!BLDGTYPE,0)","v":19},0.16939513747697868,0.7257160432726234,0.104888819250398,0.87717751610580841,"POST2013",{"$f":"IFERROR(IF(G460=\"gasht\",INDEX('Savings from 6P'!$Z$11:$AF$28,MATCH(J460,'Savings from 6P'!$Z$11:$Z$28,0),MATCH(MMap!F460&MMap!H460&MMap!K460,'Savings from 6P'!$Y$7:$AE$7,0)),\"\"),\"\")","v":""},0.104888819250398,15,null,0]
[]
[null,null,null,null,{"$f":"G462/18","v":10},"elec",{"$f":"COUNTIF($G$11:$G$460,\"=elecht\")","v":180},{"$f":"COUNTIF($H$11:$H$460,\"=vent\")","v":269},null,null,{"$f":"COUNTIF($K$11:$K$460,\"=NR\")","v":90},{"$f":"K462/18","v":5},"Nr"]
[null,null,null,null,{"$f":"G463/18","v":5},"gas",{"$f":"COUNTIF($G$11:$G$460,\"=gasht\")","v":90},{"$f":"COUNTIF($H$11:$H$460,\"=heat\")","v":181},null,null,{"$f":"COUNTIF($K$11:$K$460,\"=retro\")","v":180},{"$f":"K463/18","v":10},"retro"]
[null,null,null,{"$f":"COUNTA(A11:A460)","v":450},{"$f":"G464/18","v":10},"htpmp",{"$f":"COUNTIF($G$11:$G$460,\"=htpmpht\")","v":180},null,null,null,{"$f":"COUNTIF($K$11:$K$460,\"=new\")","v":180},{"$f":"K464/18","v":10},"new"]
[null,null,null,null,null,null,{"$f":"SUM(G462:G464)","v":450},{"$f":"G465/2","v":225}]
[null,null,null,null,null,null,{"$f":"G465/3","v":150}]
[]
[null,null,null,null,null,null,{"$f":"G465/18","v":25}]
[]
[null,null,null,null,{"$f":"F470/18","v":10},{"$f":"COUNTIF($F$11:$F$460,\"=doas\")","v":180}]
[null,null,null,null,{"$f":"F471/18","v":15},{"$f":"COUNTIF($F$11:$F$460,\"=dcv only\")","v":270}]

{"sheet":"Savings from 6P","index":9,"n_rows":435,"n_cols":32,"rows_kept":435,"cut":false,"hidden":false,"merged":[]}
[]
[]
[]
[null,null,null,{"$f":"CONCATENATE(D10,$E$9)","v":"NewElecHt"},{"$f":"CONCATENATE(E10,$E$9)","v":"NRElecHt"},{"$f":"CONCATENATE(F10,$E$9)","v":"RetroElecHt"},{"$f":"CONCATENATE(G10,$H$9)","v":"Newgasht"},{"$f":"CONCATENATE(H10,$H$9)","v":"NRgasht"},{"$f":"CONCATENATE(I10,$H$9)","v":"Retrogasht"},{"$f":"CONCATENATE(J10,$K$9)","v":"Newhtpmpht"},{"$f":"CONCATENATE(K10,$K$9)","v":"NRhtpmpht"},{"$f":"CONCATENATE(L10,$K$9)","v":"Retrohtpmpht"},null,null,null,null,null,null,null,null,null,null,null,null,null,null,"Gas-therms"]
[null,null,null,null,null,null,null,null,null,null,null,null,null,null,null,null,null,null,null,null,null,null,null,null,null,"FROM 6P MMAP"]
["Cooling Savings",null,"Savings Matrix - From 6P"]
["DCV Only",null,null,null,null,null,null,null,null,null,null,null,null,null,null,null,null,null,null,null,null,null,null,null,null,null,{"$f":"CONCATENATE(AA8,AA9,AA10)","v":"DCV OnlyVentNew"},{"$f":"CONCATENATE(AB8,AB9,AB10)","v":"dcv OnlyventNR"},"dcv OnlyventRetro","DOASVENTRETRO","DOASVENTNEW"]
[null,null,null,null,null,null,null,null,null,null,null,null,null,"6P Savings Data from Mmap",null,null,null,null,null,null,null,null,null,null,null,null,"DCV Only","dcv Only","dcv Only","DOAS","DOAS"]
[null,"7P Btypes","DCV Only","Vent","ElecHt",null,"Vent","gasht",null,"Vent","htpmpht",null,null,null,null,null,null,null,null,null,null,null,0.3721814449995246,null,null,null,"Vent","vent","vent","VENT","VENT"]
[null,null,null,"New","NR","Retro","New","NR","Retro","New","NR","Retro",null,"Option","Spce Heat","Savings End Use","End Use Savings","BType","MOPP","RAW Savings (kWh/yr.)","RAW Capital Cost ($)",null,"RAW ANNUAL GAS (therms)","MEASURE DENSITY",null,null,"New","NR","Retro","RETRO","NEW"]
[{"$f":"CONCATENATE($C$9,B11,$D$9)","v":"DCV OnlyLarge OffVent"},"Large Off","Large Off",{"$f":"INDEX($T$11:$T$435,MATCH($C$9&$C11&D$10&$D$9&$E$9,$V$11:$V$435,FALSE),1)","v":5.0399999999999993E-3},5.0399999999999993E-3,5.4099999999999999E-3,{"$f":"INDEX($T$11:$T$435,MATCH($C$9&$C11&G$10&$D$9&$H$9,$V$11:$V$435,FALSE),1)","v":5.0399999999999993E-3},{"$f":"INDEX($T$11:$T$435,MATCH($C$9&$C11&H$10&$D$9&$H$9,$V$11:$V$435,FALSE),1)","v":5.0399999999999993E-3},{"$f":"INDEX($T$11:$T$435,MATCH($C$9&$C11&I$10&$D$9&$H$9,$V$11:$V$435,FALSE),1)","v":5.4099999999999999E-3},{"$f":"INDEX($T$11:$T$435,MATCH($C$9&$C11&J$10&$D$9&$K$9,$V$11:$V$435,FALSE),1)","v":5.0399999999999993E-3},{"$f":"INDEX($T$11:$T$435,MATCH($C$9&$C11&K$10&$D$9&$K$9,$V$11:$V$435,FALSE),1)","v":5.0399999999999993E-3},{"$f":"INDEX($T$11:$T$435,MATCH($C$9&$C11&L$10&$D$9&$K$9,$V$11:$V$435,FALSE),1)","v":5.4099999999999999E-3},null,"DCV Only","ElecHt","Vent","ComEconoMizer","Large Off","New",5.0399999999999993E-3,0.13333333333333333,{"$f":"CONCATENATE(N11,R11,S11,P11,O11)","v":"DCV OnlyLarge OffNewVentElecHt"},null,1,null,"Large Off","Large Off",{"$f":"'[6]RTU DCV Savings 2008 NEW'!$Q$11/100","v":2.1790000000000004E-2},{"$f":"'[6]RTU DCV Savings 2008 NEW'!$Q$11/100","v":2.1790000000000004E-2},{"$f":"'[6]RTU DCV Savings 2008 Retro'!$Q$11/100","v":2.1319999999999995E-2},{"$f":"'[6]RTU DCV Savings 2008 Retro'!$Q$19/100","v":6.0690000000000001E-2},{"$f":"'[6]RTU DCV Savings 2008 NEW'!$S$19/100","v":0.13913}]
[{"$f":"CONCATENATE($C$9,B12,$D$9)","v":"DCV OnlyMedium OffVent"},"Medium Off","Medium Off",5.0399999999999993E-3,5.0399999999999993E-3,5.4099999999999999E-3,{"$f":"INDEX($T$11:$T$435,MATCH($C$9&$C12&G$10&$D$9&$H$9,$V$11:$V$435,FALSE),1)","v":5.0399999999999993E-3},5.0399999999999993E-3,5.4099999999999999E-3,{"$f":"INDEX($T$11:$T$435,MATCH($C$9&$C12&J$10&$D$9&$K$9,$V$11:$V$435,FALSE),1)","v":5.0399999999999993E-3},5.0399999999999993E-3,5.4099999999999999E-3,null,"DCV Only","ElecHt","Vent","ComEconoMizer","Medium Off","New",5.0399999999999993E-3,0.13333333333333333,{"$f":"CONCATENATE(N12,R12,S12,P12,O12)","v":"DCV OnlyMedium OffNewVentElecHt"},null,1,null,"Medium Off","Medium Off",{"$f":"'[6]RTU DCV Savings 2008 NEW'!$Q$11/100","v":2.1790000000000004E-2},{"$f":"'[6]RTU DCV Savings 2008 NEW'!$Q$11/100","v":2.1790000000000004E-2},{"$f":"'[6]RTU DCV Savings 2008 Retro'!$Q$11/100","v":2.1319999999999995E-2},{"$f":"'[6]RTU DCV Savings 2008 Retro'!$Q$19/100","v":6.0690000000000001E-2},{"$f":"'[6]RTU DCV Savings 2008 NEW'!$S$19/100","v":0.13913}]
["DCV OnlySmall OffVent","Small Off","Small Off",5.0399999999999993E-3,5.0399999999999993E-3,5.4099999999999999E-3,5.0399999999999993E-3,5.0399999999999993E-3,5.4099999999999999E-3,5.0399999999999993E-3,5.0399999999999993E-3,5.4099999999999999E-3,null,"DCV Only","ElecHt","Vent","ComEconoMizer","Small Off","New",5.0399999999999993E-3,0.13333333333333333,"DCV OnlySmall OffNewVentElecHt",null,1,null,"Small Off","Small Off",{"$f":"'[6]RTU DCV Savings 2008 NEW'!$Q$11/100","v":2.1790000000000004E-2},{"$f":"'[6]RTU DCV Savings 2008 NEW'!$Q$11/100","v":2.1790000000000004E-2},{"$f":"'[6]RTU DCV Savings 2008 Retro'!$Q$11/100","v":2.1319999999999995E-2},{"$f":"'[6]RTU DCV Savings 2008 Retro'!$Q$19/100","v":6.0690000000000001E-2},{"$f":"'[6]RTU DCV Savings 2008 NEW'!$S$19/100","v":0.13913}]
["DCV OnlyXlarge RetVent","Xlarge Ret","Big Box",3.1119999999999995E-2,3.1119999999999995E-2,3.517E-2,3.1119999999999995E-2,3.1119999999999995E-2,3.517E-2,3.1119999999999995E-2,3.1119999999999995E-2,3.517E-2,null,"DCV Only","ElecHt","Vent","ComEconoMizer","Big Box","New",3.1119999999999995E-2,0.13333333333333333,"DCV OnlyBig BoxNewVentElecHt",null,0.30000000000000004,null,"Xlarge Ret","Big Box",{"$f":"'[6]RTU DCV Savings 2008 NEW'!$S$11/100","v":8.5900000000000004E-2},{"$f":"'[6]RTU DCV Savings 2008 NEW'!$S$11/100","v":8.5900000000000004E-2},{"$f":"'[6]RTU DCV Savings 2008 Retro'!$S$11/100","v":8.5900000000000004E-2},{"$f":"'[6]RTU DCV Savings 2008 Retro'!$S$19/100","v":0.13913},{"$f":"'[6]RTU DCV Savings 2008 NEW'!$U$19/100","v":1.5034280691473776E-2}]
["DCV OnlyLarge RetVent","Large Ret","Small Box",3.1119999999999995E-2,3.1119999999999995E-2,3.517E-2,3.1119999999999995E-2,3.1119999999999995E-2,3.517E-2,3.1119999999999995E-2,3.1119999999999995E-2,3.517E-2,null,"DCV Only","ElecHt","Vent","ComEconoMizer","Small Box","New",3.1119999999999995E-2,0.13333333333333333,"DCV OnlySmall BoxNewVentElecHt",null,0.4,null,"Large Ret","Small Box",{"$f":"'[6]RTU DCV Savings 2008 NEW'!$S$11/100","v":8.5900000000000004E-2},{"$f":"'[6]RTU DCV Savings 2008 NEW'!$S$11/100","v":8.5900000000000004E-2},{"$f":"'[6]RTU DCV Savings 2008 Retro'!$S$11/100","v":8.5900000000000004E-2},{"$f":"'[6]RTU DCV Savings 2008 Retro'!$S$19/100","v":0.13913},{"$f":"'[6]RTU DCV Savings 2008 NEW'!$U$19/100","v":1.5034280691473776E-2}]
["DCV OnlyMedium RetVent","Medium Ret","High End",1.3599999999999999E-2,1.3599999999999999E-2,1.6489999999999998E-2,1.3599999999999999E-2,1.3599999999999999E-2,1.6489999999999998E-2,1.3599999999999999E-2,1.3599999999999999E-2,1.6489999999999998E-2,null,"DCV Only","ElecHt","Vent","ComEconoMizer","High End","New",1.3599999999999999E-2,0.13333333333333333,"DCV OnlyHigh EndNewVentElecHt",null,0.7,null,"Medium Ret","High End",{"$f":"'[6]RTU DCV Savings 2008 NEW'!$T$11/100","v":5.2629999999999996E-2},{"$f":"'[6]RTU DCV Savings 2008 NEW'!$T$11/100","v":5.2629999999999996E-2},{"$f":"'[6]RTU DCV Savings 2008 Retro'!$T$11/100","v":5.2629999999999996E-2},{"$f":"'[6]RTU DCV Savings 2008 Retro'!$T$19/100","v":6.7919999999999994E-2},{"$f":"'[6]RTU DCV Savings 2008 NEW'!$V$19/100","v":3.2611778493993562E-2}]
["DCV OnlySmall RetVent","Small Ret","Anchor",1.3599999999999999E-2,1.3599999999999999E-2,1.6489999999999998E-2,1.3599999999999999E-2,1.3599999999999999E-2,1.6489999999999998E-2,1.3599999999999999E-2,1.3599999999999999E-2,1.6489999999999998E-2,null,"DCV Only","ElecHt","Vent","ComEconoMizer","Anchor","New",1.3599999999999999E-2,0.13333333333333333,"DCV OnlyAnchorNewVentElecHt",null,0.7,null,"Small Ret","Anchor",{"$f":"'[6]RTU DCV Savings 2008 NEW'!$T$11/100","v":5.2629999999999996E-2},{"$f":"'[6]RTU DCV Savings 2008 NEW'!$T$11/100","v":5.2629999999999996E-2},{"$f":"'[6]RTU DCV Savings 2008 Retro'!$T$11/100","v":5.2629999999999996E-2},{"$f":"'[6]RTU DCV Savings 2008 Retro'!$T$19/100","v":6.7919999999999994E-2},{"$f":"'[6]RTU DCV Savings 2008 NEW'!$V$19/100","v":3.2611778493993562E-2}]
["DCV OnlySchool K-12Vent","School K-12","K-12",0,0,0,0,0,0,0,0,0,null,"DCV Only","ElecHt","Vent","ComEconoMizer","K-12","New",null,0.13333333333333333,"DCV OnlyK-12NewVentElecHt",null,1,null,"School K-12","K-12"]
["DCV OnlyUniversityVent","University","University",0,0,0,0,0,0,0,0,0,null,"DCV Only","ElecHt","Vent","ComEconoMizer","University","New",null,0.13333333333333333,"DCV OnlyUniversityNewVentElecHt",null,1,null,"University","University"]
["DCV OnlyWarehouseVent","Warehouse","Warehouse",5.0399999999999993E-3,5.0399999999999993E-3,5.4099999999999999E-3,5.0399999999999993E-3,5.0399999999999993E-3,5.4099999999999999E-3,5.0399999999999993E-3,5.0399999999999993E-3,5.4099999999999999E-3,null,"DCV Only","ElecHt","Vent","ComEconoMizer","Warehouse","New",5.0399999999999993E-3,0.13333333333333333,"DCV OnlyWarehouseNewVentElecHt",null,1,null,"Warehouse","Warehouse",{"$f":"'[6]RTU DCV Savings 2008 NEW'!$Q$11/100","v":2.1790000000000004E-2},{"$f":"'[6]RTU DCV Savings 2008 NEW'!$Q$11/100","v":2.1790000000000004E-2},{"$f":"'[6]RTU DCV Savings 2008 Retro'!$Q$11/100","v":2.1319999999999995E-2},{"$f":"'[6]RTU DCV Savings 2008 Retro'!$Q$19/100","v":6.0690000000000001E-2},{"$f":"'[6]RTU DCV Savings 2008 NEW'!$S$19/100","v":0.13913}]
["DCV OnlySupermarketVent","Supermarket","Supermarket",5.0399999999999993E-3,5.0399999999999993E-3,5.4099999999999999E-3,5.0399999999999993E-3,5.0399999999999993E-3,5.4099999999999999E-3,5.0399999999999993E-3,5.0399999999999993E-3,5.4099999999999999E-3,null,"DCV Only","ElecHt","Vent","ComEconoMizer","Supermarket","New",5.0399999999999993E-3,0.13333333333333333,"DCV OnlySupermarketNewVentElecHt",null,0.30000000000000004,null,"Supermarket","Supermarket",{"$f":"'[6]RTU DCV Savings 2008 NEW'!$S$11/100","v":8.5900000000000004E-2},{"$f":"'[6]RTU DCV Savings 2008 NEW'!$S$11/100","v":8.5900000000000004E-2},{"$f":"'[6]RTU DCV Savings 2008 Retro'!$Q$11/100","v":2.1319999999999995E-2},{"$f":"'[6]RTU DCV Savings 2008 Retro'!$Q$19/100","v":6.0690000000000001E-2},{"$f":"'[6]RTU DCV Savings 2008 NEW'!$S$19/100","v":0.13913}]
["DCV OnlyMiniMartVent","MiniMart","MIniMart",5.0399999999999993E-3,5.0399999999999993E-3,5.4099999999999999E-3,5.0399999999999993E-3,5.0399999999999993E-3,5.4099999999999999E-3,5.0399999999999993E-3,5.0399999999999993E-3,5.4099999999999999E-3,null,"DCV Only","ElecHt","Vent","ComEconoMizer","MIniMart","New",5.0399999999999993E-3,0.13333333333333333,"DCV OnlyMIniMartNewVentElecHt",null,0.7,null,"MiniMart","MIniMart",{"$f":"'[6]RTU DCV Savings 2008 NEW'!$S$11/100","v":8.5900000000000004E-2},{"$f":"'[6]RTU DCV Savings 2008 NEW'!$S$11/100","v":8.5900000000000004E-2},{"$f":"'[6]RTU DCV Savings 2008 Retro'!$Q$11/100","v":2.1319999999999995E-2},{"$f":"'[6]RTU DCV Savings 2008 Retro'!$Q$19/100","v":6.0690000000000001E-2},{"$f":"'[6]RTU DCV Savings 2008 NEW'!$S$19/100","v":0.13913}]
["DCV OnlyRestaurantVent","Restaurant","Restaurant",3.1119999999999995E-2,3.1119999999999995E-2,3.517E-2,3.1119999999999995E-2,3.1119999999999995E-2,3.517E-2,3.1119999999999995E-2,3.1119999999999995E-2,3.517E-2,null,"DCV Only","ElecHt","Vent","ComEconoMizer","Restaurant","New",3.1119999999999995E-2,0.13333333333333333,"DCV OnlyRestaurantNewVentElecHt",null,0.7,null,"Restaurant","Restaurant",{"$f":"'[6]RTU DCV Savings 2008 NEW'!$S$11/100","v":8.5900000000000004E-2},{"$f":"'[6]RTU DCV Savings 2008 NEW'!$S$11/100","v":8.5900000000000004E-2},{"$f":"'[6]RTU DCV Savings 2008 Retro'!$S$11/100","v":8.5900000000000004E-2},{"$f":"'[6]RTU DCV Savings 2008 Retro'!$S$19/100","v":0.13913},{"$f":"'[6]RTU DCV Savings 2008 NEW'!$U$19/100","v":1.5034280691473776E-2}]
["DCV OnlyLodgingVent","Lodging","Lodging",5.0399999999999993E-3,5.0399999999999993E-3,5.4099999999999999E-3,5.0399999999999993E-3,5.0399999999999993E-3,5.4099999999999999E-3,5.0399999999999993E-3,5.0399999999999993E-3,5.4099999999999999E-3,null,"DCV Only","ElecHt","Vent","ComEconoMizer","Lodging","New",5.0399999999999993E-3,0.13333333333333333,"DCV OnlyLodgingNewVentElecHt",null,1,null,"Lodging","Lodging",{"$f":"'[6]RTU DCV Savings 2008 NEW'!$Q$11/100","v":2.1790000000000004E-2},{"$f":"'[6]RTU DCV Savings 2008 NEW'!$Q$11/100","v":2.1790000000000004E-2},{"$f":"'[6]RTU DCV Savings 2008 Retro'!$Q$11/100","v":2.1319999999999995E-2},{"$f":"'[6]RTU DCV Savings 2008 Retro'!$Q$19/100","v":6.0690000000000001E-2},{"$f":"'[6]RTU DCV Savings 2008 NEW'!$S$19/100","v":0.13913}]
["DCV OnlyHospitalVent","Hospital","Hospital",5.0399999999999993E-3,5.0399999999999993E-3,5.4099999999999999E-3,5.0399999999999993E-3,5.0399999999999993E-3,5.4099999999999999E-3,5.0399999999999993E-3,5.0399999999999993E-3,5.4099999999999999E-3,null,"DCV Only","ElecHt","Vent","ComEconoMizer","Hospital","New",5.0399999999999993E-3,0.13333333333333333,"DCV OnlyHospitalNewVentElecHt",null,1,null,"Hospital","Hospital",{"$f":"'[6]RTU DCV Savings 2008 NEW'!$Q$11/100","v":2.1790000000000004E-2},{"$f":"'[6]RTU DCV Savings 2008 NEW'!$Q$11/100","v":2.1790000000000004E-2},{"$f":"'[6]RTU DCV Savings 2008 Retro'!$Q$11/100","v":2.1319999999999995E-2},{"$f":"'[6]RTU DCV Savings 2008 Retro'!$Q$19/100","v":6.0690000000000001E-2},{"$f":"'[6]RTU DCV Savings 2008 NEW'!$S$19/100","v":0.13913}]
["DCV OnlyResidential CareVent","Residential Care","OtherHealth",5.0399999999999993E-3,5.0399999999999993E-3,5.4099999999999999E-3,5.0399999999999993E-3,5.0399999999999993E-3,5.4099999999999999E-3,5.0399999999999993E-3,5.0399999999999993E-3,5.4099999999999999E-3,null,"DCV Only","ElecHt","Vent","ComEconoMizer","OtherHealth","New",5.0399999999999993E-3,0.13333333333333333,"DCV OnlyOtherHealthNewVentElecHt",null,1,null,"Residential Care","OtherHealth",{"$f":"'[6]RTU DCV Savings 2008 NEW'!$Q$11/100","v":2.1790000000000004E-2},{"$f":"'[6]RTU DCV Savings 2008 NEW'!$Q$11/100","v":2.1790000000000004E-2},{"$f":"'[6]RTU DCV Savings 2008 Retro'!$Q$11/100","v":2.1319999999999995E-2},{"$f":"'[6]RTU DCV Savings 2008 Retro'!$Q$19/100","v":6.0690000000000001E-2},{"$f":"'[6]RTU DCV Savings 2008 NEW'!$S$19/100","v":0.13913}]
["DCV OnlyAssemblyVent","Assembly","Assembly",{"$f":"D28","v":5.0399999999999993E-3},{"$f":"E28","v":5.0399999999999993E-3},5.4099999999999999E-3,5.0399999999999993E-3,5.0399999999999993E-3,5.4099999999999999E-3,5.0399999999999993E-3,5.0399999999999993E-3,5.4099999999999999E-3,null,"DCV Only","ElecHt","Vent","ComEconoMizer","Other","New",5.0399999999999993E-3,0.13333333333333333,"DCV OnlyOtherNewVentElecHt",null,1,null,"Assembly",null,{"$f":"AB28","v":2.1790000000000004E-2},{"$f":"AC28","v":2.1790000000000004E-2},{"$f":"AD28","v":2.1319999999999995E-2},{"$f":"AE28","v":6.0690000000000001E-2},{"$f":"AF28","v":0.13913}]
["DCV OnlyOtherVent","Other","Other",{"$f":"INDEX($T$11:$T$435,MATCH($C$9&$C28&D$10&$D$9&$E$9,$V$11:$V$435,FALSE),1)","v":5.0399999999999993E-3},{"$f":"INDEX($T$11:$T$435,MATCH($C$9&$C28&E$10&$D$9&$E$9,$V$11:$V$435,FALSE),1)","v":5.0399999999999993E-3},{"$f":"INDEX($T$11:$T$435,MATCH($C$9&$C28&F$10&$D$9&$E$9,$V$11:$V$435,FALSE),1)","v":5.4099999999999999E-3},5.0399999999999993E-3,5.0399999999999993E-3,5.4099999999999999E-3,5.0399999999999993E-3,5.0399999999999993E-3,5.4099999999999999E-3,null,"DCV Only","ElecHt","Heat","ExCOMM","Large Off","New",0.51825373571637867,0,"DCV OnlyLarge OffNewHeatElecHt",null,1,null,"Other","Other",{"$f":"'[6]RTU DCV Savings 2008 NEW'!$Q$11/100","v":2.1790000000000004E-2},{"$f":"'[6]RTU DCV Savings 2008 NEW'!$Q$11/100","v":2.1790000000000004E-2},{"$f":"'[6]RTU DCV Savings 2008 Retro'!$Q$11/100","v":2.1319999999999995E-2},{"$f":"'[6]RTU DCV Savings 2008 Retro'!$Q$19/100","v":6.0690000000000001E-2},{"$f":"'[6]RTU DCV Savings 2008 NEW'!$S$19/100","v":0.13913}]
[null,null,null,null,null,null,null,null,null,null,null,null,null,"DCV Only","ElecHt","Heat","ExCOMM","Medium Off","New",0.51825373571637867,0,"DCV OnlyMedium OffNewHeatElecHt",null,1]
[null,null,"DCV Only","Heat","ElecHt",null,"Heat","gasht",null,"Heat","htpmpht",null,null,"DCV Only","ElecHt","Heat","ExCOMM","Small Off","New",0.51825373571637867,0,"DCV OnlySmall OffNewHeatElecHt",null,1]
["DCV Only",null,null,"New","NR","Retro","New","NR","Retro","New","NR","Retro",null,"DCV Only","ElecHt","Heat","ExCOMM","Big Box","New",2.0134778786990917,0,"DCV OnlyBig BoxNewHeatElecHt",null,0.30000000000000004]
[{"$f":"CONCATENATE($C$9,B32,$D$30)","v":"DCV OnlyLarge OffHeat"},"Large Off","Large Off",{"$f":"INDEX($T$11:$T$435,MATCH($C$30&$C32&D$31&$D$30&$E$30,$V$11:$V$435,FALSE),1)","v":0.51825373571637867},{"$f":"INDEX($T$11:$T$435,MATCH($C$30&$C32&E$31&$D$30&$E$30,$V$11:$V$435,FALSE),1)","v":0.51825373571637867},{"$f":"INDEX($T$11:$T$435,MATCH($C$30&$C32&F$31&$D$30&$E$30,$V$11:$V$435,FALSE),1)","v":0.62467037796659819},0,0,0,{"$f":"INDEX($T$11:$T$435,MATCH($C$30&$C32&J$31&$D$30&$K$30,$V$11:$V$435,FALSE),1)","v":0.24678749319827556},{"$f":"INDEX($T$11:$T$435,MATCH($C$30&$C32&K$31&$D$30&$K$30,$V$11:$V$435,FALSE),1)","v":0.24678749319827556},0.29746208474599911,null,"DCV Only","ElecHt","Heat","ExCOMM","Small Box","New",2.0134778786990917,0,"DCV OnlySmall BoxNewHeatElecHt",null,0.4]
[{"$f":"CONCATENATE($C$9,B33,$D$30)","v":"DCV OnlyMedium OffHeat"},"Medium Off","Medium Off",{"$f":"INDEX($T$11:$T$435,MATCH($C$30&$C33&D$31&$D$30&$E$30,$V$11:$V$435,FALSE),1)","v":0.51825373571637867},0.51825373571637867,0.62467037796659819,0,0,0,0.24678749319827556,0.24678749319827556,0.29746208474599911,null,"DCV Only","ElecHt","Heat","ExCOMM","High End","New",1.2336360972751246,0,"DCV OnlyHigh EndNewHeatElecHt",null,0.7]
["DCV OnlySmall OffHeat","Small Off","Small Off",0.51825373571637867,0.51825373571637867,0.62467037796659819,0,0,0,0.24678749319827556,0.24678749319827556,0.29746208474599911,null,"DCV Only","ElecHt","Heat","ExCOMM","Anchor","New",1.2336360972751246,0,"DCV OnlyAnchorNewHeatElecHt",null,0.7]
["DCV OnlyXlarge RetHeat","Xlarge Ret","Big Box",2.0134778786990917,2.0134778786990917,2.5168473483738647,0,0,0,0.9587989898567103,0.9587989898567103,1.198498737320888,null,"DCV Only","ElecHt","Heat","ExCOMM","K-12","New",null,0,"DCV OnlyK-12NewHeatElecHt",null,1]
["DCV OnlyLarge RetHeat","Large Ret","Small Box",2.0134778786990917,2.0134778786990917,2.5168473483738647,0,0,0,0.9587989898567103,0.9587989898567103,1.198498737320888,null,"DCV Only","ElecHt","Heat","ExCOMM","University","New",null,0,"DCV OnlyUniversityNewHeatElecHt",null,1]
["DCV OnlyMedium RetHeat","Medium Ret","High End",1.2336360972751246,1.2336360972751246,1.5420451215939057,0,0,0,0.58744576060720211,0.58744576060720211,0.73430720075900269,null,"DCV Only","ElecHt","Heat","ExCOMM","Warehouse","New",0.51825373571637867,0,"DCV OnlyWarehouseNewHeatElecHt",null,1]
["DCV OnlySmall RetHeat","Small Ret","Anchor",1.2336360972751246,1.2336360972751246,1.5420451215939057,0,0,0,0.58744576060720211,0.58744576060720211,0.73430720075900269,null,"DCV Only","ElecHt","Heat","ExCOMM","Supermarket","New",2.0134778786990917,0,"DCV OnlySupermarketNewHeatElecHt",null,0.30000000000000004]
["DCV OnlySchool K-12Heat","School K-12","K-12",0,0,0,0,0,0,0,0,0,null,"DCV Only","ElecHt","Heat","ExCOMM","MIniMart","New",2.0134778786990917,0,"DCV OnlyMIniMartNewHeatElecHt",null,0.7]
["DCV OnlyUniversityHeat","University","University",0,0,0,0,0,0,0,0,0,null,"DCV Only","ElecHt","Heat","ExCOMM","Restaurant","New",2.0134778786990917,0,"DCV OnlyRestaurantNewHeatElecHt",null,0.7]
["DCV OnlyWarehouseHeat","Warehouse","Warehouse",0.51825373571637867,0.51825373571637867,0.62467037796659819,0,0,0,0.24678749319827556,0.24678749319827556,0.29746208474599911,null,"DCV Only","ElecHt","Heat","ExCOMM","Lodging","New",0.51825373571637867,0,"DCV OnlyLodgingNewHeatElecHt",null,1]
["DCV OnlySupermarketHeat","Supermarket","Supermarket",2.0134778786990917,2.0134778786990917,2.5168473483738647,0,0,0,0.9587989898567103,0.9587989898567103,1.198498737320888,null,"DCV Only","ElecHt","Heat","ExCOMM","Hospital","New",0.51825373571637867,0,"DCV OnlyHospitalNewHeatElecHt",null,1]
["DCV OnlyMiniMartHeat","MiniMart","MIniMart",2.0134778786990917,2.0134778786990917,2.5168473483738647,0,0,0,0.9587989898567103,0.9587989898567103,1.198498737320888,null,"DCV Only","ElecHt","Heat","ExCOMM","OtherHealth","New",0.51825373571637867,0,"DCV OnlyOtherHealthNewHeatElecHt",null,1]
["DCV OnlyRestaurantHeat","Restaurant","Restaurant",2.0134778786990917,2.0134778786990917,2.5168473483738647,0,0,0,0.9587989898567103,0.9587989898567103,1.198498737320888,null,"DCV Only","ElecHt","Heat","ExCOMM","Other","New",0.51825373571637867,0,"DCV OnlyOtherNewHeatElecHt",null,1]
["DCV OnlyLodgingHeat","Lodging","Lodging",0.51825373571637867,0.51825373571637867,0.62467037796659819,0,0,0,0.24678749319827556,0.24678749319827556,0.29746208474599911,null,"DCV Only","GasHt","Vent","ComEconoMizer","Large Off","New",5.0399999999999993E-3,0.13333333333333333,"DCV OnlyLarge OffNewVentGasHt",2.1790000000000004E-2,1]
["DCV OnlyHospitalHeat","Hospital","Hospital",0.51825373571637867,0.51825373571637867,0.62467037796659819,0,0,0,0.24678749319827556,0.24678749319827556,0.29746208474599911,null,"DCV Only","GasHt","Vent","ComEconoMizer","Medium Off","New",5.0399999999999993E-3,0.13333333333333333,"DCV OnlyMedium OffNewVentGasHt",2.1790000000000004E-2,1]
["DCV OnlyResidential CareHeat","Residential Care","OtherHealth",0.51825373571637867,0.51825373571637867,0.62467037796659819,0,0,0,0.24678749319827556,0.24678749319827556,0.29746208474599911,null,"DCV Only","GasHt","Vent","ComEconoMizer","Small Off","New",5.0399999999999993E-3,0.13333333333333333,"DCV OnlySmall OffNewVentGasHt",2.1790000000000004E-2,1]
["DCV OnlyAssemblyHeat","Assembly","Assembly",{"$f":"D49","v":0.51825373571637867},0.51825373571637867,0.62467037796659819,0,0,0,0.24678749319827556,0.24678749319827556,0.29746208474599911,null,"DCV Only","GasHt","Vent","ComEconoMizer","Big Box","New",3.1119999999999995E-2,0.13333333333333333,"DCV OnlyBig BoxNewVentGasHt",8.5900000000000004E-2,0.30000000000000004]
["DCV OnlyOtherHeat","Other","Other",0.51825373571637867,0.51825373571637867,0.62467037796659819,0,0,0,{"$f":"INDEX($T$11:$T$435,MATCH($C$30&$C49&J$31&$D$30&$K$30,$V$11:$V$435,FALSE),1)","v":0.24678749319827556},{"$f":"INDEX($T$11:$T$435,MATCH($C$30&$C49&K$31&$D$30&$K$30,$V$11:$V$435,FALSE),1)","v":0.24678749319827556},{"$f":"INDEX($T$11:$T$435,MATCH($C$30&$C49&L$31&$D$30&$K$30,$V$11:$V$435,FALSE),1)","v":0.29746208474599911},null,"DCV Only","GasHt","Vent","ComEconoMizer","Small Box","New",3.1119999999999995E-2,0.13333333333333333,"DCV OnlySmall BoxNewVentGasHt",8.5900000000000004E-2,0.4]
[null,null,null,null,null,null,null,null,null,null,null,null,null,"DCV Only","GasHt","Vent","ComEconoMizer","High End","New",1.3599999999999999E-2,0.13333333333333333,"DCV OnlyHigh EndNewVentGasHt",5.2629999999999996E-2,0.7]
[null,null,null,null,null,null,null,null,null,null,null,null,null,"DCV Only","GasHt","Vent","ComEconoMizer","Anchor","New",1.3599999999999999E-2,0.13333333333333333,"DCV OnlyAnchorNewVentGasHt",5.2629999999999996E-2,0.7]
["Coolin Savings",null,"DOAS","Vent","ElecHt",null,"Vent","gasht",null,"Vent","htpmpht",null,null,"DCV Only","GasHt","Vent","ComEconoMizer","K-12","New",null,0.13333333333333333,"DCV OnlyK-12NewVentGasHt",null,1]
["DOAS",null,null,"New","NR","Retro","New","NR","Retro","New","NR","Retro",null,"DCV Only","GasHt","Vent","ComEconoMizer","University","New",null,0.13333333333333333,"DCV OnlyUniversityNewVentGasHt",null,1]
[{"$f":"CONCATENATE($C$52,B54,$D$52)","v":"DOASLarge OffVent"},"Large Off","Large Off",{"$f":"INDEX($T$11:$T$435,MATCH($C$52&$C54&D$53&$D$52&$E$52,$V$11:$V$435,FALSE),1)","v":0.55020399829497058},{"$f":"INDEX($T$11:$T$435,MATCH($C$30&$C54&E$31&$D$30&$E$30,$V$11:$V$435,FALSE),1)","v":0.51825373571637867},{"$f":"INDEX($T$11:$T$435,MATCH($C$30&$C54&F$31&$D$30&$E$30,$V$11:$V$435,FALSE),1)","v":0.62467037796659819},{"$f":"INDEX($T$11:$T$435,MATCH($C$52&$C54&G$53&$D$52&$H$52,$V$11:$V$435,FALSE),1)","v":0.55020399829497058},0,{"$f":"INDEX($T$11:$T$435,MATCH($C$52&$C54&I$53&$D$52&$H$52,$V$11:$V$435,FALSE),1)","v":0.55136399829497051},{"$f":"INDEX($T$11:$T$435,MATCH($C$52&$C54&J$53&$D$52&$K$52,$V$11:$V$435,FALSE),1)","v":0.55020399829497058},0,{"$f":"INDEX($T$11:$T$435,MATCH($C$52&$C54&L$53&$D$52&$K$52,$V$11:$V$435,FALSE),1)","v":0.55136399829497051},null,"DCV Only","GasHt","Vent","ComEconoMizer","Warehouse","New",5.0399999999999993E-3,0.13333333333333333,"DCV OnlyWarehouseNewVentGasHt",2.1790000000000004E-2,1]
[{"$f":"CONCATENATE($C$52,B55,$D$52)","v":"DOASMedium OffVent"},"Medium Off","Medium Off",{"$f":"INDEX($T$11:$T$435,MATCH($C$52&$C55&D$53&$D$52&$E$52,$V$11:$V$435,FALSE),1)","v":0.55020399829497058},{"$f":"INDEX($T$11:$T$435,MATCH($C$30&$C55&E$31&$D$30&$E$30,$V$11:$V$435,FALSE),1)","v":0.51825373571637867},0.62467037796659819,{"$f":"INDEX($T$11:$T$435,MATCH($C$52&$C55&G$53&$D$52&$H$52,$V$11:$V$435,FALSE),1)","v":0.55020399829497058},0,0.55136399829497051,{"$f":"INDEX($T$11:$T$435,MATCH($C$52&$C55&J$53&$D$52&$K$52,$V$11:$V$435,FALSE),1)","v":0.55020399829497058},0,0.55136399829497051,null,"DCV Only","GasHt","Vent","ComEconoMizer","Supermarket","New",5.0399999999999993E-3,0.13333333333333333,"DCV OnlySupermarketNewVentGasHt",8.5900000000000004E-2,0.30000000000000004]
["DOASSmall OffVent","Small Off","Small Off",0.55020399829497058,0.51825373571637867,0.62467037796659819,0.55020399829497058,0,0.55136399829497051,0.55020399829497058,0,0.55136399829497051,null,"DCV Only","GasHt","Vent","ComEconoMizer","MIniMart","New",5.0399999999999993E-3,0.13333333333333333,"DCV OnlyMIniMartNewVentGasHt",8.5900000000000004E-2,0.7]
["DOASXlarge RetVent","Xlarge Ret","Big Box",0.57047399829497059,2.0134778786990917,2.5168473483738647,0.57047399829497059,0,0.60512399829497054,0.55020399829497058,0,0.60512399829497054,null,"DCV Only","GasHt","Vent","ComEconoMizer","Restaurant","New",3.1119999999999995E-2,0.13333333333333333,"DCV OnlyRestaurantNewVentGasHt",8.5900000000000004E-2,0.7]
["DOASLarge RetVent","Large Ret","Small Box",0.57047399829497059,2.0134778786990917,2.5168473483738647,0.57047399829497059,0,0.60512399829497054,0.55020399829497058,0,0.60512399829497054,null,"DCV Only","GasHt","Vent","ComEconoMizer","Lodging","New",5.0399999999999993E-3,0.13333333333333333,"DCV OnlyLodgingNewVentGasHt",2.1790000000000004E-2,1]
["DOASMedium RetVent","Medium Ret","High End",0.53503399829497056,1.2336360972751246,1.5420451215939057,0.53503399829497056,0,0.5747639982949706,0.55020399829497058,0,0.5747639982949706,null,"DCV Only","GasHt","Vent","ComEconoMizer","Hospital","New",5.0399999999999993E-3,0.13333333333333333,"DCV OnlyHospitalNewVentGasHt",2.1790000000000004E-2,1]
["DOASSmall RetVent","Small Ret","Anchor",0.53503399829497056,1.2336360972751246,1.5420451215939057,0.53503399829497056,0,0.5747639982949706,0.55020399829497058,0,0.5747639982949706,null,"DCV Only","GasHt","Vent","ComEconoMizer","OtherHealth","New",5.0399999999999993E-3,0.13333333333333333,"DCV OnlyOtherHealthNewVentGasHt",2.1790000000000004E-2,1]
["DOASSchool K-12Vent","School K-12","K-12",{"$f":"INDEX($T$11:$T$435,MATCH($C$52&$C61&D$53&$D$52&$E$52,$V$11:$V$435,0),1)","v":0.55020399829497058},0,0,0.55020399829497058,0,0.55136399829497051,0.55020399829497058,0,0.55136399829497051,null,"DCV Only","GasHt","Vent","ComEconoMizer","Other","New",5.0399999999999993E-3,0.13333333333333333,"DCV OnlyOtherNewVentGasHt",2.1790000000000004E-2,1]
["DOASUniversityVent","University","University",0.55020399829497058,0,0,0.55020399829497058,0,0.55136399829497051,0.55020399829497058,0,0.55136399829497051,null,"DCV Only","HtPmpHt","Vent","ComEconoMizer","Large Off","New",5.0399999999999993E-3,0.13333333333333333,"DCV OnlyLarge OffNewVentHtPmpHt",null,1]
["DOASWarehouseVent","Warehouse","Warehouse",0.55020399829497058,0.51825373571637867,0.62467037796659819,0.55020399829497058,0,0.55136399829497051,0.55020399829497058,0,0.55136399829497051,null,"DCV Only","HtPmpHt","Vent","ComEconoMizer","Medium Off","New",5.0399999999999993E-3,0.13333333333333333,"DCV OnlyMedium OffNewVentHtPmpHt",null,1]
["DOASSupermarketVent","Supermarket","Supermarket",0.57047399829497059,2.0134778786990917,2.5168473483738647,0.57047399829497059,0,0.60512399829497054,0.55020399829497058,0,0.60512399829497054,null,"DCV Only","HtPmpHt","Vent","ComEconoMizer","Small Off","New",5.0399999999999993E-3,0.13333333333333333,"DCV OnlySmall OffNewVentHtPmpHt",null,1]
["DOASMiniMartVent","MiniMart","MIniMart",0.57047399829497059,2.0134778786990917,2.5168473483738647,0.57047399829497059,0,0.60512399829497054,0.55020399829497058,0,0.60512399829497054,null,"DCV Only","HtPmpHt","Vent","ComEconoMizer","Big Box","New",3.1119999999999995E-2,0.13333333333333333,"DCV OnlyBig BoxNewVentHtPmpHt",null,0.30000000000000004]
["DOASRestaurantVent","Restaurant","Restaurant",0.57047399829497059,2.0134778786990917,2.5168473483738647,0.57047399829497059,0,0.60512399829497054,0.55020399829497058,0,0.60512399829497054,null,"DCV Only","HtPmpHt","Vent","ComEconoMizer","Small Box","New",3.1119999999999995E-2,0.13333333333333333,"DCV OnlySmall BoxNewVentHtPmpHt",null,0.4]
["DOASLodgingVent","Lodging","Lodging",0.55020399829497058,0.51825373571637867,0.62467037796659819,0.55020399829497058,0,0.55136399829497051,0.55020399829497058,0,0.55136399829497051,null,"DCV Only","HtPmpHt","Vent","ComEconoMizer","High End","New",1.3599999999999999E-2,0.13333333333333333,"DCV OnlyHigh EndNewVentHtPmpHt",null,0.7]
["DOASHospitalVent","Hospital","Hospital",0.55020399829497058,0.51825373571637867,0.62467037796659819,0.55020399829497058,0,0.55136399829497051,0.55020399829497058,0,0.55136399829497051,null,"DCV Only","HtPmpHt","Vent","ComEconoMizer","Anchor","New",1.3599999999999999E-2,0.13333333333333333,"DCV OnlyAnchorNewVentHtPmpHt",null,0.7]
["DOASResidential CareVent","Residential Care","OtherHealth",0.55020399829497058,0.51825373571637867,0.62467037796659819,0.55020399829497058,0,0.55136399829497051,0.55020399829497058,0,0.55136399829497051,null,"DCV Only","HtPmpHt","Vent","ComEconoMizer","K-12","New",null,0.13333333333333333,"DCV OnlyK-12NewVentHtPmpHt",null,1]
["DOASAssemblyVent","Assembly","Assembly",{"$f":"D71","v":0.55020399829497058},0.51825373571637867,0.62467037796659819,0.55020399829497058,0,0.55136399829497051,0.55020399829497058,0,0.55136399829497051,null,"DCV Only","HtPmpHt","Vent","ComEconoMizer","University","New",null,0.13333333333333333,"DCV OnlyUniversityNewVentHtPmpHt",null,1]
["DOASOtherVent","Other","Other",0.55020399829497058,0.51825373571637867,0.62467037796659819,0.55020399829497058,0,0.55136399829497051,0.55020399829497058,0,0.55136399829497051,null,"DCV Only","HtPmpHt","Vent","ComEconoMizer","Warehouse","New",5.0399999999999993E-3,0.13333333333333333,"DCV OnlyWarehouseNewVentHtPmpHt",null,1]
[null,null,null,null,null,null,null,null,null,null,null,null,null,"DCV Only","HtPmpHt","Vent","ComEconoMizer","Supermarket","New",5.0399999999999993E-3,0.13333333333333333,"DCV OnlySupermarketNewVentHtPmpHt",null,0.30000000000000004]
["HEATING Savings",null,"DOAS","Heat","ElecHt",null,"Heat","gasht",null,"Heat","htpmpht",null,null,"DCV Only","HtPmpHt","Vent","ComEconoMizer","MIniMart","New",5.0399999999999993E-3,0.13333333333333333,"DCV OnlyMIniMartNewVentHtPmpHt",null,0.7]
["DOAS",null,null,"New","NR","Retro","New","NR","Retro","New","NR","Retro",null,"DCV Only","HtPmpHt","Vent","ComEconoMizer","Restaurant","New",3.1119999999999995E-2,0.13333333333333333,"DCV OnlyRestaurantNewVentHtPmpHt",null,0.7]
[{"$f":"CONCATENATE($C$52,B75,$D$73)","v":"DOASLarge OffHeat"},"Large Off","Large Off",{"$f":"INDEX($T$11:$T$435,MATCH($C$52&$C75&D$53&$D$73&$E$52,$V$11:$V$435,FALSE),1)","v":1.5034280691473776},null,{"$f":"INDEX($T$11:$T$435,MATCH($C$52&$C75&F$53&$D$73&$E$52,$V$11:$V$435,FALSE),1)","v":1.7782009961910343},null,null,null,{"$f":"INDEX($T$11:$T$435,MATCH($C$52&$C75&J$53&$J$73&$K$52,$V$11:$V$435,FALSE),1)","v":0.71591812816541789},null,{"$f":"INDEX($T$11:$T$435,MATCH($C$52&$C75&L$53&$J$73&$K$52,$V$11:$V$435,FALSE),1)","v":0.84676237913858776},null,"DCV Only","HtPmpHt","Vent","ComEconoMizer","Lodging","New",5.0399999999999993E-3,0.13333333333333333,"DCV OnlyLodgingNewVentHtPmpHt",null,1]
[{"$f":"CONCATENATE($C$52,B76,$D$73)","v":"DOASMedium OffHeat"},"Medium Off","Medium Off",{"$f":"INDEX($T$11:$T$435,MATCH($C$52&$C76&D$53&$D$73&$E$52,$V$11:$V$435,FALSE),1)","v":1.5034280691473776},null,1.7782009961910343,null,null,null,{"$f":"INDEX($T$11:$T$435,MATCH($C$52&$C76&J$53&$J$73&$K$52,$V$11:$V$435,FALSE),1)","v":0.71591812816541789},null,0.84676237913858776,null,"DCV Only","HtPmpHt","Vent","ComEconoMizer","Hospital","New",5.0399999999999993E-3,0.13333333333333333,{"$f":"CONCATENATE(N76,R76,S76,P76,O76)","v":"DCV OnlyHospitalNewVentHtPmpHt"},null,1]
["DOASSmall OffHeat","Small Off","Small Off",1.5034280691473776,null,1.7782009961910343,null,null,null,0.71591812816541789,null,0.84676237913858776,null,"DCV Only","HtPmpHt","Vent","ComEconoMizer","OtherHealth","New",5.0399999999999993E-3,0.13333333333333333,"DCV OnlyOtherHealthNewVentHtPmpHt",null,1]
["DOASXlarge RetHeat","Xlarge Ret","Big Box",3.2611778493993562,null,4.0764723117491943,null,null,null,1.5529418330473124,null,1.9411772913091401,null,"DCV Only","HtPmpHt","Vent","ComEconoMizer","Other","New",5.0399999999999993E-3,0.13333333333333333,"DCV OnlyOtherNewVentHtPmpHt",null,1]
["DOASLarge RetHeat","Large Ret","Small Box",3.2611778493993562,null,4.0764723117491943,null,null,null,1.5529418330473124,null,1.9411772913091401,null,"DCV Only","HtPmpHt","Heat","SmComHP","Large Off","New",0.24678749319827556,0,"DCV OnlyLarge OffNewHeatHtPmpHt",null,1]
["DOASMedium RetHeat","Medium Ret","High End",1.5920304717257545,null,1.9900380896571932,null,null,null,0.75810974844083545,null,0.94763718555104437,null,"DCV Only","HtPmpHt","Heat","SmComHP","Medium Off","New",0.24678749319827556,0,"DCV OnlyMedium OffNewHeatHtPmpHt",null,1]
["DOASSmall RetHeat","Small Ret","Anchor",1.5920304717257545,null,1.9900380896571932,null,null,null,0.75810974844083545,null,0.94763718555104437,null,"DCV Only","HtPmpHt","Heat","SmComHP","Small Off","New",0.24678749319827556,0,"DCV OnlySmall OffNewHeatHtPmpHt",null,1]
["DOASSchool K-12Heat","School K-12","K-12",1.5034280691473776,null,1.7782009961910343,null,null,null,0.71591812816541789,null,0.84676237913858776,null,"DCV Only","HtPmpHt","Heat","SmComHP","Big Box","New",0.9587989898567103,0,"DCV OnlyBig BoxNewHeatHtPmpHt",null,0.30000000000000004]
["DOASUniversityHeat","University","University",1.5034280691473776,null,1.7782009961910343,null,null,null,0.71591812816541789,null,0.84676237913858776,null,"DCV Only","HtPmpHt","Heat","SmComHP","Small Box","New",0.9587989898567103,0,"DCV OnlySmall BoxNewHeatHtPmpHt",null,0.4]
["DOASWarehouseHeat","Warehouse","Warehouse",1.5034280691473776,null,1.7782009961910343,null,null,null,0.71591812816541789,null,0.84676237913858776,null,"DCV Only","HtPmpHt","Heat","SmComHP","High End","New",0.58744576060720211,0,"DCV OnlyHigh EndNewHeatHtPmpHt",null,0.7]
["DOASSupermarketHeat","Supermarket","Supermarket",3.2611778493993562,null,4.0764723117491943,null,null,null,1.5529418330473124,null,1.9411772913091401,null,"DCV Only","HtPmpHt","Heat","SmComHP","Anchor","New",0.58744576060720211,0,"DCV OnlyAnchorNewHeatHtPmpHt",null,0.7]
["DOASMiniMartHeat","MiniMart","MIniMart",3.2611778493993562,null,4.0764723117491943,null,null,null,1.5529418330473124,null,1.9411772913091401,null,"DCV Only","HtPmpHt","Heat","SmComHP","K-12","New",null,0,"DCV OnlyK-12NewHeatHtPmpHt",null,1]
["DOASRestaurantHeat","Restaurant","Restaurant",3.2611778493993562,null,4.0764723117491943,null,null,null,1.5529418330473124,null,1.9411772913091401,null,"DCV Only","HtPmpHt","Heat","SmComHP","University","New",null,0,"DCV OnlyUniversityNewHeatHtPmpHt",null,1]
["DOASLodgingHeat","Lodging","Lodging",1.5034280691473776,null,1.7782009961910343,null,null,null,0.71591812816541789,null,0.84676237913858776,null,"DCV Only","HtPmpHt","Heat","SmComHP","Warehouse","New",0.24678749319827556,0,"DCV OnlyWarehouseNewHeatHtPmpHt",null,1]
["DOASHospitalHeat","Hospital","Hospital",1.5034280691473776,null,1.7782009961910343,null,null,null,0.71591812816541789,null,0.84676237913858776,null,"DCV Only","HtPmpHt","Heat","SmComHP","Supermarket","New",0.9587989898567103,0,"DCV OnlySupermarketNewHeatHtPmpHt",null,0.30000000000000004]
["DOASResidential CareHeat","Residential Care","OtherHealth",1.5034280691473776,null,1.7782009961910343,null,null,null,0.71591812816541789,null,0.84676237913858776,null,"DCV Only","HtPmpHt","Heat","SmComHP","MIniMart","New",0.9587989898567103,0,"DCV OnlyMIniMartNewHeatHtPmpHt",null,0.7]
["DOASAssemblyHeat","Assembly","Assembly",{"$f":"D92","v":1.5034280691473776},0,1.7782009961910343,0,0,0,0.71591812816541789,0,0.84676237913858776,null,"DCV Only","HtPmpHt","Heat","SmComHP","Restaurant","New",0.9587989898567103,0,"DCV OnlyRestaurantNewHeatHtPmpHt",null,0.7]
["DOASOtherHeat","Other","Other",1.5034280691473776,null,1.7782009961910343,null,null,null,0.71591812816541789,null,0.84676237913858776,null,"DCV Only","HtPmpHt","Heat","SmComHP","Lodging","New",0.24678749319827556,0,"DCV OnlyLodgingNewHeatHtPmpHt",null,1]
[null,null,null,null,null,null,null,null,null,null,null,null,null,"DCV Only","HtPmpHt","Heat","SmComHP","Hospital","New",0.24678749319827556,0,"DCV OnlyHospitalNewHeatHtPmpHt",null,1]
[null,null,null,null,null,null,null,null,null,null,null,null,null,"DCV Only","HtPmpHt","Heat","SmComHP","OtherHealth","New",0.24678749319827556,0,"DCV OnlyOtherHealthNewHeatHtPmpHt",null,1]
[null,null,null,null,null,null,null,null,null,null,null,null,null,"DCV Only","HtPmpHt","Heat","SmComHP","Other","New",0.24678749319827556,0,"DCV OnlyOtherNewHeatHtPmpHt",null,1]
[null,null,null,null,null,null,null,null,null,null,null,null,null,"DOAS","ElecHt","Vent","SmComCAC","Large Off","New",0.55020399829497058,0.6472,"DOASLarge OffNewVentElecHt",null,0]
[null,null,null,null,null,null,null,null,null,null,null,null,null,"DOAS","ElecHt","Vent","SmComCAC","Medium Off","New",0.55020399829497058,0.6472,"DOASMedium OffNewVentElecHt",null,0]
[null,null,null,null,null,null,null,null,null,null,null,null,null,"DOAS","ElecHt","Vent","SmComCAC","Small Off","New",0.55020399829497058,0.6472,"DOASSmall OffNewVentElecHt",null,0]
[null,null,null,null,null,null,null,null,null,null,null,null,null,"DOAS","ElecHt","Vent","SmComCAC","Big Box","New",0.57047399829497059,0.6472,"DOASBig BoxNewVentElecHt",null,0.7]
[null,null,null,null,null,null,null,null,null,null,null,null,null,"DOAS","ElecHt","Vent","SmComCAC","Small Box","New",0.57047399829497059,0.6472,"DOASSmall BoxNewVentElecHt",null,0.6]
[null,null,null,null,null,null,null,null,null,null,null,null,null,"DOAS","ElecHt","Vent","SmComCAC","High End","New",0.53503399829497056,0.6472,"DOASHigh EndNewVentElecHt",null,0.3]
[null,null,null,null,null,null,null,null,null,null,null,null,null,"DOAS","ElecHt","Vent","SmComCAC","Anchor","New",0.53503399829497056,0.6472,"DOASAnchorNewVentElecHt",null,0.3]
[null,null,null,null,null,null,null,null,null,null,null,null,null,"DOAS","ElecHt","Vent","SmComCAC","K-12","New",0.55020399829497058,0.6472,"DOASK-12NewVentElecHt",null,0]
[null,null,null,null,null,null,null,null,null,null,null,null,null,"DOAS","ElecHt","Vent","SmComCAC","University","New",0.55020399829497058,0.6472,"DOASUniversityNewVentElecHt",null,0]
[null,null,null,null,null,null,null,null,null,null,null,null,null,"DOAS","ElecHt","Vent","SmComCAC","Warehouse","New",0.55020399829497058,0.6472,"DOASWarehouseNewVentElecHt",null,0]
[null,null,null,null,null,null,null,null,null,null,null,null,null,"DOAS","ElecHt","Vent","SmComCAC","Supermarket","New",0.57047399829497059,0.6472,"DOASSupermarketNewVentElecHt",null,0.7]
[null,null,null,null,null,null,null,null,null,null,null,null,null,"DOAS","ElecHt","Vent","SmComCAC","MIniMart","New",0.57047399829497059,0.6472,"DOASMIniMartNewVentElecHt",null,0.3]
[null,null,null,null,null,null,null,null,null,null,null,null,null,"DOAS","ElecHt","Vent","SmComCAC","Restaurant","New",0.57047399829497059,0.6472,"DOASRestaurantNewVentElecHt",null,0.3]
[null,null,null,null,null,null,null,null,null,null,null,null,null,"DOAS","ElecHt","Vent","SmComCAC","Lodging","New",0.55020399829497058,0.6472,"DOASLodgingNewVentElecHt",null,0]
[null,null,null,null,null,null,null,null,null,null,null,null,null,"DOAS","ElecHt","Vent","SmComCAC","Hospital","New",0.55020399829497058,0.6472,"DOASHospitalNewVentElecHt",null,0]
[null,null,null,null,null,null,null,null,null,null,null,null,null,"DOAS","ElecHt","Vent","SmComCAC","OtherHealth","New",0.55020399829497058,0.6472,"DOASOtherHealthNewVentElecHt",null,0]
[null,null,null,null,null,null,null,null,null,null,null,null,null,"DOAS","ElecHt","Vent","SmComCAC","Other","New",0.55020399829497058,0,"DOASOtherNewVentElecHt",null,0]
[null,null,null,null,null,null,null,null,null,null,null,null,null,"DOAS","ElecHt","Heat","ExCOMM","Large Off","New",1.5034280691473776,0,"DOASLarge OffNewHeatElecHt",null,0]
[null,null,null,null,null,null,null,null,null,null,null,null,null,"DOAS","ElecHt","Heat","ExCOMM","Medium Off","New",1.5034280691473776,0,"DOASMedium OffNewHeatElecHt",null,0]
[null,null,null,null,null,null,null,null,null,null,null,null,null,"DOAS","ElecHt","Heat","ExCOMM","Small Off","New",1.5034280691473776,0,"DOASSmall OffNewHeatElecHt",null,0]
[null,null,null,null,null,null,null,null,null,null,null,null,null,"DOAS","ElecHt","Heat","ExCOMM","Big Box","New",3.2611778493993562,0,"DOASBig BoxNewHeatElecHt",null,0.7]
[null,null,null,null,null,null,null,null,null,null,null,null,null,"DOAS","ElecHt","Heat","ExCOMM","Small Box","New",3.2611778493993562,0,"DOASSmall BoxNewHeatElecHt",null,0.6]
[null,null,null,null,null,null,null,null,null,null,null,null,null,"DOAS","ElecHt","Heat","ExCOMM","High End","New",1.5920304717257545,0,"DOASHigh EndNewHeatElecHt",null,0.3]
[null,null,null,null,null,null,null,null,null,null,null,null,null,"DOAS","ElecHt","Heat","ExCOMM","Anchor","New",1.5920304717257545,0,"DOASAnchorNewHeatElecHt",null,0.3]
[null,null,null,null,null,null,null,null,null,null,null,null,null,"DOAS","ElecHt","Heat","ExCOMM","K-12","New",1.5034280691473776,0,"DOASK-12NewHeatElecHt",null,0]
[null,null,null,null,null,null,null,null,null,null,null,null,null,"DOAS","ElecHt","Heat","ExCOMM","University","New",1.5034280691473776,0,"DOASUniversityNewHeatElecHt",null,0]
[null,null,null,null,null,null,null,null,null,null,null,null,null,"DOAS","ElecHt","Heat","ExCOMM","Warehouse","New",1.5034280691473776,0,"DOASWarehouseNewHeatElecHt",null,0]
[null,null,null,null,null,null,null,null,null,null,null,null,null,"DOAS","ElecHt","Heat","ExCOMM","Supermarket","New",3.2611778493993562,0,"DOASSupermarketNewHeatElecHt",null,0.7]
[null,null,null,null,null,null,null,null,null,null,null,null,null,"DOAS","ElecHt","Heat","ExCOMM","MIniMart","New",3.2611778493993562,0,"DOASMIniMartNewHeatElecHt",null,0.3]
[null,null,null,null,null,null,null,null,null,null,null,null,null,"DOAS","ElecHt","Heat","ExCOMM","Restaurant","New",3.2611778493993562,0,"DOASRestaurantNewHeatElecHt",null,0.3]
[null,null,null,null,null,null,null,null,null,null,null,null,null,"DOAS","ElecHt","Heat","ExCOMM","Lodging","New",1.5034280691473776,0,"DOASLodgingNewHeatElecHt",null,0]
[null,null,null,null,null,null,null,null,null,null,null,null,null,"DOAS","ElecHt","Heat","ExCOMM","Hospital","New",1.5034280691473776,0,"DOASHospitalNewHeatElecHt",null,0]
[null,null,null,null,null,null,null,null,null,null,null,null,null,"DOAS","ElecHt","Heat","ExCOMM","OtherHealth","New",1.5034280691473776,0,"DOASOtherHealthNewHeatElecHt",null,0]
[null,null,null,null,null,null,null,null,null,null,null,null,null,"DOAS","ElecHt","Heat","ExCOMM","Other","New",1.5034280691473776,0,"DOASOtherNewHeatElecHt",null,0]
[null,null,null,null,null,null,null,null,null,null,null,null,null,"DOAS","GasHt","Vent","SmComCAC","Large Off","New",0.55020399829497058,0.6472,"DOASLarge OffNewVentGasHt",0.13913,0]
[null,null,null,null,null,null,null,null,null,null,null,null,null,"DOAS","GasHt","Vent","SmComCAC","Medium Off","New",0.55020399829497058,0.6472,"DOASMedium OffNewVentGasHt",0.13913,0]
[null,null,null,null,null,null,null,null,null,null,null,null,null,"DOAS","GasHt","Vent","SmComCAC","Small Off","New",0.55020399829497058,0.6472,"DOASSmall OffNewVentGasHt",0.13913,0]
[null,null,null,null,null,null,null,null,null,null,null,null,null,"DOAS","GasHt","Vent","SmComCAC","Big Box","New",0.57047399829497059,0.6472,"DOASBig BoxNewVentGasHt",1.5034280691473776E-2,0.7]
[null,null,null,null,null,null,null,null,null,null,null,null,null,"DOAS","GasHt","Vent","SmComCAC","Small Box","New",0.57047399829497059,0.6472,"DOASSmall BoxNewVentGasHt",1.5034280691473776E-2,0.6]
[null,null,null,null,null,null,null,null,null,null,null,null,null,"DOAS","GasHt","Vent","SmComCAC","High End","New",0.53503399829497056,0.6472,"DOASHigh EndNewVentGasHt",3.2611778493993562E-2,0.3]
[null,null,null,null,null,null,null,null,null,null,null,null,null,"DOAS","GasHt","Vent","SmComCAC","Anchor","New",0.53503399829497056,0.6472,"DOASAnchorNewVentGasHt",3.2611778493993562E-2,0.3]
[null,null,null,null,null,null,null,null,null,null,null,null,null,"DOAS","GasHt","Vent","SmComCAC","K-12","New",0.55020399829497058,0.6472,"DOASK-12NewVentGasHt",null,0]
[null,null,null,null,null,null,null,null,null,null,null,null,null,"DOAS","GasHt","Vent","SmComCAC","University","New",0.55020399829497058,0.6472,"DOASUniversityNewVentGasHt",null,0]
[null,null,null,null,null,null,null,null,null,null,null,null,null,"DOAS","GasHt","Vent","SmComCAC","Warehouse","New",0.55020399829497058,0.6472,"DOASWarehouseNewVentGasHt",0.13913,0]
[null,null,null,null,null,null,null,null,null,null,null,null,null,"DOAS","GasHt","Vent","SmComCAC","Supermarket","New",0.57047399829497059,0.6472,{"$f":"CONCATENATE(N140,R140,S140,P140,O140)","v":"DOASSupermarketNewVentGasHt"},0.13913,0.7]
[null,null,null,null,null,null,null,null,null,null,null,null,null,"DOAS","GasHt","Vent","SmComCAC","MIniMart","New",0.57047399829497059,0.6472,"DOASMIniMartNewVentGasHt",0.13913,0.3]
[null,null,null,null,null,null,null,null,null,null,null,null,null,"DOAS","GasHt","Vent","SmComCAC","Restaurant","New",0.57047399829497059,0.6472,"DOASRestaurantNewVentGasHt",1.5034280691473776E-2,0.3]
[null,null,null,null,null,null,null,null,null,null,null,null,null,"DOAS","GasHt","Vent","SmComCAC","Lodging","New",0.55020399829497058,0.6472,"DOASLodgingNewVentGasHt",0.13913,0]
[null,null,null,null,null,null,null,null,null,null,null,null,null,"DOAS","GasHt","Vent","SmComCAC","Hospital","New",0.55020399829497058,0.6472,"DOASHospitalNewVentGasHt",0.13913,0]
[null,null,null,null,null,null,null,null,null,null,null,null,null,"DOAS","GasHt","Vent","SmComCAC","OtherHealth","New",0.55020399829497058,0.6472,"DOASOtherHealthNewVentGasHt",0.13913,0]
[null,null,null,null,null,null,null,null,null,null,null,null,null,"DOAS","GasHt","Vent","SmComCAC","Other","New",0.55020399829497058,0.6472,"DOASOtherNewVentGasHt",0.13913,0]
[null,null,null,null,null,null,null,null,null,null,null,null,null,"DOAS","HtPmpHt","Vent","SmComHP","Large Off","New",0.55020399829497058,0.6472,"DOASLarge OffNewVentHtPmpHt",null,0]
[null,null,null,null,null,null,null,null,null,null,null,null,null,"DOAS","HtPmpHt","Vent","SmComHP","Medium Off","New",0.55020399829497058,0.6472,"DOASMedium OffNewVentHtPmpHt",null,0]
[null,null,null,null,null,null,null,null,null,null,null,null,null,"DOAS","HtPmpHt","Vent","SmComHP","Small Off","New",0.55020399829497058,0.6472,"DOASSmall OffNewVentHtPmpHt",null,0]
[null,null,null,null,null,null,null,null,null,null,null,null,null,"DOAS","HtPmpHt","Vent","SmComHP","Big Box","New",0.55020399829497058,0.6472,"DOASBig BoxNewVentHtPmpHt",null,0.7]
[null,null,null,null,null,null,null,null,null,null,null,null,null,"DOAS","HtPmpHt","Vent","SmComHP","Small Box","New",0.55020399829497058,0.6472,"DOASSmall BoxNewVentHtPmpHt",null,0.6]
[null,null,null,null,null,null,null,null,null,null,null,null,null,"DOAS","HtPmpHt","Vent","SmComHP","High End","New",0.55020399829497058,0.6472,"DOASHigh EndNewVentHtPmpHt",null,0.3]
[null,null,null,null,null,null,null,null,null,null,null,null,null,"DOAS","HtPmpHt","Vent","SmComHP","Anchor","New",0.55020399829497058,0.6472,"DOASAnchorNewVentHtPmpHt",null,0.3]
[null,null,null,null,null,null,null,null,null,null,null,null,null,"DOAS","HtPmpHt","Vent","SmComHP","K-12","New",0.55020399829497058,0.6472,"DOASK-12NewVentHtPmpHt",null,0]
[null,null,null,null,null,null,null,null,null,null,null,null,null,"DOAS","HtPmpHt","Vent","SmComHP","University","New",0.55020399829497058,0.6472,"DOASUniversityNewVentHtPmpHt",null,0]
[null,null,null,null,null,null,null,null,null,null,null,null,null,"DOAS","HtPmpHt","Vent","SmComHP","Warehouse","New",0.55020399829497058,0.6472,"DOASWarehouseNewVentHtPmpHt",null,0]
[null,null,null,null,null,null,null,null,null,null,null,null,null,"DOAS","HtPmpHt","Vent","SmComHP","Supermarket","New",0.55020399829497058,0.6472,"DOASSupermarketNewVentHtPmpHt",null,0.7]
[null,null,null,null,null,null,null,null,null,null,null,null,null,"DOAS","HtPmpHt","Vent","SmComHP","MIniMart","New",0.55020399829497058,0.6472,"DOASMIniMartNewVentHtPmpHt",null,0.3]
[null,null,null,null,null,null,null,null,null,null,null,null,null,"DOAS","HtPmpHt","Vent","SmComHP","Restaurant","New",0.55020399829497058,0.6472,"DOASRestaurantNewVentHtPmpHt",null,0.3]
[null,null,null,null,null,null,null,null,null,null,null,null,null,"DOAS","HtPmpHt","Vent","SmComHP","Lodging","New",0.55020399829497058,0.6472,"DOASLodgingNewVentHtPmpHt",null,0]
[null,null,null,null,null,null,null,null,null,null,null,null,null,"DOAS","HtPmpHt","Vent","SmComHP","Hospital","New",0.55020399829497058,0.6472,"DOASHospitalNewVentHtPmpHt",null,0]
[null,null,null,null,null,null,null,null,null,null,null,null,null,"DOAS","HtPmpHt","Vent","SmComHP","OtherHealth","New",0.55020399829497058,0.6472,"DOASOtherHealthNewVentHtPmpHt",null,0]
[null,null,null,null,null,null,null,null,null,null,null,null,null,"DOAS","HtPmpHt","Vent","SmComHP","Other","New",0.55020399829497058,0,"DOASOtherNewVentHtPmpHt",null,0]
[null,null,null,null,null,null,null,null,null,null,null,null,null,"DOAS","HtPmpHt","Heat","SmComHP","Large Off","New",0.71591812816541789,0,"DOASLarge OffNewHeatHtPmpHt",null,0]
[null,null,null,null,null,null,null,null,null,null,null,null,null,"DOAS","HtPmpHt","Heat","SmComHP","Medium Off","New",0.71591812816541789,0,"DOASMedium OffNewHeatHtPmpHt",null,0]
[null,null,null,null,null,null,null,null,null,null,null,null,null,"DOAS","HtPmpHt","Heat","SmComHP","Small Off","New",0.71591812816541789,0,"DOASSmall OffNewHeatHtPmpHt",null,0]
[null,null,null,null,null,null,null,null,null,null,null,null,null,"DOAS","HtPmpHt","Heat","SmComHP","Big Box","New",1.5529418330473124,0,"DOASBig BoxNewHeatHtPmpHt",null,0.7]
[null,null,null,null,null,null,null,null,null,null,null,null,null,"DOAS","HtPmpHt","Heat","SmComHP","Small Box","New",1.5529418330473124,0,"DOASSmall BoxNewHeatHtPmpHt",null,0.6]
[null,null,null,null,null,null,null,null,null,null,null,null,null,"DOAS","HtPmpHt","Heat","SmComHP","High End","New",0.75810974844083545,0,"DOASHigh EndNewHeatHtPmpHt",null,0.3]
[null,null,null,null,null,null,null,null,null,null,null,null,null,"DOAS","HtPmpHt","Heat","SmComHP","Anchor","New",0.75810974844083545,0,"DOASAnchorNewHeatHtPmpHt",null,0.3]
[null,null,null,null,null,null,null,null,null,null,null,null,null,"DOAS","HtPmpHt","Heat","SmComHP","K-12","New",0.71591812816541789,0,"DOASK-12NewHeatHtPmpHt",null,0]
[null,null,null,null,null,null,null,null,null,null,null,null,null,"DOAS","HtPmpHt","Heat","SmComHP","University","New",0.71591812816541789,0,"DOASUniversityNewHeatHtPmpHt",null,0]
[null,null,null,null,null,null,null,null,null,null,null,null,null,"DOAS","HtPmpHt","Heat","SmComHP","Warehouse","New",0.71591812816541789,0,"DOASWarehouseNewHeatHtPmpHt",null,0]
[null,null,null,null,null,null,null,null,null,null,null,null,null,"DOAS","HtPmpHt","Heat","SmComHP","Supermarket","New",1.5529418330473124,0,"DOASSupermarketNewHeatHtPmpHt",null,0.7]
[null,null,null,null,null,null,null,null,null,null,null,null,null,"DOAS","HtPmpHt","Heat","SmComHP","MIniMart","New",1.5529418330473124,0,"DOASMIniMartNewHeatHtPmpHt",null,0.3]
[null,null,null,null,null,null,null,null,null,null,null,null,null,"DOAS","HtPmpHt","Heat","SmComHP","Restaurant","New",1.5529418330473124,0,"DOASRestaurantNewHeatHtPmpHt",null,0.3]
[null,null,null,null,null,null,null,null,null,null,null,null,null,"DOAS","HtPmpHt","Heat","SmComHP","Lodging","New",0.71591812816541789,0,"DOASLodgingNewHeatHtPmpHt",null,0]
[null,null,null,null,null,null,null,null,null,null,null,null,null,"DOAS","HtPmpHt","Heat","SmComHP","Hospital","New",0.71591812816541789,0,"DOASHospitalNewHeatHtPmpHt",null,0]
[null,null,null,null,null,null,null,null,null,null,null,null,null,"DOAS","HtPmpHt","Heat","SmComHP","OtherHealth","New",0.71591812816541789,0,"DOASOtherHealthNewHeatHtPmpHt",null,0]
[null,null,null,null,null,null,null,null,null,null,null,null,null,"DOAS","HtPmpHt","Heat","SmComHP","Other","New",0.71591812816541789,0,"DOASOtherNewHeatHtPmpHt",null,0]
[null,null,null,null,null,null,null,null,null,null,null,null,null,"DCV Only","ElecHt","Vent","ComEconoMizer","Large Off","NR",5.0399999999999993E-3,0.13333333333333333,"DCV OnlyLarge OffNRVentElecHt",null,0.5]
[null,null,null,null,null,null,null,null,null,null,null,null,null,"DCV Only","ElecHt","Vent","ComEconoMizer","Medium Off","NR",5.0399999999999993E-3,0.13333333333333333,"DCV OnlyMedium OffNRVentElecHt",null,0.5]
[null,null,null,null,null,null,null,null,null,null,null,null,null,"DCV Only","ElecHt","Vent","ComEconoMizer","Small Off","NR",5.0399999999999993E-3,0.13333333333333333,"DCV OnlySmall OffNRVentElecHt",null,0.5]
[null,null,null,null,null,null,null,null,null,null,null,null,null,"DCV Only","ElecHt","Vent","ComEconoMizer","Big Box","NR",3.1119999999999995E-2,0.13333333333333333,"DCV OnlyBig BoxNRVentElecHt",null,0.15000000000000002]
[null,null,null,null,null,null,null,null,null,null,null,null,null,"DCV Only","ElecHt","Vent","ComEconoMizer","Small Box","NR",3.1119999999999995E-2,0.13333333333333333,"DCV OnlySmall BoxNRVentElecHt",null,0.2]
[null,null,null,null,null,null,null,null,null,null,null,null,null,"DCV Only","ElecHt","Vent","ComEconoMizer","High End","NR",1.3599999999999999E-2,0.13333333333333333,"DCV OnlyHigh EndNRVentElecHt",null,0.35]
[null,null,null,null,null,null,null,null,null,null,null,null,null,"DCV Only","ElecHt","Vent","ComEconoMizer","Anchor","NR",1.3599999999999999E-2,0.13333333333333333,"DCV OnlyAnchorNRVentElecHt",null,0.35]
[null,null,null,null,null,null,null,null,null,null,null,null,null,"DCV Only","ElecHt","Vent","ComEconoMizer","K-12","NR",null,0.13333333333333333,"DCV OnlyK-12NRVentElecHt",null,0.5]
[null,null,null,null,null,null,null,null,null,null,null,null,null,"DCV Only","ElecHt","Vent","ComEconoMizer","University","NR",null,0.13333333333333333,"DCV OnlyUniversityNRVentElecHt",null,0.5]
[null,null,null,null,null,null,null,null,null,null,null,null,null,"DCV Only","ElecHt","Vent","ComEconoMizer","Warehouse","NR",5.0399999999999993E-3,0.13333333333333333,"DCV OnlyWarehouseNRVentElecHt",null,0.5]
[null,null,null,null,null,null,null,null,null,null,null,null,null,"DCV Only","ElecHt","Vent","ComEconoMizer","Supermarket","NR",5.0399999999999993E-3,0.13333333333333333,"DCV OnlySupermarketNRVentElecHt",null,0.15000000000000002]
[null,null,null,null,null,null,null,null,null,null,null,null,null,"DCV Only","ElecHt","Vent","ComEconoMizer","MIniMart","NR",5.0399999999999993E-3,0.13333333333333333,"DCV OnlyMIniMartNRVentElecHt",null,0.35]
[null,null,null,null,null,null,null,null,null,null,null,null,null,"DCV Only","ElecHt","Vent","ComEconoMizer","Restaurant","NR",3.1119999999999995E-2,0.13333333333333333,"DCV OnlyRestaurantNRVentElecHt",null,0.35]
[null,null,null,null,null,null,null,null,null,null,null,null,null,"DCV Only","ElecHt","Vent","ComEconoMizer","Lodging","NR",5.0399999999999993E-3,0.13333333333333333,"DCV OnlyLodgingNRVentElecHt",null,0.5]
[null,null,null,null,null,null,null,null,null,null,null,null,null,"DCV Only","ElecHt","Vent","ComEconoMizer","Hospital","NR",5.0399999999999993E-3,0.13333333333333333,"DCV OnlyHospitalNRVentElecHt",null,0.5]
[null,null,null,null,null,null,null,null,null,null,null,null,null,"DCV Only","ElecHt","Vent","ComEconoMizer","OtherHealth","NR",5.0399999999999993E-3,0.13333333333333333,"DCV OnlyOtherHealthNRVentElecHt",null,0.5]
[null,null,null,null,null,null,null,null,null,null,null,null,null,"DCV Only","ElecHt","Vent","ComEconoMizer","Other","NR",5.0399999999999993E-3,0.13333333333333333,"DCV OnlyOtherNRVentElecHt",null,0.5]
[null,null,null,null,null,null,null,null,null,null,null,null,null,"DCV Only","ElecHt","Heat","ExCOMM","Large Off","NR",0.51825373571637867,0,"DCV OnlyLarge OffNRHeatElecHt",null,0.5]
[null,null,null,null,null,null,null,null,null,null,null,null,null,"DCV Only","ElecHt","Heat","ExCOMM","Medium Off","NR",0.51825373571637867,0,"DCV OnlyMedium OffNRHeatElecHt",null,0.5]
[null,null,null,null,null,null,null,null,null,null,null,null,null,"DCV Only","ElecHt","Heat","ExCOMM","Small Off","NR",0.51825373571637867,0,"DCV OnlySmall OffNRHeatElecHt",null,0.5]
[null,null,null,null,null,null,null,null,null,null,null,null,null,"DCV Only","ElecHt","Heat","ExCOMM","Big Box","NR",2.0134778786990917,0,"DCV OnlyBig BoxNRHeatElecHt",null,0.15000000000000002]
[null,null,null,null,null,null,null,null,null,null,null,null,null,"DCV Only","ElecHt","Heat","ExCOMM","Small Box","NR",2.0134778786990917,0,"DCV OnlySmall BoxNRHeatElecHt",null,0.2]
[null,null,null,null,null,null,null,null,null,null,null,null,null,"DCV Only","ElecHt","Heat","ExCOMM","High End","NR",1.2336360972751246,0,"DCV OnlyHigh EndNRHeatElecHt",null,0.35]
[null,null,null,null,null,null,null,null,null,null,null,null,null,"DCV Only","ElecHt","Heat","ExCOMM","Anchor","NR",1.2336360972751246,0,{"$f":"CONCATENATE(N204,R204,S204,P204,O204)","v":"DCV OnlyAnchorNRHeatElecHt"},null,0.35]
[null,null,null,null,null,null,null,null,null,null,null,null,null,"DCV Only","ElecHt","Heat","ExCOMM","K-12","NR",null,0,"DCV OnlyK-12NRHeatElecHt",null,0.5]
[null,null,null,null,null,null,null,null,null,null,null,null,null,"DCV Only","ElecHt","Heat","ExCOMM","University","NR",null,0,"DCV OnlyUniversityNRHeatElecHt",null,0.5]
[null,null,null,null,null,null,null,null,null,null,null,null,null,"DCV Only","ElecHt","Heat","ExCOMM","Warehouse","NR",0.51825373571637867,0,"DCV OnlyWarehouseNRHeatElecHt",null,0.5]
[null,null,null,null,null,null,null,null,null,null,null,null,null,"DCV Only","ElecHt","Heat","ExCOMM","Supermarket","NR",2.0134778786990917,0,"DCV OnlySupermarketNRHeatElecHt",null,0.15000000000000002]
[null,null,null,null,null,null,null,null,null,null,null,null,null,"DCV Only","ElecHt","Heat","ExCOMM","MIniMart","NR",2.0134778786990917,0,"DCV OnlyMIniMartNRHeatElecHt",null,0.35]
[null,null,null,null,null,null,null,null,null,null,null,null,null,"DCV Only","ElecHt","Heat","ExCOMM","Restaurant","NR",2.0134778786990917,0,"DCV OnlyRestaurantNRHeatElecHt",null,0.35]
[null,null,null,null,null,null,null,null,null,null,null,null,null,"DCV Only","ElecHt","Heat","ExCOMM","Lodging","NR",0.51825373571637867,0,"DCV OnlyLodgingNRHeatElecHt",null,0.5]
[null,null,null,null,null,null,null,null,null,null,null,null,null,"DCV Only","ElecHt","Heat","ExCOMM","Hospital","NR",0.51825373571637867,0,"DCV OnlyHospitalNRHeatElecHt",null,0.5]
[null,null,null,null,null,null,null,null,null,null,null,null,null,"DCV Only","ElecHt","Heat","ExCOMM","OtherHealth","NR",0.51825373571637867,0,"DCV OnlyOtherHealthNRHeatElecHt",null,0.5]
[null,null,null,null,null,null,null,null,null,null,null,null,null,"DCV Only","ElecHt","Heat","ExCOMM","Other","NR",0.51825373571637867,0,"DCV OnlyOtherNRHeatElecHt",null,0.5]
[null,null,null,null,null,null,null,null,null,null,null,null,null,"DCV Only","GasHt","Vent","ComEconoMizer","Large Off","NR",5.0399999999999993E-3,0.13333333333333333,"DCV OnlyLarge OffNRVentGasHt",2.1790000000000004E-2,0.5]
[null,null,null,null,null,null,null,null,null,null,null,null,null,"DCV Only","GasHt","Vent","ComEconoMizer","Medium Off","NR",5.0399999999999993E-3,0.13333333333333333,"DCV OnlyMedium OffNRVentGasHt",2.1790000000000004E-2,0.5]
[null,null,null,null,null,null,null,null,null,null,null,null,null,"DCV Only","GasHt","Vent","ComEconoMizer","Small Off","NR",5.0399999999999993E-3,0.13333333333333333,"DCV OnlySmall OffNRVentGasHt",2.1790000000000004E-2,0.5]
[null,null,null,null,null,null,null,null,null,null,null,null,null,"DCV Only","GasHt","Vent","ComEconoMizer","Big Box","NR",3.1119999999999995E-2,0.13333333333333333,"DCV OnlyBig BoxNRVentGasHt",8.5900000000000004E-2,0.15000000000000002]
[null,null,null,null,null,null,null,null,null,null,null,null,null,"DCV Only","GasHt","Vent","ComEconoMizer","Small Box","NR",3.1119999999999995E-2,0.13333333333333333,"DCV OnlySmall BoxNRVentGasHt",8.5900000000000004E-2,0.2]
[null,null,null,null,null,null,null,null,null,null,null,null,null,"DCV Only","GasHt","Vent","ComEconoMizer","High End","NR",1.3599999999999999E-2,0.13333333333333333,"DCV OnlyHigh EndNRVentGasHt",5.2629999999999996E-2,0.35]
[null,null,null,null,null,null,null,null,null,null,null,null,null,"DCV Only","GasHt","Vent","ComEconoMizer","Anchor","NR",1.3599999999999999E-2,0.13333333333333333,"DCV OnlyAnchorNRVentGasHt",5.2629999999999996E-2,0.35]
[null,null,null,null,null,null,null,null,null,null,null,null,null,"DCV Only","GasHt","Vent","ComEconoMizer","K-12","NR",null,0.13333333333333333,"DCV OnlyK-12NRVentGasHt",null,0.5]
[null,null,null,null,null,null,null,null,null,null,null,null,null,"DCV Only","GasHt","Vent","ComEconoMizer","University","NR",null,0.13333333333333333,"DCV OnlyUniversityNRVentGasHt",null,0.5]
[null,null,null,null,null,null,null,null,null,null,null,null,null,"DCV Only","GasHt","Vent","ComEconoMizer","Warehouse","NR",5.0399999999999993E-3,0.13333333333333333,"DCV OnlyWarehouseNRVentGasHt",2.1790000000000004E-2,0.5]
[null,null,null,null,null,null,null,null,null,null,null,null,null,"DCV Only","GasHt","Vent","ComEconoMizer","Supermarket","NR",5.0399999999999993E-3,0.13333333333333333,"DCV OnlySupermarketNRVentGasHt",8.5900000000000004E-2,0.15000000000000002]
[null,null,null,null,null,null,null,null,null,null,null,null,null,"DCV Only","GasHt","Vent","ComEconoMizer","MIniMart","NR",5.0399999999999993E-3,0.13333333333333333,"DCV OnlyMIniMartNRVentGasHt",8.5900000000000004E-2,0.35]
[null,null,null,null,null,null,null,null,null,null,null,null,null,"DCV Only","GasHt","Vent","ComEconoMizer","Restaurant","NR",3.1119999999999995E-2,0.13333333333333333,"DCV OnlyRestaurantNRVentGasHt",8.5900000000000004E-2,0.35]
[null,null,null,null,null,null,null,null,null,null,null,null,null,"DCV Only","GasHt","Vent","ComEconoMizer","Lodging","NR",5.0399999999999993E-3,0.13333333333333333,"DCV OnlyLodgingNRVentGasHt",2.1790000000000004E-2,0.5]
[null,null,null,null,null,null,null,null,null,null,null,null,null,"DCV Only","GasHt","Vent","ComEconoMizer","Hospital","NR",5.0399999999999993E-3,0.13333333333333333,"DCV OnlyHospitalNRVentGasHt",2.1790000000000004E-2,0.5]
[null,null,null,null,null,null,null,null,null,null,null,null,null,"DCV Only","GasHt","Vent","ComEconoMizer","OtherHealth","NR",5.0399999999999993E-3,0.13333333333333333,"DCV OnlyOtherHealthNRVentGasHt",2.1790000000000004E-2,0.5]
[null,null,null,null,null,null,null,null,null,null,null,null,null,"DCV Only","GasHt","Vent","ComEconoMizer","Other","NR",5.0399999999999993E-3,0.13333333333333333,"DCV OnlyOtherNRVentGasHt",2.1790000000000004E-2,0.5]
[null,null,null,null,null,null,null,null,null,null,null,null,null,"DCV Only","HtPmpHt","Vent","ComEconoMizer","Large Off","NR",5.0399999999999993E-3,0.13333333333333333,"DCV OnlyLarge OffNRVentHtPmpHt",null,0.5]
[null,null,null,null,null,null,null,null,null,null,null,null,null,"DCV Only","HtPmpHt","Vent","ComEconoMizer","Medium Off","NR",5.0399999999999993E-3,0.13333333333333333,"DCV OnlyMedium OffNRVentHtPmpHt",null,0.5]
[null,null,null,null,null,null,null,null,null,null,null,null,null,"DCV Only","HtPmpHt","Vent","ComEconoMizer","Small Off","NR",5.0399999999999993E-3,0.13333333333333333,"DCV OnlySmall OffNRVentHtPmpHt",null,0.5]
[null,null,null,null,null,null,null,null,null,null,null,null,null,"DCV Only","HtPmpHt","Vent","ComEconoMizer","Big Box","NR",3.1119999999999995E-2,0.13333333333333333,"DCV OnlyBig BoxNRVentHtPmpHt",null,0.15000000000000002]
[null,null,null,null,null,null,null,null,null,null,null,null,null,"DCV Only","HtPmpHt","Vent","ComEconoMizer","Small Box","NR",3.1119999999999995E-2,0.13333333333333333,"DCV OnlySmall BoxNRVentHtPmpHt",null,0.2]
[null,null,null,null,null,null,null,null,null,null,null,null,null,"DCV Only","HtPmpHt","Vent","ComEconoMizer","High End","NR",1.3599999999999999E-2,0.13333333333333333,"DCV OnlyHigh EndNRVentHtPmpHt",null,0.35]
[null,null,null,null,null,null,null,null,null,null,null,null,null,"DCV Only","HtPmpHt","Vent","ComEconoMizer","Anchor","NR",1.3599999999999999E-2,0.13333333333333333,"DCV OnlyAnchorNRVentHtPmpHt",null,0.35]
[null,null,null,null,null,null,null,null,null,null,null,null,null,"DCV Only","HtPmpHt","Vent","ComEconoMizer","K-12","NR",null,0.13333333333333333,"DCV OnlyK-12NRVentHtPmpHt",null,0.5]
[null,null,null,null,null,null,null,null,null,null,null,null,null,"DCV Only","HtPmpHt","Vent","ComEconoMizer","University","NR",null,0.13333333333333333,"DCV OnlyUniversityNRVentHtPmpHt",null,0.5]
[null,null,null,null,null,null,null,null,null,null,null,null,null,"DCV Only","HtPmpHt","Vent","ComEconoMizer","Warehouse","NR",5.0399999999999993E-3,0.13333333333333333,"DCV OnlyWarehouseNRVentHtPmpHt",null,0.5]
[null,null,null,null,null,null,null,null,null,null,null,null,null,"DCV Only","HtPmpHt","Vent","ComEconoMizer","Supermarket","NR",5.0399999999999993E-3,0.13333333333333333,"DCV OnlySupermarketNRVentHtPmpHt",null,0.15000000000000002]
[null,null,null,null,null,null,null,null,null,null,null,null,null,"DCV Only","HtPmpHt","Vent","ComEconoMizer","MIniMart","NR",5.0399999999999993E-3,0.13333333333333333,"DCV OnlyMIniMartNRVentHtPmpHt",null,0.35]
[null,null,null,null,null,null,null,null,null,null,null,null,null,"DCV Only","HtPmpHt","Vent","ComEconoMizer","Restaurant","NR",3.1119999999999995E-2,0.13333333333333333,"DCV OnlyRestaurantNRVentHtPmpHt",null,0.35]
[null,null,null,null,null,null,null,null,null,null,null,null,null,"DCV Only","HtPmpHt","Vent","ComEconoMizer","Lodging","NR",5.0399999999999993E-3,0.13333333333333333,"DCV OnlyLodgingNRVentHtPmpHt",null,0.5]
[null,null,null,null,null,null,null,null,null,null,null,null,null,"DCV Only","HtPmpHt","Vent","ComEconoMizer","Hospital","NR",5.0399999999999993E-3,0.13333333333333333,"DCV OnlyHospitalNRVentHtPmpHt",null,0.5]
[null,null,null,null,null,null,null,null,null,null,null,null,null,"DCV Only","HtPmpHt","Vent","ComEconoMizer","OtherHealth","NR",5.0399999999999993E-3,0.13333333333333333,"DCV OnlyOtherHealthNRVentHtPmpHt",null,0.5]
[null,null,null,null,null,null,null,null,null,null,null,null,null,"DCV Only","HtPmpHt","Vent","ComEconoMizer","Other","NR",5.0399999999999993E-3,0.13333333333333333,"DCV OnlyOtherNRVentHtPmpHt",null,0.5]
[null,null,null,null,null,null,null,null,null,null,null,null,null,"DCV Only","HtPmpHt","Heat","SmComHP","Large Off","NR",0.24678749319827556,0,"DCV OnlyLarge OffNRHeatHtPmpHt",null,0.5]
[null,null,null,null,null,null,null,null,null,null,null,null,null,"DCV Only","HtPmpHt","Heat","SmComHP","Medium Off","NR",0.24678749319827556,0,"DCV OnlyMedium OffNRHeatHtPmpHt",null,0.5]
[null,null,null,null,null,null,null,null,null,null,null,null,null,"DCV Only","HtPmpHt","Heat","SmComHP","Small Off","NR",0.24678749319827556,0,"DCV OnlySmall OffNRHeatHtPmpHt",null,0.5]
[null,null,null,null,null,null,null,null,null,null,null,null,null,"DCV Only","HtPmpHt","Heat","SmComHP","Big Box","NR",0.9587989898567103,0,"DCV OnlyBig BoxNRHeatHtPmpHt",null,0.15000000000000002]
[null,null,null,null,null,null,null,null,null,null,null,null,null,"DCV Only","HtPmpHt","Heat","SmComHP","Small Box","NR",0.9587989898567103,0,"DCV OnlySmall BoxNRHeatHtPmpHt",null,0.2]
[null,null,null,null,null,null,null,null,null,null,null,null,null,"DCV Only","HtPmpHt","Heat","SmComHP","High End","NR",0.58744576060720211,0,"DCV OnlyHigh EndNRHeatHtPmpHt",null,0.35]
[null,null,null,null,null,null,null,null,null,null,null,null,null,"DCV Only","HtPmpHt","Heat","SmComHP","Anchor","NR",0.58744576060720211,0,"DCV OnlyAnchorNRHeatHtPmpHt",null,0.35]
[null,null,null,null,null,null,null,null,null,null,null,null,null,"DCV Only","HtPmpHt","Heat","SmComHP","K-12","NR",null,0,"DCV OnlyK-12NRHeatHtPmpHt",null,0.5]
[null,null,null,null,null,null,null,null,null,null,null,null,null,"DCV Only","HtPmpHt","Heat","SmComHP","University","NR",null,0,"DCV OnlyUniversityNRHeatHtPmpHt",null,0.5]
[null,null,null,null,null,null,null,null,null,null,null,null,null,"DCV Only","HtPmpHt","Heat","SmComHP","Warehouse","NR",0.24678749319827556,0,"DCV OnlyWarehouseNRHeatHtPmpHt",null,0.5]
[null,null,null,null,null,null,null,null,null,null,null,null,null,"DCV Only","HtPmpHt","Heat","SmComHP","Supermarket","NR",0.9587989898567103,0,"DCV OnlySupermarketNRHeatHtPmpHt",null,0.15000000000000002]
[null,null,null,null,null,null,null,null,null,null,null,null,null,"DCV Only","HtPmpHt","Heat","SmComHP","MIniMart","NR",0.9587989898567103,0,"DCV OnlyMIniMartNRHeatHtPmpHt",null,0.35]
[null,null,null,null,null,null,null,null,null,null,null,null,null,"DCV Only","HtPmpHt","Heat","SmComHP","Restaurant","NR",0.9587989898567103,0,"DCV OnlyRestaurantNRHeatHtPmpHt",null,0.35]
[null,null,null,null,null,null,null,null,null,null,null,null,null,"DCV Only","HtPmpHt","Heat","SmComHP","Lodging","NR",0.24678749319827556,0,"DCV OnlyLodgingNRHeatHtPmpHt",null,0.5]
[null,null,null,null,null,null,null,null,null,null,null,null,null,"DCV Only","HtPmpHt","Heat","SmComHP","Hospital","NR",0.24678749319827556,0,"DCV OnlyHospitalNRHeatHtPmpHt",null,0.5]
[null,null,null,null,null,null,null,null,null,null,null,null,null,"DCV Only","HtPmpHt","Heat","SmComHP","OtherHealth","NR",0.24678749319827556,0,"DCV OnlyOtherHealthNRHeatHtPmpHt",null,0.5]
[null,null,null,null,null,null,null,null,null,null,null,null,null,"DCV Only","HtPmpHt","Heat","SmComHP","Other","NR",0.24678749319827556,0,"DCV OnlyOtherNRHeatHtPmpHt",null,0.5]
[null,null,null,null,null,null,null,null,null,null,null,null,null,"DCV Only","ElecHt","Vent","ComEconoMizer","Large Off","Retro",5.4099999999999999E-3,0.21666666666666667,"DCV OnlyLarge OffRetroVentElecHt",null,0.5]
[null,null,null,null,null,null,null,null,null,null,null,null,null,"DCV Only","ElecHt","Vent","ComEconoMizer","Medium Off","Retro",5.4099999999999999E-3,0.21666666666666667,"DCV OnlyMedium OffRetroVentElecHt",null,0.5]
[null,null,null,null,null,null,null,null,null,null,null,null,null,"DCV Only","ElecHt","Vent","ComEconoMizer","Small Off","Retro",5.4099999999999999E-3,0.21666666666666667,{"$f":"CONCATENATE(N268,R268,S268,P268,O268)","v":"DCV OnlySmall OffRetroVentElecHt"},null,0.5]
[null,null,null,null,null,null,null,null,null,null,null,null,null,"DCV Only","ElecHt","Vent","ComEconoMizer","Big Box","Retro",3.517E-2,0.21666666666666667,"DCV OnlyBig BoxRetroVentElecHt",null,0.15000000000000002]
[null,null,null,null,null,null,null,null,null,null,null,null,null,"DCV Only","ElecHt","Vent","ComEconoMizer","Small Box","Retro",3.517E-2,0.21666666666666667,"DCV OnlySmall BoxRetroVentElecHt",null,0.2]
[null,null,null,null,null,null,null,null,null,null,null,null,null,"DCV Only","ElecHt","Vent","ComEconoMizer","High End","Retro",1.6489999999999998E-2,0.21666666666666667,"DCV OnlyHigh EndRetroVentElecHt",null,0.35]
[null,null,null,null,null,null,null,null,null,null,null,null,null,"DCV Only","ElecHt","Vent","ComEconoMizer","Anchor","Retro",1.6489999999999998E-2,0.21666666666666667,"DCV OnlyAnchorRetroVentElecHt",null,0.35]
[null,null,null,null,null,null,null,null,null,null,null,null,null,"DCV Only","ElecHt","Vent","ComEconoMizer","K-12","Retro",null,0.21666666666666667,"DCV OnlyK-12RetroVentElecHt",null,0.5]
[null,null,null,null,null,null,null,null,null,null,null,null,null,"DCV Only","ElecHt","Vent","ComEconoMizer","University","Retro",null,0.21666666666666667,"DCV OnlyUniversityRetroVentElecHt",null,0.5]
[null,null,null,null,null,null,null,null,null,null,null,null,null,"DCV Only","ElecHt","Vent","ComEconoMizer","Warehouse","Retro",5.4099999999999999E-3,0.21666666666666667,"DCV OnlyWarehouseRetroVentElecHt",null,0.5]
[null,null,null,null,null,null,null,null,null,null,null,null,null,"DCV Only","ElecHt","Vent","ComEconoMizer","Supermarket","Retro",5.4099999999999999E-3,0.21666666666666667,"DCV OnlySupermarketRetroVentElecHt",null,0.15000000000000002]
[null,null,null,null,null,null,null,null,null,null,null,null,null,"DCV Only","ElecHt","Vent","ComEconoMizer","MIniMart","Retro",5.4099999999999999E-3,0.21666666666666667,"DCV OnlyMIniMartRetroVentElecHt",null,0.35]
[null,null,null,null,null,null,null,null,null,null,null,null,null,"DCV Only","ElecHt","Vent","ComEconoMizer","Restaurant","Retro",3.517E-2,0.21666666666666667,"DCV OnlyRestaurantRetroVentElecHt",null,0.35]
[null,null,null,null,null,null,null,null,null,null,null,null,null,"DCV Only","ElecHt","Vent","ComEconoMizer","Lodging","Retro",5.4099999999999999E-3,0.21666666666666667,"DCV OnlyLodgingRetroVentElecHt",null,0.5]
[null,null,null,null,null,null,null,null,null,null,null,null,null,"DCV Only","ElecHt","Vent","ComEconoMizer","Hospital","Retro",5.4099999999999999E-3,0.21666666666666667,"DCV OnlyHospitalRetroVentElecHt",null,0.5]
[null,null,null,null,null,null,null,null,null,null,null,null,null,"DCV Only","ElecHt","Vent","ComEconoMizer","OtherHealth","Retro",5.4099999999999999E-3,0.21666666666666667,"DCV OnlyOtherHealthRetroVentElecHt",null,0.5]
[null,null,null,null,null,null,null,null,null,null,null,null,null,"DCV Only","ElecHt","Vent","ComEconoMizer","Other","Retro",5.4099999999999999E-3,0.21666666666666667,"DCV OnlyOtherRetroVentElecHt",null,0.5]
[null,null,null,null,null,null,null,null,null,null,null,null,null,"DCV Only","ElecHt","Heat","ExCOMM","Large Off","Retro",0.62467037796659819,0,"DCV OnlyLarge OffRetroHeatElecHt",null,0.5]
[null,null,null,null,null,null,null,null,null,null,null,null,null,"DCV Only","ElecHt","Heat","ExCOMM","Medium Off","Retro",0.62467037796659819,0,"DCV OnlyMedium OffRetroHeatElecHt",null,0.5]
[null,null,null,null,null,null,null,null,null,null,null,null,null,"DCV Only","ElecHt","Heat","ExCOMM","Small Off","Retro",0.62467037796659819,0,"DCV OnlySmall OffRetroHeatElecHt",null,0.5]
[null,null,null,null,null,null,null,null,null,null,null,null,null,"DCV Only","ElecHt","Heat","ExCOMM","Big Box","Retro",2.5168473483738647,0,"DCV OnlyBig BoxRetroHeatElecHt",null,0.15000000000000002]
[null,null,null,null,null,null,null,null,null,null,null,null,null,"DCV Only","ElecHt","Heat","ExCOMM","Small Box","Retro",2.5168473483738647,0,"DCV OnlySmall BoxRetroHeatElecHt",null,0.2]
[null,null,null,null,null,null,null,null,null,null,null,null,null,"DCV Only","ElecHt","Heat","ExCOMM","High End","Retro",1.5420451215939057,0,"DCV OnlyHigh EndRetroHeatElecHt",null,0.35]
[null,null,null,null,null,null,null,null,null,null,null,null,null,"DCV Only","ElecHt","Heat","ExCOMM","Anchor","Retro",1.5420451215939057,0,"DCV OnlyAnchorRetroHeatElecHt",null,0.35]
[null,null,null,null,null,null,null,null,null,null,null,null,null,"DCV Only","ElecHt","Heat","ExCOMM","K-12","Retro",null,0,"DCV OnlyK-12RetroHeatElecHt",null,0.5]
[null,null,null,null,null,null,null,null,null,null,null,null,null,"DCV Only","ElecHt","Heat","ExCOMM","University","Retro",null,0,"DCV OnlyUniversityRetroHeatElecHt",null,0.5]
[null,null,null,null,null,null,null,null,null,null,null,null,null,"DCV Only","ElecHt","Heat","ExCOMM","Warehouse","Retro",0.62467037796659819,0,"DCV OnlyWarehouseRetroHeatElecHt",null,0.5]
[null,null,null,null,null,null,null,null,null,null,null,null,null,"DCV Only","ElecHt","Heat","ExCOMM","Supermarket","Retro",2.5168473483738647,0,"DCV OnlySupermarketRetroHeatElecHt",null,0.15000000000000002]
[null,null,null,null,null,null,null,null,null,null,null,null,null,"DCV Only","ElecHt","Heat","ExCOMM","MIniMart","Retro",2.5168473483738647,0,"DCV OnlyMIniMartRetroHeatElecHt",null,0.35]
[null,null,null,null,null,null,null,null,null,null,null,null,null,"DCV Only","ElecHt","Heat","ExCOMM","Restaurant","Retro",2.5168473483738647,0,"DCV OnlyRestaurantRetroHeatElecHt",null,0.35]
[null,null,null,null,null,null,null,null,null,null,null,null,null,"DCV Only","ElecHt","Heat","ExCOMM","Lodging","Retro",0.62467037796659819,0,"DCV OnlyLodgingRetroHeatElecHt",null,0.5]
[null,null,null,null,null,null,null,null,null,null,null,null,null,"DCV Only","ElecHt","Heat","ExCOMM","Hospital","Retro",0.62467037796659819,0,"DCV OnlyHospitalRetroHeatElecHt",null,0.5]
[null,null,null,null,null,null,null,null,null,null,null,null,null,"DCV Only","ElecHt","Heat","ExCOMM","OtherHealth","Retro",0.62467037796659819,0,"DCV OnlyOtherHealthRetroHeatElecHt",null,0.5]
[null,null,null,null,null,null,null,null,null,null,null,null,null,"DCV Only","ElecHt","Heat","ExCOMM","Other","Retro",0.62467037796659819,0,"DCV OnlyOtherRetroHeatElecHt",null,0.5]
[null,null,null,null,null,null,null,null,null,null,null,null,null,"DCV Only","GasHt","Vent","ComEconoMizer","Large Off","Retro",5.4099999999999999E-3,0.21666666666666667,"DCV OnlyLarge OffRetroVentGasHt",2.1319999999999995E-2,0.5]
[null,null,null,null,null,null,null,null,null,null,null,null,null,"DCV Only","GasHt","Vent","ComEconoMizer","Medium Off","Retro",5.4099999999999999E-3,0.21666666666666667,"DCV OnlyMedium OffRetroVentGasHt",2.1319999999999995E-2,0.5]
[null,null,null,null,null,null,null,null,null,null,null,null,null,"DCV Only","GasHt","Vent","ComEconoMizer","Small Off","Retro",5.4099999999999999E-3,0.21666666666666667,"DCV OnlySmall OffRetroVentGasHt",2.1319999999999995E-2,0.5]
[null,null,null,null,null,null,null,null,null,null,null,null,null,"DCV Only","GasHt","Vent","ComEconoMizer","Big Box","Retro",3.517E-2,0.21666666666666667,"DCV OnlyBig BoxRetroVentGasHt",8.5900000000000004E-2,0.15000000000000002]
[null,null,null,null,null,null,null,null,null,null,null,null,null,"DCV Only","GasHt","Vent","ComEconoMizer","Small Box","Retro",3.517E-2,0.21666666666666667,"DCV OnlySmall BoxRetroVentGasHt",8.5900000000000004E-2,0.2]
[null,null,null,null,null,null,null,null,null,null,null,null,null,"DCV Only","GasHt","Vent","ComEconoMizer","High End","Retro",1.6489999999999998E-2,0.21666666666666667,"DCV OnlyHigh EndRetroVentGasHt",5.2629999999999996E-2,0.35]
[null,null,null,null,null,null,null,null,null,null,null,null,null,"DCV Only","GasHt","Vent","ComEconoMizer","Anchor","Retro",1.6489999999999998E-2,0.21666666666666667,"DCV OnlyAnchorRetroVentGasHt",5.2629999999999996E-2,0.35]
[null,null,null,null,null,null,null,null,null,null,null,null,null,"DCV Only","GasHt","Vent","ComEconoMizer","K-12","Retro",null,0.21666666666666667,"DCV OnlyK-12RetroVentGasHt",null,0.5]
[null,null,null,null,null,null,null,null,null,null,null,null,null,"DCV Only","GasHt","Vent","ComEconoMizer","University","Retro",null,0.21666666666666667,"DCV OnlyUniversityRetroVentGasHt",null,0.5]
[null,null,null,null,null,null,null,null,null,null,null,null,null,"DCV Only","GasHt","Vent","ComEconoMizer","Warehouse","Retro",5.4099999999999999E-3,0.21666666666666667,"DCV OnlyWarehouseRetroVentGasHt",2.1319999999999995E-2,0.5]
[null,null,null,null,null,null,null,null,null,null,null,null,null,"DCV Only","GasHt","Vent","ComEconoMizer","Supermarket","Retro",5.4099999999999999E-3,0.21666666666666667,"DCV OnlySupermarketRetroVentGasHt",2.1319999999999995E-2,0.15000000000000002]
[null,null,null,null,null,null,null,null,null,null,null,null,null,"DCV Only","GasHt","Vent","ComEconoMizer","MIniMart","Retro",5.4099999999999999E-3,0.21666666666666667,"DCV OnlyMIniMartRetroVentGasHt",2.1319999999999995E-2,0.35]
[null,null,null,null,null,null,null,null,null,null,null,null,null,"DCV Only","GasHt","Vent","ComEconoMizer","Restaurant","Retro",3.517E-2,0.21666666666666667,"DCV OnlyRestaurantRetroVentGasHt",8.5900000000000004E-2,0.35]
[null,null,null,null,null,null,null,null,null,null,null,null,null,"DCV Only","GasHt","Vent","ComEconoMizer","Lodging","Retro",5.4099999999999999E-3,0.21666666666666667,"DCV OnlyLodgingRetroVentGasHt",2.1319999999999995E-2,0.5]
[null,null,null,null,null,null,null,null,null,null,null,null,null,"DCV Only","GasHt","Vent","ComEconoMizer","Hospital","Retro",5.4099999999999999E-3,0.21666666666666667,"DCV OnlyHospitalRetroVentGasHt",2.1319999999999995E-2,0.5]
[null,null,null,null,null,null,null,null,null,null,null,null,null,"DCV Only","GasHt","Vent","ComEconoMizer","OtherHealth","Retro",5.4099999999999999E-3,0.21666666666666667,"DCV OnlyOtherHealthRetroVentGasHt",2.1319999999999995E-2,0.5]
[null,null,null,null,null,null,null,null,null,null,null,null,null,"DCV Only","GasHt","Vent","ComEconoMizer","Other","Retro",5.4099999999999999E-3,0.21666666666666667,"DCV OnlyOtherRetroVentGasHt",2.1319999999999995E-2,0.5]
[null,null,null,null,null,null,null,null,null,null,null,null,null,"DCV Only","HtPmpHt","Vent","ComEconoMizer","Large Off","Retro",5.4099999999999999E-3,0.21666666666666667,"DCV OnlyLarge OffRetroVentHtPmpHt",null,0.5]
[null,null,null,null,null,null,null,null,null,null,null,null,null,"DCV Only","HtPmpHt","Vent","ComEconoMizer","Medium Off","Retro",5.4099999999999999E-3,0.21666666666666667,"DCV OnlyMedium OffRetroVentHtPmpHt",null,0.5]
[null,null,null,null,null,null,null,null,null,null,null,null,null,"DCV Only","HtPmpHt","Vent","ComEconoMizer","Small Off","Retro",5.4099999999999999E-3,0.21666666666666667,"DCV OnlySmall OffRetroVentHtPmpHt",null,0.5]
[null,null,null,null,null,null,null,null,null,null,null,null,null,"DCV Only","HtPmpHt","Vent","ComEconoMizer","Big Box","Retro",3.517E-2,0.21666666666666667,"DCV OnlyBig BoxRetroVentHtPmpHt",null,0.15000000000000002]
[null,null,null,null,null,null,null,null,null,null,null,null,null,"DCV Only","HtPmpHt","Vent","ComEconoMizer","Small Box","Retro",3.517E-2,0.21666666666666667,"DCV OnlySmall BoxRetroVentHtPmpHt",null,0.2]
[null,null,null,null,null,null,null,null,null,null,null,null,null,"DCV Only","HtPmpHt","Vent","ComEconoMizer","High End","Retro",1.6489999999999998E-2,0.21666666666666667,"DCV OnlyHigh EndRetroVentHtPmpHt",null,0.35]
[null,null,null,null,null,null,null,null,null,null,null,null,null,"DCV Only","HtPmpHt","Vent","ComEconoMizer","Anchor","Retro",1.6489999999999998E-2,0.21666666666666667,"DCV OnlyAnchorRetroVentHtPmpHt",null,0.35]
[null,null,null,null,null,null,null,null,null,null,null,null,null,"DCV Only","HtPmpHt","Vent","ComEconoMizer","K-12","Retro",null,0.21666666666666667,"DCV OnlyK-12RetroVentHtPmpHt",null,0.5]
[null,null,null,null,null,null,null,null,null,null,null,null,null,"DCV Only","HtPmpHt","Vent","ComEconoMizer","University","Retro",null,0.21666666666666667,"DCV OnlyUniversityRetroVentHtPmpHt",null,0.5]
[null,null,null,null,null,null,null,null,null,null,null,null,null,"DCV Only","HtPmpHt","Vent","ComEconoMizer","Warehouse","Retro",5.4099999999999999E-3,0.21666666666666667,"DCV OnlyWarehouseRetroVentHtPmpHt",null,0.5]
[null,null,null,null,null,null,null,null,null,null,null,null,null,"DCV Only","HtPmpHt","Vent","ComEconoMizer","Supermarket","Retro",5.4099999999999999E-3,0.21666666666666667,"DCV OnlySupermarketRetroVentHtPmpHt",null,0.15000000000000002]
[null,null,null,null,null,null,null,null,null,null,null,null,null,"DCV Only","HtPmpHt","Vent","ComEconoMizer","MIniMart","Retro",5.4099999999999999E-3,0.21666666666666667,"DCV OnlyMIniMartRetroVentHtPmpHt",null,0.35]
[null,null,null,null,null,null,null,null,null,null,null,null,null,"DCV Only","HtPmpHt","Vent","ComEconoMizer","Restaurant","Retro",3.517E-2,0.21666666666666667,"DCV OnlyRestaurantRetroVentHtPmpHt",null,0.35]
[null,null,null,null,null,null,null,null,null,null,null,null,null,"DCV Only","HtPmpHt","Vent","ComEconoMizer","Lodging","Retro",5.4099999999999999E-3,0.21666666666666667,"DCV OnlyLodgingRetroVentHtPmpHt",null,0.5]
[null,null,null,null,null,null,null,null,null,null,null,null,null,"DCV Only","HtPmpHt","Vent","ComEconoMizer","Hospital","Retro",5.4099999999999999E-3,0.21666666666666667,"DCV OnlyHospitalRetroVentHtPmpHt",null,0.5]
[null,null,null,null,null,null,null,null,null,null,null,null,null,"DCV Only","HtPmpHt","Vent","ComEconoMizer","OtherHealth","Retro",5.4099999999999999E-3,0.21666666666666667,{"$f":"CONCATENATE(N332,R332,S332,P332,O332)","v":"DCV OnlyOtherHealthRetroVentHtPmpHt"},null,0.5]
[null,null,null,null,null,null,null,null,null,null,null,null,null,"DCV Only","HtPmpHt","Vent","ComEconoMizer","Other","Retro",5.4099999999999999E-3,0.21666666666666667,"DCV OnlyOtherRetroVentHtPmpHt",null,0.5]
[null,null,null,null,null,null,null,null,null,null,null,null,null,"DCV Only","HtPmpHt","Heat","SmComHP","Large Off","Retro",0.29746208474599911,0,"DCV OnlyLarge OffRetroHeatHtPmpHt",null,0.5]
[null,null,null,null,null,null,null,null,null,null,null,null,null,"DCV Only","HtPmpHt","Heat","SmComHP","Medium Off","Retro",0.29746208474599911,0,"DCV OnlyMedium OffRetroHeatHtPmpHt",null,0.5]
[null,null,null,null,null,null,null,null,null,null,null,null,null,"DCV Only","HtPmpHt","Heat","SmComHP","Small Off","Retro",0.29746208474599911,0,"DCV OnlySmall OffRetroHeatHtPmpHt",null,0.5]
[null,null,null,null,null,null,null,null,null,null,null,null,null,"DCV Only","HtPmpHt","Heat","SmComHP","Big Box","Retro",1.198498737320888,0,"DCV OnlyBig BoxRetroHeatHtPmpHt",null,0.15000000000000002]
[null,null,null,null,null,null,null,null,null,null,null,null,null,"DCV Only","HtPmpHt","Heat","SmComHP","Small Box","Retro",1.198498737320888,0,"DCV OnlySmall BoxRetroHeatHtPmpHt",null,0.2]
[null,null,null,null,null,null,null,null,null,null,null,null,null,"DCV Only","HtPmpHt","Heat","SmComHP","High End","Retro",0.73430720075900269,0,"DCV OnlyHigh EndRetroHeatHtPmpHt",null,0.35]
[null,null,null,null,null,null,null,null,null,null,null,null,null,"DCV Only","HtPmpHt","Heat","SmComHP","Anchor","Retro",0.73430720075900269,0,"DCV OnlyAnchorRetroHeatHtPmpHt",null,0.35]
[null,null,null,null,null,null,null,null,null,null,null,null,null,"DCV Only","HtPmpHt","Heat","SmComHP","K-12","Retro",null,0,"DCV OnlyK-12RetroHeatHtPmpHt",null,0.5]
[null,null,null,null,null,null,null,null,null,null,null,null,null,"DCV Only","HtPmpHt","Heat","SmComHP","University","Retro",null,0,"DCV OnlyUniversityRetroHeatHtPmpHt",null,0.5]
[null,null,null,null,null,null,null,null,null,null,null,null,null,"DCV Only","HtPmpHt","Heat","SmComHP","Warehouse","Retro",0.29746208474599911,0,"DCV OnlyWarehouseRetroHeatHtPmpHt",null,0.5]
[null,null,null,null,null,null,null,null,null,null,null,null,null,"DCV Only","HtPmpHt","Heat","SmComHP","Supermarket","Retro",1.198498737320888,0,"DCV OnlySupermarketRetroHeatHtPmpHt",null,0.15000000000000002]
[null,null,null,null,null,null,null,null,null,null,null,null,null,"DCV Only","HtPmpHt","Heat","SmComHP","MIniMart","Retro",1.198498737320888,0,"DCV OnlyMIniMartRetroHeatHtPmpHt",null,0.35]
[null,null,null,null,null,null,null,null,null,null,null,null,null,"DCV Only","HtPmpHt","Heat","SmComHP","Restaurant","Retro",1.198498737320888,0,"DCV OnlyRestaurantRetroHeatHtPmpHt",null,0.35]
[null,null,null,null,null,null,null,null,null,null,null,null,null,"DCV Only","HtPmpHt","Heat","SmComHP","Lodging","Retro",0.29746208474599911,0,"DCV OnlyLodgingRetroHeatHtPmpHt",null,0.5]
[null,null,null,null,null,null,null,null,null,null,null,null,null,"DCV Only","HtPmpHt","Heat","SmComHP","Hospital","Retro",0.29746208474599911,0,"DCV OnlyHospitalRetroHeatHtPmpHt",null,0.5]
[null,null,null,null,null,null,null,null,null,null,null,null,null,"DCV Only","HtPmpHt","Heat","SmComHP","OtherHealth","Retro",0.29746208474599911,0,"DCV OnlyOtherHealthRetroHeatHtPmpHt",null,0.5]
[null,null,null,null,null,null,null,null,null,null,null,null,null,"DCV Only","HtPmpHt","Heat","SmComHP","Other","Retro",0.29746208474599911,0,"DCV OnlyOtherRetroHeatHtPmpHt",null,0.5]
[null,null,null,null,null,null,null,null,null,null,null,null,null,"DOAS","ElecHt","Vent","SmComCAC","Large Off","Retro",0.55136399829497051,0.6472,"DOASLarge OffRetroVentElecHt",null,0]
[null,null,null,null,null,null,null,null,null,null,null,null,null,"DOAS","ElecHt","Vent","SmComCAC","Medium Off","Retro",0.55136399829497051,0.6472,"DOASMedium OffRetroVentElecHt",null,0]
[null,null,null,null,null,null,null,null,null,null,null,null,null,"DOAS","ElecHt","Vent","SmComCAC","Small Off","Retro",0.55136399829497051,0.6472,"DOASSmall OffRetroVentElecHt",null,0]
[null,null,null,null,null,null,null,null,null,null,null,null,null,"DOAS","ElecHt","Vent","SmComCAC","Big Box","Retro",0.60512399829497054,0.6472,"DOASBig BoxRetroVentElecHt",null,0.7]
[null,null,null,null,null,null,null,null,null,null,null,null,null,"DOAS","ElecHt","Vent","SmComCAC","Small Box","Retro",0.60512399829497054,0.6472,"DOASSmall BoxRetroVentElecHt",null,0.6]
[null,null,null,null,null,null,null,null,null,null,null,null,null,"DOAS","ElecHt","Vent","SmComCAC","High End","Retro",0.5747639982949706,0.6472,"DOASHigh EndRetroVentElecHt",null,0.3]
[null,null,null,null,null,null,null,null,null,null,null,null,null,"DOAS","ElecHt","Vent","SmComCAC","Anchor","Retro",0.5747639982949706,0.6472,"DOASAnchorRetroVentElecHt",null,0.3]
[null,null,null,null,null,null,null,null,null,null,null,null,null,"DOAS","ElecHt","Vent","SmComCAC","K-12","Retro",0.55136399829497051,0.6472,"DOASK-12RetroVentElecHt",null,0]
[null,null,null,null,null,null,null,null,null,null,null,null,null,"DOAS","ElecHt","Vent","SmComCAC","University","Retro",0.55136399829497051,0.6472,"DOASUniversityRetroVentElecHt",null,0]
[null,null,null,null,null,null,null,null,null,null,null,null,null,"DOAS","ElecHt","Vent","SmComCAC","Warehouse","Retro",0.55136399829497051,0.6472,"DOASWarehouseRetroVentElecHt",null,0]
[null,null,null,null,null,null,null,null,null,null,null,null,null,"DOAS","ElecHt","Vent","SmComCAC","Supermarket","Retro",0.60512399829497054,0.6472,"DOASSupermarketRetroVentElecHt",null,0.7]
[null,null,null,null,null,null,null,null,null,null,null,null,null,"DOAS","ElecHt","Vent","SmComCAC","MIniMart","Retro",0.60512399829497054,0.6472,"DOASMIniMartRetroVentElecHt",null,0.3]
[null,null,null,null,null,null,null,null,null,null,null,null,null,"DOAS","ElecHt","Vent","SmComCAC","Restaurant","Retro",0.60512399829497054,0.6472,"DOASRestaurantRetroVentElecHt",null,0.3]
[null,null,null,null,null,null,null,null,null,null,null,null,null,"DOAS","ElecHt","Vent","SmComCAC","Lodging","Retro",0.55136399829497051,0.6472,"DOASLodgingRetroVentElecHt",null,0]
[null,null,null,null,null,null,null,null,null,null,null,null,null,"DOAS","ElecHt","Vent","SmComCAC","Hospital","Retro",0.55136399829497051,0.6472,"DOASHospitalRetroVentElecHt",null,0]
[null,null,null,null,null,null,null,null,null,null,null,null,null,"DOAS","ElecHt","Vent","SmComCAC","OtherHealth","Retro",0.55136399829497051,0.6472,"DOASOtherHealthRetroVentElecHt",null,0]
[null,null,null,null,null,null,null,null,null,null,null,null,null,"DOAS","ElecHt","Vent","SmComCAC","Other","Retro",0.55136399829497051,0,"DOASOtherRetroVentElecHt",null,0]
[null,null,null,null,null,null,null,null,null,null,null,null,null,"DOAS","ElecHt","Heat","ExCOMM","Large Off","Retro",1.7782009961910343,0,"DOASLarge OffRetroHeatElecHt",null,0]
[null,null,null,null,null,null,null,null,null,null,null,null,null,"DOAS","ElecHt","Heat","ExCOMM","Medium Off","Retro",1.7782009961910343,0,"DOASMedium OffRetroHeatElecHt",null,0]
[null,null,null,null,null,null,null,null,null,null,null,null,null,"DOAS","ElecHt","Heat","ExCOMM","Small Off","Retro",1.7782009961910343,0,"DOASSmall OffRetroHeatElecHt",null,0]
[null,null,null,null,null,null,null,null,null,null,null,null,null,"DOAS","ElecHt","Heat","ExCOMM","Big Box","Retro",4.0764723117491943,0,"DOASBig BoxRetroHeatElecHt",null,0.7]
[null,null,null,null,null,null,null,null,null,null,null,null,null,"DOAS","ElecHt","Heat","ExCOMM","Small Box","Retro",4.0764723117491943,0,"DOASSmall BoxRetroHeatElecHt",null,0.6]
[null,null,null,null,null,null,null,null,null,null,null,null,null,"DOAS","ElecHt","Heat","ExCOMM","High End","Retro",1.9900380896571932,0,"DOASHigh EndRetroHeatElecHt",null,0.3]
[null,null,null,null,null,null,null,null,null,null,null,null,null,"DOAS","ElecHt","Heat","ExCOMM","Anchor","Retro",1.9900380896571932,0,"DOASAnchorRetroHeatElecHt",null,0.3]
[null,null,null,null,null,null,null,null,null,null,null,null,null,"DOAS","ElecHt","Heat","ExCOMM","K-12","Retro",1.7782009961910343,0,"DOASK-12RetroHeatElecHt",null,0]
[null,null,null,null,null,null,null,null,null,null,null,null,null,"DOAS","ElecHt","Heat","ExCOMM","University","Retro",1.7782009961910343,0,"DOASUniversityRetroHeatElecHt",null,0]
[null,null,null,null,null,null,null,null,null,null,null,null,null,"DOAS","ElecHt","Heat","ExCOMM","Warehouse","Retro",1.7782009961910343,0,"DOASWarehouseRetroHeatElecHt",null,0]
[null,null,null,null,null,null,null,null,null,null,null,null,null,"DOAS","ElecHt","Heat","ExCOMM","Supermarket","Retro",4.0764723117491943,0,"DOASSupermarketRetroHeatElecHt",null,0.7]
[null,null,null,null,null,null,null,null,null,null,null,null,null,"DOAS","ElecHt","Heat","ExCOMM","MIniMart","Retro",4.0764723117491943,0,"DOASMIniMartRetroHeatElecHt",null,0.3]
[null,null,null,null,null,null,null,null,null,null,null,null,null,"DOAS","ElecHt","Heat","ExCOMM","Restaurant","Retro",4.0764723117491943,0,"DOASRestaurantRetroHeatElecHt",null,0.3]
[null,null,null,null,null,null,null,null,null,null,null,null,null,"DOAS","ElecHt","Heat","ExCOMM","Lodging","Retro",1.7782009961910343,0,"DOASLodgingRetroHeatElecHt",null,0]
[null,null,null,null,null,null,null,null,null,null,null,null,null,"DOAS","ElecHt","Heat","ExCOMM","Hospital","Retro",1.7782009961910343,0,"DOASHospitalRetroHeatElecHt",null,0]
[null,null,null,null,null,null,null,null,null,null,null,null,null,"DOAS","ElecHt","Heat","ExCOMM","OtherHealth","Retro",1.7782009961910343,0,"DOASOtherHealthRetroHeatElecHt",null,0]
[null,null,null,null,null,null,null,null,null,null,null,null,null,"DOAS","ElecHt","Heat","ExCOMM","Other","Retro",1.7782009961910343,0,"DOASOtherRetroHeatElecHt",null,0]
[null,null,null,null,null,null,null,null,null,null,null,null,null,"DOAS","GasHt","Vent","SmComCAC","Large Off","Retro",0.55136399829497051,0.6472,"DOASLarge OffRetroVentGasHt",6.0690000000000001E-2,0]
[null,null,null,null,null,null,null,null,null,null,null,null,null,"DOAS","GasHt","Vent","SmComCAC","Medium Off","Retro",0.55136399829497051,0.6472,"DOASMedium OffRetroVentGasHt",6.0690000000000001E-2,0]
[null,null,null,null,null,null,null,null,null,null,null,null,null,"DOAS","GasHt","Vent","SmComCAC","Small Off","Retro",0.55136399829497051,0.6472,"DOASSmall OffRetroVentGasHt",6.0690000000000001E-2,0]
[null,null,null,null,null,null,null,null,null,null,null,null,null,"DOAS","GasHt","Vent","SmComCAC","Big Box","Retro",0.60512399829497054,0.6472,"DOASBig BoxRetroVentGasHt",0.13913,0.7]
[null,null,null,null,null,null,null,null,null,null,null,null,null,"DOAS","GasHt","Vent","SmComCAC","Small Box","Retro",0.60512399829497054,0.6472,"DOASSmall BoxRetroVentGasHt",0.13913,0.6]
[null,null,null,null,null,null,null,null,null,null,null,null,null,"DOAS","GasHt","Vent","SmComCAC","High End","Retro",0.5747639982949706,0.6472,"DOASHigh EndRetroVentGasHt",6.7919999999999994E-2,0.3]
[null,null,null,null,null,null,null,null,null,null,null,null,null,"DOAS","GasHt","Vent","SmComCAC","Anchor","Retro",0.5747639982949706,0.6472,"DOASAnchorRetroVentGasHt",6.7919999999999994E-2,0.3]
[null,null,null,null,null,null,null,null,null,null,null,null,null,"DOAS","GasHt","Vent","SmComCAC","K-12","Retro",0.55136399829497051,0.6472,"DOASK-12RetroVentGasHt",null,0]
[null,null,null,null,null,null,null,null,null,null,null,null,null,"DOAS","GasHt","Vent","SmComCAC","University","Retro",0.55136399829497051,0.6472,"DOASUniversityRetroVentGasHt",null,0]
[null,null,null,null,null,null,null,null,null,null,null,null,null,"DOAS","GasHt","Vent","SmComCAC","Warehouse","Retro",0.55136399829497051,0.6472,"DOASWarehouseRetroVentGasHt",6.0690000000000001E-2,0]
[null,null,null,null,null,null,null,null,null,null,null,null,null,"DOAS","GasHt","Vent","SmComCAC","Supermarket","Retro",0.60512399829497054,0.6472,"DOASSupermarketRetroVentGasHt",6.0690000000000001E-2,0.7]
[null,null,null,null,null,null,null,null,null,null,null,null,null,"DOAS","GasHt","Vent","SmComCAC","MIniMart","Retro",0.60512399829497054,0.6472,{"$f":"CONCATENATE(N396,R396,S396,P396,O396)","v":"DOASMIniMartRetroVentGasHt"},6.0690000000000001E-2,0.3]
[null,null,null,null,null,null,null,null,null,null,null,null,null,"DOAS","GasHt","Vent","SmComCAC","Restaurant","Retro",0.60512399829497054,0.6472,"DOASRestaurantRetroVentGasHt",0.13913,0.3]
[null,null,null,null,null,null,null,null,null,null,null,null,null,"DOAS","GasHt","Vent","SmComCAC","Lodging","Retro",0.55136399829497051,0.6472,"DOASLodgingRetroVentGasHt",6.0690000000000001E-2,0]
[null,null,null,null,null,null,null,null,null,null,null,null,null,"DOAS","GasHt","Vent","SmComCAC","Hospital","Retro",0.55136399829497051,0.6472,"DOASHospitalRetroVentGasHt",6.0690000000000001E-2,0]
[null,null,null,null,null,null,null,null,null,null,null,null,null,"DOAS","GasHt","Vent","SmComCAC","OtherHealth","Retro",0.55136399829497051,0.6472,"DOASOtherHealthRetroVentGasHt",6.0690000000000001E-2,0]
[null,null,null,null,null,null,null,null,null,null,null,null,null,"DOAS","GasHt","Vent","SmComCAC","Other","Retro",0.55136399829497051,0.6472,"DOASOtherRetroVentGasHt",6.0690000000000001E-2,0]
[null,null,null,null,null,null,null,null,null,null,null,null,null,"DOAS","HtPmpHt","Vent","SmComHP","Large Off","Retro",0.55136399829497051,0.6472,"DOASLarge OffRetroVentHtPmpHt",null,0]
[null,null,null,null,null,null,null,null,null,null,null,null,null,"DOAS","HtPmpHt","Vent","SmComHP","Medium Off","Retro",0.55136399829497051,0.6472,"DOASMedium OffRetroVentHtPmpHt",null,0]
[null,null,null,null,null,null,null,null,null,null,null,null,null,"DOAS","HtPmpHt","Vent","SmComHP","Small Off","Retro",0.55136399829497051,0.6472,"DOASSmall OffRetroVentHtPmpHt",null,0]
[null,null,null,null,null,null,null,null,null,null,null,null,null,"DOAS","HtPmpHt","Vent","SmComHP","Big Box","Retro",0.60512399829497054,0.6472,"DOASBig BoxRetroVentHtPmpHt",null,0.7]
[null,null,null,null,null,null,null,null,null,null,null,null,null,"DOAS","HtPmpHt","Vent","SmComHP","Small Box","Retro",0.60512399829497054,0.6472,"DOASSmall BoxRetroVentHtPmpHt",null,0.6]
[null,null,null,null,null,null,null,null,null,null,null,null,null,"DOAS","HtPmpHt","Vent","SmComHP","High End","Retro",0.5747639982949706,0.6472,"DOASHigh EndRetroVentHtPmpHt",null,0.3]
[null,null,null,null,null,null,null,null,null,null,null,null,null,"DOAS","HtPmpHt","Vent","SmComHP","Anchor","Retro",0.5747639982949706,0.6472,"DOASAnchorRetroVentHtPmpHt",null,0.3]
[null,null,null,null,null,null,null,null,null,null,null,null,null,"DOAS","HtPmpHt","Vent","SmComHP","K-12","Retro",0.55136399829497051,0.6472,"DOASK-12RetroVentHtPmpHt",null,0]
[null,null,null,null,null,null,null,null,null,null,null,null,null,"DOAS","HtPmpHt","Vent","SmComHP","University","Retro",0.55136399829497051,0.6472,"DOASUniversityRetroVentHtPmpHt",null,0]
[null,null,null,null,null,null,null,null,null,null,null,null,null,"DOAS","HtPmpHt","Vent","SmComHP","Warehouse","Retro",0.55136399829497051,0.6472,"DOASWarehouseRetroVentHtPmpHt",null,0]
[null,null,null,null,null,null,null,null,null,null,null,null,null,"DOAS","HtPmpHt","Vent","SmComHP","Supermarket","Retro",0.60512399829497054,0.6472,"DOASSupermarketRetroVentHtPmpHt",null,0.7]
[null,null,null,null,null,null,null,null,null,null,null,null,null,"DOAS","HtPmpHt","Vent","SmComHP","MIniMart","Retro",0.60512399829497054,0.6472,"DOASMIniMartRetroVentHtPmpHt",null,0.3]
[null,null,null,null,null,null,null,null,null,null,null,null,null,"DOAS","HtPmpHt","Vent","SmComHP","Restaurant","Retro",0.60512399829497054,0.6472,"DOASRestaurantRetroVentHtPmpHt",null,0.3]
[null,null,null,null,null,null,null,null,null,null,null,null,null,"DOAS","HtPmpHt","Vent","SmComHP","Lodging","Retro",0.55136399829497051,0.6472,"DOASLodgingRetroVentHtPmpHt",null,0]
[null,null,null,null,null,null,null,null,null,null,null,null,null,"DOAS","HtPmpHt","Vent","SmComHP","Hospital","Retro",0.55136399829497051,0.6472,"DOASHospitalRetroVentHtPmpHt",null,0]
[null,null,null,null,null,null,null,null,null,null,null,null,null,"DOAS","HtPmpHt","Vent","SmComHP","OtherHealth","Retro",0.55136399829497051,0.6472,"DOASOtherHealthRetroVentHtPmpHt",null,0]
[null,null,null,null,null,null,null,null,null,null,null,null,null,"DOAS","HtPmpHt","Vent","SmComHP","Other","Retro",0.55136399829497051,0,"DOASOtherRetroVentHtPmpHt",null,0]
[null,null,null,null,null,null,null,null,null,null,null,null,null,"DOAS","HtPmpHt","Heat","SmComHP","Large Off","Retro",0.84676237913858776,0,"DOASLarge OffRetroHeatHtPmpHt",null,0]
[null,null,null,null,null,null,null,null,null,null,null,null,null,"DOAS","HtPmpHt","Heat","SmComHP","Medium Off","Retro",0.84676237913858776,0,"DOASMedium OffRetroHeatHtPmpHt",null,0]
[null,null,null,null,null,null,null,null,null,null,null,null,null,"DOAS","HtPmpHt","Heat","SmComHP","Small Off","Retro",0.84676237913858776,0,"DOASSmall OffRetroHeatHtPmpHt",null,0]
[null,null,null,null,null,null,null,null,null,null,null,null,null,"DOAS","HtPmpHt","Heat","SmComHP","Big Box","Retro",1.9411772913091401,0,"DOASBig BoxRetroHeatHtPmpHt",null,0.7]
[null,null,null,null,null,null,null,null,null,null,null,null,null,"DOAS","HtPmpHt","Heat","SmComHP","Small Box","Retro",1.9411772913091401,0,"DOASSmall BoxRetroHeatHtPmpHt",null,0.6]
[null,null,null,null,null,null,null,null,null,null,null,null,null,"DOAS","HtPmpHt","Heat","SmComHP","High End","Retro",0.94763718555104437,0,"DOASHigh EndRetroHeatHtPmpHt",null,0.3]
[null,null,null,null,null,null,null,null,null,null,null,null,null,"DOAS","HtPmpHt","Heat","SmComHP","Anchor","Retro",0.94763718555104437,0,"DOASAnchorRetroHeatHtPmpHt",null,0.3]
[null,null,null,null,null,null,null,null,null,null,null,null,null,"DOAS","HtPmpHt","Heat","SmComHP","K-12","Retro",0.84676237913858776,0,"DOASK-12RetroHeatHtPmpHt",null,0]
[null,null,null,null,null,null,null,null,null,null,null,null,null,"DOAS","HtPmpHt","Heat","SmComHP","University","Retro",0.84676237913858776,0,"DOASUniversityRetroHeatHtPmpHt",null,0]
[null,null,null,null,null,null,null,null,null,null,null,null,null,"DOAS","HtPmpHt","Heat","SmComHP","Warehouse","Retro",0.84676237913858776,0,"DOASWarehouseRetroHeatHtPmpHt",null,0]
[null,null,null,null,null,null,null,null,null,null,null,null,null,"DOAS","HtPmpHt","Heat","SmComHP","Supermarket","Retro",1.9411772913091401,0,"DOASSupermarketRetroHeatHtPmpHt",null,0.7]
[null,null,null,null,null,null,null,null,null,null,null,null,null,"DOAS","HtPmpHt","Heat","SmComHP","MIniMart","Retro",1.9411772913091401,0,"DOASMIniMartRetroHeatHtPmpHt",null,0.3]
[null,null,null,null,null,null,null,null,null,null,null,null,null,"DOAS","HtPmpHt","Heat","SmComHP","Restaurant","Retro",1.9411772913091401,0,"DOASRestaurantRetroHeatHtPmpHt",null,0.3]
[null,null,null,null,null,null,null,null,null,null,null,null,null,"DOAS","HtPmpHt","Heat","SmComHP","Lodging","Retro",0.84676237913858776,0,"DOASLodgingRetroHeatHtPmpHt",null,0]
[null,null,null,null,null,null,null,null,null,null,null,null,null,"DOAS","HtPmpHt","Heat","SmComHP","Hospital","Retro",0.84676237913858776,0,"DOASHospitalRetroHeatHtPmpHt",null,0]
[null,null,null,null,null,null,null,null,null,null,null,null,null,"DOAS","HtPmpHt","Heat","SmComHP","OtherHealth","Retro",0.84676237913858776,0,"DOASOtherHealthRetroHeatHtPmpHt",null,0]
[null,null,null,null,null,null,null,null,null,null,null,null,null,"DOAS","HtPmpHt","Heat","SmComHP","Other","Retro",0.84676237913858776,0,"DOASOtherRetroHeatHtPmpHt",null,0]

{"sheet":"Costs","index":10,"n_rows":24,"n_cols":4,"rows_kept":24,"cut":false,"hidden":false,"merged":[]}
["Cost - Directly from the 6P workbook.  Converted from 2006 to 2012$"]
[]
[]
[null,"Cost inflator 2006 to 2012",1.107352410306802]
[]
[null,null,"$/sf (2006$)","$/sf (2012$)"]
["DCV Only","Retro",{"$f":"'Savings Retro'!E11","v":0.21666666666666667},{"$f":"$C$4*C7","v":0.23992635556647376}]
["DCV Only","New",{"$f":"'Savings New'!E11","v":0.13333333333333333},{"$f":"$C$4*C8","v":0.14764698804090692}]
["DOAS","Retro",{"$f":"'Savings Fleet'!J21","v":0.6472},{"$f":"$C$4*C9","v":0.71667847995056222}]
["DOAS","New",{"$f":"'Savings Fleet'!J20","v":0.59720000000000006},{"$f":"$C$4*C10","v":0.66131085943522216}]
[]
[]
[{"$f":"CONCATENATE(A7,B7,\"Vent\")","v":"DCV OnlyRetroVent"},{"$f":"D7","v":0.23992635556647376}]
[{"$f":"CONCATENATE(A8,B8,\"Vent\")","v":"DCV OnlyNewVent"},{"$f":"D8","v":0.14764698804090692}]
[{"$f":"CONCATENATE(A9,B9,\"Vent\")","v":"DOASRetroVent"},{"$f":"D9","v":0.71667847995056222}]
[{"$f":"CONCATENATE(A10,B10,\"Vent\")","v":"DOASNewVent"},{"$f":"D10","v":0.66131085943522216}]
[{"$f":"CONCATENATE(A7&B7,\"Heat\")","v":"DCV OnlyRetroHeat"},0]
[{"$f":"CONCATENATE(A8&B8,\"Heat\")","v":"DCV OnlyNewHeat"},0]
[{"$f":"CONCATENATE(A9&B9,\"Heat\")","v":"DOASRetroHeat"},0]
[{"$f":"CONCATENATE(A10&B10,\"Heat\")","v":"DOASNewHeat"},0]
[{"$f":"CONCATENATE(A7&\"NR\",\"vent\")","v":"DCV OnlyNRvent"},{"$f":"B14","v":0.14764698804090692}]
[{"$f":"CONCATENATE(A8&\"NR\",\"Heat\")","v":"DCV OnlyNRHeat"},0]
[{"$f":"CONCATENATE(A9&\"NR\",\"Heat\")","v":"DOASNRHeat"},0]
[{"$f":"CONCATENATE(A10&\"NR\",\"vent\")","v":"DOASNRvent"},{"$f":"D10","v":0.66131085943522216}]

{"sheet":"Savings Retro","index":11,"n_rows":93,"n_cols":26,"rows_kept":93,"cut":false,"hidden":false,"merged":[[6,20,6,22],[6,23,6,25],[7,5,7,7],[7,8,7,9],[7,15,7,17],[7,18,7,19]]}
["Simulation Run Aggragation",null,"Simulation Results - Single zone roof top DCV and HR "]
[]
[]
[]
[]
[null,null,"Cooling Savings",null,null,null,null,null,null,null,null,null,null,"Heat Savings"]
[null,null,null,null,null,null,null,null,null,null,null,null,null,null,null,null,null,null,null,null,"Electric (kWh/sf)",null,null,"HP (kWh/sf)"]
[null,null,null,null,null,"Small Office",null,null,"Small Retail",null,null,null,null,null,null,"Small Office",null,null,"Small Retail",null,"Sm.Off","Sm. Ret.","Sm. Ret.","Sm.Off","Sm. Ret.","Sm. Ret."]
[null,null,null,null,null,"lpd - 1.2","lpd - 1.35","lpd - 1.5","lpd - 1.42","lpd - 3.04",null,null,null,null,null,"lpd - 1.2","lpd - 1.35","lpd - 1.5","lpd - 1.42","lpd - 3.04","lpd - 1.35","lpd - 1.42","lpd - 3.04","lpd - 1.35","lpd - 1.42","lpd - 3.04"]
[null,null,"DCV Electric Savings (kWh/sf) DCV - Code Ventilation - Retrofit",null,null,null,null,null,null,null,null,null,null,"DCV Gas Savings (kBtu/sf) DCV - Code Ventilation - Retrofit"]
[null,null,{"$f":"SUM(C13:C16)","v":0.99999999999999989},"Region",{"$f":"650/3000","v":0.21666666666666667},{"$f":"SUMPRODUCT($C$13:$C$16,F13:F16)","v":5.4099999999999999E-3},{"$f":"SUMPRODUCT($C$13:$C$16,G13:G16)","v":5.4099999999999999E-3},{"$f":"SUMPRODUCT($C$13:$C$16,H13:H16)","v":5.8599999999999998E-3},{"$f":"SUMPRODUCT($C$13:$C$16,I13:I16)","v":3.517E-2},{"$f":"SUMPRODUCT($C$13:$C$16,J13:J16)","v":1.6489999999999998E-2},null,null,null,null,"Region",{"$f":"SUMPRODUCT($C$13:$C$16,P13:P16)","v":2.1790000000000003},{"$f":"SUMPRODUCT($C$13:$C$16,Q13:Q16)","v":2.1319999999999997},{"$f":"SUMPRODUCT($C$13:$C$16,R13:R16)","v":2.0869999999999997},{"$f":"SUMPRODUCT($C$13:$C$16,S13:S16)","v":8.59},{"$f":"SUMPRODUCT($C$13:$C$16,T13:T16)","v":5.2629999999999999},{"$f":"Q11/3.413","v":0.62467037796659819},{"$f":"S11/3.413","v":2.5168473483738647},{"$f":"T11/3.413","v":1.5420451215939057},{"$f":"U11/2.1","v":0.29746208474599911},{"$f":"V11/2.1","v":1.198498737320888},{"$f":"W11/2.1","v":0.73430720075900269}]
[null,null,"City Multipliers"]
[null,null,0.21,"  Boise",{"$f":"E11","v":0.21666666666666667},{"$f":"F40","v":1.4E-2},{"$f":"G40","v":1.4E-2},{"$f":"H40","v":1.4999999999999999E-2},{"$f":"I40","v":0.08},{"$f":"J40","v":0.04},null,null,null,null,"  Boise",{"$f":"P40","v":2.4},{"$f":"Q40","v":2.4},{"$f":"R40","v":2.2999999999999998},{"$f":"S40","v":8.6999999999999993},{"$f":"T40","v":6.4},{"$f":"Q13/3.413","v":0.70319367125695875},{"$f":"S13/3.413","v":2.5490770583064752},1.8751831233518901,{"$f":"U13/2.1","v":0.33485412916998036},1.2138462182411787,0.89294434445328097]
[null,null,0.24,"  Portland",{"$f":"E13","v":0.21666666666666667},{"$f":"F55","v":5.0000000000000001E-3},{"$f":"G55","v":5.0000000000000001E-3},{"$f":"H55","v":6.0000000000000001E-3},{"$f":"I55","v":3.7999999999999999E-2},{"$f":"J55","v":1.0999999999999999E-2},null,null,null,null,"  Portland",{"$f":"P55","v":1.9},{"$f":"Q55","v":1.9},{"$f":"R55","v":1.8},{"$f":"S55","v":7.8},{"$f":"T55","v":3.6},{"$f":"Q14/3.413","v":0.55669498974509235},2.2853794315851159,1.0547905068854382,0.2650928522595678,1.0882759198024361,0.50228119375497049]
[null,null,0.47,"  Seattle",{"$f":"E14","v":0.21666666666666667},{"$f":"F70","v":1E-3},{"$f":"G70","v":1E-3},{"$f":"H70","v":1E-3},{"$f":"I70","v":1.0999999999999999E-2},{"$f":"J70","v":7.0000000000000001E-3},null,null,null,null,"  Seattle",{"$f":"P70","v":2.1},{"$f":"Q70","v":2},{"$f":"R70","v":2},{"$f":"S70","v":8.5},{"$f":"T70","v":4.9000000000000004},{"$f":"Q15/3.413","v":0.58599472604746561},2.4904775857017287,1.4356870788162908,0.2790451076416503,1.1859417074770136,0.68366051372204317]
[null,null,0.08,"  Spokane",{"$f":"E15","v":0.21666666666666667},{"$f":"F85","v":0.01},{"$f":"G85","v":0.01},{"$f":"H85","v":0.01},{"$f":"I85","v":5.0999999999999997E-2},{"$f":"J85","v":2.7E-2},null,null,null,null,"  Spokane",{"$f":"P85","v":2.9},{"$f":"Q85","v":2.9},{"$f":"R85","v":2.9},{"$f":"S85","v":11.2},{"$f":"T85","v":9.4},{"$f":"Q16/3.413","v":0.84969235276882515},3.2815704658658071,2.7541752124230885,0.40461540608039293,1.5626526027932415,1.3115120059157563]
[]
[null,null,"DCV Electric Savings (kWh/sf) DCV with HR- Code Ventilation - Retrofit",null,null,null,null,null,null,null,null,null,null,"DCV Gas Savings (kBtu/sf) DCV with HR - Code Ventilation - Retrofit"]
[null,null,{"$f":"SUM(C21:C24)","v":0.99999999999999989},"Region",{"$f":"E11","v":0.21666666666666667},{"$f":"SUMPRODUCT($C$13:$C$16,F21:F24)","v":1.5809999999999998E-2},{"$f":"SUMPRODUCT($C$13:$C$16,G21:G24)","v":1.6329999999999997E-2},{"$f":"SUMPRODUCT($C$13:$C$16,H21:H24)","v":1.6959999999999999E-2},{"$f":"SUMPRODUCT($C$13:$C$16,I21:I24)","v":7.009E-2},{"$f":"SUMPRODUCT($C$13:$C$16,J21:J24)","v":3.9729999999999994E-2},null,null,null,null,"Region",{"$f":"SUMPRODUCT($C$13:$C$16,P21:P24)","v":6.19},{"$f":"SUMPRODUCT($C$13:$C$16,Q21:Q24)","v":6.069},{"$f":"SUMPRODUCT($C$13:$C$16,R21:R24)","v":5.9689999999999994},{"$f":"SUMPRODUCT($C$13:$C$16,S21:S24)","v":13.913},{"$f":"SUMPRODUCT($C$13:$C$16,T21:T24)","v":6.7919999999999998},{"$f":"Q19/3.413","v":1.7782009961910343},{"$f":"S19/3.413","v":4.0764723117491943},{"$f":"T19/3.413","v":1.9900380896571932},{"$f":"U19/2.1","v":0.84676237913858776},{"$f":"V19/2.1","v":1.9411772913091401},{"$f":"W19/2.1","v":0.94763718555104437}]
[null,null,"City Multipliers"]
[null,null,{"$f":"C13","v":0.21},"  Boise",{"$f":"E19","v":0.21666666666666667},{"$f":"F41","v":0.04},{"$f":"G41","v":4.1000000000000002E-2},{"$f":"H41","v":4.1000000000000002E-2},{"$f":"I41","v":0.14499999999999999},{"$f":"J41","v":8.6999999999999994E-2},null,null,null,null,"  Boise",{"$f":"P41","v":6.9},{"$f":"Q41","v":6.7},{"$f":"R41","v":6.6},{"$f":"S41","v":14},{"$f":"T41","v":9},{"$f":"Q21/3.413","v":1.9630823322590099},{"$f":"S21/3.413","v":4.1019630823322588},2.636976267213595,{"$f":"U21/2.1","v":0.93480111059952842},1.9533157534915517,1.2557029843874261]
[null,null,{"$f":"C14","v":0.24},"  Portland",{"$f":"E21","v":0.21666666666666667},{"$f":"F56","v":1.6E-2},{"$f":"G56","v":1.4999999999999999E-2},{"$f":"H56","v":1.6E-2},{"$f":"I56","v":6.5000000000000002E-2},{"$f":"J56","v":2.7E-2},null,null,null,null,"  Portland",{"$f":"P56","v":5.4},{"$f":"Q56","v":5.3},{"$f":"R56","v":5.2},{"$f":"S56","v":12.4},{"$f":"T56","v":4.5},{"$f":"Q22/3.413","v":1.5528860240257838},3.6331673014942867,1.3184881336067975,0.73946953525037318,1.7300796673782317,0.62785149219371306]
[null,null,{"$f":"C15","v":0.47},"  Seattle",{"$f":"E22","v":0.21666666666666667},{"$f":"F71","v":3.0000000000000001E-3},{"$f":"G71","v":4.0000000000000001E-3},{"$f":"H71","v":5.0000000000000001E-3},{"$f":"I71","v":3.5999999999999997E-2},{"$f":"J71","v":2.1999999999999999E-2},null,null,null,null,"  Seattle",{"$f":"P71","v":5.9},{"$f":"Q71","v":5.8},{"$f":"R71","v":5.7},{"$f":"S71","v":13.9},{"$f":"T71","v":5.8},{"$f":"Q23/3.413","v":1.6993847055376503},4.072663346029886,1.6993847055376503,0.80923081216078585,1.9393634981094694,0.80923081216078585]
[null,null,{"$f":"C16","v":0.08},"  Spokane",{"$f":"E23","v":0.21666666666666667},{"$f":"F86","v":2.7E-2},{"$f":"G86","v":2.8000000000000001E-2},{"$f":"H86","v":2.7E-2},{"$f":"I86","v":8.8999999999999996E-2},{"$f":"J86","v":5.8000000000000003E-2},null,null,null,null,"  Spokane",{"$f":"P86","v":8.4},{"$f":"Q86","v":8.3000000000000007},{"$f":"R86","v":8.1999999999999993},{"$f":"S86","v":18.3},{"$f":"T86","v":13.7},{"$f":"Q24/3.413","v":2.4318781130969827},5.3618517433343102,4.0140638734251395,1.1580371967128489,2.5532627349211001,1.9114589873453045]
[]
[]
[]
[]
[null,null,"Raw Simulation Savings"]
[null,null,"Paste Elec==>"]
[null,null,null,"-> city = Boise",null,null,null,null,null,null,null,null,null,"-> city = Boise"]
[]
[null,null,null,"Mea","n","s of de2eu","i",null,null,null,null,null,null,"Mea","n","s of dg2eu","i"]
[]
[null,null,null,null,"|",null,null,"group",null,null,null,null,null,null,"|",null,null,"group"]
[null,null,null,"dcvcasenppc","|","soff1.20","soff1.35","soff1.50","sret1.34","sret3.04","|","Total",null,"dcvcasenppc","|","soff1.20","soff1.35","soff1.50","sret1.34","sret3.04","|","Total"]
[null,null,null,"---------------------------------","+","----------","-----------","-----------","-----------","-----------","-+--","--------",null,"---------------------------------","+","----------","-----------","-----------","-----------","-----------","-+--","--------"]
[null,null,null,"base","|",0,0,0,0,0,"|",0,null,"base","|",0,0,0,0,0,"|",0]
[null,null,null,"v1 CodeBaseHR","|",3.5000000000000003E-2,3.5000000000000003E-2,3.5999999999999997E-2,0.109,0.06,"|",5.5E-2,null,"v1 CodeBaseHR","|",6,5.8,5.7,11.3,7.9,"|",7.3]
[null,null,null,"v2 DCV only","|",1.4E-2,1.4E-2,1.4999999999999999E-2,0.08,0.04,"|",3.3000000000000002E-2,null,"v2 DCV only","|",2.4,2.4,2.2999999999999998,8.6999999999999993,6.4,"|",4.4000000000000004]
[null,null,null,"v3 DCV with HR","|",0.04,4.1000000000000002E-2,4.1000000000000002E-2,0.14499999999999999,8.6999999999999994E-2,"|",7.0999999999999994E-2,null,"v3 DCV with HR","|",6.9,6.7,6.6,14,9,"|",8.6]
[null,null,null,"---------------------------------","+","----------","-----------","-----------","-----------","-----------","-+--","--------",null,"---------------------------------","+","----------","-----------","-----------","-----------","-----------","-+--","--------"]
[null,null,null,"Total","|",2.1999999999999999E-2,2.3E-2,2.3E-2,8.4000000000000005E-2,4.7E-2,"|",0.04,null,"Total","|",3.8,3.7,3.7,8.5,5.8,"|",5.0999999999999996]
[]
[null,null,null,"_________________________________","_","__________","___________","___________","___________","__",null,null,null,"_________________________________","_","__________","___________","___________","___________","__"]
[null,null,null,"-> city = Portland",null,null,null,null,null,null,null,null,null,"-> city = Portland"]
[]
[null,null,null,"Mea","n","s of de2eu","i",null,null,null,null,null,null,"Mea","n","s of dg2eu","i"]
[]
[null,null,null,null,"|",null,null,"group",null,null,null,null,null,null,"|",null,null,"group"]
[null,null,null,"dcvcasenppc","|","soff1.20","soff1.35","soff1.50","sret1.34","sret3.04","|","Total",null,"dcvcasenppc","|","soff1.20","soff1.35","soff1.50","sret1.34","sret3.04","|","Total"]
[null,null,null,"---------------------------------","+","----------","-----------","-----------","-----------","-----------","-+--","--------",null,"---------------------------------","+","----------","-----------","-----------","-----------","-----------","-+--","--------"]
[null,null,null,"base","|",0,0,0,0,0,"|",0,null,"base","|",0,0,0,0,0,"|",0]
[null,null,null,"v1 CodeBaseHR","|",1.4E-2,1.2999999999999999E-2,1.2999999999999999E-2,5.0999999999999997E-2,1.7999999999999999E-2,"|",2.1999999999999999E-2,null,"v1 CodeBaseHR","|",4.7,4.5999999999999996,4.5,10,4.0999999999999996,"|",5.6]
[null,null,null,"v2 DCV only","|",5.0000000000000001E-3,5.0000000000000001E-3,6.0000000000000001E-3,3.7999999999999999E-2,1.0999999999999999E-2,"|",1.2999999999999999E-2,null,"v2 DCV only","|",1.9,1.9,1.8,7.8,3.6,"|",3.4]
[null,null,null,"v3 DCV with HR","|",1.6E-2,1.4999999999999999E-2,1.6E-2,6.5000000000000002E-2,2.7E-2,"|",2.8000000000000001E-2,null,"v3 DCV with HR","|",5.4,5.3,5.2,12.4,4.5,"|",6.6]
[null,null,null,"---------------------------------","+","----------","-----------","-----------","-----------","-----------","-+--","--------",null,"---------------------------------","+","----------","-----------","-----------","-----------","-----------","-+--","--------"]
[null,null,null,"Total","|",8.9999999999999993E-3,8.0000000000000002E-3,8.9999999999999993E-3,3.9E-2,1.4E-2,"|",1.6E-2,null,"Total","|",3,3,2.9,7.6,3,"|",3.9]
[]
[null,null,null,"_________________________________","_","__________","___________","___________","___________","__",null,null,null,"_________________________________","_","__________","___________","___________","___________","__"]
[null,null,null,"-> city = Seattle",null,null,null,null,null,null,null,null,null,"-> city = Seattle"]
[]
[null,null,null,"Mea","n","s of de2eu","i",null,null,null,null,null,null,"Mea","n","s of dg2eu","i"]
[]
[null,null,null,null,"|",null,"gro","up","up",null,null,null,null,null,"|",null,"gro","up","up"]
[null,null,null,"dcvcasenppc","|","soff1.20","soff1.35","soff1.5","sret1.34","sret3.04","|     Tota",null,null,"dcvcasenppc","|","soff1.20","soff1.35","soff1.50","sret1.34","sret3.04","|     Tota"]
[null,null,null,"---------------------------------","+","----------","-----------","-----------","-----------","-----------","-+---------",null,null,"---------------------------------","+","----------","-----------","-----------","-----------","-----------","-+---------"]
[null,null,null,"base","|",0,0,0,0,0,"|     0.00",null,null,"base","|",0,0,0,0,0,"|       0."]
[null,null,null,"v1 CodeBaseHR","|",3.0000000000000001E-3,3.0000000000000001E-3,4.0000000000000001E-3,2.1999999999999999E-2,1.0999999999999999E-2,"|     0.01",null,null,"v1 CodeBaseHR","|",5.0999999999999996,5.0999999999999996,5,11.1,5.5,"|       6."]
[null,null,null,"v2 DCV only","|",1E-3,1E-3,1E-3,1.0999999999999999E-2,7.0000000000000001E-3,"|     0.00",null,null,"v2 DCV only","|",2.1,2,2,8.5,4.9000000000000004,"|       4."]
[null,null,null,"v3 DCV with HR","|",3.0000000000000001E-3,4.0000000000000001E-3,5.0000000000000001E-3,3.5999999999999997E-2,2.1999999999999999E-2,"|     0.01",null,null,"v3 DCV with HR","|",5.9,5.8,5.7,13.9,5.8,"|       7."]
[null,null,null,"---------------------------------","+","----------","-----------","-----------","-----------","-----------","-+---------",null,null,"---------------------------------","+","----------","-----------","-----------","-----------","-----------","-+---------"]
[null,null,null,"Total","|",2E-3,2E-3,2E-3,1.7000000000000001E-2,0.01,"|     0.00",null,null,"Total","|",3.3,3.2,3.2,8.4,4,"|       4."]
[]
[null,null,null,"_________________________________","_","__________","___________","___________","___________","__",null,null,null,"_________________________________","_","__________","___________","___________","___________","__"]
[null,null,null,"-> city = Spokane",null,null,null,null,null,null,null,null,null,"-> city = Spokane"]
[]
[null,null,null,"Mea","n","s of de2eu","i",null,null,null,null,null,null,"Mea","n","s of dg2eu","i"]
[]
[null,null,null,null,"|",null,null,"group",null,null,null,null,null,null,"|",null,null,"group"]
[null,null,null,"dcvcasenppc","|","soff1.20","soff1.35","soff1.50","sret1.34","sret3.04","|","Total",null,"dcvcasenppc","|","soff1.20","soff1.35","soff1.50","sret1.34","sret3.04","|","Total"]
[null,null,null,"---------------------------------","+","----------","-----------","-----------","-----------","-----------","-+--","--------",null,"---------------------------------","+","----------","-----------","-----------","-----------","-----------","-+--","--------"]
[null,null,null,"base","|",0,0,0,0,0,"|",0,null,"base","|",0,0,0,0,0,"|",0]
[null,null,null,"v1 CodeBaseHR","|",2.4E-2,2.4E-2,2.4E-2,6.9000000000000006E-2,0.04,"|",3.5999999999999997E-2,null,"v1 CodeBaseHR","|",7.3,7.2,7.1,14.5,11.6,"|",9.5]
[null,null,null,"v2 DCV only","|",0.01,0.01,0.01,5.0999999999999997E-2,2.7E-2,"|",2.1000000000000001E-2,null,"v2 DCV only","|",2.9,2.9,2.9,11.2,9.4,"|",5.8]
[null,null,null,"v3 DCV with HR","|",2.7E-2,2.8000000000000001E-2,2.7E-2,8.8999999999999996E-2,5.8000000000000003E-2,"|",4.5999999999999999E-2,null,"v3 DCV with HR","|",8.4,8.3000000000000007,8.1999999999999993,18.3,13.7,"|",11.4]
[null,null,null,"---------------------------------","+","----------","-----------","-----------","-----------","-----------","-+--","--------",null,"---------------------------------","+","----------","-----------","-----------","-----------","-----------","-+--","--------"]
[null,null,null,"Total","|",1.4999999999999999E-2,1.4999999999999999E-2,1.4999999999999999E-2,5.1999999999999998E-2,3.1E-2,"|",2.5999999999999999E-2,null,"Total","|",4.5999999999999996,4.5999999999999996,4.5,11,8.6999999999999993,"|",6.7]
[]
[]
[null,null,null,". by city:tab  dcvcasenppc group",null,",sum(dg2eu","i)  nof noo","b nost wrap"]
[]
[null,null,null,"_________________________________","_","__________","___________","___________","___________","__"]

{"sheet":"Savings New","index":12,"n_rows":102,"n_cols":26,"rows_kept":102,"cut":false,"hidden":false,"merged":[[8,5,8,7],[8,8,8,9],[8,15,8,17]]}
["Simulation Run Aggragation",null,"Simulation Results - Single zone roof top DCV and HR "]
[]
[]
[]
[null,null,"Regional Average Electric Savings (kWh/sf)",null,null,null,null,null,null,null,null,null,null,"Regional Average Gas Savings (kBtu/sf)"]
[]
[null,null,null,null,null,null,null,null,null,null,null,null,null,"Heat Savings"]
[null,null,"DCV Electric Savings (kWh/sf) DCV - Code Vent",null,null,null,null,null,null,null,null,null,null,"DCV Gas Savings (kBtu/sf) DCV - Code Vent",null,null,null,null,null,null,"Electric (kWh/sf)",null,null,"HP (kWh/sf)"]
[null,null,null,null,null,"Small Office",null,null,"Small Retail",null,null,null,null,null,null,"Small Office",null,null,"Small Retail",null,"Sm.Off","Sm. Ret.","Sm. Ret.","Sm.Off","Sm. Ret.","Sm. Ret."]
[null,null,null,null,null,"lpd - 0.85","lpd - 1.00","Not Done","lpd - 1.42","lpd - 3.04",null,null,null,null,null,"lpd - 0.85","lpd - 1.00","Not Done","lpd - 1.42","lpd - 3.04","lpd - 0.85","lpd - 1.42","lpd - 3.04","lpd - 0.85","lpd - 1.42","lpd - 3.04"]
[null,null,{"$f":"SUM(C13:C16)","v":0.99999999999999989},"Region",{"$f":"400/3000","v":0.13333333333333333},{"$f":"SUMPRODUCT($C$13:$C$16,F13:F16)","v":5.2499999999999995E-3},{"$f":"SUMPRODUCT($C$13:$C$16,G13:G16)","v":5.0399999999999993E-3},null,{"$f":"SUMPRODUCT($C$13:$C$16,I13:I16)","v":3.1119999999999995E-2},{"$f":"SUMPRODUCT($C$13:$C$16,J13:J16)","v":1.3599999999999999E-2},null,null,null,null,"Region",{"$f":"SUMPRODUCT($C$13:$C$16,P13:P16)","v":2.2110000000000003},{"$f":"SUMPRODUCT($C$13:$C$16,Q13:Q16)","v":2.1790000000000003},null,{"$f":"SUMPRODUCT($C$13:$C$16,S13:S16)","v":8.59},{"$f":"SUMPRODUCT($C$13:$C$16,T13:T16)","v":5.2629999999999999},{"$f":"P11*0.8/3.413","v":0.51825373571637867},{"$f":"S11*0.8/3.413","v":2.0134778786990917},{"$f":"T11*0.8/3.413","v":1.2336360972751246},{"$f":"U11/2.1","v":0.24678749319827556},{"$f":"V11/2.1","v":0.9587989898567103},{"$f":"W11/2.1","v":0.58744576060720211}]
[null,null,"City Multipliers"]
[null,null,{"$f":"'[6]RTU DCV Savings 2008 Retro'!C13","v":0.21},"  Boise",{"$f":"E11","v":0.13333333333333333},{"$f":"F49","v":1.4E-2},{"$f":"G49","v":1.2999999999999999E-2},null,{"$f":"H49","v":7.0999999999999994E-2},{"$f":"I49","v":3.5999999999999997E-2},null,null,null,null,"  Boise",{"$f":"O49","v":2.4},{"$f":"P49","v":2.4},null,{"$f":"Q49","v":8.6999999999999993},{"$f":"R49","v":6.4},{"$f":"P13*0.8/3.413","v":0.56255493700556691},{"$f":"S13*0.8/3.413","v":2.0392616466451803},1.5001464986815123,{"$f":"U13/2.1","v":0.26788330333598426},0.97107697459294295,0.71435547556262491]
[null,null,{"$f":"'[6]RTU DCV Savings 2008 Retro'!C14","v":0.24},"  Portland",{"$f":"E13","v":0.13333333333333333},{"$f":"F64","v":5.0000000000000001E-3},{"$f":"G64","v":5.0000000000000001E-3},null,{"$f":"H64","v":3.1E-2},{"$f":"I64","v":8.9999999999999993E-3},null,null,null,null,"  Portland",{"$f":"O64","v":2},{"$f":"P64","v":1.9},null,{"$f":"Q64","v":7.8},{"$f":"R64","v":3.6},{"$f":"P14*0.8/3.413","v":0.46879578083797252},1.8283035452680927,0.84383240550835059,0.22323608611332024,0.87062073584194888,0.40182495500397647]
[null,null,{"$f":"'[6]RTU DCV Savings 2008 Retro'!C15","v":0.47},"  Seattle",{"$f":"E14","v":0.13333333333333333},{"$f":"F79","v":1E-3},{"$f":"G79","v":1E-3},null,{"$f":"H79","v":1.0999999999999999E-2},{"$f":"I79","v":4.0000000000000001E-3},null,null,null,null,"  Seattle",{"$f":"O79","v":2.1},{"$f":"P79","v":2.1},null,{"$f":"Q79","v":8.5},{"$f":"R79","v":4.9000000000000004},{"$f":"P15*0.8/3.413","v":0.49223556987987116},1.9923820685613833,1.1485496630530327,0.23439789041898626,0.94875336598161109,0.54692841097763467]
[null,null,{"$f":"'[6]RTU DCV Savings 2008 Retro'!C16","v":0.08},"  Spokane",{"$f":"E15","v":0.13333333333333333},{"$f":"F94","v":8.0000000000000002E-3},{"$f":"G94","v":8.0000000000000002E-3},null,{"$f":"H94","v":4.4999999999999998E-2},{"$f":"I94","v":2.5000000000000001E-2},null,null,null,null,"  Spokane",{"$f":"O94","v":3},{"$f":"P94","v":2.9},null,{"$f":"Q94","v":11.2},{"$f":"R94","v":9.4},{"$f":"P16*0.8/3.413","v":0.70319367125695886},2.6252563726926454,2.2033401699384707,0.33485412916998042,1.2501220822345931,1.0492096047326052]
[]
[null,null,"DCV Electric Savings (kWh/sf) DCV with HR - Code Vent",null,null,null,null,null,null,null,null,null,null,"DCV Gas Savings (kBtu/sf) DCV with HR - Code Vent"]
[null,null,{"$f":"SUM(C21:C24)","v":0.99999999999999989},"Region",{"$f":"E11","v":0.13333333333333333},{"$f":"SUMPRODUCT($C$13:$C$16,F21:F24)","v":1.5119999999999998E-2},{"$f":"SUMPRODUCT($C$13:$C$16,G21:G24)","v":1.5169999999999998E-2},null,{"$f":"SUMPRODUCT($C$13:$C$16,I21:I24)","v":6.198E-2},{"$f":"SUMPRODUCT($C$13:$C$16,J21:J24)","v":3.5439999999999999E-2},null,null,null,null,"Region",{"$f":"SUMPRODUCT($C$13:$C$16,P21:P24)","v":6.4139999999999988},{"$f":"SUMPRODUCT($C$13:$C$16,Q21:Q24)","v":6.3140000000000001},null,{"$f":"SUMPRODUCT($C$13:$C$16,S21:S24)","v":13.913},{"$f":"SUMPRODUCT($C$13:$C$16,T21:T24)","v":6.7919999999999998},{"$f":"P19*0.8/3.413","v":1.5034280691473776},{"$f":"S19*0.8/3.413","v":3.2611778493993562},{"$f":"T19*0.8/3.413","v":1.5920304717257545},{"$f":"U19/2.1","v":0.71591812816541789},{"$f":"V19/2.1","v":1.5529418330473124},{"$f":"W19/2.1","v":0.75810974844083545}]
[null,null,"City Multipliers"]
[null,null,{"$f":"C13","v":0.21},"  Boise",{"$f":"E19","v":0.13333333333333333},{"$f":"F50","v":3.9E-2},{"$f":"G50","v":3.6999999999999998E-2},null,{"$f":"H50","v":0.129},{"$f":"I50","v":7.5999999999999998E-2},null,null,null,null,"  Boise",{"$f":"O50","v":7.1},{"$f":"P50","v":7},null,{"$f":"Q50","v":14},{"$f":"R50","v":9},{"$f":"P21*0.8/3.413","v":1.6642250219748023},{"$f":"S21*0.8/3.413","v":3.2815704658658076},2.1095810137708764,{"$f":"U21/2.1","v":0.79248810570228678},1.5626526027932417,1.004562387509941]
[null,null,{"$f":"C14","v":0.24},"  Portland",{"$f":"E21","v":0.13333333333333333},{"$f":"F65","v":1.4999999999999999E-2},{"$f":"G65","v":1.4999999999999999E-2},null,{"$f":"H65","v":5.8000000000000003E-2},{"$f":"I65","v":2.5000000000000001E-2},null,null,null,null,"  Portland",{"$f":"O65","v":5.7},{"$f":"P65","v":5.6},null,{"$f":"Q65","v":12.4},{"$f":"R65","v":4.5},{"$f":"P22*0.8/3.413","v":1.3360679753882216},2.9065338411954298,1.0547905068854382,0.6362228454229627,1.3840637339025856,0.50228119375497049]
[null,null,{"$f":"C15","v":0.47},"  Seattle",{"$f":"E22","v":0.13333333333333333},{"$f":"F80","v":3.0000000000000001E-3},{"$f":"G80","v":4.0000000000000001E-3},null,{"$f":"H80","v":3.1E-2},{"$f":"I80","v":0.02},null,null,null,null,"  Seattle",{"$f":"O80","v":6.1},{"$f":"P80","v":6},null,{"$f":"Q80","v":13.9},{"$f":"R80","v":5.8},{"$f":"P23*0.8/3.413","v":1.429827131555816},3.2581306768239089,1.3595077644301201,0.68087006264562666,1.5514907984875757,0.64738464972862864]
[null,null,{"$f":"C16","v":0.08},"  Spokane",{"$f":"E23","v":0.13333333333333333},{"$f":"F95","v":2.4E-2},{"$f":"G95","v":2.4E-2},null,{"$f":"H95","v":0.08},{"$f":"I95","v":5.0999999999999997E-2},null,null,null,null,"  Spokane",{"$f":"O95","v":8.6},{"$f":"P95","v":8.5},null,{"$f":"Q95","v":18.3},{"$f":"R95","v":13.7},{"$f":"P24*0.8/3.413","v":2.0158218576032816},4.2894813946674484,3.2112510987401119,0.95991517028727691,2.0426101879368801,1.5291671898762438]
[]
[]
[]
[]
[]
[]
[]
[]
[]
[]
[]
[]
[]
[null,null,"Raw Simulation Savings"]
[null,null,"Paste Elec==>"]
[null,null,null,"-> city = Boise",null,null,null,null,null,null,null,null,"-> city = Boise"]
[]
[null,null,null,"Mea","n","s of de2eu","i",null,null,null,null,null,"Mea","n","s of dg2eu","i"]
[]
[null,null,null,null,"|",null,"gro","up",null,null,null,null,null,"|",null,"gro","up"]
[null,null,null,"dcvcasenppc","|","soff1.05","soff1.20","sret1.34","sret3.04","|","Total",null,"dcvcasenppc","|","soff1.05","soff1.20","sret1.34","sret3.04","|","Total"]
[null,null,null,"---------------------------------","+","----------","-----------","------------","----------","-+-","---------",null,"---------------------------------","+","----------","-----------","------------","----------","-+-","---------"]
[null,null,null,"base","|",0,0,0,0,"|",0,null,"base","|",0,0,0,0,"|",0]
[null,null,null,"v1 CodeBaseHR","|",3.4000000000000002E-2,3.2000000000000001E-2,9.8000000000000004E-2,5.3999999999999999E-2,"|",5.3999999999999999E-2,null,"v1 CodeBaseHR","|",6.1,6.1,11.3,7.9,"|",7.8]
[null,null,null,"v2 DCV only","|",1.4E-2,1.2999999999999999E-2,7.0999999999999994E-2,3.5999999999999997E-2,"|",3.4000000000000002E-2,null,"v2 DCV only","|",2.4,2.4,8.6999999999999993,6.4,"|",5]
[null,null,null,"v3 DCV with HR","|",3.9E-2,3.6999999999999998E-2,0.129,7.5999999999999998E-2,"|",7.0000000000000007E-2,null,"v3 DCV with HR","|",7.1,7,14,9,"|",9.3000000000000007]
[null,null,null,"---------------------------------","+","----------","-----------","------------","----------","-+-","---------",null,"---------------------------------","+","----------","-----------","------------","----------","-+-","---------"]
[null,null,null,"Total","|",2.1999999999999999E-2,2.1000000000000001E-2,7.4999999999999997E-2,4.1000000000000002E-2,"|",0.04,null,"Total","|",3.9,3.9,8.5,5.8,"|",5.5]
[]
[null,null,null,"_________________________________","_","__________","___________","____________","__________","__",null,null,"_________________________________","_","__________","___________","____________","__________","__"]
[null,null,null,"-> city = Portland",null,null,null,null,null,null,null,null,"-> city = Portland"]
[]
[null,null,null,"Mea","n","s of de2eu","i",null,null,null,null,null,"Mea","n","s of dg2eu","i"]
[]
[null,null,null,null,"|",null,"gro","up",null,null,null,null,null,"|",null,"gro","up"]
[null,null,null,"dcvcasenppc","|","soff1.05","soff1.20","sret1.34","sret3.04","|","Total",null,"dcvcasenppc","|","soff1.05","soff1.20","sret1.34","sret3.04","|","Total"]
[null,null,null,"---------------------------------","+","----------","-----------","------------","----------","-+-","---------",null,"---------------------------------","+","----------","-----------","------------","----------","-+-","---------"]
[null,null,null,"base","|",0,0,0,0,"|",0,null,"base","|",0,0,0,0,"|",0]
[null,null,null,"v1 CodeBaseHR","|",1.2999999999999999E-2,1.2999999999999999E-2,4.4999999999999998E-2,1.6E-2,"|",2.1000000000000001E-2,null,"v1 CodeBaseHR","|",4.9000000000000004,4.8,10,4.0999999999999996,"|",6]
[null,null,null,"v2 DCV only","|",5.0000000000000001E-3,5.0000000000000001E-3,3.1E-2,8.9999999999999993E-3,"|",1.2999999999999999E-2,null,"v2 DCV only","|",2,1.9,7.8,3.6,"|",3.8]
[null,null,null,"v3 DCV with HR","|",1.4999999999999999E-2,1.4999999999999999E-2,5.8000000000000003E-2,2.5000000000000001E-2,"|",2.8000000000000001E-2,null,"v3 DCV with HR","|",5.7,5.6,12.4,4.5,"|",7]
[null,null,null,"---------------------------------","+","----------","-----------","------------","----------","-+-","---------",null,"---------------------------------","+","----------","-----------","------------","----------","-+-","---------"]
[null,null,null,"Total","|",8.0000000000000002E-3,8.0000000000000002E-3,3.3000000000000002E-2,1.2E-2,"|",1.6E-2,null,"Total","|",3.1,3.1,7.6,3,"|",4.2]
[]
[null,null,null,"_________________________________","_","__________","___________","____________","__________","__",null,null,"_________________________________","_","__________","___________","____________","__________","__"]
[null,null,null,"-> city = Seattle",null,null,null,null,null,null,null,null,"-> city = Seattle"]
[]
[null,null,null,"Mea","n","s of de2eu","i",null,null,null,null,null,"Mea","n","s of dg2eu","i"]
[]
[null,null,null,null,"|",null,"gro","up",null,null,null,null,null,"|",null,"gro","up"]
[null,null,null,"dcvcasenppc","|","soff1.05","soff1.20","sret1.34","sret3.04","|","Total",null,"dcvcasenppc","|","soff1.05","soff1.20","sret1.34","sret3.04","|","Total"]
[null,null,null,"---------------------------------","+","----------","-----------","------------","----------","-+-","---------",null,"---------------------------------","+","----------","-----------","------------","----------","-+-","---------"]
[null,null,null,"base","|",0,0,0,0,"|",0,null,"base","|",0,0,0,0,"|",0]
[null,null,null,"v1 CodeBaseHR","|",3.0000000000000001E-3,3.0000000000000001E-3,0.02,1.0999999999999999E-2,"|",8.9999999999999993E-3,null,"v1 CodeBaseHR","|",5.3,5.2,11.1,5.5,"|",6.8]
[null,null,null,"v2 DCV only","|",1E-3,1E-3,1.0999999999999999E-2,4.0000000000000001E-3,"|",4.0000000000000001E-3,null,"v2 DCV only","|",2.1,2.1,8.5,4.9000000000000004,"|",4.4000000000000004]
[null,null,null,"v3 DCV with HR","|",3.0000000000000001E-3,4.0000000000000001E-3,3.1E-2,0.02,"|",1.4999999999999999E-2,null,"v3 DCV with HR","|",6.1,6,13.9,5.8,"|",8]
[null,null,null,"---------------------------------","+","----------","-----------","------------","----------","-+-","---------",null,"---------------------------------","+","----------","-----------","------------","----------","-+-","---------"]
[null,null,null,"Total","|",2E-3,2E-3,1.6E-2,8.9999999999999993E-3,"|",7.0000000000000001E-3,null,"Total","|",3.4,3.3,8.4,4,"|",4.8]
[]
[null,null,null,"_________________________________","_","__________","___________","____________","__________","__",null,null,"_________________________________","_","__________","___________","____________","__________","__"]
[null,null,null,"-> city = Spokane",null,null,null,null,null,null,null,null,"-> city = Spokane"]
[]
[null,null,null,"Mea","n","s of de2eu","i",null,null,null,null,null,"Mea","n","s of dg2eu","i"]
[]
[null,null,null,null,"|",null,"gro","up",null,null,null,null,null,"|",null,"gro","up"]
[null,null,null,"dcvcasenppc","|","soff1.05","soff1.20","sret1.34","sret3.04","|","Total",null,"dcvcasenppc","|","soff1.05","soff1.20","sret1.34","sret3.04","|","Total"]
[null,null,null,"---------------------------------","+","----------","-----------","------------","----------","-+-","---------",null,"---------------------------------","+","----------","-----------","------------","----------","-+-","---------"]
[null,null,null,"base","|",0,0,0,0,"|",0,null,"base","|",0,0,0,0,"|",0]
[null,null,null,"v1 CodeBaseHR","|",2.1000000000000001E-2,2.1000000000000001E-2,6.3E-2,3.5999999999999997E-2,"|",3.5000000000000003E-2,null,"v1 CodeBaseHR","|",7.4,7.4,14.5,11.6,"|",10.199999999999999]
[null,null,null,"v2 DCV only","|",8.0000000000000002E-3,8.0000000000000002E-3,4.4999999999999998E-2,2.5000000000000001E-2,"|",2.1000000000000001E-2,null,"v2 DCV only","|",3,2.9,11.2,9.4,"|",6.6]
[null,null,null,"v3 DCV with HR","|",2.4E-2,2.4E-2,0.08,5.0999999999999997E-2,"|",4.4999999999999998E-2,null,"v3 DCV with HR","|",8.6,8.5,18.3,13.7,"|",12.3]
[null,null,null,"---------------------------------","+","----------","-----------","------------","----------","-+-","---------",null,"---------------------------------","+","----------","-----------","------------","----------","-+-","---------"]
[null,null,null,"Total","|",1.2999999999999999E-2,1.2999999999999999E-2,4.7E-2,2.8000000000000001E-2,"|",2.5000000000000001E-2,null,"Total","|",4.7,4.7,11,8.6999999999999993,"|",7.3]
[]
[]
[null,null,null,". by city :tab  dcvcasenppc group",null,",sum(dg2e","ui)  nof no","ob nost wrap"]
[]
[null,null,null,"_________________________________","_","__________","___________","____________","__________","__"]

{"sheet":"Savings Fleet","index":13,"n_rows":34,"n_cols":13,"rows_kept":34,"cut":false,"hidden":false,"merged":[]}
["Fan Power Calculation - RTU Fleet Dedicated Outdoor Air Units"]
[]
[]
[null,null,"Supply Fan",null,null,null,null,null,"min","max","min","max"]
[null,null,"CFM/sf","cfm/hp","oversize factor","motor eff","W/cfm","W/sf","OA/cfm","OA/cfm","OA/sf","OA/sf"]
[null,null,1,1800,1.1499999999999999,0.85,{"$f":"(746/E6/F6)/D6","v":0.42398408638817853},{"$f":"G6/C6","v":0.42398408638817853},{"$f":"K6/C6","v":0.153},{"$f":"L6/C6","v":0.3},0.153,0.3]
[null,null,null,null,null,"HX adder",{"$f":"0.2*(746/F6)/D6","v":9.7516339869281043E-2}]
[]
["Ventilation Savings"]
[null,null,null,"Base kWh/sf",null,"CV/HR Strategy",null,null,"CV/DCV/HR Strategy",null,null,"CV/DCV-NO HR Strategy"]
[null,null,null,null,null,"cfm/sf","kWh/sf",null,"cfm/sf","kWh/sf",null,"cfm/sf","kWh/sf"]
["Hours"]
["full load heating hours",1600,null,{"$f":"B13*$H$6/1000","v":0.67837453822108573},null,{"$f":"$C$6","v":1},{"$f":"F13*$G$6/1000*$B13","v":0.67837453822108562},null,{"$f":"$C$6","v":1},{"$f":"I13*$G$6/1000*$B13","v":0.67837453822108562},null,1,{"$f":"L13*$G$6/1000*$B13","v":0.67837453822108562}]
["full load cooling hours",1600,null,{"$f":"B14*$H$6/1000","v":0.67837453822108573},null,{"$f":"$C$6","v":1},{"$f":"F14*$G$6/1000*$B14","v":0.67837453822108562},null,{"$f":"$C$6","v":1},{"$f":"I14*$G$6/1000*$B14","v":0.67837453822108562},null,{"$f":"$C$6","v":1},{"$f":"L14*$G$6/1000*$B14","v":0.67837453822108562}]
["fan only hours",{"$f":"B17-B13-B14","v":1800},null,{"$f":"B15*$H$6/1000","v":0.76317135549872139},null,{"$f":"$L$6","v":0.3},{"$f":"F15*$G$6/1000*$B15","v":0.22895140664961638},null,{"$f":"$L$6*0.2+$K$6*0.8","v":0.18240000000000001},{"$f":"I15*$G$6/1000*$B15","v":0.13920245524296679},null,0.5,{"$f":"L15*$G$6/1000*$B15","v":0.3815856777493607}]
["HX Adder",{"$f":"B17","v":5000},null,0,null,{"$f":"$L$6","v":0.3},{"$f":"F16*$G$7/1000*$B16","v":0.14627450980392157},null,{"$f":"I15","v":0.18240000000000001},{"$f":"I16*$G$7/1000*$B16","v":8.8934901960784324E-2},null,0,{"$f":"L16*$G$7/1000*$B16","v":0}]
["Total",5000,null,{"$f":"B17*$H$6/1000","v":2.1199204319408929},null,null,{"$f":"SUM(G13:G16)","v":1.7319749928957091},null,null,{"$f":"SUM(J13:J16)","v":1.5848864336459223},null,null,{"$f":"SUM(M13:M16)","v":1.7383347541915319}]
[]
["Savings (kWh/sf)",null,null,null,null,null,{"$f":"D17-G17","v":0.38794543904518375},null,null,{"$f":"D17-J17","v":0.53503399829497056},null,null,{"$f":"D17-M17","v":0.38158567774936092}]
["Cost - New  ($/sf)",null,null,null,null,null,{"$f":"$F$29/$F$28*F16","v":0.89999999999999991},null,null,{"$f":"$F$29/$F$28*I16+F30","v":0.59720000000000006},null,null,{"$f":"F30","v":0.05}]
["Cost - Retro  ($/sf)",null,null,null,null,null,{"$f":"$G$29/$G$28*F16","v":0.89999999999999991},null,null,{"$f":"$G$29/$G$28*I16+G30","v":0.6472},null,null,{"$f":"G30","v":0.1}]
[]
[]
[]
[]
["Costs"]
["Fleet Situation",null,null,null,"items","new","retro"]
[null,null,null,null,"HR CFM",4000,4000]
[null,null,null,null,"HR Cost",12000,12000]
[null,null,null,null,"DCV Cost/SF",0.05,0.1]
[]
["Separate ERV system"]
[null,null,null,null,"HR CFM",4000]
[null,null,null,null,"HR Cost",12000]

{"sheet":"Notes and Sources 2008","index":14,"n_rows":20,"n_cols":13,"rows_kept":20,"cut":false,"hidden":false,"merged":[[15,0,15,3],[15,4,15,6],[15,7,15,9],[15,11,15,12],[6,1,6,4],[6,5,6,6],[6,7,6,8],[7,1,7,4],[7,5,7,6],[7,7,7,8],[5,1,5,4],[5,5,5,6],[5,7,5,8],[3,5,3,6],[3,7,3,8],[4,1,4,4],[4,5,4,6],[4,7,4,8]]}
[]
["PSE program finds ~25% of units have problems that required new sensors, controllers, or damper repairs.  It is not clear that these are all broken units but this number does set a bounds for broken electronics.  "]
[]
["DCV Code Requirements"]
[null,"Requirement",null,null,null,"Typical Space Types",null,"Next Step"]
["ID/MT","no requirement"]
["OR","50 people per 1000sf where outside air is >1500cfm.   Multiple systems serving single rooms need to be added together for this threshold.  Occupant load must be taken from table in code.",null,null,null,"Assembly of all kinds, dining.  Classrooms but typically the flow limit excludes them.",null,"next tier is 34 people per 1000sf  which would extend requirement to all first floor retail.",null,null,null,"DCV Required in new construction"]
["WA","40 people per 1000sf where spaces are larger than 500sf, with design outdoor air>1200cfm.  Occupant load maybe able to be designer calculation.",null,null,null,"If using code default occupance densities the following spaces would be required to have DCV:Eating, conference rooms, assembly, ballrooms, game rooms, theater, auditoriums.   Class room would with def table but not designer calc and typically would have ",null,"Based upon the Washington code table dropping the threshold to 30 people per 1000 would extend the requirement to retail."]
[]
[]
[]
[]
[]
[]
[]
["ASHRAE 62 Ventilation Calculations",null,null,null,"Base Ventilation Rate",null,null,"Demand Control",null,null,null,"Effective rate With 60% HR"]
["space","Area Vent Rate","per person rate","Vent System Eff","typical minimum occupancy rate (occ/1000 sf)","Ideal Net Minimum Ventilation Rate","Ideal Actual Minimum","typical minimum occupancy rate (occ/1000 sf)","Ideal Net Minimum Ventilation Rate","Ideal Actual Minimum",null,"Base","DCV"]
["retail",0.12,7.5,0.8,15,{"$f":"B18+C18*E18/1000","v":0.23249999999999998},{"$f":"F18/D18","v":0.29062499999999997},1,{"$f":"B18+C18*H18/1000","v":0.1275},{"$f":"I18/D18","v":0.15937499999999999},null,{"$f":"G18*0.4","v":0.11624999999999999},{"$f":"J18*0.4","v":6.3750000000000001E-2}]
["grocery",0.06,7.5,0.8,8,{"$f":"B19+C19*E19/1000","v":0.12},{"$f":"F19/D19","v":0.15},1,{"$f":"B19+C19*H19/1000","v":6.7500000000000004E-2},{"$f":"I19/D19","v":8.4375000000000006E-2},null,{"$f":"G19*0.4","v":0.06},{"$f":"J19*0.4","v":3.3750000000000002E-2}]
["office",0.06,5,0.8,5,{"$f":"B20+C20*E20/1000","v":8.4999999999999992E-2},{"$f":"F20/D20","v":0.10624999999999998},1,{"$f":"B20+C20*H20/1000","v":6.5000000000000002E-2},{"$f":"I20/D20","v":8.1250000000000003E-2},null,{"$f":"G20*0.4","v":4.2499999999999996E-2},{"$f":"J20*0.4","v":3.2500000000000001E-2}]

{"sheet":"Applicability","index":15,"n_rows":76,"n_cols":18,"rows_kept":76,"cut":false,"hidden":false,"merged":[[55,6,55,9]]}
[]
[]
[null,null,"DCV Only"]
[null,null,null,"Everything but DOAS"]
[]
[null,null,"Fleet/DOAS"]
[null,null,null,"Retail 70% only"]
[null,null,null,"50/50 split between NR and Retrofit"]
[null,"Measure Density"]
[null,null,null,"DOAS","DCV Only",null,"Handled in Mmap"]
[]
[null,null,"Large Off",0,{"$f":"1-D12","v":1}]
[null,null,"Medium Off",0,{"$f":"1-D13","v":1}]
[null,null,"Small Off",0,1]
[null,null,"Xlarge Ret",0.7,0.30000000000000004]
[null,null,"Large Ret",0.6,0.4]
[null,null,"Medium Ret",0.3,0.7]
[null,null,"Small Ret",0.3,0.7]
[null,null,"School K-12",0,1]
[null,null,"University",0,1]
[null,null,"Warehouse",0,1]
[null,null,"Supermarket",0,1]
[null,null,"MiniMart",0,1]
[null,null,"Restaurant",0,1]
[null,null,"Lodging",0,1]
[null,null,"Hospital",0,1]
[null,null,"Residential Care",0,1]
[null,null,"Assembly",0,1]
[null,null,"Other",0,1]
[]
[null,"These values from CBSA - put into Com_Master_7P",null,null,null,null,null,null,null,"Share of SF applicable to DCV"]
[]
[null,"Heated Square Footage by System Type"]
[null,null,"None","EM","EM","EM","EM","EM","None","DCV","None","ARC","EM","None",null,"None Sum",null,"Share"]
[null,null,"Baseboard/Zonal w/ Minimal Fan","DOAS/ERV","MAU/Swamp","MZ Air/Dual Duct","MZ Air/Single Duct","MZ MZ Sys","Radiant","SZ Ducted - non-ARC","SZ Unducted w/Fan","SZ Ducted CS Fan, HP, Rtu","Unknown","VVT","Total Conditioned SF"]
[null,"Large Off",8288957.8763006879,280104.26630113326,183392.81147400377,21643220.531523947,121273620.74354924,0,419135.28569895,37212057.593511119,15374680.955148645,32791145.755631369,16868368.251754828,0,254334684.07089391,61294831.7106594,null,0.14631137601011796]
[null,"Medium Off",8973581.1894713566,3774530.5710799685,2532830.1517145322,0,14957070.13106432,0,2229342.1359656164,220724410.98195446,8278019.5521937376,27907240.335597206,6541209.864000963,0,295918234.91304213,240205353.85958517,null,0.74589661920231454]
[null,"Small Off",3975987.6052928539,0,0,0,2768901.55939293,0,1847806.51732307,70170503.433438674,4062104.2682277001,12633008.143219905,0,0,95458311.526895121,80056401.824282289,null,0.73509055744892704]
[null,"XLarge Ret",0,0,433145.38342606963,0,3427772.9848457826,0,2549383.3189727161,107950775.06676701,6918017.9992395435,6690470.0049057603,1197845.3648339554,0,129167410.12299083,117418176.38497928,null,0.83574312563810227]
[null,"Large Ret",0,0,0,0,0,6421010.8570707282,495463.79852358921,14567429.021787141,1323256.7134731037,6725288.9112130506,1605252.7142676821,0,31137702.016335294,16386149.533783834,null,0.46783892446991926]
[null,"Medium Ret",1400755.0439590563,0,1935913.9817126621,0,0,0,5611595.7706549615,164581668.03407669,61568996.875141352,62244511.951356843,6440837.5349897789,0,303784279.19189131,233163015.72383207,null,0.54177151125755074]
[null,"Small Ret",5926391.646184776,0,0,0,0,0,2281713.095075273,22756726.229168572,15976597.42624427,799371.779760245,5391022.1177908368,0,53131822.294223964,46941428.39667289,null,0.42830690246516329]
[null,"School K-12",18295150.397749342,12265167.875097359,636451.60125095316,0,21508206.107707322,17721004.344536625,1828679.2081592453,115488076.82750726,18327903.225072831,15727238.347715884,18916928.727118343,0,240714806.66191515,153939809.65848866,null,0.47977138768081973]
[null,"University",0,0,0,0,0,0,0,0,0,0,0,0,0,0,null,0.22243214407199474]
[null,"Warehouse",974433.4019859822,0,19638934.075334746,0,0,0,23392071.326201007,49559287.557934247,89419148.798726708,15555179.260936931,7289595.4780433467,0,205828649.89916298,163344941.08484793,null,0.240779345257396]
[null,"Supermarket",810727.29131027998,0,4082000.653044221,0,0,0,111367.50517278022,27062866.919116765,8427039.9907287024,20631006.927964151,307150.57181928755,0,61432159.859156191,36412001.706328526,null,0.44053256439563659]
[null,"MiniMart",0,0,0,0,0,0,0,6804377.0262322389,1060534.9146754674,2345350.9517080174,0,0,10210262.892615724,7864911.9409077065,null,0.66642525249308782]
[null,"Restaurant",86725.757295071729,0,1142611.3328329877,0,0,0,0,25339694.09366684,1617263.8577282184,20381924.712267552,0,0,48568219.753790669,27043683.708690129,null,0.5217340520637288]
[null,"Lodging",13879312.808266439,1839209.8812445491,2481450.962991273,0,4710251.9135832749,2579402.8017257601,2970958.6302826302,40361379.516701587,80248763.106937557,10183632.52339722,1114460.3856254756,0,160368822.53075576,137460414.06218821,null,0.25167846767074081]
[null,"Hospital",0,0,0,0,0,0,0,0,0,0,0,0,0,0,null,0.14660303209063197]
[null,"Residential Care",16644374.285509702,0,1326200.3739300761,0,3376953.3324114261,0,2310781.1781345834,42343854.23658672,34224603.09765403,14519533.052626371,4377423.024452202,0,119123722.58130512,95523612.797885031,null,0.35546114005701851]
[null,"Assembly",22971944.552047111,110296.32264139135,1609022.1431874938,0,46828389.095345192,1939668.3953124494,3353745.306331676,213302593.63564432,10647216.616551032,41850586.458099604,8729987.7034770604,8322.6732081259343,351351772.90184546,250283822.78378227,null,0.60709126888405673]
[null,"Other",9183281.1046316847,0,3462429.3937929114,0,42979952.565021843,4127993.2604893385,15402687.502107717,135458386.05014318,48877202.372227401,16379118.611928122,5936919.2702101506,0,281807970.13055235,208921557.02910998,null,0.4806762065224407]
[null,"Total",111411622.96000436,18269308.916364402,39464382.864691928,21643220.531523947,261831118.43292135,32789079.659134902,64804730.578603819,1293684086.2242367,406351349.7699703,307364607.72832823,84717001.0083839,8322.6732081259343,2642338831.3473721,1876260112.2060232,null,0.48959810561636635]
[null,null,null,null,null,null,null,null,null,null,null,null,null,null,2642338831.3473721,0.71007551716949457]
[null,"Sum of Heat_Frac_Sf_PNW_Heated",null,"Column Labels",null,null,"These buildings have some type of DCV System in Place"]
[null,"Row Labels","Size_Group","N","NA","Unk","Y-U","Y-Un","Y-Unk","Y-Z","Grand Total",null,"Yes","Satuation of DCV"]
[null,"Large Off",null,108452936.93960841,15709802.254864037,55352170.805737659,21076419.029840562,0,0,53743355.040843286,254334684.07089394,null,74819774.070683852,{"$f":"M58/K58","v":0.29417841433623887}]
[null,"Medium Off",null,174737932.70663446,72056306.139377952,0,24865896.621298037,17491268.902122792,0,6766830.5436088666,295918234.91304213,null,49123996.067029692,0.16600530238180544]
[null,"Small Off",null,85781364.371607244,7410989.8399098646,0,0,0,857910.16875714099,1408047.1466208801,95458311.526895136,null,2265957.315378021,2.3737663898859066E-2]
[null,"XLarge Ret",null,59824944.372962512,39894556.335030667,642653.20105124079,5540330.6669342434,1197845.3648339554,17732984.069804061,4334096.1123741409,129167410.1229908,null,28805256.213946402,0.22300715162221316]
[null,"Large Ret",null,11264755.470438892,5699542.4078585831,8026263.5713384105,6147140.5666994108,0,0,0,31137702.016335297,null,6147140.5666994108,0.19741792645695339]
[null,"Medium Ret",null,234750886.74484229,56049420.644135222,0,6964534.6567902341,0,2997088.1576044988,3022348.9885191452,303784279.19189137,null,12983971.802913878,4.2740762746028386E-2]
[null,"Small Ret",null,50299048.70560801,2110328.800213384,0,722444.78840256506,0,0,0,53131822.294223957,null,722444.78840256506,1.3597214573254024E-2]
[null,"School K-12",null,143303833.18562177,15357561.859076517,3436216.2423421061,31742005.439149089,5566145.3389023002,1104044.0909185254,40205000.50590498,240714806.66191527,null,78617195.37487489,0.3265989178858158]
[null,"University",null,0,0,0,0,0,0,0,0,null,0,0.13622896031789924,"Average (not in CBSA)"]
[null,"Warehouse",null,171917594.40509239,8838595.3373086099,0,5032762.7836869089,0,400763.29774030915,19638934.075334746,205828649.89916298,null,25072460.156761967,0.12181229468805803]
[null,"Supermarket",null,52789067.116800979,7718961.4224579241,0,257451.21420967823,0,0,666680.10568761022,61432159.859156191,null,924131.31989728846,1.5043119467328166E-2]
[null,"MiniMart",null,8426309.9927812442,383211.80959690956,0,823076.9746829723,0,0,577664.115554597,10210262.892615722,null,1400741.0902375693,0.13718952244125024]
[null,"Restaurant",null,33940968.727989845,7966550.4094146891,0,1892341.4594740123,0,1531513.6388115971,3236845.5181005206,48568219.753790662,null,6660700.6163861305,0.13714113159081304]
[null,"Lodging",null,129131512.41518702,15570948.188041229,9552242.4113604482,1926610.3259250978,0,384338.24318318651,3803170.9470588448,160368822.53075585,null,6114119.5161671285,3.8125362646436782E-2]
[null,"Hospital",null,0,0,0,0,0,0,0,0,null,0,0.13622896031789924,"Average (not in CBSA)"]
[null,"Residential Care",null,91037490.556105688,13504985.480100574,3576442.2973248689,4284849.7363507301,0,2871886.040552658,3848068.4708705256,119123722.58130504,null,11004804.247773914,9.2381299117502383E-2]
[null,"Assembly",null,208432474.86916485,45902170.20051185,18107493.766828433,13339510.264135638,5605346.6707476787,9400987.3964255191,50563789.734031513,351351772.90184551,null,78909634.065340355,0.22458868903269982]
[null,"Other",null,170501430.45607623,11423940.644268524,21345769.088872861,14351692.574412124,18520974.281361096,5702851.9475473948,39961311.138014048,281807970.13055229,null,78536829.941334665,0.27868917229328594]
[null,null,null,1734592551.0365219,325597871.77216655,120039251.38485602,138967067.1019913,48381580.557967827,42984367.051344886,231776142.44252369,2642338831.3473721,null,462109157.15382767,0.17488641186800052]