BEGIN:VCALENDAR
METHOD:PUBLISH
VERSION:2.0
PRODID:-//NW Council//Meetings//EN
BEGIN:VEVENT
SUMMARY:Demand Forecast Adv. Committee Webinar: Climate Change Discussion
DESCRIPTION: Within a week of the meeting, you should be able to view the agenda and how to participate. https://www.nwcouncil.org/meeting/demand-forecast-adv-committee-webinar-climate-change-discussion-may-16-2019
X-ALT-DESC: Within a week of the meeting, you should be able to view the agenda and how to participate. <a href="https://www.nwcouncil.org/meeting/demand-forecast-adv-committee-webinar-climate-change-discussion-may-16-2019">https://www.nwcouncil.org/meeting/demand-forecast-adv-committee-webinar-climate-change-discussion-may-16-2019</a>
DTSTART:20190516T163000Z
DTEND:20190516T183000Z
LOCATION:Webinar
ORGANIZER:NW Council
DTSTAMP:20260419T133317.478958Z
UID:meeting-629
STATUS:CONFIRMED
END:VEVENT
END:VCALENDAR